{"text_format":"1","workbook":"xlsx","n_sheets":10,"sheets":["Introduktion","Produkt og funktion","Materiale og produktion","Transport og emballage","Brug og vask","Efterliv","Resultat","Arketyper","Processer","Brugeraftaleindehaver"],"not_rendered":{"charts":4,"images":3,"macros":1,"external_links":1,"defined_names":137,"comments":0,"pivot_tables":0},"unopened":[],"bounds":{"document_bytes":16777216,"sheet_cells":100000,"rows_first":2000,"rows_last":500,"rows_between":2000,"halvings":0,"cell_chars":16384,"cell_head_chars":4096},"cells_cut":0,"cells_raw":0,"read":"whole","date_system":"1900"}

{"sheet":"Introduktion","index":0,"n_rows":5,"n_cols":3,"rows_kept":5,"cut":false,"hidden":false,"merged":[]}
[]
[null,"\n"]
[]
[]
[null,null,"LCA-udbudsværktøj for screening af tekstiler i sundhedssektoren "]

{"sheet":"Produkt og funktion","index":1,"n_rows":32,"n_cols":3,"rows_kept":32,"cut":false,"hidden":false,"merged":[[7,4,8,6]]}
[]
[]
[null,"LCA-udbudsværktøj for screening af tekstiler i sundhedssektoren "]
[]
[]
[null,null,"Oplysninger om produkt og funktion  "]
[null,null,"(felter med * skal udfyldes)"]
[null,null,"Funktion der skal opfyldes*"]
[null,null,"Kort beskrivelse af hvad udbuddet dækker (egen reference)"]
[]
[null,null,"Produktnavn*"]
[]
[null,null,"Produktbeskrivelse, egen reference"]
[]
[null,null,"Produktets type og antal*"]
[null,null,"Antal produkter til opfyldelse af funktion/behov for hele perioden*"]
[null,null,"Antal gennemsnitlige vaske over levetid*"]
[]
[null,null,"Investerings- og serviceomkostninger"]
[null,null,"Indkøbspris pr. produkt"]
[null,null,"Vaskepris pr. produkt"]
[]
[]
[]
[null,null,"Hurtigscreening"]
[]
[null,null,"Produktarketype"]
[]
[]
[]
[]
[null,null,"Resultater for hurtigscreening  "]

{"sheet":"Materiale og produktion","index":2,"n_rows":111,"n_cols":88,"rows_kept":111,"cut":false,"hidden":false,"merged":[[4,4,4,6],[4,8,4,10]]}
[null,null,null,null,null,null,null,null,null,null,null,null,null,null,null,null,null,null,null,null,null,null,null,null,null,null,null,"product1",null,"Samlet vægt",{"$f":"F7+SUM(G43:G52)","v":{"$error":"#N/A"}},null,null,null,null,null,null,null,null,null,null,null,null,null,null,null,null,null,null,null,null,null,null,null,null,null,null,null,null,null,null,"Samlet vægt",{"$f":"J7+SUM(K43:K52)","v":{"$error":"#N/A"}}]
[null,null,null,null,null,null,null,null,null,null,null,null,null,null,null,null,null,null,null,null,null,null,null,null,null,null,null,null,null,null,null,null,null,null,null,null,null,null,null,null,null,null,null,null,null,null,null,null,null,null,null,null,null,null,null,null,null,null,null,"product2"]
[null,null,null,null,null,null,null,null,null,null,null,null,null,null,null,null,null,null,null,null,null,null,null,null,null,null,null,{"$f":"Processer!G1","v":7},{"$f":"Processer!H1","v":8},{"$f":"Processer!I1","v":9},{"$f":"Processer!J1","v":10},{"$f":"Processer!K1","v":11},{"$f":"Processer!L1","v":12},{"$f":"Processer!M1","v":13},{"$f":"Processer!N1","v":14},{"$f":"Processer!O1","v":15},{"$f":"Processer!P1","v":16},{"$f":"Processer!Q1","v":17},{"$f":"Processer!R1","v":18},{"$f":"Processer!S1","v":19},{"$f":"Processer!T1","v":20},{"$f":"Processer!U1","v":21},{"$f":"Processer!V1","v":22},{"$f":"Processer!W1","v":23},{"$f":"Processer!X1","v":24},{"$f":"Processer!Y1","v":25},{"$f":"Processer!Z1","v":26},{"$f":"Processer!AA1","v":27},{"$f":"Processer!AB1","v":28},{"$f":"Processer!AC1","v":29},{"$f":"Processer!AD1","v":30},{"$f":"Processer!AE1","v":31},{"$f":"Processer!AF1","v":32},{"$f":"Processer!AG1","v":33},{"$f":"Processer!AH1","v":34},{"$f":"Processer!AI1","v":35},null,null,null,{"$f":"Processer!G1","v":7},{"$f":"Processer!H1","v":8},{"$f":"Processer!I1","v":9},{"$f":"Processer!J1","v":10},{"$f":"Processer!K1","v":11},{"$f":"Processer!L1","v":12},{"$f":"Processer!M1","v":13},{"$f":"Processer!N1","v":14},{"$f":"Processer!O1","v":15},{"$f":"Processer!P1","v":16},{"$f":"Processer!Q1","v":17},{"$f":"Processer!R1","v":18},{"$f":"Processer!S1","v":19},{"$f":"Processer!T1","v":20},{"$f":"Processer!U1","v":21},{"$f":"Processer!V1","v":22},{"$f":"Processer!W1","v":23},{"$f":"Processer!X1","v":24},{"$f":"Processer!Y1","v":25},{"$f":"Processer!Z1","v":26},{"$f":"Processer!AA1","v":27},{"$f":"Processer!AB1","v":28},{"$f":"Processer!AC1","v":29},{"$f":"Processer!AD1","v":30},{"$f":"Processer!AE1","v":31},{"$f":"Processer!AF1","v":32},{"$f":"Processer!AG1","v":33},{"$f":"Processer!AH1","v":34},{"$f":"Processer!AI1","v":35}]
[null,null,"Materiale og produktion",null,null,null,null,null,null,null,null,null,null,null,null,null,null,null,null,null,null,null,null,null,null,null,"økonomi/ produkt","miljøprofil ekskl energi",null,null,null,null,null,null,null,null,null,null,null,null,null,null,null,null,null,null,null,null,null,null,null,null,null,null,null,null,null,null,"økonomi/ produkt","miljøprofil ekskl energi"]
[null,null,"(felter med * skal udfyldes)",null,{"$f":"Name_product1","v":0},null,null,null,{"$f":"Name_product2","v":0}]
[null,null,"Produktinformation",null,null,null,{"$f":"SUM(G10:G19)","v":{"$error":"#N/A"}},null,null,null,{"$f":"SUM(K10:K19)","v":{"$error":"#N/A"}},null,null,null,null,null,null,null,null,null,null,null,null,null,null,null,"product1","Climate change","Ozone depletion","Ionising radiation","Photochemical ozone formation","Particulate matter","Human toxicity, non-cancer","Human toxicity, cancer","Acidification","Eutrophication, freshwater","Eutrophication, marine","Eutrophication, terrestrial","Ecotoxicity, freshwater","Land use","Water use","Resource use, fossils","Resource use, minerals and metals","Climate change - Fossil","Climate change - Biogenic","Climate change - Land use and LU change","Human toxicity, non-cancer - organics","Human toxicity, non-cancer - inorganics","Human toxicity, non-cancer - metals","Human toxicity, cancer - organics","Human toxicity, cancer - inorganics","Human toxicity, cancer - metals","Ecotoxicity, freshwater - organics","Ecotoxicity, freshwater - inorganics","Ecotoxicity, freshwater - metals","PFAS",null,null,"product2","Climate change","Ozone depletion","Ionising radiation","Photochemical ozone formation","Particulate matter","Human toxicity, non-cancer","Human toxicity, cancer","Acidification","Eutrophication, freshwater","Eutrophication, marine","Eutrophication, terrestrial","Ecotoxicity, freshwater","Land use","Water use","Resource use, fossils","Resource use, minerals and metals","Climate change - Fossil","Climate change - Biogenic","Climate change - Land use and LU change","Human toxicity, non-cancer - organics","Human toxicity, non-cancer - inorganics","Human toxicity, non-cancer - metals","Human toxicity, cancer - organics","Human toxicity, cancer - inorganics","Human toxicity, cancer - metals","Ecotoxicity, freshwater - organics","Ecotoxicity, freshwater - inorganics","Ecotoxicity, freshwater - metals","PFAS"]
[null,null,"Produktets vægt*",null,null,{"$error":"#N/A"},null,null,null,{"$error":"#N/A"},null,null,null,null,null,null,null,null,null,null,null,null,null,null,null,null,null,"kg CO2 eq","kg CFC11 eq","kBq U-235 eq","kg NMVOC eq","disease inc.","CTUh","CTUh","mol H+ eq","kg P eq","kg N eq","mol N eq","CTUe","Pt","m3 depriv.","MJ","kg Sb eq","kg CO2 eq","kg CO2 eq","kg CO2 eq","CTUh","CTUh","CTUh","CTUh","CTUh","CTUh","CTUe","CTUe","CTUe","kg",null,null,null,"kg CO2 eq","kg CFC11 eq","kBq U-235 eq","kg NMVOC eq","disease inc.","CTUh","CTUh","mol H+ eq","kg P eq","kg N eq","mol N eq","CTUe","Pt","m3 depriv.","MJ","kg Sb eq","kg CO2 eq","kg CO2 eq","kg CO2 eq","CTUh","CTUh","CTUh","CTUh","CTUh","CTUh","CTUe","CTUe","CTUe","kg"]
[]
[null,null,null,null,"Egen husketekst","Fibertype","%",null,"Egen husketekst","Fibertype","%"]
[null,null,"Materialesammensætning*",null,{"$error":"#N/A"},{"$error":"#N/A"},{"$error":"#N/A"},null,{"$error":"#N/A"},{"$error":"#N/A"},{"$error":"#N/A"},10,null,null,null,null,null,null,null,null,null,null,null,null,null,null,null,{"$f":"IF(OR($F10=\"\",ISBLANK($F10)),0,$F$7/1000*$G10*VLOOKUP($F10,EnvProfiler,AB$3,FALSE))","v":{"$error":"#N/A"}},{"$error":"#N/A"},{"$error":"#N/A"},{"$error":"#N/A"},{"$error":"#N/A"},{"$error":"#N/A"},{"$error":"#N/A"},{"$error":"#N/A"},{"$error":"#N/A"},{"$error":"#N/A"},{"$f":"IF(OR($F10=\"\",ISBLANK($F10)),0,$F$7/1000*$G10*VLOOKUP($F10,EnvProfiler,AL$3,FALSE))","v":{"$error":"#N/A"}},{"$error":"#N/A"},{"$error":"#N/A"},{"$error":"#N/A"},{"$error":"#N/A"},{"$error":"#N/A"},{"$error":"#N/A"},{"$error":"#N/A"},{"$error":"#N/A"},{"$error":"#N/A"},{"$f":"IF(OR($F10=\"\",ISBLANK($F10)),0,$F$7/1000*$G10*VLOOKUP($F10,EnvProfiler,AV$3,FALSE))","v":{"$error":"#N/A"}},{"$error":"#N/A"},{"$error":"#N/A"},{"$error":"#N/A"},{"$error":"#N/A"},{"$error":"#N/A"},{"$error":"#N/A"},{"$error":"#N/A"},{"$error":"#N/A"},null,null,null,{"$f":"IF(OR($J10=\"\",ISBLANK($J10)),0,$J$7/1000*$K10*VLOOKUP($J10,EnvProfiler,BH$3,FALSE))","v":{"$error":"#N/A"}},{"$error":"#N/A"},{"$error":"#N/A"},{"$error":"#N/A"},{"$error":"#N/A"},{"$error":"#N/A"},{"$error":"#N/A"},{"$error":"#N/A"},{"$error":"#N/A"},{"$error":"#N/A"},{"$f":"IF(OR($J10=\"\",ISBLANK($J10)),0,$J$7/1000*$K10*VLOOKUP($J10,EnvProfiler,BR$3,FALSE))","v":{"$error":"#N/A"}},{"$error":"#N/A"},{"$error":"#N/A"},{"$error":"#N/A"},{"$error":"#N/A"},{"$error":"#N/A"},{"$error":"#N/A"},{"$error":"#N/A"},{"$error":"#N/A"},{"$error":"#N/A"},{"$f":"IF(OR($J10=\"\",ISBLANK($J10)),0,$J$7/1000*$K10*VLOOKUP($J10,EnvProfiler,CB$3,FALSE))","v":{"$error":"#N/A"}},{"$error":"#N/A"},{"$error":"#N/A"},{"$error":"#N/A"},{"$error":"#N/A"},{"$error":"#N/A"},{"$error":"#N/A"},{"$error":"#N/A"},{"$error":"#N/A"}]
[null,null,null,null,{"$error":"#N/A"},{"$error":"#N/A"},{"$error":"#N/A"},null,{"$error":"#N/A"},{"$error":"#N/A"},{"$error":"#N/A"},null,null,null,null,null,null,null,null,null,null,null,null,null,null,null,null,{"$error":"#N/A"},{"$error":"#N/A"},{"$error":"#N/A"},{"$error":"#N/A"},{"$error":"#N/A"},{"$error":"#N/A"},{"$error":"#N/A"},{"$error":"#N/A"},{"$error":"#N/A"},{"$error":"#N/A"},{"$error":"#N/A"},{"$error":"#N/A"},{"$error":"#N/A"},{"$error":"#N/A"},{"$error":"#N/A"},{"$error":"#N/A"},{"$error":"#N/A"},{"$error":"#N/A"},{"$error":"#N/A"},{"$error":"#N/A"},{"$error":"#N/A"},{"$error":"#N/A"},{"$error":"#N/A"},{"$error":"#N/A"},{"$error":"#N/A"},{"$error":"#N/A"},{"$error":"#N/A"},{"$error":"#N/A"},{"$error":"#N/A"},null,null,null,{"$error":"#N/A"},{"$error":"#N/A"},{"$error":"#N/A"},{"$error":"#N/A"},{"$error":"#N/A"},{"$error":"#N/A"},{"$error":"#N/A"},{"$error":"#N/A"},{"$error":"#N/A"},{"$error":"#N/A"},{"$error":"#N/A"},{"$error":"#N/A"},{"$error":"#N/A"},{"$error":"#N/A"},{"$error":"#N/A"},{"$error":"#N/A"},{"$error":"#N/A"},{"$error":"#N/A"},{"$error":"#N/A"},{"$error":"#N/A"},{"$error":"#N/A"},{"$error":"#N/A"},{"$error":"#N/A"},{"$error":"#N/A"},{"$error":"#N/A"},{"$error":"#N/A"},{"$error":"#N/A"},{"$error":"#N/A"},{"$error":"#N/A"}]
[null,null,null,null,{"$error":"#N/A"},{"$error":"#N/A"},{"$error":"#N/A"},null,{"$error":"#N/A"},{"$error":"#N/A"},{"$error":"#N/A"},null,null,null,null,null,null,null,null,null,null,null,null,null,null,null,null,{"$error":"#N/A"},{"$error":"#N/A"},{"$error":"#N/A"},{"$error":"#N/A"},{"$error":"#N/A"},{"$error":"#N/A"},{"$error":"#N/A"},{"$error":"#N/A"},{"$error":"#N/A"},{"$error":"#N/A"},{"$error":"#N/A"},{"$error":"#N/A"},{"$error":"#N/A"},{"$error":"#N/A"},{"$error":"#N/A"},{"$error":"#N/A"},{"$error":"#N/A"},{"$error":"#N/A"},{"$error":"#N/A"},{"$error":"#N/A"},{"$error":"#N/A"},{"$error":"#N/A"},{"$error":"#N/A"},{"$error":"#N/A"},{"$error":"#N/A"},{"$error":"#N/A"},{"$error":"#N/A"},{"$error":"#N/A"},{"$error":"#N/A"},null,null,null,{"$error":"#N/A"},{"$error":"#N/A"},{"$error":"#N/A"},{"$error":"#N/A"},{"$error":"#N/A"},{"$error":"#N/A"},{"$error":"#N/A"},{"$error":"#N/A"},{"$error":"#N/A"},{"$error":"#N/A"},{"$error":"#N/A"},{"$error":"#N/A"},{"$error":"#N/A"},{"$error":"#N/A"},{"$error":"#N/A"},{"$error":"#N/A"},{"$error":"#N/A"},{"$error":"#N/A"},{"$error":"#N/A"},{"$error":"#N/A"},{"$error":"#N/A"},{"$error":"#N/A"},{"$error":"#N/A"},{"$error":"#N/A"},{"$error":"#N/A"},{"$error":"#N/A"},{"$error":"#N/A"},{"$error":"#N/A"},{"$error":"#N/A"}]
[null,null,null,null,{"$error":"#N/A"},{"$error":"#N/A"},{"$error":"#N/A"},null,{"$error":"#N/A"},{"$error":"#N/A"},{"$error":"#N/A"},null,null,null,null,null,null,null,null,null,null,null,null,null,null,null,null,{"$error":"#N/A"},{"$error":"#N/A"},{"$error":"#N/A"},{"$error":"#N/A"},{"$error":"#N/A"},{"$error":"#N/A"},{"$error":"#N/A"},{"$error":"#N/A"},{"$error":"#N/A"},{"$error":"#N/A"},{"$error":"#N/A"},{"$error":"#N/A"},{"$error":"#N/A"},{"$error":"#N/A"},{"$error":"#N/A"},{"$error":"#N/A"},{"$error":"#N/A"},{"$error":"#N/A"},{"$error":"#N/A"},{"$error":"#N/A"},{"$error":"#N/A"},{"$error":"#N/A"},{"$error":"#N/A"},{"$error":"#N/A"},{"$error":"#N/A"},{"$error":"#N/A"},{"$error":"#N/A"},{"$error":"#N/A"},{"$error":"#N/A"},null,null,null,{"$error":"#N/A"},{"$error":"#N/A"},{"$error":"#N/A"},{"$error":"#N/A"},{"$error":"#N/A"},{"$error":"#N/A"},{"$error":"#N/A"},{"$error":"#N/A"},{"$error":"#N/A"},{"$error":"#N/A"},{"$error":"#N/A"},{"$error":"#N/A"},{"$error":"#N/A"},{"$error":"#N/A"},{"$error":"#N/A"},{"$error":"#N/A"},{"$error":"#N/A"},{"$error":"#N/A"},{"$error":"#N/A"},{"$error":"#N/A"},{"$error":"#N/A"},{"$error":"#N/A"},{"$error":"#N/A"},{"$error":"#N/A"},{"$error":"#N/A"},{"$error":"#N/A"},{"$error":"#N/A"},{"$error":"#N/A"},{"$error":"#N/A"}]
[null,null,null,null,{"$error":"#N/A"},{"$error":"#N/A"},{"$error":"#N/A"},null,{"$error":"#N/A"},{"$error":"#N/A"},{"$error":"#N/A"},null,null,null,null,null,null,null,null,null,null,null,null,null,null,null,null,{"$error":"#N/A"},{"$error":"#N/A"},{"$error":"#N/A"},{"$error":"#N/A"},{"$error":"#N/A"},{"$error":"#N/A"},{"$error":"#N/A"},{"$error":"#N/A"},{"$error":"#N/A"},{"$error":"#N/A"},{"$error":"#N/A"},{"$error":"#N/A"},{"$error":"#N/A"},{"$error":"#N/A"},{"$error":"#N/A"},{"$error":"#N/A"},{"$error":"#N/A"},{"$error":"#N/A"},{"$error":"#N/A"},{"$error":"#N/A"},{"$error":"#N/A"},{"$error":"#N/A"},{"$error":"#N/A"},{"$error":"#N/A"},{"$error":"#N/A"},{"$error":"#N/A"},{"$error":"#N/A"},{"$error":"#N/A"},{"$error":"#N/A"},null,null,null,{"$error":"#N/A"},{"$error":"#N/A"},{"$error":"#N/A"},{"$error":"#N/A"},{"$error":"#N/A"},{"$error":"#N/A"},{"$error":"#N/A"},{"$error":"#N/A"},{"$error":"#N/A"},{"$error":"#N/A"},{"$error":"#N/A"},{"$error":"#N/A"},{"$error":"#N/A"},{"$error":"#N/A"},{"$error":"#N/A"},{"$error":"#N/A"},{"$error":"#N/A"},{"$error":"#N/A"},{"$error":"#N/A"},{"$error":"#N/A"},{"$error":"#N/A"},{"$error":"#N/A"},{"$error":"#N/A"},{"$error":"#N/A"},{"$error":"#N/A"},{"$error":"#N/A"},{"$error":"#N/A"},{"$error":"#N/A"},{"$error":"#N/A"}]
[null,null,null,null,{"$error":"#N/A"},{"$error":"#N/A"},{"$error":"#N/A"},null,{"$error":"#N/A"},{"$error":"#N/A"},{"$error":"#N/A"},null,null,null,null,null,null,null,null,null,null,null,null,null,null,null,null,{"$error":"#N/A"},{"$error":"#N/A"},{"$error":"#N/A"},{"$error":"#N/A"},{"$error":"#N/A"},{"$error":"#N/A"},{"$error":"#N/A"},{"$error":"#N/A"},{"$error":"#N/A"},{"$error":"#N/A"},{"$error":"#N/A"},{"$error":"#N/A"},{"$error":"#N/A"},{"$error":"#N/A"},{"$error":"#N/A"},{"$error":"#N/A"},{"$error":"#N/A"},{"$error":"#N/A"},{"$error":"#N/A"},{"$error":"#N/A"},{"$error":"#N/A"},{"$error":"#N/A"},{"$error":"#N/A"},{"$error":"#N/A"},{"$error":"#N/A"},{"$error":"#N/A"},{"$error":"#N/A"},{"$error":"#N/A"},{"$error":"#N/A"},null,null,null,{"$error":"#N/A"},{"$error":"#N/A"},{"$error":"#N/A"},{"$error":"#N/A"},{"$error":"#N/A"},{"$error":"#N/A"},{"$error":"#N/A"},{"$error":"#N/A"},{"$error":"#N/A"},{"$error":"#N/A"},{"$error":"#N/A"},{"$error":"#N/A"},{"$error":"#N/A"},{"$error":"#N/A"},{"$error":"#N/A"},{"$error":"#N/A"},{"$error":"#N/A"},{"$error":"#N/A"},{"$error":"#N/A"},{"$error":"#N/A"},{"$error":"#N/A"},{"$error":"#N/A"},{"$error":"#N/A"},{"$error":"#N/A"},{"$error":"#N/A"},{"$error":"#N/A"},{"$error":"#N/A"},{"$error":"#N/A"},{"$error":"#N/A"}]
[null,null,null,null,{"$error":"#N/A"},{"$error":"#N/A"},{"$error":"#N/A"},null,{"$error":"#N/A"},{"$error":"#N/A"},{"$error":"#N/A"},null,null,null,null,null,null,null,null,null,null,null,null,null,null,null,null,{"$error":"#N/A"},{"$error":"#N/A"},{"$error":"#N/A"},{"$error":"#N/A"},{"$error":"#N/A"},{"$error":"#N/A"},{"$error":"#N/A"},{"$error":"#N/A"},{"$error":"#N/A"},{"$error":"#N/A"},{"$error":"#N/A"},{"$error":"#N/A"},{"$error":"#N/A"},{"$error":"#N/A"},{"$error":"#N/A"},{"$error":"#N/A"},{"$error":"#N/A"},{"$error":"#N/A"},{"$error":"#N/A"},{"$error":"#N/A"},{"$error":"#N/A"},{"$error":"#N/A"},{"$error":"#N/A"},{"$error":"#N/A"},{"$error":"#N/A"},{"$error":"#N/A"},{"$error":"#N/A"},{"$error":"#N/A"},{"$error":"#N/A"},null,null,null,{"$error":"#N/A"},{"$error":"#N/A"},{"$error":"#N/A"},{"$error":"#N/A"},{"$error":"#N/A"},{"$error":"#N/A"},{"$error":"#N/A"},{"$error":"#N/A"},{"$error":"#N/A"},{"$error":"#N/A"},{"$error":"#N/A"},{"$error":"#N/A"},{"$error":"#N/A"},{"$error":"#N/A"},{"$error":"#N/A"},{"$error":"#N/A"},{"$error":"#N/A"},{"$error":"#N/A"},{"$error":"#N/A"},{"$error":"#N/A"},{"$error":"#N/A"},{"$error":"#N/A"},{"$error":"#N/A"},{"$error":"#N/A"},{"$error":"#N/A"},{"$error":"#N/A"},{"$error":"#N/A"},{"$error":"#N/A"},{"$error":"#N/A"}]
[null,null,null,null,{"$error":"#N/A"},{"$error":"#N/A"},{"$error":"#N/A"},null,{"$error":"#N/A"},{"$error":"#N/A"},{"$error":"#N/A"},null,null,null,null,null,null,null,null,null,null,null,null,null,null,null,null,{"$error":"#N/A"},{"$error":"#N/A"},{"$error":"#N/A"},{"$error":"#N/A"},{"$error":"#N/A"},{"$error":"#N/A"},{"$error":"#N/A"},{"$error":"#N/A"},{"$error":"#N/A"},{"$error":"#N/A"},{"$error":"#N/A"},{"$error":"#N/A"},{"$error":"#N/A"},{"$error":"#N/A"},{"$error":"#N/A"},{"$error":"#N/A"},{"$error":"#N/A"},{"$error":"#N/A"},{"$error":"#N/A"},{"$error":"#N/A"},{"$error":"#N/A"},{"$error":"#N/A"},{"$error":"#N/A"},{"$error":"#N/A"},{"$error":"#N/A"},{"$error":"#N/A"},{"$error":"#N/A"},{"$error":"#N/A"},{"$error":"#N/A"},null,null,null,{"$error":"#N/A"},{"$error":"#N/A"},{"$error":"#N/A"},{"$error":"#N/A"},{"$error":"#N/A"},{"$error":"#N/A"},{"$error":"#N/A"},{"$error":"#N/A"},{"$error":"#N/A"},{"$error":"#N/A"},{"$error":"#N/A"},{"$error":"#N/A"},{"$error":"#N/A"},{"$error":"#N/A"},{"$error":"#N/A"},{"$error":"#N/A"},{"$error":"#N/A"},{"$error":"#N/A"},{"$error":"#N/A"},{"$error":"#N/A"},{"$error":"#N/A"},{"$error":"#N/A"},{"$error":"#N/A"},{"$error":"#N/A"},{"$error":"#N/A"},{"$error":"#N/A"},{"$error":"#N/A"},{"$error":"#N/A"},{"$error":"#N/A"}]
[null,null,null,null,{"$error":"#N/A"},{"$error":"#N/A"},{"$error":"#N/A"},null,{"$error":"#N/A"},{"$error":"#N/A"},{"$error":"#N/A"},null,null,null,null,null,null,null,null,null,null,null,null,null,null,null,null,{"$error":"#N/A"},{"$error":"#N/A"},{"$error":"#N/A"},{"$error":"#N/A"},{"$error":"#N/A"},{"$error":"#N/A"},{"$error":"#N/A"},{"$error":"#N/A"},{"$error":"#N/A"},{"$error":"#N/A"},{"$error":"#N/A"},{"$error":"#N/A"},{"$error":"#N/A"},{"$error":"#N/A"},{"$error":"#N/A"},{"$error":"#N/A"},{"$error":"#N/A"},{"$error":"#N/A"},{"$error":"#N/A"},{"$error":"#N/A"},{"$error":"#N/A"},{"$error":"#N/A"},{"$error":"#N/A"},{"$error":"#N/A"},{"$error":"#N/A"},{"$error":"#N/A"},{"$error":"#N/A"},{"$error":"#N/A"},{"$error":"#N/A"},null,null,null,{"$error":"#N/A"},{"$error":"#N/A"},{"$error":"#N/A"},{"$error":"#N/A"},{"$error":"#N/A"},{"$error":"#N/A"},{"$error":"#N/A"},{"$error":"#N/A"},{"$error":"#N/A"},{"$error":"#N/A"},{"$error":"#N/A"},{"$error":"#N/A"},{"$error":"#N/A"},{"$error":"#N/A"},{"$error":"#N/A"},{"$error":"#N/A"},{"$error":"#N/A"},{"$error":"#N/A"},{"$error":"#N/A"},{"$error":"#N/A"},{"$error":"#N/A"},{"$error":"#N/A"},{"$error":"#N/A"},{"$error":"#N/A"},{"$error":"#N/A"},{"$error":"#N/A"},{"$error":"#N/A"},{"$error":"#N/A"},{"$error":"#N/A"}]
[null,null,null,null,{"$error":"#N/A"},{"$error":"#N/A"},{"$error":"#N/A"},null,{"$error":"#N/A"},{"$error":"#N/A"},{"$error":"#N/A"},null,null,null,null,null,null,null,null,null,null,null,null,null,null,null,null,{"$error":"#N/A"},{"$error":"#N/A"},{"$error":"#N/A"},{"$error":"#N/A"},{"$error":"#N/A"},{"$error":"#N/A"},{"$error":"#N/A"},{"$error":"#N/A"},{"$error":"#N/A"},{"$error":"#N/A"},{"$error":"#N/A"},{"$error":"#N/A"},{"$error":"#N/A"},{"$error":"#N/A"},{"$error":"#N/A"},{"$error":"#N/A"},{"$error":"#N/A"},{"$error":"#N/A"},{"$error":"#N/A"},{"$error":"#N/A"},{"$error":"#N/A"},{"$error":"#N/A"},{"$error":"#N/A"},{"$error":"#N/A"},{"$error":"#N/A"},{"$error":"#N/A"},{"$error":"#N/A"},{"$error":"#N/A"},{"$error":"#N/A"},null,null,null,{"$error":"#N/A"},{"$error":"#N/A"},{"$error":"#N/A"},{"$error":"#N/A"},{"$error":"#N/A"},{"$error":"#N/A"},{"$error":"#N/A"},{"$error":"#N/A"},{"$error":"#N/A"},{"$error":"#N/A"},{"$error":"#N/A"},{"$error":"#N/A"},{"$error":"#N/A"},{"$error":"#N/A"},{"$error":"#N/A"},{"$error":"#N/A"},{"$error":"#N/A"},{"$error":"#N/A"},{"$error":"#N/A"},{"$error":"#N/A"},{"$error":"#N/A"},{"$error":"#N/A"},{"$error":"#N/A"},{"$error":"#N/A"},{"$error":"#N/A"},{"$error":"#N/A"},{"$error":"#N/A"},{"$error":"#N/A"},{"$error":"#N/A"}]
[]
[null,null,"Produktionssted for metervare*",null,null,{"$error":"#N/A"},null,null,null,{"$error":"#N/A"},null,null,null,null,null,null,null,null,null,null,null,null,null,null,null,null,null,{"$f":"$F$7/1000*(\nIF(OR($F10=\"\",ISBLANK($F10)),0,$G$10*(VLOOKUP($F$10,EnvProfiler,2,FALSE)*VLOOKUP(\"El, \"&$F$21,EnvProfiler,AB$3,FALSE)+VLOOKUP($F$10,EnvProfiler,3,FALSE)*VLOOKUP(\"Varme, \"&$F$21,EnvProfiler,AB$3,FALSE)))\n+IF(OR($F11=\"\",ISBLANK($F11)),0,$G$11*(VLOOKUP($F$11,EnvProfiler,2,FALSE)*VLOOKUP(\"El, \"&$F$21,EnvProfiler,AB$3,FALSE)+VLOOKUP($F$11,EnvProfiler,3,FALSE)*VLOOKUP(\"Varme, \"&$F$21,EnvProfiler,AB$3,FALSE)))\n+IF(OR($F12=\"\",ISBLANK($F12)),0,$G$12*(VLOOKUP($F$12,EnvProfiler,2,FALSE)*VLOOKUP(\"El, \"&$F$21,EnvProfiler,AB$3,FALSE)+VLOOKUP($F$12,EnvProfiler,3,FALSE)*VLOOKUP(\"Varme, \"&$F$21,EnvProfiler,AB$3,FALSE)))\n+IF(OR($F13=\"\",ISBLANK($F13)),0,$G$13*(VLOOKUP($F$13,EnvProfiler,2,FALSE)*VLOOKUP(\"El, \"&$F$21,EnvProfiler,AB$3,FALSE)+VLOOKUP($F$13,EnvProfiler,3,FALSE)*VLOOKUP(\"Varme, \"&$F$21,EnvProfiler,AB$3,FALSE)))\n+IF(OR($F14=\"\",ISBLANK($F14)),0,$G$14*(VLOOKUP($F$14,EnvProfiler,2,FALSE)*VLOOKUP(\"El, \"&$F$21,EnvProfiler,AB$3,FALSE)+VLOOKUP($F$14,EnvProfiler,3,FALSE)*VLOOKUP(\"Varme, \"&$F$21,EnvProfiler,AB$3,FALSE)))\n+IF(OR($F15=\"\",ISBLANK($F15)),0,$G$15*(VLOOKUP($F$15,EnvProfiler,2,FALSE)*VLOOKUP(\"El, \"&$F$21,EnvProfiler,AB$3,FALSE)+VLOOKUP($F$15,EnvProfiler,3,FALSE)*VLOOKUP(\"Varme, \"&$F$21,EnvProfiler,AB$3,FALSE)))\n+IF(OR($F16=\"\",ISBLANK($F16)),0,$G$16*(VLOOKUP($F$16,EnvProfiler,2,FALSE)*VLOOKUP(\"El, \"&$F$21,EnvProfiler,AB$3,FALSE)+VLOOKUP($F$16,EnvProfiler,3,FALSE)*VLOOKUP(\"Varme, \"&$F$21,EnvProfiler,AB$3,FALSE)))\n+IF(OR($F17=\"\",ISBLANK($F17)),0,$G$17*(VLOOKUP($F$17,EnvProfiler,2,FALSE)*VLOOKUP(\"El, \"&$F$21,EnvProfiler,AB$3,FALSE)+VLOOKUP($F$17,EnvProfiler,3,FALSE)*VLOOKUP(\"Varme, \"&$F$21,EnvProfiler,AB$3,FALSE)))\n+IF(OR($F18=\"\",ISBLANK($F18)),0,$G$18*(VLOOKUP($F$18,EnvProfiler,2,FALSE)*VLOOKUP(\"El, \"&$F$21,EnvProfiler,AB$3,FALSE)+VLOOKUP($F$18,EnvProfiler,3,FALSE)*VLOOKUP(\"Varme, \"&$F$21,EnvProfiler,AB$3,FALSE)))\n+IF(OR($F19=\"\",ISBLANK($F19)),0,$G$19*(VLOOKUP($F$19,EnvProfiler,2,FALSE)*VLOOKUP(\"El, \"&$F$21,EnvProfiler,AB$3,FALSE)+VLOOKUP($F$19,EnvProfiler,3,FALSE)*VLOOKUP(\"Varme, \"&$F$21,EnvProfiler,AB$3,FALSE)))\n)","v":{"$error":"#N/A"}},{"$error":"#N/A"},{"$error":"#N/A"},{"$error":"#N/A"},{"$error":"#N/A"},{"$error":"#N/A"},{"$error":"#N/A"},{"$error":"#N/A"},{"$error":"#N/A"},{"$error":"#N/A"},{"$error":"#N/A"},{"$error":"#N/A"},{"$error":"#N/A"},{"$error":"#N/A"},{"$error":"#N/A"},{"$error":"#N/A"},{"$error":"#N/A"},{"$error":"#N/A"},{"$error":"#N/A"},{"$error":"#N/A"},{"$error":"#N/A"},{"$error":"#N/A"},{"$error":"#N/A"},{"$error":"#N/A"},{"$error":"#N/A"},{"$error":"#N/A"},{"$error":"#N/A"},{"$error":"#N/A"},{"$error":"#N/A"},null,null,null,{"$f":"$J$7/1000*(\nIF(OR($J10=\"\",ISBLANK($J10)),0,$K$10*(VLOOKUP($J$10,EnvProfiler,2,FALSE)*VLOOKUP(\"El, \"&$J$21,EnvProfiler,BH$3,FALSE)+VLOOKUP($J$10,EnvProfiler,3,FALSE)*VLOOKUP(\"Varme, \"&$J$21,EnvProfiler,BH$3,FALSE)))\n+IF(OR($J11=\"\",ISBLANK($J11)),0,$K$11*(VLOOKUP($J$11,EnvProfiler,2,FALSE)*VLOOKUP(\"El, \"&$J$21,EnvProfiler,BH$3,FALSE)+VLOOKUP($J$11,EnvProfiler,3,FALSE)*VLOOKUP(\"Varme, \"&$J$21,EnvProfiler,BH$3,FALSE)))\n+IF(OR($J12=\"\",ISBLANK($J12)),0,$K$12*(VLOOKUP($J$12,EnvProfiler,2,FALSE)*VLOOKUP(\"El, \"&$J$21,EnvProfiler,BH$3,FALSE)+VLOOKUP($J$12,EnvProfiler,3,FALSE)*VLOOKUP(\"Varme, \"&$J$21,EnvProfiler,BH$3,FALSE)))\n+IF(OR($J13=\"\",ISBLANK($J13)),0,$K$13*(VLOOKUP($J$13,EnvProfiler,2,FALSE)*VLOOKUP(\"El, \"&$J$21,EnvProfiler,BH$3,FALSE)+VLOOKUP($J$13,EnvProfiler,3,FALSE)*VLOOKUP(\"Varme, \"&$J$21,EnvProfiler,BH$3,FALSE)))\n+IF(OR($J14=\"\",ISBLANK($J14)),0,$K$14*(VLOOKUP($J$14,EnvProfiler,2,FALSE)*VLOOKUP(\"El, \"&$J$21,EnvProfiler,BH$3,FALSE)+VLOOKUP($J$14,EnvProfiler,3,FALSE)*VLOOKUP(\"Varme, \"&$J$21,EnvProfiler,BH$3,FALSE)))\n+IF(OR($J15=\"\",ISBLANK($J15)),0,$K$15*(VLOOKUP($J$15,EnvProfiler,2,FALSE)*VLOOKUP(\"El, \"&$J$21,EnvProfiler,BH$3,FALSE)+VLOOKUP($J$15,EnvProfiler,3,FALSE)*VLOOKUP(\"Varme, \"&$J$21,EnvProfiler,BH$3,FALSE)))\n+IF(OR($J16=\"\",ISBLANK($J16)),0,$K$16*(VLOOKUP($J$16,EnvProfiler,2,FALSE)*VLOOKUP(\"El, \"&$J$21,EnvProfiler,BH$3,FALSE)+VLOOKUP($J$16,EnvProfiler,3,FALSE)*VLOOKUP(\"Varme, \"&$J$21,EnvProfiler,BH$3,FALSE)))\n+IF(OR($J17=\"\",ISBLANK($J17)),0,$K$17*(VLOOKUP($J$17,EnvProfiler,2,FALSE)*VLOOKUP(\"El, \"&$J$21,EnvProfiler,BH$3,FALSE)+VLOOKUP($J$17,EnvProfiler,3,FALSE)*VLOOKUP(\"Varme, \"&$J$21,EnvProfiler,BH$3,FALSE)))\n+IF(OR($J18=\"\",ISBLANK($J18)),0,$K$18*(VLOOKUP($J$18,EnvProfiler,2,FALSE)*VLOOKUP(\"El, \"&$J$21,EnvProfiler,BH$3,FALSE)+VLOOKUP($J$18,EnvProfiler,3,FALSE)*VLOOKUP(\"Varme, \"&$J$21,EnvProfiler,BH$3,FALSE)))\n+IF(OR($J19=\"\",ISBLANK($J19)),0,$K$19*(VLOOKUP($J$19,EnvProfiler,2,FALSE)*VLOOKUP(\"El, \"&$J$21,EnvProfiler,BH$3,FALSE)+VLOOKUP($J$19,EnvProfiler,3,FALSE)*VLOOKUP(\"Varme, \"&$J$21,EnvProfiler,BH$3,FALSE)))\n)","v":{"$error":"#N/A"}},{"$error":"#N/A"},{"$error":"#N/A"},{"$error":"#N/A"},{"$error":"#N/A"},{"$error":"#N/A"},{"$error":"#N/A"},{"$error":"#N/A"},{"$error":"#N/A"},{"$error":"#N/A"},{"$error":"#N/A"},{"$error":"#N/A"},{"$error":"#N/A"},{"$error":"#N/A"},{"$error":"#N/A"},{"$error":"#N/A"},{"$error":"#N/A"},{"$error":"#N/A"},{"$error":"#N/A"},{"$error":"#N/A"},{"$error":"#N/A"},{"$error":"#N/A"},{"$error":"#N/A"},{"$error":"#N/A"},{"$error":"#N/A"},{"$error":"#N/A"},{"$error":"#N/A"},{"$error":"#N/A"},{"$error":"#N/A"}]
[]
[null,null,"Finishingprocesser"]
[null,null,null,null,"Egen husketekst","Finishingproces",null,null,"Egen husketekst","Finishingproces"]
[null,null,null,null,{"$error":"#N/A"},{"$error":"#N/A"},null,null,{"$error":"#N/A"},{"$error":"#N/A"},null,10,null,null,null,null,null,null,null,null,null,null,null,null,null,null,null,{"$f":"IF(OR($F25=\"\",ISBLANK($F25)),0,$F$7/1000*VLOOKUP($F25,EnvProfiler,AB$3,FALSE))","v":{"$error":"#N/A"}},{"$error":"#N/A"},{"$error":"#N/A"},{"$error":"#N/A"},{"$error":"#N/A"},{"$error":"#N/A"},{"$error":"#N/A"},{"$error":"#N/A"},{"$error":"#N/A"},{"$error":"#N/A"},{"$f":"IF(OR($F25=\"\",ISBLANK($F25)),0,$F$7/1000*VLOOKUP($F25,EnvProfiler,AL$3,FALSE))","v":{"$error":"#N/A"}},{"$error":"#N/A"},{"$error":"#N/A"},{"$error":"#N/A"},{"$error":"#N/A"},{"$error":"#N/A"},{"$error":"#N/A"},{"$error":"#N/A"},{"$error":"#N/A"},{"$error":"#N/A"},{"$f":"IF(OR($F25=\"\",ISBLANK($F25)),0,$F$7/1000*VLOOKUP($F25,EnvProfiler,AV$3,FALSE))","v":{"$error":"#N/A"}},{"$error":"#N/A"},{"$error":"#N/A"},{"$error":"#N/A"},{"$error":"#N/A"},{"$error":"#N/A"},{"$error":"#N/A"},{"$error":"#N/A"},{"$error":"#N/A"},null,null,null,{"$f":"IF(OR($J25=\"\",ISBLANK($J25)),0,$J$7/1000*VLOOKUP($J25,EnvProfiler,BH$3,FALSE))","v":{"$error":"#N/A"}},{"$error":"#N/A"},{"$error":"#N/A"},{"$error":"#N/A"},{"$error":"#N/A"},{"$error":"#N/A"},{"$error":"#N/A"},{"$error":"#N/A"},{"$error":"#N/A"},{"$error":"#N/A"},{"$f":"IF(OR($J25=\"\",ISBLANK($J25)),0,$J$7/1000*VLOOKUP($J25,EnvProfiler,BR$3,FALSE))","v":{"$error":"#N/A"}},{"$error":"#N/A"},{"$error":"#N/A"},{"$error":"#N/A"},{"$error":"#N/A"},{"$error":"#N/A"},{"$error":"#N/A"},{"$error":"#N/A"},{"$error":"#N/A"},{"$error":"#N/A"},{"$f":"IF(OR($J25=\"\",ISBLANK($J25)),0,$J$7/1000*VLOOKUP($J25,EnvProfiler,CB$3,FALSE))","v":{"$error":"#N/A"}},{"$error":"#N/A"},{"$error":"#N/A"},{"$error":"#N/A"},{"$error":"#N/A"},{"$error":"#N/A"},{"$error":"#N/A"},{"$error":"#N/A"},{"$error":"#N/A"}]
[null,null,null,null,{"$error":"#N/A"},{"$error":"#N/A"},null,null,{"$error":"#N/A"},{"$error":"#N/A"},null,null,null,null,null,null,null,null,null,null,null,null,null,null,null,null,null,{"$error":"#N/A"},{"$error":"#N/A"},{"$error":"#N/A"},{"$error":"#N/A"},{"$error":"#N/A"},{"$error":"#N/A"},{"$error":"#N/A"},{"$error":"#N/A"},{"$error":"#N/A"},{"$error":"#N/A"},{"$error":"#N/A"},{"$error":"#N/A"},{"$error":"#N/A"},{"$error":"#N/A"},{"$error":"#N/A"},{"$error":"#N/A"},{"$error":"#N/A"},{"$error":"#N/A"},{"$error":"#N/A"},{"$error":"#N/A"},{"$error":"#N/A"},{"$error":"#N/A"},{"$error":"#N/A"},{"$error":"#N/A"},{"$error":"#N/A"},{"$error":"#N/A"},{"$error":"#N/A"},{"$error":"#N/A"},{"$error":"#N/A"},null,null,null,{"$error":"#N/A"},{"$error":"#N/A"},{"$error":"#N/A"},{"$error":"#N/A"},{"$error":"#N/A"},{"$error":"#N/A"},{"$error":"#N/A"},{"$error":"#N/A"},{"$error":"#N/A"},{"$error":"#N/A"},{"$error":"#N/A"},{"$error":"#N/A"},{"$error":"#N/A"},{"$error":"#N/A"},{"$error":"#N/A"},{"$error":"#N/A"},{"$error":"#N/A"},{"$error":"#N/A"},{"$error":"#N/A"},{"$error":"#N/A"},{"$error":"#N/A"},{"$error":"#N/A"},{"$error":"#N/A"},{"$error":"#N/A"},{"$error":"#N/A"},{"$error":"#N/A"},{"$error":"#N/A"},{"$error":"#N/A"},{"$error":"#N/A"}]
[null,null,null,null,{"$error":"#N/A"},{"$error":"#N/A"},null,null,{"$error":"#N/A"},{"$error":"#N/A"},null,null,null,null,null,null,null,null,null,null,null,null,null,null,null,null,null,{"$error":"#N/A"},{"$error":"#N/A"},{"$error":"#N/A"},{"$error":"#N/A"},{"$error":"#N/A"},{"$error":"#N/A"},{"$error":"#N/A"},{"$error":"#N/A"},{"$error":"#N/A"},{"$error":"#N/A"},{"$error":"#N/A"},{"$error":"#N/A"},{"$error":"#N/A"},{"$error":"#N/A"},{"$error":"#N/A"},{"$error":"#N/A"},{"$error":"#N/A"},{"$error":"#N/A"},{"$error":"#N/A"},{"$error":"#N/A"},{"$error":"#N/A"},{"$error":"#N/A"},{"$error":"#N/A"},{"$error":"#N/A"},{"$error":"#N/A"},{"$error":"#N/A"},{"$error":"#N/A"},{"$error":"#N/A"},{"$error":"#N/A"},null,null,null,{"$error":"#N/A"},{"$error":"#N/A"},{"$error":"#N/A"},{"$error":"#N/A"},{"$error":"#N/A"},{"$error":"#N/A"},{"$error":"#N/A"},{"$error":"#N/A"},{"$error":"#N/A"},{"$error":"#N/A"},{"$error":"#N/A"},{"$error":"#N/A"},{"$error":"#N/A"},{"$error":"#N/A"},{"$error":"#N/A"},{"$error":"#N/A"},{"$error":"#N/A"},{"$error":"#N/A"},{"$error":"#N/A"},{"$error":"#N/A"},{"$error":"#N/A"},{"$error":"#N/A"},{"$error":"#N/A"},{"$error":"#N/A"},{"$error":"#N/A"},{"$error":"#N/A"},{"$error":"#N/A"},{"$error":"#N/A"},{"$error":"#N/A"}]
[null,null,null,null,{"$error":"#N/A"},{"$error":"#N/A"},null,null,{"$error":"#N/A"},{"$error":"#N/A"},null,null,null,null,null,null,null,null,null,null,null,null,null,null,null,null,null,{"$error":"#N/A"},{"$error":"#N/A"},{"$error":"#N/A"},{"$error":"#N/A"},{"$error":"#N/A"},{"$error":"#N/A"},{"$error":"#N/A"},{"$error":"#N/A"},{"$error":"#N/A"},{"$error":"#N/A"},{"$error":"#N/A"},{"$error":"#N/A"},{"$error":"#N/A"},{"$error":"#N/A"},{"$error":"#N/A"},{"$error":"#N/A"},{"$error":"#N/A"},{"$error":"#N/A"},{"$error":"#N/A"},{"$error":"#N/A"},{"$error":"#N/A"},{"$error":"#N/A"},{"$error":"#N/A"},{"$error":"#N/A"},{"$error":"#N/A"},{"$error":"#N/A"},{"$error":"#N/A"},{"$error":"#N/A"},{"$error":"#N/A"},null,null,null,{"$error":"#N/A"},{"$error":"#N/A"},{"$error":"#N/A"},{"$error":"#N/A"},{"$error":"#N/A"},{"$error":"#N/A"},{"$error":"#N/A"},{"$error":"#N/A"},{"$error":"#N/A"},{"$error":"#N/A"},{"$error":"#N/A"},{"$error":"#N/A"},{"$error":"#N/A"},{"$error":"#N/A"},{"$error":"#N/A"},{"$error":"#N/A"},{"$error":"#N/A"},{"$error":"#N/A"},{"$error":"#N/A"},{"$error":"#N/A"},{"$error":"#N/A"},{"$error":"#N/A"},{"$error":"#N/A"},{"$error":"#N/A"},{"$error":"#N/A"},{"$error":"#N/A"},{"$error":"#N/A"},{"$error":"#N/A"},{"$error":"#N/A"}]
[null,null,null,null,{"$error":"#N/A"},{"$error":"#N/A"},null,null,{"$error":"#N/A"},{"$error":"#N/A"},null,null,null,null,null,null,null,null,null,null,null,null,null,null,null,null,null,{"$error":"#N/A"},{"$error":"#N/A"},{"$error":"#N/A"},{"$error":"#N/A"},{"$error":"#N/A"},{"$error":"#N/A"},{"$error":"#N/A"},{"$error":"#N/A"},{"$error":"#N/A"},{"$error":"#N/A"},{"$error":"#N/A"},{"$error":"#N/A"},{"$error":"#N/A"},{"$error":"#N/A"},{"$error":"#N/A"},{"$error":"#N/A"},{"$error":"#N/A"},{"$error":"#N/A"},{"$error":"#N/A"},{"$error":"#N/A"},{"$error":"#N/A"},{"$error":"#N/A"},{"$error":"#N/A"},{"$error":"#N/A"},{"$error":"#N/A"},{"$error":"#N/A"},{"$error":"#N/A"},{"$error":"#N/A"},{"$error":"#N/A"},null,null,null,{"$error":"#N/A"},{"$error":"#N/A"},{"$error":"#N/A"},{"$error":"#N/A"},{"$error":"#N/A"},{"$error":"#N/A"},{"$error":"#N/A"},{"$error":"#N/A"},{"$error":"#N/A"},{"$error":"#N/A"},{"$error":"#N/A"},{"$error":"#N/A"},{"$error":"#N/A"},{"$error":"#N/A"},{"$error":"#N/A"},{"$error":"#N/A"},{"$error":"#N/A"},{"$error":"#N/A"},{"$error":"#N/A"},{"$error":"#N/A"},{"$error":"#N/A"},{"$error":"#N/A"},{"$error":"#N/A"},{"$error":"#N/A"},{"$error":"#N/A"},{"$error":"#N/A"},{"$error":"#N/A"},{"$error":"#N/A"},{"$error":"#N/A"}]
[null,null,null,null,{"$error":"#N/A"},{"$error":"#N/A"},null,null,{"$error":"#N/A"},{"$error":"#N/A"},null,null,null,null,null,null,null,null,null,null,null,null,null,null,null,null,null,{"$error":"#N/A"},{"$error":"#N/A"},{"$error":"#N/A"},{"$error":"#N/A"},{"$error":"#N/A"},{"$error":"#N/A"},{"$error":"#N/A"},{"$error":"#N/A"},{"$error":"#N/A"},{"$error":"#N/A"},{"$error":"#N/A"},{"$error":"#N/A"},{"$error":"#N/A"},{"$error":"#N/A"},{"$error":"#N/A"},{"$error":"#N/A"},{"$error":"#N/A"},{"$error":"#N/A"},{"$error":"#N/A"},{"$error":"#N/A"},{"$error":"#N/A"},{"$error":"#N/A"},{"$error":"#N/A"},{"$error":"#N/A"},{"$error":"#N/A"},{"$error":"#N/A"},{"$error":"#N/A"},{"$error":"#N/A"},{"$error":"#N/A"},null,null,null,{"$error":"#N/A"},{"$error":"#N/A"},{"$error":"#N/A"},{"$error":"#N/A"},{"$error":"#N/A"},{"$error":"#N/A"},{"$error":"#N/A"},{"$error":"#N/A"},{"$error":"#N/A"},{"$error":"#N/A"},{"$error":"#N/A"},{"$error":"#N/A"},{"$error":"#N/A"},{"$error":"#N/A"},{"$error":"#N/A"},{"$error":"#N/A"},{"$error":"#N/A"},{"$error":"#N/A"},{"$error":"#N/A"},{"$error":"#N/A"},{"$error":"#N/A"},{"$error":"#N/A"},{"$error":"#N/A"},{"$error":"#N/A"},{"$error":"#N/A"},{"$error":"#N/A"},{"$error":"#N/A"},{"$error":"#N/A"},{"$error":"#N/A"}]
[null,null,null,null,{"$error":"#N/A"},{"$error":"#N/A"},null,null,{"$error":"#N/A"},{"$error":"#N/A"},null,null,null,null,null,null,null,null,null,null,null,null,null,null,null,null,null,{"$error":"#N/A"},{"$error":"#N/A"},{"$error":"#N/A"},{"$error":"#N/A"},{"$error":"#N/A"},{"$error":"#N/A"},{"$error":"#N/A"},{"$error":"#N/A"},{"$error":"#N/A"},{"$error":"#N/A"},{"$error":"#N/A"},{"$error":"#N/A"},{"$error":"#N/A"},{"$error":"#N/A"},{"$error":"#N/A"},{"$error":"#N/A"},{"$error":"#N/A"},{"$error":"#N/A"},{"$error":"#N/A"},{"$error":"#N/A"},{"$error":"#N/A"},{"$error":"#N/A"},{"$error":"#N/A"},{"$error":"#N/A"},{"$error":"#N/A"},{"$error":"#N/A"},{"$error":"#N/A"},{"$error":"#N/A"},{"$error":"#N/A"},null,null,null,{"$error":"#N/A"},{"$error":"#N/A"},{"$error":"#N/A"},{"$error":"#N/A"},{"$error":"#N/A"},{"$error":"#N/A"},{"$error":"#N/A"},{"$error":"#N/A"},{"$error":"#N/A"},{"$error":"#N/A"},{"$error":"#N/A"},{"$error":"#N/A"},{"$error":"#N/A"},{"$error":"#N/A"},{"$error":"#N/A"},{"$error":"#N/A"},{"$error":"#N/A"},{"$error":"#N/A"},{"$error":"#N/A"},{"$error":"#N/A"},{"$error":"#N/A"},{"$error":"#N/A"},{"$error":"#N/A"},{"$error":"#N/A"},{"$error":"#N/A"},{"$error":"#N/A"},{"$error":"#N/A"},{"$error":"#N/A"},{"$error":"#N/A"}]
[null,null,null,null,{"$error":"#N/A"},{"$error":"#N/A"},null,null,{"$error":"#N/A"},{"$error":"#N/A"},null,null,null,null,null,null,null,null,null,null,null,null,null,null,null,null,null,{"$error":"#N/A"},{"$error":"#N/A"},{"$error":"#N/A"},{"$error":"#N/A"},{"$error":"#N/A"},{"$error":"#N/A"},{"$error":"#N/A"},{"$error":"#N/A"},{"$error":"#N/A"},{"$error":"#N/A"},{"$error":"#N/A"},{"$error":"#N/A"},{"$error":"#N/A"},{"$error":"#N/A"},{"$error":"#N/A"},{"$error":"#N/A"},{"$error":"#N/A"},{"$error":"#N/A"},{"$error":"#N/A"},{"$error":"#N/A"},{"$error":"#N/A"},{"$error":"#N/A"},{"$error":"#N/A"},{"$error":"#N/A"},{"$error":"#N/A"},{"$error":"#N/A"},{"$error":"#N/A"},{"$error":"#N/A"},{"$error":"#N/A"},null,null,null,{"$error":"#N/A"},{"$error":"#N/A"},{"$error":"#N/A"},{"$error":"#N/A"},{"$error":"#N/A"},{"$error":"#N/A"},{"$error":"#N/A"},{"$error":"#N/A"},{"$error":"#N/A"},{"$error":"#N/A"},{"$error":"#N/A"},{"$error":"#N/A"},{"$error":"#N/A"},{"$error":"#N/A"},{"$error":"#N/A"},{"$error":"#N/A"},{"$error":"#N/A"},{"$error":"#N/A"},{"$error":"#N/A"},{"$error":"#N/A"},{"$error":"#N/A"},{"$error":"#N/A"},{"$error":"#N/A"},{"$error":"#N/A"},{"$error":"#N/A"},{"$error":"#N/A"},{"$error":"#N/A"},{"$error":"#N/A"},{"$error":"#N/A"}]
[null,null,null,null,{"$error":"#N/A"},{"$error":"#N/A"},null,null,{"$error":"#N/A"},{"$error":"#N/A"},null,null,null,null,null,null,null,null,null,null,null,null,null,null,null,null,null,{"$error":"#N/A"},{"$error":"#N/A"},{"$error":"#N/A"},{"$error":"#N/A"},{"$error":"#N/A"},{"$error":"#N/A"},{"$error":"#N/A"},{"$error":"#N/A"},{"$error":"#N/A"},{"$error":"#N/A"},{"$error":"#N/A"},{"$error":"#N/A"},{"$error":"#N/A"},{"$error":"#N/A"},{"$error":"#N/A"},{"$error":"#N/A"},{"$error":"#N/A"},{"$error":"#N/A"},{"$error":"#N/A"},{"$error":"#N/A"},{"$error":"#N/A"},{"$error":"#N/A"},{"$error":"#N/A"},{"$error":"#N/A"},{"$error":"#N/A"},{"$error":"#N/A"},{"$error":"#N/A"},{"$error":"#N/A"},{"$error":"#N/A"},null,null,null,{"$error":"#N/A"},{"$error":"#N/A"},{"$error":"#N/A"},{"$error":"#N/A"},{"$error":"#N/A"},{"$error":"#N/A"},{"$error":"#N/A"},{"$error":"#N/A"},{"$error":"#N/A"},{"$error":"#N/A"},{"$error":"#N/A"},{"$error":"#N/A"},{"$error":"#N/A"},{"$error":"#N/A"},{"$error":"#N/A"},{"$error":"#N/A"},{"$error":"#N/A"},{"$error":"#N/A"},{"$error":"#N/A"},{"$error":"#N/A"},{"$error":"#N/A"},{"$error":"#N/A"},{"$error":"#N/A"},{"$error":"#N/A"},{"$error":"#N/A"},{"$error":"#N/A"},{"$error":"#N/A"},{"$error":"#N/A"},{"$error":"#N/A"}]
[null,null,null,null,{"$error":"#N/A"},{"$error":"#N/A"},null,null,{"$error":"#N/A"},{"$error":"#N/A"},null,null,null,null,null,null,null,null,null,null,null,null,null,null,null,null,null,{"$error":"#N/A"},{"$error":"#N/A"},{"$error":"#N/A"},{"$error":"#N/A"},{"$error":"#N/A"},{"$error":"#N/A"},{"$error":"#N/A"},{"$error":"#N/A"},{"$error":"#N/A"},{"$error":"#N/A"},{"$error":"#N/A"},{"$error":"#N/A"},{"$error":"#N/A"},{"$error":"#N/A"},{"$error":"#N/A"},{"$error":"#N/A"},{"$error":"#N/A"},{"$error":"#N/A"},{"$error":"#N/A"},{"$error":"#N/A"},{"$error":"#N/A"},{"$error":"#N/A"},{"$error":"#N/A"},{"$error":"#N/A"},{"$error":"#N/A"},{"$error":"#N/A"},{"$error":"#N/A"},{"$error":"#N/A"},{"$error":"#N/A"},null,null,null,{"$error":"#N/A"},{"$error":"#N/A"},{"$error":"#N/A"},{"$error":"#N/A"},{"$error":"#N/A"},{"$error":"#N/A"},{"$error":"#N/A"},{"$error":"#N/A"},{"$error":"#N/A"},{"$error":"#N/A"},{"$error":"#N/A"},{"$error":"#N/A"},{"$error":"#N/A"},{"$error":"#N/A"},{"$error":"#N/A"},{"$error":"#N/A"},{"$error":"#N/A"},{"$error":"#N/A"},{"$error":"#N/A"},{"$error":"#N/A"},{"$error":"#N/A"},{"$error":"#N/A"},{"$error":"#N/A"},{"$error":"#N/A"},{"$error":"#N/A"},{"$error":"#N/A"},{"$error":"#N/A"},{"$error":"#N/A"},{"$error":"#N/A"}]
[]
[]
[null,null,"Område for syning*",null,null,{"$error":"#N/A"},null,null,null,{"$error":"#N/A"},null,null,null,null,null,null,null,null,null,null,null,null,null,null,null,null,null,{"$f":"$F$7/1000*(\nIF(OR($F25=\"\",ISBLANK($F25)),0,(VLOOKUP($F$25,EnvProfiler,2,FALSE)*VLOOKUP(\"El, \"&$F$37,EnvProfiler,AB$3,FALSE)+VLOOKUP($F$25,EnvProfiler,3,FALSE)*VLOOKUP(\"Varme, \"&$F$37,EnvProfiler,AB$3,FALSE)))\n+IF(OR($F26=\"\",ISBLANK($F26)),0,(VLOOKUP($F$26,EnvProfiler,2,FALSE)*VLOOKUP(\"El, \"&$F$37,EnvProfiler,AB$3,FALSE)+VLOOKUP($F$26,EnvProfiler,3,FALSE)*VLOOKUP(\"Varme, \"&$F$37,EnvProfiler,AB$3,FALSE)))\n+IF(OR($F27=\"\",ISBLANK($F27)),0,(VLOOKUP($F$27,EnvProfiler,2,FALSE)*VLOOKUP(\"El, \"&$F$37,EnvProfiler,AB$3,FALSE)+VLOOKUP($F$27,EnvProfiler,3,FALSE)*VLOOKUP(\"Varme, \"&$F$37,EnvProfiler,AB$3,FALSE)))\n+IF(OR($F28=\"\",ISBLANK($F28)),0,(VLOOKUP($F$28,EnvProfiler,2,FALSE)*VLOOKUP(\"El, \"&$F$37,EnvProfiler,AB$3,FALSE)+VLOOKUP($F$28,EnvProfiler,3,FALSE)*VLOOKUP(\"Varme, \"&$F$37,EnvProfiler,AB$3,FALSE)))\n+IF(OR($F29=\"\",ISBLANK($F29)),0,(VLOOKUP($F$29,EnvProfiler,2,FALSE)*VLOOKUP(\"El, \"&$F$37,EnvProfiler,AB$3,FALSE)+VLOOKUP($F$29,EnvProfiler,3,FALSE)*VLOOKUP(\"Varme, \"&$F$37,EnvProfiler,AB$3,FALSE)))\n+IF(OR($F30=\"\",ISBLANK($F30)),0,(VLOOKUP($F$30,EnvProfiler,2,FALSE)*VLOOKUP(\"El, \"&$F$37,EnvProfiler,AB$3,FALSE)+VLOOKUP($F$30,EnvProfiler,3,FALSE)*VLOOKUP(\"Varme, \"&$F$37,EnvProfiler,AB$3,FALSE)))\n+IF(OR($F31=\"\",ISBLANK($F31)),0,(VLOOKUP($F$31,EnvProfiler,2,FALSE)*VLOOKUP(\"El, \"&$F$37,EnvProfiler,AB$3,FALSE)+VLOOKUP($F$31,EnvProfiler,3,FALSE)*VLOOKUP(\"Varme, \"&$F$37,EnvProfiler,AB$3,FALSE)))\n+IF(OR($F32=\"\",ISBLANK($F32)),0,(VLOOKUP($F$32,EnvProfiler,2,FALSE)*VLOOKUP(\"El, \"&$F$37,EnvProfiler,AB$3,FALSE)+VLOOKUP($F$32,EnvProfiler,3,FALSE)*VLOOKUP(\"Varme, \"&$F$37,EnvProfiler,AB$3,FALSE)))\n+IF(OR($F33=\"\",ISBLANK($F33)),0,(VLOOKUP($F$33,EnvProfiler,2,FALSE)*VLOOKUP(\"El, \"&$F$37,EnvProfiler,AB$3,FALSE)+VLOOKUP($F$33,EnvProfiler,3,FALSE)*VLOOKUP(\"Varme, \"&$F$37,EnvProfiler,AB$3,FALSE)))\n+IF(OR($F34=\"\",ISBLANK($F34)),0,(VLOOKUP($F$34,EnvProfiler,2,FALSE)*VLOOKUP(\"El, \"&$F$37,EnvProfiler,AB$3,FALSE)+VLOOKUP($F$34,EnvProfiler,3,FALSE)*VLOOKUP(\"Varme, \"&$F$37,EnvProfiler,AB$3,FALSE)))\n)","v":{"$error":"#N/A"}},{"$error":"#N/A"},{"$error":"#N/A"},{"$error":"#N/A"},{"$error":"#N/A"},{"$error":"#N/A"},{"$error":"#N/A"},{"$error":"#N/A"},{"$error":"#N/A"},{"$error":"#N/A"},{"$error":"#N/A"},{"$error":"#N/A"},{"$error":"#N/A"},{"$error":"#N/A"},{"$error":"#N/A"},{"$error":"#N/A"},{"$error":"#N/A"},{"$error":"#N/A"},{"$error":"#N/A"},{"$error":"#N/A"},{"$error":"#N/A"},{"$error":"#N/A"},{"$error":"#N/A"},{"$error":"#N/A"},{"$error":"#N/A"},{"$error":"#N/A"},{"$error":"#N/A"},{"$error":"#N/A"},{"$error":"#N/A"},null,null,null,{"$f":"$F$7/1000*(\nIF(OR($J25=\"\",ISBLANK($J25)),0,(VLOOKUP($J$25,EnvProfiler,2,FALSE)*VLOOKUP(\"El, \"&$J$37,EnvProfiler,BH$3,FALSE)+VLOOKUP($J$25,EnvProfiler,3,FALSE)*VLOOKUP(\"Varme, \"&$J$37,EnvProfiler,BH$3,FALSE)))\n+IF(OR($J26=\"\",ISBLANK($J26)),0,(VLOOKUP($J$26,EnvProfiler,2,FALSE)*VLOOKUP(\"El, \"&$J$37,EnvProfiler,BH$3,FALSE)+VLOOKUP($J$26,EnvProfiler,3,FALSE)*VLOOKUP(\"Varme, \"&$J$37,EnvProfiler,BH$3,FALSE)))\n+IF(OR($J27=\"\",ISBLANK($J27)),0,(VLOOKUP($J$27,EnvProfiler,2,FALSE)*VLOOKUP(\"El, \"&$J$37,EnvProfiler,BH$3,FALSE)+VLOOKUP($J$27,EnvProfiler,3,FALSE)*VLOOKUP(\"Varme, \"&$J$37,EnvProfiler,BH$3,FALSE)))\n+IF(OR($J28=\"\",ISBLANK($J28)),0,(VLOOKUP($J$28,EnvProfiler,2,FALSE)*VLOOKUP(\"El, \"&$J$37,EnvProfiler,BH$3,FALSE)+VLOOKUP($J$28,EnvProfiler,3,FALSE)*VLOOKUP(\"Varme, \"&$J$37,EnvProfiler,BH$3,FALSE)))\n+IF(OR($J29=\"\",ISBLANK($J29)),0,(VLOOKUP($J$29,EnvProfiler,2,FALSE)*VLOOKUP(\"El, \"&$J$37,EnvProfiler,BH$3,FALSE)+VLOOKUP($J$29,EnvProfiler,3,FALSE)*VLOOKUP(\"Varme, \"&$J$37,EnvProfiler,BH$3,FALSE)))\n+IF(OR($J30=\"\",ISBLANK($J30)),0,(VLOOKUP($J$30,EnvProfiler,2,FALSE)*VLOOKUP(\"El, \"&$J$37,EnvProfiler,BH$3,FALSE)+VLOOKUP($J$30,EnvProfiler,3,FALSE)*VLOOKUP(\"Varme, \"&$J$37,EnvProfiler,BH$3,FALSE)))\n+IF(OR($J31=\"\",ISBLANK($J31)),0,(VLOOKUP($J$31,EnvProfiler,2,FALSE)*VLOOKUP(\"El, \"&$J$37,EnvProfiler,BH$3,FALSE)+VLOOKUP($J$31,EnvProfiler,3,FALSE)*VLOOKUP(\"Varme, \"&$J$37,EnvProfiler,BH$3,FALSE)))\n+IF(OR($J32=\"\",ISBLANK($J32)),0,(VLOOKUP($J$32,EnvProfiler,2,FALSE)*VLOOKUP(\"El, \"&$J$37,EnvProfiler,BH$3,FALSE)+VLOOKUP($J$32,EnvProfiler,3,FALSE)*VLOOKUP(\"Varme, \"&$J$37,EnvProfiler,BH$3,FALSE)))\n+IF(OR($J33=\"\",ISBLANK($J33)),0,(VLOOKUP($J$33,EnvProfiler,2,FALSE)*VLOOKUP(\"El, \"&$J$37,EnvProfiler,BH$3,FALSE)+VLOOKUP($J$33,EnvProfiler,3,FALSE)*VLOOKUP(\"Varme, \"&$J$37,EnvProfiler,BH$3,FALSE)))\n+IF(OR($J34=\"\",ISBLANK($J34)),0,(VLOOKUP($J$34,EnvProfiler,2,FALSE)*VLOOKUP(\"El, \"&$J$37,EnvProfiler,BH$3,FALSE)+VLOOKUP($J$34,EnvProfiler,3,FALSE)*VLOOKUP(\"Varme, \"&$J$37,EnvProfiler,BH$3,FALSE)))\n)","v":{"$error":"#N/A"}},{"$error":"#N/A"},{"$error":"#N/A"},{"$error":"#N/A"},{"$error":"#N/A"},{"$error":"#N/A"},{"$error":"#N/A"},{"$error":"#N/A"},{"$error":"#N/A"},{"$error":"#N/A"},{"$error":"#N/A"},{"$error":"#N/A"},{"$error":"#N/A"},{"$error":"#N/A"},{"$error":"#N/A"},{"$error":"#N/A"},{"$error":"#N/A"},{"$error":"#N/A"},{"$error":"#N/A"},{"$error":"#N/A"},{"$error":"#N/A"},{"$error":"#N/A"},{"$error":"#N/A"},{"$error":"#N/A"},{"$error":"#N/A"},{"$error":"#N/A"},{"$error":"#N/A"},{"$error":"#N/A"},{"$error":"#N/A"}]
[]
[]
[]
[null,null,"Baggrundsdata"]
[null,null,"Accessories",null,"Egen husketekst","Accessorydel","Vægt",null,"Egen husketekst","Accessorydel","Vægt"]
[null,null,"Knapper, lynlåse, logo og mærker",null,{"$error":"#N/A"},{"$error":"#N/A"},{"$error":"#N/A"},null,{"$error":"#N/A"},{"$error":"#N/A"},{"$error":"#N/A"},null,null,null,null,null,null,null,null,null,null,null,null,null,null,null,null,{"$f":"IF(OR(ISBLANK($F43),$F43=\"ingen\",$F43=\"\"),0,$G43/1000*VLOOKUP($F43,EnvProfiler,AB$3,FALSE))","v":{"$error":"#N/A"}},{"$error":"#N/A"},{"$error":"#N/A"},{"$error":"#N/A"},{"$error":"#N/A"},{"$error":"#N/A"},{"$error":"#N/A"},{"$error":"#N/A"},{"$error":"#N/A"},{"$error":"#N/A"},{"$f":"IF(OR(ISBLANK($F43),$F43=\"ingen\",$F43=\"\"),0,$G43/1000*VLOOKUP($F43,EnvProfiler,AL$3,FALSE))","v":{"$error":"#N/A"}},{"$error":"#N/A"},{"$error":"#N/A"},{"$error":"#N/A"},{"$error":"#N/A"},{"$error":"#N/A"},{"$error":"#N/A"},{"$error":"#N/A"},{"$error":"#N/A"},{"$error":"#N/A"},{"$f":"IF(OR(ISBLANK($F43),$F43=\"ingen\",$F43=\"\"),0,$G43/1000*VLOOKUP($F43,EnvProfiler,AV$3,FALSE))","v":{"$error":"#N/A"}},{"$error":"#N/A"},{"$error":"#N/A"},{"$error":"#N/A"},{"$error":"#N/A"},{"$error":"#N/A"},{"$error":"#N/A"},{"$error":"#N/A"},{"$error":"#N/A"},null,null,null,{"$f":"IF(OR(ISBLANK($J43),$J43=\"ingen\",$J43=\"\"),0,$K43/1000*VLOOKUP($J43,EnvProfiler,BH$3,FALSE))","v":{"$error":"#N/A"}},{"$f":"IF(OR(ISBLANK($J44),$J44=\"ingen\",$J44=\"\"),0,$K43/1000*VLOOKUP($J44,EnvProfiler,BI$3,FALSE))","v":{"$error":"#N/A"}},{"$error":"#N/A"},{"$error":"#N/A"},{"$error":"#N/A"},{"$error":"#N/A"},{"$error":"#N/A"},{"$error":"#N/A"},{"$error":"#N/A"},{"$error":"#N/A"},{"$error":"#N/A"},{"$error":"#N/A"},{"$error":"#N/A"},{"$error":"#N/A"},{"$error":"#N/A"},{"$error":"#N/A"},{"$error":"#N/A"},{"$error":"#N/A"},{"$error":"#N/A"},{"$error":"#N/A"},{"$error":"#N/A"},{"$error":"#N/A"},{"$error":"#N/A"},{"$error":"#N/A"},{"$error":"#N/A"},{"$error":"#N/A"},{"$error":"#N/A"},{"$error":"#N/A"},{"$error":"#N/A"}]
[null,null,null,null,{"$error":"#N/A"},{"$error":"#N/A"},{"$error":"#N/A"},null,{"$error":"#N/A"},{"$error":"#N/A"},{"$error":"#N/A"},null,null,null,null,null,null,null,null,null,null,null,null,null,null,null,null,{"$error":"#N/A"},{"$error":"#N/A"},{"$error":"#N/A"},{"$error":"#N/A"},{"$error":"#N/A"},{"$error":"#N/A"},{"$error":"#N/A"},{"$error":"#N/A"},{"$error":"#N/A"},{"$error":"#N/A"},{"$error":"#N/A"},{"$error":"#N/A"},{"$error":"#N/A"},{"$error":"#N/A"},{"$error":"#N/A"},{"$error":"#N/A"},{"$error":"#N/A"},{"$error":"#N/A"},{"$error":"#N/A"},{"$error":"#N/A"},{"$error":"#N/A"},{"$error":"#N/A"},{"$error":"#N/A"},{"$error":"#N/A"},{"$error":"#N/A"},{"$error":"#N/A"},{"$error":"#N/A"},{"$error":"#N/A"},{"$error":"#N/A"},null,null,null,{"$f":"IF(OR(ISBLANK($J44),$J44=\"ingen\",$J44=\"\"),0,$K44/1000*VLOOKUP($J44,EnvProfiler,BH$3,FALSE))","v":{"$error":"#N/A"}},{"$f":"IF(OR(ISBLANK($J44),$J44=\"ingen\",$J44=\"\"),0,$K44/1000*VLOOKUP($J44,EnvProfiler,BI$3,FALSE))","v":{"$error":"#N/A"}},{"$error":"#N/A"},{"$error":"#N/A"},{"$error":"#N/A"},{"$error":"#N/A"},{"$error":"#N/A"},{"$error":"#N/A"},{"$error":"#N/A"},{"$error":"#N/A"},{"$error":"#N/A"},{"$error":"#N/A"},{"$error":"#N/A"},{"$error":"#N/A"},{"$error":"#N/A"},{"$error":"#N/A"},{"$error":"#N/A"},{"$error":"#N/A"},{"$error":"#N/A"},{"$error":"#N/A"},{"$error":"#N/A"},{"$error":"#N/A"},{"$error":"#N/A"},{"$error":"#N/A"},{"$error":"#N/A"},{"$error":"#N/A"},{"$error":"#N/A"},{"$error":"#N/A"},{"$error":"#N/A"}]
[null,null,null,null,{"$error":"#N/A"},{"$error":"#N/A"},{"$error":"#N/A"},null,{"$error":"#N/A"},{"$error":"#N/A"},{"$error":"#N/A"},null,null,null,null,null,null,null,null,null,null,null,null,null,null,null,null,{"$error":"#N/A"},{"$error":"#N/A"},{"$error":"#N/A"},{"$error":"#N/A"},{"$error":"#N/A"},{"$error":"#N/A"},{"$error":"#N/A"},{"$error":"#N/A"},{"$error":"#N/A"},{"$error":"#N/A"},{"$error":"#N/A"},{"$error":"#N/A"},{"$error":"#N/A"},{"$error":"#N/A"},{"$error":"#N/A"},{"$error":"#N/A"},{"$error":"#N/A"},{"$error":"#N/A"},{"$error":"#N/A"},{"$error":"#N/A"},{"$error":"#N/A"},{"$error":"#N/A"},{"$error":"#N/A"},{"$error":"#N/A"},{"$error":"#N/A"},{"$error":"#N/A"},{"$error":"#N/A"},{"$error":"#N/A"},{"$error":"#N/A"},null,null,null,{"$f":"IF(OR(ISBLANK($J45),$J45=\"ingen\",$J45=\"\"),0,$K45/1000*VLOOKUP($J45,EnvProfiler,BH$3,FALSE))","v":{"$error":"#N/A"}},{"$error":"#N/A"},{"$error":"#N/A"},{"$error":"#N/A"},{"$error":"#N/A"},{"$error":"#N/A"},{"$error":"#N/A"},{"$error":"#N/A"},{"$error":"#N/A"},{"$error":"#N/A"},{"$f":"IF(OR(ISBLANK($J45),$J45=\"ingen\",$J45=\"\"),0,$K45/1000*VLOOKUP($J45,EnvProfiler,BR$3,FALSE))","v":{"$error":"#N/A"}},{"$error":"#N/A"},{"$error":"#N/A"},{"$error":"#N/A"},{"$error":"#N/A"},{"$error":"#N/A"},{"$error":"#N/A"},{"$error":"#N/A"},{"$error":"#N/A"},{"$error":"#N/A"},{"$f":"IF(OR(ISBLANK($J45),$J45=\"ingen\",$J45=\"\"),0,$K45/1000*VLOOKUP($J45,EnvProfiler,CB$3,FALSE))","v":{"$error":"#N/A"}},{"$error":"#N/A"},{"$error":"#N/A"},{"$error":"#N/A"},{"$error":"#N/A"},{"$error":"#N/A"},{"$error":"#N/A"},{"$error":"#N/A"},{"$error":"#N/A"}]
[null,null,null,null,{"$error":"#N/A"},{"$error":"#N/A"},{"$error":"#N/A"},null,{"$error":"#N/A"},{"$error":"#N/A"},{"$error":"#N/A"},null,null,null,null,null,null,null,null,null,null,null,null,null,null,null,null,{"$error":"#N/A"},{"$error":"#N/A"},{"$error":"#N/A"},{"$error":"#N/A"},{"$error":"#N/A"},{"$error":"#N/A"},{"$error":"#N/A"},{"$error":"#N/A"},{"$error":"#N/A"},{"$error":"#N/A"},{"$error":"#N/A"},{"$error":"#N/A"},{"$error":"#N/A"},{"$error":"#N/A"},{"$error":"#N/A"},{"$error":"#N/A"},{"$error":"#N/A"},{"$error":"#N/A"},{"$error":"#N/A"},{"$error":"#N/A"},{"$error":"#N/A"},{"$error":"#N/A"},{"$error":"#N/A"},{"$error":"#N/A"},{"$error":"#N/A"},{"$error":"#N/A"},{"$error":"#N/A"},{"$error":"#N/A"},{"$error":"#N/A"},null,null,null,{"$error":"#N/A"},{"$error":"#N/A"},{"$error":"#N/A"},{"$error":"#N/A"},{"$error":"#N/A"},{"$error":"#N/A"},{"$error":"#N/A"},{"$error":"#N/A"},{"$error":"#N/A"},{"$error":"#N/A"},{"$error":"#N/A"},{"$error":"#N/A"},{"$error":"#N/A"},{"$error":"#N/A"},{"$error":"#N/A"},{"$error":"#N/A"},{"$error":"#N/A"},{"$error":"#N/A"},{"$error":"#N/A"},{"$error":"#N/A"},{"$error":"#N/A"},{"$error":"#N/A"},{"$error":"#N/A"},{"$error":"#N/A"},{"$error":"#N/A"},{"$error":"#N/A"},{"$error":"#N/A"},{"$error":"#N/A"},{"$error":"#N/A"}]
[null,null,null,null,{"$error":"#N/A"},{"$error":"#N/A"},{"$error":"#N/A"},null,{"$error":"#N/A"},{"$error":"#N/A"},{"$error":"#N/A"},null,null,null,null,null,null,null,null,null,null,null,null,null,null,null,null,{"$error":"#N/A"},{"$error":"#N/A"},{"$error":"#N/A"},{"$error":"#N/A"},{"$error":"#N/A"},{"$error":"#N/A"},{"$error":"#N/A"},{"$error":"#N/A"},{"$error":"#N/A"},{"$error":"#N/A"},{"$error":"#N/A"},{"$error":"#N/A"},{"$error":"#N/A"},{"$error":"#N/A"},{"$error":"#N/A"},{"$error":"#N/A"},{"$error":"#N/A"},{"$error":"#N/A"},{"$error":"#N/A"},{"$error":"#N/A"},{"$error":"#N/A"},{"$error":"#N/A"},{"$error":"#N/A"},{"$error":"#N/A"},{"$error":"#N/A"},{"$error":"#N/A"},{"$error":"#N/A"},{"$error":"#N/A"},{"$error":"#N/A"},null,null,null,{"$error":"#N/A"},{"$error":"#N/A"},{"$error":"#N/A"},{"$error":"#N/A"},{"$error":"#N/A"},{"$error":"#N/A"},{"$error":"#N/A"},{"$error":"#N/A"},{"$error":"#N/A"},{"$error":"#N/A"},{"$error":"#N/A"},{"$error":"#N/A"},{"$error":"#N/A"},{"$error":"#N/A"},{"$error":"#N/A"},{"$error":"#N/A"},{"$error":"#N/A"},{"$error":"#N/A"},{"$error":"#N/A"},{"$error":"#N/A"},{"$error":"#N/A"},{"$error":"#N/A"},{"$error":"#N/A"},{"$error":"#N/A"},{"$error":"#N/A"},{"$error":"#N/A"},{"$error":"#N/A"},{"$error":"#N/A"},{"$error":"#N/A"}]
[null,null,null,null,{"$error":"#N/A"},{"$error":"#N/A"},{"$error":"#N/A"},null,{"$error":"#N/A"},{"$error":"#N/A"},{"$error":"#N/A"},null,null,null,null,null,null,null,null,null,null,null,null,null,null,null,null,{"$error":"#N/A"},{"$error":"#N/A"},{"$error":"#N/A"},{"$error":"#N/A"},{"$error":"#N/A"},{"$error":"#N/A"},{"$error":"#N/A"},{"$error":"#N/A"},{"$error":"#N/A"},{"$error":"#N/A"},{"$error":"#N/A"},{"$error":"#N/A"},{"$error":"#N/A"},{"$error":"#N/A"},{"$error":"#N/A"},{"$error":"#N/A"},{"$error":"#N/A"},{"$error":"#N/A"},{"$error":"#N/A"},{"$error":"#N/A"},{"$error":"#N/A"},{"$error":"#N/A"},{"$error":"#N/A"},{"$error":"#N/A"},{"$error":"#N/A"},{"$error":"#N/A"},{"$error":"#N/A"},{"$error":"#N/A"},{"$error":"#N/A"},null,null,null,{"$error":"#N/A"},{"$error":"#N/A"},{"$error":"#N/A"},{"$error":"#N/A"},{"$error":"#N/A"},{"$error":"#N/A"},{"$error":"#N/A"},{"$error":"#N/A"},{"$error":"#N/A"},{"$error":"#N/A"},{"$error":"#N/A"},{"$error":"#N/A"},{"$error":"#N/A"},{"$error":"#N/A"},{"$error":"#N/A"},{"$error":"#N/A"},{"$error":"#N/A"},{"$error":"#N/A"},{"$error":"#N/A"},{"$error":"#N/A"},{"$error":"#N/A"},{"$error":"#N/A"},{"$error":"#N/A"},{"$error":"#N/A"},{"$error":"#N/A"},{"$error":"#N/A"},{"$error":"#N/A"},{"$error":"#N/A"},{"$error":"#N/A"}]
[null,null,null,null,{"$error":"#N/A"},{"$error":"#N/A"},{"$error":"#N/A"},null,{"$error":"#N/A"},{"$error":"#N/A"},{"$error":"#N/A"},null,null,null,null,null,null,null,null,null,null,null,null,null,null,null,null,{"$error":"#N/A"},{"$error":"#N/A"},{"$error":"#N/A"},{"$error":"#N/A"},{"$error":"#N/A"},{"$error":"#N/A"},{"$error":"#N/A"},{"$error":"#N/A"},{"$error":"#N/A"},{"$error":"#N/A"},{"$error":"#N/A"},{"$error":"#N/A"},{"$error":"#N/A"},{"$error":"#N/A"},{"$error":"#N/A"},{"$error":"#N/A"},{"$error":"#N/A"},{"$error":"#N/A"},{"$error":"#N/A"},{"$error":"#N/A"},{"$error":"#N/A"},{"$error":"#N/A"},{"$error":"#N/A"},{"$error":"#N/A"},{"$error":"#N/A"},{"$error":"#N/A"},{"$error":"#N/A"},{"$error":"#N/A"},{"$error":"#N/A"},null,null,null,{"$error":"#N/A"},{"$error":"#N/A"},{"$error":"#N/A"},{"$error":"#N/A"},{"$error":"#N/A"},{"$error":"#N/A"},{"$error":"#N/A"},{"$error":"#N/A"},{"$error":"#N/A"},{"$error":"#N/A"},{"$error":"#N/A"},{"$error":"#N/A"},{"$error":"#N/A"},{"$error":"#N/A"},{"$error":"#N/A"},{"$error":"#N/A"},{"$error":"#N/A"},{"$error":"#N/A"},{"$error":"#N/A"},{"$error":"#N/A"},{"$error":"#N/A"},{"$error":"#N/A"},{"$error":"#N/A"},{"$error":"#N/A"},{"$error":"#N/A"},{"$error":"#N/A"},{"$error":"#N/A"},{"$error":"#N/A"},{"$error":"#N/A"}]
[null,null,null,null,{"$error":"#N/A"},{"$error":"#N/A"},{"$error":"#N/A"},null,{"$error":"#N/A"},{"$error":"#N/A"},{"$error":"#N/A"},null,null,null,null,null,null,null,null,null,null,null,null,null,null,null,null,{"$error":"#N/A"},{"$error":"#N/A"},{"$error":"#N/A"},{"$error":"#N/A"},{"$error":"#N/A"},{"$error":"#N/A"},{"$error":"#N/A"},{"$error":"#N/A"},{"$error":"#N/A"},{"$error":"#N/A"},{"$error":"#N/A"},{"$error":"#N/A"},{"$error":"#N/A"},{"$error":"#N/A"},{"$error":"#N/A"},{"$error":"#N/A"},{"$error":"#N/A"},{"$error":"#N/A"},{"$error":"#N/A"},{"$error":"#N/A"},{"$error":"#N/A"},{"$error":"#N/A"},{"$error":"#N/A"},{"$error":"#N/A"},{"$error":"#N/A"},{"$error":"#N/A"},{"$error":"#N/A"},{"$error":"#N/A"},{"$error":"#N/A"},null,null,null,{"$f":"IF(OR(ISBLANK($J50),$J50=\"ingen\",$J50=\"\"),0,$K50/1000*VLOOKUP($J50,EnvProfiler,BH$3,FALSE))","v":{"$error":"#N/A"}},{"$error":"#N/A"},{"$error":"#N/A"},{"$error":"#N/A"},{"$error":"#N/A"},{"$error":"#N/A"},{"$error":"#N/A"},{"$error":"#N/A"},{"$error":"#N/A"},{"$error":"#N/A"},{"$error":"#N/A"},{"$error":"#N/A"},{"$error":"#N/A"},{"$error":"#N/A"},{"$error":"#N/A"},{"$error":"#N/A"},{"$error":"#N/A"},{"$error":"#N/A"},{"$error":"#N/A"},{"$error":"#N/A"},{"$error":"#N/A"},{"$error":"#N/A"},{"$error":"#N/A"},{"$error":"#N/A"},{"$error":"#N/A"},{"$error":"#N/A"},{"$error":"#N/A"},{"$error":"#N/A"},{"$error":"#N/A"}]
[null,null,null,null,{"$error":"#N/A"},{"$error":"#N/A"},{"$error":"#N/A"},null,{"$error":"#N/A"},{"$error":"#N/A"},{"$error":"#N/A"},null,null,null,null,null,null,null,null,null,null,null,null,null,null,null,null,{"$error":"#N/A"},{"$error":"#N/A"},{"$error":"#N/A"},{"$error":"#N/A"},{"$error":"#N/A"},{"$error":"#N/A"},{"$error":"#N/A"},{"$error":"#N/A"},{"$error":"#N/A"},{"$error":"#N/A"},{"$error":"#N/A"},{"$error":"#N/A"},{"$error":"#N/A"},{"$error":"#N/A"},{"$error":"#N/A"},{"$error":"#N/A"},{"$error":"#N/A"},{"$error":"#N/A"},{"$error":"#N/A"},{"$error":"#N/A"},{"$error":"#N/A"},{"$error":"#N/A"},{"$error":"#N/A"},{"$error":"#N/A"},{"$error":"#N/A"},{"$error":"#N/A"},{"$error":"#N/A"},{"$error":"#N/A"},{"$error":"#N/A"},null,null,null,{"$error":"#N/A"},{"$error":"#N/A"},{"$error":"#N/A"},{"$error":"#N/A"},{"$error":"#N/A"},{"$error":"#N/A"},{"$error":"#N/A"},{"$error":"#N/A"},{"$error":"#N/A"},{"$error":"#N/A"},{"$error":"#N/A"},{"$error":"#N/A"},{"$error":"#N/A"},{"$error":"#N/A"},{"$error":"#N/A"},{"$error":"#N/A"},{"$error":"#N/A"},{"$error":"#N/A"},{"$error":"#N/A"},{"$error":"#N/A"},{"$error":"#N/A"},{"$error":"#N/A"},{"$error":"#N/A"},{"$error":"#N/A"},{"$error":"#N/A"},{"$error":"#N/A"},{"$error":"#N/A"},{"$error":"#N/A"},{"$error":"#N/A"}]
[null,null,null,null,{"$error":"#N/A"},{"$error":"#N/A"},{"$error":"#N/A"},null,{"$error":"#N/A"},{"$error":"#N/A"},{"$error":"#N/A"},null,null,null,null,null,null,null,null,null,null,null,null,null,null,null,null,{"$error":"#N/A"},{"$error":"#N/A"},{"$error":"#N/A"},{"$error":"#N/A"},{"$error":"#N/A"},{"$error":"#N/A"},{"$error":"#N/A"},{"$error":"#N/A"},{"$error":"#N/A"},{"$error":"#N/A"},{"$error":"#N/A"},{"$error":"#N/A"},{"$error":"#N/A"},{"$error":"#N/A"},{"$error":"#N/A"},{"$error":"#N/A"},{"$error":"#N/A"},{"$error":"#N/A"},{"$error":"#N/A"},{"$error":"#N/A"},{"$error":"#N/A"},{"$error":"#N/A"},{"$error":"#N/A"},{"$error":"#N/A"},{"$error":"#N/A"},{"$error":"#N/A"},{"$error":"#N/A"},{"$error":"#N/A"},{"$error":"#N/A"},null,null,null,{"$error":"#N/A"},{"$error":"#N/A"},{"$error":"#N/A"},{"$error":"#N/A"},{"$error":"#N/A"},{"$error":"#N/A"},{"$error":"#N/A"},{"$error":"#N/A"},{"$error":"#N/A"},{"$error":"#N/A"},{"$error":"#N/A"},{"$error":"#N/A"},{"$error":"#N/A"},{"$error":"#N/A"},{"$error":"#N/A"},{"$error":"#N/A"},{"$error":"#N/A"},{"$error":"#N/A"},{"$error":"#N/A"},{"$error":"#N/A"},{"$error":"#N/A"},{"$error":"#N/A"},{"$error":"#N/A"},{"$error":"#N/A"},{"$error":"#N/A"},{"$error":"#N/A"},{"$error":"#N/A"},{"$error":"#N/A"},{"$error":"#N/A"}]
[]
[null,null,"Spildprocent af stof i produktionen*",null,null,{"$error":"#N/A"},null,null,null,{"$error":"#N/A"},null,null,null,null,null,null,null,null,null,null,null,null,null,null,null,null,null,{"$f":"SUM(AB10:AB19)*$F$54","v":{"$error":"#N/A"}},{"$error":"#N/A"},{"$error":"#N/A"},{"$error":"#N/A"},{"$error":"#N/A"},{"$error":"#N/A"},{"$error":"#N/A"},{"$error":"#N/A"},{"$error":"#N/A"},{"$error":"#N/A"},{"$error":"#N/A"},{"$error":"#N/A"},{"$error":"#N/A"},{"$error":"#N/A"},{"$error":"#N/A"},{"$error":"#N/A"},{"$error":"#N/A"},{"$error":"#N/A"},{"$error":"#N/A"},{"$error":"#N/A"},{"$error":"#N/A"},{"$error":"#N/A"},{"$error":"#N/A"},{"$error":"#N/A"},{"$error":"#N/A"},{"$error":"#N/A"},{"$error":"#N/A"},{"$error":"#N/A"},{"$error":"#N/A"},null,null,null,{"$f":"SUM(BH10:BH19)*$J$54","v":{"$error":"#N/A"}},{"$error":"#N/A"},{"$error":"#N/A"},{"$error":"#N/A"},{"$error":"#N/A"},{"$error":"#N/A"},{"$error":"#N/A"},{"$error":"#N/A"},{"$error":"#N/A"},{"$error":"#N/A"},{"$error":"#N/A"},{"$error":"#N/A"},{"$error":"#N/A"},{"$error":"#N/A"},{"$error":"#N/A"},{"$error":"#N/A"},{"$error":"#N/A"},{"$error":"#N/A"},{"$error":"#N/A"},{"$error":"#N/A"},{"$error":"#N/A"},{"$error":"#N/A"},{"$error":"#N/A"},{"$error":"#N/A"},{"$error":"#N/A"},{"$error":"#N/A"},{"$error":"#N/A"},{"$error":"#N/A"},{"$error":"#N/A"}]
[null,null,"Afskaffelse af spild*",null,null,{"$error":"#N/A"},null,null,null,{"$error":"#N/A"},null,null,null,null,null,null,null,null,null,null,null,null,null,null,null,null,null,{"$f":"IFERROR(Mass_product1*$F$54/1000*VLOOKUP($F$55,EnvProfiler,AB$3,FALSE),0)","v":0},0,0,0,0,0,0,0,0,0,0,0,0,0,0,0,0,0,0,0,0,0,0,0,0,0,0,0,0,null,null,null,{"$f":"IFERROR(Mass_product2*$J$54/1000*VLOOKUP($J$55,EnvProfiler,BH$3,FALSE),0)","v":0},0,0,0,0,0,0,0,0,0,0,0,0,0,0,0,0,0,0,0,0,0,0,0,0,0,0,0,0]
[]
[]
[]
[]
[null,null,null,null,null,null,null,null,null,null,null,null,null,null,null,null,null,null,null,null,null,null,null,null,null,"indkøbspris, kr/produkt",{"$f":"'Produkt og funktion'!E20","v":0},null,null,null,null,null,null,null,null,null,null,null,null,null,null,null,null,null,null,null,null,null,null,null,null,null,null,null,null,null,null,"indkøbspris, kr/produkt",{"$f":"'Produkt og funktion'!G20","v":0}]
[]
[]
[]
[]
[]
[]
[]
[]
[]
[]
[]
[]
[]
[]
[]
[]
[]
[]
[]
[]
[]
[]
[]
[]
[]
[]
[]
[]
[]
[]
[]
[]
[]
[]
[]
[]
[]
[]
[]
[]
[]
[]
[]
[]
[]
[]
[]
[]
[]
[]
[null,null,null,null,null,null,null,null,null,null,null,null,null,null,null,null,null,null,null,null,null,null,null,null,null,null,{"$f":"SUM(AA10:AA110)","v":0},{"$error":"#N/A"},{"$error":"#N/A"},{"$error":"#N/A"},{"$error":"#N/A"},{"$error":"#N/A"},{"$error":"#N/A"},{"$error":"#N/A"},{"$error":"#N/A"},{"$error":"#N/A"},{"$error":"#N/A"},{"$error":"#N/A"},{"$error":"#N/A"},{"$error":"#N/A"},{"$error":"#N/A"},{"$error":"#N/A"},{"$error":"#N/A"},{"$error":"#N/A"},{"$error":"#N/A"},{"$error":"#N/A"},{"$error":"#N/A"},{"$error":"#N/A"},{"$error":"#N/A"},{"$error":"#N/A"},{"$error":"#N/A"},{"$error":"#N/A"},{"$error":"#N/A"},{"$error":"#N/A"},{"$error":"#N/A"},{"$error":"#N/A"},null,null,{"$f":"SUM(BG10:BG110)","v":0},{"$f":"SUM(BH10:BH110)","v":{"$error":"#N/A"}},{"$error":"#N/A"},{"$error":"#N/A"},{"$error":"#N/A"},{"$error":"#N/A"},{"$error":"#N/A"},{"$error":"#N/A"},{"$error":"#N/A"},{"$error":"#N/A"},{"$error":"#N/A"},{"$error":"#N/A"},{"$error":"#N/A"},{"$error":"#N/A"},{"$error":"#N/A"},{"$error":"#N/A"},{"$error":"#N/A"},{"$error":"#N/A"},{"$error":"#N/A"},{"$error":"#N/A"},{"$error":"#N/A"},{"$error":"#N/A"},{"$error":"#N/A"},{"$error":"#N/A"},{"$error":"#N/A"},{"$error":"#N/A"},{"$error":"#N/A"},{"$error":"#N/A"},{"$error":"#N/A"},{"$error":"#N/A"}]

{"sheet":"Transport og emballage","index":3,"n_rows":161,"n_cols":88,"rows_kept":161,"cut":false,"hidden":false,"merged":[[108,4,108,6],[108,8,108,10],[6,4,6,6],[6,8,6,10],[40,4,40,6],[40,8,40,10],[73,4,73,6],[73,8,73,10]]}
[null,null,null,null,null,null,null,null,null,null,null,null,null,null,null,null,null,null,null,null,null,null,null,null,null,null,null,"product1"]
[null,null,null,null,null,null,null,null,null,null,null,null,null,null,null,null,null,null,null,null,null,null,null,null,null,null,null,null,null,null,null,null,null,null,null,null,null,null,null,null,null,null,null,null,null,null,null,null,null,null,null,null,null,null,null,null,null,null,null,"product2"]
[null,null,null,null,null,null,null,null,null,null,null,null,null,null,null,null,null,null,null,null,null,null,null,null,null,null,null,{"$f":"Processer!G1","v":7},{"$f":"Processer!H1","v":8},{"$f":"Processer!I1","v":9},{"$f":"Processer!J1","v":10},{"$f":"Processer!K1","v":11},{"$f":"Processer!L1","v":12},{"$f":"Processer!M1","v":13},{"$f":"Processer!N1","v":14},{"$f":"Processer!O1","v":15},{"$f":"Processer!P1","v":16},{"$f":"Processer!Q1","v":17},{"$f":"Processer!R1","v":18},{"$f":"Processer!S1","v":19},{"$f":"Processer!T1","v":20},{"$f":"Processer!U1","v":21},{"$f":"Processer!V1","v":22},{"$f":"Processer!W1","v":23},{"$f":"Processer!X1","v":24},{"$f":"Processer!Y1","v":25},{"$f":"Processer!Z1","v":26},{"$f":"Processer!AA1","v":27},{"$f":"Processer!AB1","v":28},{"$f":"Processer!AC1","v":29},{"$f":"Processer!AD1","v":30},{"$f":"Processer!AE1","v":31},{"$f":"Processer!AF1","v":32},33,{"$f":"Processer!AH1","v":34},35,null,null,null,{"$f":"Processer!G1","v":7},{"$f":"Processer!H1","v":8},{"$f":"Processer!I1","v":9},{"$f":"Processer!J1","v":10},{"$f":"Processer!K1","v":11},{"$f":"Processer!L1","v":12},{"$f":"Processer!M1","v":13},{"$f":"Processer!N1","v":14},{"$f":"Processer!O1","v":15},{"$f":"Processer!P1","v":16},{"$f":"Processer!Q1","v":17},{"$f":"Processer!R1","v":18},{"$f":"Processer!S1","v":19},{"$f":"Processer!T1","v":20},{"$f":"Processer!U1","v":21},{"$f":"Processer!V1","v":22},{"$f":"Processer!W1","v":23},{"$f":"Processer!X1","v":24},{"$f":"Processer!Y1","v":25},{"$f":"Processer!Z1","v":26},{"$f":"Processer!AA1","v":27},{"$f":"Processer!AB1","v":28},{"$f":"Processer!AC1","v":29},{"$f":"Processer!AD1","v":30},{"$f":"Processer!AE1","v":31},{"$f":"Processer!AF1","v":32},{"$f":"Processer!AG1","v":33},{"$f":"Processer!AH1","v":34},35]
[null,null,"Levering af varer (eksterne transportmidler og ansatte)",null,null,null,null,null,null,null,null,null,null,null,null,null,null,null,null,null,null,null,null,null,null,null,"økonomi/ produkt","miljøprofil ekskl energi",null,null,null,null,null,null,null,null,null,null,null,null,null,null,null,null,null,null,null,null,null,null,null,null,null,null,null,null,null,null,"økonomi/ produkt","miljøprofil ekskl energi"]
[null,null,"Transport i løbet af produktion af metervare og produkt"]
[]
[null,null,null,null,{"$f":"Name_product1","v":0},null,null,null,{"$f":"Name_product2","v":0},null,null,null,null,null,null,null,null,null,null,null,null,null,null,null,null,null,"product1","Climate change","Ozone depletion","Ionising radiation","Photochemical ozone formation","Particulate matter","Human toxicity, non-cancer","Human toxicity, cancer","Acidification","Eutrophication, freshwater","Eutrophication, marine","Eutrophication, terrestrial","Ecotoxicity, freshwater","Land use","Water use","Resource use, fossils","Resource use, minerals and metals","Climate change - Fossil","Climate change - Biogenic","Climate change - Land use and LU change","Human toxicity, non-cancer - organics","Human toxicity, non-cancer - inorganics","Human toxicity, non-cancer - metals","Human toxicity, cancer - organics","Human toxicity, cancer - inorganics","Human toxicity, cancer - metals","Ecotoxicity, freshwater - organics","Ecotoxicity, freshwater - inorganics","Ecotoxicity, freshwater - metals","PFAS",null,null,"product2","Climate change","Ozone depletion","Ionising radiation","Photochemical ozone formation","Particulate matter","Human toxicity, non-cancer","Human toxicity, cancer","Acidification","Eutrophication, freshwater","Eutrophication, marine","Eutrophication, terrestrial","Ecotoxicity, freshwater","Land use","Water use","Resource use, fossils","Resource use, minerals and metals","Climate change - Fossil","Climate change - Biogenic","Climate change - Land use and LU change","Human toxicity, non-cancer - organics","Human toxicity, non-cancer - inorganics","Human toxicity, non-cancer - metals","Human toxicity, cancer - organics","Human toxicity, cancer - inorganics","Human toxicity, cancer - metals","Ecotoxicity, freshwater - organics","Ecotoxicity, freshwater - inorganics","Ecotoxicity, freshwater - metals","PFAS"]
[]
[null,null,null,null,"Egen husketekst","Transportmiddel","Afstand",null,"Egen husketekst","Transportmiddel","Afstand",null,null,null,null,null,null,null,null,null,null,null,null,null,null,null,null,"kg CO2 eq","kg CFC11 eq","kBq U-235 eq","kg NMVOC eq","disease inc.","CTUh","CTUh","mol H+ eq","kg P eq","kg N eq","mol N eq","CTUe","Pt","m3 depriv.","MJ","kg Sb eq","kg CO2 eq","kg CO2 eq","kg CO2 eq","CTUh","CTUh","CTUh","CTUh","CTUh","CTUh","CTUe","CTUe","CTUe","kg",null,null,null,"kg CO2 eq","kg CFC11 eq","kBq U-235 eq","kg NMVOC eq","disease inc.","CTUh","CTUh","mol H+ eq","kg P eq","kg N eq","mol N eq","CTUe","Pt","m3 depriv.","MJ","kg Sb eq","kg CO2 eq","kg CO2 eq","kg CO2 eq","CTUh","CTUh","CTUh","CTUh","CTUh","CTUh","CTUe","CTUe","CTUe","kg"]
[null,null,"Transportform og distance",null,{"$error":"#N/A"},{"$error":"#N/A"},{"$error":"#N/A"},null,{"$error":"#N/A"},{"$error":"#N/A"},{"$error":"#N/A"},10,null,null,null,null,null,null,null,null,null,null,null,null,null,null,null,{"$f":"IF(OR($F10=\"\",ISBLANK($F10)),0,(Mass_product1\n+IF(OR($F$25=\"\",ISBLANK($F$25)),0,$G$25/$F$25)+IF(OR($F$26=\"\",ISBLANK($F$26)),0,$G$26/$F$26)\n+IF(OR($F$27=\"\",ISBLANK($F$27)),0,$G$27/$F$27)+IF(OR($F$28=\"\",ISBLANK($F$28)),0,$G$28/$F$28)\n+IF(OR($F$29=\"\",ISBLANK($F$29)),0,$G$29/$F$29)+IF(OR($F$30=\"\",ISBLANK($F$30)),0,$G$30/$F$30)\n+IF(OR($F$31=\"\",ISBLANK($F$31)),0,$G$31/$F$31)+IF(OR($F$32=\"\",ISBLANK($F$32)),0,$G$32/$F$32)\n+IF(OR($F$33=\"\",ISBLANK($F$33)),0,$G$33/$F$33)+IF(OR($F$34=\"\",ISBLANK($F$34)),0,$G$34/$F$34))/1000000*$G10*VLOOKUP($F10,EnvProfiler,AB$3,FALSE))","v":{"$error":"#N/A"}},{"$error":"#N/A"},{"$error":"#N/A"},{"$error":"#N/A"},{"$error":"#N/A"},{"$error":"#N/A"},{"$error":"#N/A"},{"$error":"#N/A"},{"$error":"#N/A"},{"$error":"#N/A"},{"$f":"IF(OR($F10=\"\",ISBLANK($F10)),0,(Mass_product1\n+IF(OR($F$25=\"\",ISBLANK($F$25)),0,$G$25/$F$25)+IF(OR($F$26=\"\",ISBLANK($F$26)),0,$G$26/$F$26)\n+IF(OR($F$27=\"\",ISBLANK($F$27)),0,$G$27/$F$27)+IF(OR($F$28=\"\",ISBLANK($F$28)),0,$G$28/$F$28)\n+IF(OR($F$29=\"\",ISBLANK($F$29)),0,$G$29/$F$29)+IF(OR($F$30=\"\",ISBLANK($F$30)),0,$G$30/$F$30)\n+IF(OR($F$31=\"\",ISBLANK($F$31)),0,$G$31/$F$31)+IF(OR($F$32=\"\",ISBLANK($F$32)),0,$G$32/$F$32)\n+IF(OR($F$33=\"\",ISBLANK($F$33)),0,$G$33/$F$33)+IF(OR($F$34=\"\",ISBLANK($F$34)),0,$G$34/$F$34))/1000000*$G10*VLOOKUP($F10,EnvProfiler,AL$3,FALSE))","v":{"$error":"#N/A"}},{"$error":"#N/A"},{"$error":"#N/A"},{"$error":"#N/A"},{"$error":"#N/A"},{"$error":"#N/A"},{"$error":"#N/A"},{"$error":"#N/A"},{"$error":"#N/A"},{"$error":"#N/A"},{"$f":"IF(OR($F10=\"\",ISBLANK($F10)),0,(Mass_product1\n+IF(OR($F$25=\"\",ISBLANK($F$25)),0,$G$25/$F$25)+IF(OR($F$26=\"\",ISBLANK($F$26)),0,$G$26/$F$26)\n+IF(OR($F$27=\"\",ISBLANK($F$27)),0,$G$27/$F$27)+IF(OR($F$28=\"\",ISBLANK($F$28)),0,$G$28/$F$28)\n+IF(OR($F$29=\"\",ISBLANK($F$29)),0,$G$29/$F$29)+IF(OR($F$30=\"\",ISBLANK($F$30)),0,$G$30/$F$30)\n+IF(OR($F$31=\"\",ISBLANK($F$31)),0,$G$31/$F$31)+IF(OR($F$32=\"\",ISBLANK($F$32)),0,$G$32/$F$32)\n+IF(OR($F$33=\"\",ISBLANK($F$33)),0,$G$33/$F$33)+IF(OR($F$34=\"\",ISBLANK($F$34)),0,$G$34/$F$34))/1000000*$G10*VLOOKUP($F10,EnvProfiler,AV$3,FALSE))","v":{"$error":"#N/A"}},{"$error":"#N/A"},{"$error":"#N/A"},{"$error":"#N/A"},{"$error":"#N/A"},{"$error":"#N/A"},{"$error":"#N/A"},{"$error":"#N/A"},{"$error":"#N/A"},null,null,null,{"$f":"IF(OR($J10=\"\",ISBLANK($J10)),0,(Mass_product2\n+IF(OR($F$25=\"\",ISBLANK($J$25)),0,$K$25/$J$25)+IF(OR($F$26=\"\",ISBLANK($J$26)),0,$K$26/$J$26)\n+IF(OR($F$27=\"\",ISBLANK($J$27)),0,$K$27/$J$27)+IF(OR($F$29=\"\",ISBLANK($J$28)),0,$K$28/$J$28)\n+IF(OR($F$29=\"\",ISBLANK($J$29)),0,$K$29/$J$29)+IF(OR($F$30=\"\",ISBLANK($J$30)),0,$K$30/$J$30)\n+IF(OR($F$31=\"\",ISBLANK($J$31)),0,$K$31/$J$31)+IF(OR($F$32=\"\",ISBLANK($J$32)),0,$K$32/$J$32)\n+IF(OR($F$33=\"\",ISBLANK($J$33)),0,$K$33/$J$33)+IF(OR($F$34=\"\",ISBLANK($J$34)),0,$K$34/$J$34))/1000000*$K10*VLOOKUP($J10,EnvProfiler,BH$3,FALSE))","v":{"$error":"#N/A"}},{"$error":"#N/A"},{"$error":"#N/A"},{"$error":"#N/A"},{"$error":"#N/A"},{"$error":"#N/A"},{"$error":"#N/A"},{"$error":"#N/A"},{"$error":"#N/A"},{"$error":"#N/A"},{"$f":"IF(OR($J10=\"\",ISBLANK($J10)),0,(Mass_product2\n+IF(OR($F$25=\"\",ISBLANK($J$25)),0,$K$25/$J$25)+IF(OR($F$26=\"\",ISBLANK($J$26)),0,$K$26/$J$26)\n+IF(OR($F$27=\"\",ISBLANK($J$27)),0,$K$27/$J$27)+IF(OR($F$29=\"\",ISBLANK($J$28)),0,$K$28/$J$28)\n+IF(OR($F$29=\"\",ISBLANK($J$29)),0,$K$29/$J$29)+IF(OR($F$30=\"\",ISBLANK($J$30)),0,$K$30/$J$30)\n+IF(OR($F$31=\"\",ISBLANK($J$31)),0,$K$31/$J$31)+IF(OR($F$32=\"\",ISBLANK($J$32)),0,$K$32/$J$32)\n+IF(OR($F$33=\"\",ISBLANK($J$33)),0,$K$33/$J$33)+IF(OR($F$34=\"\",ISBLANK($J$34)),0,$K$34/$J$34))/1000000*$K10*VLOOKUP($J10,EnvProfiler,BR$3,FALSE))","v":{"$error":"#N/A"}},{"$error":"#N/A"},{"$error":"#N/A"},{"$error":"#N/A"},{"$error":"#N/A"},{"$error":"#N/A"},{"$error":"#N/A"},{"$error":"#N/A"},{"$error":"#N/A"},{"$error":"#N/A"},{"$f":"IF(OR($J10=\"\",ISBLANK($J10)),0,(Mass_product2\n+IF(OR($F$25=\"\",ISBLANK($J$25)),0,$K$25/$J$25)+IF(OR($F$26=\"\",ISBLANK($J$26)),0,$K$26/$J$26)\n+IF(OR($F$27=\"\",ISBLANK($J$27)),0,$K$27/$J$27)+IF(OR($F$29=\"\",ISBLANK($J$28)),0,$K$28/$J$28)\n+IF(OR($F$29=\"\",ISBLANK($J$29)),0,$K$29/$J$29)+IF(OR($F$30=\"\",ISBLANK($J$30)),0,$K$30/$J$30)\n+IF(OR($F$31=\"\",ISBLANK($J$31)),0,$K$31/$J$31)+IF(OR($F$32=\"\",ISBLANK($J$32)),0,$K$32/$J$32)\n+IF(OR($F$33=\"\",ISBLANK($J$33)),0,$K$33/$J$33)+IF(OR($F$34=\"\",ISBLANK($J$34)),0,$K$34/$J$34))/1000000*$K10*VLOOKUP($J10,EnvProfiler,CB$3,FALSE))","v":{"$error":"#N/A"}},{"$error":"#N/A"},{"$error":"#N/A"},{"$error":"#N/A"},{"$error":"#N/A"},{"$error":"#N/A"},{"$error":"#N/A"},{"$error":"#N/A"},{"$error":"#N/A"}]
[null,null,null,null,{"$error":"#N/A"},{"$error":"#N/A"},{"$error":"#N/A"},null,{"$error":"#N/A"},{"$error":"#N/A"},{"$error":"#N/A"},null,null,null,null,null,null,null,null,null,null,null,null,null,null,null,null,{"$error":"#N/A"},{"$error":"#N/A"},{"$error":"#N/A"},{"$error":"#N/A"},{"$error":"#N/A"},{"$error":"#N/A"},{"$error":"#N/A"},{"$error":"#N/A"},{"$error":"#N/A"},{"$error":"#N/A"},{"$error":"#N/A"},{"$error":"#N/A"},{"$error":"#N/A"},{"$error":"#N/A"},{"$error":"#N/A"},{"$error":"#N/A"},{"$error":"#N/A"},{"$error":"#N/A"},{"$error":"#N/A"},{"$error":"#N/A"},{"$error":"#N/A"},{"$error":"#N/A"},{"$error":"#N/A"},{"$error":"#N/A"},{"$error":"#N/A"},{"$error":"#N/A"},{"$error":"#N/A"},{"$error":"#N/A"},{"$error":"#N/A"},null,null,null,{"$error":"#N/A"},{"$error":"#N/A"},{"$error":"#N/A"},{"$error":"#N/A"},{"$error":"#N/A"},{"$error":"#N/A"},{"$error":"#N/A"},{"$error":"#N/A"},{"$error":"#N/A"},{"$error":"#N/A"},{"$error":"#N/A"},{"$error":"#N/A"},{"$error":"#N/A"},{"$error":"#N/A"},{"$error":"#N/A"},{"$error":"#N/A"},{"$error":"#N/A"},{"$error":"#N/A"},{"$error":"#N/A"},{"$error":"#N/A"},{"$error":"#N/A"},{"$error":"#N/A"},{"$error":"#N/A"},{"$error":"#N/A"},{"$error":"#N/A"},{"$error":"#N/A"},{"$error":"#N/A"},{"$error":"#N/A"},{"$error":"#N/A"}]
[null,null,null,null,{"$error":"#N/A"},{"$error":"#N/A"},{"$error":"#N/A"},null,{"$error":"#N/A"},{"$error":"#N/A"},{"$error":"#N/A"},null,null,null,null,null,null,null,null,null,null,null,null,null,null,null,null,{"$error":"#N/A"},{"$error":"#N/A"},{"$error":"#N/A"},{"$error":"#N/A"},{"$error":"#N/A"},{"$error":"#N/A"},{"$error":"#N/A"},{"$error":"#N/A"},{"$error":"#N/A"},{"$error":"#N/A"},{"$error":"#N/A"},{"$error":"#N/A"},{"$error":"#N/A"},{"$error":"#N/A"},{"$error":"#N/A"},{"$error":"#N/A"},{"$error":"#N/A"},{"$error":"#N/A"},{"$error":"#N/A"},{"$error":"#N/A"},{"$error":"#N/A"},{"$error":"#N/A"},{"$error":"#N/A"},{"$error":"#N/A"},{"$error":"#N/A"},{"$error":"#N/A"},{"$error":"#N/A"},{"$error":"#N/A"},{"$error":"#N/A"},null,null,null,{"$error":"#N/A"},{"$error":"#N/A"},{"$error":"#N/A"},{"$error":"#N/A"},{"$error":"#N/A"},{"$error":"#N/A"},{"$error":"#N/A"},{"$error":"#N/A"},{"$error":"#N/A"},{"$error":"#N/A"},{"$error":"#N/A"},{"$error":"#N/A"},{"$error":"#N/A"},{"$error":"#N/A"},{"$error":"#N/A"},{"$error":"#N/A"},{"$error":"#N/A"},{"$error":"#N/A"},{"$error":"#N/A"},{"$error":"#N/A"},{"$error":"#N/A"},{"$error":"#N/A"},{"$error":"#N/A"},{"$error":"#N/A"},{"$error":"#N/A"},{"$error":"#N/A"},{"$error":"#N/A"},{"$error":"#N/A"},{"$error":"#N/A"}]
[null,null,null,null,{"$error":"#N/A"},{"$error":"#N/A"},{"$error":"#N/A"},null,{"$error":"#N/A"},{"$error":"#N/A"},{"$error":"#N/A"},null,null,null,null,null,null,null,null,null,null,null,null,null,null,null,null,{"$error":"#N/A"},{"$error":"#N/A"},{"$error":"#N/A"},{"$error":"#N/A"},{"$error":"#N/A"},{"$error":"#N/A"},{"$error":"#N/A"},{"$error":"#N/A"},{"$error":"#N/A"},{"$error":"#N/A"},{"$error":"#N/A"},{"$error":"#N/A"},{"$error":"#N/A"},{"$error":"#N/A"},{"$error":"#N/A"},{"$error":"#N/A"},{"$error":"#N/A"},{"$error":"#N/A"},{"$error":"#N/A"},{"$error":"#N/A"},{"$error":"#N/A"},{"$error":"#N/A"},{"$error":"#N/A"},{"$error":"#N/A"},{"$error":"#N/A"},{"$error":"#N/A"},{"$error":"#N/A"},{"$error":"#N/A"},{"$error":"#N/A"},null,null,null,{"$error":"#N/A"},{"$error":"#N/A"},{"$error":"#N/A"},{"$error":"#N/A"},{"$error":"#N/A"},{"$error":"#N/A"},{"$error":"#N/A"},{"$error":"#N/A"},{"$error":"#N/A"},{"$error":"#N/A"},{"$error":"#N/A"},{"$error":"#N/A"},{"$error":"#N/A"},{"$error":"#N/A"},{"$error":"#N/A"},{"$error":"#N/A"},{"$error":"#N/A"},{"$error":"#N/A"},{"$error":"#N/A"},{"$error":"#N/A"},{"$error":"#N/A"},{"$error":"#N/A"},{"$error":"#N/A"},{"$error":"#N/A"},{"$error":"#N/A"},{"$error":"#N/A"},{"$error":"#N/A"},{"$error":"#N/A"},{"$error":"#N/A"}]
[null,null,null,null,{"$error":"#N/A"},{"$error":"#N/A"},{"$error":"#N/A"},null,{"$error":"#N/A"},{"$error":"#N/A"},{"$error":"#N/A"},null,null,null,null,null,null,null,null,null,null,null,null,null,null,null,null,{"$error":"#N/A"},{"$error":"#N/A"},{"$error":"#N/A"},{"$error":"#N/A"},{"$error":"#N/A"},{"$error":"#N/A"},{"$error":"#N/A"},{"$error":"#N/A"},{"$error":"#N/A"},{"$error":"#N/A"},{"$error":"#N/A"},{"$error":"#N/A"},{"$error":"#N/A"},{"$error":"#N/A"},{"$error":"#N/A"},{"$error":"#N/A"},{"$error":"#N/A"},{"$error":"#N/A"},{"$error":"#N/A"},{"$error":"#N/A"},{"$error":"#N/A"},{"$error":"#N/A"},{"$error":"#N/A"},{"$error":"#N/A"},{"$error":"#N/A"},{"$error":"#N/A"},{"$error":"#N/A"},{"$error":"#N/A"},{"$error":"#N/A"},null,null,null,{"$error":"#N/A"},{"$error":"#N/A"},{"$error":"#N/A"},{"$error":"#N/A"},{"$error":"#N/A"},{"$error":"#N/A"},{"$error":"#N/A"},{"$error":"#N/A"},{"$error":"#N/A"},{"$error":"#N/A"},{"$error":"#N/A"},{"$error":"#N/A"},{"$error":"#N/A"},{"$error":"#N/A"},{"$error":"#N/A"},{"$error":"#N/A"},{"$error":"#N/A"},{"$error":"#N/A"},{"$error":"#N/A"},{"$error":"#N/A"},{"$error":"#N/A"},{"$error":"#N/A"},{"$error":"#N/A"},{"$error":"#N/A"},{"$error":"#N/A"},{"$error":"#N/A"},{"$error":"#N/A"},{"$error":"#N/A"},{"$error":"#N/A"}]
[null,null,null,null,{"$error":"#N/A"},{"$error":"#N/A"},{"$error":"#N/A"},null,{"$error":"#N/A"},{"$error":"#N/A"},{"$error":"#N/A"},null,null,null,null,null,null,null,null,null,null,null,null,null,null,null,null,{"$error":"#N/A"},{"$error":"#N/A"},{"$error":"#N/A"},{"$error":"#N/A"},{"$error":"#N/A"},{"$error":"#N/A"},{"$error":"#N/A"},{"$error":"#N/A"},{"$error":"#N/A"},{"$error":"#N/A"},{"$error":"#N/A"},{"$error":"#N/A"},{"$error":"#N/A"},{"$error":"#N/A"},{"$error":"#N/A"},{"$error":"#N/A"},{"$error":"#N/A"},{"$error":"#N/A"},{"$error":"#N/A"},{"$error":"#N/A"},{"$error":"#N/A"},{"$error":"#N/A"},{"$error":"#N/A"},{"$error":"#N/A"},{"$error":"#N/A"},{"$error":"#N/A"},{"$error":"#N/A"},{"$error":"#N/A"},{"$error":"#N/A"},null,null,null,{"$error":"#N/A"},{"$error":"#N/A"},{"$error":"#N/A"},{"$error":"#N/A"},{"$error":"#N/A"},{"$error":"#N/A"},{"$error":"#N/A"},{"$error":"#N/A"},{"$error":"#N/A"},{"$error":"#N/A"},{"$error":"#N/A"},{"$error":"#N/A"},{"$error":"#N/A"},{"$error":"#N/A"},{"$error":"#N/A"},{"$error":"#N/A"},{"$error":"#N/A"},{"$error":"#N/A"},{"$error":"#N/A"},{"$error":"#N/A"},{"$error":"#N/A"},{"$error":"#N/A"},{"$error":"#N/A"},{"$error":"#N/A"},{"$error":"#N/A"},{"$error":"#N/A"},{"$error":"#N/A"},{"$error":"#N/A"},{"$error":"#N/A"}]
[null,null,null,null,{"$error":"#N/A"},{"$error":"#N/A"},{"$error":"#N/A"},null,{"$error":"#N/A"},{"$error":"#N/A"},{"$error":"#N/A"},null,null,null,null,null,null,null,null,null,null,null,null,null,null,null,null,{"$error":"#N/A"},{"$error":"#N/A"},{"$error":"#N/A"},{"$error":"#N/A"},{"$error":"#N/A"},{"$error":"#N/A"},{"$error":"#N/A"},{"$error":"#N/A"},{"$error":"#N/A"},{"$error":"#N/A"},{"$error":"#N/A"},{"$error":"#N/A"},{"$error":"#N/A"},{"$error":"#N/A"},{"$error":"#N/A"},{"$error":"#N/A"},{"$error":"#N/A"},{"$error":"#N/A"},{"$error":"#N/A"},{"$error":"#N/A"},{"$error":"#N/A"},{"$error":"#N/A"},{"$error":"#N/A"},{"$error":"#N/A"},{"$error":"#N/A"},{"$error":"#N/A"},{"$error":"#N/A"},{"$error":"#N/A"},{"$error":"#N/A"},null,null,null,{"$error":"#N/A"},{"$error":"#N/A"},{"$error":"#N/A"},{"$error":"#N/A"},{"$error":"#N/A"},{"$error":"#N/A"},{"$error":"#N/A"},{"$error":"#N/A"},{"$error":"#N/A"},{"$error":"#N/A"},{"$error":"#N/A"},{"$error":"#N/A"},{"$error":"#N/A"},{"$error":"#N/A"},{"$error":"#N/A"},{"$error":"#N/A"},{"$error":"#N/A"},{"$error":"#N/A"},{"$error":"#N/A"},{"$error":"#N/A"},{"$error":"#N/A"},{"$error":"#N/A"},{"$error":"#N/A"},{"$error":"#N/A"},{"$error":"#N/A"},{"$error":"#N/A"},{"$error":"#N/A"},{"$error":"#N/A"},{"$error":"#N/A"}]
[null,null,null,null,{"$error":"#N/A"},{"$error":"#N/A"},{"$error":"#N/A"},null,{"$error":"#N/A"},{"$error":"#N/A"},{"$error":"#N/A"},null,null,null,null,null,null,null,null,null,null,null,null,null,null,null,null,{"$error":"#N/A"},{"$error":"#N/A"},{"$error":"#N/A"},{"$error":"#N/A"},{"$error":"#N/A"},{"$error":"#N/A"},{"$error":"#N/A"},{"$error":"#N/A"},{"$error":"#N/A"},{"$error":"#N/A"},{"$error":"#N/A"},{"$error":"#N/A"},{"$error":"#N/A"},{"$error":"#N/A"},{"$error":"#N/A"},{"$error":"#N/A"},{"$error":"#N/A"},{"$error":"#N/A"},{"$error":"#N/A"},{"$error":"#N/A"},{"$error":"#N/A"},{"$error":"#N/A"},{"$error":"#N/A"},{"$error":"#N/A"},{"$error":"#N/A"},{"$error":"#N/A"},{"$error":"#N/A"},{"$error":"#N/A"},{"$error":"#N/A"},null,null,null,{"$error":"#N/A"},{"$error":"#N/A"},{"$error":"#N/A"},{"$error":"#N/A"},{"$error":"#N/A"},{"$error":"#N/A"},{"$error":"#N/A"},{"$error":"#N/A"},{"$error":"#N/A"},{"$error":"#N/A"},{"$error":"#N/A"},{"$error":"#N/A"},{"$error":"#N/A"},{"$error":"#N/A"},{"$error":"#N/A"},{"$error":"#N/A"},{"$error":"#N/A"},{"$error":"#N/A"},{"$error":"#N/A"},{"$error":"#N/A"},{"$error":"#N/A"},{"$error":"#N/A"},{"$error":"#N/A"},{"$error":"#N/A"},{"$error":"#N/A"},{"$error":"#N/A"},{"$error":"#N/A"},{"$error":"#N/A"},{"$error":"#N/A"}]
[null,null,null,null,{"$error":"#N/A"},{"$error":"#N/A"},{"$error":"#N/A"},null,{"$error":"#N/A"},{"$error":"#N/A"},{"$error":"#N/A"},null,null,null,null,null,null,null,null,null,null,null,null,null,null,null,null,{"$error":"#N/A"},{"$error":"#N/A"},{"$error":"#N/A"},{"$error":"#N/A"},{"$error":"#N/A"},{"$error":"#N/A"},{"$error":"#N/A"},{"$error":"#N/A"},{"$error":"#N/A"},{"$error":"#N/A"},{"$error":"#N/A"},{"$error":"#N/A"},{"$error":"#N/A"},{"$error":"#N/A"},{"$error":"#N/A"},{"$error":"#N/A"},{"$error":"#N/A"},{"$error":"#N/A"},{"$error":"#N/A"},{"$error":"#N/A"},{"$error":"#N/A"},{"$error":"#N/A"},{"$error":"#N/A"},{"$error":"#N/A"},{"$error":"#N/A"},{"$error":"#N/A"},{"$error":"#N/A"},{"$error":"#N/A"},{"$error":"#N/A"},null,null,null,{"$error":"#N/A"},{"$error":"#N/A"},{"$error":"#N/A"},{"$error":"#N/A"},{"$error":"#N/A"},{"$error":"#N/A"},{"$error":"#N/A"},{"$error":"#N/A"},{"$error":"#N/A"},{"$error":"#N/A"},{"$error":"#N/A"},{"$error":"#N/A"},{"$error":"#N/A"},{"$error":"#N/A"},{"$error":"#N/A"},{"$error":"#N/A"},{"$error":"#N/A"},{"$error":"#N/A"},{"$error":"#N/A"},{"$error":"#N/A"},{"$error":"#N/A"},{"$error":"#N/A"},{"$error":"#N/A"},{"$error":"#N/A"},{"$error":"#N/A"},{"$error":"#N/A"},{"$error":"#N/A"},{"$error":"#N/A"},{"$error":"#N/A"}]
[null,null,null,null,{"$error":"#N/A"},{"$error":"#N/A"},{"$error":"#N/A"},null,{"$error":"#N/A"},{"$error":"#N/A"},{"$error":"#N/A"},null,null,null,null,null,null,null,null,null,null,null,null,null,null,null,null,{"$error":"#N/A"},{"$error":"#N/A"},{"$error":"#N/A"},{"$error":"#N/A"},{"$error":"#N/A"},{"$error":"#N/A"},{"$error":"#N/A"},{"$error":"#N/A"},{"$error":"#N/A"},{"$error":"#N/A"},{"$error":"#N/A"},{"$error":"#N/A"},{"$error":"#N/A"},{"$error":"#N/A"},{"$error":"#N/A"},{"$error":"#N/A"},{"$error":"#N/A"},{"$error":"#N/A"},{"$error":"#N/A"},{"$error":"#N/A"},{"$error":"#N/A"},{"$error":"#N/A"},{"$error":"#N/A"},{"$error":"#N/A"},{"$error":"#N/A"},{"$error":"#N/A"},{"$error":"#N/A"},{"$error":"#N/A"},{"$error":"#N/A"},null,null,null,{"$error":"#N/A"},{"$error":"#N/A"},{"$error":"#N/A"},{"$error":"#N/A"},{"$error":"#N/A"},{"$error":"#N/A"},{"$error":"#N/A"},{"$error":"#N/A"},{"$error":"#N/A"},{"$error":"#N/A"},{"$error":"#N/A"},{"$error":"#N/A"},{"$error":"#N/A"},{"$error":"#N/A"},{"$error":"#N/A"},{"$error":"#N/A"},{"$error":"#N/A"},{"$error":"#N/A"},{"$error":"#N/A"},{"$error":"#N/A"},{"$error":"#N/A"},{"$error":"#N/A"},{"$error":"#N/A"},{"$error":"#N/A"},{"$error":"#N/A"},{"$error":"#N/A"},{"$error":"#N/A"},{"$error":"#N/A"},{"$error":"#N/A"}]
[]
[]
[null,null,"Leveringspris pr. produkt",null,{"$error":"#N/A"},null,null,null,{"$error":"#N/A"},null,null,null,null,null,null,null,null,null,null,null,null,null,null,null,null,null,{"$f":"E22","v":{"$error":"#N/A"}},null,null,null,null,null,null,null,null,null,null,null,null,null,null,null,null,null,null,null,null,null,null,null,null,null,null,null,null,null,null,null,{"$f":"I22","v":{"$error":"#N/A"}}]
[null,null,"Specifikke transportudgifter hvis ikke inkluderet i indkøbspris"]
[null,null,"Emballage",null,"Materiale","Produkter pr. pakning","g-emballage pr. pakning",null,"Materiale","Produkter pr. pakning","g-emballage pr. pakning"]
[null,null,null,null,{"$error":"#N/A"},{"$error":"#N/A"},{"$error":"#N/A"},null,{"$error":"#N/A"},{"$error":"#N/A"},{"$error":"#N/A"},10,null,null,null,null,null,null,null,null,null,null,null,null,null,null,null,{"$f":"IF(OR(ISBLANK($E25),$E25=\"\",$F25=\"\",$G25=\"\",ISBLANK($F25),ISBLANK($G25)),0,$G25/$F25/1000*VLOOKUP($E25,EnvProfiler,AB$3,FALSE))","v":{"$error":"#N/A"}},{"$error":"#N/A"},{"$error":"#N/A"},{"$error":"#N/A"},{"$error":"#N/A"},{"$error":"#N/A"},{"$error":"#N/A"},{"$error":"#N/A"},{"$error":"#N/A"},{"$error":"#N/A"},{"$f":"IF(OR(ISBLANK($E25),$E25=\"\",$F25=\"\",$G25=\"\",ISBLANK($F25),ISBLANK($G25)),0,$G25/$F25/1000*VLOOKUP($E25,EnvProfiler,AL$3,FALSE))","v":{"$error":"#N/A"}},{"$error":"#N/A"},{"$error":"#N/A"},{"$error":"#N/A"},{"$error":"#N/A"},{"$error":"#N/A"},{"$error":"#N/A"},{"$error":"#N/A"},{"$error":"#N/A"},{"$error":"#N/A"},{"$f":"IF(OR(ISBLANK($E25),$E25=\"\",$F25=\"\",$G25=\"\",ISBLANK($F25),ISBLANK($G25)),0,$G25/$F25/1000*VLOOKUP($E25,EnvProfiler,AV$3,FALSE))","v":{"$error":"#N/A"}},{"$error":"#N/A"},{"$error":"#N/A"},{"$error":"#N/A"},{"$error":"#N/A"},{"$error":"#N/A"},{"$error":"#N/A"},{"$error":"#N/A"},{"$error":"#N/A"},null,null,null,{"$f":"IF(OR($I25=\"\",$J25=\"\",$K25=\"\",ISBLANK($I25),ISBLANK($J25),ISBLANK($K25)),0,$K25/$J25/1000*VLOOKUP($I25,EnvProfiler,BH$3,FALSE))","v":{"$error":"#N/A"}},{"$error":"#N/A"},{"$error":"#N/A"},{"$error":"#N/A"},{"$error":"#N/A"},{"$error":"#N/A"},{"$error":"#N/A"},{"$error":"#N/A"},{"$error":"#N/A"},{"$error":"#N/A"},{"$f":"IF(OR($I25=\"\",$J25=\"\",$K25=\"\",ISBLANK($I25),ISBLANK($J25),ISBLANK($K25)),0,$K25/$J25/1000*VLOOKUP($I25,EnvProfiler,BR$3,FALSE))","v":{"$error":"#N/A"}},{"$error":"#N/A"},{"$error":"#N/A"},{"$error":"#N/A"},{"$error":"#N/A"},{"$error":"#N/A"},{"$error":"#N/A"},{"$error":"#N/A"},{"$error":"#N/A"},{"$error":"#N/A"},{"$f":"IF(OR($I25=\"\",$J25=\"\",$K25=\"\",ISBLANK($I25),ISBLANK($J25),ISBLANK($K25)),0,$K25/$J25/1000*VLOOKUP($I25,EnvProfiler,CB$3,FALSE))","v":{"$error":"#N/A"}},{"$error":"#N/A"},{"$error":"#N/A"},{"$error":"#N/A"},{"$error":"#N/A"},{"$error":"#N/A"},{"$error":"#N/A"},{"$error":"#N/A"},{"$error":"#N/A"}]
[null,null,null,null,{"$error":"#N/A"},{"$error":"#N/A"},{"$error":"#N/A"},null,{"$error":"#N/A"},{"$error":"#N/A"},{"$error":"#N/A"},null,null,null,null,null,null,null,null,null,null,null,null,null,null,null,null,{"$error":"#N/A"},{"$error":"#N/A"},{"$error":"#N/A"},{"$error":"#N/A"},{"$error":"#N/A"},{"$error":"#N/A"},{"$error":"#N/A"},{"$error":"#N/A"},{"$error":"#N/A"},{"$error":"#N/A"},{"$error":"#N/A"},{"$error":"#N/A"},{"$error":"#N/A"},{"$error":"#N/A"},{"$error":"#N/A"},{"$error":"#N/A"},{"$error":"#N/A"},{"$error":"#N/A"},{"$error":"#N/A"},{"$error":"#N/A"},{"$error":"#N/A"},{"$error":"#N/A"},{"$error":"#N/A"},{"$error":"#N/A"},{"$error":"#N/A"},{"$error":"#N/A"},{"$error":"#N/A"},{"$error":"#N/A"},{"$error":"#N/A"},null,null,null,{"$error":"#N/A"},{"$error":"#N/A"},{"$error":"#N/A"},{"$error":"#N/A"},{"$error":"#N/A"},{"$error":"#N/A"},{"$error":"#N/A"},{"$error":"#N/A"},{"$error":"#N/A"},{"$error":"#N/A"},{"$error":"#N/A"},{"$error":"#N/A"},{"$error":"#N/A"},{"$error":"#N/A"},{"$error":"#N/A"},{"$error":"#N/A"},{"$error":"#N/A"},{"$error":"#N/A"},{"$error":"#N/A"},{"$error":"#N/A"},{"$error":"#N/A"},{"$error":"#N/A"},{"$error":"#N/A"},{"$error":"#N/A"},{"$error":"#N/A"},{"$error":"#N/A"},{"$error":"#N/A"},{"$error":"#N/A"},{"$error":"#N/A"}]
[null,null,null,null,{"$error":"#N/A"},{"$error":"#N/A"},{"$error":"#N/A"},null,{"$error":"#N/A"},{"$error":"#N/A"},{"$error":"#N/A"},null,null,null,null,null,null,null,null,null,null,null,null,null,null,null,null,{"$error":"#N/A"},{"$error":"#N/A"},{"$error":"#N/A"},{"$error":"#N/A"},{"$error":"#N/A"},{"$error":"#N/A"},{"$error":"#N/A"},{"$error":"#N/A"},{"$error":"#N/A"},{"$error":"#N/A"},{"$error":"#N/A"},{"$error":"#N/A"},{"$error":"#N/A"},{"$error":"#N/A"},{"$error":"#N/A"},{"$error":"#N/A"},{"$error":"#N/A"},{"$error":"#N/A"},{"$error":"#N/A"},{"$error":"#N/A"},{"$error":"#N/A"},{"$error":"#N/A"},{"$error":"#N/A"},{"$error":"#N/A"},{"$error":"#N/A"},{"$error":"#N/A"},{"$error":"#N/A"},{"$error":"#N/A"},{"$error":"#N/A"},null,null,null,{"$error":"#N/A"},{"$error":"#N/A"},{"$error":"#N/A"},{"$error":"#N/A"},{"$error":"#N/A"},{"$error":"#N/A"},{"$error":"#N/A"},{"$error":"#N/A"},{"$error":"#N/A"},{"$error":"#N/A"},{"$error":"#N/A"},{"$error":"#N/A"},{"$error":"#N/A"},{"$error":"#N/A"},{"$error":"#N/A"},{"$error":"#N/A"},{"$error":"#N/A"},{"$error":"#N/A"},{"$error":"#N/A"},{"$error":"#N/A"},{"$error":"#N/A"},{"$error":"#N/A"},{"$error":"#N/A"},{"$error":"#N/A"},{"$error":"#N/A"},{"$error":"#N/A"},{"$error":"#N/A"},{"$error":"#N/A"},{"$error":"#N/A"}]
[null,null,null,null,{"$error":"#N/A"},{"$error":"#N/A"},{"$error":"#N/A"},null,{"$error":"#N/A"},{"$error":"#N/A"},{"$error":"#N/A"},null,null,null,null,null,null,null,null,null,null,null,null,null,null,null,null,{"$error":"#N/A"},{"$error":"#N/A"},{"$error":"#N/A"},{"$error":"#N/A"},{"$error":"#N/A"},{"$error":"#N/A"},{"$error":"#N/A"},{"$error":"#N/A"},{"$error":"#N/A"},{"$error":"#N/A"},{"$error":"#N/A"},{"$error":"#N/A"},{"$error":"#N/A"},{"$error":"#N/A"},{"$error":"#N/A"},{"$error":"#N/A"},{"$error":"#N/A"},{"$error":"#N/A"},{"$error":"#N/A"},{"$error":"#N/A"},{"$error":"#N/A"},{"$error":"#N/A"},{"$error":"#N/A"},{"$error":"#N/A"},{"$error":"#N/A"},{"$error":"#N/A"},{"$error":"#N/A"},{"$error":"#N/A"},{"$error":"#N/A"},null,null,null,{"$error":"#N/A"},{"$error":"#N/A"},{"$error":"#N/A"},{"$error":"#N/A"},{"$error":"#N/A"},{"$error":"#N/A"},{"$error":"#N/A"},{"$error":"#N/A"},{"$error":"#N/A"},{"$error":"#N/A"},{"$error":"#N/A"},{"$error":"#N/A"},{"$error":"#N/A"},{"$error":"#N/A"},{"$error":"#N/A"},{"$error":"#N/A"},{"$error":"#N/A"},{"$error":"#N/A"},{"$error":"#N/A"},{"$error":"#N/A"},{"$error":"#N/A"},{"$error":"#N/A"},{"$error":"#N/A"},{"$error":"#N/A"},{"$error":"#N/A"},{"$error":"#N/A"},{"$error":"#N/A"},{"$error":"#N/A"},{"$error":"#N/A"}]
[null,null,null,null,{"$error":"#N/A"},{"$error":"#N/A"},{"$error":"#N/A"},null,{"$error":"#N/A"},{"$error":"#N/A"},{"$error":"#N/A"},null,null,null,null,null,null,null,null,null,null,null,null,null,null,null,null,{"$error":"#N/A"},{"$error":"#N/A"},{"$error":"#N/A"},{"$error":"#N/A"},{"$error":"#N/A"},{"$error":"#N/A"},{"$error":"#N/A"},{"$error":"#N/A"},{"$error":"#N/A"},{"$error":"#N/A"},{"$error":"#N/A"},{"$error":"#N/A"},{"$error":"#N/A"},{"$error":"#N/A"},{"$error":"#N/A"},{"$error":"#N/A"},{"$error":"#N/A"},{"$error":"#N/A"},{"$error":"#N/A"},{"$error":"#N/A"},{"$error":"#N/A"},{"$error":"#N/A"},{"$error":"#N/A"},{"$error":"#N/A"},{"$error":"#N/A"},{"$error":"#N/A"},{"$error":"#N/A"},{"$error":"#N/A"},{"$error":"#N/A"},null,null,null,{"$error":"#N/A"},{"$error":"#N/A"},{"$error":"#N/A"},{"$error":"#N/A"},{"$error":"#N/A"},{"$error":"#N/A"},{"$error":"#N/A"},{"$error":"#N/A"},{"$error":"#N/A"},{"$error":"#N/A"},{"$error":"#N/A"},{"$error":"#N/A"},{"$error":"#N/A"},{"$error":"#N/A"},{"$error":"#N/A"},{"$error":"#N/A"},{"$error":"#N/A"},{"$error":"#N/A"},{"$error":"#N/A"},{"$error":"#N/A"},{"$error":"#N/A"},{"$error":"#N/A"},{"$error":"#N/A"},{"$error":"#N/A"},{"$error":"#N/A"},{"$error":"#N/A"},{"$error":"#N/A"},{"$error":"#N/A"},{"$error":"#N/A"}]
[null,null,null,null,{"$error":"#N/A"},{"$error":"#N/A"},{"$error":"#N/A"},null,{"$error":"#N/A"},{"$error":"#N/A"},{"$error":"#N/A"},null,null,null,null,null,null,null,null,null,null,null,null,null,null,null,null,{"$error":"#N/A"},{"$error":"#N/A"},{"$error":"#N/A"},{"$error":"#N/A"},{"$error":"#N/A"},{"$error":"#N/A"},{"$error":"#N/A"},{"$error":"#N/A"},{"$error":"#N/A"},{"$error":"#N/A"},{"$error":"#N/A"},{"$error":"#N/A"},{"$error":"#N/A"},{"$error":"#N/A"},{"$error":"#N/A"},{"$error":"#N/A"},{"$error":"#N/A"},{"$error":"#N/A"},{"$error":"#N/A"},{"$error":"#N/A"},{"$error":"#N/A"},{"$error":"#N/A"},{"$error":"#N/A"},{"$error":"#N/A"},{"$error":"#N/A"},{"$error":"#N/A"},{"$error":"#N/A"},{"$error":"#N/A"},{"$error":"#N/A"},null,null,null,{"$error":"#N/A"},{"$error":"#N/A"},{"$error":"#N/A"},{"$error":"#N/A"},{"$error":"#N/A"},{"$error":"#N/A"},{"$error":"#N/A"},{"$error":"#N/A"},{"$error":"#N/A"},{"$error":"#N/A"},{"$error":"#N/A"},{"$error":"#N/A"},{"$error":"#N/A"},{"$error":"#N/A"},{"$error":"#N/A"},{"$error":"#N/A"},{"$error":"#N/A"},{"$error":"#N/A"},{"$error":"#N/A"},{"$error":"#N/A"},{"$error":"#N/A"},{"$error":"#N/A"},{"$error":"#N/A"},{"$error":"#N/A"},{"$error":"#N/A"},{"$error":"#N/A"},{"$error":"#N/A"},{"$error":"#N/A"},{"$error":"#N/A"}]
[null,null,null,null,{"$error":"#N/A"},{"$error":"#N/A"},{"$error":"#N/A"},null,{"$error":"#N/A"},{"$error":"#N/A"},{"$error":"#N/A"},null,null,null,null,null,null,null,null,null,null,null,null,null,null,null,null,{"$error":"#N/A"},{"$error":"#N/A"},{"$error":"#N/A"},{"$error":"#N/A"},{"$error":"#N/A"},{"$error":"#N/A"},{"$error":"#N/A"},{"$error":"#N/A"},{"$error":"#N/A"},{"$error":"#N/A"},{"$error":"#N/A"},{"$error":"#N/A"},{"$error":"#N/A"},{"$error":"#N/A"},{"$error":"#N/A"},{"$error":"#N/A"},{"$error":"#N/A"},{"$error":"#N/A"},{"$error":"#N/A"},{"$error":"#N/A"},{"$error":"#N/A"},{"$error":"#N/A"},{"$error":"#N/A"},{"$error":"#N/A"},{"$error":"#N/A"},{"$error":"#N/A"},{"$error":"#N/A"},{"$error":"#N/A"},{"$error":"#N/A"},null,null,null,{"$error":"#N/A"},{"$error":"#N/A"},{"$error":"#N/A"},{"$error":"#N/A"},{"$error":"#N/A"},{"$error":"#N/A"},{"$error":"#N/A"},{"$error":"#N/A"},{"$error":"#N/A"},{"$error":"#N/A"},{"$error":"#N/A"},{"$error":"#N/A"},{"$error":"#N/A"},{"$error":"#N/A"},{"$error":"#N/A"},{"$error":"#N/A"},{"$error":"#N/A"},{"$error":"#N/A"},{"$error":"#N/A"},{"$error":"#N/A"},{"$error":"#N/A"},{"$error":"#N/A"},{"$error":"#N/A"},{"$error":"#N/A"},{"$error":"#N/A"},{"$error":"#N/A"},{"$error":"#N/A"},{"$error":"#N/A"},{"$error":"#N/A"}]
[null,null,null,null,{"$error":"#N/A"},{"$error":"#N/A"},{"$error":"#N/A"},null,{"$error":"#N/A"},{"$error":"#N/A"},{"$error":"#N/A"},null,null,null,null,null,null,null,null,null,null,null,null,null,null,null,null,{"$error":"#N/A"},{"$error":"#N/A"},{"$error":"#N/A"},{"$error":"#N/A"},{"$error":"#N/A"},{"$error":"#N/A"},{"$error":"#N/A"},{"$error":"#N/A"},{"$error":"#N/A"},{"$error":"#N/A"},{"$error":"#N/A"},{"$error":"#N/A"},{"$error":"#N/A"},{"$error":"#N/A"},{"$error":"#N/A"},{"$error":"#N/A"},{"$error":"#N/A"},{"$error":"#N/A"},{"$error":"#N/A"},{"$error":"#N/A"},{"$error":"#N/A"},{"$error":"#N/A"},{"$error":"#N/A"},{"$error":"#N/A"},{"$error":"#N/A"},{"$error":"#N/A"},{"$error":"#N/A"},{"$error":"#N/A"},{"$error":"#N/A"},null,null,null,{"$error":"#N/A"},{"$error":"#N/A"},{"$error":"#N/A"},{"$error":"#N/A"},{"$error":"#N/A"},{"$error":"#N/A"},{"$error":"#N/A"},{"$error":"#N/A"},{"$error":"#N/A"},{"$error":"#N/A"},{"$error":"#N/A"},{"$error":"#N/A"},{"$error":"#N/A"},{"$error":"#N/A"},{"$error":"#N/A"},{"$error":"#N/A"},{"$error":"#N/A"},{"$error":"#N/A"},{"$error":"#N/A"},{"$error":"#N/A"},{"$error":"#N/A"},{"$error":"#N/A"},{"$error":"#N/A"},{"$error":"#N/A"},{"$error":"#N/A"},{"$error":"#N/A"},{"$error":"#N/A"},{"$error":"#N/A"},{"$error":"#N/A"}]
[null,null,null,null,{"$error":"#N/A"},{"$error":"#N/A"},{"$error":"#N/A"},null,{"$error":"#N/A"},{"$error":"#N/A"},{"$error":"#N/A"},null,null,null,null,null,null,null,null,null,null,null,null,null,null,null,null,{"$error":"#N/A"},{"$error":"#N/A"},{"$error":"#N/A"},{"$error":"#N/A"},{"$error":"#N/A"},{"$error":"#N/A"},{"$error":"#N/A"},{"$error":"#N/A"},{"$error":"#N/A"},{"$error":"#N/A"},{"$error":"#N/A"},{"$error":"#N/A"},{"$error":"#N/A"},{"$error":"#N/A"},{"$error":"#N/A"},{"$error":"#N/A"},{"$error":"#N/A"},{"$error":"#N/A"},{"$error":"#N/A"},{"$error":"#N/A"},{"$error":"#N/A"},{"$error":"#N/A"},{"$error":"#N/A"},{"$error":"#N/A"},{"$error":"#N/A"},{"$error":"#N/A"},{"$error":"#N/A"},{"$error":"#N/A"},{"$error":"#N/A"},null,null,null,{"$error":"#N/A"},{"$error":"#N/A"},{"$error":"#N/A"},{"$error":"#N/A"},{"$error":"#N/A"},{"$error":"#N/A"},{"$error":"#N/A"},{"$error":"#N/A"},{"$error":"#N/A"},{"$error":"#N/A"},{"$error":"#N/A"},{"$error":"#N/A"},{"$error":"#N/A"},{"$error":"#N/A"},{"$error":"#N/A"},{"$error":"#N/A"},{"$error":"#N/A"},{"$error":"#N/A"},{"$error":"#N/A"},{"$error":"#N/A"},{"$error":"#N/A"},{"$error":"#N/A"},{"$error":"#N/A"},{"$error":"#N/A"},{"$error":"#N/A"},{"$error":"#N/A"},{"$error":"#N/A"},{"$error":"#N/A"},{"$error":"#N/A"}]
[null,null,null,null,{"$error":"#N/A"},{"$error":"#N/A"},{"$error":"#N/A"},null,{"$error":"#N/A"},{"$error":"#N/A"},{"$error":"#N/A"},null,null,null,null,null,null,null,null,null,null,null,null,null,null,null,null,{"$error":"#N/A"},{"$error":"#N/A"},{"$error":"#N/A"},{"$error":"#N/A"},{"$error":"#N/A"},{"$error":"#N/A"},{"$error":"#N/A"},{"$error":"#N/A"},{"$error":"#N/A"},{"$error":"#N/A"},{"$error":"#N/A"},{"$error":"#N/A"},{"$error":"#N/A"},{"$error":"#N/A"},{"$error":"#N/A"},{"$error":"#N/A"},{"$error":"#N/A"},{"$error":"#N/A"},{"$error":"#N/A"},{"$error":"#N/A"},{"$error":"#N/A"},{"$error":"#N/A"},{"$error":"#N/A"},{"$error":"#N/A"},{"$error":"#N/A"},{"$error":"#N/A"},{"$error":"#N/A"},{"$error":"#N/A"},{"$error":"#N/A"},null,null,null,{"$error":"#N/A"},{"$error":"#N/A"},{"$error":"#N/A"},{"$error":"#N/A"},{"$error":"#N/A"},{"$error":"#N/A"},{"$error":"#N/A"},{"$error":"#N/A"},{"$error":"#N/A"},{"$error":"#N/A"},{"$error":"#N/A"},{"$error":"#N/A"},{"$error":"#N/A"},{"$error":"#N/A"},{"$error":"#N/A"},{"$error":"#N/A"},{"$error":"#N/A"},{"$error":"#N/A"},{"$error":"#N/A"},{"$error":"#N/A"},{"$error":"#N/A"},{"$error":"#N/A"},{"$error":"#N/A"},{"$error":"#N/A"},{"$error":"#N/A"},{"$error":"#N/A"},{"$error":"#N/A"},{"$error":"#N/A"},{"$error":"#N/A"}]
[]
[]
[]
[]
[null,null,"Intern logistik før første brug (egne transportmidler og ansatte)"]
[null,null,"Transport fra levering af produktet indtil det er klar til første brug"]
[null,null,null,null,{"$f":"Name_product1","v":0},null,null,null,{"$f":"Name_product2","v":0}]
[]
[null,null,null,null,"Egen husketekst","Transportmiddel","Afstand",null,"Egen husketekst","Transportmiddel","Afstand"]
[null,null,"Transportform og distance",null,{"$error":"#N/A"},{"$error":"#N/A"},{"$error":"#N/A"},null,{"$error":"#N/A"},{"$error":"#N/A"},{"$error":"#N/A"},10,null,null,null,null,null,null,null,null,null,null,null,null,null,null,{"$f":"IF(OR(F44=\"\",ISBLANK(F44)),0,$F$154*G44*Mass_product1/1000000)","v":{"$error":"#N/A"}},{"$f":"IF(OR($F44=\"\",ISBLANK($F44)),0,(Mass_product1\n+IF(OR($F$58=\"\",ISBLANK($F$58)),0,$G$58/$F$58)+IF(OR($F$59=\"\",ISBLANK($F$59)),0,$G$59/$F$59)\n+IF(OR($F$60=\"\",ISBLANK($F$60)),0,$G$60/$F$60)+IF(OR($F$61=\"\",ISBLANK($F$61)),0,$G$61/$F$61)\n+IF(OR($F$62=\"\",ISBLANK($F$62)),0,$G$62/$F$62)+IF(OR($F$63=\"\",ISBLANK($F$63)),0,$G$63/$F$63)\n+IF(OR($F$64=\"\",ISBLANK($F$64)),0,$G$64/$F$64)+IF(OR($F$65=\"\",ISBLANK($F$65)),0,$G$65/$F$65)\n+IF(OR($F$66=\"\",ISBLANK($F$66)),0,$G$66/$F$66)+IF(OR($F$67=\"\",ISBLANK($F$67)),0,$G$67/$F$67))/1000000*$G44*VLOOKUP($F44,EnvProfiler,AB$3,FALSE))","v":{"$error":"#N/A"}},{"$error":"#N/A"},{"$error":"#N/A"},{"$error":"#N/A"},{"$error":"#N/A"},{"$error":"#N/A"},{"$error":"#N/A"},{"$error":"#N/A"},{"$error":"#N/A"},{"$error":"#N/A"},{"$f":"IF(OR($F44=\"\",ISBLANK($F44)),0,(Mass_product1\n+IF(OR($F$58=\"\",ISBLANK($F$58)),0,$G$58/$F$58)+IF(OR($F$59=\"\",ISBLANK($F$59)),0,$G$59/$F$59)\n+IF(OR($F$60=\"\",ISBLANK($F$60)),0,$G$60/$F$60)+IF(OR($F$61=\"\",ISBLANK($F$61)),0,$G$61/$F$61)\n+IF(OR($F$62=\"\",ISBLANK($F$62)),0,$G$62/$F$62)+IF(OR($F$63=\"\",ISBLANK($F$63)),0,$G$63/$F$63)\n+IF(OR($F$64=\"\",ISBLANK($F$64)),0,$G$64/$F$64)+IF(OR($F$65=\"\",ISBLANK($F$65)),0,$G$65/$F$65)\n+IF(OR($F$66=\"\",ISBLANK($F$66)),0,$G$66/$F$66)+IF(OR($F$67=\"\",ISBLANK($F$67)),0,$G$67/$F$67))/1000000*$G44*VLOOKUP($F44,EnvProfiler,AL$3,FALSE))","v":{"$error":"#N/A"}},{"$error":"#N/A"},{"$error":"#N/A"},{"$error":"#N/A"},{"$error":"#N/A"},{"$error":"#N/A"},{"$error":"#N/A"},{"$error":"#N/A"},{"$error":"#N/A"},{"$error":"#N/A"},{"$f":"IF(OR($F44=\"\",ISBLANK($F44)),0,(Mass_product1\n+IF(OR($F$58=\"\",ISBLANK($F$58)),0,$G$58/$F$58)+IF(OR($F$59=\"\",ISBLANK($F$59)),0,$G$59/$F$59)\n+IF(OR($F$60=\"\",ISBLANK($F$60)),0,$G$60/$F$60)+IF(OR($F$61=\"\",ISBLANK($F$61)),0,$G$61/$F$61)\n+IF(OR($F$62=\"\",ISBLANK($F$62)),0,$G$62/$F$62)+IF(OR($F$63=\"\",ISBLANK($F$63)),0,$G$63/$F$63)\n+IF(OR($F$64=\"\",ISBLANK($F$64)),0,$G$64/$F$64)+IF(OR($F$65=\"\",ISBLANK($F$65)),0,$G$65/$F$65)\n+IF(OR($F$66=\"\",ISBLANK($F$66)),0,$G$66/$F$66)+IF(OR($F$67=\"\",ISBLANK($F$67)),0,$G$67/$F$67))/1000000*$G44*VLOOKUP($F44,EnvProfiler,AV$3,FALSE))","v":{"$error":"#N/A"}},{"$error":"#N/A"},{"$error":"#N/A"},{"$error":"#N/A"},{"$error":"#N/A"},{"$error":"#N/A"},{"$error":"#N/A"},{"$error":"#N/A"},{"$error":"#N/A"},null,null,{"$f":"IF(OR(J44=\"\",ISBLANK(J44)),0,$J$154*K44*Mass_product2/1000000)","v":{"$error":"#N/A"}},{"$f":"IF(OR($J44=\"\",ISBLANK($J44)),0,(Mass_product2\n+IF(OR($J$58=\"\",ISBLANK($J$58)),0,$K$58/$J$58)+IF(OR($J$59=\"\",ISBLANK($J$59)),0,$K$59/$J$59)\n+IF(OR($J$60=\"\",ISBLANK($J$60)),0,$K$60/$J$60)+IF(OR($J$61=\"\",ISBLANK($J$61)),0,$K$61/$J$61)\n+IF(OR($J$62=\"\",ISBLANK($J$62)),0,$K$62/$J$62)+IF(OR($J$63=\"\",ISBLANK($J$63)),0,$K$63/$J$63)\n+IF(OR($J$64=\"\",ISBLANK($J$64)),0,$K$64/$J$64)+IF(OR($J$65=\"\",ISBLANK($J$65)),0,$K$65/$J$65)\n+IF(OR($J$66=\"\",ISBLANK($J$66)),0,$K$66/$J$66)+IF(OR($J$67=\"\",ISBLANK($J$67)),0,$K$67/$J$67))/1000000*$K44*VLOOKUP($J44,EnvProfiler,BH$3,FALSE))","v":{"$error":"#N/A"}},{"$error":"#N/A"},{"$error":"#N/A"},{"$error":"#N/A"},{"$error":"#N/A"},{"$error":"#N/A"},{"$error":"#N/A"},{"$error":"#N/A"},{"$error":"#N/A"},{"$error":"#N/A"},{"$f":"IF(OR($J44=\"\",ISBLANK($J44)),0,(Mass_product2\n+IF(OR($J$58=\"\",ISBLANK($J$58)),0,$K$58/$J$58)+IF(OR($J$59=\"\",ISBLANK($J$59)),0,$K$59/$J$59)\n+IF(OR($J$60=\"\",ISBLANK($J$60)),0,$K$60/$J$60)+IF(OR($J$61=\"\",ISBLANK($J$61)),0,$K$61/$J$61)\n+IF(OR($J$62=\"\",ISBLANK($J$62)),0,$K$62/$J$62)+IF(OR($J$63=\"\",ISBLANK($J$63)),0,$K$63/$J$63)\n+IF(OR($J$64=\"\",ISBLANK($J$64)),0,$K$64/$J$64)+IF(OR($J$65=\"\",ISBLANK($J$65)),0,$K$65/$J$65)\n+IF(OR($J$66=\"\",ISBLANK($J$66)),0,$K$66/$J$66)+IF(OR($J$67=\"\",ISBLANK($J$67)),0,$K$67/$J$67))/1000000*$K44*VLOOKUP($J44,EnvProfiler,BR$3,FALSE))","v":{"$error":"#N/A"}},{"$error":"#N/A"},{"$error":"#N/A"},{"$error":"#N/A"},{"$error":"#N/A"},{"$error":"#N/A"},{"$error":"#N/A"},{"$error":"#N/A"},{"$error":"#N/A"},{"$error":"#N/A"},{"$f":"IF(OR($J44=\"\",ISBLANK($J44)),0,(Mass_product2\n+IF(OR($J$58=\"\",ISBLANK($J$58)),0,$K$58/$J$58)+IF(OR($J$59=\"\",ISBLANK($J$59)),0,$K$59/$J$59)\n+IF(OR($J$60=\"\",ISBLANK($J$60)),0,$K$60/$J$60)+IF(OR($J$61=\"\",ISBLANK($J$61)),0,$K$61/$J$61)\n+IF(OR($J$62=\"\",ISBLANK($J$62)),0,$K$62/$J$62)+IF(OR($J$63=\"\",ISBLANK($J$63)),0,$K$63/$J$63)\n+IF(OR($J$64=\"\",ISBLANK($J$64)),0,$K$64/$J$64)+IF(OR($J$65=\"\",ISBLANK($J$65)),0,$K$65/$J$65)\n+IF(OR($J$66=\"\",ISBLANK($J$66)),0,$K$66/$J$66)+IF(OR($J$67=\"\",ISBLANK($J$67)),0,$K$67/$J$67))/1000000*$K44*VLOOKUP($J44,EnvProfiler,CB$3,FALSE))","v":{"$error":"#N/A"}},{"$error":"#N/A"},{"$error":"#N/A"},{"$error":"#N/A"},{"$error":"#N/A"},{"$error":"#N/A"},{"$error":"#N/A"},{"$error":"#N/A"},{"$error":"#N/A"}]
[null,null,null,null,{"$error":"#N/A"},{"$error":"#N/A"},{"$error":"#N/A"},null,{"$error":"#N/A"},{"$error":"#N/A"},{"$error":"#N/A"},null,null,null,null,null,null,null,null,null,null,null,null,null,null,null,{"$error":"#N/A"},{"$error":"#N/A"},{"$error":"#N/A"},{"$error":"#N/A"},{"$error":"#N/A"},{"$error":"#N/A"},{"$error":"#N/A"},{"$error":"#N/A"},{"$error":"#N/A"},{"$error":"#N/A"},{"$error":"#N/A"},{"$error":"#N/A"},{"$error":"#N/A"},{"$error":"#N/A"},{"$error":"#N/A"},{"$error":"#N/A"},{"$error":"#N/A"},{"$error":"#N/A"},{"$error":"#N/A"},{"$error":"#N/A"},{"$error":"#N/A"},{"$error":"#N/A"},{"$error":"#N/A"},{"$error":"#N/A"},{"$error":"#N/A"},{"$error":"#N/A"},{"$error":"#N/A"},{"$error":"#N/A"},{"$error":"#N/A"},{"$error":"#N/A"},null,null,{"$error":"#N/A"},{"$error":"#N/A"},{"$error":"#N/A"},{"$error":"#N/A"},{"$error":"#N/A"},{"$error":"#N/A"},{"$error":"#N/A"},{"$error":"#N/A"},{"$error":"#N/A"},{"$error":"#N/A"},{"$error":"#N/A"},{"$error":"#N/A"},{"$error":"#N/A"},{"$error":"#N/A"},{"$error":"#N/A"},{"$error":"#N/A"},{"$error":"#N/A"},{"$error":"#N/A"},{"$error":"#N/A"},{"$error":"#N/A"},{"$error":"#N/A"},{"$error":"#N/A"},{"$error":"#N/A"},{"$error":"#N/A"},{"$error":"#N/A"},{"$error":"#N/A"},{"$error":"#N/A"},{"$error":"#N/A"},{"$error":"#N/A"},{"$error":"#N/A"}]
[null,null,null,null,{"$error":"#N/A"},{"$error":"#N/A"},{"$error":"#N/A"},null,{"$error":"#N/A"},{"$error":"#N/A"},{"$error":"#N/A"},null,null,null,null,null,null,null,null,null,null,null,null,null,null,null,{"$error":"#N/A"},{"$error":"#N/A"},{"$error":"#N/A"},{"$error":"#N/A"},{"$error":"#N/A"},{"$error":"#N/A"},{"$error":"#N/A"},{"$error":"#N/A"},{"$error":"#N/A"},{"$error":"#N/A"},{"$error":"#N/A"},{"$error":"#N/A"},{"$error":"#N/A"},{"$error":"#N/A"},{"$error":"#N/A"},{"$error":"#N/A"},{"$error":"#N/A"},{"$error":"#N/A"},{"$error":"#N/A"},{"$error":"#N/A"},{"$error":"#N/A"},{"$error":"#N/A"},{"$error":"#N/A"},{"$error":"#N/A"},{"$error":"#N/A"},{"$error":"#N/A"},{"$error":"#N/A"},{"$error":"#N/A"},{"$error":"#N/A"},{"$error":"#N/A"},null,null,{"$error":"#N/A"},{"$error":"#N/A"},{"$error":"#N/A"},{"$error":"#N/A"},{"$error":"#N/A"},{"$error":"#N/A"},{"$error":"#N/A"},{"$error":"#N/A"},{"$error":"#N/A"},{"$error":"#N/A"},{"$error":"#N/A"},{"$error":"#N/A"},{"$error":"#N/A"},{"$error":"#N/A"},{"$error":"#N/A"},{"$error":"#N/A"},{"$error":"#N/A"},{"$error":"#N/A"},{"$error":"#N/A"},{"$error":"#N/A"},{"$error":"#N/A"},{"$error":"#N/A"},{"$error":"#N/A"},{"$error":"#N/A"},{"$error":"#N/A"},{"$error":"#N/A"},{"$error":"#N/A"},{"$error":"#N/A"},{"$error":"#N/A"},{"$error":"#N/A"}]
[null,null,null,null,{"$error":"#N/A"},{"$error":"#N/A"},{"$error":"#N/A"},null,{"$error":"#N/A"},{"$error":"#N/A"},{"$error":"#N/A"},null,null,null,null,null,null,null,null,null,null,null,null,null,null,null,{"$error":"#N/A"},{"$error":"#N/A"},{"$error":"#N/A"},{"$error":"#N/A"},{"$error":"#N/A"},{"$error":"#N/A"},{"$error":"#N/A"},{"$error":"#N/A"},{"$error":"#N/A"},{"$error":"#N/A"},{"$error":"#N/A"},{"$error":"#N/A"},{"$error":"#N/A"},{"$error":"#N/A"},{"$error":"#N/A"},{"$error":"#N/A"},{"$error":"#N/A"},{"$error":"#N/A"},{"$error":"#N/A"},{"$error":"#N/A"},{"$error":"#N/A"},{"$error":"#N/A"},{"$error":"#N/A"},{"$error":"#N/A"},{"$error":"#N/A"},{"$error":"#N/A"},{"$error":"#N/A"},{"$error":"#N/A"},{"$error":"#N/A"},{"$error":"#N/A"},null,null,{"$error":"#N/A"},{"$error":"#N/A"},{"$error":"#N/A"},{"$error":"#N/A"},{"$error":"#N/A"},{"$error":"#N/A"},{"$error":"#N/A"},{"$error":"#N/A"},{"$error":"#N/A"},{"$error":"#N/A"},{"$error":"#N/A"},{"$error":"#N/A"},{"$error":"#N/A"},{"$error":"#N/A"},{"$error":"#N/A"},{"$error":"#N/A"},{"$error":"#N/A"},{"$error":"#N/A"},{"$error":"#N/A"},{"$error":"#N/A"},{"$error":"#N/A"},{"$error":"#N/A"},{"$error":"#N/A"},{"$error":"#N/A"},{"$error":"#N/A"},{"$error":"#N/A"},{"$error":"#N/A"},{"$error":"#N/A"},{"$error":"#N/A"},{"$error":"#N/A"}]
[null,null,null,null,{"$error":"#N/A"},{"$error":"#N/A"},{"$error":"#N/A"},null,{"$error":"#N/A"},{"$error":"#N/A"},{"$error":"#N/A"},null,null,null,null,null,null,null,null,null,null,null,null,null,null,null,{"$error":"#N/A"},{"$error":"#N/A"},{"$error":"#N/A"},{"$error":"#N/A"},{"$error":"#N/A"},{"$error":"#N/A"},{"$error":"#N/A"},{"$error":"#N/A"},{"$error":"#N/A"},{"$error":"#N/A"},{"$error":"#N/A"},{"$error":"#N/A"},{"$error":"#N/A"},{"$error":"#N/A"},{"$error":"#N/A"},{"$error":"#N/A"},{"$error":"#N/A"},{"$error":"#N/A"},{"$error":"#N/A"},{"$error":"#N/A"},{"$error":"#N/A"},{"$error":"#N/A"},{"$error":"#N/A"},{"$error":"#N/A"},{"$error":"#N/A"},{"$error":"#N/A"},{"$error":"#N/A"},{"$error":"#N/A"},{"$error":"#N/A"},{"$error":"#N/A"},null,null,{"$error":"#N/A"},{"$error":"#N/A"},{"$error":"#N/A"},{"$error":"#N/A"},{"$error":"#N/A"},{"$error":"#N/A"},{"$error":"#N/A"},{"$error":"#N/A"},{"$error":"#N/A"},{"$error":"#N/A"},{"$error":"#N/A"},{"$error":"#N/A"},{"$error":"#N/A"},{"$error":"#N/A"},{"$error":"#N/A"},{"$error":"#N/A"},{"$error":"#N/A"},{"$error":"#N/A"},{"$error":"#N/A"},{"$error":"#N/A"},{"$error":"#N/A"},{"$error":"#N/A"},{"$error":"#N/A"},{"$error":"#N/A"},{"$error":"#N/A"},{"$error":"#N/A"},{"$error":"#N/A"},{"$error":"#N/A"},{"$error":"#N/A"},{"$error":"#N/A"}]
[null,null,null,null,{"$error":"#N/A"},{"$error":"#N/A"},{"$error":"#N/A"},null,{"$error":"#N/A"},{"$error":"#N/A"},{"$error":"#N/A"},null,null,null,null,null,null,null,null,null,null,null,null,null,null,null,{"$error":"#N/A"},{"$error":"#N/A"},{"$error":"#N/A"},{"$error":"#N/A"},{"$error":"#N/A"},{"$error":"#N/A"},{"$error":"#N/A"},{"$error":"#N/A"},{"$error":"#N/A"},{"$error":"#N/A"},{"$error":"#N/A"},{"$error":"#N/A"},{"$error":"#N/A"},{"$error":"#N/A"},{"$error":"#N/A"},{"$error":"#N/A"},{"$error":"#N/A"},{"$error":"#N/A"},{"$error":"#N/A"},{"$error":"#N/A"},{"$error":"#N/A"},{"$error":"#N/A"},{"$error":"#N/A"},{"$error":"#N/A"},{"$error":"#N/A"},{"$error":"#N/A"},{"$error":"#N/A"},{"$error":"#N/A"},{"$error":"#N/A"},{"$error":"#N/A"},null,null,{"$error":"#N/A"},{"$error":"#N/A"},{"$error":"#N/A"},{"$error":"#N/A"},{"$error":"#N/A"},{"$error":"#N/A"},{"$error":"#N/A"},{"$error":"#N/A"},{"$error":"#N/A"},{"$error":"#N/A"},{"$error":"#N/A"},{"$error":"#N/A"},{"$error":"#N/A"},{"$error":"#N/A"},{"$error":"#N/A"},{"$error":"#N/A"},{"$error":"#N/A"},{"$error":"#N/A"},{"$error":"#N/A"},{"$error":"#N/A"},{"$error":"#N/A"},{"$error":"#N/A"},{"$error":"#N/A"},{"$error":"#N/A"},{"$error":"#N/A"},{"$error":"#N/A"},{"$error":"#N/A"},{"$error":"#N/A"},{"$error":"#N/A"},{"$error":"#N/A"}]
[null,null,null,null,{"$error":"#N/A"},{"$error":"#N/A"},{"$error":"#N/A"},null,{"$error":"#N/A"},{"$error":"#N/A"},{"$error":"#N/A"},null,null,null,null,null,null,null,null,null,null,null,null,null,null,null,{"$error":"#N/A"},{"$error":"#N/A"},{"$error":"#N/A"},{"$error":"#N/A"},{"$error":"#N/A"},{"$error":"#N/A"},{"$error":"#N/A"},{"$error":"#N/A"},{"$error":"#N/A"},{"$error":"#N/A"},{"$error":"#N/A"},{"$error":"#N/A"},{"$error":"#N/A"},{"$error":"#N/A"},{"$error":"#N/A"},{"$error":"#N/A"},{"$error":"#N/A"},{"$error":"#N/A"},{"$error":"#N/A"},{"$error":"#N/A"},{"$error":"#N/A"},{"$error":"#N/A"},{"$error":"#N/A"},{"$error":"#N/A"},{"$error":"#N/A"},{"$error":"#N/A"},{"$error":"#N/A"},{"$error":"#N/A"},{"$error":"#N/A"},{"$error":"#N/A"},null,null,{"$error":"#N/A"},{"$error":"#N/A"},{"$error":"#N/A"},{"$error":"#N/A"},{"$error":"#N/A"},{"$error":"#N/A"},{"$error":"#N/A"},{"$error":"#N/A"},{"$error":"#N/A"},{"$error":"#N/A"},{"$error":"#N/A"},{"$error":"#N/A"},{"$error":"#N/A"},{"$error":"#N/A"},{"$error":"#N/A"},{"$error":"#N/A"},{"$error":"#N/A"},{"$error":"#N/A"},{"$error":"#N/A"},{"$error":"#N/A"},{"$error":"#N/A"},{"$error":"#N/A"},{"$error":"#N/A"},{"$error":"#N/A"},{"$error":"#N/A"},{"$error":"#N/A"},{"$error":"#N/A"},{"$error":"#N/A"},{"$error":"#N/A"},{"$error":"#N/A"}]
[null,null,null,null,{"$error":"#N/A"},{"$error":"#N/A"},{"$error":"#N/A"},null,{"$error":"#N/A"},{"$error":"#N/A"},{"$error":"#N/A"},null,null,null,null,null,null,null,null,null,null,null,null,null,null,null,{"$error":"#N/A"},{"$error":"#N/A"},{"$error":"#N/A"},{"$error":"#N/A"},{"$error":"#N/A"},{"$error":"#N/A"},{"$error":"#N/A"},{"$error":"#N/A"},{"$error":"#N/A"},{"$error":"#N/A"},{"$error":"#N/A"},{"$error":"#N/A"},{"$error":"#N/A"},{"$error":"#N/A"},{"$error":"#N/A"},{"$error":"#N/A"},{"$error":"#N/A"},{"$error":"#N/A"},{"$error":"#N/A"},{"$error":"#N/A"},{"$error":"#N/A"},{"$error":"#N/A"},{"$error":"#N/A"},{"$error":"#N/A"},{"$error":"#N/A"},{"$error":"#N/A"},{"$error":"#N/A"},{"$error":"#N/A"},{"$error":"#N/A"},{"$error":"#N/A"},null,null,{"$error":"#N/A"},{"$error":"#N/A"},{"$error":"#N/A"},{"$error":"#N/A"},{"$error":"#N/A"},{"$error":"#N/A"},{"$error":"#N/A"},{"$error":"#N/A"},{"$error":"#N/A"},{"$error":"#N/A"},{"$error":"#N/A"},{"$error":"#N/A"},{"$error":"#N/A"},{"$error":"#N/A"},{"$error":"#N/A"},{"$error":"#N/A"},{"$error":"#N/A"},{"$error":"#N/A"},{"$error":"#N/A"},{"$error":"#N/A"},{"$error":"#N/A"},{"$error":"#N/A"},{"$error":"#N/A"},{"$error":"#N/A"},{"$error":"#N/A"},{"$error":"#N/A"},{"$error":"#N/A"},{"$error":"#N/A"},{"$error":"#N/A"},{"$error":"#N/A"}]
[null,null,null,null,{"$error":"#N/A"},{"$error":"#N/A"},{"$error":"#N/A"},null,{"$error":"#N/A"},{"$error":"#N/A"},{"$error":"#N/A"},null,null,null,null,null,null,null,null,null,null,null,null,null,null,null,{"$error":"#N/A"},{"$error":"#N/A"},{"$error":"#N/A"},{"$error":"#N/A"},{"$error":"#N/A"},{"$error":"#N/A"},{"$error":"#N/A"},{"$error":"#N/A"},{"$error":"#N/A"},{"$error":"#N/A"},{"$error":"#N/A"},{"$error":"#N/A"},{"$error":"#N/A"},{"$error":"#N/A"},{"$error":"#N/A"},{"$error":"#N/A"},{"$error":"#N/A"},{"$error":"#N/A"},{"$error":"#N/A"},{"$error":"#N/A"},{"$error":"#N/A"},{"$error":"#N/A"},{"$error":"#N/A"},{"$error":"#N/A"},{"$error":"#N/A"},{"$error":"#N/A"},{"$error":"#N/A"},{"$error":"#N/A"},{"$error":"#N/A"},{"$error":"#N/A"},null,null,{"$error":"#N/A"},{"$error":"#N/A"},{"$error":"#N/A"},{"$error":"#N/A"},{"$error":"#N/A"},{"$error":"#N/A"},{"$error":"#N/A"},{"$error":"#N/A"},{"$error":"#N/A"},{"$error":"#N/A"},{"$error":"#N/A"},{"$error":"#N/A"},{"$error":"#N/A"},{"$error":"#N/A"},{"$error":"#N/A"},{"$error":"#N/A"},{"$error":"#N/A"},{"$error":"#N/A"},{"$error":"#N/A"},{"$error":"#N/A"},{"$error":"#N/A"},{"$error":"#N/A"},{"$error":"#N/A"},{"$error":"#N/A"},{"$error":"#N/A"},{"$error":"#N/A"},{"$error":"#N/A"},{"$error":"#N/A"},{"$error":"#N/A"},{"$error":"#N/A"}]
[null,null,null,null,{"$error":"#N/A"},{"$error":"#N/A"},{"$error":"#N/A"},null,{"$error":"#N/A"},{"$error":"#N/A"},{"$error":"#N/A"},null,null,null,null,null,null,null,null,null,null,null,null,null,null,null,{"$error":"#N/A"},{"$error":"#N/A"},{"$error":"#N/A"},{"$error":"#N/A"},{"$error":"#N/A"},{"$error":"#N/A"},{"$error":"#N/A"},{"$error":"#N/A"},{"$error":"#N/A"},{"$error":"#N/A"},{"$error":"#N/A"},{"$error":"#N/A"},{"$error":"#N/A"},{"$error":"#N/A"},{"$error":"#N/A"},{"$error":"#N/A"},{"$error":"#N/A"},{"$error":"#N/A"},{"$error":"#N/A"},{"$error":"#N/A"},{"$error":"#N/A"},{"$error":"#N/A"},{"$error":"#N/A"},{"$error":"#N/A"},{"$error":"#N/A"},{"$error":"#N/A"},{"$error":"#N/A"},{"$error":"#N/A"},{"$error":"#N/A"},{"$error":"#N/A"},null,null,{"$error":"#N/A"},{"$error":"#N/A"},{"$error":"#N/A"},{"$error":"#N/A"},{"$error":"#N/A"},{"$error":"#N/A"},{"$error":"#N/A"},{"$error":"#N/A"},{"$error":"#N/A"},{"$error":"#N/A"},{"$error":"#N/A"},{"$error":"#N/A"},{"$error":"#N/A"},{"$error":"#N/A"},{"$error":"#N/A"},{"$error":"#N/A"},{"$error":"#N/A"},{"$error":"#N/A"},{"$error":"#N/A"},{"$error":"#N/A"},{"$error":"#N/A"},{"$error":"#N/A"},{"$error":"#N/A"},{"$error":"#N/A"},{"$error":"#N/A"},{"$error":"#N/A"},{"$error":"#N/A"},{"$error":"#N/A"},{"$error":"#N/A"},{"$error":"#N/A"}]
[]
[]
[]
[null,null,"Emballage",null,"Materiale","Produkter pr. pakning","g-emballage pr. pakning",null,"Materiale","Produkter pr. pakning","g-emballage pr. pakning"]
[null,null,null,null,{"$error":"#N/A"},{"$error":"#N/A"},{"$error":"#N/A"},null,{"$error":"#N/A"},{"$error":"#N/A"},{"$error":"#N/A"},10,null,null,null,null,null,null,null,null,null,null,null,null,null,null,null,{"$f":"IF(OR($E58=\"\",$F58=\"\",$G58=\"\",ISBLANK($E58),ISBLANK($F58),ISBLANK($G58)),0,$G58/$F58/1000*VLOOKUP($E58,EnvProfiler,AB$3,FALSE))","v":{"$error":"#N/A"}},{"$error":"#N/A"},{"$error":"#N/A"},{"$error":"#N/A"},{"$error":"#N/A"},{"$error":"#N/A"},{"$error":"#N/A"},{"$error":"#N/A"},{"$error":"#N/A"},{"$error":"#N/A"},{"$f":"IF(OR($E58=\"\",$F58=\"\",$G58=\"\",ISBLANK($E58),ISBLANK($F58),ISBLANK($G58)),0,$G58/$F58/1000*VLOOKUP($E58,EnvProfiler,AL$3,FALSE))","v":{"$error":"#N/A"}},{"$error":"#N/A"},{"$error":"#N/A"},{"$error":"#N/A"},{"$error":"#N/A"},{"$error":"#N/A"},{"$error":"#N/A"},{"$error":"#N/A"},{"$error":"#N/A"},{"$error":"#N/A"},{"$f":"IF(OR($E58=\"\",$F58=\"\",$G58=\"\",ISBLANK($E58),ISBLANK($F58),ISBLANK($G58)),0,$G58/$F58/1000*VLOOKUP($E58,EnvProfiler,AV$3,FALSE))","v":{"$error":"#N/A"}},{"$error":"#N/A"},{"$error":"#N/A"},{"$error":"#N/A"},{"$error":"#N/A"},{"$error":"#N/A"},{"$error":"#N/A"},{"$error":"#N/A"},{"$error":"#N/A"},null,null,null,{"$f":"IF(OR($I58=\"\",$J58=\"\",$K58=\"\",ISBLANK($I58),ISBLANK($J58),ISBLANK($K58)),0,$K58/$J58/1000*VLOOKUP($I58,EnvProfiler,BH$3,FALSE))","v":{"$error":"#N/A"}},{"$error":"#N/A"},{"$error":"#N/A"},{"$error":"#N/A"},{"$error":"#N/A"},{"$error":"#N/A"},{"$error":"#N/A"},{"$error":"#N/A"},{"$error":"#N/A"},{"$error":"#N/A"},{"$f":"IF(OR($I58=\"\",$J58=\"\",$K58=\"\",ISBLANK($I58),ISBLANK($J58),ISBLANK($K58)),0,$K58/$J58/1000*VLOOKUP($I58,EnvProfiler,BR$3,FALSE))","v":{"$error":"#N/A"}},{"$error":"#N/A"},{"$error":"#N/A"},{"$error":"#N/A"},{"$error":"#N/A"},{"$error":"#N/A"},{"$error":"#N/A"},{"$error":"#N/A"},{"$error":"#N/A"},{"$error":"#N/A"},{"$f":"IF(OR($I58=\"\",$J58=\"\",$K58=\"\",ISBLANK($I58),ISBLANK($J58),ISBLANK($K58)),0,$K58/$J58/1000*VLOOKUP($I58,EnvProfiler,CB$3,FALSE))","v":{"$error":"#N/A"}},{"$error":"#N/A"},{"$error":"#N/A"},{"$error":"#N/A"},{"$error":"#N/A"},{"$error":"#N/A"},{"$error":"#N/A"},{"$error":"#N/A"},{"$error":"#N/A"}]
[null,null,null,null,{"$error":"#N/A"},{"$error":"#N/A"},{"$error":"#N/A"},null,{"$error":"#N/A"},{"$error":"#N/A"},{"$error":"#N/A"},null,null,null,null,null,null,null,null,null,null,null,null,null,null,null,null,{"$error":"#N/A"},{"$error":"#N/A"},{"$error":"#N/A"},{"$error":"#N/A"},{"$error":"#N/A"},{"$error":"#N/A"},{"$error":"#N/A"},{"$error":"#N/A"},{"$error":"#N/A"},{"$error":"#N/A"},{"$error":"#N/A"},{"$error":"#N/A"},{"$error":"#N/A"},{"$error":"#N/A"},{"$error":"#N/A"},{"$error":"#N/A"},{"$error":"#N/A"},{"$error":"#N/A"},{"$error":"#N/A"},{"$error":"#N/A"},{"$error":"#N/A"},{"$error":"#N/A"},{"$error":"#N/A"},{"$error":"#N/A"},{"$error":"#N/A"},{"$error":"#N/A"},{"$error":"#N/A"},{"$error":"#N/A"},{"$error":"#N/A"},null,null,null,{"$error":"#N/A"},{"$error":"#N/A"},{"$error":"#N/A"},{"$error":"#N/A"},{"$error":"#N/A"},{"$error":"#N/A"},{"$error":"#N/A"},{"$error":"#N/A"},{"$error":"#N/A"},{"$error":"#N/A"},{"$error":"#N/A"},{"$error":"#N/A"},{"$error":"#N/A"},{"$error":"#N/A"},{"$error":"#N/A"},{"$error":"#N/A"},{"$error":"#N/A"},{"$error":"#N/A"},{"$error":"#N/A"},{"$error":"#N/A"},{"$error":"#N/A"},{"$error":"#N/A"},{"$error":"#N/A"},{"$error":"#N/A"},{"$error":"#N/A"},{"$error":"#N/A"},{"$error":"#N/A"},{"$error":"#N/A"},{"$error":"#N/A"}]
[null,null,null,null,{"$error":"#N/A"},{"$error":"#N/A"},{"$error":"#N/A"},null,{"$error":"#N/A"},{"$error":"#N/A"},{"$error":"#N/A"},null,null,null,null,null,null,null,null,null,null,null,null,null,null,null,null,{"$error":"#N/A"},{"$error":"#N/A"},{"$error":"#N/A"},{"$error":"#N/A"},{"$error":"#N/A"},{"$error":"#N/A"},{"$error":"#N/A"},{"$error":"#N/A"},{"$error":"#N/A"},{"$error":"#N/A"},{"$error":"#N/A"},{"$error":"#N/A"},{"$error":"#N/A"},{"$error":"#N/A"},{"$error":"#N/A"},{"$error":"#N/A"},{"$error":"#N/A"},{"$error":"#N/A"},{"$error":"#N/A"},{"$error":"#N/A"},{"$error":"#N/A"},{"$error":"#N/A"},{"$error":"#N/A"},{"$error":"#N/A"},{"$error":"#N/A"},{"$error":"#N/A"},{"$error":"#N/A"},{"$error":"#N/A"},{"$error":"#N/A"},null,null,null,{"$error":"#N/A"},{"$error":"#N/A"},{"$error":"#N/A"},{"$error":"#N/A"},{"$error":"#N/A"},{"$error":"#N/A"},{"$error":"#N/A"},{"$error":"#N/A"},{"$error":"#N/A"},{"$error":"#N/A"},{"$error":"#N/A"},{"$error":"#N/A"},{"$error":"#N/A"},{"$error":"#N/A"},{"$error":"#N/A"},{"$error":"#N/A"},{"$error":"#N/A"},{"$error":"#N/A"},{"$error":"#N/A"},{"$error":"#N/A"},{"$error":"#N/A"},{"$error":"#N/A"},{"$error":"#N/A"},{"$error":"#N/A"},{"$error":"#N/A"},{"$error":"#N/A"},{"$error":"#N/A"},{"$error":"#N/A"},{"$error":"#N/A"}]
[null,null,null,null,{"$error":"#N/A"},{"$error":"#N/A"},{"$error":"#N/A"},null,{"$error":"#N/A"},{"$error":"#N/A"},{"$error":"#N/A"},null,null,null,null,null,null,null,null,null,null,null,null,null,null,null,null,{"$error":"#N/A"},{"$error":"#N/A"},{"$error":"#N/A"},{"$error":"#N/A"},{"$error":"#N/A"},{"$error":"#N/A"},{"$error":"#N/A"},{"$error":"#N/A"},{"$error":"#N/A"},{"$error":"#N/A"},{"$error":"#N/A"},{"$error":"#N/A"},{"$error":"#N/A"},{"$error":"#N/A"},{"$error":"#N/A"},{"$error":"#N/A"},{"$error":"#N/A"},{"$error":"#N/A"},{"$error":"#N/A"},{"$error":"#N/A"},{"$error":"#N/A"},{"$error":"#N/A"},{"$error":"#N/A"},{"$error":"#N/A"},{"$error":"#N/A"},{"$error":"#N/A"},{"$error":"#N/A"},{"$error":"#N/A"},{"$error":"#N/A"},null,null,null,{"$error":"#N/A"},{"$error":"#N/A"},{"$error":"#N/A"},{"$error":"#N/A"},{"$error":"#N/A"},{"$error":"#N/A"},{"$error":"#N/A"},{"$error":"#N/A"},{"$error":"#N/A"},{"$error":"#N/A"},{"$error":"#N/A"},{"$error":"#N/A"},{"$error":"#N/A"},{"$error":"#N/A"},{"$error":"#N/A"},{"$error":"#N/A"},{"$error":"#N/A"},{"$error":"#N/A"},{"$error":"#N/A"},{"$error":"#N/A"},{"$error":"#N/A"},{"$error":"#N/A"},{"$error":"#N/A"},{"$error":"#N/A"},{"$error":"#N/A"},{"$error":"#N/A"},{"$error":"#N/A"},{"$error":"#N/A"},{"$error":"#N/A"}]
[null,null,null,null,{"$error":"#N/A"},{"$error":"#N/A"},{"$error":"#N/A"},null,{"$error":"#N/A"},{"$error":"#N/A"},{"$error":"#N/A"},null,null,null,null,null,null,null,null,null,null,null,null,null,null,null,null,{"$error":"#N/A"},{"$error":"#N/A"},{"$error":"#N/A"},{"$error":"#N/A"},{"$error":"#N/A"},{"$error":"#N/A"},{"$error":"#N/A"},{"$error":"#N/A"},{"$error":"#N/A"},{"$error":"#N/A"},{"$error":"#N/A"},{"$error":"#N/A"},{"$error":"#N/A"},{"$error":"#N/A"},{"$error":"#N/A"},{"$error":"#N/A"},{"$error":"#N/A"},{"$error":"#N/A"},{"$error":"#N/A"},{"$error":"#N/A"},{"$error":"#N/A"},{"$error":"#N/A"},{"$error":"#N/A"},{"$error":"#N/A"},{"$error":"#N/A"},{"$error":"#N/A"},{"$error":"#N/A"},{"$error":"#N/A"},{"$error":"#N/A"},null,null,null,{"$error":"#N/A"},{"$error":"#N/A"},{"$error":"#N/A"},{"$error":"#N/A"},{"$error":"#N/A"},{"$error":"#N/A"},{"$error":"#N/A"},{"$error":"#N/A"},{"$error":"#N/A"},{"$error":"#N/A"},{"$error":"#N/A"},{"$error":"#N/A"},{"$error":"#N/A"},{"$error":"#N/A"},{"$error":"#N/A"},{"$error":"#N/A"},{"$error":"#N/A"},{"$error":"#N/A"},{"$error":"#N/A"},{"$error":"#N/A"},{"$error":"#N/A"},{"$error":"#N/A"},{"$error":"#N/A"},{"$error":"#N/A"},{"$error":"#N/A"},{"$error":"#N/A"},{"$error":"#N/A"},{"$error":"#N/A"},{"$error":"#N/A"}]
[null,null,null,null,{"$error":"#N/A"},{"$error":"#N/A"},{"$error":"#N/A"},null,{"$error":"#N/A"},{"$error":"#N/A"},{"$error":"#N/A"},null,null,null,null,null,null,null,null,null,null,null,null,null,null,null,null,{"$error":"#N/A"},{"$error":"#N/A"},{"$error":"#N/A"},{"$error":"#N/A"},{"$error":"#N/A"},{"$error":"#N/A"},{"$error":"#N/A"},{"$error":"#N/A"},{"$error":"#N/A"},{"$error":"#N/A"},{"$error":"#N/A"},{"$error":"#N/A"},{"$error":"#N/A"},{"$error":"#N/A"},{"$error":"#N/A"},{"$error":"#N/A"},{"$error":"#N/A"},{"$error":"#N/A"},{"$error":"#N/A"},{"$error":"#N/A"},{"$error":"#N/A"},{"$error":"#N/A"},{"$error":"#N/A"},{"$error":"#N/A"},{"$error":"#N/A"},{"$error":"#N/A"},{"$error":"#N/A"},{"$error":"#N/A"},{"$error":"#N/A"},null,null,null,{"$error":"#N/A"},{"$error":"#N/A"},{"$error":"#N/A"},{"$error":"#N/A"},{"$error":"#N/A"},{"$error":"#N/A"},{"$error":"#N/A"},{"$error":"#N/A"},{"$error":"#N/A"},{"$error":"#N/A"},{"$error":"#N/A"},{"$error":"#N/A"},{"$error":"#N/A"},{"$error":"#N/A"},{"$error":"#N/A"},{"$error":"#N/A"},{"$error":"#N/A"},{"$error":"#N/A"},{"$error":"#N/A"},{"$error":"#N/A"},{"$error":"#N/A"},{"$error":"#N/A"},{"$error":"#N/A"},{"$error":"#N/A"},{"$error":"#N/A"},{"$error":"#N/A"},{"$error":"#N/A"},{"$error":"#N/A"},{"$error":"#N/A"}]
[null,null,null,null,{"$error":"#N/A"},{"$error":"#N/A"},{"$error":"#N/A"},null,{"$error":"#N/A"},{"$error":"#N/A"},{"$error":"#N/A"},null,null,null,null,null,null,null,null,null,null,null,null,null,null,null,null,{"$error":"#N/A"},{"$error":"#N/A"},{"$error":"#N/A"},{"$error":"#N/A"},{"$error":"#N/A"},{"$error":"#N/A"},{"$error":"#N/A"},{"$error":"#N/A"},{"$error":"#N/A"},{"$error":"#N/A"},{"$error":"#N/A"},{"$error":"#N/A"},{"$error":"#N/A"},{"$error":"#N/A"},{"$error":"#N/A"},{"$error":"#N/A"},{"$error":"#N/A"},{"$error":"#N/A"},{"$error":"#N/A"},{"$error":"#N/A"},{"$error":"#N/A"},{"$error":"#N/A"},{"$error":"#N/A"},{"$error":"#N/A"},{"$error":"#N/A"},{"$error":"#N/A"},{"$error":"#N/A"},{"$error":"#N/A"},{"$error":"#N/A"},null,null,null,{"$error":"#N/A"},{"$error":"#N/A"},{"$error":"#N/A"},{"$error":"#N/A"},{"$error":"#N/A"},{"$error":"#N/A"},{"$error":"#N/A"},{"$error":"#N/A"},{"$error":"#N/A"},{"$error":"#N/A"},{"$error":"#N/A"},{"$error":"#N/A"},{"$error":"#N/A"},{"$error":"#N/A"},{"$error":"#N/A"},{"$error":"#N/A"},{"$error":"#N/A"},{"$error":"#N/A"},{"$error":"#N/A"},{"$error":"#N/A"},{"$error":"#N/A"},{"$error":"#N/A"},{"$error":"#N/A"},{"$error":"#N/A"},{"$error":"#N/A"},{"$error":"#N/A"},{"$error":"#N/A"},{"$error":"#N/A"},{"$error":"#N/A"}]
[null,null,null,null,{"$error":"#N/A"},{"$error":"#N/A"},{"$error":"#N/A"},null,{"$error":"#N/A"},{"$error":"#N/A"},{"$error":"#N/A"},null,null,null,null,null,null,null,null,null,null,null,null,null,null,null,null,{"$error":"#N/A"},{"$error":"#N/A"},{"$error":"#N/A"},{"$error":"#N/A"},{"$error":"#N/A"},{"$error":"#N/A"},{"$error":"#N/A"},{"$error":"#N/A"},{"$error":"#N/A"},{"$error":"#N/A"},{"$error":"#N/A"},{"$error":"#N/A"},{"$error":"#N/A"},{"$error":"#N/A"},{"$error":"#N/A"},{"$error":"#N/A"},{"$error":"#N/A"},{"$error":"#N/A"},{"$error":"#N/A"},{"$error":"#N/A"},{"$error":"#N/A"},{"$error":"#N/A"},{"$error":"#N/A"},{"$error":"#N/A"},{"$error":"#N/A"},{"$error":"#N/A"},{"$error":"#N/A"},{"$error":"#N/A"},{"$error":"#N/A"},null,null,null,{"$error":"#N/A"},{"$error":"#N/A"},{"$error":"#N/A"},{"$error":"#N/A"},{"$error":"#N/A"},{"$error":"#N/A"},{"$error":"#N/A"},{"$error":"#N/A"},{"$error":"#N/A"},{"$error":"#N/A"},{"$error":"#N/A"},{"$error":"#N/A"},{"$error":"#N/A"},{"$error":"#N/A"},{"$error":"#N/A"},{"$error":"#N/A"},{"$error":"#N/A"},{"$error":"#N/A"},{"$error":"#N/A"},{"$error":"#N/A"},{"$error":"#N/A"},{"$error":"#N/A"},{"$error":"#N/A"},{"$error":"#N/A"},{"$error":"#N/A"},{"$error":"#N/A"},{"$error":"#N/A"},{"$error":"#N/A"},{"$error":"#N/A"}]
[null,null,null,null,{"$error":"#N/A"},{"$error":"#N/A"},{"$error":"#N/A"},null,{"$error":"#N/A"},{"$error":"#N/A"},{"$error":"#N/A"},null,null,null,null,null,null,null,null,null,null,null,null,null,null,null,null,{"$error":"#N/A"},{"$error":"#N/A"},{"$error":"#N/A"},{"$error":"#N/A"},{"$error":"#N/A"},{"$error":"#N/A"},{"$error":"#N/A"},{"$error":"#N/A"},{"$error":"#N/A"},{"$error":"#N/A"},{"$error":"#N/A"},{"$error":"#N/A"},{"$error":"#N/A"},{"$error":"#N/A"},{"$error":"#N/A"},{"$error":"#N/A"},{"$error":"#N/A"},{"$error":"#N/A"},{"$error":"#N/A"},{"$error":"#N/A"},{"$error":"#N/A"},{"$error":"#N/A"},{"$error":"#N/A"},{"$error":"#N/A"},{"$error":"#N/A"},{"$error":"#N/A"},{"$error":"#N/A"},{"$error":"#N/A"},{"$error":"#N/A"},null,null,null,{"$error":"#N/A"},{"$error":"#N/A"},{"$error":"#N/A"},{"$error":"#N/A"},{"$error":"#N/A"},{"$error":"#N/A"},{"$error":"#N/A"},{"$error":"#N/A"},{"$error":"#N/A"},{"$error":"#N/A"},{"$error":"#N/A"},{"$error":"#N/A"},{"$error":"#N/A"},{"$error":"#N/A"},{"$error":"#N/A"},{"$error":"#N/A"},{"$error":"#N/A"},{"$error":"#N/A"},{"$error":"#N/A"},{"$error":"#N/A"},{"$error":"#N/A"},{"$error":"#N/A"},{"$error":"#N/A"},{"$error":"#N/A"},{"$error":"#N/A"},{"$error":"#N/A"},{"$error":"#N/A"},{"$error":"#N/A"},{"$error":"#N/A"}]
[null,null,null,null,{"$error":"#N/A"},{"$error":"#N/A"},{"$error":"#N/A"},null,{"$error":"#N/A"},{"$error":"#N/A"},{"$error":"#N/A"},null,null,null,null,null,null,null,null,null,null,null,null,null,null,null,null,{"$error":"#N/A"},{"$error":"#N/A"},{"$error":"#N/A"},{"$error":"#N/A"},{"$error":"#N/A"},{"$error":"#N/A"},{"$error":"#N/A"},{"$error":"#N/A"},{"$error":"#N/A"},{"$error":"#N/A"},{"$error":"#N/A"},{"$error":"#N/A"},{"$error":"#N/A"},{"$error":"#N/A"},{"$error":"#N/A"},{"$error":"#N/A"},{"$error":"#N/A"},{"$error":"#N/A"},{"$error":"#N/A"},{"$error":"#N/A"},{"$error":"#N/A"},{"$error":"#N/A"},{"$error":"#N/A"},{"$error":"#N/A"},{"$error":"#N/A"},{"$error":"#N/A"},{"$error":"#N/A"},{"$error":"#N/A"},{"$error":"#N/A"},null,null,null,{"$error":"#N/A"},{"$error":"#N/A"},{"$error":"#N/A"},{"$error":"#N/A"},{"$error":"#N/A"},{"$error":"#N/A"},{"$error":"#N/A"},{"$error":"#N/A"},{"$error":"#N/A"},{"$error":"#N/A"},{"$error":"#N/A"},{"$error":"#N/A"},{"$error":"#N/A"},{"$error":"#N/A"},{"$error":"#N/A"},{"$error":"#N/A"},{"$error":"#N/A"},{"$error":"#N/A"},{"$error":"#N/A"},{"$error":"#N/A"},{"$error":"#N/A"},{"$error":"#N/A"},{"$error":"#N/A"},{"$error":"#N/A"},{"$error":"#N/A"},{"$error":"#N/A"},{"$error":"#N/A"},{"$error":"#N/A"},{"$error":"#N/A"}]
[]
[]
[]
[]
[null,null,"Logistik i forbindelse med brug, vask, vedligeholdelse og sterilisering"]
[null,null,"For hver enkelt cyklus for flergangsprodukter"]
[null,null,null,null,{"$f":"Name_product1","v":0},null,null,null,{"$f":"Name_product2","v":0}]
[]
[null,null,null,null,"Egen husketekst","Transportmiddel","Afstand",null,"Egen husketekst","Transportmiddel","Afstand"]
[null,null,"Transportform og distance",null,{"$error":"#N/A"},{"$error":"#N/A"},{"$error":"#N/A"},null,{"$error":"#N/A"},{"$error":"#N/A"},{"$error":"#N/A"},10,null,null,null,null,null,null,null,null,null,null,null,null,null,null,{"$f":"IF(OR(F77=\"\",ISBLANK(F77)),0,$F$154*G77*Mass_product1/1000000*Usetime_product1)","v":{"$error":"#N/A"}},{"$f":"IF(OR($F77=\"\",ISBLANK($F77)),0,(Mass_product1\n+IF(OR($F$92=\"\",ISBLANK($F$92)),0,$G$92/$F$92)+IF(OR($F$93=\"\",ISBLANK($F$93)),0,$G$93/$F$93)\n+IF(OR($F$94=\"\",ISBLANK($F$94)),0,$G$94/$F$94)+IF(OR($F$95=\"\",ISBLANK($F$95)),0,$G$95/$F$95)\n+IF(OR($F$96=\"\",ISBLANK($F$96)),0,$G$96/$F$96)+IF(OR($F$97=\"\",ISBLANK($F$97)),0,$G$97/$F$97)\n+IF(OR($F$98=\"\",ISBLANK($F$98)),0,$G$98/$F$98)+IF(OR($F$99=\"\",ISBLANK($F$99)),0,$G$99/$F$99)\n+IF(OR($F$100=\"\",ISBLANK($F$100)),0,$G$100/$F$100)+IF(OR($F$101=\"\",ISBLANK($F$101)),0,$G$101/$F$101))/1000000*$G77*VLOOKUP($F77,EnvProfiler,AB$3,FALSE)*Usetime_product1)","v":{"$error":"#N/A"}},{"$error":"#N/A"},{"$error":"#N/A"},{"$error":"#N/A"},{"$error":"#N/A"},{"$error":"#N/A"},{"$error":"#N/A"},{"$error":"#N/A"},{"$error":"#N/A"},{"$error":"#N/A"},{"$f":"IF(OR($F77=\"\",ISBLANK($F77)),0,(Mass_product1\n+IF(OR($F$92=\"\",ISBLANK($F$92)),0,$G$92/$F$92)+IF(OR($F$93=\"\",ISBLANK($F$93)),0,$G$93/$F$93)\n+IF(OR($F$94=\"\",ISBLANK($F$94)),0,$G$94/$F$94)+IF(OR($F$95=\"\",ISBLANK($F$95)),0,$G$95/$F$95)\n+IF(OR($F$96=\"\",ISBLANK($F$96)),0,$G$96/$F$96)+IF(OR($F$97=\"\",ISBLANK($F$97)),0,$G$97/$F$97)\n+IF(OR($F$98=\"\",ISBLANK($F$98)),0,$G$98/$F$98)+IF(OR($F$99=\"\",ISBLANK($F$99)),0,$G$99/$F$99)\n+IF(OR($F$100=\"\",ISBLANK($F$100)),0,$G$100/$F$100)+IF(OR($F$101=\"\",ISBLANK($F$101)),0,$G$101/$F$101))/1000000*$G77*VLOOKUP($F77,EnvProfiler,AL$3,FALSE)*Usetime_product1)","v":{"$error":"#N/A"}},{"$error":"#N/A"},{"$error":"#N/A"},{"$error":"#N/A"},{"$error":"#N/A"},{"$error":"#N/A"},{"$error":"#N/A"},{"$error":"#N/A"},{"$error":"#N/A"},{"$error":"#N/A"},{"$f":"IF(OR($F77=\"\",ISBLANK($F77)),0,(Mass_product1\n+IF(OR($F$92=\"\",ISBLANK($F$92)),0,$G$92/$F$92)+IF(OR($F$93=\"\",ISBLANK($F$93)),0,$G$93/$F$93)\n+IF(OR($F$94=\"\",ISBLANK($F$94)),0,$G$94/$F$94)+IF(OR($F$95=\"\",ISBLANK($F$95)),0,$G$95/$F$95)\n+IF(OR($F$96=\"\",ISBLANK($F$96)),0,$G$96/$F$96)+IF(OR($F$97=\"\",ISBLANK($F$97)),0,$G$97/$F$97)\n+IF(OR($F$98=\"\",ISBLANK($F$98)),0,$G$98/$F$98)+IF(OR($F$99=\"\",ISBLANK($F$99)),0,$G$99/$F$99)\n+IF(OR($F$100=\"\",ISBLANK($F$100)),0,$G$100/$F$100)+IF(OR($F$101=\"\",ISBLANK($F$101)),0,$G$101/$F$101))/1000000*$G77*VLOOKUP($F77,EnvProfiler,AV$3,FALSE)*Usetime_product1)","v":{"$error":"#N/A"}},{"$error":"#N/A"},{"$error":"#N/A"},{"$error":"#N/A"},{"$error":"#N/A"},{"$error":"#N/A"},{"$error":"#N/A"},{"$error":"#N/A"},{"$error":"#N/A"},null,null,{"$f":"IF(OR(J77=\"\",ISBLANK(J77)),0,$J$154*K77*Mass_product2/1000000*Usetime_product2)","v":{"$error":"#N/A"}},{"$f":"IF(OR($J77=\"\",ISBLANK($J77)),0,(Mass_product2\n+IF(OR($F$92=\"\",ISBLANK($J$92)),0,$K$92/$J$92)+IF(OR($F$93=\"\",ISBLANK($J$93)),0,$K$93/$J$93)\n+IF(OR($F$94=\"\",ISBLANK($J$94)),0,$K$94/$J$94)+IF(OR($F$95=\"\",ISBLANK($J$95)),0,$K$95/$J$95)\n+IF(OR($F$96=\"\",ISBLANK($J$96)),0,$K$96/$J$96)+IF(OR($F$97=\"\",ISBLANK($J$97)),0,$K$97/$J$97)\n+IF(OR($F$98=\"\",ISBLANK($J$98)),0,$K$98/$J$98)+IF(OR($F$99=\"\",ISBLANK($J$99)),0,$K$99/$J$99)\n+IF(OR($F$100=\"\",ISBLANK($J$100)),0,$K$100/$J$100)+IF(OR($F$101=\"\",ISBLANK($J$101)),0,$K$101/$J$101))/1000000*$K77*VLOOKUP($J77,EnvProfiler,BH$3,FALSE)*Usetime_product2)","v":{"$error":"#N/A"}},{"$error":"#N/A"},{"$error":"#N/A"},{"$error":"#N/A"},{"$error":"#N/A"},{"$error":"#N/A"},{"$error":"#N/A"},{"$error":"#N/A"},{"$error":"#N/A"},{"$error":"#N/A"},{"$f":"IF(OR($J77=\"\",ISBLANK($J77)),0,(Mass_product2\n+IF(OR($F$92=\"\",ISBLANK($J$92)),0,$K$92/$J$92)+IF(OR($F$93=\"\",ISBLANK($J$93)),0,$K$93/$J$93)\n+IF(OR($F$94=\"\",ISBLANK($J$94)),0,$K$94/$J$94)+IF(OR($F$95=\"\",ISBLANK($J$95)),0,$K$95/$J$95)\n+IF(OR($F$96=\"\",ISBLANK($J$96)),0,$K$96/$J$96)+IF(OR($F$97=\"\",ISBLANK($J$97)),0,$K$97/$J$97)\n+IF(OR($F$98=\"\",ISBLANK($J$98)),0,$K$98/$J$98)+IF(OR($F$99=\"\",ISBLANK($J$99)),0,$K$99/$J$99)\n+IF(OR($F$100=\"\",ISBLANK($J$100)),0,$K$100/$J$100)+IF(OR($F$101=\"\",ISBLANK($J$101)),0,$K$101/$J$101))/1000000*$K77*VLOOKUP($J77,EnvProfiler,BR$3,FALSE)*Usetime_product2)","v":{"$error":"#N/A"}},{"$error":"#N/A"},{"$error":"#N/A"},{"$error":"#N/A"},{"$error":"#N/A"},{"$error":"#N/A"},{"$error":"#N/A"},{"$error":"#N/A"},{"$error":"#N/A"},{"$error":"#N/A"},{"$f":"IF(OR($J77=\"\",ISBLANK($J77)),0,(Mass_product2\n+IF(OR($F$92=\"\",ISBLANK($J$92)),0,$K$92/$J$92)+IF(OR($F$93=\"\",ISBLANK($J$93)),0,$K$93/$J$93)\n+IF(OR($F$94=\"\",ISBLANK($J$94)),0,$K$94/$J$94)+IF(OR($F$95=\"\",ISBLANK($J$95)),0,$K$95/$J$95)\n+IF(OR($F$96=\"\",ISBLANK($J$96)),0,$K$96/$J$96)+IF(OR($F$97=\"\",ISBLANK($J$97)),0,$K$97/$J$97)\n+IF(OR($F$98=\"\",ISBLANK($J$98)),0,$K$98/$J$98)+IF(OR($F$99=\"\",ISBLANK($J$99)),0,$K$99/$J$99)\n+IF(OR($F$100=\"\",ISBLANK($J$100)),0,$K$100/$J$100)+IF(OR($F$101=\"\",ISBLANK($J$101)),0,$K$101/$J$101))/1000000*$K77*VLOOKUP($J77,EnvProfiler,CB$3,FALSE)*Usetime_product2)","v":{"$error":"#N/A"}},{"$error":"#N/A"},{"$error":"#N/A"},{"$error":"#N/A"},{"$error":"#N/A"},{"$error":"#N/A"},{"$error":"#N/A"},{"$error":"#N/A"},{"$error":"#N/A"}]
[null,null,null,null,{"$error":"#N/A"},{"$error":"#N/A"},{"$error":"#N/A"},null,{"$error":"#N/A"},{"$error":"#N/A"},{"$error":"#N/A"},null,null,null,null,null,null,null,null,null,null,null,null,null,null,null,{"$error":"#N/A"},{"$error":"#N/A"},{"$error":"#N/A"},{"$error":"#N/A"},{"$error":"#N/A"},{"$error":"#N/A"},{"$error":"#N/A"},{"$error":"#N/A"},{"$error":"#N/A"},{"$error":"#N/A"},{"$error":"#N/A"},{"$error":"#N/A"},{"$error":"#N/A"},{"$error":"#N/A"},{"$error":"#N/A"},{"$error":"#N/A"},{"$error":"#N/A"},{"$error":"#N/A"},{"$error":"#N/A"},{"$error":"#N/A"},{"$error":"#N/A"},{"$error":"#N/A"},{"$error":"#N/A"},{"$error":"#N/A"},{"$error":"#N/A"},{"$error":"#N/A"},{"$error":"#N/A"},{"$error":"#N/A"},{"$error":"#N/A"},{"$error":"#N/A"},null,null,{"$error":"#N/A"},{"$error":"#N/A"},{"$error":"#N/A"},{"$error":"#N/A"},{"$error":"#N/A"},{"$error":"#N/A"},{"$error":"#N/A"},{"$error":"#N/A"},{"$error":"#N/A"},{"$error":"#N/A"},{"$error":"#N/A"},{"$error":"#N/A"},{"$error":"#N/A"},{"$error":"#N/A"},{"$error":"#N/A"},{"$error":"#N/A"},{"$error":"#N/A"},{"$error":"#N/A"},{"$error":"#N/A"},{"$error":"#N/A"},{"$error":"#N/A"},{"$error":"#N/A"},{"$error":"#N/A"},{"$error":"#N/A"},{"$error":"#N/A"},{"$error":"#N/A"},{"$error":"#N/A"},{"$error":"#N/A"},{"$error":"#N/A"},{"$error":"#N/A"}]
[null,null,null,null,{"$error":"#N/A"},{"$error":"#N/A"},{"$error":"#N/A"},null,{"$error":"#N/A"},{"$error":"#N/A"},{"$error":"#N/A"},null,null,null,null,null,null,null,null,null,null,null,null,null,null,null,{"$error":"#N/A"},{"$error":"#N/A"},{"$error":"#N/A"},{"$error":"#N/A"},{"$error":"#N/A"},{"$error":"#N/A"},{"$error":"#N/A"},{"$error":"#N/A"},{"$error":"#N/A"},{"$error":"#N/A"},{"$error":"#N/A"},{"$error":"#N/A"},{"$error":"#N/A"},{"$error":"#N/A"},{"$error":"#N/A"},{"$error":"#N/A"},{"$error":"#N/A"},{"$error":"#N/A"},{"$error":"#N/A"},{"$error":"#N/A"},{"$error":"#N/A"},{"$error":"#N/A"},{"$error":"#N/A"},{"$error":"#N/A"},{"$error":"#N/A"},{"$error":"#N/A"},{"$error":"#N/A"},{"$error":"#N/A"},{"$error":"#N/A"},{"$error":"#N/A"},null,null,{"$error":"#N/A"},{"$error":"#N/A"},{"$error":"#N/A"},{"$error":"#N/A"},{"$error":"#N/A"},{"$error":"#N/A"},{"$error":"#N/A"},{"$error":"#N/A"},{"$error":"#N/A"},{"$error":"#N/A"},{"$error":"#N/A"},{"$error":"#N/A"},{"$error":"#N/A"},{"$error":"#N/A"},{"$error":"#N/A"},{"$error":"#N/A"},{"$error":"#N/A"},{"$error":"#N/A"},{"$error":"#N/A"},{"$error":"#N/A"},{"$error":"#N/A"},{"$error":"#N/A"},{"$error":"#N/A"},{"$error":"#N/A"},{"$error":"#N/A"},{"$error":"#N/A"},{"$error":"#N/A"},{"$error":"#N/A"},{"$error":"#N/A"},{"$error":"#N/A"}]
[null,null,null,null,{"$error":"#N/A"},{"$error":"#N/A"},{"$error":"#N/A"},null,{"$error":"#N/A"},{"$error":"#N/A"},{"$error":"#N/A"},null,null,null,null,null,null,null,null,null,null,null,null,null,null,null,{"$error":"#N/A"},{"$error":"#N/A"},{"$error":"#N/A"},{"$error":"#N/A"},{"$error":"#N/A"},{"$error":"#N/A"},{"$error":"#N/A"},{"$error":"#N/A"},{"$error":"#N/A"},{"$error":"#N/A"},{"$error":"#N/A"},{"$error":"#N/A"},{"$error":"#N/A"},{"$error":"#N/A"},{"$error":"#N/A"},{"$error":"#N/A"},{"$error":"#N/A"},{"$error":"#N/A"},{"$error":"#N/A"},{"$error":"#N/A"},{"$error":"#N/A"},{"$error":"#N/A"},{"$error":"#N/A"},{"$error":"#N/A"},{"$error":"#N/A"},{"$error":"#N/A"},{"$error":"#N/A"},{"$error":"#N/A"},{"$error":"#N/A"},{"$error":"#N/A"},null,null,{"$error":"#N/A"},{"$error":"#N/A"},{"$error":"#N/A"},{"$error":"#N/A"},{"$error":"#N/A"},{"$error":"#N/A"},{"$error":"#N/A"},{"$error":"#N/A"},{"$error":"#N/A"},{"$error":"#N/A"},{"$error":"#N/A"},{"$error":"#N/A"},{"$error":"#N/A"},{"$error":"#N/A"},{"$error":"#N/A"},{"$error":"#N/A"},{"$error":"#N/A"},{"$error":"#N/A"},{"$error":"#N/A"},{"$error":"#N/A"},{"$error":"#N/A"},{"$error":"#N/A"},{"$error":"#N/A"},{"$error":"#N/A"},{"$error":"#N/A"},{"$error":"#N/A"},{"$error":"#N/A"},{"$error":"#N/A"},{"$error":"#N/A"},{"$error":"#N/A"}]
[null,null,null,null,{"$error":"#N/A"},{"$error":"#N/A"},{"$error":"#N/A"},null,{"$error":"#N/A"},{"$error":"#N/A"},{"$error":"#N/A"},null,null,null,null,null,null,null,null,null,null,null,null,null,null,null,{"$error":"#N/A"},{"$error":"#N/A"},{"$error":"#N/A"},{"$error":"#N/A"},{"$error":"#N/A"},{"$error":"#N/A"},{"$error":"#N/A"},{"$error":"#N/A"},{"$error":"#N/A"},{"$error":"#N/A"},{"$error":"#N/A"},{"$error":"#N/A"},{"$error":"#N/A"},{"$error":"#N/A"},{"$error":"#N/A"},{"$error":"#N/A"},{"$error":"#N/A"},{"$error":"#N/A"},{"$error":"#N/A"},{"$error":"#N/A"},{"$error":"#N/A"},{"$error":"#N/A"},{"$error":"#N/A"},{"$error":"#N/A"},{"$error":"#N/A"},{"$error":"#N/A"},{"$error":"#N/A"},{"$error":"#N/A"},{"$error":"#N/A"},{"$error":"#N/A"},null,null,{"$error":"#N/A"},{"$error":"#N/A"},{"$error":"#N/A"},{"$error":"#N/A"},{"$error":"#N/A"},{"$error":"#N/A"},{"$error":"#N/A"},{"$error":"#N/A"},{"$error":"#N/A"},{"$error":"#N/A"},{"$error":"#N/A"},{"$error":"#N/A"},{"$error":"#N/A"},{"$error":"#N/A"},{"$error":"#N/A"},{"$error":"#N/A"},{"$error":"#N/A"},{"$error":"#N/A"},{"$error":"#N/A"},{"$error":"#N/A"},{"$error":"#N/A"},{"$error":"#N/A"},{"$error":"#N/A"},{"$error":"#N/A"},{"$error":"#N/A"},{"$error":"#N/A"},{"$error":"#N/A"},{"$error":"#N/A"},{"$error":"#N/A"},{"$error":"#N/A"}]
[null,null,null,null,{"$error":"#N/A"},{"$error":"#N/A"},{"$error":"#N/A"},null,{"$error":"#N/A"},{"$error":"#N/A"},{"$error":"#N/A"},null,null,null,null,null,null,null,null,null,null,null,null,null,null,null,{"$error":"#N/A"},{"$error":"#N/A"},{"$error":"#N/A"},{"$error":"#N/A"},{"$error":"#N/A"},{"$error":"#N/A"},{"$error":"#N/A"},{"$error":"#N/A"},{"$error":"#N/A"},{"$error":"#N/A"},{"$error":"#N/A"},{"$error":"#N/A"},{"$error":"#N/A"},{"$error":"#N/A"},{"$error":"#N/A"},{"$error":"#N/A"},{"$error":"#N/A"},{"$error":"#N/A"},{"$error":"#N/A"},{"$error":"#N/A"},{"$error":"#N/A"},{"$error":"#N/A"},{"$error":"#N/A"},{"$error":"#N/A"},{"$error":"#N/A"},{"$error":"#N/A"},{"$error":"#N/A"},{"$error":"#N/A"},{"$error":"#N/A"},{"$error":"#N/A"},null,null,{"$error":"#N/A"},{"$error":"#N/A"},{"$error":"#N/A"},{"$error":"#N/A"},{"$error":"#N/A"},{"$error":"#N/A"},{"$error":"#N/A"},{"$error":"#N/A"},{"$error":"#N/A"},{"$error":"#N/A"},{"$error":"#N/A"},{"$error":"#N/A"},{"$error":"#N/A"},{"$error":"#N/A"},{"$error":"#N/A"},{"$error":"#N/A"},{"$error":"#N/A"},{"$error":"#N/A"},{"$error":"#N/A"},{"$error":"#N/A"},{"$error":"#N/A"},{"$error":"#N/A"},{"$error":"#N/A"},{"$error":"#N/A"},{"$error":"#N/A"},{"$error":"#N/A"},{"$error":"#N/A"},{"$error":"#N/A"},{"$error":"#N/A"},{"$error":"#N/A"}]
[null,null,null,null,{"$error":"#N/A"},{"$error":"#N/A"},{"$error":"#N/A"},null,{"$error":"#N/A"},{"$error":"#N/A"},{"$error":"#N/A"},null,null,null,null,null,null,null,null,null,null,null,null,null,null,null,{"$error":"#N/A"},{"$error":"#N/A"},{"$error":"#N/A"},{"$error":"#N/A"},{"$error":"#N/A"},{"$error":"#N/A"},{"$error":"#N/A"},{"$error":"#N/A"},{"$error":"#N/A"},{"$error":"#N/A"},{"$error":"#N/A"},{"$error":"#N/A"},{"$error":"#N/A"},{"$error":"#N/A"},{"$error":"#N/A"},{"$error":"#N/A"},{"$error":"#N/A"},{"$error":"#N/A"},{"$error":"#N/A"},{"$error":"#N/A"},{"$error":"#N/A"},{"$error":"#N/A"},{"$error":"#N/A"},{"$error":"#N/A"},{"$error":"#N/A"},{"$error":"#N/A"},{"$error":"#N/A"},{"$error":"#N/A"},{"$error":"#N/A"},{"$error":"#N/A"},null,null,{"$error":"#N/A"},{"$error":"#N/A"},{"$error":"#N/A"},{"$error":"#N/A"},{"$error":"#N/A"},{"$error":"#N/A"},{"$error":"#N/A"},{"$error":"#N/A"},{"$error":"#N/A"},{"$error":"#N/A"},{"$error":"#N/A"},{"$error":"#N/A"},{"$error":"#N/A"},{"$error":"#N/A"},{"$error":"#N/A"},{"$error":"#N/A"},{"$error":"#N/A"},{"$error":"#N/A"},{"$error":"#N/A"},{"$error":"#N/A"},{"$error":"#N/A"},{"$error":"#N/A"},{"$error":"#N/A"},{"$error":"#N/A"},{"$error":"#N/A"},{"$error":"#N/A"},{"$error":"#N/A"},{"$error":"#N/A"},{"$error":"#N/A"},{"$error":"#N/A"}]
[null,null,null,null,{"$error":"#N/A"},{"$error":"#N/A"},{"$error":"#N/A"},null,{"$error":"#N/A"},{"$error":"#N/A"},{"$error":"#N/A"},null,null,null,null,null,null,null,null,null,null,null,null,null,null,null,{"$error":"#N/A"},{"$error":"#N/A"},{"$error":"#N/A"},{"$error":"#N/A"},{"$error":"#N/A"},{"$error":"#N/A"},{"$error":"#N/A"},{"$error":"#N/A"},{"$error":"#N/A"},{"$error":"#N/A"},{"$error":"#N/A"},{"$error":"#N/A"},{"$error":"#N/A"},{"$error":"#N/A"},{"$error":"#N/A"},{"$error":"#N/A"},{"$error":"#N/A"},{"$error":"#N/A"},{"$error":"#N/A"},{"$error":"#N/A"},{"$error":"#N/A"},{"$error":"#N/A"},{"$error":"#N/A"},{"$error":"#N/A"},{"$error":"#N/A"},{"$error":"#N/A"},{"$error":"#N/A"},{"$error":"#N/A"},{"$error":"#N/A"},{"$error":"#N/A"},null,null,{"$error":"#N/A"},{"$error":"#N/A"},{"$error":"#N/A"},{"$error":"#N/A"},{"$error":"#N/A"},{"$error":"#N/A"},{"$error":"#N/A"},{"$error":"#N/A"},{"$error":"#N/A"},{"$error":"#N/A"},{"$error":"#N/A"},{"$error":"#N/A"},{"$error":"#N/A"},{"$error":"#N/A"},{"$error":"#N/A"},{"$error":"#N/A"},{"$error":"#N/A"},{"$error":"#N/A"},{"$error":"#N/A"},{"$error":"#N/A"},{"$error":"#N/A"},{"$error":"#N/A"},{"$error":"#N/A"},{"$error":"#N/A"},{"$error":"#N/A"},{"$error":"#N/A"},{"$error":"#N/A"},{"$error":"#N/A"},{"$error":"#N/A"},{"$error":"#N/A"}]
[null,null,null,null,{"$error":"#N/A"},{"$error":"#N/A"},{"$error":"#N/A"},null,{"$error":"#N/A"},{"$error":"#N/A"},{"$error":"#N/A"},null,null,null,null,null,null,null,null,null,null,null,null,null,null,null,{"$error":"#N/A"},{"$error":"#N/A"},{"$error":"#N/A"},{"$error":"#N/A"},{"$error":"#N/A"},{"$error":"#N/A"},{"$error":"#N/A"},{"$error":"#N/A"},{"$error":"#N/A"},{"$error":"#N/A"},{"$error":"#N/A"},{"$error":"#N/A"},{"$error":"#N/A"},{"$error":"#N/A"},{"$error":"#N/A"},{"$error":"#N/A"},{"$error":"#N/A"},{"$error":"#N/A"},{"$error":"#N/A"},{"$error":"#N/A"},{"$error":"#N/A"},{"$error":"#N/A"},{"$error":"#N/A"},{"$error":"#N/A"},{"$error":"#N/A"},{"$error":"#N/A"},{"$error":"#N/A"},{"$error":"#N/A"},{"$error":"#N/A"},{"$error":"#N/A"},null,null,{"$error":"#N/A"},{"$error":"#N/A"},{"$error":"#N/A"},{"$error":"#N/A"},{"$error":"#N/A"},{"$error":"#N/A"},{"$error":"#N/A"},{"$error":"#N/A"},{"$error":"#N/A"},{"$error":"#N/A"},{"$error":"#N/A"},{"$error":"#N/A"},{"$error":"#N/A"},{"$error":"#N/A"},{"$error":"#N/A"},{"$error":"#N/A"},{"$error":"#N/A"},{"$error":"#N/A"},{"$error":"#N/A"},{"$error":"#N/A"},{"$error":"#N/A"},{"$error":"#N/A"},{"$error":"#N/A"},{"$error":"#N/A"},{"$error":"#N/A"},{"$error":"#N/A"},{"$error":"#N/A"},{"$error":"#N/A"},{"$error":"#N/A"},{"$error":"#N/A"}]
[null,null,null,null,{"$error":"#N/A"},{"$error":"#N/A"},{"$error":"#N/A"},null,{"$error":"#N/A"},{"$error":"#N/A"},{"$error":"#N/A"},null,null,null,null,null,null,null,null,null,null,null,null,null,null,null,{"$error":"#N/A"},{"$error":"#N/A"},{"$error":"#N/A"},{"$error":"#N/A"},{"$error":"#N/A"},{"$error":"#N/A"},{"$error":"#N/A"},{"$error":"#N/A"},{"$error":"#N/A"},{"$error":"#N/A"},{"$error":"#N/A"},{"$error":"#N/A"},{"$error":"#N/A"},{"$error":"#N/A"},{"$error":"#N/A"},{"$error":"#N/A"},{"$error":"#N/A"},{"$error":"#N/A"},{"$error":"#N/A"},{"$error":"#N/A"},{"$error":"#N/A"},{"$error":"#N/A"},{"$error":"#N/A"},{"$error":"#N/A"},{"$error":"#N/A"},{"$error":"#N/A"},{"$error":"#N/A"},{"$error":"#N/A"},{"$error":"#N/A"},{"$error":"#N/A"},null,null,{"$error":"#N/A"},{"$error":"#N/A"},{"$error":"#N/A"},{"$error":"#N/A"},{"$error":"#N/A"},{"$error":"#N/A"},{"$error":"#N/A"},{"$error":"#N/A"},{"$error":"#N/A"},{"$error":"#N/A"},{"$error":"#N/A"},{"$error":"#N/A"},{"$error":"#N/A"},{"$error":"#N/A"},{"$error":"#N/A"},{"$error":"#N/A"},{"$error":"#N/A"},{"$error":"#N/A"},{"$error":"#N/A"},{"$error":"#N/A"},{"$error":"#N/A"},{"$error":"#N/A"},{"$error":"#N/A"},{"$error":"#N/A"},{"$error":"#N/A"},{"$error":"#N/A"},{"$error":"#N/A"},{"$error":"#N/A"},{"$error":"#N/A"},{"$error":"#N/A"}]
[]
[]
[]
[]
[null,null,"Emballage",null,"Materiale","Produkter pr. pakning","g-emballage pr. pakning",null,"Materiale","Produkter pr. pakning","g-emballage pr. pakning"]
[null,null,null,null,{"$error":"#N/A"},{"$error":"#N/A"},{"$error":"#N/A"},null,{"$error":"#N/A"},{"$error":"#N/A"},{"$error":"#N/A"},10,null,null,null,null,null,null,null,null,null,null,null,null,null,null,null,{"$f":"IF(OR($E92=\"\",$F92=\"\",$G92=\"\",ISBLANK($E92),ISBLANK($F92),ISBLANK($G92)),0,$G92/$F92/1000*VLOOKUP($E92,EnvProfiler,AB$3,FALSE)*Usetime_product1)","v":{"$error":"#N/A"}},{"$error":"#N/A"},{"$error":"#N/A"},{"$error":"#N/A"},{"$error":"#N/A"},{"$error":"#N/A"},{"$error":"#N/A"},{"$error":"#N/A"},{"$error":"#N/A"},{"$error":"#N/A"},{"$f":"IF(OR($E92=\"\",$F92=\"\",$G92=\"\",ISBLANK($E92),ISBLANK($F92),ISBLANK($G92)),0,$G92/$F92/1000*VLOOKUP($E92,EnvProfiler,AL$3,FALSE)*Usetime_product1)","v":{"$error":"#N/A"}},{"$error":"#N/A"},{"$error":"#N/A"},{"$error":"#N/A"},{"$error":"#N/A"},{"$error":"#N/A"},{"$error":"#N/A"},{"$error":"#N/A"},{"$error":"#N/A"},{"$error":"#N/A"},{"$f":"IF(OR($E92=\"\",$F92=\"\",$G92=\"\",ISBLANK($E92),ISBLANK($F92),ISBLANK($G92)),0,$G92/$F92/1000*VLOOKUP($E92,EnvProfiler,AV$3,FALSE)*Usetime_product1)","v":{"$error":"#N/A"}},{"$error":"#N/A"},{"$error":"#N/A"},{"$error":"#N/A"},{"$error":"#N/A"},{"$error":"#N/A"},{"$error":"#N/A"},{"$error":"#N/A"},{"$error":"#N/A"},null,null,null,{"$f":"IF(OR($I92=\"\",$J92=\"\",$K92=\"\",ISBLANK($I92),ISBLANK($J92),ISBLANK($K92)),0,$K92/$J92/1000*VLOOKUP($I92,EnvProfiler,BH$3,FALSE)*Usetime_product2)","v":{"$error":"#N/A"}},{"$error":"#N/A"},{"$error":"#N/A"},{"$error":"#N/A"},{"$error":"#N/A"},{"$error":"#N/A"},{"$error":"#N/A"},{"$error":"#N/A"},{"$error":"#N/A"},{"$error":"#N/A"},{"$f":"IF(OR($I92=\"\",$J92=\"\",$K92=\"\",ISBLANK($I92),ISBLANK($J92),ISBLANK($K92)),0,$K92/$J92/1000*VLOOKUP($I92,EnvProfiler,BR$3,FALSE)*Usetime_product2)","v":{"$error":"#N/A"}},{"$error":"#N/A"},{"$error":"#N/A"},{"$error":"#N/A"},{"$error":"#N/A"},{"$error":"#N/A"},{"$error":"#N/A"},{"$error":"#N/A"},{"$error":"#N/A"},{"$error":"#N/A"},{"$f":"IF(OR($I92=\"\",$J92=\"\",$K92=\"\",ISBLANK($I92),ISBLANK($J92),ISBLANK($K92)),0,$K92/$J92/1000*VLOOKUP($I92,EnvProfiler,CB$3,FALSE)*Usetime_product2)","v":{"$error":"#N/A"}},{"$error":"#N/A"},{"$error":"#N/A"},{"$error":"#N/A"},{"$error":"#N/A"},{"$error":"#N/A"},{"$error":"#N/A"},{"$error":"#N/A"},{"$error":"#N/A"}]
[null,null,null,null,{"$error":"#N/A"},{"$error":"#N/A"},{"$error":"#N/A"},null,{"$error":"#N/A"},{"$error":"#N/A"},{"$error":"#N/A"},null,null,null,null,null,null,null,null,null,null,null,null,null,null,null,null,{"$error":"#N/A"},{"$error":"#N/A"},{"$error":"#N/A"},{"$error":"#N/A"},{"$error":"#N/A"},{"$error":"#N/A"},{"$error":"#N/A"},{"$error":"#N/A"},{"$error":"#N/A"},{"$error":"#N/A"},{"$error":"#N/A"},{"$error":"#N/A"},{"$error":"#N/A"},{"$error":"#N/A"},{"$error":"#N/A"},{"$error":"#N/A"},{"$error":"#N/A"},{"$error":"#N/A"},{"$error":"#N/A"},{"$error":"#N/A"},{"$error":"#N/A"},{"$error":"#N/A"},{"$error":"#N/A"},{"$error":"#N/A"},{"$error":"#N/A"},{"$error":"#N/A"},{"$error":"#N/A"},{"$error":"#N/A"},{"$error":"#N/A"},null,null,null,{"$error":"#N/A"},{"$error":"#N/A"},{"$error":"#N/A"},{"$error":"#N/A"},{"$error":"#N/A"},{"$error":"#N/A"},{"$error":"#N/A"},{"$error":"#N/A"},{"$error":"#N/A"},{"$error":"#N/A"},{"$error":"#N/A"},{"$error":"#N/A"},{"$error":"#N/A"},{"$error":"#N/A"},{"$error":"#N/A"},{"$error":"#N/A"},{"$error":"#N/A"},{"$error":"#N/A"},{"$error":"#N/A"},{"$error":"#N/A"},{"$error":"#N/A"},{"$error":"#N/A"},{"$error":"#N/A"},{"$error":"#N/A"},{"$error":"#N/A"},{"$error":"#N/A"},{"$error":"#N/A"},{"$error":"#N/A"},{"$error":"#N/A"}]
[null,null,null,null,{"$error":"#N/A"},{"$error":"#N/A"},{"$error":"#N/A"},null,{"$error":"#N/A"},{"$error":"#N/A"},{"$error":"#N/A"},null,null,null,null,null,null,null,null,null,null,null,null,null,null,null,null,{"$error":"#N/A"},{"$error":"#N/A"},{"$error":"#N/A"},{"$error":"#N/A"},{"$error":"#N/A"},{"$error":"#N/A"},{"$error":"#N/A"},{"$error":"#N/A"},{"$error":"#N/A"},{"$error":"#N/A"},{"$error":"#N/A"},{"$error":"#N/A"},{"$error":"#N/A"},{"$error":"#N/A"},{"$error":"#N/A"},{"$error":"#N/A"},{"$error":"#N/A"},{"$error":"#N/A"},{"$error":"#N/A"},{"$error":"#N/A"},{"$error":"#N/A"},{"$error":"#N/A"},{"$error":"#N/A"},{"$error":"#N/A"},{"$error":"#N/A"},{"$error":"#N/A"},{"$error":"#N/A"},{"$error":"#N/A"},{"$error":"#N/A"},null,null,null,{"$error":"#N/A"},{"$error":"#N/A"},{"$error":"#N/A"},{"$error":"#N/A"},{"$error":"#N/A"},{"$error":"#N/A"},{"$error":"#N/A"},{"$error":"#N/A"},{"$error":"#N/A"},{"$error":"#N/A"},{"$error":"#N/A"},{"$error":"#N/A"},{"$error":"#N/A"},{"$error":"#N/A"},{"$error":"#N/A"},{"$error":"#N/A"},{"$error":"#N/A"},{"$error":"#N/A"},{"$error":"#N/A"},{"$error":"#N/A"},{"$error":"#N/A"},{"$error":"#N/A"},{"$error":"#N/A"},{"$error":"#N/A"},{"$error":"#N/A"},{"$error":"#N/A"},{"$error":"#N/A"},{"$error":"#N/A"},{"$error":"#N/A"}]
[null,null,null,null,{"$error":"#N/A"},{"$error":"#N/A"},{"$error":"#N/A"},null,{"$error":"#N/A"},{"$error":"#N/A"},{"$error":"#N/A"},null,null,null,null,null,null,null,null,null,null,null,null,null,null,null,null,{"$error":"#N/A"},{"$error":"#N/A"},{"$error":"#N/A"},{"$error":"#N/A"},{"$error":"#N/A"},{"$error":"#N/A"},{"$error":"#N/A"},{"$error":"#N/A"},{"$error":"#N/A"},{"$error":"#N/A"},{"$error":"#N/A"},{"$error":"#N/A"},{"$error":"#N/A"},{"$error":"#N/A"},{"$error":"#N/A"},{"$error":"#N/A"},{"$error":"#N/A"},{"$error":"#N/A"},{"$error":"#N/A"},{"$error":"#N/A"},{"$error":"#N/A"},{"$error":"#N/A"},{"$error":"#N/A"},{"$error":"#N/A"},{"$error":"#N/A"},{"$error":"#N/A"},{"$error":"#N/A"},{"$error":"#N/A"},{"$error":"#N/A"},null,null,null,{"$error":"#N/A"},{"$error":"#N/A"},{"$error":"#N/A"},{"$error":"#N/A"},{"$error":"#N/A"},{"$error":"#N/A"},{"$error":"#N/A"},{"$error":"#N/A"},{"$error":"#N/A"},{"$error":"#N/A"},{"$error":"#N/A"},{"$error":"#N/A"},{"$error":"#N/A"},{"$error":"#N/A"},{"$error":"#N/A"},{"$error":"#N/A"},{"$error":"#N/A"},{"$error":"#N/A"},{"$error":"#N/A"},{"$error":"#N/A"},{"$error":"#N/A"},{"$error":"#N/A"},{"$error":"#N/A"},{"$error":"#N/A"},{"$error":"#N/A"},{"$error":"#N/A"},{"$error":"#N/A"},{"$error":"#N/A"},{"$error":"#N/A"}]
[null,null,null,null,{"$error":"#N/A"},{"$error":"#N/A"},{"$error":"#N/A"},null,{"$error":"#N/A"},{"$error":"#N/A"},{"$error":"#N/A"},null,null,null,null,null,null,null,null,null,null,null,null,null,null,null,null,{"$error":"#N/A"},{"$error":"#N/A"},{"$error":"#N/A"},{"$error":"#N/A"},{"$error":"#N/A"},{"$error":"#N/A"},{"$error":"#N/A"},{"$error":"#N/A"},{"$error":"#N/A"},{"$error":"#N/A"},{"$error":"#N/A"},{"$error":"#N/A"},{"$error":"#N/A"},{"$error":"#N/A"},{"$error":"#N/A"},{"$error":"#N/A"},{"$error":"#N/A"},{"$error":"#N/A"},{"$error":"#N/A"},{"$error":"#N/A"},{"$error":"#N/A"},{"$error":"#N/A"},{"$error":"#N/A"},{"$error":"#N/A"},{"$error":"#N/A"},{"$error":"#N/A"},{"$error":"#N/A"},{"$error":"#N/A"},{"$error":"#N/A"},null,null,null,{"$error":"#N/A"},{"$error":"#N/A"},{"$error":"#N/A"},{"$error":"#N/A"},{"$error":"#N/A"},{"$error":"#N/A"},{"$error":"#N/A"},{"$error":"#N/A"},{"$error":"#N/A"},{"$error":"#N/A"},{"$error":"#N/A"},{"$error":"#N/A"},{"$error":"#N/A"},{"$error":"#N/A"},{"$error":"#N/A"},{"$error":"#N/A"},{"$error":"#N/A"},{"$error":"#N/A"},{"$error":"#N/A"},{"$error":"#N/A"},{"$error":"#N/A"},{"$error":"#N/A"},{"$error":"#N/A"},{"$error":"#N/A"},{"$error":"#N/A"},{"$error":"#N/A"},{"$error":"#N/A"},{"$error":"#N/A"},{"$error":"#N/A"}]
[null,null,null,null,{"$error":"#N/A"},{"$error":"#N/A"},{"$error":"#N/A"},null,{"$error":"#N/A"},{"$error":"#N/A"},{"$error":"#N/A"},null,null,null,null,null,null,null,null,null,null,null,null,null,null,null,null,{"$error":"#N/A"},{"$error":"#N/A"},{"$error":"#N/A"},{"$error":"#N/A"},{"$error":"#N/A"},{"$error":"#N/A"},{"$error":"#N/A"},{"$error":"#N/A"},{"$error":"#N/A"},{"$error":"#N/A"},{"$error":"#N/A"},{"$error":"#N/A"},{"$error":"#N/A"},{"$error":"#N/A"},{"$error":"#N/A"},{"$error":"#N/A"},{"$error":"#N/A"},{"$error":"#N/A"},{"$error":"#N/A"},{"$error":"#N/A"},{"$error":"#N/A"},{"$error":"#N/A"},{"$error":"#N/A"},{"$error":"#N/A"},{"$error":"#N/A"},{"$error":"#N/A"},{"$error":"#N/A"},{"$error":"#N/A"},{"$error":"#N/A"},null,null,null,{"$error":"#N/A"},{"$error":"#N/A"},{"$error":"#N/A"},{"$error":"#N/A"},{"$error":"#N/A"},{"$error":"#N/A"},{"$error":"#N/A"},{"$error":"#N/A"},{"$error":"#N/A"},{"$error":"#N/A"},{"$error":"#N/A"},{"$error":"#N/A"},{"$error":"#N/A"},{"$error":"#N/A"},{"$error":"#N/A"},{"$error":"#N/A"},{"$error":"#N/A"},{"$error":"#N/A"},{"$error":"#N/A"},{"$error":"#N/A"},{"$error":"#N/A"},{"$error":"#N/A"},{"$error":"#N/A"},{"$error":"#N/A"},{"$error":"#N/A"},{"$error":"#N/A"},{"$error":"#N/A"},{"$error":"#N/A"},{"$error":"#N/A"}]
[null,null,null,null,{"$error":"#N/A"},{"$error":"#N/A"},{"$error":"#N/A"},null,{"$error":"#N/A"},{"$error":"#N/A"},{"$error":"#N/A"},null,null,null,null,null,null,null,null,null,null,null,null,null,null,null,null,{"$error":"#N/A"},{"$error":"#N/A"},{"$error":"#N/A"},{"$error":"#N/A"},{"$error":"#N/A"},{"$error":"#N/A"},{"$error":"#N/A"},{"$error":"#N/A"},{"$error":"#N/A"},{"$error":"#N/A"},{"$error":"#N/A"},{"$error":"#N/A"},{"$error":"#N/A"},{"$error":"#N/A"},{"$error":"#N/A"},{"$error":"#N/A"},{"$error":"#N/A"},{"$error":"#N/A"},{"$error":"#N/A"},{"$error":"#N/A"},{"$error":"#N/A"},{"$error":"#N/A"},{"$error":"#N/A"},{"$error":"#N/A"},{"$error":"#N/A"},{"$error":"#N/A"},{"$error":"#N/A"},{"$error":"#N/A"},{"$error":"#N/A"},null,null,null,{"$error":"#N/A"},{"$error":"#N/A"},{"$error":"#N/A"},{"$error":"#N/A"},{"$error":"#N/A"},{"$error":"#N/A"},{"$error":"#N/A"},{"$error":"#N/A"},{"$error":"#N/A"},{"$error":"#N/A"},{"$error":"#N/A"},{"$error":"#N/A"},{"$error":"#N/A"},{"$error":"#N/A"},{"$error":"#N/A"},{"$error":"#N/A"},{"$error":"#N/A"},{"$error":"#N/A"},{"$error":"#N/A"},{"$error":"#N/A"},{"$error":"#N/A"},{"$error":"#N/A"},{"$error":"#N/A"},{"$error":"#N/A"},{"$error":"#N/A"},{"$error":"#N/A"},{"$error":"#N/A"},{"$error":"#N/A"},{"$error":"#N/A"}]
[null,null,null,null,{"$error":"#N/A"},{"$error":"#N/A"},{"$error":"#N/A"},null,{"$error":"#N/A"},{"$error":"#N/A"},{"$error":"#N/A"},null,null,null,null,null,null,null,null,null,null,null,null,null,null,null,null,{"$error":"#N/A"},{"$error":"#N/A"},{"$error":"#N/A"},{"$error":"#N/A"},{"$error":"#N/A"},{"$error":"#N/A"},{"$error":"#N/A"},{"$error":"#N/A"},{"$error":"#N/A"},{"$error":"#N/A"},{"$error":"#N/A"},{"$error":"#N/A"},{"$error":"#N/A"},{"$error":"#N/A"},{"$error":"#N/A"},{"$error":"#N/A"},{"$error":"#N/A"},{"$error":"#N/A"},{"$error":"#N/A"},{"$error":"#N/A"},{"$error":"#N/A"},{"$error":"#N/A"},{"$error":"#N/A"},{"$error":"#N/A"},{"$error":"#N/A"},{"$error":"#N/A"},{"$error":"#N/A"},{"$error":"#N/A"},{"$error":"#N/A"},null,null,null,{"$error":"#N/A"},{"$error":"#N/A"},{"$error":"#N/A"},{"$error":"#N/A"},{"$error":"#N/A"},{"$error":"#N/A"},{"$error":"#N/A"},{"$error":"#N/A"},{"$error":"#N/A"},{"$error":"#N/A"},{"$error":"#N/A"},{"$error":"#N/A"},{"$error":"#N/A"},{"$error":"#N/A"},{"$error":"#N/A"},{"$error":"#N/A"},{"$error":"#N/A"},{"$error":"#N/A"},{"$error":"#N/A"},{"$error":"#N/A"},{"$error":"#N/A"},{"$error":"#N/A"},{"$error":"#N/A"},{"$error":"#N/A"},{"$error":"#N/A"},{"$error":"#N/A"},{"$error":"#N/A"},{"$error":"#N/A"},{"$error":"#N/A"}]
[null,null,null,null,{"$error":"#N/A"},{"$error":"#N/A"},{"$error":"#N/A"},null,{"$error":"#N/A"},{"$error":"#N/A"},{"$error":"#N/A"},null,null,null,null,null,null,null,null,null,null,null,null,null,null,null,null,{"$error":"#N/A"},{"$error":"#N/A"},{"$error":"#N/A"},{"$error":"#N/A"},{"$error":"#N/A"},{"$error":"#N/A"},{"$error":"#N/A"},{"$error":"#N/A"},{"$error":"#N/A"},{"$error":"#N/A"},{"$error":"#N/A"},{"$error":"#N/A"},{"$error":"#N/A"},{"$error":"#N/A"},{"$error":"#N/A"},{"$error":"#N/A"},{"$error":"#N/A"},{"$error":"#N/A"},{"$error":"#N/A"},{"$error":"#N/A"},{"$error":"#N/A"},{"$error":"#N/A"},{"$error":"#N/A"},{"$error":"#N/A"},{"$error":"#N/A"},{"$error":"#N/A"},{"$error":"#N/A"},{"$error":"#N/A"},{"$error":"#N/A"},null,null,null,{"$error":"#N/A"},{"$error":"#N/A"},{"$error":"#N/A"},{"$error":"#N/A"},{"$error":"#N/A"},{"$error":"#N/A"},{"$error":"#N/A"},{"$error":"#N/A"},{"$error":"#N/A"},{"$error":"#N/A"},{"$error":"#N/A"},{"$error":"#N/A"},{"$error":"#N/A"},{"$error":"#N/A"},{"$error":"#N/A"},{"$error":"#N/A"},{"$error":"#N/A"},{"$error":"#N/A"},{"$error":"#N/A"},{"$error":"#N/A"},{"$error":"#N/A"},{"$error":"#N/A"},{"$error":"#N/A"},{"$error":"#N/A"},{"$error":"#N/A"},{"$error":"#N/A"},{"$error":"#N/A"},{"$error":"#N/A"},{"$error":"#N/A"}]
[null,null,null,null,{"$error":"#N/A"},{"$error":"#N/A"},{"$error":"#N/A"},null,{"$error":"#N/A"},{"$error":"#N/A"},{"$error":"#N/A"},null,null,null,null,null,null,null,null,null,null,null,null,null,null,null,null,{"$error":"#N/A"},{"$error":"#N/A"},{"$error":"#N/A"},{"$error":"#N/A"},{"$error":"#N/A"},{"$error":"#N/A"},{"$error":"#N/A"},{"$error":"#N/A"},{"$error":"#N/A"},{"$error":"#N/A"},{"$error":"#N/A"},{"$error":"#N/A"},{"$error":"#N/A"},{"$error":"#N/A"},{"$error":"#N/A"},{"$error":"#N/A"},{"$error":"#N/A"},{"$error":"#N/A"},{"$error":"#N/A"},{"$error":"#N/A"},{"$error":"#N/A"},{"$error":"#N/A"},{"$error":"#N/A"},{"$error":"#N/A"},{"$error":"#N/A"},{"$error":"#N/A"},{"$error":"#N/A"},{"$error":"#N/A"},{"$error":"#N/A"},null,null,null,{"$error":"#N/A"},{"$error":"#N/A"},{"$error":"#N/A"},{"$error":"#N/A"},{"$error":"#N/A"},{"$error":"#N/A"},{"$error":"#N/A"},{"$error":"#N/A"},{"$error":"#N/A"},{"$error":"#N/A"},{"$error":"#N/A"},{"$error":"#N/A"},{"$error":"#N/A"},{"$error":"#N/A"},{"$error":"#N/A"},{"$error":"#N/A"},{"$error":"#N/A"},{"$error":"#N/A"},{"$error":"#N/A"},{"$error":"#N/A"},{"$error":"#N/A"},{"$error":"#N/A"},{"$error":"#N/A"},{"$error":"#N/A"},{"$error":"#N/A"},{"$error":"#N/A"},{"$error":"#N/A"},{"$error":"#N/A"},{"$error":"#N/A"}]
[]
[]
[]
[]
[]
[null,null,"Baggrundsdata"]
[]
[null,null,null,null,{"$f":"Name_product1","v":0},null,null,null,{"$f":"Name_product2","v":0}]
[]
[null,null,"Tidsforbrug på eget lager inden første brug",null,"Egen husketekst","Funktion","Sekunder pr. produkt pr. cyklus",null,"Egen husketekst","Funktion","Sekunder pr. produkt pr. cyklus"]
[null,null,"Sker én gang i løbet af ",null,{"$error":"#N/A"},{"$error":"#N/A"},{"$error":"#N/A"},null,{"$error":"#N/A"},{"$error":"#N/A"},{"$error":"#N/A"},10,null,null,null,null,null,null,null,null,null,null,null,null,null,null,{"$f":"IF(OR(F112=\"\",ISBLANK(F112)),0,G112*VLOOKUP(F112,timepriserTransport,4,FALSE)/(60*60))","v":{"$error":"#N/A"}},null,null,null,null,null,null,null,null,null,null,null,null,null,null,null,null,null,null,null,null,null,null,null,null,null,null,null,null,null,null,null,{"$f":"IF(OR(K112=\"\",ISBLANK(K112)),0,K112*VLOOKUP(J112,timepriserTransport,8,FALSE)/(60*60))","v":{"$error":"#N/A"}}]
[null,null,"produktets livscyklus",null,{"$error":"#N/A"},{"$error":"#N/A"},{"$error":"#N/A"},null,{"$error":"#N/A"},{"$error":"#N/A"},{"$error":"#N/A"},null,null,null,null,null,null,null,null,null,null,null,null,null,null,null,{"$error":"#N/A"},null,null,null,null,null,null,null,null,null,null,null,null,null,null,null,null,null,null,null,null,null,null,null,null,null,null,null,null,null,null,null,{"$error":"#N/A"}]
[null,null,null,null,{"$error":"#N/A"},{"$error":"#N/A"},{"$error":"#N/A"},null,{"$error":"#N/A"},{"$error":"#N/A"},{"$error":"#N/A"},null,null,null,null,null,null,null,null,null,null,null,null,null,null,null,{"$error":"#N/A"},null,null,null,null,null,null,null,null,null,null,null,null,null,null,null,null,null,null,null,null,null,null,null,null,null,null,null,null,null,null,null,{"$error":"#N/A"}]
[null,null,null,null,{"$error":"#N/A"},{"$error":"#N/A"},{"$error":"#N/A"},null,{"$error":"#N/A"},{"$error":"#N/A"},{"$error":"#N/A"},null,null,null,null,null,null,null,null,null,null,null,null,null,null,null,{"$error":"#N/A"},null,null,null,null,null,null,null,null,null,null,null,null,null,null,null,null,null,null,null,null,null,null,null,null,null,null,null,null,null,null,null,{"$error":"#N/A"}]
[null,null,null,null,{"$error":"#N/A"},{"$error":"#N/A"},{"$error":"#N/A"},null,{"$error":"#N/A"},{"$error":"#N/A"},{"$error":"#N/A"},null,null,null,null,null,null,null,null,null,null,null,null,null,null,null,{"$error":"#N/A"},null,null,null,null,null,null,null,null,null,null,null,null,null,null,null,null,null,null,null,null,null,null,null,null,null,null,null,null,null,null,null,{"$error":"#N/A"}]
[null,null,null,null,{"$error":"#N/A"},{"$error":"#N/A"},{"$error":"#N/A"},null,{"$error":"#N/A"},{"$error":"#N/A"},{"$error":"#N/A"},null,null,null,null,null,null,null,null,null,null,null,null,null,null,null,{"$error":"#N/A"},null,null,null,null,null,null,null,null,null,null,null,null,null,null,null,null,null,null,null,null,null,null,null,null,null,null,null,null,null,null,null,{"$error":"#N/A"}]
[null,null,null,null,{"$error":"#N/A"},{"$error":"#N/A"},{"$error":"#N/A"},null,{"$error":"#N/A"},{"$error":"#N/A"},{"$error":"#N/A"},null,null,null,null,null,null,null,null,null,null,null,null,null,null,null,{"$error":"#N/A"},null,null,null,null,null,null,null,null,null,null,null,null,null,null,null,null,null,null,null,null,null,null,null,null,null,null,null,null,null,null,null,{"$error":"#N/A"}]
[null,null,null,null,{"$error":"#N/A"},{"$error":"#N/A"},{"$error":"#N/A"},null,{"$error":"#N/A"},{"$error":"#N/A"},{"$error":"#N/A"},null,null,null,null,null,null,null,null,null,null,null,null,null,null,null,{"$error":"#N/A"},null,null,null,null,null,null,null,null,null,null,null,null,null,null,null,null,null,null,null,null,null,null,null,null,null,null,null,null,null,null,null,{"$error":"#N/A"}]
[null,null,null,null,{"$error":"#N/A"},{"$error":"#N/A"},{"$error":"#N/A"},null,{"$error":"#N/A"},{"$error":"#N/A"},{"$error":"#N/A"},null,null,null,null,null,null,null,null,null,null,null,null,null,null,null,{"$error":"#N/A"},null,null,null,null,null,null,null,null,null,null,null,null,null,null,null,null,null,null,null,null,null,null,null,null,null,null,null,null,null,null,null,{"$error":"#N/A"}]
[null,null,null,null,{"$error":"#N/A"},{"$error":"#N/A"},{"$error":"#N/A"},null,{"$error":"#N/A"},{"$error":"#N/A"},{"$error":"#N/A"},null,null,null,null,null,null,null,null,null,null,null,null,null,null,null,{"$error":"#N/A"},null,null,null,null,null,null,null,null,null,null,null,null,null,null,null,null,null,null,null,null,null,null,null,null,null,null,null,null,null,null,null,{"$error":"#N/A"}]
[]
[null,null,"Tidsforbrug ifm. vaskecyklus",null,"Egen husketekst","Funktion","sekunder pr. produkt pr. cyklus",null,"Egen husketekst","Funktion","sekunder pr. produkt pr. cyklus"]
[null,null,"Sker for hver vaskecyklus",null,{"$error":"#N/A"},{"$error":"#N/A"},{"$error":"#N/A"},null,{"$error":"#N/A"},{"$error":"#N/A"},{"$error":"#N/A"},10,null,null,null,null,null,null,null,null,null,null,null,null,null,null,{"$f":"IF(OR(F124=\"\",ISBLANK(F124)),0,G124*VLOOKUP(F124,timepriserTransport,4,FALSE)/(60*60)*Usetime_product1)","v":{"$error":"#N/A"}},null,null,null,null,null,null,null,null,null,null,null,null,null,null,null,null,null,null,null,null,null,null,null,null,null,null,null,null,null,null,null,{"$f":"IF(OR(K124=\"\",ISBLANK(K124)),0,K124*VLOOKUP(J124,timepriserTransport,8,FALSE)/(60*60)*Usetime_product2)","v":{"$error":"#N/A"}}]
[null,null,"(ekskl. køretid)",null,{"$error":"#N/A"},{"$error":"#N/A"},{"$error":"#N/A"},null,{"$error":"#N/A"},{"$error":"#N/A"},{"$error":"#N/A"},null,null,null,null,null,null,null,null,null,null,null,null,null,null,null,{"$f":"IF(OR(F125=\"\",ISBLANK(F125)),0,G125*VLOOKUP(F125,timepriserTransport,4,FALSE)/(60*60)*Usetime_product1)","v":{"$error":"#N/A"}},null,null,null,null,null,null,null,null,null,null,null,null,null,null,null,null,null,null,null,null,null,null,null,null,null,null,null,null,null,null,null,{"$error":"#N/A"}]
[null,null,null,null,{"$error":"#N/A"},{"$error":"#N/A"},{"$error":"#N/A"},null,{"$error":"#N/A"},{"$error":"#N/A"},{"$error":"#N/A"},null,null,null,null,null,null,null,null,null,null,null,null,null,null,null,{"$error":"#N/A"},null,null,null,null,null,null,null,null,null,null,null,null,null,null,null,null,null,null,null,null,null,null,null,null,null,null,null,null,null,null,null,{"$error":"#N/A"}]
[null,null,null,null,{"$error":"#N/A"},{"$error":"#N/A"},{"$error":"#N/A"},null,{"$error":"#N/A"},{"$error":"#N/A"},{"$error":"#N/A"},null,null,null,null,null,null,null,null,null,null,null,null,null,null,null,{"$error":"#N/A"},null,null,null,null,null,null,null,null,null,null,null,null,null,null,null,null,null,null,null,null,null,null,null,null,null,null,null,null,null,null,null,{"$error":"#N/A"}]
[null,null,null,null,{"$error":"#N/A"},{"$error":"#N/A"},{"$error":"#N/A"},null,{"$error":"#N/A"},{"$error":"#N/A"},{"$error":"#N/A"},null,null,null,null,null,null,null,null,null,null,null,null,null,null,null,{"$error":"#N/A"},null,null,null,null,null,null,null,null,null,null,null,null,null,null,null,null,null,null,null,null,null,null,null,null,null,null,null,null,null,null,null,{"$error":"#N/A"}]
[null,null,null,null,{"$error":"#N/A"},{"$error":"#N/A"},{"$error":"#N/A"},null,{"$error":"#N/A"},{"$error":"#N/A"},{"$error":"#N/A"},null,null,null,null,null,null,null,null,null,null,null,null,null,null,null,{"$error":"#N/A"},null,null,null,null,null,null,null,null,null,null,null,null,null,null,null,null,null,null,null,null,null,null,null,null,null,null,null,null,null,null,null,{"$error":"#N/A"}]
[null,null,null,null,{"$error":"#N/A"},{"$error":"#N/A"},{"$error":"#N/A"},null,{"$error":"#N/A"},{"$error":"#N/A"},{"$error":"#N/A"},null,null,null,null,null,null,null,null,null,null,null,null,null,null,null,{"$error":"#N/A"},null,null,null,null,null,null,null,null,null,null,null,null,null,null,null,null,null,null,null,null,null,null,null,null,null,null,null,null,null,null,null,{"$error":"#N/A"}]
[null,null,null,null,{"$error":"#N/A"},{"$error":"#N/A"},{"$error":"#N/A"},null,{"$error":"#N/A"},{"$error":"#N/A"},{"$error":"#N/A"},null,null,null,null,null,null,null,null,null,null,null,null,null,null,null,{"$error":"#N/A"},null,null,null,null,null,null,null,null,null,null,null,null,null,null,null,null,null,null,null,null,null,null,null,null,null,null,null,null,null,null,null,{"$error":"#N/A"}]
[null,null,null,null,{"$error":"#N/A"},{"$error":"#N/A"},{"$error":"#N/A"},null,{"$error":"#N/A"},{"$error":"#N/A"},{"$error":"#N/A"},null,null,null,null,null,null,null,null,null,null,null,null,null,null,null,{"$error":"#N/A"},null,null,null,null,null,null,null,null,null,null,null,null,null,null,null,null,null,null,null,null,null,null,null,null,null,null,null,null,null,null,null,{"$error":"#N/A"}]
[null,null,null,null,{"$error":"#N/A"},{"$error":"#N/A"},{"$error":"#N/A"},null,{"$error":"#N/A"},{"$error":"#N/A"},{"$error":"#N/A"},null,null,null,null,null,null,null,null,null,null,null,null,null,null,null,{"$error":"#N/A"},null,null,null,null,null,null,null,null,null,null,null,null,null,null,null,null,null,null,null,null,null,null,null,null,null,null,null,null,null,null,null,{"$error":"#N/A"}]
[]
[null,null,"Omkostninger til løn til:",null,null,"timepris for personalegruppe",null,null,null,"timepris for personalegruppe"]
[null,null,"lagermedarbejder",null,null,{"$error":"#N/A"},null,null,null,{"$error":"#N/A"}]
[null,null,"lastbilchauffør",null,null,{"$error":"#N/A"},null,null,null,{"$error":"#N/A"}]
[null,null,"klinisk personale",null,null,{"$error":"#N/A"},null,null,null,{"$error":"#N/A"}]
[null,null,"logistik medarbejder",null,null,{"$error":"#N/A"},null,null,null,{"$error":"#N/A"}]
[null,null,"anden funktion",null,null,{"$error":"#N/A"},null,null,null,{"$error":"#N/A"}]
[null,null,"anden funktion",null,null,{"$error":"#N/A"},null,null,null,{"$error":"#N/A"}]
[null,null,"anden funktion",null,null,{"$error":"#N/A"},null,null,null,{"$error":"#N/A"}]
[null,null,"anden funktion",null,null,{"$error":"#N/A"},null,null,null,{"$error":"#N/A"}]
[null,null,"anden funktion",null,null,{"$error":"#N/A"},null,null,null,{"$error":"#N/A"}]
[null,null,"anden funktion",null,null,{"$error":"#N/A"},null,null,null,{"$error":"#N/A"}]
[]
[null,null,"Omkostninger for kørsel i egne vogne"]
[null,null,"Gennemsnitlig indkøbspris for lastbil",null,null,{"$error":"#N/A"},"DKK",null,null,{"$error":"#N/A"},"DKK"]
[null,null,"Gennemsnitlig kørsel i levetid",null,null,{"$error":"#N/A"},"km",null,null,{"$error":"#N/A"},"km"]
[null,null,"Gennemsnitlig læs i levetid (inkl. tomme ture)",null,null,{"$error":"#N/A"},"ton",null,null,{"$error":"#N/A"},"ton"]
[null,null,"Gennemsnitlige reparationsomkostninger i levetid",null,null,{"$error":"#N/A"},"DKK",null,null,{"$error":"#N/A"},"DKK"]
[null,null,"Gennemsnitlig distance pr. liter brændstof",null,null,{"$error":"#N/A"},"km/L",null,null,{"$error":"#N/A"},"km/L"]
[null,null,"Brændstofpris",null,null,{"$error":"#N/A"},"DKK/L",null,null,{"$error":"#N/A"},"DKK/L"]
[null,null,"Beregnet pris pr. ton-km",null,null,{"$f":"(F148+F151)/(F150*F149)+F153/(F152*F150)","v":{"$error":"#N/A"}},"DKK/(ton.km)",null,null,{"$f":"(J148+J151)/(J150*J149)+J153/(J152*J150)","v":{"$error":"#N/A"}},"DKK/(ton.km)"]
[]
[]
[]
[]
[]
[]
[null,null,null,null,null,null,null,null,null,null,null,null,null,null,null,null,null,null,null,null,null,null,null,null,null,null,{"$f":"SUM(AA10:AA133)","v":{"$error":"#N/A"}},{"$f":"SUM(AB10:AB101)","v":{"$error":"#N/A"}},{"$f":"SUM(AC10:AC101)","v":{"$error":"#N/A"}},{"$error":"#N/A"},{"$error":"#N/A"},{"$error":"#N/A"},{"$error":"#N/A"},{"$error":"#N/A"},{"$error":"#N/A"},{"$error":"#N/A"},{"$error":"#N/A"},{"$error":"#N/A"},{"$error":"#N/A"},{"$error":"#N/A"},{"$error":"#N/A"},{"$error":"#N/A"},{"$error":"#N/A"},{"$error":"#N/A"},{"$error":"#N/A"},{"$error":"#N/A"},{"$error":"#N/A"},{"$error":"#N/A"},{"$error":"#N/A"},{"$error":"#N/A"},{"$error":"#N/A"},{"$error":"#N/A"},{"$error":"#N/A"},{"$error":"#N/A"},{"$error":"#N/A"},{"$f":"SUM(BD10:BD101)","v":{"$error":"#N/A"}},null,null,{"$f":"SUM(BG10:BG133)","v":{"$error":"#N/A"}},{"$f":"SUM(BH10:BH101)","v":{"$error":"#N/A"}},{"$error":"#N/A"},{"$error":"#N/A"},{"$error":"#N/A"},{"$error":"#N/A"},{"$error":"#N/A"},{"$error":"#N/A"},{"$error":"#N/A"},{"$error":"#N/A"},{"$error":"#N/A"},{"$error":"#N/A"},{"$error":"#N/A"},{"$error":"#N/A"},{"$error":"#N/A"},{"$error":"#N/A"},{"$error":"#N/A"},{"$error":"#N/A"},{"$error":"#N/A"},{"$error":"#N/A"},{"$error":"#N/A"},{"$error":"#N/A"},{"$error":"#N/A"},{"$error":"#N/A"},{"$error":"#N/A"},{"$f":"SUM(CF10:CF101)","v":{"$error":"#N/A"}},{"$error":"#N/A"},{"$error":"#N/A"},{"$error":"#N/A"},{"$error":"#N/A"}]

{"sheet":"Brug og vask","index":4,"n_rows":130,"n_cols":92,"rows_kept":130,"cut":false,"hidden":false,"merged":[[46,4,46,5],[46,8,46,9],[4,8,4,9],[4,4,4,5]]}
[null,null,null,null,null,null,null,null,null,null,null,null,null,null,null,null,null,null,null,null,null,null,null,null,null,null,null,null,null,null,null,"product1"]
[null,null,null,null,null,null,null,null,null,null,null,null,null,null,null,null,null,null,null,null,null,null,null,null,null,null,null,null,null,null,null,null,null,null,null,null,null,null,null,null,null,null,null,null,null,null,null,null,null,null,null,null,null,null,null,null,null,null,null,null,null,null,null,"product2"]
[null,null,null,null,null,null,null,null,null,null,null,null,null,null,null,null,null,null,null,null,null,null,null,null,null,null,null,null,null,null,null,{"$f":"Processer!G1","v":7},{"$f":"Processer!H1","v":8},{"$f":"Processer!I1","v":9},{"$f":"Processer!J1","v":10},{"$f":"Processer!K1","v":11},{"$f":"Processer!L1","v":12},{"$f":"Processer!M1","v":13},{"$f":"Processer!N1","v":14},{"$f":"Processer!O1","v":15},{"$f":"Processer!P1","v":16},{"$f":"Processer!Q1","v":17},{"$f":"Processer!R1","v":18},{"$f":"Processer!S1","v":19},{"$f":"Processer!T1","v":20},{"$f":"Processer!U1","v":21},{"$f":"Processer!V1","v":22},{"$f":"Processer!W1","v":23},{"$f":"Processer!X1","v":24},{"$f":"Processer!Y1","v":25},{"$f":"Processer!Z1","v":26},{"$f":"Processer!AA1","v":27},{"$f":"Processer!AB1","v":28},{"$f":"Processer!AC1","v":29},{"$f":"Processer!AD1","v":30},{"$f":"Processer!AE1","v":31},{"$f":"Processer!AF1","v":32},{"$f":"Processer!AG1","v":33},{"$f":"Processer!AH1","v":34},35,null,null,null,{"$f":"Processer!G1","v":7},{"$f":"Processer!H1","v":8},{"$f":"Processer!I1","v":9},{"$f":"Processer!J1","v":10},{"$f":"Processer!K1","v":11},{"$f":"Processer!L1","v":12},{"$f":"Processer!M1","v":13},{"$f":"Processer!N1","v":14},{"$f":"Processer!O1","v":15},{"$f":"Processer!P1","v":16},{"$f":"Processer!Q1","v":17},{"$f":"Processer!R1","v":18},{"$f":"Processer!S1","v":19},{"$f":"Processer!T1","v":20},{"$f":"Processer!U1","v":21},{"$f":"Processer!V1","v":22},{"$f":"Processer!W1","v":23},{"$f":"Processer!X1","v":24},{"$f":"Processer!Y1","v":25},{"$f":"Processer!Z1","v":26},{"$f":"Processer!AA1","v":27},{"$f":"Processer!AB1","v":28},{"$f":"Processer!AC1","v":29},{"$f":"Processer!AD1","v":30},{"$f":"Processer!AE1","v":31},{"$f":"Processer!AF1","v":32},{"$f":"Processer!AG1","v":33},{"$f":"Processer!AH1","v":34},35]
[null,null,"Brug og vask af flergangstekstiler",null,null,null,null,null,null,null,null,null,null,null,null,null,null,null,null,null,null,null,null,null,null,null,null,null,null,null,"økonomi/ produkt","miljøprofil ekskl energi",null,null,null,null,null,null,null,null,null,null,null,null,null,null,null,null,null,null,null,null,null,null,null,null,null,null,null,null,null,null,"økonomi/ produkt","miljøprofil ekskl energi"]
[null,null,"(felter med * skal udfyldes)",null,{"$f":"Name_product1","v":0},null,null,null,{"$f":"Name_product2","v":0},null,null,null,null,null,null,null,null,null,null,null,null,null,null,null,null,null,null,null,null,null,"product1","Climate change","Ozone depletion","Ionising radiation","Photochemical ozone formation","Particulate matter","Human toxicity, non-cancer","Human toxicity, cancer","Acidification","Eutrophication, freshwater","Eutrophication, marine","Eutrophication, terrestrial","Ecotoxicity, freshwater","Land use","Water use","Resource use, fossils","Resource use, minerals and metals","Climate change - Fossil","Climate change - Biogenic","Climate change - Land use and LU change","Human toxicity, non-cancer - organics","Human toxicity, non-cancer - inorganics","Human toxicity, non-cancer - metals","Human toxicity, cancer - organics","Human toxicity, cancer - inorganics","Human toxicity, cancer - metals","Ecotoxicity, freshwater - organics","Ecotoxicity, freshwater - inorganics","Ecotoxicity, freshwater - metals","PFAS",null,null,"product2","Climate change","Ozone depletion","Ionising radiation","Photochemical ozone formation","Particulate matter","Human toxicity, non-cancer","Human toxicity, cancer","Acidification","Eutrophication, freshwater","Eutrophication, marine","Eutrophication, terrestrial","Ecotoxicity, freshwater","Land use","Water use","Resource use, fossils","Resource use, minerals and metals","Climate change - Fossil","Climate change - Biogenic","Climate change - Land use and LU change","Human toxicity, non-cancer - organics","Human toxicity, non-cancer - inorganics","Human toxicity, non-cancer - metals","Human toxicity, cancer - organics","Human toxicity, cancer - inorganics","Human toxicity, cancer - metals","Ecotoxicity, freshwater - organics","Ecotoxicity, freshwater - inorganics","Ecotoxicity, freshwater - metals","PFAS"]
[null,null,"Vask og tørring",null,null,null,null,null,null,null,null,null,null,null,null,null,null,null,null,null,null,null,null,null,null,null,null,null,null,null,null,"kg CO2 eq","kg CFC11 eq","kBq U-235 eq","kg NMVOC eq","disease inc.","CTUh","CTUh","mol H+ eq","kg P eq","kg N eq","mol N eq","CTUe","Pt","m3 depriv.","MJ","kg Sb eq","kg CO2 eq","kg CO2 eq","kg CO2 eq","CTUh","CTUh","CTUh","CTUh","CTUh","CTUh","CTUe","CTUe","CTUe","kg",null,null,null,"kg CO2 eq","kg CFC11 eq","kBq U-235 eq","kg NMVOC eq","disease inc.","CTUh","CTUh","mol H+ eq","kg P eq","kg N eq","mol N eq","CTUe","Pt","m3 depriv.","MJ","kg Sb eq","kg CO2 eq","kg CO2 eq","kg CO2 eq","CTUh","CTUh","CTUh","CTUh","CTUh","CTUh","CTUe","CTUe","CTUe","kg"]
[null,null,"Vaskeprogram*",null,{"$error":"#N/A"},null,null,null,{"$error":"#N/A"},null,null,null,null,null,null,null,null,null,null,null,null,null,null,null,null,null,null,null,null,null,"vaskemaskine",{"$f":"IFERROR(Mass_product1/1000*VLOOKUP($E$7,EnvProfiler,AF$3,FALSE)*Usetime_product1,0)","v":0},0,0,0,0,0,0,0,0,0,0,0,0,0,0,0,0,0,0,0,0,0,0,0,0,0,0,0,0,null,null,"vaskemaskine",{"$f":"IFERROR(Mass_product2/1000*VLOOKUP($I$7,EnvProfiler,BL$3,FALSE)*Usetime_product2,0)","v":0},0,0,0,0,0,0,0,0,0,0,0,0,0,0,0,0,0,0,0,0,0,0,0,0,0,0,0,0]
[]
[null,null,"Vaskeriets hovedenergikilde*",null,{"$error":"#N/A"},null,null,null,{"$error":"#N/A"},null,null,null,null,null,null,null,null,null,null,null,null,null,null,null,null,null,null,null,null,null,"varme",{"$f":"IFERROR($E$11/$E$13*VLOOKUP($E$7,EnvProfiler,3,FALSE)*VLOOKUP($E$9,EnvProfiler,AF$3,FALSE)*Usetime_product1,0)","v":0},0,0,0,0,0,0,0,0,0,0,0,0,0,0,0,0,0,0,0,0,0,0,0,0,0,0,0,0,null,null,"varme",{"$f":"IFERROR($I$11/$I$13*VLOOKUP($I$7,EnvProfiler,3,FALSE)*VLOOKUP($I$9,EnvProfiler,BL$3,FALSE)*Usetime_product2,0)","v":0},0,0,0,0,0,0,0,0,0,0,0,0,0,0,0,0,0,0,0,0,0,0,0,0,0,0,0,0]
[]
[null,null,"Vandforbrug, vandværksvand*",null,{"$error":"#N/A"},"L/vask",null,null,{"$error":"#N/A"},"L/vask",null,null,null,null,null,null,null,null,null,null,null,null,null,null,null,null,null,null,null,null,"vand",{"$f":"IFERROR($E$11/$E$13*VLOOKUP(Vaskevand,EnvProfiler,AF$3,FALSE)*Usetime_product1,0)","v":0},0,0,0,0,0,0,0,0,0,0,0,0,0,0,0,0,0,0,0,0,0,0,0,0,0,0,0,0,null,null,"vand",{"$f":"IFERROR($I$11/$I$13*VLOOKUP(Vaskevand,EnvProfiler,BL$3,FALSE)*Usetime_product2,0)","v":0},0,0,0,0,0,0,0,0,0,0,0,0,0,0,0,0,0,0,0,0,0,0,0,0,0,0,0,0]
[]
[null,null,"Maskinekapacitet*",null,{"$error":"#N/A"},"stk/maskine",null,null,{"$error":"#N/A"},"stk/maskine",null,null,null,null,null,null,null,null,null,null,null,null,null,null,null,null,null,null,null,null,"el",{"$f":"IFERROR(Mass_product1/1000*(VLOOKUP($E$7,EnvProfiler,2,FALSE)*VLOOKUP(DanskEl,EnvProfiler,AF$3,FALSE))*Usetime_product1,0)","v":0},0,0,0,0,0,0,0,0,0,0,0,0,0,0,0,0,0,0,0,0,0,0,0,0,0,0,0,0,null,null,"el",{"$f":"IFERROR(Mass_product2/1000*(VLOOKUP($I$7,EnvProfiler,2,FALSE)*VLOOKUP(DanskEl,EnvProfiler,BL$3,FALSE))*Usetime_product2,0)","v":0},0,0,0,0,0,0,0,0,0,0,0,0,0,0,0,0,0,0,0,0,0,0,0,0,0,0,0,0]
[]
[null,null,null,null,"Vaskemiddel","mængde pr vask",null,null,"Vaskemiddel","mængde pr vask"]
[null,null,"Vaskemiddel og mængde*",null,{"$error":"#N/A"},{"$error":"#N/A"},null,null,{"$error":"#N/A"},{"$error":"#N/A"},10,null,null,null,null,null,null,null,null,null,null,null,null,null,null,null,null,null,null,null,null,{"$f":"IFERROR($F16/$E$13*VLOOKUP($E16,EnvProfiler,AF$3,FALSE)*Usetime_product1,0)","v":0},0,0,0,0,0,0,0,0,0,{"$f":"IFERROR($F16/$E$13*VLOOKUP($E16,EnvProfiler,AP$3,FALSE)*Usetime_product1,0)","v":0},0,0,0,0,0,0,0,0,0,{"$f":"IFERROR($F16/$E$13*VLOOKUP($E16,EnvProfiler,AZ$3,FALSE)*Usetime_product1,0)","v":0},0,0,0,0,0,0,0,0,null,null,null,{"$f":"IFERROR($J16/$I$13*VLOOKUP($I16,EnvProfiler,BL$3,FALSE)*Usetime_product2,0)","v":0},0,0,0,0,0,0,0,0,0,{"$f":"IFERROR($J16/$I$13*VLOOKUP($I16,EnvProfiler,BV$3,FALSE)*Usetime_product2,0)","v":0},0,0,0,0,0,0,0,0,0,{"$f":"IFERROR($J16/$I$13*VLOOKUP($I16,EnvProfiler,CF$3,FALSE)*Usetime_product2,0)","v":0},0,0,0,0,0,0,0,0]
[null,null,null,null,{"$error":"#N/A"},{"$error":"#N/A"},null,null,{"$error":"#N/A"},{"$error":"#N/A"},null,null,null,null,null,null,null,null,null,null,null,null,null,null,null,null,null,null,null,null,null,0,0,0,0,0,0,0,0,0,0,0,0,0,0,0,0,0,0,0,0,0,0,0,0,0,0,0,0,0,null,null,null,0,0,0,0,0,0,0,0,0,0,0,0,0,0,0,0,0,0,0,0,0,0,0,0,0,0,0,0,0]
[null,null,null,null,{"$error":"#N/A"},{"$error":"#N/A"},null,null,{"$error":"#N/A"},{"$error":"#N/A"},null,null,null,null,null,null,null,null,null,null,null,null,null,null,null,null,null,null,null,null,null,0,0,0,0,0,0,0,0,0,0,0,0,0,0,0,0,0,0,0,0,0,0,0,0,0,0,0,0,0,null,null,null,{"$f":"IFERROR($J18/$I$13*VLOOKUP($I18,EnvProfiler,BL$3,FALSE)*Usetime_product2,0)","v":0},0,0,0,0,0,0,0,0,0,{"$f":"IFERROR($J18/$I$13*VLOOKUP($I18,EnvProfiler,BV$3,FALSE)*Usetime_product2,0)","v":0},0,0,0,0,0,0,0,0,0,{"$f":"IFERROR($J18/$I$13*VLOOKUP($I18,EnvProfiler,CF$3,FALSE)*Usetime_product2,0)","v":0},0,0,0,0,0,0,0,0]
[null,null,null,null,{"$error":"#N/A"},{"$error":"#N/A"},null,null,{"$error":"#N/A"},{"$error":"#N/A"},null,null,null,null,null,null,null,null,null,null,null,null,null,null,null,null,null,null,null,null,null,0,0,0,0,0,0,0,0,0,0,0,0,0,0,0,0,0,0,0,0,0,0,0,0,0,0,0,0,0,null,null,null,0,0,0,0,0,0,0,0,0,0,0,0,0,0,0,0,0,0,0,0,0,0,0,0,0,0,0,0,0]
[null,null,null,null,{"$error":"#N/A"},{"$error":"#N/A"},null,null,{"$error":"#N/A"},{"$error":"#N/A"},null,null,null,null,null,null,null,null,null,null,null,null,null,null,null,null,null,null,null,null,null,0,0,0,0,0,0,0,0,0,0,0,0,0,0,0,0,0,0,0,0,0,0,0,0,0,0,0,0,0,null,null,null,0,0,0,0,0,0,0,0,0,0,0,0,0,0,0,0,0,0,0,0,0,0,0,0,0,0,0,0,0]
[null,null,null,null,{"$error":"#N/A"},{"$error":"#N/A"},null,null,{"$error":"#N/A"},{"$error":"#N/A"},null,null,null,null,null,null,null,null,null,null,null,null,null,null,null,null,null,null,null,null,null,0,0,0,0,0,0,0,0,0,0,0,0,0,0,0,0,0,0,0,0,0,0,0,0,0,0,0,0,0,null,null,null,0,0,0,0,0,0,0,0,0,0,0,0,0,0,0,0,0,0,0,0,0,0,0,0,0,0,0,0,0]
[null,null,null,null,{"$error":"#N/A"},{"$error":"#N/A"},null,null,{"$error":"#N/A"},{"$error":"#N/A"},null,null,null,null,null,null,null,null,null,null,null,null,null,null,null,null,null,null,null,null,null,0,0,0,0,0,0,0,0,0,0,0,0,0,0,0,0,0,0,0,0,0,0,0,0,0,0,0,0,0,null,null,null,0,0,0,0,0,0,0,0,0,0,0,0,0,0,0,0,0,0,0,0,0,0,0,0,0,0,0,0,0]
[null,null,null,null,{"$error":"#N/A"},{"$error":"#N/A"},null,null,{"$error":"#N/A"},{"$error":"#N/A"},null,null,null,null,null,null,null,null,null,null,null,null,null,null,null,null,null,null,null,null,null,0,0,0,0,0,0,0,0,0,0,0,0,0,0,0,0,0,0,0,0,0,0,0,0,0,0,0,0,0,null,null,null,0,0,0,0,0,0,0,0,0,0,0,0,0,0,0,0,0,0,0,0,0,0,0,0,0,0,0,0,0]
[null,null,null,null,{"$error":"#N/A"},{"$error":"#N/A"},null,null,{"$error":"#N/A"},{"$error":"#N/A"},null,null,null,null,null,null,null,null,null,null,null,null,null,null,null,null,null,null,null,null,null,0,0,0,0,0,0,0,0,0,0,0,0,0,0,0,0,0,0,0,0,0,0,0,0,0,0,0,0,0,null,null,null,0,0,0,0,0,0,0,0,0,0,0,0,0,0,0,0,0,0,0,0,0,0,0,0,0,0,0,0,0]
[null,null,null,null,{"$error":"#N/A"},{"$error":"#N/A"},null,null,{"$error":"#N/A"},{"$error":"#N/A"},null,null,null,null,null,null,null,null,null,null,null,null,null,null,null,null,null,null,null,null,null,0,0,0,0,0,0,0,0,0,0,0,0,0,0,0,0,0,0,0,0,0,0,0,0,0,0,0,0,0,null,null,null,0,0,0,0,0,0,0,0,0,0,0,0,0,0,0,0,0,0,0,0,0,0,0,0,0,0,0,0,0]
[]
[]
[null,null,"Tørreprogram",null,{"$error":"#N/A"},null,null,null,{"$error":"#N/A"},null,null,null,null,null,null,null,null,null,null,null,null,null,null,null,null,null,null,null,null,null,"maskine",{"$f":"IFERROR(Mass_product1/1000*VLOOKUP($E$28,EnvProfiler,AF$3,FALSE)*Usetime_product1,0)","v":0},0,0,0,0,0,0,0,0,0,0,0,0,0,0,0,0,0,0,0,0,0,0,0,0,0,0,0,0,null,null,"maskine",{"$f":"IFERROR(Mass_product2/1000*VLOOKUP($I$28,EnvProfiler,BL$3,FALSE)*Usetime_product2,0)","v":0},0,0,0,0,0,0,0,0,0,0,0,0,0,0,0,0,0,0,0,0,0,0,0,0,0,0,0,0]
[null,null,null,null,null,null,null,null,null,null,null,null,null,null,null,null,null,null,null,null,null,null,null,null,null,null,null,null,null,null,"varme",{"$f":"IFERROR(VLOOKUP($E$28,EnvProfiler,3,FALSE)*Mass_product1/1000/10*VLOOKUP($E$9,EnvProfiler,AF$3,FALSE)*Usetime_product1,0)","v":0},0,0,0,0,0,0,0,0,0,0,0,0,0,0,0,0,0,0,0,0,0,0,0,0,0,0,0,0,null,null,"varme",{"$f":"IFERROR(VLOOKUP($I$28,EnvProfiler,3,FALSE)*Mass_product2/1000/10*VLOOKUP($I$9,EnvProfiler,BL$3,FALSE)*Usetime_product2,0)","v":0},0,0,0,0,0,0,0,0,0,0,0,0,0,0,0,0,0,0,0,0,0,0,0,0,0,0,0,0]
[null,null,"Efterbehandling",null,null,null,null,null,null,null,null,null,null,null,null,null,null,null,null,null,null,null,null,null,null,null,null,null,null,null,"el",{"$f":"IFERROR(Mass_product1/1000*VLOOKUP($E$28,EnvProfiler,2,FALSE)*VLOOKUP(DanskEl,EnvProfiler,AF$3,FALSE)*Usetime_product1,0)","v":0},0,0,0,0,0,0,0,0,0,0,0,0,0,0,0,0,0,0,0,0,0,0,0,0,0,0,0,0,null,null,"el",{"$f":"IFERROR(Mass_product2/1000*VLOOKUP($I$28,EnvProfiler,2,FALSE)*VLOOKUP(DanskEl,EnvProfiler,BL$3,FALSE)*Usetime_product2,0)","v":0},0,0,0,0,0,0,0,0,0,0,0,0,0,0,0,0,0,0,0,0,0,0,0,0,0,0,0,0]
[null,null,null,null,"Efterbehandling",null,null,null,"Efterbehandling"]
[null,null,"Efterbehandling på maskine",null,{"$error":"#N/A"},null,null,null,{"$error":"#N/A"},null,null,null,null,null,null,null,null,null,null,null,null,null,null,null,null,null,null,null,null,null,null,{"$f":"IF(OR(ISBLANK($E$32),$E$32=\"ingen\"),0,Mass_product1/1000*VLOOKUP($E$32,EnvProfiler,2,FALSE)*VLOOKUP(\"Dansk el\",EnvProfiler,AF$3,FALSE)*Usetime_product1)","v":{"$error":"#N/A"}},{"$error":"#N/A"},{"$error":"#N/A"},{"$error":"#N/A"},{"$error":"#N/A"},{"$error":"#N/A"},{"$error":"#N/A"},{"$error":"#N/A"},{"$error":"#N/A"},{"$error":"#N/A"},{"$error":"#N/A"},{"$error":"#N/A"},{"$error":"#N/A"},{"$error":"#N/A"},{"$error":"#N/A"},{"$error":"#N/A"},{"$error":"#N/A"},{"$error":"#N/A"},{"$error":"#N/A"},{"$error":"#N/A"},{"$error":"#N/A"},{"$error":"#N/A"},{"$error":"#N/A"},{"$error":"#N/A"},{"$error":"#N/A"},{"$error":"#N/A"},{"$error":"#N/A"},{"$error":"#N/A"},{"$error":"#N/A"},null,null,null,{"$f":"IF(OR(ISBLANK($I$32),$I$32=\"ingen\"),0,Mass_product2/1000*VLOOKUP($I$32,EnvProfiler,2,FALSE)*VLOOKUP(\"Dansk el\",EnvProfiler,BL$3,FALSE)*Usetime_product2)","v":{"$error":"#N/A"}},{"$error":"#N/A"},{"$error":"#N/A"},{"$error":"#N/A"},{"$error":"#N/A"},{"$error":"#N/A"},{"$error":"#N/A"},{"$error":"#N/A"},{"$error":"#N/A"},{"$error":"#N/A"},{"$error":"#N/A"},{"$error":"#N/A"},{"$error":"#N/A"},{"$error":"#N/A"},{"$error":"#N/A"},{"$error":"#N/A"},{"$error":"#N/A"},{"$error":"#N/A"},{"$error":"#N/A"},{"$error":"#N/A"},{"$error":"#N/A"},{"$error":"#N/A"},{"$error":"#N/A"},{"$error":"#N/A"},{"$error":"#N/A"},{"$error":"#N/A"},{"$error":"#N/A"},{"$error":"#N/A"},{"$error":"#N/A"}]
[]
[null,null,null,null,"Tid i minutter","timepris",null,null,"Tid i minutter","timepris",null,null,null,null,null,null,null,null,null,null,null,null,null,null,null,null,null,null,null,"vaskepris (fra forsiden)",{"$f":"IFERROR('Produkt og funktion'!E20*Usetime_product1,0)","v":0},null,null,null,null,null,null,null,null,null,null,null,null,null,null,null,null,null,null,null,null,null,null,null,null,null,null,null,null,null,null,"vaskepris (fra forsiden)",{"$f":"IFERROR('Produkt og funktion'!G21*Usetime_product2,0)","v":0}]
[null,null,"Manuel specialhåndtering",null,{"$error":"#N/A"},{"$error":"#N/A"},null,null,{"$error":"#N/A"},{"$error":"#N/A"},null,null,null,null,null,null,null,null,null,null,null,null,null,null,null,null,null,null,null,"Manuel specialhåndtering",{"$f":"E35/60*F35*Usetime_product1","v":{"$error":"#N/A"}},null,null,null,null,null,null,null,null,null,null,null,null,null,null,null,null,null,null,null,null,null,null,null,null,null,null,null,null,null,null,"Manuel specialhåndtering",{"$f":"I35/60*J35*Usetime_product2","v":{"$error":"#N/A"}}]
[]
[null,null,null,null,"(ja/nej)",null,null,null,"(ja/nej)"]
[null,null,"Sterilisering",null,{"$error":"#N/A"},null,null,null,{"$error":"#N/A"},null,null,null,null,null,null,null,null,null,null,null,null,null,null,null,null,null,null,null,null,null,null,{"$f":"IF(OR(ISBLANK($E$38),$E$38=\"nej\"),0,Mass_product1/1000*VLOOKUP($C$38,EnvProfiler,AF$3)*Usetime_product1)","v":{"$error":"#N/A"}},{"$error":"#N/A"},{"$error":"#N/A"},{"$error":"#N/A"},{"$error":"#N/A"},{"$error":"#N/A"},{"$error":"#N/A"},{"$error":"#N/A"},{"$error":"#N/A"},{"$error":"#N/A"},{"$error":"#N/A"},{"$error":"#N/A"},{"$error":"#N/A"},{"$error":"#N/A"},{"$error":"#N/A"},{"$error":"#N/A"},{"$error":"#N/A"},{"$error":"#N/A"},{"$error":"#N/A"},{"$error":"#N/A"},{"$error":"#N/A"},{"$error":"#N/A"},{"$error":"#N/A"},{"$error":"#N/A"},{"$error":"#N/A"},{"$error":"#N/A"},{"$error":"#N/A"},{"$error":"#N/A"},{"$error":"#N/A"},null,null,null,{"$f":"IF(OR(ISBLANK($I$38),$I$38=\"nej\"),0,Mass_product2/1000*VLOOKUP($C$38,EnvProfiler,BL$3)*Usetime_product2)","v":{"$error":"#N/A"}},{"$error":"#N/A"},{"$error":"#N/A"},{"$error":"#N/A"},{"$error":"#N/A"},{"$error":"#N/A"},{"$error":"#N/A"},{"$error":"#N/A"},{"$error":"#N/A"},{"$error":"#N/A"},{"$error":"#N/A"},{"$error":"#N/A"},{"$error":"#N/A"},{"$error":"#N/A"},{"$error":"#N/A"},{"$error":"#N/A"},{"$error":"#N/A"},{"$error":"#N/A"},{"$error":"#N/A"},{"$error":"#N/A"},{"$error":"#N/A"},{"$error":"#N/A"},{"$error":"#N/A"},{"$error":"#N/A"},{"$error":"#N/A"},{"$error":"#N/A"},{"$error":"#N/A"},{"$error":"#N/A"},{"$error":"#N/A"}]
[]
[null,null,null,null,"(ja/nej)","frekvens",null,null,"(ja/nej)","frekvens"]
[null,null,"Genimprægnering",null,{"$error":"#N/A"},{"$error":"#N/A"},null,null,{"$error":"#N/A"},{"$error":"#N/A"},null,null,null,null,null,null,null,null,null,null,null,null,null,null,null,null,null,null,null,null,null,{"$f":"IF(OR(ISBLANK($E$41),$E$41=\"nej\",$F$41=0),0,Mass_product1/1000*VLOOKUP($E$41,EnvProfiler,AF$3,FALSE)/$F$41*Usetime_product1)","v":{"$error":"#N/A"}},{"$error":"#N/A"},{"$error":"#N/A"},{"$error":"#N/A"},{"$error":"#N/A"},{"$error":"#N/A"},{"$error":"#N/A"},{"$error":"#N/A"},{"$error":"#N/A"},{"$error":"#N/A"},{"$error":"#N/A"},{"$error":"#N/A"},{"$error":"#N/A"},{"$error":"#N/A"},{"$error":"#N/A"},{"$error":"#N/A"},{"$error":"#N/A"},{"$error":"#N/A"},{"$error":"#N/A"},{"$error":"#N/A"},{"$error":"#N/A"},{"$error":"#N/A"},{"$error":"#N/A"},{"$error":"#N/A"},{"$error":"#N/A"},{"$error":"#N/A"},{"$error":"#N/A"},{"$error":"#N/A"},{"$error":"#N/A"},null,null,null,{"$f":"IF(OR(ISBLANK($I$41),$I$41=\"nej\",$J$41=0),0,Mass_product2/1000*VLOOKUP($I$41,EnvProfiler,BL$3,FALSE)/$J$41*Usetime_product2)","v":{"$error":"#N/A"}},{"$error":"#N/A"},{"$error":"#N/A"},{"$error":"#N/A"},{"$error":"#N/A"},{"$error":"#N/A"},{"$error":"#N/A"},{"$error":"#N/A"},{"$error":"#N/A"},{"$error":"#N/A"},{"$error":"#N/A"},{"$error":"#N/A"},{"$error":"#N/A"},{"$error":"#N/A"},{"$error":"#N/A"},{"$error":"#N/A"},{"$error":"#N/A"},{"$error":"#N/A"},{"$error":"#N/A"},{"$error":"#N/A"},{"$error":"#N/A"},{"$error":"#N/A"},{"$error":"#N/A"},{"$error":"#N/A"},{"$error":"#N/A"},{"$error":"#N/A"},{"$error":"#N/A"},{"$error":"#N/A"},{"$error":"#N/A"}]
[]
[]
[]
[]
[null,null,"Baggrundsdata"]
[null,null,null,null,{"$f":"Name_product1","v":0},null,null,null,{"$f":"Name_product2","v":0}]
[]
[null,null,"Brug på hospital",null,"Personale","Tid i sekunder",null,null,"Personale","Tid i sekunder"]
[null,null,"Tidsforbrug pr. produkthåndtering ",null,{"$error":"#N/A"},{"$error":"#N/A"},null,null,{"$error":"#N/A"},{"$error":"#N/A"},10,null,null,null,null,null,null,null,null,null,null,null,null,null,null,null,null,null,null,null,{"$f":"IF(OR(E50=\"\",ISBLANK(F50)),0,F50*VLOOKUP(E50,timepriserBrug,3,FALSE)/(60*60)*Usetime_product1)","v":{"$error":"#N/A"}},null,null,null,null,null,null,null,null,null,null,null,null,null,null,null,null,null,null,null,null,null,null,null,null,null,null,null,null,null,null,null,{"$f":"IF(OR(I50=\"\",ISBLANK(J50)),0,J50*VLOOKUP(I50,timepriserBrug,7,FALSE)/(60*60)*Usetime_product2)","v":{"$error":"#N/A"}}]
[null,null,null,null,{"$error":"#N/A"},{"$error":"#N/A"},null,null,{"$error":"#N/A"},{"$error":"#N/A"},null,null,null,null,null,null,null,null,null,null,null,null,null,null,null,null,null,null,null,null,{"$error":"#N/A"},null,null,null,null,null,null,null,null,null,null,null,null,null,null,null,null,null,null,null,null,null,null,null,null,null,null,null,null,null,null,null,{"$error":"#N/A"}]
[null,null,null,null,{"$error":"#N/A"},{"$error":"#N/A"},null,null,{"$error":"#N/A"},{"$error":"#N/A"},null,null,null,null,null,null,null,null,null,null,null,null,null,null,null,null,null,null,null,null,{"$error":"#N/A"},null,null,null,null,null,null,null,null,null,null,null,null,null,null,null,null,null,null,null,null,null,null,null,null,null,null,null,null,null,null,null,{"$error":"#N/A"}]
[null,null,null,null,{"$error":"#N/A"},{"$error":"#N/A"},null,null,{"$error":"#N/A"},{"$error":"#N/A"},null,null,null,null,null,null,null,null,null,null,null,null,null,null,null,null,null,null,null,null,{"$error":"#N/A"},null,null,null,null,null,null,null,null,null,null,null,null,null,null,null,null,null,null,null,null,null,null,null,null,null,null,null,null,null,null,null,{"$error":"#N/A"}]
[null,null,null,null,{"$error":"#N/A"},{"$error":"#N/A"},null,null,{"$error":"#N/A"},{"$error":"#N/A"},null,null,null,null,null,null,null,null,null,null,null,null,null,null,null,null,null,null,null,null,{"$error":"#N/A"},null,null,null,null,null,null,null,null,null,null,null,null,null,null,null,null,null,null,null,null,null,null,null,null,null,null,null,null,null,null,null,{"$error":"#N/A"}]
[null,null,null,null,{"$error":"#N/A"},{"$error":"#N/A"},null,null,{"$error":"#N/A"},{"$error":"#N/A"},null,null,null,null,null,null,null,null,null,null,null,null,null,null,null,null,null,null,null,null,{"$error":"#N/A"},null,null,null,null,null,null,null,null,null,null,null,null,null,null,null,null,null,null,null,null,null,null,null,null,null,null,null,null,null,null,null,{"$error":"#N/A"}]
[null,null,null,null,{"$error":"#N/A"},{"$error":"#N/A"},null,null,{"$error":"#N/A"},{"$error":"#N/A"},null,null,null,null,null,null,null,null,null,null,null,null,null,null,null,null,null,null,null,null,{"$error":"#N/A"},null,null,null,null,null,null,null,null,null,null,null,null,null,null,null,null,null,null,null,null,null,null,null,null,null,null,null,null,null,null,null,{"$error":"#N/A"}]
[null,null,null,null,{"$error":"#N/A"},{"$error":"#N/A"},null,null,{"$error":"#N/A"},{"$error":"#N/A"},null,null,null,null,null,null,null,null,null,null,null,null,null,null,null,null,null,null,null,null,{"$error":"#N/A"},null,null,null,null,null,null,null,null,null,null,null,null,null,null,null,null,null,null,null,null,null,null,null,null,null,null,null,null,null,null,null,{"$error":"#N/A"}]
[null,null,null,null,{"$error":"#N/A"},{"$error":"#N/A"},null,null,{"$error":"#N/A"},{"$error":"#N/A"},null,null,null,null,null,null,null,null,null,null,null,null,null,null,null,null,null,null,null,null,{"$error":"#N/A"},null,null,null,null,null,null,null,null,null,null,null,null,null,null,null,null,null,null,null,null,null,null,null,null,null,null,null,null,null,null,null,{"$error":"#N/A"}]
[null,null,null,null,{"$error":"#N/A"},{"$error":"#N/A"},null,null,{"$error":"#N/A"},{"$error":"#N/A"},null,null,null,null,null,null,null,null,null,null,null,null,null,null,null,null,null,null,null,null,{"$error":"#N/A"},null,null,null,null,null,null,null,null,null,null,null,null,null,null,null,null,null,null,null,null,null,null,null,null,null,null,null,null,null,null,null,{"$error":"#N/A"}]
[]
[null,null,"Omkostninger til løn til:"]
[null,null,"klinisk personale",null,{"$error":"#N/A"},null,null,null,{"$error":"#N/A"}]
[null,null,"sygeplejerske",null,{"$error":"#N/A"},null,null,null,{"$error":"#N/A"}]
[null,null,"udførende læge",null,{"$error":"#N/A"},null,null,null,{"$error":"#N/A"}]
[null,null,"overlæge",null,{"$error":"#N/A"},null,null,null,{"$error":"#N/A"}]
[null,null,"anden funktion",null,{"$error":"#N/A"},null,null,null,{"$error":"#N/A"}]
[null,null,"anden funktion",null,{"$error":"#N/A"},null,null,null,{"$error":"#N/A"}]
[null,null,"anden funktion",null,{"$error":"#N/A"},null,null,null,{"$error":"#N/A"}]
[null,null,"anden funktion",null,{"$error":"#N/A"},null,null,null,{"$error":"#N/A"}]
[null,null,"anden funktion",null,{"$error":"#N/A"},null,null,null,{"$error":"#N/A"}]
[null,null,"anden funktion",null,{"$error":"#N/A"},null,null,null,{"$error":"#N/A"}]
[]
[]
[]
[]
[]
[]
[]
[]
[]
[]
[]
[]
[]
[]
[]
[]
[]
[]
[]
[]
[]
[]
[]
[]
[]
[]
[]
[]
[]
[]
[]
[]
[]
[]
[]
[]
[]
[]
[]
[]
[]
[]
[]
[]
[]
[]
[]
[]
[]
[]
[]
[]
[]
[]
[]
[]
[]
[]
[null,null,null,null,null,null,null,null,null,null,null,null,null,null,null,null,null,null,null,null,null,null,null,null,null,null,null,null,null,null,{"$f":"SUM(AE34:AE129)","v":{"$error":"#N/A"}},{"$f":"SUM(AF7:AF42)","v":{"$error":"#N/A"}},{"$f":"SUM(AG7:AG42)","v":{"$error":"#N/A"}},{"$error":"#N/A"},{"$error":"#N/A"},{"$error":"#N/A"},{"$error":"#N/A"},{"$error":"#N/A"},{"$error":"#N/A"},{"$error":"#N/A"},{"$error":"#N/A"},{"$error":"#N/A"},{"$error":"#N/A"},{"$error":"#N/A"},{"$error":"#N/A"},{"$error":"#N/A"},{"$error":"#N/A"},{"$error":"#N/A"},{"$error":"#N/A"},{"$error":"#N/A"},{"$error":"#N/A"},{"$error":"#N/A"},{"$error":"#N/A"},{"$error":"#N/A"},{"$error":"#N/A"},{"$error":"#N/A"},{"$error":"#N/A"},{"$error":"#N/A"},{"$error":"#N/A"},{"$error":"#N/A"},null,null,{"$f":"SUM(BK34:BK129)","v":{"$error":"#N/A"}},{"$f":"SUM(BL7:BL41)","v":{"$error":"#N/A"}},{"$f":"SUM(BM7:BM41)","v":{"$error":"#N/A"}},{"$error":"#N/A"},{"$error":"#N/A"},{"$error":"#N/A"},{"$error":"#N/A"},{"$error":"#N/A"},{"$error":"#N/A"},{"$error":"#N/A"},{"$error":"#N/A"},{"$error":"#N/A"},{"$error":"#N/A"},{"$error":"#N/A"},{"$error":"#N/A"},{"$error":"#N/A"},{"$error":"#N/A"},{"$error":"#N/A"},{"$error":"#N/A"},{"$error":"#N/A"},{"$error":"#N/A"},{"$error":"#N/A"},{"$error":"#N/A"},{"$error":"#N/A"},{"$error":"#N/A"},{"$error":"#N/A"},{"$error":"#N/A"},{"$error":"#N/A"},{"$error":"#N/A"},{"$error":"#N/A"}]

{"sheet":"Efterliv","index":5,"n_rows":107,"n_cols":87,"rows_kept":107,"cut":false,"hidden":false,"merged":[[5,6,5,7],[5,3,5,4],[28,3,28,4],[28,6,28,7]]}
[null,null,null,null,null,null,null,null,null,null,null,null,null,null,null,null,null,null,null,null,null,null,null,null,null,null,"product1"]
[null,null,null,null,null,null,null,null,null,null,null,null,null,null,null,null,null,null,null,null,null,null,null,null,null,null,null,null,null,null,null,null,null,null,null,null,null,null,null,null,null,null,null,null,null,null,null,null,null,null,null,null,null,null,null,null,null,null,"product2"]
[null,null,null,null,null,null,null,null,null,null,null,null,null,null,null,null,null,null,null,null,null,null,null,null,null,null,{"$f":"Processer!G1","v":7},{"$f":"Processer!H1","v":8},{"$f":"Processer!I1","v":9},{"$f":"Processer!J1","v":10},{"$f":"Processer!K1","v":11},{"$f":"Processer!L1","v":12},{"$f":"Processer!M1","v":13},{"$f":"Processer!N1","v":14},{"$f":"Processer!O1","v":15},{"$f":"Processer!P1","v":16},{"$f":"Processer!Q1","v":17},{"$f":"Processer!R1","v":18},{"$f":"Processer!S1","v":19},{"$f":"Processer!T1","v":20},{"$f":"Processer!U1","v":21},{"$f":"Processer!V1","v":22},{"$f":"Processer!W1","v":23},{"$f":"Processer!X1","v":24},{"$f":"Processer!Y1","v":25},{"$f":"Processer!Z1","v":26},{"$f":"Processer!AA1","v":27},{"$f":"Processer!AB1","v":28},{"$f":"Processer!AC1","v":29},{"$f":"Processer!AD1","v":30},{"$f":"Processer!AE1","v":31},{"$f":"Processer!AF1","v":32},{"$f":"Processer!AG1","v":33},{"$f":"Processer!AH1","v":34},35,null,null,null,{"$f":"Processer!G1","v":7},{"$f":"Processer!H1","v":8},{"$f":"Processer!I1","v":9},{"$f":"Processer!J1","v":10},{"$f":"Processer!K1","v":11},{"$f":"Processer!L1","v":12},{"$f":"Processer!M1","v":13},{"$f":"Processer!N1","v":14},{"$f":"Processer!O1","v":15},{"$f":"Processer!P1","v":16},{"$f":"Processer!Q1","v":17},{"$f":"Processer!R1","v":18},{"$f":"Processer!S1","v":19},{"$f":"Processer!T1","v":20},{"$f":"Processer!U1","v":21},{"$f":"Processer!V1","v":22},{"$f":"Processer!W1","v":23},{"$f":"Processer!X1","v":24},{"$f":"Processer!Y1","v":25},{"$f":"Processer!Z1","v":26},{"$f":"Processer!AA1","v":27},{"$f":"Processer!AB1","v":28},{"$f":"Processer!AC1","v":29},{"$f":"Processer!AD1","v":30},{"$f":"Processer!AE1","v":31},{"$f":"Processer!AF1","v":32},{"$f":"Processer!AG1","v":33},{"$f":"Processer!AH1","v":34},35]
[null,null,"Efterliv for tekstiler",null,null,null,null,null,null,null,null,null,null,null,null,null,null,null,null,null,null,null,null,null,null,"økonomi/ produkt","miljøprofil ekskl energi",null,null,null,null,null,null,null,null,null,null,null,null,null,null,null,null,null,null,null,null,null,null,null,null,null,null,null,null,null,null,"økonomi/ produkt","miljøprofil ekskl energi"]
[]
[null,null,null,{"$f":"Name_product1","v":0},null,null,{"$f":"Name_product2","v":0},null,null,null,null,null,null,null,null,null,null,null,null,null,null,null,null,null,null,"product1","Climate change","Ozone depletion","Ionising radiation","Photochemical ozone formation","Particulate matter","Human toxicity, non-cancer","Human toxicity, cancer","Acidification","Eutrophication, freshwater","Eutrophication, marine","Eutrophication, terrestrial","Ecotoxicity, freshwater","Land use","Water use","Resource use, fossils","Resource use, minerals and metals","Climate change - Fossil","Climate change - Biogenic","Climate change - Land use and LU change","Human toxicity, non-cancer - organics","Human toxicity, non-cancer - inorganics","Human toxicity, non-cancer - metals","Human toxicity, cancer - organics","Human toxicity, cancer - inorganics","Human toxicity, cancer - metals","Ecotoxicity, freshwater - organics","Ecotoxicity, freshwater - inorganics","Ecotoxicity, freshwater - metals","PFAS",null,null,"product2","Climate change","Ozone depletion","Ionising radiation","Photochemical ozone formation","Particulate matter","Human toxicity, non-cancer","Human toxicity, cancer","Acidification","Eutrophication, freshwater","Eutrophication, marine","Eutrophication, terrestrial","Ecotoxicity, freshwater","Land use","Water use","Resource use, fossils","Resource use, minerals and metals","Climate change - Fossil","Climate change - Biogenic","Climate change - Land use and LU change","Human toxicity, non-cancer - organics","Human toxicity, non-cancer - inorganics","Human toxicity, non-cancer - metals","Human toxicity, cancer - organics","Human toxicity, cancer - inorganics","Human toxicity, cancer - metals","Ecotoxicity, freshwater - organics","Ecotoxicity, freshwater - inorganics","Ecotoxicity, freshwater - metals","PFAS"]
[]
[null,null,"Tekstilprodukt",null,null,null,null,null,null,null,null,null,null,null,null,null,null,null,null,null,null,null,null,null,null,null,"kg CO2 eq","kg CFC11 eq","kBq U-235 eq","kg NMVOC eq","disease inc.","CTUh","CTUh","mol H+ eq","kg P eq","kg N eq","mol N eq","CTUe","Pt","m3 depriv.","MJ","kg Sb eq","kg CO2 eq","kg CO2 eq","kg CO2 eq","CTUh","CTUh","CTUh","CTUh","CTUh","CTUh","CTUe","CTUe","CTUe","kg",null,null,null,"kg CO2 eq","kg CFC11 eq","kBq U-235 eq","kg NMVOC eq","disease inc.","CTUh","CTUh","mol H+ eq","kg P eq","kg N eq","mol N eq","CTUe","Pt","m3 depriv.","MJ","kg Sb eq","kg CO2 eq","kg CO2 eq","kg CO2 eq","CTUh","CTUh","CTUh","CTUh","CTUh","CTUh","CTUe","CTUe","CTUe","kg"]
[null,null,null,"Tekstildel","Håndtering af tekstildel",null,"Tekstildel","Håndtering af tekstildel"]
[null,null,null,{"$f":"IF(ISBLANK('Materiale og produktion'!F10),\"\",'Materiale og produktion'!F10)","v":{"$error":"#N/A"}},{"$error":"#N/A"},null,{"$f":"IF(ISBLANK('Materiale og produktion'!J10),\"\",'Materiale og produktion'!J10)","v":{"$error":"#N/A"}},{"$error":"#N/A"},null,null,null,null,null,null,null,null,null,null,null,null,null,null,null,null,null,null,{"$f":"IFERROR(Mass_product1*'Materiale og produktion'!$G10/1000*VLOOKUP($E10,EnvProfiler,AA$3,FALSE),0)","v":0},{"$f":"IFERROR(Mass_product1*'Materiale og produktion'!$G10/1000*VLOOKUP($E10,EnvProfiler,AB$3,FALSE),0)","v":0},{"$f":"IFERROR(Mass_product1*'Materiale og produktion'!$G10/1000*VLOOKUP($E10,EnvProfiler,AC$3,FALSE),0)","v":0},{"$f":"IFERROR(Mass_product1*'Materiale og produktion'!$G10/1000*VLOOKUP($E10,EnvProfiler,AD$3,FALSE),0)","v":0},{"$f":"IFERROR(Mass_product1*'Materiale og produktion'!$G10/1000*VLOOKUP($E10,EnvProfiler,AE$3,FALSE),0)","v":0},{"$f":"IFERROR(Mass_product1*'Materiale og produktion'!$G10/1000*VLOOKUP($E10,EnvProfiler,AF$3,FALSE),0)","v":0},{"$f":"IFERROR(Mass_product1*'Materiale og produktion'!$G10/1000*VLOOKUP($E10,EnvProfiler,AG$3,FALSE),0)","v":0},{"$f":"IFERROR(Mass_product1*'Materiale og produktion'!$G10/1000*VLOOKUP($E10,EnvProfiler,AH$3,FALSE),0)","v":0},{"$f":"IFERROR(Mass_product1*'Materiale og produktion'!$G10/1000*VLOOKUP($E10,EnvProfiler,AI$3,FALSE),0)","v":0},{"$f":"IFERROR(Mass_product1*'Materiale og produktion'!$G10/1000*VLOOKUP($E10,EnvProfiler,AJ$3,FALSE),0)","v":0},{"$f":"IFERROR(Mass_product1*'Materiale og produktion'!$G10/1000*VLOOKUP($E10,EnvProfiler,AK$3,FALSE),0)","v":0},{"$f":"IFERROR(Mass_product1*'Materiale og produktion'!$G10/1000*VLOOKUP($E10,EnvProfiler,AL$3,FALSE),0)","v":0},{"$f":"IFERROR(Mass_product1*'Materiale og produktion'!$G10/1000*VLOOKUP($E10,EnvProfiler,AM$3,FALSE),0)","v":0},{"$f":"IFERROR(Mass_product1*'Materiale og produktion'!$G10/1000*VLOOKUP($E10,EnvProfiler,AN$3,FALSE),0)","v":0},{"$f":"IFERROR(Mass_product1*'Materiale og produktion'!$G10/1000*VLOOKUP($E10,EnvProfiler,AO$3,FALSE),0)","v":0},{"$f":"IFERROR(Mass_product1*'Materiale og produktion'!$G10/1000*VLOOKUP($E10,EnvProfiler,AP$3,FALSE),0)","v":0},{"$f":"IFERROR(Mass_product1*'Materiale og produktion'!$G10/1000*VLOOKUP($E10,EnvProfiler,AQ$3,FALSE),0)","v":0},{"$f":"IFERROR(Mass_product1*'Materiale og produktion'!$G10/1000*VLOOKUP($E10,EnvProfiler,AR$3,FALSE),0)","v":0},{"$f":"IFERROR(Mass_product1*'Materiale og produktion'!$G10/1000*VLOOKUP($E10,EnvProfiler,AS$3,FALSE),0)","v":0},{"$f":"IFERROR(Mass_product1*'Materiale og produktion'!$G10/1000*VLOOKUP($E10,EnvProfiler,AT$3,FALSE),0)","v":0},{"$f":"IFERROR(Mass_product1*'Materiale og produktion'!$G10/1000*VLOOKUP($E10,EnvProfiler,AU$3,FALSE),0)","v":0},{"$f":"IFERROR(Mass_product1*'Materiale og produktion'!$G10/1000*VLOOKUP($E10,EnvProfiler,AV$3,FALSE),0)","v":0},{"$f":"IFERROR(Mass_product1*'Materiale og produktion'!$G10/1000*VLOOKUP($E10,EnvProfiler,AW$3,FALSE),0)","v":0},{"$f":"IFERROR(Mass_product1*'Materiale og produktion'!$G10/1000*VLOOKUP($E10,EnvProfiler,AX$3,FALSE),0)","v":0},{"$f":"IFERROR(Mass_product1*'Materiale og produktion'!$G10/1000*VLOOKUP($E10,EnvProfiler,AY$3,FALSE),0)","v":0},{"$f":"IFERROR(Mass_product1*'Materiale og produktion'!$G10/1000*VLOOKUP($E10,EnvProfiler,AZ$3,FALSE),0)","v":0},{"$f":"IFERROR(Mass_product1*'Materiale og produktion'!$G10/1000*VLOOKUP($E10,EnvProfiler,BA$3,FALSE),0)","v":0},{"$f":"IFERROR(Mass_product1*'Materiale og produktion'!$G10/1000*VLOOKUP($E10,EnvProfiler,BB$3,FALSE),0)","v":0},{"$f":"IFERROR(Mass_product1*'Materiale og produktion'!$G10/1000*VLOOKUP($E10,EnvProfiler,BC$3,FALSE),0)","v":0},null,null,null,{"$f":"IFERROR(Mass_product2*'Materiale og produktion'!$K10/1000*VLOOKUP($H10,EnvProfiler,BG$3,FALSE),0)","v":0},{"$f":"IFERROR(Mass_product2*'Materiale og produktion'!$K10/1000*VLOOKUP($H10,EnvProfiler,BH$3,FALSE),0)","v":0},{"$f":"IFERROR(Mass_product2*'Materiale og produktion'!$K10/1000*VLOOKUP($H10,EnvProfiler,BI$3,FALSE),0)","v":0},{"$f":"IFERROR(Mass_product2*'Materiale og produktion'!$K10/1000*VLOOKUP($H10,EnvProfiler,BJ$3,FALSE),0)","v":0},{"$f":"IFERROR(Mass_product2*'Materiale og produktion'!$K10/1000*VLOOKUP($H10,EnvProfiler,BK$3,FALSE),0)","v":0},{"$f":"IFERROR(Mass_product2*'Materiale og produktion'!$K10/1000*VLOOKUP($H10,EnvProfiler,BL$3,FALSE),0)","v":0},{"$f":"IFERROR(Mass_product2*'Materiale og produktion'!$K10/1000*VLOOKUP($H10,EnvProfiler,BM$3,FALSE),0)","v":0},{"$f":"IFERROR(Mass_product2*'Materiale og produktion'!$K10/1000*VLOOKUP($H10,EnvProfiler,BN$3,FALSE),0)","v":0},{"$f":"IFERROR(Mass_product2*'Materiale og produktion'!$K10/1000*VLOOKUP($H10,EnvProfiler,BO$3,FALSE),0)","v":0},{"$f":"IFERROR(Mass_product2*'Materiale og produktion'!$K10/1000*VLOOKUP($H10,EnvProfiler,BP$3,FALSE),0)","v":0},{"$f":"IFERROR(Mass_product2*'Materiale og produktion'!$K10/1000*VLOOKUP($H10,EnvProfiler,BQ$3,FALSE),0)","v":0},{"$f":"IFERROR(Mass_product2*'Materiale og produktion'!$K10/1000*VLOOKUP($H10,EnvProfiler,BR$3,FALSE),0)","v":0},{"$f":"IFERROR(Mass_product2*'Materiale og produktion'!$K10/1000*VLOOKUP($H10,EnvProfiler,BS$3,FALSE),0)","v":0},{"$f":"IFERROR(Mass_product2*'Materiale og produktion'!$K10/1000*VLOOKUP($H10,EnvProfiler,BT$3,FALSE),0)","v":0},{"$f":"IFERROR(Mass_product2*'Materiale og produktion'!$K10/1000*VLOOKUP($H10,EnvProfiler,BU$3,FALSE),0)","v":0},{"$f":"IFERROR(Mass_product2*'Materiale og produktion'!$K10/1000*VLOOKUP($H10,EnvProfiler,BV$3,FALSE),0)","v":0},{"$f":"IFERROR(Mass_product2*'Materiale og produktion'!$K10/1000*VLOOKUP($H10,EnvProfiler,BW$3,FALSE),0)","v":0},{"$f":"IFERROR(Mass_product2*'Materiale og produktion'!$K10/1000*VLOOKUP($H10,EnvProfiler,BX$3,FALSE),0)","v":0},{"$f":"IFERROR(Mass_product2*'Materiale og produktion'!$K10/1000*VLOOKUP($H10,EnvProfiler,BY$3,FALSE),0)","v":0},{"$f":"IFERROR(Mass_product2*'Materiale og produktion'!$K10/1000*VLOOKUP($H10,EnvProfiler,BZ$3,FALSE),0)","v":0},{"$f":"IFERROR(Mass_product2*'Materiale og produktion'!$K10/1000*VLOOKUP($H10,EnvProfiler,CA$3,FALSE),0)","v":0},{"$f":"IFERROR(Mass_product2*'Materiale og produktion'!$K10/1000*VLOOKUP($H10,EnvProfiler,CB$3,FALSE),0)","v":0},{"$f":"IFERROR(Mass_product2*'Materiale og produktion'!$K10/1000*VLOOKUP($H10,EnvProfiler,CC$3,FALSE),0)","v":0},{"$f":"IFERROR(Mass_product2*'Materiale og produktion'!$K10/1000*VLOOKUP($H10,EnvProfiler,CD$3,FALSE),0)","v":0},{"$f":"IFERROR(Mass_product2*'Materiale og produktion'!$K10/1000*VLOOKUP($H10,EnvProfiler,CE$3,FALSE),0)","v":0},{"$f":"IFERROR(Mass_product2*'Materiale og produktion'!$K10/1000*VLOOKUP($H10,EnvProfiler,CF$3,FALSE),0)","v":0},{"$f":"IFERROR(Mass_product2*'Materiale og produktion'!$K10/1000*VLOOKUP($H10,EnvProfiler,CG$3,FALSE),0)","v":0},{"$f":"IFERROR(Mass_product2*'Materiale og produktion'!$K10/1000*VLOOKUP($H10,EnvProfiler,CH$3,FALSE),0)","v":0},{"$f":"IFERROR(Mass_product2*'Materiale og produktion'!$K10/1000*VLOOKUP($H10,EnvProfiler,CI$3,FALSE),0)","v":0}]
[null,null,null,{"$f":"IF(ISBLANK('Materiale og produktion'!F11),\"\",'Materiale og produktion'!F11)","v":{"$error":"#N/A"}},{"$error":"#N/A"},null,{"$f":"IF(ISBLANK('Materiale og produktion'!J11),\"\",'Materiale og produktion'!J11)","v":{"$error":"#N/A"}},{"$error":"#N/A"},null,null,null,null,null,null,null,null,null,null,null,null,null,null,null,null,null,null,{"$f":"IFERROR(Mass_product1*'Materiale og produktion'!$G11/1000*VLOOKUP($E11,EnvProfiler,AA$3,FALSE),0)","v":0},{"$f":"IFERROR(Mass_product1*'Materiale og produktion'!$G11/1000*VLOOKUP($E11,EnvProfiler,AB$3,FALSE),0)","v":0},{"$f":"IFERROR(Mass_product1*'Materiale og produktion'!$G11/1000*VLOOKUP($E11,EnvProfiler,AC$3,FALSE),0)","v":0},{"$f":"IFERROR(Mass_product1*'Materiale og produktion'!$G11/1000*VLOOKUP($E11,EnvProfiler,AD$3,FALSE),0)","v":0},{"$f":"IFERROR(Mass_product1*'Materiale og produktion'!$G11/1000*VLOOKUP($E11,EnvProfiler,AE$3,FALSE),0)","v":0},{"$f":"IFERROR(Mass_product1*'Materiale og produktion'!$G11/1000*VLOOKUP($E11,EnvProfiler,AF$3,FALSE),0)","v":0},{"$f":"IFERROR(Mass_product1*'Materiale og produktion'!$G11/1000*VLOOKUP($E11,EnvProfiler,AG$3,FALSE),0)","v":0},{"$f":"IFERROR(Mass_product1*'Materiale og produktion'!$G11/1000*VLOOKUP($E11,EnvProfiler,AH$3,FALSE),0)","v":0},{"$f":"IFERROR(Mass_product1*'Materiale og produktion'!$G11/1000*VLOOKUP($E11,EnvProfiler,AI$3,FALSE),0)","v":0},{"$f":"IFERROR(Mass_product1*'Materiale og produktion'!$G11/1000*VLOOKUP($E11,EnvProfiler,AJ$3,FALSE),0)","v":0},{"$f":"IFERROR(Mass_product1*'Materiale og produktion'!$G11/1000*VLOOKUP($E11,EnvProfiler,AK$3,FALSE),0)","v":0},{"$f":"IFERROR(Mass_product1*'Materiale og produktion'!$G11/1000*VLOOKUP($E11,EnvProfiler,AL$3,FALSE),0)","v":0},{"$f":"IFERROR(Mass_product1*'Materiale og produktion'!$G11/1000*VLOOKUP($E11,EnvProfiler,AM$3,FALSE),0)","v":0},{"$f":"IFERROR(Mass_product1*'Materiale og produktion'!$G11/1000*VLOOKUP($E11,EnvProfiler,AN$3,FALSE),0)","v":0},{"$f":"IFERROR(Mass_product1*'Materiale og produktion'!$G11/1000*VLOOKUP($E11,EnvProfiler,AO$3,FALSE),0)","v":0},{"$f":"IFERROR(Mass_product1*'Materiale og produktion'!$G11/1000*VLOOKUP($E11,EnvProfiler,AP$3,FALSE),0)","v":0},{"$f":"IFERROR(Mass_product1*'Materiale og produktion'!$G11/1000*VLOOKUP($E11,EnvProfiler,AQ$3,FALSE),0)","v":0},{"$f":"IFERROR(Mass_product1*'Materiale og produktion'!$G11/1000*VLOOKUP($E11,EnvProfiler,AR$3,FALSE),0)","v":0},{"$f":"IFERROR(Mass_product1*'Materiale og produktion'!$G11/1000*VLOOKUP($E11,EnvProfiler,AS$3,FALSE),0)","v":0},{"$f":"IFERROR(Mass_product1*'Materiale og produktion'!$G11/1000*VLOOKUP($E11,EnvProfiler,AT$3,FALSE),0)","v":0},{"$f":"IFERROR(Mass_product1*'Materiale og produktion'!$G11/1000*VLOOKUP($E11,EnvProfiler,AU$3,FALSE),0)","v":0},{"$f":"IFERROR(Mass_product1*'Materiale og produktion'!$G11/1000*VLOOKUP($E11,EnvProfiler,AV$3,FALSE),0)","v":0},{"$f":"IFERROR(Mass_product1*'Materiale og produktion'!$G11/1000*VLOOKUP($E11,EnvProfiler,AW$3,FALSE),0)","v":0},{"$f":"IFERROR(Mass_product1*'Materiale og produktion'!$G11/1000*VLOOKUP($E11,EnvProfiler,AX$3,FALSE),0)","v":0},{"$f":"IFERROR(Mass_product1*'Materiale og produktion'!$G11/1000*VLOOKUP($E11,EnvProfiler,AY$3,FALSE),0)","v":0},{"$f":"IFERROR(Mass_product1*'Materiale og produktion'!$G11/1000*VLOOKUP($E11,EnvProfiler,AZ$3,FALSE),0)","v":0},{"$f":"IFERROR(Mass_product1*'Materiale og produktion'!$G11/1000*VLOOKUP($E11,EnvProfiler,BA$3,FALSE),0)","v":0},{"$f":"IFERROR(Mass_product1*'Materiale og produktion'!$G11/1000*VLOOKUP($E11,EnvProfiler,BB$3,FALSE),0)","v":0},{"$f":"IFERROR(Mass_product1*'Materiale og produktion'!$G11/1000*VLOOKUP($E11,EnvProfiler,BC$3,FALSE),0)","v":0},null,null,null,{"$f":"IFERROR(Mass_product2*'Materiale og produktion'!$K11/1000*VLOOKUP($H11,EnvProfiler,BG$3,FALSE),0)","v":0},{"$f":"IFERROR(Mass_product2*'Materiale og produktion'!$K11/1000*VLOOKUP($H11,EnvProfiler,BH$3,FALSE),0)","v":0},{"$f":"IFERROR(Mass_product2*'Materiale og produktion'!$K11/1000*VLOOKUP($H11,EnvProfiler,BI$3,FALSE),0)","v":0},{"$f":"IFERROR(Mass_product2*'Materiale og produktion'!$K11/1000*VLOOKUP($H11,EnvProfiler,BJ$3,FALSE),0)","v":0},{"$f":"IFERROR(Mass_product2*'Materiale og produktion'!$K11/1000*VLOOKUP($H11,EnvProfiler,BK$3,FALSE),0)","v":0},{"$f":"IFERROR(Mass_product2*'Materiale og produktion'!$K11/1000*VLOOKUP($H11,EnvProfiler,BL$3,FALSE),0)","v":0},{"$f":"IFERROR(Mass_product2*'Materiale og produktion'!$K11/1000*VLOOKUP($H11,EnvProfiler,BM$3,FALSE),0)","v":0},{"$f":"IFERROR(Mass_product2*'Materiale og produktion'!$K11/1000*VLOOKUP($H11,EnvProfiler,BN$3,FALSE),0)","v":0},{"$f":"IFERROR(Mass_product2*'Materiale og produktion'!$K11/1000*VLOOKUP($H11,EnvProfiler,BO$3,FALSE),0)","v":0},{"$f":"IFERROR(Mass_product2*'Materiale og produktion'!$K11/1000*VLOOKUP($H11,EnvProfiler,BP$3,FALSE),0)","v":0},{"$f":"IFERROR(Mass_product2*'Materiale og produktion'!$K11/1000*VLOOKUP($H11,EnvProfiler,BQ$3,FALSE),0)","v":0},{"$f":"IFERROR(Mass_product2*'Materiale og produktion'!$K11/1000*VLOOKUP($H11,EnvProfiler,BR$3,FALSE),0)","v":0},{"$f":"IFERROR(Mass_product2*'Materiale og produktion'!$K11/1000*VLOOKUP($H11,EnvProfiler,BS$3,FALSE),0)","v":0},{"$f":"IFERROR(Mass_product2*'Materiale og produktion'!$K11/1000*VLOOKUP($H11,EnvProfiler,BT$3,FALSE),0)","v":0},{"$f":"IFERROR(Mass_product2*'Materiale og produktion'!$K11/1000*VLOOKUP($H11,EnvProfiler,BU$3,FALSE),0)","v":0},{"$f":"IFERROR(Mass_product2*'Materiale og produktion'!$K11/1000*VLOOKUP($H11,EnvProfiler,BV$3,FALSE),0)","v":0},{"$f":"IFERROR(Mass_product2*'Materiale og produktion'!$K11/1000*VLOOKUP($H11,EnvProfiler,BW$3,FALSE),0)","v":0},{"$f":"IFERROR(Mass_product2*'Materiale og produktion'!$K11/1000*VLOOKUP($H11,EnvProfiler,BX$3,FALSE),0)","v":0},{"$f":"IFERROR(Mass_product2*'Materiale og produktion'!$K11/1000*VLOOKUP($H11,EnvProfiler,BY$3,FALSE),0)","v":0},{"$f":"IFERROR(Mass_product2*'Materiale og produktion'!$K11/1000*VLOOKUP($H11,EnvProfiler,BZ$3,FALSE),0)","v":0},{"$f":"IFERROR(Mass_product2*'Materiale og produktion'!$K11/1000*VLOOKUP($H11,EnvProfiler,CA$3,FALSE),0)","v":0},{"$f":"IFERROR(Mass_product2*'Materiale og produktion'!$K11/1000*VLOOKUP($H11,EnvProfiler,CB$3,FALSE),0)","v":0},{"$f":"IFERROR(Mass_product2*'Materiale og produktion'!$K11/1000*VLOOKUP($H11,EnvProfiler,CC$3,FALSE),0)","v":0},{"$f":"IFERROR(Mass_product2*'Materiale og produktion'!$K11/1000*VLOOKUP($H11,EnvProfiler,CD$3,FALSE),0)","v":0},{"$f":"IFERROR(Mass_product2*'Materiale og produktion'!$K11/1000*VLOOKUP($H11,EnvProfiler,CE$3,FALSE),0)","v":0},{"$f":"IFERROR(Mass_product2*'Materiale og produktion'!$K11/1000*VLOOKUP($H11,EnvProfiler,CF$3,FALSE),0)","v":0},{"$f":"IFERROR(Mass_product2*'Materiale og produktion'!$K11/1000*VLOOKUP($H11,EnvProfiler,CG$3,FALSE),0)","v":0},{"$f":"IFERROR(Mass_product2*'Materiale og produktion'!$K11/1000*VLOOKUP($H11,EnvProfiler,CH$3,FALSE),0)","v":0},{"$f":"IFERROR(Mass_product2*'Materiale og produktion'!$K11/1000*VLOOKUP($H11,EnvProfiler,CI$3,FALSE),0)","v":0}]
[null,null,null,{"$f":"IF(ISBLANK('Materiale og produktion'!F12),\"\",'Materiale og produktion'!F12)","v":{"$error":"#N/A"}},{"$error":"#N/A"},null,{"$f":"IF(ISBLANK('Materiale og produktion'!J12),\"\",'Materiale og produktion'!J12)","v":{"$error":"#N/A"}},{"$error":"#N/A"},null,null,null,null,null,null,null,null,null,null,null,null,null,null,null,null,null,null,{"$f":"IFERROR(Mass_product1*'Materiale og produktion'!$G12/1000*VLOOKUP($E12,EnvProfiler,AA$3,FALSE),0)","v":0},{"$f":"IFERROR(Mass_product1*'Materiale og produktion'!$G12/1000*VLOOKUP($E12,EnvProfiler,AB$3,FALSE),0)","v":0},{"$f":"IFERROR(Mass_product1*'Materiale og produktion'!$G12/1000*VLOOKUP($E12,EnvProfiler,AC$3,FALSE),0)","v":0},{"$f":"IFERROR(Mass_product1*'Materiale og produktion'!$G12/1000*VLOOKUP($E12,EnvProfiler,AD$3,FALSE),0)","v":0},{"$f":"IFERROR(Mass_product1*'Materiale og produktion'!$G12/1000*VLOOKUP($E12,EnvProfiler,AE$3,FALSE),0)","v":0},{"$f":"IFERROR(Mass_product1*'Materiale og produktion'!$G12/1000*VLOOKUP($E12,EnvProfiler,AF$3,FALSE),0)","v":0},{"$f":"IFERROR(Mass_product1*'Materiale og produktion'!$G12/1000*VLOOKUP($E12,EnvProfiler,AG$3,FALSE),0)","v":0},{"$f":"IFERROR(Mass_product1*'Materiale og produktion'!$G12/1000*VLOOKUP($E12,EnvProfiler,AH$3,FALSE),0)","v":0},{"$f":"IFERROR(Mass_product1*'Materiale og produktion'!$G12/1000*VLOOKUP($E12,EnvProfiler,AI$3,FALSE),0)","v":0},{"$f":"IFERROR(Mass_product1*'Materiale og produktion'!$G12/1000*VLOOKUP($E12,EnvProfiler,AJ$3,FALSE),0)","v":0},{"$f":"IFERROR(Mass_product1*'Materiale og produktion'!$G12/1000*VLOOKUP($E12,EnvProfiler,AK$3,FALSE),0)","v":0},{"$f":"IFERROR(Mass_product1*'Materiale og produktion'!$G12/1000*VLOOKUP($E12,EnvProfiler,AL$3,FALSE),0)","v":0},{"$f":"IFERROR(Mass_product1*'Materiale og produktion'!$G12/1000*VLOOKUP($E12,EnvProfiler,AM$3,FALSE),0)","v":0},{"$f":"IFERROR(Mass_product1*'Materiale og produktion'!$G12/1000*VLOOKUP($E12,EnvProfiler,AN$3,FALSE),0)","v":0},{"$f":"IFERROR(Mass_product1*'Materiale og produktion'!$G12/1000*VLOOKUP($E12,EnvProfiler,AO$3,FALSE),0)","v":0},{"$f":"IFERROR(Mass_product1*'Materiale og produktion'!$G12/1000*VLOOKUP($E12,EnvProfiler,AP$3,FALSE),0)","v":0},{"$f":"IFERROR(Mass_product1*'Materiale og produktion'!$G12/1000*VLOOKUP($E12,EnvProfiler,AQ$3,FALSE),0)","v":0},{"$f":"IFERROR(Mass_product1*'Materiale og produktion'!$G12/1000*VLOOKUP($E12,EnvProfiler,AR$3,FALSE),0)","v":0},{"$f":"IFERROR(Mass_product1*'Materiale og produktion'!$G12/1000*VLOOKUP($E12,EnvProfiler,AS$3,FALSE),0)","v":0},{"$f":"IFERROR(Mass_product1*'Materiale og produktion'!$G12/1000*VLOOKUP($E12,EnvProfiler,AT$3,FALSE),0)","v":0},{"$f":"IFERROR(Mass_product1*'Materiale og produktion'!$G12/1000*VLOOKUP($E12,EnvProfiler,AU$3,FALSE),0)","v":0},{"$f":"IFERROR(Mass_product1*'Materiale og produktion'!$G12/1000*VLOOKUP($E12,EnvProfiler,AV$3,FALSE),0)","v":0},{"$f":"IFERROR(Mass_product1*'Materiale og produktion'!$G12/1000*VLOOKUP($E12,EnvProfiler,AW$3,FALSE),0)","v":0},{"$f":"IFERROR(Mass_product1*'Materiale og produktion'!$G12/1000*VLOOKUP($E12,EnvProfiler,AX$3,FALSE),0)","v":0},{"$f":"IFERROR(Mass_product1*'Materiale og produktion'!$G12/1000*VLOOKUP($E12,EnvProfiler,AY$3,FALSE),0)","v":0},{"$f":"IFERROR(Mass_product1*'Materiale og produktion'!$G12/1000*VLOOKUP($E12,EnvProfiler,AZ$3,FALSE),0)","v":0},{"$f":"IFERROR(Mass_product1*'Materiale og produktion'!$G12/1000*VLOOKUP($E12,EnvProfiler,BA$3,FALSE),0)","v":0},{"$f":"IFERROR(Mass_product1*'Materiale og produktion'!$G12/1000*VLOOKUP($E12,EnvProfiler,BB$3,FALSE),0)","v":0},{"$f":"IFERROR(Mass_product1*'Materiale og produktion'!$G12/1000*VLOOKUP($E12,EnvProfiler,BC$3,FALSE),0)","v":0},null,null,null,{"$f":"IFERROR(Mass_product2*'Materiale og produktion'!$K12/1000*VLOOKUP($H12,EnvProfiler,BG$3,FALSE),0)","v":0},{"$f":"IFERROR(Mass_product2*'Materiale og produktion'!$K12/1000*VLOOKUP($H12,EnvProfiler,BH$3,FALSE),0)","v":0},{"$f":"IFERROR(Mass_product2*'Materiale og produktion'!$K12/1000*VLOOKUP($H12,EnvProfiler,BI$3,FALSE),0)","v":0},{"$f":"IFERROR(Mass_product2*'Materiale og produktion'!$K12/1000*VLOOKUP($H12,EnvProfiler,BJ$3,FALSE),0)","v":0},{"$f":"IFERROR(Mass_product2*'Materiale og produktion'!$K12/1000*VLOOKUP($H12,EnvProfiler,BK$3,FALSE),0)","v":0},{"$f":"IFERROR(Mass_product2*'Materiale og produktion'!$K12/1000*VLOOKUP($H12,EnvProfiler,BL$3,FALSE),0)","v":0},{"$f":"IFERROR(Mass_product2*'Materiale og produktion'!$K12/1000*VLOOKUP($H12,EnvProfiler,BM$3,FALSE),0)","v":0},{"$f":"IFERROR(Mass_product2*'Materiale og produktion'!$K12/1000*VLOOKUP($H12,EnvProfiler,BN$3,FALSE),0)","v":0},{"$f":"IFERROR(Mass_product2*'Materiale og produktion'!$K12/1000*VLOOKUP($H12,EnvProfiler,BO$3,FALSE),0)","v":0},{"$f":"IFERROR(Mass_product2*'Materiale og produktion'!$K12/1000*VLOOKUP($H12,EnvProfiler,BP$3,FALSE),0)","v":0},{"$f":"IFERROR(Mass_product2*'Materiale og produktion'!$K12/1000*VLOOKUP($H12,EnvProfiler,BQ$3,FALSE),0)","v":0},{"$f":"IFERROR(Mass_product2*'Materiale og produktion'!$K12/1000*VLOOKUP($H12,EnvProfiler,BR$3,FALSE),0)","v":0},{"$f":"IFERROR(Mass_product2*'Materiale og produktion'!$K12/1000*VLOOKUP($H12,EnvProfiler,BS$3,FALSE),0)","v":0},{"$f":"IFERROR(Mass_product2*'Materiale og produktion'!$K12/1000*VLOOKUP($H12,EnvProfiler,BT$3,FALSE),0)","v":0},{"$f":"IFERROR(Mass_product2*'Materiale og produktion'!$K12/1000*VLOOKUP($H12,EnvProfiler,BU$3,FALSE),0)","v":0},{"$f":"IFERROR(Mass_product2*'Materiale og produktion'!$K12/1000*VLOOKUP($H12,EnvProfiler,BV$3,FALSE),0)","v":0},{"$f":"IFERROR(Mass_product2*'Materiale og produktion'!$K12/1000*VLOOKUP($H12,EnvProfiler,BW$3,FALSE),0)","v":0},{"$f":"IFERROR(Mass_product2*'Materiale og produktion'!$K12/1000*VLOOKUP($H12,EnvProfiler,BX$3,FALSE),0)","v":0},{"$f":"IFERROR(Mass_product2*'Materiale og produktion'!$K12/1000*VLOOKUP($H12,EnvProfiler,BY$3,FALSE),0)","v":0},{"$f":"IFERROR(Mass_product2*'Materiale og produktion'!$K12/1000*VLOOKUP($H12,EnvProfiler,BZ$3,FALSE),0)","v":0},{"$f":"IFERROR(Mass_product2*'Materiale og produktion'!$K12/1000*VLOOKUP($H12,EnvProfiler,CA$3,FALSE),0)","v":0},{"$f":"IFERROR(Mass_product2*'Materiale og produktion'!$K12/1000*VLOOKUP($H12,EnvProfiler,CB$3,FALSE),0)","v":0},{"$f":"IFERROR(Mass_product2*'Materiale og produktion'!$K12/1000*VLOOKUP($H12,EnvProfiler,CC$3,FALSE),0)","v":0},{"$f":"IFERROR(Mass_product2*'Materiale og produktion'!$K12/1000*VLOOKUP($H12,EnvProfiler,CD$3,FALSE),0)","v":0},{"$f":"IFERROR(Mass_product2*'Materiale og produktion'!$K12/1000*VLOOKUP($H12,EnvProfiler,CE$3,FALSE),0)","v":0},{"$f":"IFERROR(Mass_product2*'Materiale og produktion'!$K12/1000*VLOOKUP($H12,EnvProfiler,CF$3,FALSE),0)","v":0},{"$f":"IFERROR(Mass_product2*'Materiale og produktion'!$K12/1000*VLOOKUP($H12,EnvProfiler,CG$3,FALSE),0)","v":0},{"$f":"IFERROR(Mass_product2*'Materiale og produktion'!$K12/1000*VLOOKUP($H12,EnvProfiler,CH$3,FALSE),0)","v":0},{"$f":"IFERROR(Mass_product2*'Materiale og produktion'!$K12/1000*VLOOKUP($H12,EnvProfiler,CI$3,FALSE),0)","v":0}]
[null,null,null,{"$f":"IF(ISBLANK('Materiale og produktion'!F13),\"\",'Materiale og produktion'!F13)","v":{"$error":"#N/A"}},{"$error":"#N/A"},null,{"$f":"IF(ISBLANK('Materiale og produktion'!J13),\"\",'Materiale og produktion'!J13)","v":{"$error":"#N/A"}},{"$error":"#N/A"},null,null,null,null,null,null,null,null,null,null,null,null,null,null,null,null,null,null,{"$f":"IFERROR(Mass_product1*'Materiale og produktion'!$G13/1000*VLOOKUP($E13,EnvProfiler,AA$3,FALSE),0)","v":0},{"$f":"IFERROR(Mass_product1*'Materiale og produktion'!$G13/1000*VLOOKUP($E13,EnvProfiler,AB$3,FALSE),0)","v":0},{"$f":"IFERROR(Mass_product1*'Materiale og produktion'!$G13/1000*VLOOKUP($E13,EnvProfiler,AC$3,FALSE),0)","v":0},{"$f":"IFERROR(Mass_product1*'Materiale og produktion'!$G13/1000*VLOOKUP($E13,EnvProfiler,AD$3,FALSE),0)","v":0},{"$f":"IFERROR(Mass_product1*'Materiale og produktion'!$G13/1000*VLOOKUP($E13,EnvProfiler,AE$3,FALSE),0)","v":0},{"$f":"IFERROR(Mass_product1*'Materiale og produktion'!$G13/1000*VLOOKUP($E13,EnvProfiler,AF$3,FALSE),0)","v":0},{"$f":"IFERROR(Mass_product1*'Materiale og produktion'!$G13/1000*VLOOKUP($E13,EnvProfiler,AG$3,FALSE),0)","v":0},{"$f":"IFERROR(Mass_product1*'Materiale og produktion'!$G13/1000*VLOOKUP($E13,EnvProfiler,AH$3,FALSE),0)","v":0},{"$f":"IFERROR(Mass_product1*'Materiale og produktion'!$G13/1000*VLOOKUP($E13,EnvProfiler,AI$3,FALSE),0)","v":0},{"$f":"IFERROR(Mass_product1*'Materiale og produktion'!$G13/1000*VLOOKUP($E13,EnvProfiler,AJ$3,FALSE),0)","v":0},{"$f":"IFERROR(Mass_product1*'Materiale og produktion'!$G13/1000*VLOOKUP($E13,EnvProfiler,AK$3,FALSE),0)","v":0},{"$f":"IFERROR(Mass_product1*'Materiale og produktion'!$G13/1000*VLOOKUP($E13,EnvProfiler,AL$3,FALSE),0)","v":0},{"$f":"IFERROR(Mass_product1*'Materiale og produktion'!$G13/1000*VLOOKUP($E13,EnvProfiler,AM$3,FALSE),0)","v":0},{"$f":"IFERROR(Mass_product1*'Materiale og produktion'!$G13/1000*VLOOKUP($E13,EnvProfiler,AN$3,FALSE),0)","v":0},{"$f":"IFERROR(Mass_product1*'Materiale og produktion'!$G13/1000*VLOOKUP($E13,EnvProfiler,AO$3,FALSE),0)","v":0},{"$f":"IFERROR(Mass_product1*'Materiale og produktion'!$G13/1000*VLOOKUP($E13,EnvProfiler,AP$3,FALSE),0)","v":0},{"$f":"IFERROR(Mass_product1*'Materiale og produktion'!$G13/1000*VLOOKUP($E13,EnvProfiler,AQ$3,FALSE),0)","v":0},{"$f":"IFERROR(Mass_product1*'Materiale og produktion'!$G13/1000*VLOOKUP($E13,EnvProfiler,AR$3,FALSE),0)","v":0},{"$f":"IFERROR(Mass_product1*'Materiale og produktion'!$G13/1000*VLOOKUP($E13,EnvProfiler,AS$3,FALSE),0)","v":0},{"$f":"IFERROR(Mass_product1*'Materiale og produktion'!$G13/1000*VLOOKUP($E13,EnvProfiler,AT$3,FALSE),0)","v":0},{"$f":"IFERROR(Mass_product1*'Materiale og produktion'!$G13/1000*VLOOKUP($E13,EnvProfiler,AU$3,FALSE),0)","v":0},{"$f":"IFERROR(Mass_product1*'Materiale og produktion'!$G13/1000*VLOOKUP($E13,EnvProfiler,AV$3,FALSE),0)","v":0},{"$f":"IFERROR(Mass_product1*'Materiale og produktion'!$G13/1000*VLOOKUP($E13,EnvProfiler,AW$3,FALSE),0)","v":0},{"$f":"IFERROR(Mass_product1*'Materiale og produktion'!$G13/1000*VLOOKUP($E13,EnvProfiler,AX$3,FALSE),0)","v":0},{"$f":"IFERROR(Mass_product1*'Materiale og produktion'!$G13/1000*VLOOKUP($E13,EnvProfiler,AY$3,FALSE),0)","v":0},{"$f":"IFERROR(Mass_product1*'Materiale og produktion'!$G13/1000*VLOOKUP($E13,EnvProfiler,AZ$3,FALSE),0)","v":0},{"$f":"IFERROR(Mass_product1*'Materiale og produktion'!$G13/1000*VLOOKUP($E13,EnvProfiler,BA$3,FALSE),0)","v":0},{"$f":"IFERROR(Mass_product1*'Materiale og produktion'!$G13/1000*VLOOKUP($E13,EnvProfiler,BB$3,FALSE),0)","v":0},{"$f":"IFERROR(Mass_product1*'Materiale og produktion'!$G13/1000*VLOOKUP($E13,EnvProfiler,BC$3,FALSE),0)","v":0},null,null,null,{"$f":"IFERROR(Mass_product2*'Materiale og produktion'!$K13/1000*VLOOKUP($H13,EnvProfiler,BG$3,FALSE),0)","v":0},{"$f":"IFERROR(Mass_product2*'Materiale og produktion'!$K13/1000*VLOOKUP($H13,EnvProfiler,BH$3,FALSE),0)","v":0},{"$f":"IFERROR(Mass_product2*'Materiale og produktion'!$K13/1000*VLOOKUP($H13,EnvProfiler,BI$3,FALSE),0)","v":0},{"$f":"IFERROR(Mass_product2*'Materiale og produktion'!$K13/1000*VLOOKUP($H13,EnvProfiler,BJ$3,FALSE),0)","v":0},{"$f":"IFERROR(Mass_product2*'Materiale og produktion'!$K13/1000*VLOOKUP($H13,EnvProfiler,BK$3,FALSE),0)","v":0},{"$f":"IFERROR(Mass_product2*'Materiale og produktion'!$K13/1000*VLOOKUP($H13,EnvProfiler,BL$3,FALSE),0)","v":0},{"$f":"IFERROR(Mass_product2*'Materiale og produktion'!$K13/1000*VLOOKUP($H13,EnvProfiler,BM$3,FALSE),0)","v":0},{"$f":"IFERROR(Mass_product2*'Materiale og produktion'!$K13/1000*VLOOKUP($H13,EnvProfiler,BN$3,FALSE),0)","v":0},{"$f":"IFERROR(Mass_product2*'Materiale og produktion'!$K13/1000*VLOOKUP($H13,EnvProfiler,BO$3,FALSE),0)","v":0},{"$f":"IFERROR(Mass_product2*'Materiale og produktion'!$K13/1000*VLOOKUP($H13,EnvProfiler,BP$3,FALSE),0)","v":0},{"$f":"IFERROR(Mass_product2*'Materiale og produktion'!$K13/1000*VLOOKUP($H13,EnvProfiler,BQ$3,FALSE),0)","v":0},{"$f":"IFERROR(Mass_product2*'Materiale og produktion'!$K13/1000*VLOOKUP($H13,EnvProfiler,BR$3,FALSE),0)","v":0},{"$f":"IFERROR(Mass_product2*'Materiale og produktion'!$K13/1000*VLOOKUP($H13,EnvProfiler,BS$3,FALSE),0)","v":0},{"$f":"IFERROR(Mass_product2*'Materiale og produktion'!$K13/1000*VLOOKUP($H13,EnvProfiler,BT$3,FALSE),0)","v":0},{"$f":"IFERROR(Mass_product2*'Materiale og produktion'!$K13/1000*VLOOKUP($H13,EnvProfiler,BU$3,FALSE),0)","v":0},{"$f":"IFERROR(Mass_product2*'Materiale og produktion'!$K13/1000*VLOOKUP($H13,EnvProfiler,BV$3,FALSE),0)","v":0},{"$f":"IFERROR(Mass_product2*'Materiale og produktion'!$K13/1000*VLOOKUP($H13,EnvProfiler,BW$3,FALSE),0)","v":0},{"$f":"IFERROR(Mass_product2*'Materiale og produktion'!$K13/1000*VLOOKUP($H13,EnvProfiler,BX$3,FALSE),0)","v":0},{"$f":"IFERROR(Mass_product2*'Materiale og produktion'!$K13/1000*VLOOKUP($H13,EnvProfiler,BY$3,FALSE),0)","v":0},{"$f":"IFERROR(Mass_product2*'Materiale og produktion'!$K13/1000*VLOOKUP($H13,EnvProfiler,BZ$3,FALSE),0)","v":0},{"$f":"IFERROR(Mass_product2*'Materiale og produktion'!$K13/1000*VLOOKUP($H13,EnvProfiler,CA$3,FALSE),0)","v":0},{"$f":"IFERROR(Mass_product2*'Materiale og produktion'!$K13/1000*VLOOKUP($H13,EnvProfiler,CB$3,FALSE),0)","v":0},{"$f":"IFERROR(Mass_product2*'Materiale og produktion'!$K13/1000*VLOOKUP($H13,EnvProfiler,CC$3,FALSE),0)","v":0},{"$f":"IFERROR(Mass_product2*'Materiale og produktion'!$K13/1000*VLOOKUP($H13,EnvProfiler,CD$3,FALSE),0)","v":0},{"$f":"IFERROR(Mass_product2*'Materiale og produktion'!$K13/1000*VLOOKUP($H13,EnvProfiler,CE$3,FALSE),0)","v":0},{"$f":"IFERROR(Mass_product2*'Materiale og produktion'!$K13/1000*VLOOKUP($H13,EnvProfiler,CF$3,FALSE),0)","v":0},{"$f":"IFERROR(Mass_product2*'Materiale og produktion'!$K13/1000*VLOOKUP($H13,EnvProfiler,CG$3,FALSE),0)","v":0},{"$f":"IFERROR(Mass_product2*'Materiale og produktion'!$K13/1000*VLOOKUP($H13,EnvProfiler,CH$3,FALSE),0)","v":0},{"$f":"IFERROR(Mass_product2*'Materiale og produktion'!$K13/1000*VLOOKUP($H13,EnvProfiler,CI$3,FALSE),0)","v":0}]
[null,null,null,{"$f":"IF(ISBLANK('Materiale og produktion'!F14),\"\",'Materiale og produktion'!F14)","v":{"$error":"#N/A"}},{"$error":"#N/A"},null,{"$f":"IF(ISBLANK('Materiale og produktion'!J14),\"\",'Materiale og produktion'!J14)","v":{"$error":"#N/A"}},{"$error":"#N/A"},null,null,null,null,null,null,null,null,null,null,null,null,null,null,null,null,null,null,{"$f":"IFERROR(Mass_product1*'Materiale og produktion'!$G14/1000*VLOOKUP($E14,EnvProfiler,AA$3,FALSE),0)","v":0},{"$f":"IFERROR(Mass_product1*'Materiale og produktion'!$G14/1000*VLOOKUP($E14,EnvProfiler,AB$3,FALSE),0)","v":0},{"$f":"IFERROR(Mass_product1*'Materiale og produktion'!$G14/1000*VLOOKUP($E14,EnvProfiler,AC$3,FALSE),0)","v":0},{"$f":"IFERROR(Mass_product1*'Materiale og produktion'!$G14/1000*VLOOKUP($E14,EnvProfiler,AD$3,FALSE),0)","v":0},{"$f":"IFERROR(Mass_product1*'Materiale og produktion'!$G14/1000*VLOOKUP($E14,EnvProfiler,AE$3,FALSE),0)","v":0},{"$f":"IFERROR(Mass_product1*'Materiale og produktion'!$G14/1000*VLOOKUP($E14,EnvProfiler,AF$3,FALSE),0)","v":0},{"$f":"IFERROR(Mass_product1*'Materiale og produktion'!$G14/1000*VLOOKUP($E14,EnvProfiler,AG$3,FALSE),0)","v":0},{"$f":"IFERROR(Mass_product1*'Materiale og produktion'!$G14/1000*VLOOKUP($E14,EnvProfiler,AH$3,FALSE),0)","v":0},{"$f":"IFERROR(Mass_product1*'Materiale og produktion'!$G14/1000*VLOOKUP($E14,EnvProfiler,AI$3,FALSE),0)","v":0},{"$f":"IFERROR(Mass_product1*'Materiale og produktion'!$G14/1000*VLOOKUP($E14,EnvProfiler,AJ$3,FALSE),0)","v":0},{"$f":"IFERROR(Mass_product1*'Materiale og produktion'!$G14/1000*VLOOKUP($E14,EnvProfiler,AK$3,FALSE),0)","v":0},{"$f":"IFERROR(Mass_product1*'Materiale og produktion'!$G14/1000*VLOOKUP($E14,EnvProfiler,AL$3,FALSE),0)","v":0},{"$f":"IFERROR(Mass_product1*'Materiale og produktion'!$G14/1000*VLOOKUP($E14,EnvProfiler,AM$3,FALSE),0)","v":0},{"$f":"IFERROR(Mass_product1*'Materiale og produktion'!$G14/1000*VLOOKUP($E14,EnvProfiler,AN$3,FALSE),0)","v":0},{"$f":"IFERROR(Mass_product1*'Materiale og produktion'!$G14/1000*VLOOKUP($E14,EnvProfiler,AO$3,FALSE),0)","v":0},{"$f":"IFERROR(Mass_product1*'Materiale og produktion'!$G14/1000*VLOOKUP($E14,EnvProfiler,AP$3,FALSE),0)","v":0},{"$f":"IFERROR(Mass_product1*'Materiale og produktion'!$G14/1000*VLOOKUP($E14,EnvProfiler,AQ$3,FALSE),0)","v":0},{"$f":"IFERROR(Mass_product1*'Materiale og produktion'!$G14/1000*VLOOKUP($E14,EnvProfiler,AR$3,FALSE),0)","v":0},{"$f":"IFERROR(Mass_product1*'Materiale og produktion'!$G14/1000*VLOOKUP($E14,EnvProfiler,AS$3,FALSE),0)","v":0},{"$f":"IFERROR(Mass_product1*'Materiale og produktion'!$G14/1000*VLOOKUP($E14,EnvProfiler,AT$3,FALSE),0)","v":0},{"$f":"IFERROR(Mass_product1*'Materiale og produktion'!$G14/1000*VLOOKUP($E14,EnvProfiler,AU$3,FALSE),0)","v":0},{"$f":"IFERROR(Mass_product1*'Materiale og produktion'!$G14/1000*VLOOKUP($E14,EnvProfiler,AV$3,FALSE),0)","v":0},{"$f":"IFERROR(Mass_product1*'Materiale og produktion'!$G14/1000*VLOOKUP($E14,EnvProfiler,AW$3,FALSE),0)","v":0},{"$f":"IFERROR(Mass_product1*'Materiale og produktion'!$G14/1000*VLOOKUP($E14,EnvProfiler,AX$3,FALSE),0)","v":0},{"$f":"IFERROR(Mass_product1*'Materiale og produktion'!$G14/1000*VLOOKUP($E14,EnvProfiler,AY$3,FALSE),0)","v":0},{"$f":"IFERROR(Mass_product1*'Materiale og produktion'!$G14/1000*VLOOKUP($E14,EnvProfiler,AZ$3,FALSE),0)","v":0},{"$f":"IFERROR(Mass_product1*'Materiale og produktion'!$G14/1000*VLOOKUP($E14,EnvProfiler,BA$3,FALSE),0)","v":0},{"$f":"IFERROR(Mass_product1*'Materiale og produktion'!$G14/1000*VLOOKUP($E14,EnvProfiler,BB$3,FALSE),0)","v":0},{"$f":"IFERROR(Mass_product1*'Materiale og produktion'!$G14/1000*VLOOKUP($E14,EnvProfiler,BC$3,FALSE),0)","v":0},null,null,null,{"$f":"IFERROR(Mass_product2*'Materiale og produktion'!$K14/1000*VLOOKUP($H14,EnvProfiler,BG$3,FALSE),0)","v":0},{"$f":"IFERROR(Mass_product2*'Materiale og produktion'!$K14/1000*VLOOKUP($H14,EnvProfiler,BH$3,FALSE),0)","v":0},{"$f":"IFERROR(Mass_product2*'Materiale og produktion'!$K14/1000*VLOOKUP($H14,EnvProfiler,BI$3,FALSE),0)","v":0},{"$f":"IFERROR(Mass_product2*'Materiale og produktion'!$K14/1000*VLOOKUP($H14,EnvProfiler,BJ$3,FALSE),0)","v":0},{"$f":"IFERROR(Mass_product2*'Materiale og produktion'!$K14/1000*VLOOKUP($H14,EnvProfiler,BK$3,FALSE),0)","v":0},{"$f":"IFERROR(Mass_product2*'Materiale og produktion'!$K14/1000*VLOOKUP($H14,EnvProfiler,BL$3,FALSE),0)","v":0},{"$f":"IFERROR(Mass_product2*'Materiale og produktion'!$K14/1000*VLOOKUP($H14,EnvProfiler,BM$3,FALSE),0)","v":0},{"$f":"IFERROR(Mass_product2*'Materiale og produktion'!$K14/1000*VLOOKUP($H14,EnvProfiler,BN$3,FALSE),0)","v":0},{"$f":"IFERROR(Mass_product2*'Materiale og produktion'!$K14/1000*VLOOKUP($H14,EnvProfiler,BO$3,FALSE),0)","v":0},{"$f":"IFERROR(Mass_product2*'Materiale og produktion'!$K14/1000*VLOOKUP($H14,EnvProfiler,BP$3,FALSE),0)","v":0},{"$f":"IFERROR(Mass_product2*'Materiale og produktion'!$K14/1000*VLOOKUP($H14,EnvProfiler,BQ$3,FALSE),0)","v":0},{"$f":"IFERROR(Mass_product2*'Materiale og produktion'!$K14/1000*VLOOKUP($H14,EnvProfiler,BR$3,FALSE),0)","v":0},{"$f":"IFERROR(Mass_product2*'Materiale og produktion'!$K14/1000*VLOOKUP($H14,EnvProfiler,BS$3,FALSE),0)","v":0},{"$f":"IFERROR(Mass_product2*'Materiale og produktion'!$K14/1000*VLOOKUP($H14,EnvProfiler,BT$3,FALSE),0)","v":0},{"$f":"IFERROR(Mass_product2*'Materiale og produktion'!$K14/1000*VLOOKUP($H14,EnvProfiler,BU$3,FALSE),0)","v":0},{"$f":"IFERROR(Mass_product2*'Materiale og produktion'!$K14/1000*VLOOKUP($H14,EnvProfiler,BV$3,FALSE),0)","v":0},{"$f":"IFERROR(Mass_product2*'Materiale og produktion'!$K14/1000*VLOOKUP($H14,EnvProfiler,BW$3,FALSE),0)","v":0},{"$f":"IFERROR(Mass_product2*'Materiale og produktion'!$K14/1000*VLOOKUP($H14,EnvProfiler,BX$3,FALSE),0)","v":0},{"$f":"IFERROR(Mass_product2*'Materiale og produktion'!$K14/1000*VLOOKUP($H14,EnvProfiler,BY$3,FALSE),0)","v":0},{"$f":"IFERROR(Mass_product2*'Materiale og produktion'!$K14/1000*VLOOKUP($H14,EnvProfiler,BZ$3,FALSE),0)","v":0},{"$f":"IFERROR(Mass_product2*'Materiale og produktion'!$K14/1000*VLOOKUP($H14,EnvProfiler,CA$3,FALSE),0)","v":0},{"$f":"IFERROR(Mass_product2*'Materiale og produktion'!$K14/1000*VLOOKUP($H14,EnvProfiler,CB$3,FALSE),0)","v":0},{"$f":"IFERROR(Mass_product2*'Materiale og produktion'!$K14/1000*VLOOKUP($H14,EnvProfiler,CC$3,FALSE),0)","v":0},{"$f":"IFERROR(Mass_product2*'Materiale og produktion'!$K14/1000*VLOOKUP($H14,EnvProfiler,CD$3,FALSE),0)","v":0},{"$f":"IFERROR(Mass_product2*'Materiale og produktion'!$K14/1000*VLOOKUP($H14,EnvProfiler,CE$3,FALSE),0)","v":0},{"$f":"IFERROR(Mass_product2*'Materiale og produktion'!$K14/1000*VLOOKUP($H14,EnvProfiler,CF$3,FALSE),0)","v":0},{"$f":"IFERROR(Mass_product2*'Materiale og produktion'!$K14/1000*VLOOKUP($H14,EnvProfiler,CG$3,FALSE),0)","v":0},{"$f":"IFERROR(Mass_product2*'Materiale og produktion'!$K14/1000*VLOOKUP($H14,EnvProfiler,CH$3,FALSE),0)","v":0},{"$f":"IFERROR(Mass_product2*'Materiale og produktion'!$K14/1000*VLOOKUP($H14,EnvProfiler,CI$3,FALSE),0)","v":0}]
[null,null,null,{"$f":"IF(ISBLANK('Materiale og produktion'!F15),\"\",'Materiale og produktion'!F15)","v":{"$error":"#N/A"}},{"$error":"#N/A"},null,{"$f":"IF(ISBLANK('Materiale og produktion'!J15),\"\",'Materiale og produktion'!J15)","v":{"$error":"#N/A"}},{"$error":"#N/A"},null,null,null,null,null,null,null,null,null,null,null,null,null,null,null,null,null,null,{"$f":"IFERROR(Mass_product1*'Materiale og produktion'!$G15/1000*VLOOKUP($E15,EnvProfiler,AA$3,FALSE),0)","v":0},{"$f":"IFERROR(Mass_product1*'Materiale og produktion'!$G15/1000*VLOOKUP($E15,EnvProfiler,AB$3,FALSE),0)","v":0},{"$f":"IFERROR(Mass_product1*'Materiale og produktion'!$G15/1000*VLOOKUP($E15,EnvProfiler,AC$3,FALSE),0)","v":0},{"$f":"IFERROR(Mass_product1*'Materiale og produktion'!$G15/1000*VLOOKUP($E15,EnvProfiler,AD$3,FALSE),0)","v":0},{"$f":"IFERROR(Mass_product1*'Materiale og produktion'!$G15/1000*VLOOKUP($E15,EnvProfiler,AE$3,FALSE),0)","v":0},{"$f":"IFERROR(Mass_product1*'Materiale og produktion'!$G15/1000*VLOOKUP($E15,EnvProfiler,AF$3,FALSE),0)","v":0},{"$f":"IFERROR(Mass_product1*'Materiale og produktion'!$G15/1000*VLOOKUP($E15,EnvProfiler,AG$3,FALSE),0)","v":0},{"$f":"IFERROR(Mass_product1*'Materiale og produktion'!$G15/1000*VLOOKUP($E15,EnvProfiler,AH$3,FALSE),0)","v":0},{"$f":"IFERROR(Mass_product1*'Materiale og produktion'!$G15/1000*VLOOKUP($E15,EnvProfiler,AI$3,FALSE),0)","v":0},{"$f":"IFERROR(Mass_product1*'Materiale og produktion'!$G15/1000*VLOOKUP($E15,EnvProfiler,AJ$3,FALSE),0)","v":0},{"$f":"IFERROR(Mass_product1*'Materiale og produktion'!$G15/1000*VLOOKUP($E15,EnvProfiler,AK$3,FALSE),0)","v":0},{"$f":"IFERROR(Mass_product1*'Materiale og produktion'!$G15/1000*VLOOKUP($E15,EnvProfiler,AL$3,FALSE),0)","v":0},{"$f":"IFERROR(Mass_product1*'Materiale og produktion'!$G15/1000*VLOOKUP($E15,EnvProfiler,AM$3,FALSE),0)","v":0},{"$f":"IFERROR(Mass_product1*'Materiale og produktion'!$G15/1000*VLOOKUP($E15,EnvProfiler,AN$3,FALSE),0)","v":0},{"$f":"IFERROR(Mass_product1*'Materiale og produktion'!$G15/1000*VLOOKUP($E15,EnvProfiler,AO$3,FALSE),0)","v":0},{"$f":"IFERROR(Mass_product1*'Materiale og produktion'!$G15/1000*VLOOKUP($E15,EnvProfiler,AP$3,FALSE),0)","v":0},{"$f":"IFERROR(Mass_product1*'Materiale og produktion'!$G15/1000*VLOOKUP($E15,EnvProfiler,AQ$3,FALSE),0)","v":0},{"$f":"IFERROR(Mass_product1*'Materiale og produktion'!$G15/1000*VLOOKUP($E15,EnvProfiler,AR$3,FALSE),0)","v":0},{"$f":"IFERROR(Mass_product1*'Materiale og produktion'!$G15/1000*VLOOKUP($E15,EnvProfiler,AS$3,FALSE),0)","v":0},{"$f":"IFERROR(Mass_product1*'Materiale og produktion'!$G15/1000*VLOOKUP($E15,EnvProfiler,AT$3,FALSE),0)","v":0},{"$f":"IFERROR(Mass_product1*'Materiale og produktion'!$G15/1000*VLOOKUP($E15,EnvProfiler,AU$3,FALSE),0)","v":0},{"$f":"IFERROR(Mass_product1*'Materiale og produktion'!$G15/1000*VLOOKUP($E15,EnvProfiler,AV$3,FALSE),0)","v":0},{"$f":"IFERROR(Mass_product1*'Materiale og produktion'!$G15/1000*VLOOKUP($E15,EnvProfiler,AW$3,FALSE),0)","v":0},{"$f":"IFERROR(Mass_product1*'Materiale og produktion'!$G15/1000*VLOOKUP($E15,EnvProfiler,AX$3,FALSE),0)","v":0},{"$f":"IFERROR(Mass_product1*'Materiale og produktion'!$G15/1000*VLOOKUP($E15,EnvProfiler,AY$3,FALSE),0)","v":0},{"$f":"IFERROR(Mass_product1*'Materiale og produktion'!$G15/1000*VLOOKUP($E15,EnvProfiler,AZ$3,FALSE),0)","v":0},{"$f":"IFERROR(Mass_product1*'Materiale og produktion'!$G15/1000*VLOOKUP($E15,EnvProfiler,BA$3,FALSE),0)","v":0},{"$f":"IFERROR(Mass_product1*'Materiale og produktion'!$G15/1000*VLOOKUP($E15,EnvProfiler,BB$3,FALSE),0)","v":0},{"$f":"IFERROR(Mass_product1*'Materiale og produktion'!$G15/1000*VLOOKUP($E15,EnvProfiler,BC$3,FALSE),0)","v":0},null,null,null,{"$f":"IFERROR(Mass_product2*'Materiale og produktion'!$K15/1000*VLOOKUP($H15,EnvProfiler,BG$3,FALSE),0)","v":0},{"$f":"IFERROR(Mass_product2*'Materiale og produktion'!$K15/1000*VLOOKUP($H15,EnvProfiler,BH$3,FALSE),0)","v":0},{"$f":"IFERROR(Mass_product2*'Materiale og produktion'!$K15/1000*VLOOKUP($H15,EnvProfiler,BI$3,FALSE),0)","v":0},{"$f":"IFERROR(Mass_product2*'Materiale og produktion'!$K15/1000*VLOOKUP($H15,EnvProfiler,BJ$3,FALSE),0)","v":0},{"$f":"IFERROR(Mass_product2*'Materiale og produktion'!$K15/1000*VLOOKUP($H15,EnvProfiler,BK$3,FALSE),0)","v":0},{"$f":"IFERROR(Mass_product2*'Materiale og produktion'!$K15/1000*VLOOKUP($H15,EnvProfiler,BL$3,FALSE),0)","v":0},{"$f":"IFERROR(Mass_product2*'Materiale og produktion'!$K15/1000*VLOOKUP($H15,EnvProfiler,BM$3,FALSE),0)","v":0},{"$f":"IFERROR(Mass_product2*'Materiale og produktion'!$K15/1000*VLOOKUP($H15,EnvProfiler,BN$3,FALSE),0)","v":0},{"$f":"IFERROR(Mass_product2*'Materiale og produktion'!$K15/1000*VLOOKUP($H15,EnvProfiler,BO$3,FALSE),0)","v":0},{"$f":"IFERROR(Mass_product2*'Materiale og produktion'!$K15/1000*VLOOKUP($H15,EnvProfiler,BP$3,FALSE),0)","v":0},{"$f":"IFERROR(Mass_product2*'Materiale og produktion'!$K15/1000*VLOOKUP($H15,EnvProfiler,BQ$3,FALSE),0)","v":0},{"$f":"IFERROR(Mass_product2*'Materiale og produktion'!$K15/1000*VLOOKUP($H15,EnvProfiler,BR$3,FALSE),0)","v":0},{"$f":"IFERROR(Mass_product2*'Materiale og produktion'!$K15/1000*VLOOKUP($H15,EnvProfiler,BS$3,FALSE),0)","v":0},{"$f":"IFERROR(Mass_product2*'Materiale og produktion'!$K15/1000*VLOOKUP($H15,EnvProfiler,BT$3,FALSE),0)","v":0},{"$f":"IFERROR(Mass_product2*'Materiale og produktion'!$K15/1000*VLOOKUP($H15,EnvProfiler,BU$3,FALSE),0)","v":0},{"$f":"IFERROR(Mass_product2*'Materiale og produktion'!$K15/1000*VLOOKUP($H15,EnvProfiler,BV$3,FALSE),0)","v":0},{"$f":"IFERROR(Mass_product2*'Materiale og produktion'!$K15/1000*VLOOKUP($H15,EnvProfiler,BW$3,FALSE),0)","v":0},{"$f":"IFERROR(Mass_product2*'Materiale og produktion'!$K15/1000*VLOOKUP($H15,EnvProfiler,BX$3,FALSE),0)","v":0},{"$f":"IFERROR(Mass_product2*'Materiale og produktion'!$K15/1000*VLOOKUP($H15,EnvProfiler,BY$3,FALSE),0)","v":0},{"$f":"IFERROR(Mass_product2*'Materiale og produktion'!$K15/1000*VLOOKUP($H15,EnvProfiler,BZ$3,FALSE),0)","v":0},{"$f":"IFERROR(Mass_product2*'Materiale og produktion'!$K15/1000*VLOOKUP($H15,EnvProfiler,CA$3,FALSE),0)","v":0},{"$f":"IFERROR(Mass_product2*'Materiale og produktion'!$K15/1000*VLOOKUP($H15,EnvProfiler,CB$3,FALSE),0)","v":0},{"$f":"IFERROR(Mass_product2*'Materiale og produktion'!$K15/1000*VLOOKUP($H15,EnvProfiler,CC$3,FALSE),0)","v":0},{"$f":"IFERROR(Mass_product2*'Materiale og produktion'!$K15/1000*VLOOKUP($H15,EnvProfiler,CD$3,FALSE),0)","v":0},{"$f":"IFERROR(Mass_product2*'Materiale og produktion'!$K15/1000*VLOOKUP($H15,EnvProfiler,CE$3,FALSE),0)","v":0},{"$f":"IFERROR(Mass_product2*'Materiale og produktion'!$K15/1000*VLOOKUP($H15,EnvProfiler,CF$3,FALSE),0)","v":0},{"$f":"IFERROR(Mass_product2*'Materiale og produktion'!$K15/1000*VLOOKUP($H15,EnvProfiler,CG$3,FALSE),0)","v":0},{"$f":"IFERROR(Mass_product2*'Materiale og produktion'!$K15/1000*VLOOKUP($H15,EnvProfiler,CH$3,FALSE),0)","v":0},{"$f":"IFERROR(Mass_product2*'Materiale og produktion'!$K15/1000*VLOOKUP($H15,EnvProfiler,CI$3,FALSE),0)","v":0}]
[null,null,null,{"$f":"IF(ISBLANK('Materiale og produktion'!F16),\"\",'Materiale og produktion'!F16)","v":{"$error":"#N/A"}},{"$error":"#N/A"},null,{"$f":"IF(ISBLANK('Materiale og produktion'!J16),\"\",'Materiale og produktion'!J16)","v":{"$error":"#N/A"}},{"$error":"#N/A"},null,null,null,null,null,null,null,null,null,null,null,null,null,null,null,null,null,null,{"$f":"IFERROR(Mass_product1*'Materiale og produktion'!$G16/1000*VLOOKUP($E16,EnvProfiler,AA$3,FALSE),0)","v":0},{"$f":"IFERROR(Mass_product1*'Materiale og produktion'!$G16/1000*VLOOKUP($E16,EnvProfiler,AB$3,FALSE),0)","v":0},{"$f":"IFERROR(Mass_product1*'Materiale og produktion'!$G16/1000*VLOOKUP($E16,EnvProfiler,AC$3,FALSE),0)","v":0},{"$f":"IFERROR(Mass_product1*'Materiale og produktion'!$G16/1000*VLOOKUP($E16,EnvProfiler,AD$3,FALSE),0)","v":0},{"$f":"IFERROR(Mass_product1*'Materiale og produktion'!$G16/1000*VLOOKUP($E16,EnvProfiler,AE$3,FALSE),0)","v":0},{"$f":"IFERROR(Mass_product1*'Materiale og produktion'!$G16/1000*VLOOKUP($E16,EnvProfiler,AF$3,FALSE),0)","v":0},{"$f":"IFERROR(Mass_product1*'Materiale og produktion'!$G16/1000*VLOOKUP($E16,EnvProfiler,AG$3,FALSE),0)","v":0},{"$f":"IFERROR(Mass_product1*'Materiale og produktion'!$G16/1000*VLOOKUP($E16,EnvProfiler,AH$3,FALSE),0)","v":0},{"$f":"IFERROR(Mass_product1*'Materiale og produktion'!$G16/1000*VLOOKUP($E16,EnvProfiler,AI$3,FALSE),0)","v":0},{"$f":"IFERROR(Mass_product1*'Materiale og produktion'!$G16/1000*VLOOKUP($E16,EnvProfiler,AJ$3,FALSE),0)","v":0},{"$f":"IFERROR(Mass_product1*'Materiale og produktion'!$G16/1000*VLOOKUP($E16,EnvProfiler,AK$3,FALSE),0)","v":0},{"$f":"IFERROR(Mass_product1*'Materiale og produktion'!$G16/1000*VLOOKUP($E16,EnvProfiler,AL$3,FALSE),0)","v":0},{"$f":"IFERROR(Mass_product1*'Materiale og produktion'!$G16/1000*VLOOKUP($E16,EnvProfiler,AM$3,FALSE),0)","v":0},{"$f":"IFERROR(Mass_product1*'Materiale og produktion'!$G16/1000*VLOOKUP($E16,EnvProfiler,AN$3,FALSE),0)","v":0},{"$f":"IFERROR(Mass_product1*'Materiale og produktion'!$G16/1000*VLOOKUP($E16,EnvProfiler,AO$3,FALSE),0)","v":0},{"$f":"IFERROR(Mass_product1*'Materiale og produktion'!$G16/1000*VLOOKUP($E16,EnvProfiler,AP$3,FALSE),0)","v":0},{"$f":"IFERROR(Mass_product1*'Materiale og produktion'!$G16/1000*VLOOKUP($E16,EnvProfiler,AQ$3,FALSE),0)","v":0},{"$f":"IFERROR(Mass_product1*'Materiale og produktion'!$G16/1000*VLOOKUP($E16,EnvProfiler,AR$3,FALSE),0)","v":0},{"$f":"IFERROR(Mass_product1*'Materiale og produktion'!$G16/1000*VLOOKUP($E16,EnvProfiler,AS$3,FALSE),0)","v":0},{"$f":"IFERROR(Mass_product1*'Materiale og produktion'!$G16/1000*VLOOKUP($E16,EnvProfiler,AT$3,FALSE),0)","v":0},{"$f":"IFERROR(Mass_product1*'Materiale og produktion'!$G16/1000*VLOOKUP($E16,EnvProfiler,AU$3,FALSE),0)","v":0},{"$f":"IFERROR(Mass_product1*'Materiale og produktion'!$G16/1000*VLOOKUP($E16,EnvProfiler,AV$3,FALSE),0)","v":0},{"$f":"IFERROR(Mass_product1*'Materiale og produktion'!$G16/1000*VLOOKUP($E16,EnvProfiler,AW$3,FALSE),0)","v":0},{"$f":"IFERROR(Mass_product1*'Materiale og produktion'!$G16/1000*VLOOKUP($E16,EnvProfiler,AX$3,FALSE),0)","v":0},{"$f":"IFERROR(Mass_product1*'Materiale og produktion'!$G16/1000*VLOOKUP($E16,EnvProfiler,AY$3,FALSE),0)","v":0},{"$f":"IFERROR(Mass_product1*'Materiale og produktion'!$G16/1000*VLOOKUP($E16,EnvProfiler,AZ$3,FALSE),0)","v":0},{"$f":"IFERROR(Mass_product1*'Materiale og produktion'!$G16/1000*VLOOKUP($E16,EnvProfiler,BA$3,FALSE),0)","v":0},{"$f":"IFERROR(Mass_product1*'Materiale og produktion'!$G16/1000*VLOOKUP($E16,EnvProfiler,BB$3,FALSE),0)","v":0},{"$f":"IFERROR(Mass_product1*'Materiale og produktion'!$G16/1000*VLOOKUP($E16,EnvProfiler,BC$3,FALSE),0)","v":0},null,null,null,{"$f":"IFERROR(Mass_product2*'Materiale og produktion'!$K16/1000*VLOOKUP($H16,EnvProfiler,BG$3,FALSE),0)","v":0},{"$f":"IFERROR(Mass_product2*'Materiale og produktion'!$K16/1000*VLOOKUP($H16,EnvProfiler,BH$3,FALSE),0)","v":0},{"$f":"IFERROR(Mass_product2*'Materiale og produktion'!$K16/1000*VLOOKUP($H16,EnvProfiler,BI$3,FALSE),0)","v":0},{"$f":"IFERROR(Mass_product2*'Materiale og produktion'!$K16/1000*VLOOKUP($H16,EnvProfiler,BJ$3,FALSE),0)","v":0},{"$f":"IFERROR(Mass_product2*'Materiale og produktion'!$K16/1000*VLOOKUP($H16,EnvProfiler,BK$3,FALSE),0)","v":0},{"$f":"IFERROR(Mass_product2*'Materiale og produktion'!$K16/1000*VLOOKUP($H16,EnvProfiler,BL$3,FALSE),0)","v":0},{"$f":"IFERROR(Mass_product2*'Materiale og produktion'!$K16/1000*VLOOKUP($H16,EnvProfiler,BM$3,FALSE),0)","v":0},{"$f":"IFERROR(Mass_product2*'Materiale og produktion'!$K16/1000*VLOOKUP($H16,EnvProfiler,BN$3,FALSE),0)","v":0},{"$f":"IFERROR(Mass_product2*'Materiale og produktion'!$K16/1000*VLOOKUP($H16,EnvProfiler,BO$3,FALSE),0)","v":0},{"$f":"IFERROR(Mass_product2*'Materiale og produktion'!$K16/1000*VLOOKUP($H16,EnvProfiler,BP$3,FALSE),0)","v":0},{"$f":"IFERROR(Mass_product2*'Materiale og produktion'!$K16/1000*VLOOKUP($H16,EnvProfiler,BQ$3,FALSE),0)","v":0},{"$f":"IFERROR(Mass_product2*'Materiale og produktion'!$K16/1000*VLOOKUP($H16,EnvProfiler,BR$3,FALSE),0)","v":0},{"$f":"IFERROR(Mass_product2*'Materiale og produktion'!$K16/1000*VLOOKUP($H16,EnvProfiler,BS$3,FALSE),0)","v":0},{"$f":"IFERROR(Mass_product2*'Materiale og produktion'!$K16/1000*VLOOKUP($H16,EnvProfiler,BT$3,FALSE),0)","v":0},{"$f":"IFERROR(Mass_product2*'Materiale og produktion'!$K16/1000*VLOOKUP($H16,EnvProfiler,BU$3,FALSE),0)","v":0},{"$f":"IFERROR(Mass_product2*'Materiale og produktion'!$K16/1000*VLOOKUP($H16,EnvProfiler,BV$3,FALSE),0)","v":0},{"$f":"IFERROR(Mass_product2*'Materiale og produktion'!$K16/1000*VLOOKUP($H16,EnvProfiler,BW$3,FALSE),0)","v":0},{"$f":"IFERROR(Mass_product2*'Materiale og produktion'!$K16/1000*VLOOKUP($H16,EnvProfiler,BX$3,FALSE),0)","v":0},{"$f":"IFERROR(Mass_product2*'Materiale og produktion'!$K16/1000*VLOOKUP($H16,EnvProfiler,BY$3,FALSE),0)","v":0},{"$f":"IFERROR(Mass_product2*'Materiale og produktion'!$K16/1000*VLOOKUP($H16,EnvProfiler,BZ$3,FALSE),0)","v":0},{"$f":"IFERROR(Mass_product2*'Materiale og produktion'!$K16/1000*VLOOKUP($H16,EnvProfiler,CA$3,FALSE),0)","v":0},{"$f":"IFERROR(Mass_product2*'Materiale og produktion'!$K16/1000*VLOOKUP($H16,EnvProfiler,CB$3,FALSE),0)","v":0},{"$f":"IFERROR(Mass_product2*'Materiale og produktion'!$K16/1000*VLOOKUP($H16,EnvProfiler,CC$3,FALSE),0)","v":0},{"$f":"IFERROR(Mass_product2*'Materiale og produktion'!$K16/1000*VLOOKUP($H16,EnvProfiler,CD$3,FALSE),0)","v":0},{"$f":"IFERROR(Mass_product2*'Materiale og produktion'!$K16/1000*VLOOKUP($H16,EnvProfiler,CE$3,FALSE),0)","v":0},{"$f":"IFERROR(Mass_product2*'Materiale og produktion'!$K16/1000*VLOOKUP($H16,EnvProfiler,CF$3,FALSE),0)","v":0},{"$f":"IFERROR(Mass_product2*'Materiale og produktion'!$K16/1000*VLOOKUP($H16,EnvProfiler,CG$3,FALSE),0)","v":0},{"$f":"IFERROR(Mass_product2*'Materiale og produktion'!$K16/1000*VLOOKUP($H16,EnvProfiler,CH$3,FALSE),0)","v":0},{"$f":"IFERROR(Mass_product2*'Materiale og produktion'!$K16/1000*VLOOKUP($H16,EnvProfiler,CI$3,FALSE),0)","v":0}]
[null,null,null,{"$f":"IF(ISBLANK('Materiale og produktion'!F17),\"\",'Materiale og produktion'!F17)","v":{"$error":"#N/A"}},{"$error":"#N/A"},null,{"$f":"IF(ISBLANK('Materiale og produktion'!J17),\"\",'Materiale og produktion'!J17)","v":{"$error":"#N/A"}},{"$error":"#N/A"},null,null,null,null,null,null,null,null,null,null,null,null,null,null,null,null,null,null,{"$f":"IFERROR(Mass_product1*'Materiale og produktion'!$G17/1000*VLOOKUP($E17,EnvProfiler,AA$3,FALSE),0)","v":0},{"$f":"IFERROR(Mass_product1*'Materiale og produktion'!$G17/1000*VLOOKUP($E17,EnvProfiler,AB$3,FALSE),0)","v":0},{"$f":"IFERROR(Mass_product1*'Materiale og produktion'!$G17/1000*VLOOKUP($E17,EnvProfiler,AC$3,FALSE),0)","v":0},{"$f":"IFERROR(Mass_product1*'Materiale og produktion'!$G17/1000*VLOOKUP($E17,EnvProfiler,AD$3,FALSE),0)","v":0},{"$f":"IFERROR(Mass_product1*'Materiale og produktion'!$G17/1000*VLOOKUP($E17,EnvProfiler,AE$3,FALSE),0)","v":0},{"$f":"IFERROR(Mass_product1*'Materiale og produktion'!$G17/1000*VLOOKUP($E17,EnvProfiler,AF$3,FALSE),0)","v":0},{"$f":"IFERROR(Mass_product1*'Materiale og produktion'!$G17/1000*VLOOKUP($E17,EnvProfiler,AG$3,FALSE),0)","v":0},{"$f":"IFERROR(Mass_product1*'Materiale og produktion'!$G17/1000*VLOOKUP($E17,EnvProfiler,AH$3,FALSE),0)","v":0},{"$f":"IFERROR(Mass_product1*'Materiale og produktion'!$G17/1000*VLOOKUP($E17,EnvProfiler,AI$3,FALSE),0)","v":0},{"$f":"IFERROR(Mass_product1*'Materiale og produktion'!$G17/1000*VLOOKUP($E17,EnvProfiler,AJ$3,FALSE),0)","v":0},{"$f":"IFERROR(Mass_product1*'Materiale og produktion'!$G17/1000*VLOOKUP($E17,EnvProfiler,AK$3,FALSE),0)","v":0},{"$f":"IFERROR(Mass_product1*'Materiale og produktion'!$G17/1000*VLOOKUP($E17,EnvProfiler,AL$3,FALSE),0)","v":0},{"$f":"IFERROR(Mass_product1*'Materiale og produktion'!$G17/1000*VLOOKUP($E17,EnvProfiler,AM$3,FALSE),0)","v":0},{"$f":"IFERROR(Mass_product1*'Materiale og produktion'!$G17/1000*VLOOKUP($E17,EnvProfiler,AN$3,FALSE),0)","v":0},{"$f":"IFERROR(Mass_product1*'Materiale og produktion'!$G17/1000*VLOOKUP($E17,EnvProfiler,AO$3,FALSE),0)","v":0},{"$f":"IFERROR(Mass_product1*'Materiale og produktion'!$G17/1000*VLOOKUP($E17,EnvProfiler,AP$3,FALSE),0)","v":0},{"$f":"IFERROR(Mass_product1*'Materiale og produktion'!$G17/1000*VLOOKUP($E17,EnvProfiler,AQ$3,FALSE),0)","v":0},{"$f":"IFERROR(Mass_product1*'Materiale og produktion'!$G17/1000*VLOOKUP($E17,EnvProfiler,AR$3,FALSE),0)","v":0},{"$f":"IFERROR(Mass_product1*'Materiale og produktion'!$G17/1000*VLOOKUP($E17,EnvProfiler,AS$3,FALSE),0)","v":0},{"$f":"IFERROR(Mass_product1*'Materiale og produktion'!$G17/1000*VLOOKUP($E17,EnvProfiler,AT$3,FALSE),0)","v":0},{"$f":"IFERROR(Mass_product1*'Materiale og produktion'!$G17/1000*VLOOKUP($E17,EnvProfiler,AU$3,FALSE),0)","v":0},{"$f":"IFERROR(Mass_product1*'Materiale og produktion'!$G17/1000*VLOOKUP($E17,EnvProfiler,AV$3,FALSE),0)","v":0},{"$f":"IFERROR(Mass_product1*'Materiale og produktion'!$G17/1000*VLOOKUP($E17,EnvProfiler,AW$3,FALSE),0)","v":0},{"$f":"IFERROR(Mass_product1*'Materiale og produktion'!$G17/1000*VLOOKUP($E17,EnvProfiler,AX$3,FALSE),0)","v":0},{"$f":"IFERROR(Mass_product1*'Materiale og produktion'!$G17/1000*VLOOKUP($E17,EnvProfiler,AY$3,FALSE),0)","v":0},{"$f":"IFERROR(Mass_product1*'Materiale og produktion'!$G17/1000*VLOOKUP($E17,EnvProfiler,AZ$3,FALSE),0)","v":0},{"$f":"IFERROR(Mass_product1*'Materiale og produktion'!$G17/1000*VLOOKUP($E17,EnvProfiler,BA$3,FALSE),0)","v":0},{"$f":"IFERROR(Mass_product1*'Materiale og produktion'!$G17/1000*VLOOKUP($E17,EnvProfiler,BB$3,FALSE),0)","v":0},{"$f":"IFERROR(Mass_product1*'Materiale og produktion'!$G17/1000*VLOOKUP($E17,EnvProfiler,BC$3,FALSE),0)","v":0},null,null,null,{"$f":"IFERROR(Mass_product2*'Materiale og produktion'!$K17/1000*VLOOKUP($H17,EnvProfiler,BG$3,FALSE),0)","v":0},{"$f":"IFERROR(Mass_product2*'Materiale og produktion'!$K17/1000*VLOOKUP($H17,EnvProfiler,BH$3,FALSE),0)","v":0},{"$f":"IFERROR(Mass_product2*'Materiale og produktion'!$K17/1000*VLOOKUP($H17,EnvProfiler,BI$3,FALSE),0)","v":0},{"$f":"IFERROR(Mass_product2*'Materiale og produktion'!$K17/1000*VLOOKUP($H17,EnvProfiler,BJ$3,FALSE),0)","v":0},{"$f":"IFERROR(Mass_product2*'Materiale og produktion'!$K17/1000*VLOOKUP($H17,EnvProfiler,BK$3,FALSE),0)","v":0},{"$f":"IFERROR(Mass_product2*'Materiale og produktion'!$K17/1000*VLOOKUP($H17,EnvProfiler,BL$3,FALSE),0)","v":0},{"$f":"IFERROR(Mass_product2*'Materiale og produktion'!$K17/1000*VLOOKUP($H17,EnvProfiler,BM$3,FALSE),0)","v":0},{"$f":"IFERROR(Mass_product2*'Materiale og produktion'!$K17/1000*VLOOKUP($H17,EnvProfiler,BN$3,FALSE),0)","v":0},{"$f":"IFERROR(Mass_product2*'Materiale og produktion'!$K17/1000*VLOOKUP($H17,EnvProfiler,BO$3,FALSE),0)","v":0},{"$f":"IFERROR(Mass_product2*'Materiale og produktion'!$K17/1000*VLOOKUP($H17,EnvProfiler,BP$3,FALSE),0)","v":0},{"$f":"IFERROR(Mass_product2*'Materiale og produktion'!$K17/1000*VLOOKUP($H17,EnvProfiler,BQ$3,FALSE),0)","v":0},{"$f":"IFERROR(Mass_product2*'Materiale og produktion'!$K17/1000*VLOOKUP($H17,EnvProfiler,BR$3,FALSE),0)","v":0},{"$f":"IFERROR(Mass_product2*'Materiale og produktion'!$K17/1000*VLOOKUP($H17,EnvProfiler,BS$3,FALSE),0)","v":0},{"$f":"IFERROR(Mass_product2*'Materiale og produktion'!$K17/1000*VLOOKUP($H17,EnvProfiler,BT$3,FALSE),0)","v":0},{"$f":"IFERROR(Mass_product2*'Materiale og produktion'!$K17/1000*VLOOKUP($H17,EnvProfiler,BU$3,FALSE),0)","v":0},{"$f":"IFERROR(Mass_product2*'Materiale og produktion'!$K17/1000*VLOOKUP($H17,EnvProfiler,BV$3,FALSE),0)","v":0},{"$f":"IFERROR(Mass_product2*'Materiale og produktion'!$K17/1000*VLOOKUP($H17,EnvProfiler,BW$3,FALSE),0)","v":0},{"$f":"IFERROR(Mass_product2*'Materiale og produktion'!$K17/1000*VLOOKUP($H17,EnvProfiler,BX$3,FALSE),0)","v":0},{"$f":"IFERROR(Mass_product2*'Materiale og produktion'!$K17/1000*VLOOKUP($H17,EnvProfiler,BY$3,FALSE),0)","v":0},{"$f":"IFERROR(Mass_product2*'Materiale og produktion'!$K17/1000*VLOOKUP($H17,EnvProfiler,BZ$3,FALSE),0)","v":0},{"$f":"IFERROR(Mass_product2*'Materiale og produktion'!$K17/1000*VLOOKUP($H17,EnvProfiler,CA$3,FALSE),0)","v":0},{"$f":"IFERROR(Mass_product2*'Materiale og produktion'!$K17/1000*VLOOKUP($H17,EnvProfiler,CB$3,FALSE),0)","v":0},{"$f":"IFERROR(Mass_product2*'Materiale og produktion'!$K17/1000*VLOOKUP($H17,EnvProfiler,CC$3,FALSE),0)","v":0},{"$f":"IFERROR(Mass_product2*'Materiale og produktion'!$K17/1000*VLOOKUP($H17,EnvProfiler,CD$3,FALSE),0)","v":0},{"$f":"IFERROR(Mass_product2*'Materiale og produktion'!$K17/1000*VLOOKUP($H17,EnvProfiler,CE$3,FALSE),0)","v":0},{"$f":"IFERROR(Mass_product2*'Materiale og produktion'!$K17/1000*VLOOKUP($H17,EnvProfiler,CF$3,FALSE),0)","v":0},{"$f":"IFERROR(Mass_product2*'Materiale og produktion'!$K17/1000*VLOOKUP($H17,EnvProfiler,CG$3,FALSE),0)","v":0},{"$f":"IFERROR(Mass_product2*'Materiale og produktion'!$K17/1000*VLOOKUP($H17,EnvProfiler,CH$3,FALSE),0)","v":0},{"$f":"IFERROR(Mass_product2*'Materiale og produktion'!$K17/1000*VLOOKUP($H17,EnvProfiler,CI$3,FALSE),0)","v":0}]
[null,null,null,{"$f":"IF(ISBLANK('Materiale og produktion'!F18),\"\",'Materiale og produktion'!F18)","v":{"$error":"#N/A"}},{"$error":"#N/A"},null,{"$f":"IF(ISBLANK('Materiale og produktion'!J18),\"\",'Materiale og produktion'!J18)","v":{"$error":"#N/A"}},{"$error":"#N/A"},null,null,null,null,null,null,null,null,null,null,null,null,null,null,null,null,null,null,{"$f":"IFERROR(Mass_product1*'Materiale og produktion'!$G18/1000*VLOOKUP($E18,EnvProfiler,AA$3,FALSE),0)","v":0},{"$f":"IFERROR(Mass_product1*'Materiale og produktion'!$G18/1000*VLOOKUP($E18,EnvProfiler,AB$3,FALSE),0)","v":0},{"$f":"IFERROR(Mass_product1*'Materiale og produktion'!$G18/1000*VLOOKUP($E18,EnvProfiler,AC$3,FALSE),0)","v":0},{"$f":"IFERROR(Mass_product1*'Materiale og produktion'!$G18/1000*VLOOKUP($E18,EnvProfiler,AD$3,FALSE),0)","v":0},{"$f":"IFERROR(Mass_product1*'Materiale og produktion'!$G18/1000*VLOOKUP($E18,EnvProfiler,AE$3,FALSE),0)","v":0},{"$f":"IFERROR(Mass_product1*'Materiale og produktion'!$G18/1000*VLOOKUP($E18,EnvProfiler,AF$3,FALSE),0)","v":0},{"$f":"IFERROR(Mass_product1*'Materiale og produktion'!$G18/1000*VLOOKUP($E18,EnvProfiler,AG$3,FALSE),0)","v":0},{"$f":"IFERROR(Mass_product1*'Materiale og produktion'!$G18/1000*VLOOKUP($E18,EnvProfiler,AH$3,FALSE),0)","v":0},{"$f":"IFERROR(Mass_product1*'Materiale og produktion'!$G18/1000*VLOOKUP($E18,EnvProfiler,AI$3,FALSE),0)","v":0},{"$f":"IFERROR(Mass_product1*'Materiale og produktion'!$G18/1000*VLOOKUP($E18,EnvProfiler,AJ$3,FALSE),0)","v":0},{"$f":"IFERROR(Mass_product1*'Materiale og produktion'!$G18/1000*VLOOKUP($E18,EnvProfiler,AK$3,FALSE),0)","v":0},{"$f":"IFERROR(Mass_product1*'Materiale og produktion'!$G18/1000*VLOOKUP($E18,EnvProfiler,AL$3,FALSE),0)","v":0},{"$f":"IFERROR(Mass_product1*'Materiale og produktion'!$G18/1000*VLOOKUP($E18,EnvProfiler,AM$3,FALSE),0)","v":0},{"$f":"IFERROR(Mass_product1*'Materiale og produktion'!$G18/1000*VLOOKUP($E18,EnvProfiler,AN$3,FALSE),0)","v":0},{"$f":"IFERROR(Mass_product1*'Materiale og produktion'!$G18/1000*VLOOKUP($E18,EnvProfiler,AO$3,FALSE),0)","v":0},{"$f":"IFERROR(Mass_product1*'Materiale og produktion'!$G18/1000*VLOOKUP($E18,EnvProfiler,AP$3,FALSE),0)","v":0},{"$f":"IFERROR(Mass_product1*'Materiale og produktion'!$G18/1000*VLOOKUP($E18,EnvProfiler,AQ$3,FALSE),0)","v":0},{"$f":"IFERROR(Mass_product1*'Materiale og produktion'!$G18/1000*VLOOKUP($E18,EnvProfiler,AR$3,FALSE),0)","v":0},{"$f":"IFERROR(Mass_product1*'Materiale og produktion'!$G18/1000*VLOOKUP($E18,EnvProfiler,AS$3,FALSE),0)","v":0},{"$f":"IFERROR(Mass_product1*'Materiale og produktion'!$G18/1000*VLOOKUP($E18,EnvProfiler,AT$3,FALSE),0)","v":0},{"$f":"IFERROR(Mass_product1*'Materiale og produktion'!$G18/1000*VLOOKUP($E18,EnvProfiler,AU$3,FALSE),0)","v":0},{"$f":"IFERROR(Mass_product1*'Materiale og produktion'!$G18/1000*VLOOKUP($E18,EnvProfiler,AV$3,FALSE),0)","v":0},{"$f":"IFERROR(Mass_product1*'Materiale og produktion'!$G18/1000*VLOOKUP($E18,EnvProfiler,AW$3,FALSE),0)","v":0},{"$f":"IFERROR(Mass_product1*'Materiale og produktion'!$G18/1000*VLOOKUP($E18,EnvProfiler,AX$3,FALSE),0)","v":0},{"$f":"IFERROR(Mass_product1*'Materiale og produktion'!$G18/1000*VLOOKUP($E18,EnvProfiler,AY$3,FALSE),0)","v":0},{"$f":"IFERROR(Mass_product1*'Materiale og produktion'!$G18/1000*VLOOKUP($E18,EnvProfiler,AZ$3,FALSE),0)","v":0},{"$f":"IFERROR(Mass_product1*'Materiale og produktion'!$G18/1000*VLOOKUP($E18,EnvProfiler,BA$3,FALSE),0)","v":0},{"$f":"IFERROR(Mass_product1*'Materiale og produktion'!$G18/1000*VLOOKUP($E18,EnvProfiler,BB$3,FALSE),0)","v":0},{"$f":"IFERROR(Mass_product1*'Materiale og produktion'!$G18/1000*VLOOKUP($E18,EnvProfiler,BC$3,FALSE),0)","v":0},null,null,null,{"$f":"IFERROR(Mass_product2*'Materiale og produktion'!$K18/1000*VLOOKUP($H18,EnvProfiler,BG$3,FALSE),0)","v":0},{"$f":"IFERROR(Mass_product2*'Materiale og produktion'!$K18/1000*VLOOKUP($H18,EnvProfiler,BH$3,FALSE),0)","v":0},{"$f":"IFERROR(Mass_product2*'Materiale og produktion'!$K18/1000*VLOOKUP($H18,EnvProfiler,BI$3,FALSE),0)","v":0},{"$f":"IFERROR(Mass_product2*'Materiale og produktion'!$K18/1000*VLOOKUP($H18,EnvProfiler,BJ$3,FALSE),0)","v":0},{"$f":"IFERROR(Mass_product2*'Materiale og produktion'!$K18/1000*VLOOKUP($H18,EnvProfiler,BK$3,FALSE),0)","v":0},{"$f":"IFERROR(Mass_product2*'Materiale og produktion'!$K18/1000*VLOOKUP($H18,EnvProfiler,BL$3,FALSE),0)","v":0},{"$f":"IFERROR(Mass_product2*'Materiale og produktion'!$K18/1000*VLOOKUP($H18,EnvProfiler,BM$3,FALSE),0)","v":0},{"$f":"IFERROR(Mass_product2*'Materiale og produktion'!$K18/1000*VLOOKUP($H18,EnvProfiler,BN$3,FALSE),0)","v":0},{"$f":"IFERROR(Mass_product2*'Materiale og produktion'!$K18/1000*VLOOKUP($H18,EnvProfiler,BO$3,FALSE),0)","v":0},{"$f":"IFERROR(Mass_product2*'Materiale og produktion'!$K18/1000*VLOOKUP($H18,EnvProfiler,BP$3,FALSE),0)","v":0},{"$f":"IFERROR(Mass_product2*'Materiale og produktion'!$K18/1000*VLOOKUP($H18,EnvProfiler,BQ$3,FALSE),0)","v":0},{"$f":"IFERROR(Mass_product2*'Materiale og produktion'!$K18/1000*VLOOKUP($H18,EnvProfiler,BR$3,FALSE),0)","v":0},{"$f":"IFERROR(Mass_product2*'Materiale og produktion'!$K18/1000*VLOOKUP($H18,EnvProfiler,BS$3,FALSE),0)","v":0},{"$f":"IFERROR(Mass_product2*'Materiale og produktion'!$K18/1000*VLOOKUP($H18,EnvProfiler,BT$3,FALSE),0)","v":0},{"$f":"IFERROR(Mass_product2*'Materiale og produktion'!$K18/1000*VLOOKUP($H18,EnvProfiler,BU$3,FALSE),0)","v":0},{"$f":"IFERROR(Mass_product2*'Materiale og produktion'!$K18/1000*VLOOKUP($H18,EnvProfiler,BV$3,FALSE),0)","v":0},{"$f":"IFERROR(Mass_product2*'Materiale og produktion'!$K18/1000*VLOOKUP($H18,EnvProfiler,BW$3,FALSE),0)","v":0},{"$f":"IFERROR(Mass_product2*'Materiale og produktion'!$K18/1000*VLOOKUP($H18,EnvProfiler,BX$3,FALSE),0)","v":0},{"$f":"IFERROR(Mass_product2*'Materiale og produktion'!$K18/1000*VLOOKUP($H18,EnvProfiler,BY$3,FALSE),0)","v":0},{"$f":"IFERROR(Mass_product2*'Materiale og produktion'!$K18/1000*VLOOKUP($H18,EnvProfiler,BZ$3,FALSE),0)","v":0},{"$f":"IFERROR(Mass_product2*'Materiale og produktion'!$K18/1000*VLOOKUP($H18,EnvProfiler,CA$3,FALSE),0)","v":0},{"$f":"IFERROR(Mass_product2*'Materiale og produktion'!$K18/1000*VLOOKUP($H18,EnvProfiler,CB$3,FALSE),0)","v":0},{"$f":"IFERROR(Mass_product2*'Materiale og produktion'!$K18/1000*VLOOKUP($H18,EnvProfiler,CC$3,FALSE),0)","v":0},{"$f":"IFERROR(Mass_product2*'Materiale og produktion'!$K18/1000*VLOOKUP($H18,EnvProfiler,CD$3,FALSE),0)","v":0},{"$f":"IFERROR(Mass_product2*'Materiale og produktion'!$K18/1000*VLOOKUP($H18,EnvProfiler,CE$3,FALSE),0)","v":0},{"$f":"IFERROR(Mass_product2*'Materiale og produktion'!$K18/1000*VLOOKUP($H18,EnvProfiler,CF$3,FALSE),0)","v":0},{"$f":"IFERROR(Mass_product2*'Materiale og produktion'!$K18/1000*VLOOKUP($H18,EnvProfiler,CG$3,FALSE),0)","v":0},{"$f":"IFERROR(Mass_product2*'Materiale og produktion'!$K18/1000*VLOOKUP($H18,EnvProfiler,CH$3,FALSE),0)","v":0},{"$f":"IFERROR(Mass_product2*'Materiale og produktion'!$K18/1000*VLOOKUP($H18,EnvProfiler,CI$3,FALSE),0)","v":0}]
[null,null,null,{"$f":"IF(ISBLANK('Materiale og produktion'!F19),\"\",'Materiale og produktion'!F19)","v":{"$error":"#N/A"}},{"$error":"#N/A"},null,{"$f":"IF(ISBLANK('Materiale og produktion'!J19),\"\",'Materiale og produktion'!J19)","v":{"$error":"#N/A"}},{"$error":"#N/A"},null,null,null,null,null,null,null,null,null,null,null,null,null,null,null,null,null,null,{"$f":"IFERROR(Mass_product1*'Materiale og produktion'!$G19/1000*VLOOKUP($E19,EnvProfiler,AA$3,FALSE),0)","v":0},{"$f":"IFERROR(Mass_product1*'Materiale og produktion'!$G19/1000*VLOOKUP($E19,EnvProfiler,AB$3,FALSE),0)","v":0},{"$f":"IFERROR(Mass_product1*'Materiale og produktion'!$G19/1000*VLOOKUP($E19,EnvProfiler,AC$3,FALSE),0)","v":0},{"$f":"IFERROR(Mass_product1*'Materiale og produktion'!$G19/1000*VLOOKUP($E19,EnvProfiler,AD$3,FALSE),0)","v":0},{"$f":"IFERROR(Mass_product1*'Materiale og produktion'!$G19/1000*VLOOKUP($E19,EnvProfiler,AE$3,FALSE),0)","v":0},{"$f":"IFERROR(Mass_product1*'Materiale og produktion'!$G19/1000*VLOOKUP($E19,EnvProfiler,AF$3,FALSE),0)","v":0},{"$f":"IFERROR(Mass_product1*'Materiale og produktion'!$G19/1000*VLOOKUP($E19,EnvProfiler,AG$3,FALSE),0)","v":0},{"$f":"IFERROR(Mass_product1*'Materiale og produktion'!$G19/1000*VLOOKUP($E19,EnvProfiler,AH$3,FALSE),0)","v":0},{"$f":"IFERROR(Mass_product1*'Materiale og produktion'!$G19/1000*VLOOKUP($E19,EnvProfiler,AI$3,FALSE),0)","v":0},{"$f":"IFERROR(Mass_product1*'Materiale og produktion'!$G19/1000*VLOOKUP($E19,EnvProfiler,AJ$3,FALSE),0)","v":0},{"$f":"IFERROR(Mass_product1*'Materiale og produktion'!$G19/1000*VLOOKUP($E19,EnvProfiler,AK$3,FALSE),0)","v":0},{"$f":"IFERROR(Mass_product1*'Materiale og produktion'!$G19/1000*VLOOKUP($E19,EnvProfiler,AL$3,FALSE),0)","v":0},{"$f":"IFERROR(Mass_product1*'Materiale og produktion'!$G19/1000*VLOOKUP($E19,EnvProfiler,AM$3,FALSE),0)","v":0},{"$f":"IFERROR(Mass_product1*'Materiale og produktion'!$G19/1000*VLOOKUP($E19,EnvProfiler,AN$3,FALSE),0)","v":0},{"$f":"IFERROR(Mass_product1*'Materiale og produktion'!$G19/1000*VLOOKUP($E19,EnvProfiler,AO$3,FALSE),0)","v":0},{"$f":"IFERROR(Mass_product1*'Materiale og produktion'!$G19/1000*VLOOKUP($E19,EnvProfiler,AP$3,FALSE),0)","v":0},{"$f":"IFERROR(Mass_product1*'Materiale og produktion'!$G19/1000*VLOOKUP($E19,EnvProfiler,AQ$3,FALSE),0)","v":0},{"$f":"IFERROR(Mass_product1*'Materiale og produktion'!$G19/1000*VLOOKUP($E19,EnvProfiler,AR$3,FALSE),0)","v":0},{"$f":"IFERROR(Mass_product1*'Materiale og produktion'!$G19/1000*VLOOKUP($E19,EnvProfiler,AS$3,FALSE),0)","v":0},{"$f":"IFERROR(Mass_product1*'Materiale og produktion'!$G19/1000*VLOOKUP($E19,EnvProfiler,AT$3,FALSE),0)","v":0},{"$f":"IFERROR(Mass_product1*'Materiale og produktion'!$G19/1000*VLOOKUP($E19,EnvProfiler,AU$3,FALSE),0)","v":0},{"$f":"IFERROR(Mass_product1*'Materiale og produktion'!$G19/1000*VLOOKUP($E19,EnvProfiler,AV$3,FALSE),0)","v":0},{"$f":"IFERROR(Mass_product1*'Materiale og produktion'!$G19/1000*VLOOKUP($E19,EnvProfiler,AW$3,FALSE),0)","v":0},{"$f":"IFERROR(Mass_product1*'Materiale og produktion'!$G19/1000*VLOOKUP($E19,EnvProfiler,AX$3,FALSE),0)","v":0},{"$f":"IFERROR(Mass_product1*'Materiale og produktion'!$G19/1000*VLOOKUP($E19,EnvProfiler,AY$3,FALSE),0)","v":0},{"$f":"IFERROR(Mass_product1*'Materiale og produktion'!$G19/1000*VLOOKUP($E19,EnvProfiler,AZ$3,FALSE),0)","v":0},{"$f":"IFERROR(Mass_product1*'Materiale og produktion'!$G19/1000*VLOOKUP($E19,EnvProfiler,BA$3,FALSE),0)","v":0},{"$f":"IFERROR(Mass_product1*'Materiale og produktion'!$G19/1000*VLOOKUP($E19,EnvProfiler,BB$3,FALSE),0)","v":0},{"$f":"IFERROR(Mass_product1*'Materiale og produktion'!$G19/1000*VLOOKUP($E19,EnvProfiler,BC$3,FALSE),0)","v":0},null,null,null,{"$f":"IFERROR(Mass_product2*'Materiale og produktion'!$K19/1000*VLOOKUP($H19,EnvProfiler,BG$3,FALSE),0)","v":0},{"$f":"IFERROR(Mass_product2*'Materiale og produktion'!$K19/1000*VLOOKUP($H19,EnvProfiler,BH$3,FALSE),0)","v":0},{"$f":"IFERROR(Mass_product2*'Materiale og produktion'!$K19/1000*VLOOKUP($H19,EnvProfiler,BI$3,FALSE),0)","v":0},{"$f":"IFERROR(Mass_product2*'Materiale og produktion'!$K19/1000*VLOOKUP($H19,EnvProfiler,BJ$3,FALSE),0)","v":0},{"$f":"IFERROR(Mass_product2*'Materiale og produktion'!$K19/1000*VLOOKUP($H19,EnvProfiler,BK$3,FALSE),0)","v":0},{"$f":"IFERROR(Mass_product2*'Materiale og produktion'!$K19/1000*VLOOKUP($H19,EnvProfiler,BL$3,FALSE),0)","v":0},{"$f":"IFERROR(Mass_product2*'Materiale og produktion'!$K19/1000*VLOOKUP($H19,EnvProfiler,BM$3,FALSE),0)","v":0},{"$f":"IFERROR(Mass_product2*'Materiale og produktion'!$K19/1000*VLOOKUP($H19,EnvProfiler,BN$3,FALSE),0)","v":0},{"$f":"IFERROR(Mass_product2*'Materiale og produktion'!$K19/1000*VLOOKUP($H19,EnvProfiler,BO$3,FALSE),0)","v":0},{"$f":"IFERROR(Mass_product2*'Materiale og produktion'!$K19/1000*VLOOKUP($H19,EnvProfiler,BP$3,FALSE),0)","v":0},{"$f":"IFERROR(Mass_product2*'Materiale og produktion'!$K19/1000*VLOOKUP($H19,EnvProfiler,BQ$3,FALSE),0)","v":0},{"$f":"IFERROR(Mass_product2*'Materiale og produktion'!$K19/1000*VLOOKUP($H19,EnvProfiler,BR$3,FALSE),0)","v":0},{"$f":"IFERROR(Mass_product2*'Materiale og produktion'!$K19/1000*VLOOKUP($H19,EnvProfiler,BS$3,FALSE),0)","v":0},{"$f":"IFERROR(Mass_product2*'Materiale og produktion'!$K19/1000*VLOOKUP($H19,EnvProfiler,BT$3,FALSE),0)","v":0},{"$f":"IFERROR(Mass_product2*'Materiale og produktion'!$K19/1000*VLOOKUP($H19,EnvProfiler,BU$3,FALSE),0)","v":0},{"$f":"IFERROR(Mass_product2*'Materiale og produktion'!$K19/1000*VLOOKUP($H19,EnvProfiler,BV$3,FALSE),0)","v":0},{"$f":"IFERROR(Mass_product2*'Materiale og produktion'!$K19/1000*VLOOKUP($H19,EnvProfiler,BW$3,FALSE),0)","v":0},{"$f":"IFERROR(Mass_product2*'Materiale og produktion'!$K19/1000*VLOOKUP($H19,EnvProfiler,BX$3,FALSE),0)","v":0},{"$f":"IFERROR(Mass_product2*'Materiale og produktion'!$K19/1000*VLOOKUP($H19,EnvProfiler,BY$3,FALSE),0)","v":0},{"$f":"IFERROR(Mass_product2*'Materiale og produktion'!$K19/1000*VLOOKUP($H19,EnvProfiler,BZ$3,FALSE),0)","v":0},{"$f":"IFERROR(Mass_product2*'Materiale og produktion'!$K19/1000*VLOOKUP($H19,EnvProfiler,CA$3,FALSE),0)","v":0},{"$f":"IFERROR(Mass_product2*'Materiale og produktion'!$K19/1000*VLOOKUP($H19,EnvProfiler,CB$3,FALSE),0)","v":0},{"$f":"IFERROR(Mass_product2*'Materiale og produktion'!$K19/1000*VLOOKUP($H19,EnvProfiler,CC$3,FALSE),0)","v":0},{"$f":"IFERROR(Mass_product2*'Materiale og produktion'!$K19/1000*VLOOKUP($H19,EnvProfiler,CD$3,FALSE),0)","v":0},{"$f":"IFERROR(Mass_product2*'Materiale og produktion'!$K19/1000*VLOOKUP($H19,EnvProfiler,CE$3,FALSE),0)","v":0},{"$f":"IFERROR(Mass_product2*'Materiale og produktion'!$K19/1000*VLOOKUP($H19,EnvProfiler,CF$3,FALSE),0)","v":0},{"$f":"IFERROR(Mass_product2*'Materiale og produktion'!$K19/1000*VLOOKUP($H19,EnvProfiler,CG$3,FALSE),0)","v":0},{"$f":"IFERROR(Mass_product2*'Materiale og produktion'!$K19/1000*VLOOKUP($H19,EnvProfiler,CH$3,FALSE),0)","v":0},{"$f":"IFERROR(Mass_product2*'Materiale og produktion'!$K19/1000*VLOOKUP($H19,EnvProfiler,CI$3,FALSE),0)","v":0}]
[]
[null,null,"Økonomi ved bortskaffelse"]
[null,null,"Bortskaffelsespris pr. produkt",null,{"$error":"#N/A"},null,null,{"$error":"#N/A"},null,null,null,null,null,null,null,null,null,null,null,null,null,null,null,null,null,{"$f":"E22","v":{"$error":"#N/A"}},null,null,null,null,null,null,null,null,null,null,null,null,null,null,null,null,null,null,null,null,null,null,null,null,null,null,null,null,null,null,null,{"$f":"H22","v":{"$error":"#N/A"}}]
[]
[]
[]
[]
[null,null,"Efterliv for emballage"]
[]
[null,null,null,{"$f":"Name_product1","v":0},null,null,{"$f":"Name_product2","v":0}]
[null,null,"Emballage - varelevering"]
[null,null,null,"Emballagedel","Håndtering af tekstildel",null,"Emballagedel","Håndtering af tekstildel"]
[null,null,null,{"$f":"IF(ISBLANK('Transport og emballage'!E25),\"\",'Transport og emballage'!E25)","v":{"$error":"#N/A"}},{"$error":"#N/A"},null,{"$f":"IF(ISBLANK('Transport og emballage'!I25),\"\",'Transport og emballage'!I25)","v":{"$error":"#N/A"}},{"$error":"#N/A"},null,null,null,null,null,null,null,null,null,null,null,null,null,null,null,null,null,null,{"$f":"IFERROR('Transport og emballage'!$G25/'Transport og emballage'!$F25/1000*VLOOKUP($E32,EnvProfiler,AA$3,FALSE),0)","v":0},{"$f":"IFERROR('Transport og emballage'!$G25/'Transport og emballage'!$F25/1000*VLOOKUP($E32,EnvProfiler,AB$3,FALSE),0)","v":0},{"$f":"IFERROR('Transport og emballage'!$G25/'Transport og emballage'!$F25/1000*VLOOKUP($E32,EnvProfiler,AC$3,FALSE),0)","v":0},{"$f":"IFERROR('Transport og emballage'!$G25/'Transport og emballage'!$F25/1000*VLOOKUP($E32,EnvProfiler,AD$3,FALSE),0)","v":0},{"$f":"IFERROR('Transport og emballage'!$G25/'Transport og emballage'!$F25/1000*VLOOKUP($E32,EnvProfiler,AE$3,FALSE),0)","v":0},{"$f":"IFERROR('Transport og emballage'!$G25/'Transport og emballage'!$F25/1000*VLOOKUP($E32,EnvProfiler,AF$3,FALSE),0)","v":0},{"$f":"IFERROR('Transport og emballage'!$G25/'Transport og emballage'!$F25/1000*VLOOKUP($E32,EnvProfiler,AG$3,FALSE),0)","v":0},{"$f":"IFERROR('Transport og emballage'!$G25/'Transport og emballage'!$F25/1000*VLOOKUP($E32,EnvProfiler,AH$3,FALSE),0)","v":0},{"$f":"IFERROR('Transport og emballage'!$G25/'Transport og emballage'!$F25/1000*VLOOKUP($E32,EnvProfiler,AI$3,FALSE),0)","v":0},{"$f":"IFERROR('Transport og emballage'!$G25/'Transport og emballage'!$F25/1000*VLOOKUP($E32,EnvProfiler,AJ$3,FALSE),0)","v":0},{"$f":"IFERROR('Transport og emballage'!$G25/'Transport og emballage'!$F25/1000*VLOOKUP($E32,EnvProfiler,AK$3,FALSE),0)","v":0},{"$f":"IFERROR('Transport og emballage'!$G25/'Transport og emballage'!$F25/1000*VLOOKUP($E32,EnvProfiler,AL$3,FALSE),0)","v":0},{"$f":"IFERROR('Transport og emballage'!$G25/'Transport og emballage'!$F25/1000*VLOOKUP($E32,EnvProfiler,AM$3,FALSE),0)","v":0},{"$f":"IFERROR('Transport og emballage'!$G25/'Transport og emballage'!$F25/1000*VLOOKUP($E32,EnvProfiler,AN$3,FALSE),0)","v":0},{"$f":"IFERROR('Transport og emballage'!$G25/'Transport og emballage'!$F25/1000*VLOOKUP($E32,EnvProfiler,AO$3,FALSE),0)","v":0},{"$f":"IFERROR('Transport og emballage'!$G25/'Transport og emballage'!$F25/1000*VLOOKUP($E32,EnvProfiler,AP$3,FALSE),0)","v":0},{"$f":"IFERROR('Transport og emballage'!$G25/'Transport og emballage'!$F25/1000*VLOOKUP($E32,EnvProfiler,AQ$3,FALSE),0)","v":0},{"$f":"IFERROR('Transport og emballage'!$G25/'Transport og emballage'!$F25/1000*VLOOKUP($E32,EnvProfiler,AR$3,FALSE),0)","v":0},{"$f":"IFERROR('Transport og emballage'!$G25/'Transport og emballage'!$F25/1000*VLOOKUP($E32,EnvProfiler,AS$3,FALSE),0)","v":0},{"$f":"IFERROR('Transport og emballage'!$G25/'Transport og emballage'!$F25/1000*VLOOKUP($E32,EnvProfiler,AT$3,FALSE),0)","v":0},{"$f":"IFERROR('Transport og emballage'!$G25/'Transport og emballage'!$F25/1000*VLOOKUP($E32,EnvProfiler,AU$3,FALSE),0)","v":0},{"$f":"IFERROR('Transport og emballage'!$G25/'Transport og emballage'!$F25/1000*VLOOKUP($E32,EnvProfiler,AV$3,FALSE),0)","v":0},{"$f":"IFERROR('Transport og emballage'!$G25/'Transport og emballage'!$F25/1000*VLOOKUP($E32,EnvProfiler,AW$3,FALSE),0)","v":0},{"$f":"IFERROR('Transport og emballage'!$G25/'Transport og emballage'!$F25/1000*VLOOKUP($E32,EnvProfiler,AX$3,FALSE),0)","v":0},{"$f":"IFERROR('Transport og emballage'!$G25/'Transport og emballage'!$F25/1000*VLOOKUP($E32,EnvProfiler,AY$3,FALSE),0)","v":0},{"$f":"IFERROR('Transport og emballage'!$G25/'Transport og emballage'!$F25/1000*VLOOKUP($E32,EnvProfiler,AZ$3,FALSE),0)","v":0},{"$f":"IFERROR('Transport og emballage'!$G25/'Transport og emballage'!$F25/1000*VLOOKUP($E32,EnvProfiler,BA$3,FALSE),0)","v":0},{"$f":"IFERROR('Transport og emballage'!$G25/'Transport og emballage'!$F25/1000*VLOOKUP($E32,EnvProfiler,BB$3,FALSE),0)","v":0},{"$f":"IFERROR('Transport og emballage'!$G25/'Transport og emballage'!$F25/1000*VLOOKUP($E32,EnvProfiler,BC$3,FALSE),0)","v":0},null,null,null,{"$f":"IFERROR('Transport og emballage'!$K25/'Transport og emballage'!$J25/1000*VLOOKUP($H32,EnvProfiler,BG$3,FALSE),0)","v":0},{"$f":"IFERROR('Transport og emballage'!$K25/'Transport og emballage'!$J25/1000*VLOOKUP($H32,EnvProfiler,BH$3,FALSE),0)","v":0},{"$f":"IFERROR('Transport og emballage'!$K25/'Transport og emballage'!$J25/1000*VLOOKUP($H32,EnvProfiler,BI$3,FALSE),0)","v":0},{"$f":"IFERROR('Transport og emballage'!$K25/'Transport og emballage'!$J25/1000*VLOOKUP($H32,EnvProfiler,BJ$3,FALSE),0)","v":0},{"$f":"IFERROR('Transport og emballage'!$K25/'Transport og emballage'!$J25/1000*VLOOKUP($H32,EnvProfiler,BK$3,FALSE),0)","v":0},{"$f":"IFERROR('Transport og emballage'!$K25/'Transport og emballage'!$J25/1000*VLOOKUP($H32,EnvProfiler,BL$3,FALSE),0)","v":0},{"$f":"IFERROR('Transport og emballage'!$K25/'Transport og emballage'!$J25/1000*VLOOKUP($H32,EnvProfiler,BM$3,FALSE),0)","v":0},{"$f":"IFERROR('Transport og emballage'!$K25/'Transport og emballage'!$J25/1000*VLOOKUP($H32,EnvProfiler,BN$3,FALSE),0)","v":0},{"$f":"IFERROR('Transport og emballage'!$K25/'Transport og emballage'!$J25/1000*VLOOKUP($H32,EnvProfiler,BO$3,FALSE),0)","v":0},{"$f":"IFERROR('Transport og emballage'!$K25/'Transport og emballage'!$J25/1000*VLOOKUP($H32,EnvProfiler,BP$3,FALSE),0)","v":0},{"$f":"IFERROR('Transport og emballage'!$K25/'Transport og emballage'!$J25/1000*VLOOKUP($H32,EnvProfiler,BQ$3,FALSE),0)","v":0},{"$f":"IFERROR('Transport og emballage'!$K25/'Transport og emballage'!$J25/1000*VLOOKUP($H32,EnvProfiler,BR$3,FALSE),0)","v":0},{"$f":"IFERROR('Transport og emballage'!$K25/'Transport og emballage'!$J25/1000*VLOOKUP($H32,EnvProfiler,BS$3,FALSE),0)","v":0},{"$f":"IFERROR('Transport og emballage'!$K25/'Transport og emballage'!$J25/1000*VLOOKUP($H32,EnvProfiler,BT$3,FALSE),0)","v":0},{"$f":"IFERROR('Transport og emballage'!$K25/'Transport og emballage'!$J25/1000*VLOOKUP($H32,EnvProfiler,BU$3,FALSE),0)","v":0},{"$f":"IFERROR('Transport og emballage'!$K25/'Transport og emballage'!$J25/1000*VLOOKUP($H32,EnvProfiler,BV$3,FALSE),0)","v":0},{"$f":"IFERROR('Transport og emballage'!$K25/'Transport og emballage'!$J25/1000*VLOOKUP($H32,EnvProfiler,BW$3,FALSE),0)","v":0},{"$f":"IFERROR('Transport og emballage'!$K25/'Transport og emballage'!$J25/1000*VLOOKUP($H32,EnvProfiler,BX$3,FALSE),0)","v":0},{"$f":"IFERROR('Transport og emballage'!$K25/'Transport og emballage'!$J25/1000*VLOOKUP($H32,EnvProfiler,BY$3,FALSE),0)","v":0},{"$f":"IFERROR('Transport og emballage'!$K25/'Transport og emballage'!$J25/1000*VLOOKUP($H32,EnvProfiler,BZ$3,FALSE),0)","v":0},{"$f":"IFERROR('Transport og emballage'!$K25/'Transport og emballage'!$J25/1000*VLOOKUP($H32,EnvProfiler,CA$3,FALSE),0)","v":0},{"$f":"IFERROR('Transport og emballage'!$K25/'Transport og emballage'!$J25/1000*VLOOKUP($H32,EnvProfiler,CB$3,FALSE),0)","v":0},{"$f":"IFERROR('Transport og emballage'!$K25/'Transport og emballage'!$J25/1000*VLOOKUP($H32,EnvProfiler,CC$3,FALSE),0)","v":0},{"$f":"IFERROR('Transport og emballage'!$K25/'Transport og emballage'!$J25/1000*VLOOKUP($H32,EnvProfiler,CD$3,FALSE),0)","v":0},{"$f":"IFERROR('Transport og emballage'!$K25/'Transport og emballage'!$J25/1000*VLOOKUP($H32,EnvProfiler,CE$3,FALSE),0)","v":0},{"$f":"IFERROR('Transport og emballage'!$K25/'Transport og emballage'!$J25/1000*VLOOKUP($H32,EnvProfiler,CF$3,FALSE),0)","v":0},{"$f":"IFERROR('Transport og emballage'!$K25/'Transport og emballage'!$J25/1000*VLOOKUP($H32,EnvProfiler,CG$3,FALSE),0)","v":0},{"$f":"IFERROR('Transport og emballage'!$K25/'Transport og emballage'!$J25/1000*VLOOKUP($H32,EnvProfiler,CH$3,FALSE),0)","v":0},{"$f":"IFERROR('Transport og emballage'!$K25/'Transport og emballage'!$J25/1000*VLOOKUP($H32,EnvProfiler,CI$3,FALSE),0)","v":0}]
[null,null,null,{"$f":"IF(ISBLANK('Transport og emballage'!E26),\"\",'Transport og emballage'!E26)","v":{"$error":"#N/A"}},{"$error":"#N/A"},null,{"$f":"IF(ISBLANK('Transport og emballage'!I26),\"\",'Transport og emballage'!I26)","v":{"$error":"#N/A"}},{"$error":"#N/A"},null,null,null,null,null,null,null,null,null,null,null,null,null,null,null,null,null,null,{"$f":"IFERROR('Transport og emballage'!$G26/'Transport og emballage'!$F26/1000*VLOOKUP($E33,EnvProfiler,AA$3,FALSE),0)","v":0},{"$f":"IFERROR('Transport og emballage'!$G26/'Transport og emballage'!$F26/1000*VLOOKUP($E33,EnvProfiler,AB$3,FALSE),0)","v":0},{"$f":"IFERROR('Transport og emballage'!$G26/'Transport og emballage'!$F26/1000*VLOOKUP($E33,EnvProfiler,AC$3,FALSE),0)","v":0},{"$f":"IFERROR('Transport og emballage'!$G26/'Transport og emballage'!$F26/1000*VLOOKUP($E33,EnvProfiler,AD$3,FALSE),0)","v":0},{"$f":"IFERROR('Transport og emballage'!$G26/'Transport og emballage'!$F26/1000*VLOOKUP($E33,EnvProfiler,AE$3,FALSE),0)","v":0},{"$f":"IFERROR('Transport og emballage'!$G26/'Transport og emballage'!$F26/1000*VLOOKUP($E33,EnvProfiler,AF$3,FALSE),0)","v":0},{"$f":"IFERROR('Transport og emballage'!$G26/'Transport og emballage'!$F26/1000*VLOOKUP($E33,EnvProfiler,AG$3,FALSE),0)","v":0},{"$f":"IFERROR('Transport og emballage'!$G26/'Transport og emballage'!$F26/1000*VLOOKUP($E33,EnvProfiler,AH$3,FALSE),0)","v":0},{"$f":"IFERROR('Transport og emballage'!$G26/'Transport og emballage'!$F26/1000*VLOOKUP($E33,EnvProfiler,AI$3,FALSE),0)","v":0},{"$f":"IFERROR('Transport og emballage'!$G26/'Transport og emballage'!$F26/1000*VLOOKUP($E33,EnvProfiler,AJ$3,FALSE),0)","v":0},{"$f":"IFERROR('Transport og emballage'!$G26/'Transport og emballage'!$F26/1000*VLOOKUP($E33,EnvProfiler,AK$3,FALSE),0)","v":0},{"$f":"IFERROR('Transport og emballage'!$G26/'Transport og emballage'!$F26/1000*VLOOKUP($E33,EnvProfiler,AL$3,FALSE),0)","v":0},{"$f":"IFERROR('Transport og emballage'!$G26/'Transport og emballage'!$F26/1000*VLOOKUP($E33,EnvProfiler,AM$3,FALSE),0)","v":0},{"$f":"IFERROR('Transport og emballage'!$G26/'Transport og emballage'!$F26/1000*VLOOKUP($E33,EnvProfiler,AN$3,FALSE),0)","v":0},{"$f":"IFERROR('Transport og emballage'!$G26/'Transport og emballage'!$F26/1000*VLOOKUP($E33,EnvProfiler,AO$3,FALSE),0)","v":0},{"$f":"IFERROR('Transport og emballage'!$G26/'Transport og emballage'!$F26/1000*VLOOKUP($E33,EnvProfiler,AP$3,FALSE),0)","v":0},{"$f":"IFERROR('Transport og emballage'!$G26/'Transport og emballage'!$F26/1000*VLOOKUP($E33,EnvProfiler,AQ$3,FALSE),0)","v":0},{"$f":"IFERROR('Transport og emballage'!$G26/'Transport og emballage'!$F26/1000*VLOOKUP($E33,EnvProfiler,AR$3,FALSE),0)","v":0},{"$f":"IFERROR('Transport og emballage'!$G26/'Transport og emballage'!$F26/1000*VLOOKUP($E33,EnvProfiler,AS$3,FALSE),0)","v":0},{"$f":"IFERROR('Transport og emballage'!$G26/'Transport og emballage'!$F26/1000*VLOOKUP($E33,EnvProfiler,AT$3,FALSE),0)","v":0},{"$f":"IFERROR('Transport og emballage'!$G26/'Transport og emballage'!$F26/1000*VLOOKUP($E33,EnvProfiler,AU$3,FALSE),0)","v":0},{"$f":"IFERROR('Transport og emballage'!$G26/'Transport og emballage'!$F26/1000*VLOOKUP($E33,EnvProfiler,AV$3,FALSE),0)","v":0},{"$f":"IFERROR('Transport og emballage'!$G26/'Transport og emballage'!$F26/1000*VLOOKUP($E33,EnvProfiler,AW$3,FALSE),0)","v":0},{"$f":"IFERROR('Transport og emballage'!$G26/'Transport og emballage'!$F26/1000*VLOOKUP($E33,EnvProfiler,AX$3,FALSE),0)","v":0},{"$f":"IFERROR('Transport og emballage'!$G26/'Transport og emballage'!$F26/1000*VLOOKUP($E33,EnvProfiler,AY$3,FALSE),0)","v":0},{"$f":"IFERROR('Transport og emballage'!$G26/'Transport og emballage'!$F26/1000*VLOOKUP($E33,EnvProfiler,AZ$3,FALSE),0)","v":0},{"$f":"IFERROR('Transport og emballage'!$G26/'Transport og emballage'!$F26/1000*VLOOKUP($E33,EnvProfiler,BA$3,FALSE),0)","v":0},{"$f":"IFERROR('Transport og emballage'!$G26/'Transport og emballage'!$F26/1000*VLOOKUP($E33,EnvProfiler,BB$3,FALSE),0)","v":0},{"$f":"IFERROR('Transport og emballage'!$G26/'Transport og emballage'!$F26/1000*VLOOKUP($E33,EnvProfiler,BC$3,FALSE),0)","v":0},null,null,null,{"$f":"IFERROR('Transport og emballage'!$K26/'Transport og emballage'!$J26/1000*VLOOKUP($H33,EnvProfiler,BG$3,FALSE),0)","v":0},{"$f":"IFERROR('Transport og emballage'!$K26/'Transport og emballage'!$J26/1000*VLOOKUP($H33,EnvProfiler,BH$3,FALSE),0)","v":0},{"$f":"IFERROR('Transport og emballage'!$K26/'Transport og emballage'!$J26/1000*VLOOKUP($H33,EnvProfiler,BI$3,FALSE),0)","v":0},{"$f":"IFERROR('Transport og emballage'!$K26/'Transport og emballage'!$J26/1000*VLOOKUP($H33,EnvProfiler,BJ$3,FALSE),0)","v":0},{"$f":"IFERROR('Transport og emballage'!$K26/'Transport og emballage'!$J26/1000*VLOOKUP($H33,EnvProfiler,BK$3,FALSE),0)","v":0},{"$f":"IFERROR('Transport og emballage'!$K26/'Transport og emballage'!$J26/1000*VLOOKUP($H33,EnvProfiler,BL$3,FALSE),0)","v":0},{"$f":"IFERROR('Transport og emballage'!$K26/'Transport og emballage'!$J26/1000*VLOOKUP($H33,EnvProfiler,BM$3,FALSE),0)","v":0},{"$f":"IFERROR('Transport og emballage'!$K26/'Transport og emballage'!$J26/1000*VLOOKUP($H33,EnvProfiler,BN$3,FALSE),0)","v":0},{"$f":"IFERROR('Transport og emballage'!$K26/'Transport og emballage'!$J26/1000*VLOOKUP($H33,EnvProfiler,BO$3,FALSE),0)","v":0},{"$f":"IFERROR('Transport og emballage'!$K26/'Transport og emballage'!$J26/1000*VLOOKUP($H33,EnvProfiler,BP$3,FALSE),0)","v":0},{"$f":"IFERROR('Transport og emballage'!$K26/'Transport og emballage'!$J26/1000*VLOOKUP($H33,EnvProfiler,BQ$3,FALSE),0)","v":0},{"$f":"IFERROR('Transport og emballage'!$K26/'Transport og emballage'!$J26/1000*VLOOKUP($H33,EnvProfiler,BR$3,FALSE),0)","v":0},{"$f":"IFERROR('Transport og emballage'!$K26/'Transport og emballage'!$J26/1000*VLOOKUP($H33,EnvProfiler,BS$3,FALSE),0)","v":0},{"$f":"IFERROR('Transport og emballage'!$K26/'Transport og emballage'!$J26/1000*VLOOKUP($H33,EnvProfiler,BT$3,FALSE),0)","v":0},{"$f":"IFERROR('Transport og emballage'!$K26/'Transport og emballage'!$J26/1000*VLOOKUP($H33,EnvProfiler,BU$3,FALSE),0)","v":0},{"$f":"IFERROR('Transport og emballage'!$K26/'Transport og emballage'!$J26/1000*VLOOKUP($H33,EnvProfiler,BV$3,FALSE),0)","v":0},{"$f":"IFERROR('Transport og emballage'!$K26/'Transport og emballage'!$J26/1000*VLOOKUP($H33,EnvProfiler,BW$3,FALSE),0)","v":0},{"$f":"IFERROR('Transport og emballage'!$K26/'Transport og emballage'!$J26/1000*VLOOKUP($H33,EnvProfiler,BX$3,FALSE),0)","v":0},{"$f":"IFERROR('Transport og emballage'!$K26/'Transport og emballage'!$J26/1000*VLOOKUP($H33,EnvProfiler,BY$3,FALSE),0)","v":0},{"$f":"IFERROR('Transport og emballage'!$K26/'Transport og emballage'!$J26/1000*VLOOKUP($H33,EnvProfiler,BZ$3,FALSE),0)","v":0},{"$f":"IFERROR('Transport og emballage'!$K26/'Transport og emballage'!$J26/1000*VLOOKUP($H33,EnvProfiler,CA$3,FALSE),0)","v":0},{"$f":"IFERROR('Transport og emballage'!$K26/'Transport og emballage'!$J26/1000*VLOOKUP($H33,EnvProfiler,CB$3,FALSE),0)","v":0},{"$f":"IFERROR('Transport og emballage'!$K26/'Transport og emballage'!$J26/1000*VLOOKUP($H33,EnvProfiler,CC$3,FALSE),0)","v":0},{"$f":"IFERROR('Transport og emballage'!$K26/'Transport og emballage'!$J26/1000*VLOOKUP($H33,EnvProfiler,CD$3,FALSE),0)","v":0},{"$f":"IFERROR('Transport og emballage'!$K26/'Transport og emballage'!$J26/1000*VLOOKUP($H33,EnvProfiler,CE$3,FALSE),0)","v":0},{"$f":"IFERROR('Transport og emballage'!$K26/'Transport og emballage'!$J26/1000*VLOOKUP($H33,EnvProfiler,CF$3,FALSE),0)","v":0},{"$f":"IFERROR('Transport og emballage'!$K26/'Transport og emballage'!$J26/1000*VLOOKUP($H33,EnvProfiler,CG$3,FALSE),0)","v":0},{"$f":"IFERROR('Transport og emballage'!$K26/'Transport og emballage'!$J26/1000*VLOOKUP($H33,EnvProfiler,CH$3,FALSE),0)","v":0},{"$f":"IFERROR('Transport og emballage'!$K26/'Transport og emballage'!$J26/1000*VLOOKUP($H33,EnvProfiler,CI$3,FALSE),0)","v":0}]
[null,null,null,{"$f":"IF(ISBLANK('Transport og emballage'!E27),\"\",'Transport og emballage'!E27)","v":{"$error":"#N/A"}},{"$error":"#N/A"},null,{"$f":"IF(ISBLANK('Transport og emballage'!I27),\"\",'Transport og emballage'!I27)","v":{"$error":"#N/A"}},{"$error":"#N/A"},null,null,null,null,null,null,null,null,null,null,null,null,null,null,null,null,null,null,{"$f":"IFERROR('Transport og emballage'!$G27/'Transport og emballage'!$F27/1000*VLOOKUP($E34,EnvProfiler,AA$3,FALSE),0)","v":0},{"$f":"IFERROR('Transport og emballage'!$G27/'Transport og emballage'!$F27/1000*VLOOKUP($E34,EnvProfiler,AB$3,FALSE),0)","v":0},{"$f":"IFERROR('Transport og emballage'!$G27/'Transport og emballage'!$F27/1000*VLOOKUP($E34,EnvProfiler,AC$3,FALSE),0)","v":0},{"$f":"IFERROR('Transport og emballage'!$G27/'Transport og emballage'!$F27/1000*VLOOKUP($E34,EnvProfiler,AD$3,FALSE),0)","v":0},{"$f":"IFERROR('Transport og emballage'!$G27/'Transport og emballage'!$F27/1000*VLOOKUP($E34,EnvProfiler,AE$3,FALSE),0)","v":0},{"$f":"IFERROR('Transport og emballage'!$G27/'Transport og emballage'!$F27/1000*VLOOKUP($E34,EnvProfiler,AF$3,FALSE),0)","v":0},{"$f":"IFERROR('Transport og emballage'!$G27/'Transport og emballage'!$F27/1000*VLOOKUP($E34,EnvProfiler,AG$3,FALSE),0)","v":0},{"$f":"IFERROR('Transport og emballage'!$G27/'Transport og emballage'!$F27/1000*VLOOKUP($E34,EnvProfiler,AH$3,FALSE),0)","v":0},{"$f":"IFERROR('Transport og emballage'!$G27/'Transport og emballage'!$F27/1000*VLOOKUP($E34,EnvProfiler,AI$3,FALSE),0)","v":0},{"$f":"IFERROR('Transport og emballage'!$G27/'Transport og emballage'!$F27/1000*VLOOKUP($E34,EnvProfiler,AJ$3,FALSE),0)","v":0},{"$f":"IFERROR('Transport og emballage'!$G27/'Transport og emballage'!$F27/1000*VLOOKUP($E34,EnvProfiler,AK$3,FALSE),0)","v":0},{"$f":"IFERROR('Transport og emballage'!$G27/'Transport og emballage'!$F27/1000*VLOOKUP($E34,EnvProfiler,AL$3,FALSE),0)","v":0},{"$f":"IFERROR('Transport og emballage'!$G27/'Transport og emballage'!$F27/1000*VLOOKUP($E34,EnvProfiler,AM$3,FALSE),0)","v":0},{"$f":"IFERROR('Transport og emballage'!$G27/'Transport og emballage'!$F27/1000*VLOOKUP($E34,EnvProfiler,AN$3,FALSE),0)","v":0},{"$f":"IFERROR('Transport og emballage'!$G27/'Transport og emballage'!$F27/1000*VLOOKUP($E34,EnvProfiler,AO$3,FALSE),0)","v":0},{"$f":"IFERROR('Transport og emballage'!$G27/'Transport og emballage'!$F27/1000*VLOOKUP($E34,EnvProfiler,AP$3,FALSE),0)","v":0},{"$f":"IFERROR('Transport og emballage'!$G27/'Transport og emballage'!$F27/1000*VLOOKUP($E34,EnvProfiler,AQ$3,FALSE),0)","v":0},{"$f":"IFERROR('Transport og emballage'!$G27/'Transport og emballage'!$F27/1000*VLOOKUP($E34,EnvProfiler,AR$3,FALSE),0)","v":0},{"$f":"IFERROR('Transport og emballage'!$G27/'Transport og emballage'!$F27/1000*VLOOKUP($E34,EnvProfiler,AS$3,FALSE),0)","v":0},{"$f":"IFERROR('Transport og emballage'!$G27/'Transport og emballage'!$F27/1000*VLOOKUP($E34,EnvProfiler,AT$3,FALSE),0)","v":0},{"$f":"IFERROR('Transport og emballage'!$G27/'Transport og emballage'!$F27/1000*VLOOKUP($E34,EnvProfiler,AU$3,FALSE),0)","v":0},{"$f":"IFERROR('Transport og emballage'!$G27/'Transport og emballage'!$F27/1000*VLOOKUP($E34,EnvProfiler,AV$3,FALSE),0)","v":0},{"$f":"IFERROR('Transport og emballage'!$G27/'Transport og emballage'!$F27/1000*VLOOKUP($E34,EnvProfiler,AW$3,FALSE),0)","v":0},{"$f":"IFERROR('Transport og emballage'!$G27/'Transport og emballage'!$F27/1000*VLOOKUP($E34,EnvProfiler,AX$3,FALSE),0)","v":0},{"$f":"IFERROR('Transport og emballage'!$G27/'Transport og emballage'!$F27/1000*VLOOKUP($E34,EnvProfiler,AY$3,FALSE),0)","v":0},{"$f":"IFERROR('Transport og emballage'!$G27/'Transport og emballage'!$F27/1000*VLOOKUP($E34,EnvProfiler,AZ$3,FALSE),0)","v":0},{"$f":"IFERROR('Transport og emballage'!$G27/'Transport og emballage'!$F27/1000*VLOOKUP($E34,EnvProfiler,BA$3,FALSE),0)","v":0},{"$f":"IFERROR('Transport og emballage'!$G27/'Transport og emballage'!$F27/1000*VLOOKUP($E34,EnvProfiler,BB$3,FALSE),0)","v":0},{"$f":"IFERROR('Transport og emballage'!$G27/'Transport og emballage'!$F27/1000*VLOOKUP($E34,EnvProfiler,BC$3,FALSE),0)","v":0},null,null,null,{"$f":"IFERROR('Transport og emballage'!$K27/'Transport og emballage'!$J27/1000*VLOOKUP($H34,EnvProfiler,BG$3,FALSE),0)","v":0},{"$f":"IFERROR('Transport og emballage'!$K27/'Transport og emballage'!$J27/1000*VLOOKUP($H34,EnvProfiler,BH$3,FALSE),0)","v":0},{"$f":"IFERROR('Transport og emballage'!$K27/'Transport og emballage'!$J27/1000*VLOOKUP($H34,EnvProfiler,BI$3,FALSE),0)","v":0},{"$f":"IFERROR('Transport og emballage'!$K27/'Transport og emballage'!$J27/1000*VLOOKUP($H34,EnvProfiler,BJ$3,FALSE),0)","v":0},{"$f":"IFERROR('Transport og emballage'!$K27/'Transport og emballage'!$J27/1000*VLOOKUP($H34,EnvProfiler,BK$3,FALSE),0)","v":0},{"$f":"IFERROR('Transport og emballage'!$K27/'Transport og emballage'!$J27/1000*VLOOKUP($H34,EnvProfiler,BL$3,FALSE),0)","v":0},{"$f":"IFERROR('Transport og emballage'!$K27/'Transport og emballage'!$J27/1000*VLOOKUP($H34,EnvProfiler,BM$3,FALSE),0)","v":0},{"$f":"IFERROR('Transport og emballage'!$K27/'Transport og emballage'!$J27/1000*VLOOKUP($H34,EnvProfiler,BN$3,FALSE),0)","v":0},{"$f":"IFERROR('Transport og emballage'!$K27/'Transport og emballage'!$J27/1000*VLOOKUP($H34,EnvProfiler,BO$3,FALSE),0)","v":0},{"$f":"IFERROR('Transport og emballage'!$K27/'Transport og emballage'!$J27/1000*VLOOKUP($H34,EnvProfiler,BP$3,FALSE),0)","v":0},{"$f":"IFERROR('Transport og emballage'!$K27/'Transport og emballage'!$J27/1000*VLOOKUP($H34,EnvProfiler,BQ$3,FALSE),0)","v":0},{"$f":"IFERROR('Transport og emballage'!$K27/'Transport og emballage'!$J27/1000*VLOOKUP($H34,EnvProfiler,BR$3,FALSE),0)","v":0},{"$f":"IFERROR('Transport og emballage'!$K27/'Transport og emballage'!$J27/1000*VLOOKUP($H34,EnvProfiler,BS$3,FALSE),0)","v":0},{"$f":"IFERROR('Transport og emballage'!$K27/'Transport og emballage'!$J27/1000*VLOOKUP($H34,EnvProfiler,BT$3,FALSE),0)","v":0},{"$f":"IFERROR('Transport og emballage'!$K27/'Transport og emballage'!$J27/1000*VLOOKUP($H34,EnvProfiler,BU$3,FALSE),0)","v":0},{"$f":"IFERROR('Transport og emballage'!$K27/'Transport og emballage'!$J27/1000*VLOOKUP($H34,EnvProfiler,BV$3,FALSE),0)","v":0},{"$f":"IFERROR('Transport og emballage'!$K27/'Transport og emballage'!$J27/1000*VLOOKUP($H34,EnvProfiler,BW$3,FALSE),0)","v":0},{"$f":"IFERROR('Transport og emballage'!$K27/'Transport og emballage'!$J27/1000*VLOOKUP($H34,EnvProfiler,BX$3,FALSE),0)","v":0},{"$f":"IFERROR('Transport og emballage'!$K27/'Transport og emballage'!$J27/1000*VLOOKUP($H34,EnvProfiler,BY$3,FALSE),0)","v":0},{"$f":"IFERROR('Transport og emballage'!$K27/'Transport og emballage'!$J27/1000*VLOOKUP($H34,EnvProfiler,BZ$3,FALSE),0)","v":0},{"$f":"IFERROR('Transport og emballage'!$K27/'Transport og emballage'!$J27/1000*VLOOKUP($H34,EnvProfiler,CA$3,FALSE),0)","v":0},{"$f":"IFERROR('Transport og emballage'!$K27/'Transport og emballage'!$J27/1000*VLOOKUP($H34,EnvProfiler,CB$3,FALSE),0)","v":0},{"$f":"IFERROR('Transport og emballage'!$K27/'Transport og emballage'!$J27/1000*VLOOKUP($H34,EnvProfiler,CC$3,FALSE),0)","v":0},{"$f":"IFERROR('Transport og emballage'!$K27/'Transport og emballage'!$J27/1000*VLOOKUP($H34,EnvProfiler,CD$3,FALSE),0)","v":0},{"$f":"IFERROR('Transport og emballage'!$K27/'Transport og emballage'!$J27/1000*VLOOKUP($H34,EnvProfiler,CE$3,FALSE),0)","v":0},{"$f":"IFERROR('Transport og emballage'!$K27/'Transport og emballage'!$J27/1000*VLOOKUP($H34,EnvProfiler,CF$3,FALSE),0)","v":0},{"$f":"IFERROR('Transport og emballage'!$K27/'Transport og emballage'!$J27/1000*VLOOKUP($H34,EnvProfiler,CG$3,FALSE),0)","v":0},{"$f":"IFERROR('Transport og emballage'!$K27/'Transport og emballage'!$J27/1000*VLOOKUP($H34,EnvProfiler,CH$3,FALSE),0)","v":0},{"$f":"IFERROR('Transport og emballage'!$K27/'Transport og emballage'!$J27/1000*VLOOKUP($H34,EnvProfiler,CI$3,FALSE),0)","v":0}]
[null,null,null,{"$f":"IF(ISBLANK('Transport og emballage'!E28),\"\",'Transport og emballage'!E28)","v":{"$error":"#N/A"}},{"$error":"#N/A"},null,{"$f":"IF(ISBLANK('Transport og emballage'!I28),\"\",'Transport og emballage'!I28)","v":{"$error":"#N/A"}},{"$error":"#N/A"},null,null,null,null,null,null,null,null,null,null,null,null,null,null,null,null,null,null,{"$f":"IFERROR('Transport og emballage'!$G28/'Transport og emballage'!$F28/1000*VLOOKUP($E35,EnvProfiler,AA$3,FALSE),0)","v":0},{"$f":"IFERROR('Transport og emballage'!$G28/'Transport og emballage'!$F28/1000*VLOOKUP($E35,EnvProfiler,AB$3,FALSE),0)","v":0},{"$f":"IFERROR('Transport og emballage'!$G28/'Transport og emballage'!$F28/1000*VLOOKUP($E35,EnvProfiler,AC$3,FALSE),0)","v":0},{"$f":"IFERROR('Transport og emballage'!$G28/'Transport og emballage'!$F28/1000*VLOOKUP($E35,EnvProfiler,AD$3,FALSE),0)","v":0},{"$f":"IFERROR('Transport og emballage'!$G28/'Transport og emballage'!$F28/1000*VLOOKUP($E35,EnvProfiler,AE$3,FALSE),0)","v":0},{"$f":"IFERROR('Transport og emballage'!$G28/'Transport og emballage'!$F28/1000*VLOOKUP($E35,EnvProfiler,AF$3,FALSE),0)","v":0},{"$f":"IFERROR('Transport og emballage'!$G28/'Transport og emballage'!$F28/1000*VLOOKUP($E35,EnvProfiler,AG$3,FALSE),0)","v":0},{"$f":"IFERROR('Transport og emballage'!$G28/'Transport og emballage'!$F28/1000*VLOOKUP($E35,EnvProfiler,AH$3,FALSE),0)","v":0},{"$f":"IFERROR('Transport og emballage'!$G28/'Transport og emballage'!$F28/1000*VLOOKUP($E35,EnvProfiler,AI$3,FALSE),0)","v":0},{"$f":"IFERROR('Transport og emballage'!$G28/'Transport og emballage'!$F28/1000*VLOOKUP($E35,EnvProfiler,AJ$3,FALSE),0)","v":0},{"$f":"IFERROR('Transport og emballage'!$G28/'Transport og emballage'!$F28/1000*VLOOKUP($E35,EnvProfiler,AK$3,FALSE),0)","v":0},{"$f":"IFERROR('Transport og emballage'!$G28/'Transport og emballage'!$F28/1000*VLOOKUP($E35,EnvProfiler,AL$3,FALSE),0)","v":0},{"$f":"IFERROR('Transport og emballage'!$G28/'Transport og emballage'!$F28/1000*VLOOKUP($E35,EnvProfiler,AM$3,FALSE),0)","v":0},{"$f":"IFERROR('Transport og emballage'!$G28/'Transport og emballage'!$F28/1000*VLOOKUP($E35,EnvProfiler,AN$3,FALSE),0)","v":0},{"$f":"IFERROR('Transport og emballage'!$G28/'Transport og emballage'!$F28/1000*VLOOKUP($E35,EnvProfiler,AO$3,FALSE),0)","v":0},{"$f":"IFERROR('Transport og emballage'!$G28/'Transport og emballage'!$F28/1000*VLOOKUP($E35,EnvProfiler,AP$3,FALSE),0)","v":0},{"$f":"IFERROR('Transport og emballage'!$G28/'Transport og emballage'!$F28/1000*VLOOKUP($E35,EnvProfiler,AQ$3,FALSE),0)","v":0},{"$f":"IFERROR('Transport og emballage'!$G28/'Transport og emballage'!$F28/1000*VLOOKUP($E35,EnvProfiler,AR$3,FALSE),0)","v":0},{"$f":"IFERROR('Transport og emballage'!$G28/'Transport og emballage'!$F28/1000*VLOOKUP($E35,EnvProfiler,AS$3,FALSE),0)","v":0},{"$f":"IFERROR('Transport og emballage'!$G28/'Transport og emballage'!$F28/1000*VLOOKUP($E35,EnvProfiler,AT$3,FALSE),0)","v":0},{"$f":"IFERROR('Transport og emballage'!$G28/'Transport og emballage'!$F28/1000*VLOOKUP($E35,EnvProfiler,AU$3,FALSE),0)","v":0},{"$f":"IFERROR('Transport og emballage'!$G28/'Transport og emballage'!$F28/1000*VLOOKUP($E35,EnvProfiler,AV$3,FALSE),0)","v":0},{"$f":"IFERROR('Transport og emballage'!$G28/'Transport og emballage'!$F28/1000*VLOOKUP($E35,EnvProfiler,AW$3,FALSE),0)","v":0},{"$f":"IFERROR('Transport og emballage'!$G28/'Transport og emballage'!$F28/1000*VLOOKUP($E35,EnvProfiler,AX$3,FALSE),0)","v":0},{"$f":"IFERROR('Transport og emballage'!$G28/'Transport og emballage'!$F28/1000*VLOOKUP($E35,EnvProfiler,AY$3,FALSE),0)","v":0},{"$f":"IFERROR('Transport og emballage'!$G28/'Transport og emballage'!$F28/1000*VLOOKUP($E35,EnvProfiler,AZ$3,FALSE),0)","v":0},{"$f":"IFERROR('Transport og emballage'!$G28/'Transport og emballage'!$F28/1000*VLOOKUP($E35,EnvProfiler,BA$3,FALSE),0)","v":0},{"$f":"IFERROR('Transport og emballage'!$G28/'Transport og emballage'!$F28/1000*VLOOKUP($E35,EnvProfiler,BB$3,FALSE),0)","v":0},{"$f":"IFERROR('Transport og emballage'!$G28/'Transport og emballage'!$F28/1000*VLOOKUP($E35,EnvProfiler,BC$3,FALSE),0)","v":0},null,null,null,{"$f":"IFERROR('Transport og emballage'!$K28/'Transport og emballage'!$J28/1000*VLOOKUP($H35,EnvProfiler,BG$3,FALSE),0)","v":0},{"$f":"IFERROR('Transport og emballage'!$K28/'Transport og emballage'!$J28/1000*VLOOKUP($H35,EnvProfiler,BH$3,FALSE),0)","v":0},{"$f":"IFERROR('Transport og emballage'!$K28/'Transport og emballage'!$J28/1000*VLOOKUP($H35,EnvProfiler,BI$3,FALSE),0)","v":0},{"$f":"IFERROR('Transport og emballage'!$K28/'Transport og emballage'!$J28/1000*VLOOKUP($H35,EnvProfiler,BJ$3,FALSE),0)","v":0},{"$f":"IFERROR('Transport og emballage'!$K28/'Transport og emballage'!$J28/1000*VLOOKUP($H35,EnvProfiler,BK$3,FALSE),0)","v":0},{"$f":"IFERROR('Transport og emballage'!$K28/'Transport og emballage'!$J28/1000*VLOOKUP($H35,EnvProfiler,BL$3,FALSE),0)","v":0},{"$f":"IFERROR('Transport og emballage'!$K28/'Transport og emballage'!$J28/1000*VLOOKUP($H35,EnvProfiler,BM$3,FALSE),0)","v":0},{"$f":"IFERROR('Transport og emballage'!$K28/'Transport og emballage'!$J28/1000*VLOOKUP($H35,EnvProfiler,BN$3,FALSE),0)","v":0},{"$f":"IFERROR('Transport og emballage'!$K28/'Transport og emballage'!$J28/1000*VLOOKUP($H35,EnvProfiler,BO$3,FALSE),0)","v":0},{"$f":"IFERROR('Transport og emballage'!$K28/'Transport og emballage'!$J28/1000*VLOOKUP($H35,EnvProfiler,BP$3,FALSE),0)","v":0},{"$f":"IFERROR('Transport og emballage'!$K28/'Transport og emballage'!$J28/1000*VLOOKUP($H35,EnvProfiler,BQ$3,FALSE),0)","v":0},{"$f":"IFERROR('Transport og emballage'!$K28/'Transport og emballage'!$J28/1000*VLOOKUP($H35,EnvProfiler,BR$3,FALSE),0)","v":0},{"$f":"IFERROR('Transport og emballage'!$K28/'Transport og emballage'!$J28/1000*VLOOKUP($H35,EnvProfiler,BS$3,FALSE),0)","v":0},{"$f":"IFERROR('Transport og emballage'!$K28/'Transport og emballage'!$J28/1000*VLOOKUP($H35,EnvProfiler,BT$3,FALSE),0)","v":0},{"$f":"IFERROR('Transport og emballage'!$K28/'Transport og emballage'!$J28/1000*VLOOKUP($H35,EnvProfiler,BU$3,FALSE),0)","v":0},{"$f":"IFERROR('Transport og emballage'!$K28/'Transport og emballage'!$J28/1000*VLOOKUP($H35,EnvProfiler,BV$3,FALSE),0)","v":0},{"$f":"IFERROR('Transport og emballage'!$K28/'Transport og emballage'!$J28/1000*VLOOKUP($H35,EnvProfiler,BW$3,FALSE),0)","v":0},{"$f":"IFERROR('Transport og emballage'!$K28/'Transport og emballage'!$J28/1000*VLOOKUP($H35,EnvProfiler,BX$3,FALSE),0)","v":0},{"$f":"IFERROR('Transport og emballage'!$K28/'Transport og emballage'!$J28/1000*VLOOKUP($H35,EnvProfiler,BY$3,FALSE),0)","v":0},{"$f":"IFERROR('Transport og emballage'!$K28/'Transport og emballage'!$J28/1000*VLOOKUP($H35,EnvProfiler,BZ$3,FALSE),0)","v":0},{"$f":"IFERROR('Transport og emballage'!$K28/'Transport og emballage'!$J28/1000*VLOOKUP($H35,EnvProfiler,CA$3,FALSE),0)","v":0},{"$f":"IFERROR('Transport og emballage'!$K28/'Transport og emballage'!$J28/1000*VLOOKUP($H35,EnvProfiler,CB$3,FALSE),0)","v":0},{"$f":"IFERROR('Transport og emballage'!$K28/'Transport og emballage'!$J28/1000*VLOOKUP($H35,EnvProfiler,CC$3,FALSE),0)","v":0},{"$f":"IFERROR('Transport og emballage'!$K28/'Transport og emballage'!$J28/1000*VLOOKUP($H35,EnvProfiler,CD$3,FALSE),0)","v":0},{"$f":"IFERROR('Transport og emballage'!$K28/'Transport og emballage'!$J28/1000*VLOOKUP($H35,EnvProfiler,CE$3,FALSE),0)","v":0},{"$f":"IFERROR('Transport og emballage'!$K28/'Transport og emballage'!$J28/1000*VLOOKUP($H35,EnvProfiler,CF$3,FALSE),0)","v":0},{"$f":"IFERROR('Transport og emballage'!$K28/'Transport og emballage'!$J28/1000*VLOOKUP($H35,EnvProfiler,CG$3,FALSE),0)","v":0},{"$f":"IFERROR('Transport og emballage'!$K28/'Transport og emballage'!$J28/1000*VLOOKUP($H35,EnvProfiler,CH$3,FALSE),0)","v":0},{"$f":"IFERROR('Transport og emballage'!$K28/'Transport og emballage'!$J28/1000*VLOOKUP($H35,EnvProfiler,CI$3,FALSE),0)","v":0}]
[null,null,null,{"$f":"IF(ISBLANK('Transport og emballage'!E29),\"\",'Transport og emballage'!E29)","v":{"$error":"#N/A"}},{"$error":"#N/A"},null,{"$f":"IF(ISBLANK('Transport og emballage'!I29),\"\",'Transport og emballage'!I29)","v":{"$error":"#N/A"}},{"$error":"#N/A"},null,null,null,null,null,null,null,null,null,null,null,null,null,null,null,null,null,null,{"$f":"IFERROR('Transport og emballage'!$G29/'Transport og emballage'!$F29/1000*VLOOKUP($E36,EnvProfiler,AA$3,FALSE),0)","v":0},{"$f":"IFERROR('Transport og emballage'!$G29/'Transport og emballage'!$F29/1000*VLOOKUP($E36,EnvProfiler,AB$3,FALSE),0)","v":0},{"$f":"IFERROR('Transport og emballage'!$G29/'Transport og emballage'!$F29/1000*VLOOKUP($E36,EnvProfiler,AC$3,FALSE),0)","v":0},{"$f":"IFERROR('Transport og emballage'!$G29/'Transport og emballage'!$F29/1000*VLOOKUP($E36,EnvProfiler,AD$3,FALSE),0)","v":0},{"$f":"IFERROR('Transport og emballage'!$G29/'Transport og emballage'!$F29/1000*VLOOKUP($E36,EnvProfiler,AE$3,FALSE),0)","v":0},{"$f":"IFERROR('Transport og emballage'!$G29/'Transport og emballage'!$F29/1000*VLOOKUP($E36,EnvProfiler,AF$3,FALSE),0)","v":0},{"$f":"IFERROR('Transport og emballage'!$G29/'Transport og emballage'!$F29/1000*VLOOKUP($E36,EnvProfiler,AG$3,FALSE),0)","v":0},{"$f":"IFERROR('Transport og emballage'!$G29/'Transport og emballage'!$F29/1000*VLOOKUP($E36,EnvProfiler,AH$3,FALSE),0)","v":0},{"$f":"IFERROR('Transport og emballage'!$G29/'Transport og emballage'!$F29/1000*VLOOKUP($E36,EnvProfiler,AI$3,FALSE),0)","v":0},{"$f":"IFERROR('Transport og emballage'!$G29/'Transport og emballage'!$F29/1000*VLOOKUP($E36,EnvProfiler,AJ$3,FALSE),0)","v":0},{"$f":"IFERROR('Transport og emballage'!$G29/'Transport og emballage'!$F29/1000*VLOOKUP($E36,EnvProfiler,AK$3,FALSE),0)","v":0},{"$f":"IFERROR('Transport og emballage'!$G29/'Transport og emballage'!$F29/1000*VLOOKUP($E36,EnvProfiler,AL$3,FALSE),0)","v":0},{"$f":"IFERROR('Transport og emballage'!$G29/'Transport og emballage'!$F29/1000*VLOOKUP($E36,EnvProfiler,AM$3,FALSE),0)","v":0},{"$f":"IFERROR('Transport og emballage'!$G29/'Transport og emballage'!$F29/1000*VLOOKUP($E36,EnvProfiler,AN$3,FALSE),0)","v":0},{"$f":"IFERROR('Transport og emballage'!$G29/'Transport og emballage'!$F29/1000*VLOOKUP($E36,EnvProfiler,AO$3,FALSE),0)","v":0},{"$f":"IFERROR('Transport og emballage'!$G29/'Transport og emballage'!$F29/1000*VLOOKUP($E36,EnvProfiler,AP$3,FALSE),0)","v":0},{"$f":"IFERROR('Transport og emballage'!$G29/'Transport og emballage'!$F29/1000*VLOOKUP($E36,EnvProfiler,AQ$3,FALSE),0)","v":0},{"$f":"IFERROR('Transport og emballage'!$G29/'Transport og emballage'!$F29/1000*VLOOKUP($E36,EnvProfiler,AR$3,FALSE),0)","v":0},{"$f":"IFERROR('Transport og emballage'!$G29/'Transport og emballage'!$F29/1000*VLOOKUP($E36,EnvProfiler,AS$3,FALSE),0)","v":0},{"$f":"IFERROR('Transport og emballage'!$G29/'Transport og emballage'!$F29/1000*VLOOKUP($E36,EnvProfiler,AT$3,FALSE),0)","v":0},{"$f":"IFERROR('Transport og emballage'!$G29/'Transport og emballage'!$F29/1000*VLOOKUP($E36,EnvProfiler,AU$3,FALSE),0)","v":0},{"$f":"IFERROR('Transport og emballage'!$G29/'Transport og emballage'!$F29/1000*VLOOKUP($E36,EnvProfiler,AV$3,FALSE),0)","v":0},{"$f":"IFERROR('Transport og emballage'!$G29/'Transport og emballage'!$F29/1000*VLOOKUP($E36,EnvProfiler,AW$3,FALSE),0)","v":0},{"$f":"IFERROR('Transport og emballage'!$G29/'Transport og emballage'!$F29/1000*VLOOKUP($E36,EnvProfiler,AX$3,FALSE),0)","v":0},{"$f":"IFERROR('Transport og emballage'!$G29/'Transport og emballage'!$F29/1000*VLOOKUP($E36,EnvProfiler,AY$3,FALSE),0)","v":0},{"$f":"IFERROR('Transport og emballage'!$G29/'Transport og emballage'!$F29/1000*VLOOKUP($E36,EnvProfiler,AZ$3,FALSE),0)","v":0},{"$f":"IFERROR('Transport og emballage'!$G29/'Transport og emballage'!$F29/1000*VLOOKUP($E36,EnvProfiler,BA$3,FALSE),0)","v":0},{"$f":"IFERROR('Transport og emballage'!$G29/'Transport og emballage'!$F29/1000*VLOOKUP($E36,EnvProfiler,BB$3,FALSE),0)","v":0},{"$f":"IFERROR('Transport og emballage'!$G29/'Transport og emballage'!$F29/1000*VLOOKUP($E36,EnvProfiler,BC$3,FALSE),0)","v":0},null,null,null,{"$f":"IFERROR('Transport og emballage'!$K29/'Transport og emballage'!$J29/1000*VLOOKUP($H36,EnvProfiler,BG$3,FALSE),0)","v":0},{"$f":"IFERROR('Transport og emballage'!$K29/'Transport og emballage'!$J29/1000*VLOOKUP($H36,EnvProfiler,BH$3,FALSE),0)","v":0},{"$f":"IFERROR('Transport og emballage'!$K29/'Transport og emballage'!$J29/1000*VLOOKUP($H36,EnvProfiler,BI$3,FALSE),0)","v":0},{"$f":"IFERROR('Transport og emballage'!$K29/'Transport og emballage'!$J29/1000*VLOOKUP($H36,EnvProfiler,BJ$3,FALSE),0)","v":0},{"$f":"IFERROR('Transport og emballage'!$K29/'Transport og emballage'!$J29/1000*VLOOKUP($H36,EnvProfiler,BK$3,FALSE),0)","v":0},{"$f":"IFERROR('Transport og emballage'!$K29/'Transport og emballage'!$J29/1000*VLOOKUP($H36,EnvProfiler,BL$3,FALSE),0)","v":0},{"$f":"IFERROR('Transport og emballage'!$K29/'Transport og emballage'!$J29/1000*VLOOKUP($H36,EnvProfiler,BM$3,FALSE),0)","v":0},{"$f":"IFERROR('Transport og emballage'!$K29/'Transport og emballage'!$J29/1000*VLOOKUP($H36,EnvProfiler,BN$3,FALSE),0)","v":0},{"$f":"IFERROR('Transport og emballage'!$K29/'Transport og emballage'!$J29/1000*VLOOKUP($H36,EnvProfiler,BO$3,FALSE),0)","v":0},{"$f":"IFERROR('Transport og emballage'!$K29/'Transport og emballage'!$J29/1000*VLOOKUP($H36,EnvProfiler,BP$3,FALSE),0)","v":0},{"$f":"IFERROR('Transport og emballage'!$K29/'Transport og emballage'!$J29/1000*VLOOKUP($H36,EnvProfiler,BQ$3,FALSE),0)","v":0},{"$f":"IFERROR('Transport og emballage'!$K29/'Transport og emballage'!$J29/1000*VLOOKUP($H36,EnvProfiler,BR$3,FALSE),0)","v":0},{"$f":"IFERROR('Transport og emballage'!$K29/'Transport og emballage'!$J29/1000*VLOOKUP($H36,EnvProfiler,BS$3,FALSE),0)","v":0},{"$f":"IFERROR('Transport og emballage'!$K29/'Transport og emballage'!$J29/1000*VLOOKUP($H36,EnvProfiler,BT$3,FALSE),0)","v":0},{"$f":"IFERROR('Transport og emballage'!$K29/'Transport og emballage'!$J29/1000*VLOOKUP($H36,EnvProfiler,BU$3,FALSE),0)","v":0},{"$f":"IFERROR('Transport og emballage'!$K29/'Transport og emballage'!$J29/1000*VLOOKUP($H36,EnvProfiler,BV$3,FALSE),0)","v":0},{"$f":"IFERROR('Transport og emballage'!$K29/'Transport og emballage'!$J29/1000*VLOOKUP($H36,EnvProfiler,BW$3,FALSE),0)","v":0},{"$f":"IFERROR('Transport og emballage'!$K29/'Transport og emballage'!$J29/1000*VLOOKUP($H36,EnvProfiler,BX$3,FALSE),0)","v":0},{"$f":"IFERROR('Transport og emballage'!$K29/'Transport og emballage'!$J29/1000*VLOOKUP($H36,EnvProfiler,BY$3,FALSE),0)","v":0},{"$f":"IFERROR('Transport og emballage'!$K29/'Transport og emballage'!$J29/1000*VLOOKUP($H36,EnvProfiler,BZ$3,FALSE),0)","v":0},{"$f":"IFERROR('Transport og emballage'!$K29/'Transport og emballage'!$J29/1000*VLOOKUP($H36,EnvProfiler,CA$3,FALSE),0)","v":0},{"$f":"IFERROR('Transport og emballage'!$K29/'Transport og emballage'!$J29/1000*VLOOKUP($H36,EnvProfiler,CB$3,FALSE),0)","v":0},{"$f":"IFERROR('Transport og emballage'!$K29/'Transport og emballage'!$J29/1000*VLOOKUP($H36,EnvProfiler,CC$3,FALSE),0)","v":0},{"$f":"IFERROR('Transport og emballage'!$K29/'Transport og emballage'!$J29/1000*VLOOKUP($H36,EnvProfiler,CD$3,FALSE),0)","v":0},{"$f":"IFERROR('Transport og emballage'!$K29/'Transport og emballage'!$J29/1000*VLOOKUP($H36,EnvProfiler,CE$3,FALSE),0)","v":0},{"$f":"IFERROR('Transport og emballage'!$K29/'Transport og emballage'!$J29/1000*VLOOKUP($H36,EnvProfiler,CF$3,FALSE),0)","v":0},{"$f":"IFERROR('Transport og emballage'!$K29/'Transport og emballage'!$J29/1000*VLOOKUP($H36,EnvProfiler,CG$3,FALSE),0)","v":0},{"$f":"IFERROR('Transport og emballage'!$K29/'Transport og emballage'!$J29/1000*VLOOKUP($H36,EnvProfiler,CH$3,FALSE),0)","v":0},{"$f":"IFERROR('Transport og emballage'!$K29/'Transport og emballage'!$J29/1000*VLOOKUP($H36,EnvProfiler,CI$3,FALSE),0)","v":0}]
[null,null,null,{"$f":"IF(ISBLANK('Transport og emballage'!E30),\"\",'Transport og emballage'!E30)","v":{"$error":"#N/A"}},{"$error":"#N/A"},null,{"$f":"IF(ISBLANK('Transport og emballage'!I30),\"\",'Transport og emballage'!I30)","v":{"$error":"#N/A"}},{"$error":"#N/A"},null,null,null,null,null,null,null,null,null,null,null,null,null,null,null,null,null,null,{"$f":"IFERROR('Transport og emballage'!$G30/'Transport og emballage'!$F30/1000*VLOOKUP($E37,EnvProfiler,AA$3,FALSE),0)","v":0},{"$f":"IFERROR('Transport og emballage'!$G30/'Transport og emballage'!$F30/1000*VLOOKUP($E37,EnvProfiler,AB$3,FALSE),0)","v":0},{"$f":"IFERROR('Transport og emballage'!$G30/'Transport og emballage'!$F30/1000*VLOOKUP($E37,EnvProfiler,AC$3,FALSE),0)","v":0},{"$f":"IFERROR('Transport og emballage'!$G30/'Transport og emballage'!$F30/1000*VLOOKUP($E37,EnvProfiler,AD$3,FALSE),0)","v":0},{"$f":"IFERROR('Transport og emballage'!$G30/'Transport og emballage'!$F30/1000*VLOOKUP($E37,EnvProfiler,AE$3,FALSE),0)","v":0},{"$f":"IFERROR('Transport og emballage'!$G30/'Transport og emballage'!$F30/1000*VLOOKUP($E37,EnvProfiler,AF$3,FALSE),0)","v":0},{"$f":"IFERROR('Transport og emballage'!$G30/'Transport og emballage'!$F30/1000*VLOOKUP($E37,EnvProfiler,AG$3,FALSE),0)","v":0},{"$f":"IFERROR('Transport og emballage'!$G30/'Transport og emballage'!$F30/1000*VLOOKUP($E37,EnvProfiler,AH$3,FALSE),0)","v":0},{"$f":"IFERROR('Transport og emballage'!$G30/'Transport og emballage'!$F30/1000*VLOOKUP($E37,EnvProfiler,AI$3,FALSE),0)","v":0},{"$f":"IFERROR('Transport og emballage'!$G30/'Transport og emballage'!$F30/1000*VLOOKUP($E37,EnvProfiler,AJ$3,FALSE),0)","v":0},{"$f":"IFERROR('Transport og emballage'!$G30/'Transport og emballage'!$F30/1000*VLOOKUP($E37,EnvProfiler,AK$3,FALSE),0)","v":0},{"$f":"IFERROR('Transport og emballage'!$G30/'Transport og emballage'!$F30/1000*VLOOKUP($E37,EnvProfiler,AL$3,FALSE),0)","v":0},{"$f":"IFERROR('Transport og emballage'!$G30/'Transport og emballage'!$F30/1000*VLOOKUP($E37,EnvProfiler,AM$3,FALSE),0)","v":0},{"$f":"IFERROR('Transport og emballage'!$G30/'Transport og emballage'!$F30/1000*VLOOKUP($E37,EnvProfiler,AN$3,FALSE),0)","v":0},{"$f":"IFERROR('Transport og emballage'!$G30/'Transport og emballage'!$F30/1000*VLOOKUP($E37,EnvProfiler,AO$3,FALSE),0)","v":0},{"$f":"IFERROR('Transport og emballage'!$G30/'Transport og emballage'!$F30/1000*VLOOKUP($E37,EnvProfiler,AP$3,FALSE),0)","v":0},{"$f":"IFERROR('Transport og emballage'!$G30/'Transport og emballage'!$F30/1000*VLOOKUP($E37,EnvProfiler,AQ$3,FALSE),0)","v":0},{"$f":"IFERROR('Transport og emballage'!$G30/'Transport og emballage'!$F30/1000*VLOOKUP($E37,EnvProfiler,AR$3,FALSE),0)","v":0},{"$f":"IFERROR('Transport og emballage'!$G30/'Transport og emballage'!$F30/1000*VLOOKUP($E37,EnvProfiler,AS$3,FALSE),0)","v":0},{"$f":"IFERROR('Transport og emballage'!$G30/'Transport og emballage'!$F30/1000*VLOOKUP($E37,EnvProfiler,AT$3,FALSE),0)","v":0},{"$f":"IFERROR('Transport og emballage'!$G30/'Transport og emballage'!$F30/1000*VLOOKUP($E37,EnvProfiler,AU$3,FALSE),0)","v":0},{"$f":"IFERROR('Transport og emballage'!$G30/'Transport og emballage'!$F30/1000*VLOOKUP($E37,EnvProfiler,AV$3,FALSE),0)","v":0},{"$f":"IFERROR('Transport og emballage'!$G30/'Transport og emballage'!$F30/1000*VLOOKUP($E37,EnvProfiler,AW$3,FALSE),0)","v":0},{"$f":"IFERROR('Transport og emballage'!$G30/'Transport og emballage'!$F30/1000*VLOOKUP($E37,EnvProfiler,AX$3,FALSE),0)","v":0},{"$f":"IFERROR('Transport og emballage'!$G30/'Transport og emballage'!$F30/1000*VLOOKUP($E37,EnvProfiler,AY$3,FALSE),0)","v":0},{"$f":"IFERROR('Transport og emballage'!$G30/'Transport og emballage'!$F30/1000*VLOOKUP($E37,EnvProfiler,AZ$3,FALSE),0)","v":0},{"$f":"IFERROR('Transport og emballage'!$G30/'Transport og emballage'!$F30/1000*VLOOKUP($E37,EnvProfiler,BA$3,FALSE),0)","v":0},{"$f":"IFERROR('Transport og emballage'!$G30/'Transport og emballage'!$F30/1000*VLOOKUP($E37,EnvProfiler,BB$3,FALSE),0)","v":0},{"$f":"IFERROR('Transport og emballage'!$G30/'Transport og emballage'!$F30/1000*VLOOKUP($E37,EnvProfiler,BC$3,FALSE),0)","v":0},null,null,null,{"$f":"IFERROR('Transport og emballage'!$K30/'Transport og emballage'!$J30/1000*VLOOKUP($H37,EnvProfiler,BG$3,FALSE),0)","v":0},{"$f":"IFERROR('Transport og emballage'!$K30/'Transport og emballage'!$J30/1000*VLOOKUP($H37,EnvProfiler,BH$3,FALSE),0)","v":0},{"$f":"IFERROR('Transport og emballage'!$K30/'Transport og emballage'!$J30/1000*VLOOKUP($H37,EnvProfiler,BI$3,FALSE),0)","v":0},{"$f":"IFERROR('Transport og emballage'!$K30/'Transport og emballage'!$J30/1000*VLOOKUP($H37,EnvProfiler,BJ$3,FALSE),0)","v":0},{"$f":"IFERROR('Transport og emballage'!$K30/'Transport og emballage'!$J30/1000*VLOOKUP($H37,EnvProfiler,BK$3,FALSE),0)","v":0},{"$f":"IFERROR('Transport og emballage'!$K30/'Transport og emballage'!$J30/1000*VLOOKUP($H37,EnvProfiler,BL$3,FALSE),0)","v":0},{"$f":"IFERROR('Transport og emballage'!$K30/'Transport og emballage'!$J30/1000*VLOOKUP($H37,EnvProfiler,BM$3,FALSE),0)","v":0},{"$f":"IFERROR('Transport og emballage'!$K30/'Transport og emballage'!$J30/1000*VLOOKUP($H37,EnvProfiler,BN$3,FALSE),0)","v":0},{"$f":"IFERROR('Transport og emballage'!$K30/'Transport og emballage'!$J30/1000*VLOOKUP($H37,EnvProfiler,BO$3,FALSE),0)","v":0},{"$f":"IFERROR('Transport og emballage'!$K30/'Transport og emballage'!$J30/1000*VLOOKUP($H37,EnvProfiler,BP$3,FALSE),0)","v":0},{"$f":"IFERROR('Transport og emballage'!$K30/'Transport og emballage'!$J30/1000*VLOOKUP($H37,EnvProfiler,BQ$3,FALSE),0)","v":0},{"$f":"IFERROR('Transport og emballage'!$K30/'Transport og emballage'!$J30/1000*VLOOKUP($H37,EnvProfiler,BR$3,FALSE),0)","v":0},{"$f":"IFERROR('Transport og emballage'!$K30/'Transport og emballage'!$J30/1000*VLOOKUP($H37,EnvProfiler,BS$3,FALSE),0)","v":0},{"$f":"IFERROR('Transport og emballage'!$K30/'Transport og emballage'!$J30/1000*VLOOKUP($H37,EnvProfiler,BT$3,FALSE),0)","v":0},{"$f":"IFERROR('Transport og emballage'!$K30/'Transport og emballage'!$J30/1000*VLOOKUP($H37,EnvProfiler,BU$3,FALSE),0)","v":0},{"$f":"IFERROR('Transport og emballage'!$K30/'Transport og emballage'!$J30/1000*VLOOKUP($H37,EnvProfiler,BV$3,FALSE),0)","v":0},{"$f":"IFERROR('Transport og emballage'!$K30/'Transport og emballage'!$J30/1000*VLOOKUP($H37,EnvProfiler,BW$3,FALSE),0)","v":0},{"$f":"IFERROR('Transport og emballage'!$K30/'Transport og emballage'!$J30/1000*VLOOKUP($H37,EnvProfiler,BX$3,FALSE),0)","v":0},{"$f":"IFERROR('Transport og emballage'!$K30/'Transport og emballage'!$J30/1000*VLOOKUP($H37,EnvProfiler,BY$3,FALSE),0)","v":0},{"$f":"IFERROR('Transport og emballage'!$K30/'Transport og emballage'!$J30/1000*VLOOKUP($H37,EnvProfiler,BZ$3,FALSE),0)","v":0},{"$f":"IFERROR('Transport og emballage'!$K30/'Transport og emballage'!$J30/1000*VLOOKUP($H37,EnvProfiler,CA$3,FALSE),0)","v":0},{"$f":"IFERROR('Transport og emballage'!$K30/'Transport og emballage'!$J30/1000*VLOOKUP($H37,EnvProfiler,CB$3,FALSE),0)","v":0},{"$f":"IFERROR('Transport og emballage'!$K30/'Transport og emballage'!$J30/1000*VLOOKUP($H37,EnvProfiler,CC$3,FALSE),0)","v":0},{"$f":"IFERROR('Transport og emballage'!$K30/'Transport og emballage'!$J30/1000*VLOOKUP($H37,EnvProfiler,CD$3,FALSE),0)","v":0},{"$f":"IFERROR('Transport og emballage'!$K30/'Transport og emballage'!$J30/1000*VLOOKUP($H37,EnvProfiler,CE$3,FALSE),0)","v":0},{"$f":"IFERROR('Transport og emballage'!$K30/'Transport og emballage'!$J30/1000*VLOOKUP($H37,EnvProfiler,CF$3,FALSE),0)","v":0},{"$f":"IFERROR('Transport og emballage'!$K30/'Transport og emballage'!$J30/1000*VLOOKUP($H37,EnvProfiler,CG$3,FALSE),0)","v":0},{"$f":"IFERROR('Transport og emballage'!$K30/'Transport og emballage'!$J30/1000*VLOOKUP($H37,EnvProfiler,CH$3,FALSE),0)","v":0},{"$f":"IFERROR('Transport og emballage'!$K30/'Transport og emballage'!$J30/1000*VLOOKUP($H37,EnvProfiler,CI$3,FALSE),0)","v":0}]
[null,null,null,{"$f":"IF(ISBLANK('Transport og emballage'!E31),\"\",'Transport og emballage'!E31)","v":{"$error":"#N/A"}},{"$error":"#N/A"},null,{"$f":"IF(ISBLANK('Transport og emballage'!I31),\"\",'Transport og emballage'!I31)","v":{"$error":"#N/A"}},{"$error":"#N/A"},null,null,null,null,null,null,null,null,null,null,null,null,null,null,null,null,null,null,{"$f":"IFERROR('Transport og emballage'!$G31/'Transport og emballage'!$F31/1000*VLOOKUP($E38,EnvProfiler,AA$3,FALSE),0)","v":0},{"$f":"IFERROR('Transport og emballage'!$G31/'Transport og emballage'!$F31/1000*VLOOKUP($E38,EnvProfiler,AB$3,FALSE),0)","v":0},{"$f":"IFERROR('Transport og emballage'!$G31/'Transport og emballage'!$F31/1000*VLOOKUP($E38,EnvProfiler,AC$3,FALSE),0)","v":0},{"$f":"IFERROR('Transport og emballage'!$G31/'Transport og emballage'!$F31/1000*VLOOKUP($E38,EnvProfiler,AD$3,FALSE),0)","v":0},{"$f":"IFERROR('Transport og emballage'!$G31/'Transport og emballage'!$F31/1000*VLOOKUP($E38,EnvProfiler,AE$3,FALSE),0)","v":0},{"$f":"IFERROR('Transport og emballage'!$G31/'Transport og emballage'!$F31/1000*VLOOKUP($E38,EnvProfiler,AF$3,FALSE),0)","v":0},{"$f":"IFERROR('Transport og emballage'!$G31/'Transport og emballage'!$F31/1000*VLOOKUP($E38,EnvProfiler,AG$3,FALSE),0)","v":0},{"$f":"IFERROR('Transport og emballage'!$G31/'Transport og emballage'!$F31/1000*VLOOKUP($E38,EnvProfiler,AH$3,FALSE),0)","v":0},{"$f":"IFERROR('Transport og emballage'!$G31/'Transport og emballage'!$F31/1000*VLOOKUP($E38,EnvProfiler,AI$3,FALSE),0)","v":0},{"$f":"IFERROR('Transport og emballage'!$G31/'Transport og emballage'!$F31/1000*VLOOKUP($E38,EnvProfiler,AJ$3,FALSE),0)","v":0},{"$f":"IFERROR('Transport og emballage'!$G31/'Transport og emballage'!$F31/1000*VLOOKUP($E38,EnvProfiler,AK$3,FALSE),0)","v":0},{"$f":"IFERROR('Transport og emballage'!$G31/'Transport og emballage'!$F31/1000*VLOOKUP($E38,EnvProfiler,AL$3,FALSE),0)","v":0},{"$f":"IFERROR('Transport og emballage'!$G31/'Transport og emballage'!$F31/1000*VLOOKUP($E38,EnvProfiler,AM$3,FALSE),0)","v":0},{"$f":"IFERROR('Transport og emballage'!$G31/'Transport og emballage'!$F31/1000*VLOOKUP($E38,EnvProfiler,AN$3,FALSE),0)","v":0},{"$f":"IFERROR('Transport og emballage'!$G31/'Transport og emballage'!$F31/1000*VLOOKUP($E38,EnvProfiler,AO$3,FALSE),0)","v":0},{"$f":"IFERROR('Transport og emballage'!$G31/'Transport og emballage'!$F31/1000*VLOOKUP($E38,EnvProfiler,AP$3,FALSE),0)","v":0},{"$f":"IFERROR('Transport og emballage'!$G31/'Transport og emballage'!$F31/1000*VLOOKUP($E38,EnvProfiler,AQ$3,FALSE),0)","v":0},{"$f":"IFERROR('Transport og emballage'!$G31/'Transport og emballage'!$F31/1000*VLOOKUP($E38,EnvProfiler,AR$3,FALSE),0)","v":0},{"$f":"IFERROR('Transport og emballage'!$G31/'Transport og emballage'!$F31/1000*VLOOKUP($E38,EnvProfiler,AS$3,FALSE),0)","v":0},{"$f":"IFERROR('Transport og emballage'!$G31/'Transport og emballage'!$F31/1000*VLOOKUP($E38,EnvProfiler,AT$3,FALSE),0)","v":0},{"$f":"IFERROR('Transport og emballage'!$G31/'Transport og emballage'!$F31/1000*VLOOKUP($E38,EnvProfiler,AU$3,FALSE),0)","v":0},{"$f":"IFERROR('Transport og emballage'!$G31/'Transport og emballage'!$F31/1000*VLOOKUP($E38,EnvProfiler,AV$3,FALSE),0)","v":0},{"$f":"IFERROR('Transport og emballage'!$G31/'Transport og emballage'!$F31/1000*VLOOKUP($E38,EnvProfiler,AW$3,FALSE),0)","v":0},{"$f":"IFERROR('Transport og emballage'!$G31/'Transport og emballage'!$F31/1000*VLOOKUP($E38,EnvProfiler,AX$3,FALSE),0)","v":0},{"$f":"IFERROR('Transport og emballage'!$G31/'Transport og emballage'!$F31/1000*VLOOKUP($E38,EnvProfiler,AY$3,FALSE),0)","v":0},{"$f":"IFERROR('Transport og emballage'!$G31/'Transport og emballage'!$F31/1000*VLOOKUP($E38,EnvProfiler,AZ$3,FALSE),0)","v":0},{"$f":"IFERROR('Transport og emballage'!$G31/'Transport og emballage'!$F31/1000*VLOOKUP($E38,EnvProfiler,BA$3,FALSE),0)","v":0},{"$f":"IFERROR('Transport og emballage'!$G31/'Transport og emballage'!$F31/1000*VLOOKUP($E38,EnvProfiler,BB$3,FALSE),0)","v":0},{"$f":"IFERROR('Transport og emballage'!$G31/'Transport og emballage'!$F31/1000*VLOOKUP($E38,EnvProfiler,BC$3,FALSE),0)","v":0},null,null,null,{"$f":"IFERROR('Transport og emballage'!$K31/'Transport og emballage'!$J31/1000*VLOOKUP($H38,EnvProfiler,BG$3,FALSE),0)","v":0},{"$f":"IFERROR('Transport og emballage'!$K31/'Transport og emballage'!$J31/1000*VLOOKUP($H38,EnvProfiler,BH$3,FALSE),0)","v":0},{"$f":"IFERROR('Transport og emballage'!$K31/'Transport og emballage'!$J31/1000*VLOOKUP($H38,EnvProfiler,BI$3,FALSE),0)","v":0},{"$f":"IFERROR('Transport og emballage'!$K31/'Transport og emballage'!$J31/1000*VLOOKUP($H38,EnvProfiler,BJ$3,FALSE),0)","v":0},{"$f":"IFERROR('Transport og emballage'!$K31/'Transport og emballage'!$J31/1000*VLOOKUP($H38,EnvProfiler,BK$3,FALSE),0)","v":0},{"$f":"IFERROR('Transport og emballage'!$K31/'Transport og emballage'!$J31/1000*VLOOKUP($H38,EnvProfiler,BL$3,FALSE),0)","v":0},{"$f":"IFERROR('Transport og emballage'!$K31/'Transport og emballage'!$J31/1000*VLOOKUP($H38,EnvProfiler,BM$3,FALSE),0)","v":0},{"$f":"IFERROR('Transport og emballage'!$K31/'Transport og emballage'!$J31/1000*VLOOKUP($H38,EnvProfiler,BN$3,FALSE),0)","v":0},{"$f":"IFERROR('Transport og emballage'!$K31/'Transport og emballage'!$J31/1000*VLOOKUP($H38,EnvProfiler,BO$3,FALSE),0)","v":0},{"$f":"IFERROR('Transport og emballage'!$K31/'Transport og emballage'!$J31/1000*VLOOKUP($H38,EnvProfiler,BP$3,FALSE),0)","v":0},{"$f":"IFERROR('Transport og emballage'!$K31/'Transport og emballage'!$J31/1000*VLOOKUP($H38,EnvProfiler,BQ$3,FALSE),0)","v":0},{"$f":"IFERROR('Transport og emballage'!$K31/'Transport og emballage'!$J31/1000*VLOOKUP($H38,EnvProfiler,BR$3,FALSE),0)","v":0},{"$f":"IFERROR('Transport og emballage'!$K31/'Transport og emballage'!$J31/1000*VLOOKUP($H38,EnvProfiler,BS$3,FALSE),0)","v":0},{"$f":"IFERROR('Transport og emballage'!$K31/'Transport og emballage'!$J31/1000*VLOOKUP($H38,EnvProfiler,BT$3,FALSE),0)","v":0},{"$f":"IFERROR('Transport og emballage'!$K31/'Transport og emballage'!$J31/1000*VLOOKUP($H38,EnvProfiler,BU$3,FALSE),0)","v":0},{"$f":"IFERROR('Transport og emballage'!$K31/'Transport og emballage'!$J31/1000*VLOOKUP($H38,EnvProfiler,BV$3,FALSE),0)","v":0},{"$f":"IFERROR('Transport og emballage'!$K31/'Transport og emballage'!$J31/1000*VLOOKUP($H38,EnvProfiler,BW$3,FALSE),0)","v":0},{"$f":"IFERROR('Transport og emballage'!$K31/'Transport og emballage'!$J31/1000*VLOOKUP($H38,EnvProfiler,BX$3,FALSE),0)","v":0},{"$f":"IFERROR('Transport og emballage'!$K31/'Transport og emballage'!$J31/1000*VLOOKUP($H38,EnvProfiler,BY$3,FALSE),0)","v":0},{"$f":"IFERROR('Transport og emballage'!$K31/'Transport og emballage'!$J31/1000*VLOOKUP($H38,EnvProfiler,BZ$3,FALSE),0)","v":0},{"$f":"IFERROR('Transport og emballage'!$K31/'Transport og emballage'!$J31/1000*VLOOKUP($H38,EnvProfiler,CA$3,FALSE),0)","v":0},{"$f":"IFERROR('Transport og emballage'!$K31/'Transport og emballage'!$J31/1000*VLOOKUP($H38,EnvProfiler,CB$3,FALSE),0)","v":0},{"$f":"IFERROR('Transport og emballage'!$K31/'Transport og emballage'!$J31/1000*VLOOKUP($H38,EnvProfiler,CC$3,FALSE),0)","v":0},{"$f":"IFERROR('Transport og emballage'!$K31/'Transport og emballage'!$J31/1000*VLOOKUP($H38,EnvProfiler,CD$3,FALSE),0)","v":0},{"$f":"IFERROR('Transport og emballage'!$K31/'Transport og emballage'!$J31/1000*VLOOKUP($H38,EnvProfiler,CE$3,FALSE),0)","v":0},{"$f":"IFERROR('Transport og emballage'!$K31/'Transport og emballage'!$J31/1000*VLOOKUP($H38,EnvProfiler,CF$3,FALSE),0)","v":0},{"$f":"IFERROR('Transport og emballage'!$K31/'Transport og emballage'!$J31/1000*VLOOKUP($H38,EnvProfiler,CG$3,FALSE),0)","v":0},{"$f":"IFERROR('Transport og emballage'!$K31/'Transport og emballage'!$J31/1000*VLOOKUP($H38,EnvProfiler,CH$3,FALSE),0)","v":0},{"$f":"IFERROR('Transport og emballage'!$K31/'Transport og emballage'!$J31/1000*VLOOKUP($H38,EnvProfiler,CI$3,FALSE),0)","v":0}]
[null,null,null,{"$f":"IF(ISBLANK('Transport og emballage'!E32),\"\",'Transport og emballage'!E32)","v":{"$error":"#N/A"}},{"$error":"#N/A"},null,{"$f":"IF(ISBLANK('Transport og emballage'!I32),\"\",'Transport og emballage'!I32)","v":{"$error":"#N/A"}},{"$error":"#N/A"},null,null,null,null,null,null,null,null,null,null,null,null,null,null,null,null,null,null,{"$f":"IFERROR('Transport og emballage'!$G32/'Transport og emballage'!$F32/1000*VLOOKUP($E39,EnvProfiler,AA$3,FALSE),0)","v":0},{"$f":"IFERROR('Transport og emballage'!$G32/'Transport og emballage'!$F32/1000*VLOOKUP($E39,EnvProfiler,AB$3,FALSE),0)","v":0},{"$f":"IFERROR('Transport og emballage'!$G32/'Transport og emballage'!$F32/1000*VLOOKUP($E39,EnvProfiler,AC$3,FALSE),0)","v":0},{"$f":"IFERROR('Transport og emballage'!$G32/'Transport og emballage'!$F32/1000*VLOOKUP($E39,EnvProfiler,AD$3,FALSE),0)","v":0},{"$f":"IFERROR('Transport og emballage'!$G32/'Transport og emballage'!$F32/1000*VLOOKUP($E39,EnvProfiler,AE$3,FALSE),0)","v":0},{"$f":"IFERROR('Transport og emballage'!$G32/'Transport og emballage'!$F32/1000*VLOOKUP($E39,EnvProfiler,AF$3,FALSE),0)","v":0},{"$f":"IFERROR('Transport og emballage'!$G32/'Transport og emballage'!$F32/1000*VLOOKUP($E39,EnvProfiler,AG$3,FALSE),0)","v":0},{"$f":"IFERROR('Transport og emballage'!$G32/'Transport og emballage'!$F32/1000*VLOOKUP($E39,EnvProfiler,AH$3,FALSE),0)","v":0},{"$f":"IFERROR('Transport og emballage'!$G32/'Transport og emballage'!$F32/1000*VLOOKUP($E39,EnvProfiler,AI$3,FALSE),0)","v":0},{"$f":"IFERROR('Transport og emballage'!$G32/'Transport og emballage'!$F32/1000*VLOOKUP($E39,EnvProfiler,AJ$3,FALSE),0)","v":0},{"$f":"IFERROR('Transport og emballage'!$G32/'Transport og emballage'!$F32/1000*VLOOKUP($E39,EnvProfiler,AK$3,FALSE),0)","v":0},{"$f":"IFERROR('Transport og emballage'!$G32/'Transport og emballage'!$F32/1000*VLOOKUP($E39,EnvProfiler,AL$3,FALSE),0)","v":0},{"$f":"IFERROR('Transport og emballage'!$G32/'Transport og emballage'!$F32/1000*VLOOKUP($E39,EnvProfiler,AM$3,FALSE),0)","v":0},{"$f":"IFERROR('Transport og emballage'!$G32/'Transport og emballage'!$F32/1000*VLOOKUP($E39,EnvProfiler,AN$3,FALSE),0)","v":0},{"$f":"IFERROR('Transport og emballage'!$G32/'Transport og emballage'!$F32/1000*VLOOKUP($E39,EnvProfiler,AO$3,FALSE),0)","v":0},{"$f":"IFERROR('Transport og emballage'!$G32/'Transport og emballage'!$F32/1000*VLOOKUP($E39,EnvProfiler,AP$3,FALSE),0)","v":0},{"$f":"IFERROR('Transport og emballage'!$G32/'Transport og emballage'!$F32/1000*VLOOKUP($E39,EnvProfiler,AQ$3,FALSE),0)","v":0},{"$f":"IFERROR('Transport og emballage'!$G32/'Transport og emballage'!$F32/1000*VLOOKUP($E39,EnvProfiler,AR$3,FALSE),0)","v":0},{"$f":"IFERROR('Transport og emballage'!$G32/'Transport og emballage'!$F32/1000*VLOOKUP($E39,EnvProfiler,AS$3,FALSE),0)","v":0},{"$f":"IFERROR('Transport og emballage'!$G32/'Transport og emballage'!$F32/1000*VLOOKUP($E39,EnvProfiler,AT$3,FALSE),0)","v":0},{"$f":"IFERROR('Transport og emballage'!$G32/'Transport og emballage'!$F32/1000*VLOOKUP($E39,EnvProfiler,AU$3,FALSE),0)","v":0},{"$f":"IFERROR('Transport og emballage'!$G32/'Transport og emballage'!$F32/1000*VLOOKUP($E39,EnvProfiler,AV$3,FALSE),0)","v":0},{"$f":"IFERROR('Transport og emballage'!$G32/'Transport og emballage'!$F32/1000*VLOOKUP($E39,EnvProfiler,AW$3,FALSE),0)","v":0},{"$f":"IFERROR('Transport og emballage'!$G32/'Transport og emballage'!$F32/1000*VLOOKUP($E39,EnvProfiler,AX$3,FALSE),0)","v":0},{"$f":"IFERROR('Transport og emballage'!$G32/'Transport og emballage'!$F32/1000*VLOOKUP($E39,EnvProfiler,AY$3,FALSE),0)","v":0},{"$f":"IFERROR('Transport og emballage'!$G32/'Transport og emballage'!$F32/1000*VLOOKUP($E39,EnvProfiler,AZ$3,FALSE),0)","v":0},{"$f":"IFERROR('Transport og emballage'!$G32/'Transport og emballage'!$F32/1000*VLOOKUP($E39,EnvProfiler,BA$3,FALSE),0)","v":0},{"$f":"IFERROR('Transport og emballage'!$G32/'Transport og emballage'!$F32/1000*VLOOKUP($E39,EnvProfiler,BB$3,FALSE),0)","v":0},{"$f":"IFERROR('Transport og emballage'!$G32/'Transport og emballage'!$F32/1000*VLOOKUP($E39,EnvProfiler,BC$3,FALSE),0)","v":0},null,null,null,{"$f":"IFERROR('Transport og emballage'!$K32/'Transport og emballage'!$J32/1000*VLOOKUP($H39,EnvProfiler,BG$3,FALSE),0)","v":0},{"$f":"IFERROR('Transport og emballage'!$K32/'Transport og emballage'!$J32/1000*VLOOKUP($H39,EnvProfiler,BH$3,FALSE),0)","v":0},{"$f":"IFERROR('Transport og emballage'!$K32/'Transport og emballage'!$J32/1000*VLOOKUP($H39,EnvProfiler,BI$3,FALSE),0)","v":0},{"$f":"IFERROR('Transport og emballage'!$K32/'Transport og emballage'!$J32/1000*VLOOKUP($H39,EnvProfiler,BJ$3,FALSE),0)","v":0},{"$f":"IFERROR('Transport og emballage'!$K32/'Transport og emballage'!$J32/1000*VLOOKUP($H39,EnvProfiler,BK$3,FALSE),0)","v":0},{"$f":"IFERROR('Transport og emballage'!$K32/'Transport og emballage'!$J32/1000*VLOOKUP($H39,EnvProfiler,BL$3,FALSE),0)","v":0},{"$f":"IFERROR('Transport og emballage'!$K32/'Transport og emballage'!$J32/1000*VLOOKUP($H39,EnvProfiler,BM$3,FALSE),0)","v":0},{"$f":"IFERROR('Transport og emballage'!$K32/'Transport og emballage'!$J32/1000*VLOOKUP($H39,EnvProfiler,BN$3,FALSE),0)","v":0},{"$f":"IFERROR('Transport og emballage'!$K32/'Transport og emballage'!$J32/1000*VLOOKUP($H39,EnvProfiler,BO$3,FALSE),0)","v":0},{"$f":"IFERROR('Transport og emballage'!$K32/'Transport og emballage'!$J32/1000*VLOOKUP($H39,EnvProfiler,BP$3,FALSE),0)","v":0},{"$f":"IFERROR('Transport og emballage'!$K32/'Transport og emballage'!$J32/1000*VLOOKUP($H39,EnvProfiler,BQ$3,FALSE),0)","v":0},{"$f":"IFERROR('Transport og emballage'!$K32/'Transport og emballage'!$J32/1000*VLOOKUP($H39,EnvProfiler,BR$3,FALSE),0)","v":0},{"$f":"IFERROR('Transport og emballage'!$K32/'Transport og emballage'!$J32/1000*VLOOKUP($H39,EnvProfiler,BS$3,FALSE),0)","v":0},{"$f":"IFERROR('Transport og emballage'!$K32/'Transport og emballage'!$J32/1000*VLOOKUP($H39,EnvProfiler,BT$3,FALSE),0)","v":0},{"$f":"IFERROR('Transport og emballage'!$K32/'Transport og emballage'!$J32/1000*VLOOKUP($H39,EnvProfiler,BU$3,FALSE),0)","v":0},{"$f":"IFERROR('Transport og emballage'!$K32/'Transport og emballage'!$J32/1000*VLOOKUP($H39,EnvProfiler,BV$3,FALSE),0)","v":0},{"$f":"IFERROR('Transport og emballage'!$K32/'Transport og emballage'!$J32/1000*VLOOKUP($H39,EnvProfiler,BW$3,FALSE),0)","v":0},{"$f":"IFERROR('Transport og emballage'!$K32/'Transport og emballage'!$J32/1000*VLOOKUP($H39,EnvProfiler,BX$3,FALSE),0)","v":0},{"$f":"IFERROR('Transport og emballage'!$K32/'Transport og emballage'!$J32/1000*VLOOKUP($H39,EnvProfiler,BY$3,FALSE),0)","v":0},{"$f":"IFERROR('Transport og emballage'!$K32/'Transport og emballage'!$J32/1000*VLOOKUP($H39,EnvProfiler,BZ$3,FALSE),0)","v":0},{"$f":"IFERROR('Transport og emballage'!$K32/'Transport og emballage'!$J32/1000*VLOOKUP($H39,EnvProfiler,CA$3,FALSE),0)","v":0},{"$f":"IFERROR('Transport og emballage'!$K32/'Transport og emballage'!$J32/1000*VLOOKUP($H39,EnvProfiler,CB$3,FALSE),0)","v":0},{"$f":"IFERROR('Transport og emballage'!$K32/'Transport og emballage'!$J32/1000*VLOOKUP($H39,EnvProfiler,CC$3,FALSE),0)","v":0},{"$f":"IFERROR('Transport og emballage'!$K32/'Transport og emballage'!$J32/1000*VLOOKUP($H39,EnvProfiler,CD$3,FALSE),0)","v":0},{"$f":"IFERROR('Transport og emballage'!$K32/'Transport og emballage'!$J32/1000*VLOOKUP($H39,EnvProfiler,CE$3,FALSE),0)","v":0},{"$f":"IFERROR('Transport og emballage'!$K32/'Transport og emballage'!$J32/1000*VLOOKUP($H39,EnvProfiler,CF$3,FALSE),0)","v":0},{"$f":"IFERROR('Transport og emballage'!$K32/'Transport og emballage'!$J32/1000*VLOOKUP($H39,EnvProfiler,CG$3,FALSE),0)","v":0},{"$f":"IFERROR('Transport og emballage'!$K32/'Transport og emballage'!$J32/1000*VLOOKUP($H39,EnvProfiler,CH$3,FALSE),0)","v":0},{"$f":"IFERROR('Transport og emballage'!$K32/'Transport og emballage'!$J32/1000*VLOOKUP($H39,EnvProfiler,CI$3,FALSE),0)","v":0}]
[null,null,null,{"$f":"IF(ISBLANK('Transport og emballage'!E33),\"\",'Transport og emballage'!E33)","v":{"$error":"#N/A"}},{"$error":"#N/A"},null,{"$f":"IF(ISBLANK('Transport og emballage'!I33),\"\",'Transport og emballage'!I33)","v":{"$error":"#N/A"}},{"$error":"#N/A"},null,null,null,null,null,null,null,null,null,null,null,null,null,null,null,null,null,null,{"$f":"IFERROR('Transport og emballage'!$G33/'Transport og emballage'!$F33/1000*VLOOKUP($E40,EnvProfiler,AA$3,FALSE),0)","v":0},{"$f":"IFERROR('Transport og emballage'!$G33/'Transport og emballage'!$F33/1000*VLOOKUP($E40,EnvProfiler,AB$3,FALSE),0)","v":0},{"$f":"IFERROR('Transport og emballage'!$G33/'Transport og emballage'!$F33/1000*VLOOKUP($E40,EnvProfiler,AC$3,FALSE),0)","v":0},{"$f":"IFERROR('Transport og emballage'!$G33/'Transport og emballage'!$F33/1000*VLOOKUP($E40,EnvProfiler,AD$3,FALSE),0)","v":0},{"$f":"IFERROR('Transport og emballage'!$G33/'Transport og emballage'!$F33/1000*VLOOKUP($E40,EnvProfiler,AE$3,FALSE),0)","v":0},{"$f":"IFERROR('Transport og emballage'!$G33/'Transport og emballage'!$F33/1000*VLOOKUP($E40,EnvProfiler,AF$3,FALSE),0)","v":0},{"$f":"IFERROR('Transport og emballage'!$G33/'Transport og emballage'!$F33/1000*VLOOKUP($E40,EnvProfiler,AG$3,FALSE),0)","v":0},{"$f":"IFERROR('Transport og emballage'!$G33/'Transport og emballage'!$F33/1000*VLOOKUP($E40,EnvProfiler,AH$3,FALSE),0)","v":0},{"$f":"IFERROR('Transport og emballage'!$G33/'Transport og emballage'!$F33/1000*VLOOKUP($E40,EnvProfiler,AI$3,FALSE),0)","v":0},{"$f":"IFERROR('Transport og emballage'!$G33/'Transport og emballage'!$F33/1000*VLOOKUP($E40,EnvProfiler,AJ$3,FALSE),0)","v":0},{"$f":"IFERROR('Transport og emballage'!$G33/'Transport og emballage'!$F33/1000*VLOOKUP($E40,EnvProfiler,AK$3,FALSE),0)","v":0},{"$f":"IFERROR('Transport og emballage'!$G33/'Transport og emballage'!$F33/1000*VLOOKUP($E40,EnvProfiler,AL$3,FALSE),0)","v":0},{"$f":"IFERROR('Transport og emballage'!$G33/'Transport og emballage'!$F33/1000*VLOOKUP($E40,EnvProfiler,AM$3,FALSE),0)","v":0},{"$f":"IFERROR('Transport og emballage'!$G33/'Transport og emballage'!$F33/1000*VLOOKUP($E40,EnvProfiler,AN$3,FALSE),0)","v":0},{"$f":"IFERROR('Transport og emballage'!$G33/'Transport og emballage'!$F33/1000*VLOOKUP($E40,EnvProfiler,AO$3,FALSE),0)","v":0},{"$f":"IFERROR('Transport og emballage'!$G33/'Transport og emballage'!$F33/1000*VLOOKUP($E40,EnvProfiler,AP$3,FALSE),0)","v":0},{"$f":"IFERROR('Transport og emballage'!$G33/'Transport og emballage'!$F33/1000*VLOOKUP($E40,EnvProfiler,AQ$3,FALSE),0)","v":0},{"$f":"IFERROR('Transport og emballage'!$G33/'Transport og emballage'!$F33/1000*VLOOKUP($E40,EnvProfiler,AR$3,FALSE),0)","v":0},{"$f":"IFERROR('Transport og emballage'!$G33/'Transport og emballage'!$F33/1000*VLOOKUP($E40,EnvProfiler,AS$3,FALSE),0)","v":0},{"$f":"IFERROR('Transport og emballage'!$G33/'Transport og emballage'!$F33/1000*VLOOKUP($E40,EnvProfiler,AT$3,FALSE),0)","v":0},{"$f":"IFERROR('Transport og emballage'!$G33/'Transport og emballage'!$F33/1000*VLOOKUP($E40,EnvProfiler,AU$3,FALSE),0)","v":0},{"$f":"IFERROR('Transport og emballage'!$G33/'Transport og emballage'!$F33/1000*VLOOKUP($E40,EnvProfiler,AV$3,FALSE),0)","v":0},{"$f":"IFERROR('Transport og emballage'!$G33/'Transport og emballage'!$F33/1000*VLOOKUP($E40,EnvProfiler,AW$3,FALSE),0)","v":0},{"$f":"IFERROR('Transport og emballage'!$G33/'Transport og emballage'!$F33/1000*VLOOKUP($E40,EnvProfiler,AX$3,FALSE),0)","v":0},{"$f":"IFERROR('Transport og emballage'!$G33/'Transport og emballage'!$F33/1000*VLOOKUP($E40,EnvProfiler,AY$3,FALSE),0)","v":0},{"$f":"IFERROR('Transport og emballage'!$G33/'Transport og emballage'!$F33/1000*VLOOKUP($E40,EnvProfiler,AZ$3,FALSE),0)","v":0},{"$f":"IFERROR('Transport og emballage'!$G33/'Transport og emballage'!$F33/1000*VLOOKUP($E40,EnvProfiler,BA$3,FALSE),0)","v":0},{"$f":"IFERROR('Transport og emballage'!$G33/'Transport og emballage'!$F33/1000*VLOOKUP($E40,EnvProfiler,BB$3,FALSE),0)","v":0},{"$f":"IFERROR('Transport og emballage'!$G33/'Transport og emballage'!$F33/1000*VLOOKUP($E40,EnvProfiler,BC$3,FALSE),0)","v":0},null,null,null,{"$f":"IFERROR('Transport og emballage'!$K33/'Transport og emballage'!$J33/1000*VLOOKUP($H40,EnvProfiler,BG$3,FALSE),0)","v":0},{"$f":"IFERROR('Transport og emballage'!$K33/'Transport og emballage'!$J33/1000*VLOOKUP($H40,EnvProfiler,BH$3,FALSE),0)","v":0},{"$f":"IFERROR('Transport og emballage'!$K33/'Transport og emballage'!$J33/1000*VLOOKUP($H40,EnvProfiler,BI$3,FALSE),0)","v":0},{"$f":"IFERROR('Transport og emballage'!$K33/'Transport og emballage'!$J33/1000*VLOOKUP($H40,EnvProfiler,BJ$3,FALSE),0)","v":0},{"$f":"IFERROR('Transport og emballage'!$K33/'Transport og emballage'!$J33/1000*VLOOKUP($H40,EnvProfiler,BK$3,FALSE),0)","v":0},{"$f":"IFERROR('Transport og emballage'!$K33/'Transport og emballage'!$J33/1000*VLOOKUP($H40,EnvProfiler,BL$3,FALSE),0)","v":0},{"$f":"IFERROR('Transport og emballage'!$K33/'Transport og emballage'!$J33/1000*VLOOKUP($H40,EnvProfiler,BM$3,FALSE),0)","v":0},{"$f":"IFERROR('Transport og emballage'!$K33/'Transport og emballage'!$J33/1000*VLOOKUP($H40,EnvProfiler,BN$3,FALSE),0)","v":0},{"$f":"IFERROR('Transport og emballage'!$K33/'Transport og emballage'!$J33/1000*VLOOKUP($H40,EnvProfiler,BO$3,FALSE),0)","v":0},{"$f":"IFERROR('Transport og emballage'!$K33/'Transport og emballage'!$J33/1000*VLOOKUP($H40,EnvProfiler,BP$3,FALSE),0)","v":0},{"$f":"IFERROR('Transport og emballage'!$K33/'Transport og emballage'!$J33/1000*VLOOKUP($H40,EnvProfiler,BQ$3,FALSE),0)","v":0},{"$f":"IFERROR('Transport og emballage'!$K33/'Transport og emballage'!$J33/1000*VLOOKUP($H40,EnvProfiler,BR$3,FALSE),0)","v":0},{"$f":"IFERROR('Transport og emballage'!$K33/'Transport og emballage'!$J33/1000*VLOOKUP($H40,EnvProfiler,BS$3,FALSE),0)","v":0},{"$f":"IFERROR('Transport og emballage'!$K33/'Transport og emballage'!$J33/1000*VLOOKUP($H40,EnvProfiler,BT$3,FALSE),0)","v":0},{"$f":"IFERROR('Transport og emballage'!$K33/'Transport og emballage'!$J33/1000*VLOOKUP($H40,EnvProfiler,BU$3,FALSE),0)","v":0},{"$f":"IFERROR('Transport og emballage'!$K33/'Transport og emballage'!$J33/1000*VLOOKUP($H40,EnvProfiler,BV$3,FALSE),0)","v":0},{"$f":"IFERROR('Transport og emballage'!$K33/'Transport og emballage'!$J33/1000*VLOOKUP($H40,EnvProfiler,BW$3,FALSE),0)","v":0},{"$f":"IFERROR('Transport og emballage'!$K33/'Transport og emballage'!$J33/1000*VLOOKUP($H40,EnvProfiler,BX$3,FALSE),0)","v":0},{"$f":"IFERROR('Transport og emballage'!$K33/'Transport og emballage'!$J33/1000*VLOOKUP($H40,EnvProfiler,BY$3,FALSE),0)","v":0},{"$f":"IFERROR('Transport og emballage'!$K33/'Transport og emballage'!$J33/1000*VLOOKUP($H40,EnvProfiler,BZ$3,FALSE),0)","v":0},{"$f":"IFERROR('Transport og emballage'!$K33/'Transport og emballage'!$J33/1000*VLOOKUP($H40,EnvProfiler,CA$3,FALSE),0)","v":0},{"$f":"IFERROR('Transport og emballage'!$K33/'Transport og emballage'!$J33/1000*VLOOKUP($H40,EnvProfiler,CB$3,FALSE),0)","v":0},{"$f":"IFERROR('Transport og emballage'!$K33/'Transport og emballage'!$J33/1000*VLOOKUP($H40,EnvProfiler,CC$3,FALSE),0)","v":0},{"$f":"IFERROR('Transport og emballage'!$K33/'Transport og emballage'!$J33/1000*VLOOKUP($H40,EnvProfiler,CD$3,FALSE),0)","v":0},{"$f":"IFERROR('Transport og emballage'!$K33/'Transport og emballage'!$J33/1000*VLOOKUP($H40,EnvProfiler,CE$3,FALSE),0)","v":0},{"$f":"IFERROR('Transport og emballage'!$K33/'Transport og emballage'!$J33/1000*VLOOKUP($H40,EnvProfiler,CF$3,FALSE),0)","v":0},{"$f":"IFERROR('Transport og emballage'!$K33/'Transport og emballage'!$J33/1000*VLOOKUP($H40,EnvProfiler,CG$3,FALSE),0)","v":0},{"$f":"IFERROR('Transport og emballage'!$K33/'Transport og emballage'!$J33/1000*VLOOKUP($H40,EnvProfiler,CH$3,FALSE),0)","v":0},{"$f":"IFERROR('Transport og emballage'!$K33/'Transport og emballage'!$J33/1000*VLOOKUP($H40,EnvProfiler,CI$3,FALSE),0)","v":0}]
[null,null,null,{"$f":"IF(ISBLANK('Transport og emballage'!E34),\"\",'Transport og emballage'!E34)","v":{"$error":"#N/A"}},{"$error":"#N/A"},null,{"$f":"IF(ISBLANK('Transport og emballage'!I34),\"\",'Transport og emballage'!I34)","v":{"$error":"#N/A"}},{"$error":"#N/A"},null,null,null,null,null,null,null,null,null,null,null,null,null,null,null,null,null,null,{"$f":"IFERROR('Transport og emballage'!$G34/'Transport og emballage'!$F34/1000*VLOOKUP($E41,EnvProfiler,AA$3,FALSE),0)","v":0},{"$f":"IFERROR('Transport og emballage'!$G34/'Transport og emballage'!$F34/1000*VLOOKUP($E41,EnvProfiler,AB$3,FALSE),0)","v":0},{"$f":"IFERROR('Transport og emballage'!$G34/'Transport og emballage'!$F34/1000*VLOOKUP($E41,EnvProfiler,AC$3,FALSE),0)","v":0},{"$f":"IFERROR('Transport og emballage'!$G34/'Transport og emballage'!$F34/1000*VLOOKUP($E41,EnvProfiler,AD$3,FALSE),0)","v":0},{"$f":"IFERROR('Transport og emballage'!$G34/'Transport og emballage'!$F34/1000*VLOOKUP($E41,EnvProfiler,AE$3,FALSE),0)","v":0},{"$f":"IFERROR('Transport og emballage'!$G34/'Transport og emballage'!$F34/1000*VLOOKUP($E41,EnvProfiler,AF$3,FALSE),0)","v":0},{"$f":"IFERROR('Transport og emballage'!$G34/'Transport og emballage'!$F34/1000*VLOOKUP($E41,EnvProfiler,AG$3,FALSE),0)","v":0},{"$f":"IFERROR('Transport og emballage'!$G34/'Transport og emballage'!$F34/1000*VLOOKUP($E41,EnvProfiler,AH$3,FALSE),0)","v":0},{"$f":"IFERROR('Transport og emballage'!$G34/'Transport og emballage'!$F34/1000*VLOOKUP($E41,EnvProfiler,AI$3,FALSE),0)","v":0},{"$f":"IFERROR('Transport og emballage'!$G34/'Transport og emballage'!$F34/1000*VLOOKUP($E41,EnvProfiler,AJ$3,FALSE),0)","v":0},{"$f":"IFERROR('Transport og emballage'!$G34/'Transport og emballage'!$F34/1000*VLOOKUP($E41,EnvProfiler,AK$3,FALSE),0)","v":0},{"$f":"IFERROR('Transport og emballage'!$G34/'Transport og emballage'!$F34/1000*VLOOKUP($E41,EnvProfiler,AL$3,FALSE),0)","v":0},{"$f":"IFERROR('Transport og emballage'!$G34/'Transport og emballage'!$F34/1000*VLOOKUP($E41,EnvProfiler,AM$3,FALSE),0)","v":0},{"$f":"IFERROR('Transport og emballage'!$G34/'Transport og emballage'!$F34/1000*VLOOKUP($E41,EnvProfiler,AN$3,FALSE),0)","v":0},{"$f":"IFERROR('Transport og emballage'!$G34/'Transport og emballage'!$F34/1000*VLOOKUP($E41,EnvProfiler,AO$3,FALSE),0)","v":0},{"$f":"IFERROR('Transport og emballage'!$G34/'Transport og emballage'!$F34/1000*VLOOKUP($E41,EnvProfiler,AP$3,FALSE),0)","v":0},{"$f":"IFERROR('Transport og emballage'!$G34/'Transport og emballage'!$F34/1000*VLOOKUP($E41,EnvProfiler,AQ$3,FALSE),0)","v":0},{"$f":"IFERROR('Transport og emballage'!$G34/'Transport og emballage'!$F34/1000*VLOOKUP($E41,EnvProfiler,AR$3,FALSE),0)","v":0},{"$f":"IFERROR('Transport og emballage'!$G34/'Transport og emballage'!$F34/1000*VLOOKUP($E41,EnvProfiler,AS$3,FALSE),0)","v":0},{"$f":"IFERROR('Transport og emballage'!$G34/'Transport og emballage'!$F34/1000*VLOOKUP($E41,EnvProfiler,AT$3,FALSE),0)","v":0},{"$f":"IFERROR('Transport og emballage'!$G34/'Transport og emballage'!$F34/1000*VLOOKUP($E41,EnvProfiler,AU$3,FALSE),0)","v":0},{"$f":"IFERROR('Transport og emballage'!$G34/'Transport og emballage'!$F34/1000*VLOOKUP($E41,EnvProfiler,AV$3,FALSE),0)","v":0},{"$f":"IFERROR('Transport og emballage'!$G34/'Transport og emballage'!$F34/1000*VLOOKUP($E41,EnvProfiler,AW$3,FALSE),0)","v":0},{"$f":"IFERROR('Transport og emballage'!$G34/'Transport og emballage'!$F34/1000*VLOOKUP($E41,EnvProfiler,AX$3,FALSE),0)","v":0},{"$f":"IFERROR('Transport og emballage'!$G34/'Transport og emballage'!$F34/1000*VLOOKUP($E41,EnvProfiler,AY$3,FALSE),0)","v":0},{"$f":"IFERROR('Transport og emballage'!$G34/'Transport og emballage'!$F34/1000*VLOOKUP($E41,EnvProfiler,AZ$3,FALSE),0)","v":0},{"$f":"IFERROR('Transport og emballage'!$G34/'Transport og emballage'!$F34/1000*VLOOKUP($E41,EnvProfiler,BA$3,FALSE),0)","v":0},{"$f":"IFERROR('Transport og emballage'!$G34/'Transport og emballage'!$F34/1000*VLOOKUP($E41,EnvProfiler,BB$3,FALSE),0)","v":0},{"$f":"IFERROR('Transport og emballage'!$G34/'Transport og emballage'!$F34/1000*VLOOKUP($E41,EnvProfiler,BC$3,FALSE),0)","v":0},null,null,null,{"$f":"IFERROR('Transport og emballage'!$K34/'Transport og emballage'!$J34/1000*VLOOKUP($H41,EnvProfiler,BG$3,FALSE),0)","v":0},{"$f":"IFERROR('Transport og emballage'!$K34/'Transport og emballage'!$J34/1000*VLOOKUP($H41,EnvProfiler,BH$3,FALSE),0)","v":0},{"$f":"IFERROR('Transport og emballage'!$K34/'Transport og emballage'!$J34/1000*VLOOKUP($H41,EnvProfiler,BI$3,FALSE),0)","v":0},{"$f":"IFERROR('Transport og emballage'!$K34/'Transport og emballage'!$J34/1000*VLOOKUP($H41,EnvProfiler,BJ$3,FALSE),0)","v":0},{"$f":"IFERROR('Transport og emballage'!$K34/'Transport og emballage'!$J34/1000*VLOOKUP($H41,EnvProfiler,BK$3,FALSE),0)","v":0},{"$f":"IFERROR('Transport og emballage'!$K34/'Transport og emballage'!$J34/1000*VLOOKUP($H41,EnvProfiler,BL$3,FALSE),0)","v":0},{"$f":"IFERROR('Transport og emballage'!$K34/'Transport og emballage'!$J34/1000*VLOOKUP($H41,EnvProfiler,BM$3,FALSE),0)","v":0},{"$f":"IFERROR('Transport og emballage'!$K34/'Transport og emballage'!$J34/1000*VLOOKUP($H41,EnvProfiler,BN$3,FALSE),0)","v":0},{"$f":"IFERROR('Transport og emballage'!$K34/'Transport og emballage'!$J34/1000*VLOOKUP($H41,EnvProfiler,BO$3,FALSE),0)","v":0},{"$f":"IFERROR('Transport og emballage'!$K34/'Transport og emballage'!$J34/1000*VLOOKUP($H41,EnvProfiler,BP$3,FALSE),0)","v":0},{"$f":"IFERROR('Transport og emballage'!$K34/'Transport og emballage'!$J34/1000*VLOOKUP($H41,EnvProfiler,BQ$3,FALSE),0)","v":0},{"$f":"IFERROR('Transport og emballage'!$K34/'Transport og emballage'!$J34/1000*VLOOKUP($H41,EnvProfiler,BR$3,FALSE),0)","v":0},{"$f":"IFERROR('Transport og emballage'!$K34/'Transport og emballage'!$J34/1000*VLOOKUP($H41,EnvProfiler,BS$3,FALSE),0)","v":0},{"$f":"IFERROR('Transport og emballage'!$K34/'Transport og emballage'!$J34/1000*VLOOKUP($H41,EnvProfiler,BT$3,FALSE),0)","v":0},{"$f":"IFERROR('Transport og emballage'!$K34/'Transport og emballage'!$J34/1000*VLOOKUP($H41,EnvProfiler,BU$3,FALSE),0)","v":0},{"$f":"IFERROR('Transport og emballage'!$K34/'Transport og emballage'!$J34/1000*VLOOKUP($H41,EnvProfiler,BV$3,FALSE),0)","v":0},{"$f":"IFERROR('Transport og emballage'!$K34/'Transport og emballage'!$J34/1000*VLOOKUP($H41,EnvProfiler,BW$3,FALSE),0)","v":0},{"$f":"IFERROR('Transport og emballage'!$K34/'Transport og emballage'!$J34/1000*VLOOKUP($H41,EnvProfiler,BX$3,FALSE),0)","v":0},{"$f":"IFERROR('Transport og emballage'!$K34/'Transport og emballage'!$J34/1000*VLOOKUP($H41,EnvProfiler,BY$3,FALSE),0)","v":0},{"$f":"IFERROR('Transport og emballage'!$K34/'Transport og emballage'!$J34/1000*VLOOKUP($H41,EnvProfiler,BZ$3,FALSE),0)","v":0},{"$f":"IFERROR('Transport og emballage'!$K34/'Transport og emballage'!$J34/1000*VLOOKUP($H41,EnvProfiler,CA$3,FALSE),0)","v":0},{"$f":"IFERROR('Transport og emballage'!$K34/'Transport og emballage'!$J34/1000*VLOOKUP($H41,EnvProfiler,CB$3,FALSE),0)","v":0},{"$f":"IFERROR('Transport og emballage'!$K34/'Transport og emballage'!$J34/1000*VLOOKUP($H41,EnvProfiler,CC$3,FALSE),0)","v":0},{"$f":"IFERROR('Transport og emballage'!$K34/'Transport og emballage'!$J34/1000*VLOOKUP($H41,EnvProfiler,CD$3,FALSE),0)","v":0},{"$f":"IFERROR('Transport og emballage'!$K34/'Transport og emballage'!$J34/1000*VLOOKUP($H41,EnvProfiler,CE$3,FALSE),0)","v":0},{"$f":"IFERROR('Transport og emballage'!$K34/'Transport og emballage'!$J34/1000*VLOOKUP($H41,EnvProfiler,CF$3,FALSE),0)","v":0},{"$f":"IFERROR('Transport og emballage'!$K34/'Transport og emballage'!$J34/1000*VLOOKUP($H41,EnvProfiler,CG$3,FALSE),0)","v":0},{"$f":"IFERROR('Transport og emballage'!$K34/'Transport og emballage'!$J34/1000*VLOOKUP($H41,EnvProfiler,CH$3,FALSE),0)","v":0},{"$f":"IFERROR('Transport og emballage'!$K34/'Transport og emballage'!$J34/1000*VLOOKUP($H41,EnvProfiler,CI$3,FALSE),0)","v":0}]
[]
[null,null,"Emballage - før første brug"]
[null,null,null,"Emballagedel","End of Life håndtering",null,"Emballagedel","End of Life håndtering"]
[null,null,null,{"$f":"IF(ISBLANK('Transport og emballage'!E58),\"\",'Transport og emballage'!E58)","v":{"$error":"#N/A"}},{"$error":"#N/A"},null,{"$f":"IF(ISBLANK('Transport og emballage'!I58),\"\",'Transport og emballage'!I58)","v":{"$error":"#N/A"}},{"$error":"#N/A"},null,null,null,null,null,null,null,null,null,null,null,null,null,null,null,null,null,null,{"$f":"IFERROR('Transport og emballage'!$G58/'Transport og emballage'!$F58/1000*VLOOKUP($E45,EnvProfiler,AA$3,FALSE),0)","v":0},{"$f":"IFERROR('Transport og emballage'!$G58/'Transport og emballage'!$F58/1000*VLOOKUP($E45,EnvProfiler,AB$3,FALSE),0)","v":0},{"$f":"IFERROR('Transport og emballage'!$G58/'Transport og emballage'!$F58/1000*VLOOKUP($E45,EnvProfiler,AC$3,FALSE),0)","v":0},{"$f":"IFERROR('Transport og emballage'!$G58/'Transport og emballage'!$F58/1000*VLOOKUP($E45,EnvProfiler,AD$3,FALSE),0)","v":0},{"$f":"IFERROR('Transport og emballage'!$G58/'Transport og emballage'!$F58/1000*VLOOKUP($E45,EnvProfiler,AE$3,FALSE),0)","v":0},{"$f":"IFERROR('Transport og emballage'!$G58/'Transport og emballage'!$F58/1000*VLOOKUP($E45,EnvProfiler,AF$3,FALSE),0)","v":0},{"$f":"IFERROR('Transport og emballage'!$G58/'Transport og emballage'!$F58/1000*VLOOKUP($E45,EnvProfiler,AG$3,FALSE),0)","v":0},{"$f":"IFERROR('Transport og emballage'!$G58/'Transport og emballage'!$F58/1000*VLOOKUP($E45,EnvProfiler,AH$3,FALSE),0)","v":0},{"$f":"IFERROR('Transport og emballage'!$G58/'Transport og emballage'!$F58/1000*VLOOKUP($E45,EnvProfiler,AI$3,FALSE),0)","v":0},{"$f":"IFERROR('Transport og emballage'!$G58/'Transport og emballage'!$F58/1000*VLOOKUP($E45,EnvProfiler,AJ$3,FALSE),0)","v":0},{"$f":"IFERROR('Transport og emballage'!$G58/'Transport og emballage'!$F58/1000*VLOOKUP($E45,EnvProfiler,AK$3,FALSE),0)","v":0},{"$f":"IFERROR('Transport og emballage'!$G58/'Transport og emballage'!$F58/1000*VLOOKUP($E45,EnvProfiler,AL$3,FALSE),0)","v":0},{"$f":"IFERROR('Transport og emballage'!$G58/'Transport og emballage'!$F58/1000*VLOOKUP($E45,EnvProfiler,AM$3,FALSE),0)","v":0},{"$f":"IFERROR('Transport og emballage'!$G58/'Transport og emballage'!$F58/1000*VLOOKUP($E45,EnvProfiler,AN$3,FALSE),0)","v":0},{"$f":"IFERROR('Transport og emballage'!$G58/'Transport og emballage'!$F58/1000*VLOOKUP($E45,EnvProfiler,AO$3,FALSE),0)","v":0},{"$f":"IFERROR('Transport og emballage'!$G58/'Transport og emballage'!$F58/1000*VLOOKUP($E45,EnvProfiler,AP$3,FALSE),0)","v":0},{"$f":"IFERROR('Transport og emballage'!$G58/'Transport og emballage'!$F58/1000*VLOOKUP($E45,EnvProfiler,AQ$3,FALSE),0)","v":0},{"$f":"IFERROR('Transport og emballage'!$G58/'Transport og emballage'!$F58/1000*VLOOKUP($E45,EnvProfiler,AR$3,FALSE),0)","v":0},{"$f":"IFERROR('Transport og emballage'!$G58/'Transport og emballage'!$F58/1000*VLOOKUP($E45,EnvProfiler,AS$3,FALSE),0)","v":0},{"$f":"IFERROR('Transport og emballage'!$G58/'Transport og emballage'!$F58/1000*VLOOKUP($E45,EnvProfiler,AT$3,FALSE),0)","v":0},{"$f":"IFERROR('Transport og emballage'!$G58/'Transport og emballage'!$F58/1000*VLOOKUP($E45,EnvProfiler,AU$3,FALSE),0)","v":0},{"$f":"IFERROR('Transport og emballage'!$G58/'Transport og emballage'!$F58/1000*VLOOKUP($E45,EnvProfiler,AV$3,FALSE),0)","v":0},{"$f":"IFERROR('Transport og emballage'!$G58/'Transport og emballage'!$F58/1000*VLOOKUP($E45,EnvProfiler,AW$3,FALSE),0)","v":0},{"$f":"IFERROR('Transport og emballage'!$G58/'Transport og emballage'!$F58/1000*VLOOKUP($E45,EnvProfiler,AX$3,FALSE),0)","v":0},{"$f":"IFERROR('Transport og emballage'!$G58/'Transport og emballage'!$F58/1000*VLOOKUP($E45,EnvProfiler,AY$3,FALSE),0)","v":0},{"$f":"IFERROR('Transport og emballage'!$G58/'Transport og emballage'!$F58/1000*VLOOKUP($E45,EnvProfiler,AZ$3,FALSE),0)","v":0},{"$f":"IFERROR('Transport og emballage'!$G58/'Transport og emballage'!$F58/1000*VLOOKUP($E45,EnvProfiler,BA$3,FALSE),0)","v":0},{"$f":"IFERROR('Transport og emballage'!$G58/'Transport og emballage'!$F58/1000*VLOOKUP($E45,EnvProfiler,BB$3,FALSE),0)","v":0},{"$f":"IFERROR('Transport og emballage'!$G58/'Transport og emballage'!$F58/1000*VLOOKUP($E45,EnvProfiler,BC$3,FALSE),0)","v":0},null,null,null,{"$f":"IFERROR('Transport og emballage'!$K58/'Transport og emballage'!$J58/1000*VLOOKUP($H45,EnvProfiler,BG$3,FALSE),0)","v":0},{"$f":"IFERROR('Transport og emballage'!$K58/'Transport og emballage'!$J58/1000*VLOOKUP($H45,EnvProfiler,BH$3,FALSE),0)","v":0},{"$f":"IFERROR('Transport og emballage'!$K58/'Transport og emballage'!$J58/1000*VLOOKUP($H45,EnvProfiler,BI$3,FALSE),0)","v":0},{"$f":"IFERROR('Transport og emballage'!$K58/'Transport og emballage'!$J58/1000*VLOOKUP($H45,EnvProfiler,BJ$3,FALSE),0)","v":0},{"$f":"IFERROR('Transport og emballage'!$K58/'Transport og emballage'!$J58/1000*VLOOKUP($H45,EnvProfiler,BK$3,FALSE),0)","v":0},{"$f":"IFERROR('Transport og emballage'!$K58/'Transport og emballage'!$J58/1000*VLOOKUP($H45,EnvProfiler,BL$3,FALSE),0)","v":0},{"$f":"IFERROR('Transport og emballage'!$K58/'Transport og emballage'!$J58/1000*VLOOKUP($H45,EnvProfiler,BM$3,FALSE),0)","v":0},{"$f":"IFERROR('Transport og emballage'!$K58/'Transport og emballage'!$J58/1000*VLOOKUP($H45,EnvProfiler,BN$3,FALSE),0)","v":0},{"$f":"IFERROR('Transport og emballage'!$K58/'Transport og emballage'!$J58/1000*VLOOKUP($H45,EnvProfiler,BO$3,FALSE),0)","v":0},{"$f":"IFERROR('Transport og emballage'!$K58/'Transport og emballage'!$J58/1000*VLOOKUP($H45,EnvProfiler,BP$3,FALSE),0)","v":0},{"$f":"IFERROR('Transport og emballage'!$K58/'Transport og emballage'!$J58/1000*VLOOKUP($H45,EnvProfiler,BQ$3,FALSE),0)","v":0},{"$f":"IFERROR('Transport og emballage'!$K58/'Transport og emballage'!$J58/1000*VLOOKUP($H45,EnvProfiler,BR$3,FALSE),0)","v":0},{"$f":"IFERROR('Transport og emballage'!$K58/'Transport og emballage'!$J58/1000*VLOOKUP($H45,EnvProfiler,BS$3,FALSE),0)","v":0},{"$f":"IFERROR('Transport og emballage'!$K58/'Transport og emballage'!$J58/1000*VLOOKUP($H45,EnvProfiler,BT$3,FALSE),0)","v":0},{"$f":"IFERROR('Transport og emballage'!$K58/'Transport og emballage'!$J58/1000*VLOOKUP($H45,EnvProfiler,BU$3,FALSE),0)","v":0},{"$f":"IFERROR('Transport og emballage'!$K58/'Transport og emballage'!$J58/1000*VLOOKUP($H45,EnvProfiler,BV$3,FALSE),0)","v":0},{"$f":"IFERROR('Transport og emballage'!$K58/'Transport og emballage'!$J58/1000*VLOOKUP($H45,EnvProfiler,BW$3,FALSE),0)","v":0},{"$f":"IFERROR('Transport og emballage'!$K58/'Transport og emballage'!$J58/1000*VLOOKUP($H45,EnvProfiler,BX$3,FALSE),0)","v":0},{"$f":"IFERROR('Transport og emballage'!$K58/'Transport og emballage'!$J58/1000*VLOOKUP($H45,EnvProfiler,BY$3,FALSE),0)","v":0},{"$f":"IFERROR('Transport og emballage'!$K58/'Transport og emballage'!$J58/1000*VLOOKUP($H45,EnvProfiler,BZ$3,FALSE),0)","v":0},{"$f":"IFERROR('Transport og emballage'!$K58/'Transport og emballage'!$J58/1000*VLOOKUP($H45,EnvProfiler,CA$3,FALSE),0)","v":0},{"$f":"IFERROR('Transport og emballage'!$K58/'Transport og emballage'!$J58/1000*VLOOKUP($H45,EnvProfiler,CB$3,FALSE),0)","v":0},{"$f":"IFERROR('Transport og emballage'!$K58/'Transport og emballage'!$J58/1000*VLOOKUP($H45,EnvProfiler,CC$3,FALSE),0)","v":0},{"$f":"IFERROR('Transport og emballage'!$K58/'Transport og emballage'!$J58/1000*VLOOKUP($H45,EnvProfiler,CD$3,FALSE),0)","v":0},{"$f":"IFERROR('Transport og emballage'!$K58/'Transport og emballage'!$J58/1000*VLOOKUP($H45,EnvProfiler,CE$3,FALSE),0)","v":0},{"$f":"IFERROR('Transport og emballage'!$K58/'Transport og emballage'!$J58/1000*VLOOKUP($H45,EnvProfiler,CF$3,FALSE),0)","v":0},{"$f":"IFERROR('Transport og emballage'!$K58/'Transport og emballage'!$J58/1000*VLOOKUP($H45,EnvProfiler,CG$3,FALSE),0)","v":0},{"$f":"IFERROR('Transport og emballage'!$K58/'Transport og emballage'!$J58/1000*VLOOKUP($H45,EnvProfiler,CH$3,FALSE),0)","v":0},{"$f":"IFERROR('Transport og emballage'!$K58/'Transport og emballage'!$J58/1000*VLOOKUP($H45,EnvProfiler,CI$3,FALSE),0)","v":0}]
[null,null,null,{"$f":"IF(ISBLANK('Transport og emballage'!E59),\"\",'Transport og emballage'!E59)","v":{"$error":"#N/A"}},{"$error":"#N/A"},null,{"$f":"IF(ISBLANK('Transport og emballage'!I59),\"\",'Transport og emballage'!I59)","v":{"$error":"#N/A"}},{"$error":"#N/A"},null,null,null,null,null,null,null,null,null,null,null,null,null,null,null,null,null,null,{"$f":"IFERROR('Transport og emballage'!$G59/'Transport og emballage'!$F59/1000*VLOOKUP($E46,EnvProfiler,AA$3,FALSE),0)","v":0},{"$f":"IFERROR('Transport og emballage'!$G59/'Transport og emballage'!$F59/1000*VLOOKUP($E46,EnvProfiler,AB$3,FALSE),0)","v":0},{"$f":"IFERROR('Transport og emballage'!$G59/'Transport og emballage'!$F59/1000*VLOOKUP($E46,EnvProfiler,AC$3,FALSE),0)","v":0},{"$f":"IFERROR('Transport og emballage'!$G59/'Transport og emballage'!$F59/1000*VLOOKUP($E46,EnvProfiler,AD$3,FALSE),0)","v":0},{"$f":"IFERROR('Transport og emballage'!$G59/'Transport og emballage'!$F59/1000*VLOOKUP($E46,EnvProfiler,AE$3,FALSE),0)","v":0},{"$f":"IFERROR('Transport og emballage'!$G59/'Transport og emballage'!$F59/1000*VLOOKUP($E46,EnvProfiler,AF$3,FALSE),0)","v":0},{"$f":"IFERROR('Transport og emballage'!$G59/'Transport og emballage'!$F59/1000*VLOOKUP($E46,EnvProfiler,AG$3,FALSE),0)","v":0},{"$f":"IFERROR('Transport og emballage'!$G59/'Transport og emballage'!$F59/1000*VLOOKUP($E46,EnvProfiler,AH$3,FALSE),0)","v":0},{"$f":"IFERROR('Transport og emballage'!$G59/'Transport og emballage'!$F59/1000*VLOOKUP($E46,EnvProfiler,AI$3,FALSE),0)","v":0},{"$f":"IFERROR('Transport og emballage'!$G59/'Transport og emballage'!$F59/1000*VLOOKUP($E46,EnvProfiler,AJ$3,FALSE),0)","v":0},{"$f":"IFERROR('Transport og emballage'!$G59/'Transport og emballage'!$F59/1000*VLOOKUP($E46,EnvProfiler,AK$3,FALSE),0)","v":0},{"$f":"IFERROR('Transport og emballage'!$G59/'Transport og emballage'!$F59/1000*VLOOKUP($E46,EnvProfiler,AL$3,FALSE),0)","v":0},{"$f":"IFERROR('Transport og emballage'!$G59/'Transport og emballage'!$F59/1000*VLOOKUP($E46,EnvProfiler,AM$3,FALSE),0)","v":0},{"$f":"IFERROR('Transport og emballage'!$G59/'Transport og emballage'!$F59/1000*VLOOKUP($E46,EnvProfiler,AN$3,FALSE),0)","v":0},{"$f":"IFERROR('Transport og emballage'!$G59/'Transport og emballage'!$F59/1000*VLOOKUP($E46,EnvProfiler,AO$3,FALSE),0)","v":0},{"$f":"IFERROR('Transport og emballage'!$G59/'Transport og emballage'!$F59/1000*VLOOKUP($E46,EnvProfiler,AP$3,FALSE),0)","v":0},{"$f":"IFERROR('Transport og emballage'!$G59/'Transport og emballage'!$F59/1000*VLOOKUP($E46,EnvProfiler,AQ$3,FALSE),0)","v":0},{"$f":"IFERROR('Transport og emballage'!$G59/'Transport og emballage'!$F59/1000*VLOOKUP($E46,EnvProfiler,AR$3,FALSE),0)","v":0},{"$f":"IFERROR('Transport og emballage'!$G59/'Transport og emballage'!$F59/1000*VLOOKUP($E46,EnvProfiler,AS$3,FALSE),0)","v":0},{"$f":"IFERROR('Transport og emballage'!$G59/'Transport og emballage'!$F59/1000*VLOOKUP($E46,EnvProfiler,AT$3,FALSE),0)","v":0},{"$f":"IFERROR('Transport og emballage'!$G59/'Transport og emballage'!$F59/1000*VLOOKUP($E46,EnvProfiler,AU$3,FALSE),0)","v":0},{"$f":"IFERROR('Transport og emballage'!$G59/'Transport og emballage'!$F59/1000*VLOOKUP($E46,EnvProfiler,AV$3,FALSE),0)","v":0},{"$f":"IFERROR('Transport og emballage'!$G59/'Transport og emballage'!$F59/1000*VLOOKUP($E46,EnvProfiler,AW$3,FALSE),0)","v":0},{"$f":"IFERROR('Transport og emballage'!$G59/'Transport og emballage'!$F59/1000*VLOOKUP($E46,EnvProfiler,AX$3,FALSE),0)","v":0},{"$f":"IFERROR('Transport og emballage'!$G59/'Transport og emballage'!$F59/1000*VLOOKUP($E46,EnvProfiler,AY$3,FALSE),0)","v":0},{"$f":"IFERROR('Transport og emballage'!$G59/'Transport og emballage'!$F59/1000*VLOOKUP($E46,EnvProfiler,AZ$3,FALSE),0)","v":0},{"$f":"IFERROR('Transport og emballage'!$G59/'Transport og emballage'!$F59/1000*VLOOKUP($E46,EnvProfiler,BA$3,FALSE),0)","v":0},{"$f":"IFERROR('Transport og emballage'!$G59/'Transport og emballage'!$F59/1000*VLOOKUP($E46,EnvProfiler,BB$3,FALSE),0)","v":0},{"$f":"IFERROR('Transport og emballage'!$G59/'Transport og emballage'!$F59/1000*VLOOKUP($E46,EnvProfiler,BC$3,FALSE),0)","v":0},null,null,null,{"$f":"IFERROR('Transport og emballage'!$K59/'Transport og emballage'!$J59/1000*VLOOKUP($H46,EnvProfiler,BG$3,FALSE),0)","v":0},{"$f":"IFERROR('Transport og emballage'!$K59/'Transport og emballage'!$J59/1000*VLOOKUP($H46,EnvProfiler,BH$3,FALSE),0)","v":0},{"$f":"IFERROR('Transport og emballage'!$K59/'Transport og emballage'!$J59/1000*VLOOKUP($H46,EnvProfiler,BI$3,FALSE),0)","v":0},{"$f":"IFERROR('Transport og emballage'!$K59/'Transport og emballage'!$J59/1000*VLOOKUP($H46,EnvProfiler,BJ$3,FALSE),0)","v":0},{"$f":"IFERROR('Transport og emballage'!$K59/'Transport og emballage'!$J59/1000*VLOOKUP($H46,EnvProfiler,BK$3,FALSE),0)","v":0},{"$f":"IFERROR('Transport og emballage'!$K59/'Transport og emballage'!$J59/1000*VLOOKUP($H46,EnvProfiler,BL$3,FALSE),0)","v":0},{"$f":"IFERROR('Transport og emballage'!$K59/'Transport og emballage'!$J59/1000*VLOOKUP($H46,EnvProfiler,BM$3,FALSE),0)","v":0},{"$f":"IFERROR('Transport og emballage'!$K59/'Transport og emballage'!$J59/1000*VLOOKUP($H46,EnvProfiler,BN$3,FALSE),0)","v":0},{"$f":"IFERROR('Transport og emballage'!$K59/'Transport og emballage'!$J59/1000*VLOOKUP($H46,EnvProfiler,BO$3,FALSE),0)","v":0},{"$f":"IFERROR('Transport og emballage'!$K59/'Transport og emballage'!$J59/1000*VLOOKUP($H46,EnvProfiler,BP$3,FALSE),0)","v":0},{"$f":"IFERROR('Transport og emballage'!$K59/'Transport og emballage'!$J59/1000*VLOOKUP($H46,EnvProfiler,BQ$3,FALSE),0)","v":0},{"$f":"IFERROR('Transport og emballage'!$K59/'Transport og emballage'!$J59/1000*VLOOKUP($H46,EnvProfiler,BR$3,FALSE),0)","v":0},{"$f":"IFERROR('Transport og emballage'!$K59/'Transport og emballage'!$J59/1000*VLOOKUP($H46,EnvProfiler,BS$3,FALSE),0)","v":0},{"$f":"IFERROR('Transport og emballage'!$K59/'Transport og emballage'!$J59/1000*VLOOKUP($H46,EnvProfiler,BT$3,FALSE),0)","v":0},{"$f":"IFERROR('Transport og emballage'!$K59/'Transport og emballage'!$J59/1000*VLOOKUP($H46,EnvProfiler,BU$3,FALSE),0)","v":0},{"$f":"IFERROR('Transport og emballage'!$K59/'Transport og emballage'!$J59/1000*VLOOKUP($H46,EnvProfiler,BV$3,FALSE),0)","v":0},{"$f":"IFERROR('Transport og emballage'!$K59/'Transport og emballage'!$J59/1000*VLOOKUP($H46,EnvProfiler,BW$3,FALSE),0)","v":0},{"$f":"IFERROR('Transport og emballage'!$K59/'Transport og emballage'!$J59/1000*VLOOKUP($H46,EnvProfiler,BX$3,FALSE),0)","v":0},{"$f":"IFERROR('Transport og emballage'!$K59/'Transport og emballage'!$J59/1000*VLOOKUP($H46,EnvProfiler,BY$3,FALSE),0)","v":0},{"$f":"IFERROR('Transport og emballage'!$K59/'Transport og emballage'!$J59/1000*VLOOKUP($H46,EnvProfiler,BZ$3,FALSE),0)","v":0},{"$f":"IFERROR('Transport og emballage'!$K59/'Transport og emballage'!$J59/1000*VLOOKUP($H46,EnvProfiler,CA$3,FALSE),0)","v":0},{"$f":"IFERROR('Transport og emballage'!$K59/'Transport og emballage'!$J59/1000*VLOOKUP($H46,EnvProfiler,CB$3,FALSE),0)","v":0},{"$f":"IFERROR('Transport og emballage'!$K59/'Transport og emballage'!$J59/1000*VLOOKUP($H46,EnvProfiler,CC$3,FALSE),0)","v":0},{"$f":"IFERROR('Transport og emballage'!$K59/'Transport og emballage'!$J59/1000*VLOOKUP($H46,EnvProfiler,CD$3,FALSE),0)","v":0},{"$f":"IFERROR('Transport og emballage'!$K59/'Transport og emballage'!$J59/1000*VLOOKUP($H46,EnvProfiler,CE$3,FALSE),0)","v":0},{"$f":"IFERROR('Transport og emballage'!$K59/'Transport og emballage'!$J59/1000*VLOOKUP($H46,EnvProfiler,CF$3,FALSE),0)","v":0},{"$f":"IFERROR('Transport og emballage'!$K59/'Transport og emballage'!$J59/1000*VLOOKUP($H46,EnvProfiler,CG$3,FALSE),0)","v":0},{"$f":"IFERROR('Transport og emballage'!$K59/'Transport og emballage'!$J59/1000*VLOOKUP($H46,EnvProfiler,CH$3,FALSE),0)","v":0},{"$f":"IFERROR('Transport og emballage'!$K59/'Transport og emballage'!$J59/1000*VLOOKUP($H46,EnvProfiler,CI$3,FALSE),0)","v":0}]
[null,null,null,{"$f":"IF(ISBLANK('Transport og emballage'!E60),\"\",'Transport og emballage'!E60)","v":{"$error":"#N/A"}},{"$error":"#N/A"},null,{"$f":"IF(ISBLANK('Transport og emballage'!I60),\"\",'Transport og emballage'!I60)","v":{"$error":"#N/A"}},{"$error":"#N/A"},null,null,null,null,null,null,null,null,null,null,null,null,null,null,null,null,null,null,{"$f":"IFERROR('Transport og emballage'!$G60/'Transport og emballage'!$F60/1000*VLOOKUP($E47,EnvProfiler,AA$3,FALSE),0)","v":0},{"$f":"IFERROR('Transport og emballage'!$G60/'Transport og emballage'!$F60/1000*VLOOKUP($E47,EnvProfiler,AB$3,FALSE),0)","v":0},{"$f":"IFERROR('Transport og emballage'!$G60/'Transport og emballage'!$F60/1000*VLOOKUP($E47,EnvProfiler,AC$3,FALSE),0)","v":0},{"$f":"IFERROR('Transport og emballage'!$G60/'Transport og emballage'!$F60/1000*VLOOKUP($E47,EnvProfiler,AD$3,FALSE),0)","v":0},{"$f":"IFERROR('Transport og emballage'!$G60/'Transport og emballage'!$F60/1000*VLOOKUP($E47,EnvProfiler,AE$3,FALSE),0)","v":0},{"$f":"IFERROR('Transport og emballage'!$G60/'Transport og emballage'!$F60/1000*VLOOKUP($E47,EnvProfiler,AF$3,FALSE),0)","v":0},{"$f":"IFERROR('Transport og emballage'!$G60/'Transport og emballage'!$F60/1000*VLOOKUP($E47,EnvProfiler,AG$3,FALSE),0)","v":0},{"$f":"IFERROR('Transport og emballage'!$G60/'Transport og emballage'!$F60/1000*VLOOKUP($E47,EnvProfiler,AH$3,FALSE),0)","v":0},{"$f":"IFERROR('Transport og emballage'!$G60/'Transport og emballage'!$F60/1000*VLOOKUP($E47,EnvProfiler,AI$3,FALSE),0)","v":0},{"$f":"IFERROR('Transport og emballage'!$G60/'Transport og emballage'!$F60/1000*VLOOKUP($E47,EnvProfiler,AJ$3,FALSE),0)","v":0},{"$f":"IFERROR('Transport og emballage'!$G60/'Transport og emballage'!$F60/1000*VLOOKUP($E47,EnvProfiler,AK$3,FALSE),0)","v":0},{"$f":"IFERROR('Transport og emballage'!$G60/'Transport og emballage'!$F60/1000*VLOOKUP($E47,EnvProfiler,AL$3,FALSE),0)","v":0},{"$f":"IFERROR('Transport og emballage'!$G60/'Transport og emballage'!$F60/1000*VLOOKUP($E47,EnvProfiler,AM$3,FALSE),0)","v":0},{"$f":"IFERROR('Transport og emballage'!$G60/'Transport og emballage'!$F60/1000*VLOOKUP($E47,EnvProfiler,AN$3,FALSE),0)","v":0},{"$f":"IFERROR('Transport og emballage'!$G60/'Transport og emballage'!$F60/1000*VLOOKUP($E47,EnvProfiler,AO$3,FALSE),0)","v":0},{"$f":"IFERROR('Transport og emballage'!$G60/'Transport og emballage'!$F60/1000*VLOOKUP($E47,EnvProfiler,AP$3,FALSE),0)","v":0},{"$f":"IFERROR('Transport og emballage'!$G60/'Transport og emballage'!$F60/1000*VLOOKUP($E47,EnvProfiler,AQ$3,FALSE),0)","v":0},{"$f":"IFERROR('Transport og emballage'!$G60/'Transport og emballage'!$F60/1000*VLOOKUP($E47,EnvProfiler,AR$3,FALSE),0)","v":0},{"$f":"IFERROR('Transport og emballage'!$G60/'Transport og emballage'!$F60/1000*VLOOKUP($E47,EnvProfiler,AS$3,FALSE),0)","v":0},{"$f":"IFERROR('Transport og emballage'!$G60/'Transport og emballage'!$F60/1000*VLOOKUP($E47,EnvProfiler,AT$3,FALSE),0)","v":0},{"$f":"IFERROR('Transport og emballage'!$G60/'Transport og emballage'!$F60/1000*VLOOKUP($E47,EnvProfiler,AU$3,FALSE),0)","v":0},{"$f":"IFERROR('Transport og emballage'!$G60/'Transport og emballage'!$F60/1000*VLOOKUP($E47,EnvProfiler,AV$3,FALSE),0)","v":0},{"$f":"IFERROR('Transport og emballage'!$G60/'Transport og emballage'!$F60/1000*VLOOKUP($E47,EnvProfiler,AW$3,FALSE),0)","v":0},{"$f":"IFERROR('Transport og emballage'!$G60/'Transport og emballage'!$F60/1000*VLOOKUP($E47,EnvProfiler,AX$3,FALSE),0)","v":0},{"$f":"IFERROR('Transport og emballage'!$G60/'Transport og emballage'!$F60/1000*VLOOKUP($E47,EnvProfiler,AY$3,FALSE),0)","v":0},{"$f":"IFERROR('Transport og emballage'!$G60/'Transport og emballage'!$F60/1000*VLOOKUP($E47,EnvProfiler,AZ$3,FALSE),0)","v":0},{"$f":"IFERROR('Transport og emballage'!$G60/'Transport og emballage'!$F60/1000*VLOOKUP($E47,EnvProfiler,BA$3,FALSE),0)","v":0},{"$f":"IFERROR('Transport og emballage'!$G60/'Transport og emballage'!$F60/1000*VLOOKUP($E47,EnvProfiler,BB$3,FALSE),0)","v":0},{"$f":"IFERROR('Transport og emballage'!$G60/'Transport og emballage'!$F60/1000*VLOOKUP($E47,EnvProfiler,BC$3,FALSE),0)","v":0},null,null,null,{"$f":"IFERROR('Transport og emballage'!$K60/'Transport og emballage'!$J60/1000*VLOOKUP($H47,EnvProfiler,BG$3,FALSE),0)","v":0},{"$f":"IFERROR('Transport og emballage'!$K60/'Transport og emballage'!$J60/1000*VLOOKUP($H47,EnvProfiler,BH$3,FALSE),0)","v":0},{"$f":"IFERROR('Transport og emballage'!$K60/'Transport og emballage'!$J60/1000*VLOOKUP($H47,EnvProfiler,BI$3,FALSE),0)","v":0},{"$f":"IFERROR('Transport og emballage'!$K60/'Transport og emballage'!$J60/1000*VLOOKUP($H47,EnvProfiler,BJ$3,FALSE),0)","v":0},{"$f":"IFERROR('Transport og emballage'!$K60/'Transport og emballage'!$J60/1000*VLOOKUP($H47,EnvProfiler,BK$3,FALSE),0)","v":0},{"$f":"IFERROR('Transport og emballage'!$K60/'Transport og emballage'!$J60/1000*VLOOKUP($H47,EnvProfiler,BL$3,FALSE),0)","v":0},{"$f":"IFERROR('Transport og emballage'!$K60/'Transport og emballage'!$J60/1000*VLOOKUP($H47,EnvProfiler,BM$3,FALSE),0)","v":0},{"$f":"IFERROR('Transport og emballage'!$K60/'Transport og emballage'!$J60/1000*VLOOKUP($H47,EnvProfiler,BN$3,FALSE),0)","v":0},{"$f":"IFERROR('Transport og emballage'!$K60/'Transport og emballage'!$J60/1000*VLOOKUP($H47,EnvProfiler,BO$3,FALSE),0)","v":0},{"$f":"IFERROR('Transport og emballage'!$K60/'Transport og emballage'!$J60/1000*VLOOKUP($H47,EnvProfiler,BP$3,FALSE),0)","v":0},{"$f":"IFERROR('Transport og emballage'!$K60/'Transport og emballage'!$J60/1000*VLOOKUP($H47,EnvProfiler,BQ$3,FALSE),0)","v":0},{"$f":"IFERROR('Transport og emballage'!$K60/'Transport og emballage'!$J60/1000*VLOOKUP($H47,EnvProfiler,BR$3,FALSE),0)","v":0},{"$f":"IFERROR('Transport og emballage'!$K60/'Transport og emballage'!$J60/1000*VLOOKUP($H47,EnvProfiler,BS$3,FALSE),0)","v":0},{"$f":"IFERROR('Transport og emballage'!$K60/'Transport og emballage'!$J60/1000*VLOOKUP($H47,EnvProfiler,BT$3,FALSE),0)","v":0},{"$f":"IFERROR('Transport og emballage'!$K60/'Transport og emballage'!$J60/1000*VLOOKUP($H47,EnvProfiler,BU$3,FALSE),0)","v":0},{"$f":"IFERROR('Transport og emballage'!$K60/'Transport og emballage'!$J60/1000*VLOOKUP($H47,EnvProfiler,BV$3,FALSE),0)","v":0},{"$f":"IFERROR('Transport og emballage'!$K60/'Transport og emballage'!$J60/1000*VLOOKUP($H47,EnvProfiler,BW$3,FALSE),0)","v":0},{"$f":"IFERROR('Transport og emballage'!$K60/'Transport og emballage'!$J60/1000*VLOOKUP($H47,EnvProfiler,BX$3,FALSE),0)","v":0},{"$f":"IFERROR('Transport og emballage'!$K60/'Transport og emballage'!$J60/1000*VLOOKUP($H47,EnvProfiler,BY$3,FALSE),0)","v":0},{"$f":"IFERROR('Transport og emballage'!$K60/'Transport og emballage'!$J60/1000*VLOOKUP($H47,EnvProfiler,BZ$3,FALSE),0)","v":0},{"$f":"IFERROR('Transport og emballage'!$K60/'Transport og emballage'!$J60/1000*VLOOKUP($H47,EnvProfiler,CA$3,FALSE),0)","v":0},{"$f":"IFERROR('Transport og emballage'!$K60/'Transport og emballage'!$J60/1000*VLOOKUP($H47,EnvProfiler,CB$3,FALSE),0)","v":0},{"$f":"IFERROR('Transport og emballage'!$K60/'Transport og emballage'!$J60/1000*VLOOKUP($H47,EnvProfiler,CC$3,FALSE),0)","v":0},{"$f":"IFERROR('Transport og emballage'!$K60/'Transport og emballage'!$J60/1000*VLOOKUP($H47,EnvProfiler,CD$3,FALSE),0)","v":0},{"$f":"IFERROR('Transport og emballage'!$K60/'Transport og emballage'!$J60/1000*VLOOKUP($H47,EnvProfiler,CE$3,FALSE),0)","v":0},{"$f":"IFERROR('Transport og emballage'!$K60/'Transport og emballage'!$J60/1000*VLOOKUP($H47,EnvProfiler,CF$3,FALSE),0)","v":0},{"$f":"IFERROR('Transport og emballage'!$K60/'Transport og emballage'!$J60/1000*VLOOKUP($H47,EnvProfiler,CG$3,FALSE),0)","v":0},{"$f":"IFERROR('Transport og emballage'!$K60/'Transport og emballage'!$J60/1000*VLOOKUP($H47,EnvProfiler,CH$3,FALSE),0)","v":0},{"$f":"IFERROR('Transport og emballage'!$K60/'Transport og emballage'!$J60/1000*VLOOKUP($H47,EnvProfiler,CI$3,FALSE),0)","v":0}]
[null,null,null,{"$f":"IF(ISBLANK('Transport og emballage'!E61),\"\",'Transport og emballage'!E61)","v":{"$error":"#N/A"}},{"$error":"#N/A"},null,{"$f":"IF(ISBLANK('Transport og emballage'!I61),\"\",'Transport og emballage'!I61)","v":{"$error":"#N/A"}},{"$error":"#N/A"},null,null,null,null,null,null,null,null,null,null,null,null,null,null,null,null,null,null,{"$f":"IFERROR('Transport og emballage'!$G61/'Transport og emballage'!$F61/1000*VLOOKUP($E48,EnvProfiler,AA$3,FALSE),0)","v":0},{"$f":"IFERROR('Transport og emballage'!$G61/'Transport og emballage'!$F61/1000*VLOOKUP($E48,EnvProfiler,AB$3,FALSE),0)","v":0},{"$f":"IFERROR('Transport og emballage'!$G61/'Transport og emballage'!$F61/1000*VLOOKUP($E48,EnvProfiler,AC$3,FALSE),0)","v":0},{"$f":"IFERROR('Transport og emballage'!$G61/'Transport og emballage'!$F61/1000*VLOOKUP($E48,EnvProfiler,AD$3,FALSE),0)","v":0},{"$f":"IFERROR('Transport og emballage'!$G61/'Transport og emballage'!$F61/1000*VLOOKUP($E48,EnvProfiler,AE$3,FALSE),0)","v":0},{"$f":"IFERROR('Transport og emballage'!$G61/'Transport og emballage'!$F61/1000*VLOOKUP($E48,EnvProfiler,AF$3,FALSE),0)","v":0},{"$f":"IFERROR('Transport og emballage'!$G61/'Transport og emballage'!$F61/1000*VLOOKUP($E48,EnvProfiler,AG$3,FALSE),0)","v":0},{"$f":"IFERROR('Transport og emballage'!$G61/'Transport og emballage'!$F61/1000*VLOOKUP($E48,EnvProfiler,AH$3,FALSE),0)","v":0},{"$f":"IFERROR('Transport og emballage'!$G61/'Transport og emballage'!$F61/1000*VLOOKUP($E48,EnvProfiler,AI$3,FALSE),0)","v":0},{"$f":"IFERROR('Transport og emballage'!$G61/'Transport og emballage'!$F61/1000*VLOOKUP($E48,EnvProfiler,AJ$3,FALSE),0)","v":0},{"$f":"IFERROR('Transport og emballage'!$G61/'Transport og emballage'!$F61/1000*VLOOKUP($E48,EnvProfiler,AK$3,FALSE),0)","v":0},{"$f":"IFERROR('Transport og emballage'!$G61/'Transport og emballage'!$F61/1000*VLOOKUP($E48,EnvProfiler,AL$3,FALSE),0)","v":0},{"$f":"IFERROR('Transport og emballage'!$G61/'Transport og emballage'!$F61/1000*VLOOKUP($E48,EnvProfiler,AM$3,FALSE),0)","v":0},{"$f":"IFERROR('Transport og emballage'!$G61/'Transport og emballage'!$F61/1000*VLOOKUP($E48,EnvProfiler,AN$3,FALSE),0)","v":0},{"$f":"IFERROR('Transport og emballage'!$G61/'Transport og emballage'!$F61/1000*VLOOKUP($E48,EnvProfiler,AO$3,FALSE),0)","v":0},{"$f":"IFERROR('Transport og emballage'!$G61/'Transport og emballage'!$F61/1000*VLOOKUP($E48,EnvProfiler,AP$3,FALSE),0)","v":0},{"$f":"IFERROR('Transport og emballage'!$G61/'Transport og emballage'!$F61/1000*VLOOKUP($E48,EnvProfiler,AQ$3,FALSE),0)","v":0},{"$f":"IFERROR('Transport og emballage'!$G61/'Transport og emballage'!$F61/1000*VLOOKUP($E48,EnvProfiler,AR$3,FALSE),0)","v":0},{"$f":"IFERROR('Transport og emballage'!$G61/'Transport og emballage'!$F61/1000*VLOOKUP($E48,EnvProfiler,AS$3,FALSE),0)","v":0},{"$f":"IFERROR('Transport og emballage'!$G61/'Transport og emballage'!$F61/1000*VLOOKUP($E48,EnvProfiler,AT$3,FALSE),0)","v":0},{"$f":"IFERROR('Transport og emballage'!$G61/'Transport og emballage'!$F61/1000*VLOOKUP($E48,EnvProfiler,AU$3,FALSE),0)","v":0},{"$f":"IFERROR('Transport og emballage'!$G61/'Transport og emballage'!$F61/1000*VLOOKUP($E48,EnvProfiler,AV$3,FALSE),0)","v":0},{"$f":"IFERROR('Transport og emballage'!$G61/'Transport og emballage'!$F61/1000*VLOOKUP($E48,EnvProfiler,AW$3,FALSE),0)","v":0},{"$f":"IFERROR('Transport og emballage'!$G61/'Transport og emballage'!$F61/1000*VLOOKUP($E48,EnvProfiler,AX$3,FALSE),0)","v":0},{"$f":"IFERROR('Transport og emballage'!$G61/'Transport og emballage'!$F61/1000*VLOOKUP($E48,EnvProfiler,AY$3,FALSE),0)","v":0},{"$f":"IFERROR('Transport og emballage'!$G61/'Transport og emballage'!$F61/1000*VLOOKUP($E48,EnvProfiler,AZ$3,FALSE),0)","v":0},{"$f":"IFERROR('Transport og emballage'!$G61/'Transport og emballage'!$F61/1000*VLOOKUP($E48,EnvProfiler,BA$3,FALSE),0)","v":0},{"$f":"IFERROR('Transport og emballage'!$G61/'Transport og emballage'!$F61/1000*VLOOKUP($E48,EnvProfiler,BB$3,FALSE),0)","v":0},{"$f":"IFERROR('Transport og emballage'!$G61/'Transport og emballage'!$F61/1000*VLOOKUP($E48,EnvProfiler,BC$3,FALSE),0)","v":0},null,null,null,{"$f":"IFERROR('Transport og emballage'!$K61/'Transport og emballage'!$J61/1000*VLOOKUP($H48,EnvProfiler,BG$3,FALSE),0)","v":0},{"$f":"IFERROR('Transport og emballage'!$K61/'Transport og emballage'!$J61/1000*VLOOKUP($H48,EnvProfiler,BH$3,FALSE),0)","v":0},{"$f":"IFERROR('Transport og emballage'!$K61/'Transport og emballage'!$J61/1000*VLOOKUP($H48,EnvProfiler,BI$3,FALSE),0)","v":0},{"$f":"IFERROR('Transport og emballage'!$K61/'Transport og emballage'!$J61/1000*VLOOKUP($H48,EnvProfiler,BJ$3,FALSE),0)","v":0},{"$f":"IFERROR('Transport og emballage'!$K61/'Transport og emballage'!$J61/1000*VLOOKUP($H48,EnvProfiler,BK$3,FALSE),0)","v":0},{"$f":"IFERROR('Transport og emballage'!$K61/'Transport og emballage'!$J61/1000*VLOOKUP($H48,EnvProfiler,BL$3,FALSE),0)","v":0},{"$f":"IFERROR('Transport og emballage'!$K61/'Transport og emballage'!$J61/1000*VLOOKUP($H48,EnvProfiler,BM$3,FALSE),0)","v":0},{"$f":"IFERROR('Transport og emballage'!$K61/'Transport og emballage'!$J61/1000*VLOOKUP($H48,EnvProfiler,BN$3,FALSE),0)","v":0},{"$f":"IFERROR('Transport og emballage'!$K61/'Transport og emballage'!$J61/1000*VLOOKUP($H48,EnvProfiler,BO$3,FALSE),0)","v":0},{"$f":"IFERROR('Transport og emballage'!$K61/'Transport og emballage'!$J61/1000*VLOOKUP($H48,EnvProfiler,BP$3,FALSE),0)","v":0},{"$f":"IFERROR('Transport og emballage'!$K61/'Transport og emballage'!$J61/1000*VLOOKUP($H48,EnvProfiler,BQ$3,FALSE),0)","v":0},{"$f":"IFERROR('Transport og emballage'!$K61/'Transport og emballage'!$J61/1000*VLOOKUP($H48,EnvProfiler,BR$3,FALSE),0)","v":0},{"$f":"IFERROR('Transport og emballage'!$K61/'Transport og emballage'!$J61/1000*VLOOKUP($H48,EnvProfiler,BS$3,FALSE),0)","v":0},{"$f":"IFERROR('Transport og emballage'!$K61/'Transport og emballage'!$J61/1000*VLOOKUP($H48,EnvProfiler,BT$3,FALSE),0)","v":0},{"$f":"IFERROR('Transport og emballage'!$K61/'Transport og emballage'!$J61/1000*VLOOKUP($H48,EnvProfiler,BU$3,FALSE),0)","v":0},{"$f":"IFERROR('Transport og emballage'!$K61/'Transport og emballage'!$J61/1000*VLOOKUP($H48,EnvProfiler,BV$3,FALSE),0)","v":0},{"$f":"IFERROR('Transport og emballage'!$K61/'Transport og emballage'!$J61/1000*VLOOKUP($H48,EnvProfiler,BW$3,FALSE),0)","v":0},{"$f":"IFERROR('Transport og emballage'!$K61/'Transport og emballage'!$J61/1000*VLOOKUP($H48,EnvProfiler,BX$3,FALSE),0)","v":0},{"$f":"IFERROR('Transport og emballage'!$K61/'Transport og emballage'!$J61/1000*VLOOKUP($H48,EnvProfiler,BY$3,FALSE),0)","v":0},{"$f":"IFERROR('Transport og emballage'!$K61/'Transport og emballage'!$J61/1000*VLOOKUP($H48,EnvProfiler,BZ$3,FALSE),0)","v":0},{"$f":"IFERROR('Transport og emballage'!$K61/'Transport og emballage'!$J61/1000*VLOOKUP($H48,EnvProfiler,CA$3,FALSE),0)","v":0},{"$f":"IFERROR('Transport og emballage'!$K61/'Transport og emballage'!$J61/1000*VLOOKUP($H48,EnvProfiler,CB$3,FALSE),0)","v":0},{"$f":"IFERROR('Transport og emballage'!$K61/'Transport og emballage'!$J61/1000*VLOOKUP($H48,EnvProfiler,CC$3,FALSE),0)","v":0},{"$f":"IFERROR('Transport og emballage'!$K61/'Transport og emballage'!$J61/1000*VLOOKUP($H48,EnvProfiler,CD$3,FALSE),0)","v":0},{"$f":"IFERROR('Transport og emballage'!$K61/'Transport og emballage'!$J61/1000*VLOOKUP($H48,EnvProfiler,CE$3,FALSE),0)","v":0},{"$f":"IFERROR('Transport og emballage'!$K61/'Transport og emballage'!$J61/1000*VLOOKUP($H48,EnvProfiler,CF$3,FALSE),0)","v":0},{"$f":"IFERROR('Transport og emballage'!$K61/'Transport og emballage'!$J61/1000*VLOOKUP($H48,EnvProfiler,CG$3,FALSE),0)","v":0},{"$f":"IFERROR('Transport og emballage'!$K61/'Transport og emballage'!$J61/1000*VLOOKUP($H48,EnvProfiler,CH$3,FALSE),0)","v":0},{"$f":"IFERROR('Transport og emballage'!$K61/'Transport og emballage'!$J61/1000*VLOOKUP($H48,EnvProfiler,CI$3,FALSE),0)","v":0}]
[null,null,null,{"$f":"IF(ISBLANK('Transport og emballage'!E62),\"\",'Transport og emballage'!E62)","v":{"$error":"#N/A"}},{"$error":"#N/A"},null,{"$f":"IF(ISBLANK('Transport og emballage'!I62),\"\",'Transport og emballage'!I62)","v":{"$error":"#N/A"}},{"$error":"#N/A"},null,null,null,null,null,null,null,null,null,null,null,null,null,null,null,null,null,null,{"$f":"IFERROR('Transport og emballage'!$G62/'Transport og emballage'!$F62/1000*VLOOKUP($E49,EnvProfiler,AA$3,FALSE),0)","v":0},{"$f":"IFERROR('Transport og emballage'!$G62/'Transport og emballage'!$F62/1000*VLOOKUP($E49,EnvProfiler,AB$3,FALSE),0)","v":0},{"$f":"IFERROR('Transport og emballage'!$G62/'Transport og emballage'!$F62/1000*VLOOKUP($E49,EnvProfiler,AC$3,FALSE),0)","v":0},{"$f":"IFERROR('Transport og emballage'!$G62/'Transport og emballage'!$F62/1000*VLOOKUP($E49,EnvProfiler,AD$3,FALSE),0)","v":0},{"$f":"IFERROR('Transport og emballage'!$G62/'Transport og emballage'!$F62/1000*VLOOKUP($E49,EnvProfiler,AE$3,FALSE),0)","v":0},{"$f":"IFERROR('Transport og emballage'!$G62/'Transport og emballage'!$F62/1000*VLOOKUP($E49,EnvProfiler,AF$3,FALSE),0)","v":0},{"$f":"IFERROR('Transport og emballage'!$G62/'Transport og emballage'!$F62/1000*VLOOKUP($E49,EnvProfiler,AG$3,FALSE),0)","v":0},{"$f":"IFERROR('Transport og emballage'!$G62/'Transport og emballage'!$F62/1000*VLOOKUP($E49,EnvProfiler,AH$3,FALSE),0)","v":0},{"$f":"IFERROR('Transport og emballage'!$G62/'Transport og emballage'!$F62/1000*VLOOKUP($E49,EnvProfiler,AI$3,FALSE),0)","v":0},{"$f":"IFERROR('Transport og emballage'!$G62/'Transport og emballage'!$F62/1000*VLOOKUP($E49,EnvProfiler,AJ$3,FALSE),0)","v":0},{"$f":"IFERROR('Transport og emballage'!$G62/'Transport og emballage'!$F62/1000*VLOOKUP($E49,EnvProfiler,AK$3,FALSE),0)","v":0},{"$f":"IFERROR('Transport og emballage'!$G62/'Transport og emballage'!$F62/1000*VLOOKUP($E49,EnvProfiler,AL$3,FALSE),0)","v":0},{"$f":"IFERROR('Transport og emballage'!$G62/'Transport og emballage'!$F62/1000*VLOOKUP($E49,EnvProfiler,AM$3,FALSE),0)","v":0},{"$f":"IFERROR('Transport og emballage'!$G62/'Transport og emballage'!$F62/1000*VLOOKUP($E49,EnvProfiler,AN$3,FALSE),0)","v":0},{"$f":"IFERROR('Transport og emballage'!$G62/'Transport og emballage'!$F62/1000*VLOOKUP($E49,EnvProfiler,AO$3,FALSE),0)","v":0},{"$f":"IFERROR('Transport og emballage'!$G62/'Transport og emballage'!$F62/1000*VLOOKUP($E49,EnvProfiler,AP$3,FALSE),0)","v":0},{"$f":"IFERROR('Transport og emballage'!$G62/'Transport og emballage'!$F62/1000*VLOOKUP($E49,EnvProfiler,AQ$3,FALSE),0)","v":0},{"$f":"IFERROR('Transport og emballage'!$G62/'Transport og emballage'!$F62/1000*VLOOKUP($E49,EnvProfiler,AR$3,FALSE),0)","v":0},{"$f":"IFERROR('Transport og emballage'!$G62/'Transport og emballage'!$F62/1000*VLOOKUP($E49,EnvProfiler,AS$3,FALSE),0)","v":0},{"$f":"IFERROR('Transport og emballage'!$G62/'Transport og emballage'!$F62/1000*VLOOKUP($E49,EnvProfiler,AT$3,FALSE),0)","v":0},{"$f":"IFERROR('Transport og emballage'!$G62/'Transport og emballage'!$F62/1000*VLOOKUP($E49,EnvProfiler,AU$3,FALSE),0)","v":0},{"$f":"IFERROR('Transport og emballage'!$G62/'Transport og emballage'!$F62/1000*VLOOKUP($E49,EnvProfiler,AV$3,FALSE),0)","v":0},{"$f":"IFERROR('Transport og emballage'!$G62/'Transport og emballage'!$F62/1000*VLOOKUP($E49,EnvProfiler,AW$3,FALSE),0)","v":0},{"$f":"IFERROR('Transport og emballage'!$G62/'Transport og emballage'!$F62/1000*VLOOKUP($E49,EnvProfiler,AX$3,FALSE),0)","v":0},{"$f":"IFERROR('Transport og emballage'!$G62/'Transport og emballage'!$F62/1000*VLOOKUP($E49,EnvProfiler,AY$3,FALSE),0)","v":0},{"$f":"IFERROR('Transport og emballage'!$G62/'Transport og emballage'!$F62/1000*VLOOKUP($E49,EnvProfiler,AZ$3,FALSE),0)","v":0},{"$f":"IFERROR('Transport og emballage'!$G62/'Transport og emballage'!$F62/1000*VLOOKUP($E49,EnvProfiler,BA$3,FALSE),0)","v":0},{"$f":"IFERROR('Transport og emballage'!$G62/'Transport og emballage'!$F62/1000*VLOOKUP($E49,EnvProfiler,BB$3,FALSE),0)","v":0},{"$f":"IFERROR('Transport og emballage'!$G62/'Transport og emballage'!$F62/1000*VLOOKUP($E49,EnvProfiler,BC$3,FALSE),0)","v":0},null,null,null,{"$f":"IFERROR('Transport og emballage'!$K62/'Transport og emballage'!$J62/1000*VLOOKUP($H49,EnvProfiler,BG$3,FALSE),0)","v":0},{"$f":"IFERROR('Transport og emballage'!$K62/'Transport og emballage'!$J62/1000*VLOOKUP($H49,EnvProfiler,BH$3,FALSE),0)","v":0},{"$f":"IFERROR('Transport og emballage'!$K62/'Transport og emballage'!$J62/1000*VLOOKUP($H49,EnvProfiler,BI$3,FALSE),0)","v":0},{"$f":"IFERROR('Transport og emballage'!$K62/'Transport og emballage'!$J62/1000*VLOOKUP($H49,EnvProfiler,BJ$3,FALSE),0)","v":0},{"$f":"IFERROR('Transport og emballage'!$K62/'Transport og emballage'!$J62/1000*VLOOKUP($H49,EnvProfiler,BK$3,FALSE),0)","v":0},{"$f":"IFERROR('Transport og emballage'!$K62/'Transport og emballage'!$J62/1000*VLOOKUP($H49,EnvProfiler,BL$3,FALSE),0)","v":0},{"$f":"IFERROR('Transport og emballage'!$K62/'Transport og emballage'!$J62/1000*VLOOKUP($H49,EnvProfiler,BM$3,FALSE),0)","v":0},{"$f":"IFERROR('Transport og emballage'!$K62/'Transport og emballage'!$J62/1000*VLOOKUP($H49,EnvProfiler,BN$3,FALSE),0)","v":0},{"$f":"IFERROR('Transport og emballage'!$K62/'Transport og emballage'!$J62/1000*VLOOKUP($H49,EnvProfiler,BO$3,FALSE),0)","v":0},{"$f":"IFERROR('Transport og emballage'!$K62/'Transport og emballage'!$J62/1000*VLOOKUP($H49,EnvProfiler,BP$3,FALSE),0)","v":0},{"$f":"IFERROR('Transport og emballage'!$K62/'Transport og emballage'!$J62/1000*VLOOKUP($H49,EnvProfiler,BQ$3,FALSE),0)","v":0},{"$f":"IFERROR('Transport og emballage'!$K62/'Transport og emballage'!$J62/1000*VLOOKUP($H49,EnvProfiler,BR$3,FALSE),0)","v":0},{"$f":"IFERROR('Transport og emballage'!$K62/'Transport og emballage'!$J62/1000*VLOOKUP($H49,EnvProfiler,BS$3,FALSE),0)","v":0},{"$f":"IFERROR('Transport og emballage'!$K62/'Transport og emballage'!$J62/1000*VLOOKUP($H49,EnvProfiler,BT$3,FALSE),0)","v":0},{"$f":"IFERROR('Transport og emballage'!$K62/'Transport og emballage'!$J62/1000*VLOOKUP($H49,EnvProfiler,BU$3,FALSE),0)","v":0},{"$f":"IFERROR('Transport og emballage'!$K62/'Transport og emballage'!$J62/1000*VLOOKUP($H49,EnvProfiler,BV$3,FALSE),0)","v":0},{"$f":"IFERROR('Transport og emballage'!$K62/'Transport og emballage'!$J62/1000*VLOOKUP($H49,EnvProfiler,BW$3,FALSE),0)","v":0},{"$f":"IFERROR('Transport og emballage'!$K62/'Transport og emballage'!$J62/1000*VLOOKUP($H49,EnvProfiler,BX$3,FALSE),0)","v":0},{"$f":"IFERROR('Transport og emballage'!$K62/'Transport og emballage'!$J62/1000*VLOOKUP($H49,EnvProfiler,BY$3,FALSE),0)","v":0},{"$f":"IFERROR('Transport og emballage'!$K62/'Transport og emballage'!$J62/1000*VLOOKUP($H49,EnvProfiler,BZ$3,FALSE),0)","v":0},{"$f":"IFERROR('Transport og emballage'!$K62/'Transport og emballage'!$J62/1000*VLOOKUP($H49,EnvProfiler,CA$3,FALSE),0)","v":0},{"$f":"IFERROR('Transport og emballage'!$K62/'Transport og emballage'!$J62/1000*VLOOKUP($H49,EnvProfiler,CB$3,FALSE),0)","v":0},{"$f":"IFERROR('Transport og emballage'!$K62/'Transport og emballage'!$J62/1000*VLOOKUP($H49,EnvProfiler,CC$3,FALSE),0)","v":0},{"$f":"IFERROR('Transport og emballage'!$K62/'Transport og emballage'!$J62/1000*VLOOKUP($H49,EnvProfiler,CD$3,FALSE),0)","v":0},{"$f":"IFERROR('Transport og emballage'!$K62/'Transport og emballage'!$J62/1000*VLOOKUP($H49,EnvProfiler,CE$3,FALSE),0)","v":0},{"$f":"IFERROR('Transport og emballage'!$K62/'Transport og emballage'!$J62/1000*VLOOKUP($H49,EnvProfiler,CF$3,FALSE),0)","v":0},{"$f":"IFERROR('Transport og emballage'!$K62/'Transport og emballage'!$J62/1000*VLOOKUP($H49,EnvProfiler,CG$3,FALSE),0)","v":0},{"$f":"IFERROR('Transport og emballage'!$K62/'Transport og emballage'!$J62/1000*VLOOKUP($H49,EnvProfiler,CH$3,FALSE),0)","v":0},{"$f":"IFERROR('Transport og emballage'!$K62/'Transport og emballage'!$J62/1000*VLOOKUP($H49,EnvProfiler,CI$3,FALSE),0)","v":0}]
[null,null,null,{"$f":"IF(ISBLANK('Transport og emballage'!E63),\"\",'Transport og emballage'!E63)","v":{"$error":"#N/A"}},{"$error":"#N/A"},null,{"$f":"IF(ISBLANK('Transport og emballage'!I63),\"\",'Transport og emballage'!I63)","v":{"$error":"#N/A"}},{"$error":"#N/A"},null,null,null,null,null,null,null,null,null,null,null,null,null,null,null,null,null,null,{"$f":"IFERROR('Transport og emballage'!$G63/'Transport og emballage'!$F63/1000*VLOOKUP($E50,EnvProfiler,AA$3,FALSE),0)","v":0},{"$f":"IFERROR('Transport og emballage'!$G63/'Transport og emballage'!$F63/1000*VLOOKUP($E50,EnvProfiler,AB$3,FALSE),0)","v":0},{"$f":"IFERROR('Transport og emballage'!$G63/'Transport og emballage'!$F63/1000*VLOOKUP($E50,EnvProfiler,AC$3,FALSE),0)","v":0},{"$f":"IFERROR('Transport og emballage'!$G63/'Transport og emballage'!$F63/1000*VLOOKUP($E50,EnvProfiler,AD$3,FALSE),0)","v":0},{"$f":"IFERROR('Transport og emballage'!$G63/'Transport og emballage'!$F63/1000*VLOOKUP($E50,EnvProfiler,AE$3,FALSE),0)","v":0},{"$f":"IFERROR('Transport og emballage'!$G63/'Transport og emballage'!$F63/1000*VLOOKUP($E50,EnvProfiler,AF$3,FALSE),0)","v":0},{"$f":"IFERROR('Transport og emballage'!$G63/'Transport og emballage'!$F63/1000*VLOOKUP($E50,EnvProfiler,AG$3,FALSE),0)","v":0},{"$f":"IFERROR('Transport og emballage'!$G63/'Transport og emballage'!$F63/1000*VLOOKUP($E50,EnvProfiler,AH$3,FALSE),0)","v":0},{"$f":"IFERROR('Transport og emballage'!$G63/'Transport og emballage'!$F63/1000*VLOOKUP($E50,EnvProfiler,AI$3,FALSE),0)","v":0},{"$f":"IFERROR('Transport og emballage'!$G63/'Transport og emballage'!$F63/1000*VLOOKUP($E50,EnvProfiler,AJ$3,FALSE),0)","v":0},{"$f":"IFERROR('Transport og emballage'!$G63/'Transport og emballage'!$F63/1000*VLOOKUP($E50,EnvProfiler,AK$3,FALSE),0)","v":0},{"$f":"IFERROR('Transport og emballage'!$G63/'Transport og emballage'!$F63/1000*VLOOKUP($E50,EnvProfiler,AL$3,FALSE),0)","v":0},{"$f":"IFERROR('Transport og emballage'!$G63/'Transport og emballage'!$F63/1000*VLOOKUP($E50,EnvProfiler,AM$3,FALSE),0)","v":0},{"$f":"IFERROR('Transport og emballage'!$G63/'Transport og emballage'!$F63/1000*VLOOKUP($E50,EnvProfiler,AN$3,FALSE),0)","v":0},{"$f":"IFERROR('Transport og emballage'!$G63/'Transport og emballage'!$F63/1000*VLOOKUP($E50,EnvProfiler,AO$3,FALSE),0)","v":0},{"$f":"IFERROR('Transport og emballage'!$G63/'Transport og emballage'!$F63/1000*VLOOKUP($E50,EnvProfiler,AP$3,FALSE),0)","v":0},{"$f":"IFERROR('Transport og emballage'!$G63/'Transport og emballage'!$F63/1000*VLOOKUP($E50,EnvProfiler,AQ$3,FALSE),0)","v":0},{"$f":"IFERROR('Transport og emballage'!$G63/'Transport og emballage'!$F63/1000*VLOOKUP($E50,EnvProfiler,AR$3,FALSE),0)","v":0},{"$f":"IFERROR('Transport og emballage'!$G63/'Transport og emballage'!$F63/1000*VLOOKUP($E50,EnvProfiler,AS$3,FALSE),0)","v":0},{"$f":"IFERROR('Transport og emballage'!$G63/'Transport og emballage'!$F63/1000*VLOOKUP($E50,EnvProfiler,AT$3,FALSE),0)","v":0},{"$f":"IFERROR('Transport og emballage'!$G63/'Transport og emballage'!$F63/1000*VLOOKUP($E50,EnvProfiler,AU$3,FALSE),0)","v":0},{"$f":"IFERROR('Transport og emballage'!$G63/'Transport og emballage'!$F63/1000*VLOOKUP($E50,EnvProfiler,AV$3,FALSE),0)","v":0},{"$f":"IFERROR('Transport og emballage'!$G63/'Transport og emballage'!$F63/1000*VLOOKUP($E50,EnvProfiler,AW$3,FALSE),0)","v":0},{"$f":"IFERROR('Transport og emballage'!$G63/'Transport og emballage'!$F63/1000*VLOOKUP($E50,EnvProfiler,AX$3,FALSE),0)","v":0},{"$f":"IFERROR('Transport og emballage'!$G63/'Transport og emballage'!$F63/1000*VLOOKUP($E50,EnvProfiler,AY$3,FALSE),0)","v":0},{"$f":"IFERROR('Transport og emballage'!$G63/'Transport og emballage'!$F63/1000*VLOOKUP($E50,EnvProfiler,AZ$3,FALSE),0)","v":0},{"$f":"IFERROR('Transport og emballage'!$G63/'Transport og emballage'!$F63/1000*VLOOKUP($E50,EnvProfiler,BA$3,FALSE),0)","v":0},{"$f":"IFERROR('Transport og emballage'!$G63/'Transport og emballage'!$F63/1000*VLOOKUP($E50,EnvProfiler,BB$3,FALSE),0)","v":0},{"$f":"IFERROR('Transport og emballage'!$G63/'Transport og emballage'!$F63/1000*VLOOKUP($E50,EnvProfiler,BC$3,FALSE),0)","v":0},null,null,null,{"$f":"IFERROR('Transport og emballage'!$K63/'Transport og emballage'!$J63/1000*VLOOKUP($H50,EnvProfiler,BG$3,FALSE),0)","v":0},{"$f":"IFERROR('Transport og emballage'!$K63/'Transport og emballage'!$J63/1000*VLOOKUP($H50,EnvProfiler,BH$3,FALSE),0)","v":0},{"$f":"IFERROR('Transport og emballage'!$K63/'Transport og emballage'!$J63/1000*VLOOKUP($H50,EnvProfiler,BI$3,FALSE),0)","v":0},{"$f":"IFERROR('Transport og emballage'!$K63/'Transport og emballage'!$J63/1000*VLOOKUP($H50,EnvProfiler,BJ$3,FALSE),0)","v":0},{"$f":"IFERROR('Transport og emballage'!$K63/'Transport og emballage'!$J63/1000*VLOOKUP($H50,EnvProfiler,BK$3,FALSE),0)","v":0},{"$f":"IFERROR('Transport og emballage'!$K63/'Transport og emballage'!$J63/1000*VLOOKUP($H50,EnvProfiler,BL$3,FALSE),0)","v":0},{"$f":"IFERROR('Transport og emballage'!$K63/'Transport og emballage'!$J63/1000*VLOOKUP($H50,EnvProfiler,BM$3,FALSE),0)","v":0},{"$f":"IFERROR('Transport og emballage'!$K63/'Transport og emballage'!$J63/1000*VLOOKUP($H50,EnvProfiler,BN$3,FALSE),0)","v":0},{"$f":"IFERROR('Transport og emballage'!$K63/'Transport og emballage'!$J63/1000*VLOOKUP($H50,EnvProfiler,BO$3,FALSE),0)","v":0},{"$f":"IFERROR('Transport og emballage'!$K63/'Transport og emballage'!$J63/1000*VLOOKUP($H50,EnvProfiler,BP$3,FALSE),0)","v":0},{"$f":"IFERROR('Transport og emballage'!$K63/'Transport og emballage'!$J63/1000*VLOOKUP($H50,EnvProfiler,BQ$3,FALSE),0)","v":0},{"$f":"IFERROR('Transport og emballage'!$K63/'Transport og emballage'!$J63/1000*VLOOKUP($H50,EnvProfiler,BR$3,FALSE),0)","v":0},{"$f":"IFERROR('Transport og emballage'!$K63/'Transport og emballage'!$J63/1000*VLOOKUP($H50,EnvProfiler,BS$3,FALSE),0)","v":0},{"$f":"IFERROR('Transport og emballage'!$K63/'Transport og emballage'!$J63/1000*VLOOKUP($H50,EnvProfiler,BT$3,FALSE),0)","v":0},{"$f":"IFERROR('Transport og emballage'!$K63/'Transport og emballage'!$J63/1000*VLOOKUP($H50,EnvProfiler,BU$3,FALSE),0)","v":0},{"$f":"IFERROR('Transport og emballage'!$K63/'Transport og emballage'!$J63/1000*VLOOKUP($H50,EnvProfiler,BV$3,FALSE),0)","v":0},{"$f":"IFERROR('Transport og emballage'!$K63/'Transport og emballage'!$J63/1000*VLOOKUP($H50,EnvProfiler,BW$3,FALSE),0)","v":0},{"$f":"IFERROR('Transport og emballage'!$K63/'Transport og emballage'!$J63/1000*VLOOKUP($H50,EnvProfiler,BX$3,FALSE),0)","v":0},{"$f":"IFERROR('Transport og emballage'!$K63/'Transport og emballage'!$J63/1000*VLOOKUP($H50,EnvProfiler,BY$3,FALSE),0)","v":0},{"$f":"IFERROR('Transport og emballage'!$K63/'Transport og emballage'!$J63/1000*VLOOKUP($H50,EnvProfiler,BZ$3,FALSE),0)","v":0},{"$f":"IFERROR('Transport og emballage'!$K63/'Transport og emballage'!$J63/1000*VLOOKUP($H50,EnvProfiler,CA$3,FALSE),0)","v":0},{"$f":"IFERROR('Transport og emballage'!$K63/'Transport og emballage'!$J63/1000*VLOOKUP($H50,EnvProfiler,CB$3,FALSE),0)","v":0},{"$f":"IFERROR('Transport og emballage'!$K63/'Transport og emballage'!$J63/1000*VLOOKUP($H50,EnvProfiler,CC$3,FALSE),0)","v":0},{"$f":"IFERROR('Transport og emballage'!$K63/'Transport og emballage'!$J63/1000*VLOOKUP($H50,EnvProfiler,CD$3,FALSE),0)","v":0},{"$f":"IFERROR('Transport og emballage'!$K63/'Transport og emballage'!$J63/1000*VLOOKUP($H50,EnvProfiler,CE$3,FALSE),0)","v":0},{"$f":"IFERROR('Transport og emballage'!$K63/'Transport og emballage'!$J63/1000*VLOOKUP($H50,EnvProfiler,CF$3,FALSE),0)","v":0},{"$f":"IFERROR('Transport og emballage'!$K63/'Transport og emballage'!$J63/1000*VLOOKUP($H50,EnvProfiler,CG$3,FALSE),0)","v":0},{"$f":"IFERROR('Transport og emballage'!$K63/'Transport og emballage'!$J63/1000*VLOOKUP($H50,EnvProfiler,CH$3,FALSE),0)","v":0},{"$f":"IFERROR('Transport og emballage'!$K63/'Transport og emballage'!$J63/1000*VLOOKUP($H50,EnvProfiler,CI$3,FALSE),0)","v":0}]
[null,null,null,{"$f":"IF(ISBLANK('Transport og emballage'!E64),\"\",'Transport og emballage'!E64)","v":{"$error":"#N/A"}},{"$error":"#N/A"},null,{"$f":"IF(ISBLANK('Transport og emballage'!I64),\"\",'Transport og emballage'!I64)","v":{"$error":"#N/A"}},{"$error":"#N/A"},null,null,null,null,null,null,null,null,null,null,null,null,null,null,null,null,null,null,{"$f":"IFERROR('Transport og emballage'!$G64/'Transport og emballage'!$F64/1000*VLOOKUP($E51,EnvProfiler,AA$3,FALSE),0)","v":0},{"$f":"IFERROR('Transport og emballage'!$G64/'Transport og emballage'!$F64/1000*VLOOKUP($E51,EnvProfiler,AB$3,FALSE),0)","v":0},{"$f":"IFERROR('Transport og emballage'!$G64/'Transport og emballage'!$F64/1000*VLOOKUP($E51,EnvProfiler,AC$3,FALSE),0)","v":0},{"$f":"IFERROR('Transport og emballage'!$G64/'Transport og emballage'!$F64/1000*VLOOKUP($E51,EnvProfiler,AD$3,FALSE),0)","v":0},{"$f":"IFERROR('Transport og emballage'!$G64/'Transport og emballage'!$F64/1000*VLOOKUP($E51,EnvProfiler,AE$3,FALSE),0)","v":0},{"$f":"IFERROR('Transport og emballage'!$G64/'Transport og emballage'!$F64/1000*VLOOKUP($E51,EnvProfiler,AF$3,FALSE),0)","v":0},{"$f":"IFERROR('Transport og emballage'!$G64/'Transport og emballage'!$F64/1000*VLOOKUP($E51,EnvProfiler,AG$3,FALSE),0)","v":0},{"$f":"IFERROR('Transport og emballage'!$G64/'Transport og emballage'!$F64/1000*VLOOKUP($E51,EnvProfiler,AH$3,FALSE),0)","v":0},{"$f":"IFERROR('Transport og emballage'!$G64/'Transport og emballage'!$F64/1000*VLOOKUP($E51,EnvProfiler,AI$3,FALSE),0)","v":0},{"$f":"IFERROR('Transport og emballage'!$G64/'Transport og emballage'!$F64/1000*VLOOKUP($E51,EnvProfiler,AJ$3,FALSE),0)","v":0},{"$f":"IFERROR('Transport og emballage'!$G64/'Transport og emballage'!$F64/1000*VLOOKUP($E51,EnvProfiler,AK$3,FALSE),0)","v":0},{"$f":"IFERROR('Transport og emballage'!$G64/'Transport og emballage'!$F64/1000*VLOOKUP($E51,EnvProfiler,AL$3,FALSE),0)","v":0},{"$f":"IFERROR('Transport og emballage'!$G64/'Transport og emballage'!$F64/1000*VLOOKUP($E51,EnvProfiler,AM$3,FALSE),0)","v":0},{"$f":"IFERROR('Transport og emballage'!$G64/'Transport og emballage'!$F64/1000*VLOOKUP($E51,EnvProfiler,AN$3,FALSE),0)","v":0},{"$f":"IFERROR('Transport og emballage'!$G64/'Transport og emballage'!$F64/1000*VLOOKUP($E51,EnvProfiler,AO$3,FALSE),0)","v":0},{"$f":"IFERROR('Transport og emballage'!$G64/'Transport og emballage'!$F64/1000*VLOOKUP($E51,EnvProfiler,AP$3,FALSE),0)","v":0},{"$f":"IFERROR('Transport og emballage'!$G64/'Transport og emballage'!$F64/1000*VLOOKUP($E51,EnvProfiler,AQ$3,FALSE),0)","v":0},{"$f":"IFERROR('Transport og emballage'!$G64/'Transport og emballage'!$F64/1000*VLOOKUP($E51,EnvProfiler,AR$3,FALSE),0)","v":0},{"$f":"IFERROR('Transport og emballage'!$G64/'Transport og emballage'!$F64/1000*VLOOKUP($E51,EnvProfiler,AS$3,FALSE),0)","v":0},{"$f":"IFERROR('Transport og emballage'!$G64/'Transport og emballage'!$F64/1000*VLOOKUP($E51,EnvProfiler,AT$3,FALSE),0)","v":0},{"$f":"IFERROR('Transport og emballage'!$G64/'Transport og emballage'!$F64/1000*VLOOKUP($E51,EnvProfiler,AU$3,FALSE),0)","v":0},{"$f":"IFERROR('Transport og emballage'!$G64/'Transport og emballage'!$F64/1000*VLOOKUP($E51,EnvProfiler,AV$3,FALSE),0)","v":0},{"$f":"IFERROR('Transport og emballage'!$G64/'Transport og emballage'!$F64/1000*VLOOKUP($E51,EnvProfiler,AW$3,FALSE),0)","v":0},{"$f":"IFERROR('Transport og emballage'!$G64/'Transport og emballage'!$F64/1000*VLOOKUP($E51,EnvProfiler,AX$3,FALSE),0)","v":0},{"$f":"IFERROR('Transport og emballage'!$G64/'Transport og emballage'!$F64/1000*VLOOKUP($E51,EnvProfiler,AY$3,FALSE),0)","v":0},{"$f":"IFERROR('Transport og emballage'!$G64/'Transport og emballage'!$F64/1000*VLOOKUP($E51,EnvProfiler,AZ$3,FALSE),0)","v":0},{"$f":"IFERROR('Transport og emballage'!$G64/'Transport og emballage'!$F64/1000*VLOOKUP($E51,EnvProfiler,BA$3,FALSE),0)","v":0},{"$f":"IFERROR('Transport og emballage'!$G64/'Transport og emballage'!$F64/1000*VLOOKUP($E51,EnvProfiler,BB$3,FALSE),0)","v":0},{"$f":"IFERROR('Transport og emballage'!$G64/'Transport og emballage'!$F64/1000*VLOOKUP($E51,EnvProfiler,BC$3,FALSE),0)","v":0},null,null,null,{"$f":"IFERROR('Transport og emballage'!$K64/'Transport og emballage'!$J64/1000*VLOOKUP($H51,EnvProfiler,BG$3,FALSE),0)","v":0},{"$f":"IFERROR('Transport og emballage'!$K64/'Transport og emballage'!$J64/1000*VLOOKUP($H51,EnvProfiler,BH$3,FALSE),0)","v":0},{"$f":"IFERROR('Transport og emballage'!$K64/'Transport og emballage'!$J64/1000*VLOOKUP($H51,EnvProfiler,BI$3,FALSE),0)","v":0},{"$f":"IFERROR('Transport og emballage'!$K64/'Transport og emballage'!$J64/1000*VLOOKUP($H51,EnvProfiler,BJ$3,FALSE),0)","v":0},{"$f":"IFERROR('Transport og emballage'!$K64/'Transport og emballage'!$J64/1000*VLOOKUP($H51,EnvProfiler,BK$3,FALSE),0)","v":0},{"$f":"IFERROR('Transport og emballage'!$K64/'Transport og emballage'!$J64/1000*VLOOKUP($H51,EnvProfiler,BL$3,FALSE),0)","v":0},{"$f":"IFERROR('Transport og emballage'!$K64/'Transport og emballage'!$J64/1000*VLOOKUP($H51,EnvProfiler,BM$3,FALSE),0)","v":0},{"$f":"IFERROR('Transport og emballage'!$K64/'Transport og emballage'!$J64/1000*VLOOKUP($H51,EnvProfiler,BN$3,FALSE),0)","v":0},{"$f":"IFERROR('Transport og emballage'!$K64/'Transport og emballage'!$J64/1000*VLOOKUP($H51,EnvProfiler,BO$3,FALSE),0)","v":0},{"$f":"IFERROR('Transport og emballage'!$K64/'Transport og emballage'!$J64/1000*VLOOKUP($H51,EnvProfiler,BP$3,FALSE),0)","v":0},{"$f":"IFERROR('Transport og emballage'!$K64/'Transport og emballage'!$J64/1000*VLOOKUP($H51,EnvProfiler,BQ$3,FALSE),0)","v":0},{"$f":"IFERROR('Transport og emballage'!$K64/'Transport og emballage'!$J64/1000*VLOOKUP($H51,EnvProfiler,BR$3,FALSE),0)","v":0},{"$f":"IFERROR('Transport og emballage'!$K64/'Transport og emballage'!$J64/1000*VLOOKUP($H51,EnvProfiler,BS$3,FALSE),0)","v":0},{"$f":"IFERROR('Transport og emballage'!$K64/'Transport og emballage'!$J64/1000*VLOOKUP($H51,EnvProfiler,BT$3,FALSE),0)","v":0},{"$f":"IFERROR('Transport og emballage'!$K64/'Transport og emballage'!$J64/1000*VLOOKUP($H51,EnvProfiler,BU$3,FALSE),0)","v":0},{"$f":"IFERROR('Transport og emballage'!$K64/'Transport og emballage'!$J64/1000*VLOOKUP($H51,EnvProfiler,BV$3,FALSE),0)","v":0},{"$f":"IFERROR('Transport og emballage'!$K64/'Transport og emballage'!$J64/1000*VLOOKUP($H51,EnvProfiler,BW$3,FALSE),0)","v":0},{"$f":"IFERROR('Transport og emballage'!$K64/'Transport og emballage'!$J64/1000*VLOOKUP($H51,EnvProfiler,BX$3,FALSE),0)","v":0},{"$f":"IFERROR('Transport og emballage'!$K64/'Transport og emballage'!$J64/1000*VLOOKUP($H51,EnvProfiler,BY$3,FALSE),0)","v":0},{"$f":"IFERROR('Transport og emballage'!$K64/'Transport og emballage'!$J64/1000*VLOOKUP($H51,EnvProfiler,BZ$3,FALSE),0)","v":0},{"$f":"IFERROR('Transport og emballage'!$K64/'Transport og emballage'!$J64/1000*VLOOKUP($H51,EnvProfiler,CA$3,FALSE),0)","v":0},{"$f":"IFERROR('Transport og emballage'!$K64/'Transport og emballage'!$J64/1000*VLOOKUP($H51,EnvProfiler,CB$3,FALSE),0)","v":0},{"$f":"IFERROR('Transport og emballage'!$K64/'Transport og emballage'!$J64/1000*VLOOKUP($H51,EnvProfiler,CC$3,FALSE),0)","v":0},{"$f":"IFERROR('Transport og emballage'!$K64/'Transport og emballage'!$J64/1000*VLOOKUP($H51,EnvProfiler,CD$3,FALSE),0)","v":0},{"$f":"IFERROR('Transport og emballage'!$K64/'Transport og emballage'!$J64/1000*VLOOKUP($H51,EnvProfiler,CE$3,FALSE),0)","v":0},{"$f":"IFERROR('Transport og emballage'!$K64/'Transport og emballage'!$J64/1000*VLOOKUP($H51,EnvProfiler,CF$3,FALSE),0)","v":0},{"$f":"IFERROR('Transport og emballage'!$K64/'Transport og emballage'!$J64/1000*VLOOKUP($H51,EnvProfiler,CG$3,FALSE),0)","v":0},{"$f":"IFERROR('Transport og emballage'!$K64/'Transport og emballage'!$J64/1000*VLOOKUP($H51,EnvProfiler,CH$3,FALSE),0)","v":0},{"$f":"IFERROR('Transport og emballage'!$K64/'Transport og emballage'!$J64/1000*VLOOKUP($H51,EnvProfiler,CI$3,FALSE),0)","v":0}]
[null,null,null,{"$f":"IF(ISBLANK('Transport og emballage'!E65),\"\",'Transport og emballage'!E65)","v":{"$error":"#N/A"}},{"$error":"#N/A"},null,{"$f":"IF(ISBLANK('Transport og emballage'!I65),\"\",'Transport og emballage'!I65)","v":{"$error":"#N/A"}},{"$error":"#N/A"},null,null,null,null,null,null,null,null,null,null,null,null,null,null,null,null,null,null,{"$f":"IFERROR('Transport og emballage'!$G65/'Transport og emballage'!$F65/1000*VLOOKUP($E52,EnvProfiler,AA$3,FALSE),0)","v":0},{"$f":"IFERROR('Transport og emballage'!$G65/'Transport og emballage'!$F65/1000*VLOOKUP($E52,EnvProfiler,AB$3,FALSE),0)","v":0},{"$f":"IFERROR('Transport og emballage'!$G65/'Transport og emballage'!$F65/1000*VLOOKUP($E52,EnvProfiler,AC$3,FALSE),0)","v":0},{"$f":"IFERROR('Transport og emballage'!$G65/'Transport og emballage'!$F65/1000*VLOOKUP($E52,EnvProfiler,AD$3,FALSE),0)","v":0},{"$f":"IFERROR('Transport og emballage'!$G65/'Transport og emballage'!$F65/1000*VLOOKUP($E52,EnvProfiler,AE$3,FALSE),0)","v":0},{"$f":"IFERROR('Transport og emballage'!$G65/'Transport og emballage'!$F65/1000*VLOOKUP($E52,EnvProfiler,AF$3,FALSE),0)","v":0},{"$f":"IFERROR('Transport og emballage'!$G65/'Transport og emballage'!$F65/1000*VLOOKUP($E52,EnvProfiler,AG$3,FALSE),0)","v":0},{"$f":"IFERROR('Transport og emballage'!$G65/'Transport og emballage'!$F65/1000*VLOOKUP($E52,EnvProfiler,AH$3,FALSE),0)","v":0},{"$f":"IFERROR('Transport og emballage'!$G65/'Transport og emballage'!$F65/1000*VLOOKUP($E52,EnvProfiler,AI$3,FALSE),0)","v":0},{"$f":"IFERROR('Transport og emballage'!$G65/'Transport og emballage'!$F65/1000*VLOOKUP($E52,EnvProfiler,AJ$3,FALSE),0)","v":0},{"$f":"IFERROR('Transport og emballage'!$G65/'Transport og emballage'!$F65/1000*VLOOKUP($E52,EnvProfiler,AK$3,FALSE),0)","v":0},{"$f":"IFERROR('Transport og emballage'!$G65/'Transport og emballage'!$F65/1000*VLOOKUP($E52,EnvProfiler,AL$3,FALSE),0)","v":0},{"$f":"IFERROR('Transport og emballage'!$G65/'Transport og emballage'!$F65/1000*VLOOKUP($E52,EnvProfiler,AM$3,FALSE),0)","v":0},{"$f":"IFERROR('Transport og emballage'!$G65/'Transport og emballage'!$F65/1000*VLOOKUP($E52,EnvProfiler,AN$3,FALSE),0)","v":0},{"$f":"IFERROR('Transport og emballage'!$G65/'Transport og emballage'!$F65/1000*VLOOKUP($E52,EnvProfiler,AO$3,FALSE),0)","v":0},{"$f":"IFERROR('Transport og emballage'!$G65/'Transport og emballage'!$F65/1000*VLOOKUP($E52,EnvProfiler,AP$3,FALSE),0)","v":0},{"$f":"IFERROR('Transport og emballage'!$G65/'Transport og emballage'!$F65/1000*VLOOKUP($E52,EnvProfiler,AQ$3,FALSE),0)","v":0},{"$f":"IFERROR('Transport og emballage'!$G65/'Transport og emballage'!$F65/1000*VLOOKUP($E52,EnvProfiler,AR$3,FALSE),0)","v":0},{"$f":"IFERROR('Transport og emballage'!$G65/'Transport og emballage'!$F65/1000*VLOOKUP($E52,EnvProfiler,AS$3,FALSE),0)","v":0},{"$f":"IFERROR('Transport og emballage'!$G65/'Transport og emballage'!$F65/1000*VLOOKUP($E52,EnvProfiler,AT$3,FALSE),0)","v":0},{"$f":"IFERROR('Transport og emballage'!$G65/'Transport og emballage'!$F65/1000*VLOOKUP($E52,EnvProfiler,AU$3,FALSE),0)","v":0},{"$f":"IFERROR('Transport og emballage'!$G65/'Transport og emballage'!$F65/1000*VLOOKUP($E52,EnvProfiler,AV$3,FALSE),0)","v":0},{"$f":"IFERROR('Transport og emballage'!$G65/'Transport og emballage'!$F65/1000*VLOOKUP($E52,EnvProfiler,AW$3,FALSE),0)","v":0},{"$f":"IFERROR('Transport og emballage'!$G65/'Transport og emballage'!$F65/1000*VLOOKUP($E52,EnvProfiler,AX$3,FALSE),0)","v":0},{"$f":"IFERROR('Transport og emballage'!$G65/'Transport og emballage'!$F65/1000*VLOOKUP($E52,EnvProfiler,AY$3,FALSE),0)","v":0},{"$f":"IFERROR('Transport og emballage'!$G65/'Transport og emballage'!$F65/1000*VLOOKUP($E52,EnvProfiler,AZ$3,FALSE),0)","v":0},{"$f":"IFERROR('Transport og emballage'!$G65/'Transport og emballage'!$F65/1000*VLOOKUP($E52,EnvProfiler,BA$3,FALSE),0)","v":0},{"$f":"IFERROR('Transport og emballage'!$G65/'Transport og emballage'!$F65/1000*VLOOKUP($E52,EnvProfiler,BB$3,FALSE),0)","v":0},{"$f":"IFERROR('Transport og emballage'!$G65/'Transport og emballage'!$F65/1000*VLOOKUP($E52,EnvProfiler,BC$3,FALSE),0)","v":0},null,null,null,{"$f":"IFERROR('Transport og emballage'!$K65/'Transport og emballage'!$J65/1000*VLOOKUP($H52,EnvProfiler,BG$3,FALSE),0)","v":0},{"$f":"IFERROR('Transport og emballage'!$K65/'Transport og emballage'!$J65/1000*VLOOKUP($H52,EnvProfiler,BH$3,FALSE),0)","v":0},{"$f":"IFERROR('Transport og emballage'!$K65/'Transport og emballage'!$J65/1000*VLOOKUP($H52,EnvProfiler,BI$3,FALSE),0)","v":0},{"$f":"IFERROR('Transport og emballage'!$K65/'Transport og emballage'!$J65/1000*VLOOKUP($H52,EnvProfiler,BJ$3,FALSE),0)","v":0},{"$f":"IFERROR('Transport og emballage'!$K65/'Transport og emballage'!$J65/1000*VLOOKUP($H52,EnvProfiler,BK$3,FALSE),0)","v":0},{"$f":"IFERROR('Transport og emballage'!$K65/'Transport og emballage'!$J65/1000*VLOOKUP($H52,EnvProfiler,BL$3,FALSE),0)","v":0},{"$f":"IFERROR('Transport og emballage'!$K65/'Transport og emballage'!$J65/1000*VLOOKUP($H52,EnvProfiler,BM$3,FALSE),0)","v":0},{"$f":"IFERROR('Transport og emballage'!$K65/'Transport og emballage'!$J65/1000*VLOOKUP($H52,EnvProfiler,BN$3,FALSE),0)","v":0},{"$f":"IFERROR('Transport og emballage'!$K65/'Transport og emballage'!$J65/1000*VLOOKUP($H52,EnvProfiler,BO$3,FALSE),0)","v":0},{"$f":"IFERROR('Transport og emballage'!$K65/'Transport og emballage'!$J65/1000*VLOOKUP($H52,EnvProfiler,BP$3,FALSE),0)","v":0},{"$f":"IFERROR('Transport og emballage'!$K65/'Transport og emballage'!$J65/1000*VLOOKUP($H52,EnvProfiler,BQ$3,FALSE),0)","v":0},{"$f":"IFERROR('Transport og emballage'!$K65/'Transport og emballage'!$J65/1000*VLOOKUP($H52,EnvProfiler,BR$3,FALSE),0)","v":0},{"$f":"IFERROR('Transport og emballage'!$K65/'Transport og emballage'!$J65/1000*VLOOKUP($H52,EnvProfiler,BS$3,FALSE),0)","v":0},{"$f":"IFERROR('Transport og emballage'!$K65/'Transport og emballage'!$J65/1000*VLOOKUP($H52,EnvProfiler,BT$3,FALSE),0)","v":0},{"$f":"IFERROR('Transport og emballage'!$K65/'Transport og emballage'!$J65/1000*VLOOKUP($H52,EnvProfiler,BU$3,FALSE),0)","v":0},{"$f":"IFERROR('Transport og emballage'!$K65/'Transport og emballage'!$J65/1000*VLOOKUP($H52,EnvProfiler,BV$3,FALSE),0)","v":0},{"$f":"IFERROR('Transport og emballage'!$K65/'Transport og emballage'!$J65/1000*VLOOKUP($H52,EnvProfiler,BW$3,FALSE),0)","v":0},{"$f":"IFERROR('Transport og emballage'!$K65/'Transport og emballage'!$J65/1000*VLOOKUP($H52,EnvProfiler,BX$3,FALSE),0)","v":0},{"$f":"IFERROR('Transport og emballage'!$K65/'Transport og emballage'!$J65/1000*VLOOKUP($H52,EnvProfiler,BY$3,FALSE),0)","v":0},{"$f":"IFERROR('Transport og emballage'!$K65/'Transport og emballage'!$J65/1000*VLOOKUP($H52,EnvProfiler,BZ$3,FALSE),0)","v":0},{"$f":"IFERROR('Transport og emballage'!$K65/'Transport og emballage'!$J65/1000*VLOOKUP($H52,EnvProfiler,CA$3,FALSE),0)","v":0},{"$f":"IFERROR('Transport og emballage'!$K65/'Transport og emballage'!$J65/1000*VLOOKUP($H52,EnvProfiler,CB$3,FALSE),0)","v":0},{"$f":"IFERROR('Transport og emballage'!$K65/'Transport og emballage'!$J65/1000*VLOOKUP($H52,EnvProfiler,CC$3,FALSE),0)","v":0},{"$f":"IFERROR('Transport og emballage'!$K65/'Transport og emballage'!$J65/1000*VLOOKUP($H52,EnvProfiler,CD$3,FALSE),0)","v":0},{"$f":"IFERROR('Transport og emballage'!$K65/'Transport og emballage'!$J65/1000*VLOOKUP($H52,EnvProfiler,CE$3,FALSE),0)","v":0},{"$f":"IFERROR('Transport og emballage'!$K65/'Transport og emballage'!$J65/1000*VLOOKUP($H52,EnvProfiler,CF$3,FALSE),0)","v":0},{"$f":"IFERROR('Transport og emballage'!$K65/'Transport og emballage'!$J65/1000*VLOOKUP($H52,EnvProfiler,CG$3,FALSE),0)","v":0},{"$f":"IFERROR('Transport og emballage'!$K65/'Transport og emballage'!$J65/1000*VLOOKUP($H52,EnvProfiler,CH$3,FALSE),0)","v":0},{"$f":"IFERROR('Transport og emballage'!$K65/'Transport og emballage'!$J65/1000*VLOOKUP($H52,EnvProfiler,CI$3,FALSE),0)","v":0}]
[null,null,null,{"$f":"IF(ISBLANK('Transport og emballage'!E66),\"\",'Transport og emballage'!E66)","v":{"$error":"#N/A"}},{"$error":"#N/A"},null,{"$f":"IF(ISBLANK('Transport og emballage'!I66),\"\",'Transport og emballage'!I66)","v":{"$error":"#N/A"}},{"$error":"#N/A"},null,null,null,null,null,null,null,null,null,null,null,null,null,null,null,null,null,null,{"$f":"IFERROR('Transport og emballage'!$G66/'Transport og emballage'!$F66/1000*VLOOKUP($E53,EnvProfiler,AA$3,FALSE),0)","v":0},{"$f":"IFERROR('Transport og emballage'!$G66/'Transport og emballage'!$F66/1000*VLOOKUP($E53,EnvProfiler,AB$3,FALSE),0)","v":0},{"$f":"IFERROR('Transport og emballage'!$G66/'Transport og emballage'!$F66/1000*VLOOKUP($E53,EnvProfiler,AC$3,FALSE),0)","v":0},{"$f":"IFERROR('Transport og emballage'!$G66/'Transport og emballage'!$F66/1000*VLOOKUP($E53,EnvProfiler,AD$3,FALSE),0)","v":0},{"$f":"IFERROR('Transport og emballage'!$G66/'Transport og emballage'!$F66/1000*VLOOKUP($E53,EnvProfiler,AE$3,FALSE),0)","v":0},{"$f":"IFERROR('Transport og emballage'!$G66/'Transport og emballage'!$F66/1000*VLOOKUP($E53,EnvProfiler,AF$3,FALSE),0)","v":0},{"$f":"IFERROR('Transport og emballage'!$G66/'Transport og emballage'!$F66/1000*VLOOKUP($E53,EnvProfiler,AG$3,FALSE),0)","v":0},{"$f":"IFERROR('Transport og emballage'!$G66/'Transport og emballage'!$F66/1000*VLOOKUP($E53,EnvProfiler,AH$3,FALSE),0)","v":0},{"$f":"IFERROR('Transport og emballage'!$G66/'Transport og emballage'!$F66/1000*VLOOKUP($E53,EnvProfiler,AI$3,FALSE),0)","v":0},{"$f":"IFERROR('Transport og emballage'!$G66/'Transport og emballage'!$F66/1000*VLOOKUP($E53,EnvProfiler,AJ$3,FALSE),0)","v":0},{"$f":"IFERROR('Transport og emballage'!$G66/'Transport og emballage'!$F66/1000*VLOOKUP($E53,EnvProfiler,AK$3,FALSE),0)","v":0},{"$f":"IFERROR('Transport og emballage'!$G66/'Transport og emballage'!$F66/1000*VLOOKUP($E53,EnvProfiler,AL$3,FALSE),0)","v":0},{"$f":"IFERROR('Transport og emballage'!$G66/'Transport og emballage'!$F66/1000*VLOOKUP($E53,EnvProfiler,AM$3,FALSE),0)","v":0},{"$f":"IFERROR('Transport og emballage'!$G66/'Transport og emballage'!$F66/1000*VLOOKUP($E53,EnvProfiler,AN$3,FALSE),0)","v":0},{"$f":"IFERROR('Transport og emballage'!$G66/'Transport og emballage'!$F66/1000*VLOOKUP($E53,EnvProfiler,AO$3,FALSE),0)","v":0},{"$f":"IFERROR('Transport og emballage'!$G66/'Transport og emballage'!$F66/1000*VLOOKUP($E53,EnvProfiler,AP$3,FALSE),0)","v":0},{"$f":"IFERROR('Transport og emballage'!$G66/'Transport og emballage'!$F66/1000*VLOOKUP($E53,EnvProfiler,AQ$3,FALSE),0)","v":0},{"$f":"IFERROR('Transport og emballage'!$G66/'Transport og emballage'!$F66/1000*VLOOKUP($E53,EnvProfiler,AR$3,FALSE),0)","v":0},{"$f":"IFERROR('Transport og emballage'!$G66/'Transport og emballage'!$F66/1000*VLOOKUP($E53,EnvProfiler,AS$3,FALSE),0)","v":0},{"$f":"IFERROR('Transport og emballage'!$G66/'Transport og emballage'!$F66/1000*VLOOKUP($E53,EnvProfiler,AT$3,FALSE),0)","v":0},{"$f":"IFERROR('Transport og emballage'!$G66/'Transport og emballage'!$F66/1000*VLOOKUP($E53,EnvProfiler,AU$3,FALSE),0)","v":0},{"$f":"IFERROR('Transport og emballage'!$G66/'Transport og emballage'!$F66/1000*VLOOKUP($E53,EnvProfiler,AV$3,FALSE),0)","v":0},{"$f":"IFERROR('Transport og emballage'!$G66/'Transport og emballage'!$F66/1000*VLOOKUP($E53,EnvProfiler,AW$3,FALSE),0)","v":0},{"$f":"IFERROR('Transport og emballage'!$G66/'Transport og emballage'!$F66/1000*VLOOKUP($E53,EnvProfiler,AX$3,FALSE),0)","v":0},{"$f":"IFERROR('Transport og emballage'!$G66/'Transport og emballage'!$F66/1000*VLOOKUP($E53,EnvProfiler,AY$3,FALSE),0)","v":0},{"$f":"IFERROR('Transport og emballage'!$G66/'Transport og emballage'!$F66/1000*VLOOKUP($E53,EnvProfiler,AZ$3,FALSE),0)","v":0},{"$f":"IFERROR('Transport og emballage'!$G66/'Transport og emballage'!$F66/1000*VLOOKUP($E53,EnvProfiler,BA$3,FALSE),0)","v":0},{"$f":"IFERROR('Transport og emballage'!$G66/'Transport og emballage'!$F66/1000*VLOOKUP($E53,EnvProfiler,BB$3,FALSE),0)","v":0},{"$f":"IFERROR('Transport og emballage'!$G66/'Transport og emballage'!$F66/1000*VLOOKUP($E53,EnvProfiler,BC$3,FALSE),0)","v":0},null,null,null,{"$f":"IFERROR('Transport og emballage'!$K66/'Transport og emballage'!$J66/1000*VLOOKUP($H53,EnvProfiler,BG$3,FALSE),0)","v":0},{"$f":"IFERROR('Transport og emballage'!$K66/'Transport og emballage'!$J66/1000*VLOOKUP($H53,EnvProfiler,BH$3,FALSE),0)","v":0},{"$f":"IFERROR('Transport og emballage'!$K66/'Transport og emballage'!$J66/1000*VLOOKUP($H53,EnvProfiler,BI$3,FALSE),0)","v":0},{"$f":"IFERROR('Transport og emballage'!$K66/'Transport og emballage'!$J66/1000*VLOOKUP($H53,EnvProfiler,BJ$3,FALSE),0)","v":0},{"$f":"IFERROR('Transport og emballage'!$K66/'Transport og emballage'!$J66/1000*VLOOKUP($H53,EnvProfiler,BK$3,FALSE),0)","v":0},{"$f":"IFERROR('Transport og emballage'!$K66/'Transport og emballage'!$J66/1000*VLOOKUP($H53,EnvProfiler,BL$3,FALSE),0)","v":0},{"$f":"IFERROR('Transport og emballage'!$K66/'Transport og emballage'!$J66/1000*VLOOKUP($H53,EnvProfiler,BM$3,FALSE),0)","v":0},{"$f":"IFERROR('Transport og emballage'!$K66/'Transport og emballage'!$J66/1000*VLOOKUP($H53,EnvProfiler,BN$3,FALSE),0)","v":0},{"$f":"IFERROR('Transport og emballage'!$K66/'Transport og emballage'!$J66/1000*VLOOKUP($H53,EnvProfiler,BO$3,FALSE),0)","v":0},{"$f":"IFERROR('Transport og emballage'!$K66/'Transport og emballage'!$J66/1000*VLOOKUP($H53,EnvProfiler,BP$3,FALSE),0)","v":0},{"$f":"IFERROR('Transport og emballage'!$K66/'Transport og emballage'!$J66/1000*VLOOKUP($H53,EnvProfiler,BQ$3,FALSE),0)","v":0},{"$f":"IFERROR('Transport og emballage'!$K66/'Transport og emballage'!$J66/1000*VLOOKUP($H53,EnvProfiler,BR$3,FALSE),0)","v":0},{"$f":"IFERROR('Transport og emballage'!$K66/'Transport og emballage'!$J66/1000*VLOOKUP($H53,EnvProfiler,BS$3,FALSE),0)","v":0},{"$f":"IFERROR('Transport og emballage'!$K66/'Transport og emballage'!$J66/1000*VLOOKUP($H53,EnvProfiler,BT$3,FALSE),0)","v":0},{"$f":"IFERROR('Transport og emballage'!$K66/'Transport og emballage'!$J66/1000*VLOOKUP($H53,EnvProfiler,BU$3,FALSE),0)","v":0},{"$f":"IFERROR('Transport og emballage'!$K66/'Transport og emballage'!$J66/1000*VLOOKUP($H53,EnvProfiler,BV$3,FALSE),0)","v":0},{"$f":"IFERROR('Transport og emballage'!$K66/'Transport og emballage'!$J66/1000*VLOOKUP($H53,EnvProfiler,BW$3,FALSE),0)","v":0},{"$f":"IFERROR('Transport og emballage'!$K66/'Transport og emballage'!$J66/1000*VLOOKUP($H53,EnvProfiler,BX$3,FALSE),0)","v":0},{"$f":"IFERROR('Transport og emballage'!$K66/'Transport og emballage'!$J66/1000*VLOOKUP($H53,EnvProfiler,BY$3,FALSE),0)","v":0},{"$f":"IFERROR('Transport og emballage'!$K66/'Transport og emballage'!$J66/1000*VLOOKUP($H53,EnvProfiler,BZ$3,FALSE),0)","v":0},{"$f":"IFERROR('Transport og emballage'!$K66/'Transport og emballage'!$J66/1000*VLOOKUP($H53,EnvProfiler,CA$3,FALSE),0)","v":0},{"$f":"IFERROR('Transport og emballage'!$K66/'Transport og emballage'!$J66/1000*VLOOKUP($H53,EnvProfiler,CB$3,FALSE),0)","v":0},{"$f":"IFERROR('Transport og emballage'!$K66/'Transport og emballage'!$J66/1000*VLOOKUP($H53,EnvProfiler,CC$3,FALSE),0)","v":0},{"$f":"IFERROR('Transport og emballage'!$K66/'Transport og emballage'!$J66/1000*VLOOKUP($H53,EnvProfiler,CD$3,FALSE),0)","v":0},{"$f":"IFERROR('Transport og emballage'!$K66/'Transport og emballage'!$J66/1000*VLOOKUP($H53,EnvProfiler,CE$3,FALSE),0)","v":0},{"$f":"IFERROR('Transport og emballage'!$K66/'Transport og emballage'!$J66/1000*VLOOKUP($H53,EnvProfiler,CF$3,FALSE),0)","v":0},{"$f":"IFERROR('Transport og emballage'!$K66/'Transport og emballage'!$J66/1000*VLOOKUP($H53,EnvProfiler,CG$3,FALSE),0)","v":0},{"$f":"IFERROR('Transport og emballage'!$K66/'Transport og emballage'!$J66/1000*VLOOKUP($H53,EnvProfiler,CH$3,FALSE),0)","v":0},{"$f":"IFERROR('Transport og emballage'!$K66/'Transport og emballage'!$J66/1000*VLOOKUP($H53,EnvProfiler,CI$3,FALSE),0)","v":0}]
[null,null,null,{"$f":"IF(ISBLANK('Transport og emballage'!E67),\"\",'Transport og emballage'!E67)","v":{"$error":"#N/A"}},{"$error":"#N/A"},null,{"$f":"IF(ISBLANK('Transport og emballage'!I67),\"\",'Transport og emballage'!I67)","v":{"$error":"#N/A"}},{"$error":"#N/A"},null,null,null,null,null,null,null,null,null,null,null,null,null,null,null,null,null,null,{"$f":"IFERROR('Transport og emballage'!$G67/'Transport og emballage'!$F67/1000*VLOOKUP($E54,EnvProfiler,AA$3,FALSE),0)","v":0},{"$f":"IFERROR('Transport og emballage'!$G67/'Transport og emballage'!$F67/1000*VLOOKUP($E54,EnvProfiler,AB$3,FALSE),0)","v":0},{"$f":"IFERROR('Transport og emballage'!$G67/'Transport og emballage'!$F67/1000*VLOOKUP($E54,EnvProfiler,AC$3,FALSE),0)","v":0},{"$f":"IFERROR('Transport og emballage'!$G67/'Transport og emballage'!$F67/1000*VLOOKUP($E54,EnvProfiler,AD$3,FALSE),0)","v":0},{"$f":"IFERROR('Transport og emballage'!$G67/'Transport og emballage'!$F67/1000*VLOOKUP($E54,EnvProfiler,AE$3,FALSE),0)","v":0},{"$f":"IFERROR('Transport og emballage'!$G67/'Transport og emballage'!$F67/1000*VLOOKUP($E54,EnvProfiler,AF$3,FALSE),0)","v":0},{"$f":"IFERROR('Transport og emballage'!$G67/'Transport og emballage'!$F67/1000*VLOOKUP($E54,EnvProfiler,AG$3,FALSE),0)","v":0},{"$f":"IFERROR('Transport og emballage'!$G67/'Transport og emballage'!$F67/1000*VLOOKUP($E54,EnvProfiler,AH$3,FALSE),0)","v":0},{"$f":"IFERROR('Transport og emballage'!$G67/'Transport og emballage'!$F67/1000*VLOOKUP($E54,EnvProfiler,AI$3,FALSE),0)","v":0},{"$f":"IFERROR('Transport og emballage'!$G67/'Transport og emballage'!$F67/1000*VLOOKUP($E54,EnvProfiler,AJ$3,FALSE),0)","v":0},{"$f":"IFERROR('Transport og emballage'!$G67/'Transport og emballage'!$F67/1000*VLOOKUP($E54,EnvProfiler,AK$3,FALSE),0)","v":0},{"$f":"IFERROR('Transport og emballage'!$G67/'Transport og emballage'!$F67/1000*VLOOKUP($E54,EnvProfiler,AL$3,FALSE),0)","v":0},{"$f":"IFERROR('Transport og emballage'!$G67/'Transport og emballage'!$F67/1000*VLOOKUP($E54,EnvProfiler,AM$3,FALSE),0)","v":0},{"$f":"IFERROR('Transport og emballage'!$G67/'Transport og emballage'!$F67/1000*VLOOKUP($E54,EnvProfiler,AN$3,FALSE),0)","v":0},{"$f":"IFERROR('Transport og emballage'!$G67/'Transport og emballage'!$F67/1000*VLOOKUP($E54,EnvProfiler,AO$3,FALSE),0)","v":0},{"$f":"IFERROR('Transport og emballage'!$G67/'Transport og emballage'!$F67/1000*VLOOKUP($E54,EnvProfiler,AP$3,FALSE),0)","v":0},{"$f":"IFERROR('Transport og emballage'!$G67/'Transport og emballage'!$F67/1000*VLOOKUP($E54,EnvProfiler,AQ$3,FALSE),0)","v":0},{"$f":"IFERROR('Transport og emballage'!$G67/'Transport og emballage'!$F67/1000*VLOOKUP($E54,EnvProfiler,AR$3,FALSE),0)","v":0},{"$f":"IFERROR('Transport og emballage'!$G67/'Transport og emballage'!$F67/1000*VLOOKUP($E54,EnvProfiler,AS$3,FALSE),0)","v":0},{"$f":"IFERROR('Transport og emballage'!$G67/'Transport og emballage'!$F67/1000*VLOOKUP($E54,EnvProfiler,AT$3,FALSE),0)","v":0},{"$f":"IFERROR('Transport og emballage'!$G67/'Transport og emballage'!$F67/1000*VLOOKUP($E54,EnvProfiler,AU$3,FALSE),0)","v":0},{"$f":"IFERROR('Transport og emballage'!$G67/'Transport og emballage'!$F67/1000*VLOOKUP($E54,EnvProfiler,AV$3,FALSE),0)","v":0},{"$f":"IFERROR('Transport og emballage'!$G67/'Transport og emballage'!$F67/1000*VLOOKUP($E54,EnvProfiler,AW$3,FALSE),0)","v":0},{"$f":"IFERROR('Transport og emballage'!$G67/'Transport og emballage'!$F67/1000*VLOOKUP($E54,EnvProfiler,AX$3,FALSE),0)","v":0},{"$f":"IFERROR('Transport og emballage'!$G67/'Transport og emballage'!$F67/1000*VLOOKUP($E54,EnvProfiler,AY$3,FALSE),0)","v":0},{"$f":"IFERROR('Transport og emballage'!$G67/'Transport og emballage'!$F67/1000*VLOOKUP($E54,EnvProfiler,AZ$3,FALSE),0)","v":0},{"$f":"IFERROR('Transport og emballage'!$G67/'Transport og emballage'!$F67/1000*VLOOKUP($E54,EnvProfiler,BA$3,FALSE),0)","v":0},{"$f":"IFERROR('Transport og emballage'!$G67/'Transport og emballage'!$F67/1000*VLOOKUP($E54,EnvProfiler,BB$3,FALSE),0)","v":0},{"$f":"IFERROR('Transport og emballage'!$G67/'Transport og emballage'!$F67/1000*VLOOKUP($E54,EnvProfiler,BC$3,FALSE),0)","v":0},null,null,null,{"$f":"IFERROR('Transport og emballage'!$K67/'Transport og emballage'!$J67/1000*VLOOKUP($H54,EnvProfiler,BG$3,FALSE),0)","v":0},{"$f":"IFERROR('Transport og emballage'!$K67/'Transport og emballage'!$J67/1000*VLOOKUP($H54,EnvProfiler,BH$3,FALSE),0)","v":0},{"$f":"IFERROR('Transport og emballage'!$K67/'Transport og emballage'!$J67/1000*VLOOKUP($H54,EnvProfiler,BI$3,FALSE),0)","v":0},{"$f":"IFERROR('Transport og emballage'!$K67/'Transport og emballage'!$J67/1000*VLOOKUP($H54,EnvProfiler,BJ$3,FALSE),0)","v":0},{"$f":"IFERROR('Transport og emballage'!$K67/'Transport og emballage'!$J67/1000*VLOOKUP($H54,EnvProfiler,BK$3,FALSE),0)","v":0},{"$f":"IFERROR('Transport og emballage'!$K67/'Transport og emballage'!$J67/1000*VLOOKUP($H54,EnvProfiler,BL$3,FALSE),0)","v":0},{"$f":"IFERROR('Transport og emballage'!$K67/'Transport og emballage'!$J67/1000*VLOOKUP($H54,EnvProfiler,BM$3,FALSE),0)","v":0},{"$f":"IFERROR('Transport og emballage'!$K67/'Transport og emballage'!$J67/1000*VLOOKUP($H54,EnvProfiler,BN$3,FALSE),0)","v":0},{"$f":"IFERROR('Transport og emballage'!$K67/'Transport og emballage'!$J67/1000*VLOOKUP($H54,EnvProfiler,BO$3,FALSE),0)","v":0},{"$f":"IFERROR('Transport og emballage'!$K67/'Transport og emballage'!$J67/1000*VLOOKUP($H54,EnvProfiler,BP$3,FALSE),0)","v":0},{"$f":"IFERROR('Transport og emballage'!$K67/'Transport og emballage'!$J67/1000*VLOOKUP($H54,EnvProfiler,BQ$3,FALSE),0)","v":0},{"$f":"IFERROR('Transport og emballage'!$K67/'Transport og emballage'!$J67/1000*VLOOKUP($H54,EnvProfiler,BR$3,FALSE),0)","v":0},{"$f":"IFERROR('Transport og emballage'!$K67/'Transport og emballage'!$J67/1000*VLOOKUP($H54,EnvProfiler,BS$3,FALSE),0)","v":0},{"$f":"IFERROR('Transport og emballage'!$K67/'Transport og emballage'!$J67/1000*VLOOKUP($H54,EnvProfiler,BT$3,FALSE),0)","v":0},{"$f":"IFERROR('Transport og emballage'!$K67/'Transport og emballage'!$J67/1000*VLOOKUP($H54,EnvProfiler,BU$3,FALSE),0)","v":0},{"$f":"IFERROR('Transport og emballage'!$K67/'Transport og emballage'!$J67/1000*VLOOKUP($H54,EnvProfiler,BV$3,FALSE),0)","v":0},{"$f":"IFERROR('Transport og emballage'!$K67/'Transport og emballage'!$J67/1000*VLOOKUP($H54,EnvProfiler,BW$3,FALSE),0)","v":0},{"$f":"IFERROR('Transport og emballage'!$K67/'Transport og emballage'!$J67/1000*VLOOKUP($H54,EnvProfiler,BX$3,FALSE),0)","v":0},{"$f":"IFERROR('Transport og emballage'!$K67/'Transport og emballage'!$J67/1000*VLOOKUP($H54,EnvProfiler,BY$3,FALSE),0)","v":0},{"$f":"IFERROR('Transport og emballage'!$K67/'Transport og emballage'!$J67/1000*VLOOKUP($H54,EnvProfiler,BZ$3,FALSE),0)","v":0},{"$f":"IFERROR('Transport og emballage'!$K67/'Transport og emballage'!$J67/1000*VLOOKUP($H54,EnvProfiler,CA$3,FALSE),0)","v":0},{"$f":"IFERROR('Transport og emballage'!$K67/'Transport og emballage'!$J67/1000*VLOOKUP($H54,EnvProfiler,CB$3,FALSE),0)","v":0},{"$f":"IFERROR('Transport og emballage'!$K67/'Transport og emballage'!$J67/1000*VLOOKUP($H54,EnvProfiler,CC$3,FALSE),0)","v":0},{"$f":"IFERROR('Transport og emballage'!$K67/'Transport og emballage'!$J67/1000*VLOOKUP($H54,EnvProfiler,CD$3,FALSE),0)","v":0},{"$f":"IFERROR('Transport og emballage'!$K67/'Transport og emballage'!$J67/1000*VLOOKUP($H54,EnvProfiler,CE$3,FALSE),0)","v":0},{"$f":"IFERROR('Transport og emballage'!$K67/'Transport og emballage'!$J67/1000*VLOOKUP($H54,EnvProfiler,CF$3,FALSE),0)","v":0},{"$f":"IFERROR('Transport og emballage'!$K67/'Transport og emballage'!$J67/1000*VLOOKUP($H54,EnvProfiler,CG$3,FALSE),0)","v":0},{"$f":"IFERROR('Transport og emballage'!$K67/'Transport og emballage'!$J67/1000*VLOOKUP($H54,EnvProfiler,CH$3,FALSE),0)","v":0},{"$f":"IFERROR('Transport og emballage'!$K67/'Transport og emballage'!$J67/1000*VLOOKUP($H54,EnvProfiler,CI$3,FALSE),0)","v":0}]
[]
[null,null,"Emballage - brug, vask, vedligeholdelse, sterilisering"]
[null,null,null,"Emballagedel","End of Life håndtering",null,"Emballagedel","End of Life håndtering"]
[null,null,null,{"$f":"IF(ISBLANK('Transport og emballage'!E92),\"\",'Transport og emballage'!E92)","v":{"$error":"#N/A"}},{"$error":"#N/A"},null,{"$f":"IF(ISBLANK('Transport og emballage'!I92),\"\",'Transport og emballage'!I92)","v":{"$error":"#N/A"}},{"$error":"#N/A"},null,null,null,null,null,null,null,null,null,null,null,null,null,null,null,null,null,null,{"$f":"IFERROR('Transport og emballage'!$G92/'Transport og emballage'!$F92/1000*VLOOKUP($E58,EnvProfiler,AA$3,FALSE),0)","v":0},{"$f":"IFERROR('Transport og emballage'!$G92/'Transport og emballage'!$F92/1000*VLOOKUP($E58,EnvProfiler,AB$3,FALSE),0)","v":0},{"$f":"IFERROR('Transport og emballage'!$G92/'Transport og emballage'!$F92/1000*VLOOKUP($E58,EnvProfiler,AC$3,FALSE),0)","v":0},{"$f":"IFERROR('Transport og emballage'!$G92/'Transport og emballage'!$F92/1000*VLOOKUP($E58,EnvProfiler,AD$3,FALSE),0)","v":0},{"$f":"IFERROR('Transport og emballage'!$G92/'Transport og emballage'!$F92/1000*VLOOKUP($E58,EnvProfiler,AE$3,FALSE),0)","v":0},{"$f":"IFERROR('Transport og emballage'!$G92/'Transport og emballage'!$F92/1000*VLOOKUP($E58,EnvProfiler,AF$3,FALSE),0)","v":0},{"$f":"IFERROR('Transport og emballage'!$G92/'Transport og emballage'!$F92/1000*VLOOKUP($E58,EnvProfiler,AG$3,FALSE),0)","v":0},{"$f":"IFERROR('Transport og emballage'!$G92/'Transport og emballage'!$F92/1000*VLOOKUP($E58,EnvProfiler,AH$3,FALSE),0)","v":0},{"$f":"IFERROR('Transport og emballage'!$G92/'Transport og emballage'!$F92/1000*VLOOKUP($E58,EnvProfiler,AI$3,FALSE),0)","v":0},{"$f":"IFERROR('Transport og emballage'!$G92/'Transport og emballage'!$F92/1000*VLOOKUP($E58,EnvProfiler,AJ$3,FALSE),0)","v":0},{"$f":"IFERROR('Transport og emballage'!$G92/'Transport og emballage'!$F92/1000*VLOOKUP($E58,EnvProfiler,AK$3,FALSE),0)","v":0},{"$f":"IFERROR('Transport og emballage'!$G92/'Transport og emballage'!$F92/1000*VLOOKUP($E58,EnvProfiler,AL$3,FALSE),0)","v":0},{"$f":"IFERROR('Transport og emballage'!$G92/'Transport og emballage'!$F92/1000*VLOOKUP($E58,EnvProfiler,AM$3,FALSE),0)","v":0},{"$f":"IFERROR('Transport og emballage'!$G92/'Transport og emballage'!$F92/1000*VLOOKUP($E58,EnvProfiler,AN$3,FALSE),0)","v":0},{"$f":"IFERROR('Transport og emballage'!$G92/'Transport og emballage'!$F92/1000*VLOOKUP($E58,EnvProfiler,AO$3,FALSE),0)","v":0},{"$f":"IFERROR('Transport og emballage'!$G92/'Transport og emballage'!$F92/1000*VLOOKUP($E58,EnvProfiler,AP$3,FALSE),0)","v":0},{"$f":"IFERROR('Transport og emballage'!$G92/'Transport og emballage'!$F92/1000*VLOOKUP($E58,EnvProfiler,AQ$3,FALSE),0)","v":0},{"$f":"IFERROR('Transport og emballage'!$G92/'Transport og emballage'!$F92/1000*VLOOKUP($E58,EnvProfiler,AR$3,FALSE),0)","v":0},{"$f":"IFERROR('Transport og emballage'!$G92/'Transport og emballage'!$F92/1000*VLOOKUP($E58,EnvProfiler,AS$3,FALSE),0)","v":0},{"$f":"IFERROR('Transport og emballage'!$G92/'Transport og emballage'!$F92/1000*VLOOKUP($E58,EnvProfiler,AT$3,FALSE),0)","v":0},{"$f":"IFERROR('Transport og emballage'!$G92/'Transport og emballage'!$F92/1000*VLOOKUP($E58,EnvProfiler,AU$3,FALSE),0)","v":0},{"$f":"IFERROR('Transport og emballage'!$G92/'Transport og emballage'!$F92/1000*VLOOKUP($E58,EnvProfiler,AV$3,FALSE),0)","v":0},{"$f":"IFERROR('Transport og emballage'!$G92/'Transport og emballage'!$F92/1000*VLOOKUP($E58,EnvProfiler,AW$3,FALSE),0)","v":0},{"$f":"IFERROR('Transport og emballage'!$G92/'Transport og emballage'!$F92/1000*VLOOKUP($E58,EnvProfiler,AX$3,FALSE),0)","v":0},{"$f":"IFERROR('Transport og emballage'!$G92/'Transport og emballage'!$F92/1000*VLOOKUP($E58,EnvProfiler,AY$3,FALSE),0)","v":0},{"$f":"IFERROR('Transport og emballage'!$G92/'Transport og emballage'!$F92/1000*VLOOKUP($E58,EnvProfiler,AZ$3,FALSE),0)","v":0},{"$f":"IFERROR('Transport og emballage'!$G92/'Transport og emballage'!$F92/1000*VLOOKUP($E58,EnvProfiler,BA$3,FALSE),0)","v":0},{"$f":"IFERROR('Transport og emballage'!$G92/'Transport og emballage'!$F92/1000*VLOOKUP($E58,EnvProfiler,BB$3,FALSE),0)","v":0},{"$f":"IFERROR('Transport og emballage'!$G92/'Transport og emballage'!$F92/1000*VLOOKUP($E58,EnvProfiler,BC$3,FALSE),0)","v":0},null,null,null,{"$f":"IFERROR('Transport og emballage'!$K92/'Transport og emballage'!$J92/1000*VLOOKUP($H58,EnvProfiler,BG$3,FALSE),0)","v":0},{"$f":"IFERROR('Transport og emballage'!$K92/'Transport og emballage'!$J92/1000*VLOOKUP($H58,EnvProfiler,BH$3,FALSE),0)","v":0},{"$f":"IFERROR('Transport og emballage'!$K92/'Transport og emballage'!$J92/1000*VLOOKUP($H58,EnvProfiler,BI$3,FALSE),0)","v":0},{"$f":"IFERROR('Transport og emballage'!$K92/'Transport og emballage'!$J92/1000*VLOOKUP($H58,EnvProfiler,BJ$3,FALSE),0)","v":0},{"$f":"IFERROR('Transport og emballage'!$K92/'Transport og emballage'!$J92/1000*VLOOKUP($H58,EnvProfiler,BK$3,FALSE),0)","v":0},{"$f":"IFERROR('Transport og emballage'!$K92/'Transport og emballage'!$J92/1000*VLOOKUP($H58,EnvProfiler,BL$3,FALSE),0)","v":0},{"$f":"IFERROR('Transport og emballage'!$K92/'Transport og emballage'!$J92/1000*VLOOKUP($H58,EnvProfiler,BM$3,FALSE),0)","v":0},{"$f":"IFERROR('Transport og emballage'!$K92/'Transport og emballage'!$J92/1000*VLOOKUP($H58,EnvProfiler,BN$3,FALSE),0)","v":0},{"$f":"IFERROR('Transport og emballage'!$K92/'Transport og emballage'!$J92/1000*VLOOKUP($H58,EnvProfiler,BO$3,FALSE),0)","v":0},{"$f":"IFERROR('Transport og emballage'!$K92/'Transport og emballage'!$J92/1000*VLOOKUP($H58,EnvProfiler,BP$3,FALSE),0)","v":0},{"$f":"IFERROR('Transport og emballage'!$K92/'Transport og emballage'!$J92/1000*VLOOKUP($H58,EnvProfiler,BQ$3,FALSE),0)","v":0},{"$f":"IFERROR('Transport og emballage'!$K92/'Transport og emballage'!$J92/1000*VLOOKUP($H58,EnvProfiler,BR$3,FALSE),0)","v":0},{"$f":"IFERROR('Transport og emballage'!$K92/'Transport og emballage'!$J92/1000*VLOOKUP($H58,EnvProfiler,BS$3,FALSE),0)","v":0},{"$f":"IFERROR('Transport og emballage'!$K92/'Transport og emballage'!$J92/1000*VLOOKUP($H58,EnvProfiler,BT$3,FALSE),0)","v":0},{"$f":"IFERROR('Transport og emballage'!$K92/'Transport og emballage'!$J92/1000*VLOOKUP($H58,EnvProfiler,BU$3,FALSE),0)","v":0},{"$f":"IFERROR('Transport og emballage'!$K92/'Transport og emballage'!$J92/1000*VLOOKUP($H58,EnvProfiler,BV$3,FALSE),0)","v":0},{"$f":"IFERROR('Transport og emballage'!$K92/'Transport og emballage'!$J92/1000*VLOOKUP($H58,EnvProfiler,BW$3,FALSE),0)","v":0},{"$f":"IFERROR('Transport og emballage'!$K92/'Transport og emballage'!$J92/1000*VLOOKUP($H58,EnvProfiler,BX$3,FALSE),0)","v":0},{"$f":"IFERROR('Transport og emballage'!$K92/'Transport og emballage'!$J92/1000*VLOOKUP($H58,EnvProfiler,BY$3,FALSE),0)","v":0},{"$f":"IFERROR('Transport og emballage'!$K92/'Transport og emballage'!$J92/1000*VLOOKUP($H58,EnvProfiler,BZ$3,FALSE),0)","v":0},{"$f":"IFERROR('Transport og emballage'!$K92/'Transport og emballage'!$J92/1000*VLOOKUP($H58,EnvProfiler,CA$3,FALSE),0)","v":0},{"$f":"IFERROR('Transport og emballage'!$K92/'Transport og emballage'!$J92/1000*VLOOKUP($H58,EnvProfiler,CB$3,FALSE),0)","v":0},{"$f":"IFERROR('Transport og emballage'!$K92/'Transport og emballage'!$J92/1000*VLOOKUP($H58,EnvProfiler,CC$3,FALSE),0)","v":0},{"$f":"IFERROR('Transport og emballage'!$K92/'Transport og emballage'!$J92/1000*VLOOKUP($H58,EnvProfiler,CD$3,FALSE),0)","v":0},{"$f":"IFERROR('Transport og emballage'!$K92/'Transport og emballage'!$J92/1000*VLOOKUP($H58,EnvProfiler,CE$3,FALSE),0)","v":0},{"$f":"IFERROR('Transport og emballage'!$K92/'Transport og emballage'!$J92/1000*VLOOKUP($H58,EnvProfiler,CF$3,FALSE),0)","v":0},{"$f":"IFERROR('Transport og emballage'!$K92/'Transport og emballage'!$J92/1000*VLOOKUP($H58,EnvProfiler,CG$3,FALSE),0)","v":0},{"$f":"IFERROR('Transport og emballage'!$K92/'Transport og emballage'!$J92/1000*VLOOKUP($H58,EnvProfiler,CH$3,FALSE),0)","v":0},{"$f":"IFERROR('Transport og emballage'!$K92/'Transport og emballage'!$J92/1000*VLOOKUP($H58,EnvProfiler,CI$3,FALSE),0)","v":0}]
[null,null,null,{"$f":"IF(ISBLANK('Transport og emballage'!E93),\"\",'Transport og emballage'!E93)","v":{"$error":"#N/A"}},{"$error":"#N/A"},null,{"$f":"IF(ISBLANK('Transport og emballage'!I93),\"\",'Transport og emballage'!I93)","v":{"$error":"#N/A"}},{"$error":"#N/A"},null,null,null,null,null,null,null,null,null,null,null,null,null,null,null,null,null,null,{"$f":"IFERROR('Transport og emballage'!$G93/'Transport og emballage'!$F93/1000*VLOOKUP($E59,EnvProfiler,AA$3,FALSE),0)","v":0},{"$f":"IFERROR('Transport og emballage'!$G93/'Transport og emballage'!$F93/1000*VLOOKUP($E59,EnvProfiler,AB$3,FALSE),0)","v":0},{"$f":"IFERROR('Transport og emballage'!$G93/'Transport og emballage'!$F93/1000*VLOOKUP($E59,EnvProfiler,AC$3,FALSE),0)","v":0},{"$f":"IFERROR('Transport og emballage'!$G93/'Transport og emballage'!$F93/1000*VLOOKUP($E59,EnvProfiler,AD$3,FALSE),0)","v":0},{"$f":"IFERROR('Transport og emballage'!$G93/'Transport og emballage'!$F93/1000*VLOOKUP($E59,EnvProfiler,AE$3,FALSE),0)","v":0},{"$f":"IFERROR('Transport og emballage'!$G93/'Transport og emballage'!$F93/1000*VLOOKUP($E59,EnvProfiler,AF$3,FALSE),0)","v":0},{"$f":"IFERROR('Transport og emballage'!$G93/'Transport og emballage'!$F93/1000*VLOOKUP($E59,EnvProfiler,AG$3,FALSE),0)","v":0},{"$f":"IFERROR('Transport og emballage'!$G93/'Transport og emballage'!$F93/1000*VLOOKUP($E59,EnvProfiler,AH$3,FALSE),0)","v":0},{"$f":"IFERROR('Transport og emballage'!$G93/'Transport og emballage'!$F93/1000*VLOOKUP($E59,EnvProfiler,AI$3,FALSE),0)","v":0},{"$f":"IFERROR('Transport og emballage'!$G93/'Transport og emballage'!$F93/1000*VLOOKUP($E59,EnvProfiler,AJ$3,FALSE),0)","v":0},{"$f":"IFERROR('Transport og emballage'!$G93/'Transport og emballage'!$F93/1000*VLOOKUP($E59,EnvProfiler,AK$3,FALSE),0)","v":0},{"$f":"IFERROR('Transport og emballage'!$G93/'Transport og emballage'!$F93/1000*VLOOKUP($E59,EnvProfiler,AL$3,FALSE),0)","v":0},{"$f":"IFERROR('Transport og emballage'!$G93/'Transport og emballage'!$F93/1000*VLOOKUP($E59,EnvProfiler,AM$3,FALSE),0)","v":0},{"$f":"IFERROR('Transport og emballage'!$G93/'Transport og emballage'!$F93/1000*VLOOKUP($E59,EnvProfiler,AN$3,FALSE),0)","v":0},{"$f":"IFERROR('Transport og emballage'!$G93/'Transport og emballage'!$F93/1000*VLOOKUP($E59,EnvProfiler,AO$3,FALSE),0)","v":0},{"$f":"IFERROR('Transport og emballage'!$G93/'Transport og emballage'!$F93/1000*VLOOKUP($E59,EnvProfiler,AP$3,FALSE),0)","v":0},{"$f":"IFERROR('Transport og emballage'!$G93/'Transport og emballage'!$F93/1000*VLOOKUP($E59,EnvProfiler,AQ$3,FALSE),0)","v":0},{"$f":"IFERROR('Transport og emballage'!$G93/'Transport og emballage'!$F93/1000*VLOOKUP($E59,EnvProfiler,AR$3,FALSE),0)","v":0},{"$f":"IFERROR('Transport og emballage'!$G93/'Transport og emballage'!$F93/1000*VLOOKUP($E59,EnvProfiler,AS$3,FALSE),0)","v":0},{"$f":"IFERROR('Transport og emballage'!$G93/'Transport og emballage'!$F93/1000*VLOOKUP($E59,EnvProfiler,AT$3,FALSE),0)","v":0},{"$f":"IFERROR('Transport og emballage'!$G93/'Transport og emballage'!$F93/1000*VLOOKUP($E59,EnvProfiler,AU$3,FALSE),0)","v":0},{"$f":"IFERROR('Transport og emballage'!$G93/'Transport og emballage'!$F93/1000*VLOOKUP($E59,EnvProfiler,AV$3,FALSE),0)","v":0},{"$f":"IFERROR('Transport og emballage'!$G93/'Transport og emballage'!$F93/1000*VLOOKUP($E59,EnvProfiler,AW$3,FALSE),0)","v":0},{"$f":"IFERROR('Transport og emballage'!$G93/'Transport og emballage'!$F93/1000*VLOOKUP($E59,EnvProfiler,AX$3,FALSE),0)","v":0},{"$f":"IFERROR('Transport og emballage'!$G93/'Transport og emballage'!$F93/1000*VLOOKUP($E59,EnvProfiler,AY$3,FALSE),0)","v":0},{"$f":"IFERROR('Transport og emballage'!$G93/'Transport og emballage'!$F93/1000*VLOOKUP($E59,EnvProfiler,AZ$3,FALSE),0)","v":0},{"$f":"IFERROR('Transport og emballage'!$G93/'Transport og emballage'!$F93/1000*VLOOKUP($E59,EnvProfiler,BA$3,FALSE),0)","v":0},{"$f":"IFERROR('Transport og emballage'!$G93/'Transport og emballage'!$F93/1000*VLOOKUP($E59,EnvProfiler,BB$3,FALSE),0)","v":0},{"$f":"IFERROR('Transport og emballage'!$G93/'Transport og emballage'!$F93/1000*VLOOKUP($E59,EnvProfiler,BC$3,FALSE),0)","v":0},null,null,null,{"$f":"IFERROR('Transport og emballage'!$K93/'Transport og emballage'!$J93/1000*VLOOKUP($H59,EnvProfiler,BG$3,FALSE),0)","v":0},{"$f":"IFERROR('Transport og emballage'!$K93/'Transport og emballage'!$J93/1000*VLOOKUP($H59,EnvProfiler,BH$3,FALSE),0)","v":0},{"$f":"IFERROR('Transport og emballage'!$K93/'Transport og emballage'!$J93/1000*VLOOKUP($H59,EnvProfiler,BI$3,FALSE),0)","v":0},{"$f":"IFERROR('Transport og emballage'!$K93/'Transport og emballage'!$J93/1000*VLOOKUP($H59,EnvProfiler,BJ$3,FALSE),0)","v":0},{"$f":"IFERROR('Transport og emballage'!$K93/'Transport og emballage'!$J93/1000*VLOOKUP($H59,EnvProfiler,BK$3,FALSE),0)","v":0},{"$f":"IFERROR('Transport og emballage'!$K93/'Transport og emballage'!$J93/1000*VLOOKUP($H59,EnvProfiler,BL$3,FALSE),0)","v":0},{"$f":"IFERROR('Transport og emballage'!$K93/'Transport og emballage'!$J93/1000*VLOOKUP($H59,EnvProfiler,BM$3,FALSE),0)","v":0},{"$f":"IFERROR('Transport og emballage'!$K93/'Transport og emballage'!$J93/1000*VLOOKUP($H59,EnvProfiler,BN$3,FALSE),0)","v":0},{"$f":"IFERROR('Transport og emballage'!$K93/'Transport og emballage'!$J93/1000*VLOOKUP($H59,EnvProfiler,BO$3,FALSE),0)","v":0},{"$f":"IFERROR('Transport og emballage'!$K93/'Transport og emballage'!$J93/1000*VLOOKUP($H59,EnvProfiler,BP$3,FALSE),0)","v":0},{"$f":"IFERROR('Transport og emballage'!$K93/'Transport og emballage'!$J93/1000*VLOOKUP($H59,EnvProfiler,BQ$3,FALSE),0)","v":0},{"$f":"IFERROR('Transport og emballage'!$K93/'Transport og emballage'!$J93/1000*VLOOKUP($H59,EnvProfiler,BR$3,FALSE),0)","v":0},{"$f":"IFERROR('Transport og emballage'!$K93/'Transport og emballage'!$J93/1000*VLOOKUP($H59,EnvProfiler,BS$3,FALSE),0)","v":0},{"$f":"IFERROR('Transport og emballage'!$K93/'Transport og emballage'!$J93/1000*VLOOKUP($H59,EnvProfiler,BT$3,FALSE),0)","v":0},{"$f":"IFERROR('Transport og emballage'!$K93/'Transport og emballage'!$J93/1000*VLOOKUP($H59,EnvProfiler,BU$3,FALSE),0)","v":0},{"$f":"IFERROR('Transport og emballage'!$K93/'Transport og emballage'!$J93/1000*VLOOKUP($H59,EnvProfiler,BV$3,FALSE),0)","v":0},{"$f":"IFERROR('Transport og emballage'!$K93/'Transport og emballage'!$J93/1000*VLOOKUP($H59,EnvProfiler,BW$3,FALSE),0)","v":0},{"$f":"IFERROR('Transport og emballage'!$K93/'Transport og emballage'!$J93/1000*VLOOKUP($H59,EnvProfiler,BX$3,FALSE),0)","v":0},{"$f":"IFERROR('Transport og emballage'!$K93/'Transport og emballage'!$J93/1000*VLOOKUP($H59,EnvProfiler,BY$3,FALSE),0)","v":0},{"$f":"IFERROR('Transport og emballage'!$K93/'Transport og emballage'!$J93/1000*VLOOKUP($H59,EnvProfiler,BZ$3,FALSE),0)","v":0},{"$f":"IFERROR('Transport og emballage'!$K93/'Transport og emballage'!$J93/1000*VLOOKUP($H59,EnvProfiler,CA$3,FALSE),0)","v":0},{"$f":"IFERROR('Transport og emballage'!$K93/'Transport og emballage'!$J93/1000*VLOOKUP($H59,EnvProfiler,CB$3,FALSE),0)","v":0},{"$f":"IFERROR('Transport og emballage'!$K93/'Transport og emballage'!$J93/1000*VLOOKUP($H59,EnvProfiler,CC$3,FALSE),0)","v":0},{"$f":"IFERROR('Transport og emballage'!$K93/'Transport og emballage'!$J93/1000*VLOOKUP($H59,EnvProfiler,CD$3,FALSE),0)","v":0},{"$f":"IFERROR('Transport og emballage'!$K93/'Transport og emballage'!$J93/1000*VLOOKUP($H59,EnvProfiler,CE$3,FALSE),0)","v":0},{"$f":"IFERROR('Transport og emballage'!$K93/'Transport og emballage'!$J93/1000*VLOOKUP($H59,EnvProfiler,CF$3,FALSE),0)","v":0},{"$f":"IFERROR('Transport og emballage'!$K93/'Transport og emballage'!$J93/1000*VLOOKUP($H59,EnvProfiler,CG$3,FALSE),0)","v":0},{"$f":"IFERROR('Transport og emballage'!$K93/'Transport og emballage'!$J93/1000*VLOOKUP($H59,EnvProfiler,CH$3,FALSE),0)","v":0},{"$f":"IFERROR('Transport og emballage'!$K93/'Transport og emballage'!$J93/1000*VLOOKUP($H59,EnvProfiler,CI$3,FALSE),0)","v":0}]
[null,null,null,{"$f":"IF(ISBLANK('Transport og emballage'!E94),\"\",'Transport og emballage'!E94)","v":{"$error":"#N/A"}},{"$error":"#N/A"},null,{"$f":"IF(ISBLANK('Transport og emballage'!I94),\"\",'Transport og emballage'!I94)","v":{"$error":"#N/A"}},{"$error":"#N/A"},null,null,null,null,null,null,null,null,null,null,null,null,null,null,null,null,null,null,{"$f":"IFERROR('Transport og emballage'!$G94/'Transport og emballage'!$F94/1000*VLOOKUP($E60,EnvProfiler,AA$3,FALSE),0)","v":0},{"$f":"IFERROR('Transport og emballage'!$G94/'Transport og emballage'!$F94/1000*VLOOKUP($E60,EnvProfiler,AB$3,FALSE),0)","v":0},{"$f":"IFERROR('Transport og emballage'!$G94/'Transport og emballage'!$F94/1000*VLOOKUP($E60,EnvProfiler,AC$3,FALSE),0)","v":0},{"$f":"IFERROR('Transport og emballage'!$G94/'Transport og emballage'!$F94/1000*VLOOKUP($E60,EnvProfiler,AD$3,FALSE),0)","v":0},{"$f":"IFERROR('Transport og emballage'!$G94/'Transport og emballage'!$F94/1000*VLOOKUP($E60,EnvProfiler,AE$3,FALSE),0)","v":0},{"$f":"IFERROR('Transport og emballage'!$G94/'Transport og emballage'!$F94/1000*VLOOKUP($E60,EnvProfiler,AF$3,FALSE),0)","v":0},{"$f":"IFERROR('Transport og emballage'!$G94/'Transport og emballage'!$F94/1000*VLOOKUP($E60,EnvProfiler,AG$3,FALSE),0)","v":0},{"$f":"IFERROR('Transport og emballage'!$G94/'Transport og emballage'!$F94/1000*VLOOKUP($E60,EnvProfiler,AH$3,FALSE),0)","v":0},{"$f":"IFERROR('Transport og emballage'!$G94/'Transport og emballage'!$F94/1000*VLOOKUP($E60,EnvProfiler,AI$3,FALSE),0)","v":0},{"$f":"IFERROR('Transport og emballage'!$G94/'Transport og emballage'!$F94/1000*VLOOKUP($E60,EnvProfiler,AJ$3,FALSE),0)","v":0},{"$f":"IFERROR('Transport og emballage'!$G94/'Transport og emballage'!$F94/1000*VLOOKUP($E60,EnvProfiler,AK$3,FALSE),0)","v":0},{"$f":"IFERROR('Transport og emballage'!$G94/'Transport og emballage'!$F94/1000*VLOOKUP($E60,EnvProfiler,AL$3,FALSE),0)","v":0},{"$f":"IFERROR('Transport og emballage'!$G94/'Transport og emballage'!$F94/1000*VLOOKUP($E60,EnvProfiler,AM$3,FALSE),0)","v":0},{"$f":"IFERROR('Transport og emballage'!$G94/'Transport og emballage'!$F94/1000*VLOOKUP($E60,EnvProfiler,AN$3,FALSE),0)","v":0},{"$f":"IFERROR('Transport og emballage'!$G94/'Transport og emballage'!$F94/1000*VLOOKUP($E60,EnvProfiler,AO$3,FALSE),0)","v":0},{"$f":"IFERROR('Transport og emballage'!$G94/'Transport og emballage'!$F94/1000*VLOOKUP($E60,EnvProfiler,AP$3,FALSE),0)","v":0},{"$f":"IFERROR('Transport og emballage'!$G94/'Transport og emballage'!$F94/1000*VLOOKUP($E60,EnvProfiler,AQ$3,FALSE),0)","v":0},{"$f":"IFERROR('Transport og emballage'!$G94/'Transport og emballage'!$F94/1000*VLOOKUP($E60,EnvProfiler,AR$3,FALSE),0)","v":0},{"$f":"IFERROR('Transport og emballage'!$G94/'Transport og emballage'!$F94/1000*VLOOKUP($E60,EnvProfiler,AS$3,FALSE),0)","v":0},{"$f":"IFERROR('Transport og emballage'!$G94/'Transport og emballage'!$F94/1000*VLOOKUP($E60,EnvProfiler,AT$3,FALSE),0)","v":0},{"$f":"IFERROR('Transport og emballage'!$G94/'Transport og emballage'!$F94/1000*VLOOKUP($E60,EnvProfiler,AU$3,FALSE),0)","v":0},{"$f":"IFERROR('Transport og emballage'!$G94/'Transport og emballage'!$F94/1000*VLOOKUP($E60,EnvProfiler,AV$3,FALSE),0)","v":0},{"$f":"IFERROR('Transport og emballage'!$G94/'Transport og emballage'!$F94/1000*VLOOKUP($E60,EnvProfiler,AW$3,FALSE),0)","v":0},{"$f":"IFERROR('Transport og emballage'!$G94/'Transport og emballage'!$F94/1000*VLOOKUP($E60,EnvProfiler,AX$3,FALSE),0)","v":0},{"$f":"IFERROR('Transport og emballage'!$G94/'Transport og emballage'!$F94/1000*VLOOKUP($E60,EnvProfiler,AY$3,FALSE),0)","v":0},{"$f":"IFERROR('Transport og emballage'!$G94/'Transport og emballage'!$F94/1000*VLOOKUP($E60,EnvProfiler,AZ$3,FALSE),0)","v":0},{"$f":"IFERROR('Transport og emballage'!$G94/'Transport og emballage'!$F94/1000*VLOOKUP($E60,EnvProfiler,BA$3,FALSE),0)","v":0},{"$f":"IFERROR('Transport og emballage'!$G94/'Transport og emballage'!$F94/1000*VLOOKUP($E60,EnvProfiler,BB$3,FALSE),0)","v":0},{"$f":"IFERROR('Transport og emballage'!$G94/'Transport og emballage'!$F94/1000*VLOOKUP($E60,EnvProfiler,BC$3,FALSE),0)","v":0},null,null,null,{"$f":"IFERROR('Transport og emballage'!$K94/'Transport og emballage'!$J94/1000*VLOOKUP($H60,EnvProfiler,BG$3,FALSE),0)","v":0},{"$f":"IFERROR('Transport og emballage'!$K94/'Transport og emballage'!$J94/1000*VLOOKUP($H60,EnvProfiler,BH$3,FALSE),0)","v":0},{"$f":"IFERROR('Transport og emballage'!$K94/'Transport og emballage'!$J94/1000*VLOOKUP($H60,EnvProfiler,BI$3,FALSE),0)","v":0},{"$f":"IFERROR('Transport og emballage'!$K94/'Transport og emballage'!$J94/1000*VLOOKUP($H60,EnvProfiler,BJ$3,FALSE),0)","v":0},{"$f":"IFERROR('Transport og emballage'!$K94/'Transport og emballage'!$J94/1000*VLOOKUP($H60,EnvProfiler,BK$3,FALSE),0)","v":0},{"$f":"IFERROR('Transport og emballage'!$K94/'Transport og emballage'!$J94/1000*VLOOKUP($H60,EnvProfiler,BL$3,FALSE),0)","v":0},{"$f":"IFERROR('Transport og emballage'!$K94/'Transport og emballage'!$J94/1000*VLOOKUP($H60,EnvProfiler,BM$3,FALSE),0)","v":0},{"$f":"IFERROR('Transport og emballage'!$K94/'Transport og emballage'!$J94/1000*VLOOKUP($H60,EnvProfiler,BN$3,FALSE),0)","v":0},{"$f":"IFERROR('Transport og emballage'!$K94/'Transport og emballage'!$J94/1000*VLOOKUP($H60,EnvProfiler,BO$3,FALSE),0)","v":0},{"$f":"IFERROR('Transport og emballage'!$K94/'Transport og emballage'!$J94/1000*VLOOKUP($H60,EnvProfiler,BP$3,FALSE),0)","v":0},{"$f":"IFERROR('Transport og emballage'!$K94/'Transport og emballage'!$J94/1000*VLOOKUP($H60,EnvProfiler,BQ$3,FALSE),0)","v":0},{"$f":"IFERROR('Transport og emballage'!$K94/'Transport og emballage'!$J94/1000*VLOOKUP($H60,EnvProfiler,BR$3,FALSE),0)","v":0},{"$f":"IFERROR('Transport og emballage'!$K94/'Transport og emballage'!$J94/1000*VLOOKUP($H60,EnvProfiler,BS$3,FALSE),0)","v":0},{"$f":"IFERROR('Transport og emballage'!$K94/'Transport og emballage'!$J94/1000*VLOOKUP($H60,EnvProfiler,BT$3,FALSE),0)","v":0},{"$f":"IFERROR('Transport og emballage'!$K94/'Transport og emballage'!$J94/1000*VLOOKUP($H60,EnvProfiler,BU$3,FALSE),0)","v":0},{"$f":"IFERROR('Transport og emballage'!$K94/'Transport og emballage'!$J94/1000*VLOOKUP($H60,EnvProfiler,BV$3,FALSE),0)","v":0},{"$f":"IFERROR('Transport og emballage'!$K94/'Transport og emballage'!$J94/1000*VLOOKUP($H60,EnvProfiler,BW$3,FALSE),0)","v":0},{"$f":"IFERROR('Transport og emballage'!$K94/'Transport og emballage'!$J94/1000*VLOOKUP($H60,EnvProfiler,BX$3,FALSE),0)","v":0},{"$f":"IFERROR('Transport og emballage'!$K94/'Transport og emballage'!$J94/1000*VLOOKUP($H60,EnvProfiler,BY$3,FALSE),0)","v":0},{"$f":"IFERROR('Transport og emballage'!$K94/'Transport og emballage'!$J94/1000*VLOOKUP($H60,EnvProfiler,BZ$3,FALSE),0)","v":0},{"$f":"IFERROR('Transport og emballage'!$K94/'Transport og emballage'!$J94/1000*VLOOKUP($H60,EnvProfiler,CA$3,FALSE),0)","v":0},{"$f":"IFERROR('Transport og emballage'!$K94/'Transport og emballage'!$J94/1000*VLOOKUP($H60,EnvProfiler,CB$3,FALSE),0)","v":0},{"$f":"IFERROR('Transport og emballage'!$K94/'Transport og emballage'!$J94/1000*VLOOKUP($H60,EnvProfiler,CC$3,FALSE),0)","v":0},{"$f":"IFERROR('Transport og emballage'!$K94/'Transport og emballage'!$J94/1000*VLOOKUP($H60,EnvProfiler,CD$3,FALSE),0)","v":0},{"$f":"IFERROR('Transport og emballage'!$K94/'Transport og emballage'!$J94/1000*VLOOKUP($H60,EnvProfiler,CE$3,FALSE),0)","v":0},{"$f":"IFERROR('Transport og emballage'!$K94/'Transport og emballage'!$J94/1000*VLOOKUP($H60,EnvProfiler,CF$3,FALSE),0)","v":0},{"$f":"IFERROR('Transport og emballage'!$K94/'Transport og emballage'!$J94/1000*VLOOKUP($H60,EnvProfiler,CG$3,FALSE),0)","v":0},{"$f":"IFERROR('Transport og emballage'!$K94/'Transport og emballage'!$J94/1000*VLOOKUP($H60,EnvProfiler,CH$3,FALSE),0)","v":0},{"$f":"IFERROR('Transport og emballage'!$K94/'Transport og emballage'!$J94/1000*VLOOKUP($H60,EnvProfiler,CI$3,FALSE),0)","v":0}]
[null,null,null,{"$f":"IF(ISBLANK('Transport og emballage'!E95),\"\",'Transport og emballage'!E95)","v":{"$error":"#N/A"}},{"$error":"#N/A"},null,{"$f":"IF(ISBLANK('Transport og emballage'!I95),\"\",'Transport og emballage'!I95)","v":{"$error":"#N/A"}},{"$error":"#N/A"},null,null,null,null,null,null,null,null,null,null,null,null,null,null,null,null,null,null,{"$f":"IFERROR('Transport og emballage'!$G95/'Transport og emballage'!$F95/1000*VLOOKUP($E61,EnvProfiler,AA$3,FALSE),0)","v":0},{"$f":"IFERROR('Transport og emballage'!$G95/'Transport og emballage'!$F95/1000*VLOOKUP($E61,EnvProfiler,AB$3,FALSE),0)","v":0},{"$f":"IFERROR('Transport og emballage'!$G95/'Transport og emballage'!$F95/1000*VLOOKUP($E61,EnvProfiler,AC$3,FALSE),0)","v":0},{"$f":"IFERROR('Transport og emballage'!$G95/'Transport og emballage'!$F95/1000*VLOOKUP($E61,EnvProfiler,AD$3,FALSE),0)","v":0},{"$f":"IFERROR('Transport og emballage'!$G95/'Transport og emballage'!$F95/1000*VLOOKUP($E61,EnvProfiler,AE$3,FALSE),0)","v":0},{"$f":"IFERROR('Transport og emballage'!$G95/'Transport og emballage'!$F95/1000*VLOOKUP($E61,EnvProfiler,AF$3,FALSE),0)","v":0},{"$f":"IFERROR('Transport og emballage'!$G95/'Transport og emballage'!$F95/1000*VLOOKUP($E61,EnvProfiler,AG$3,FALSE),0)","v":0},{"$f":"IFERROR('Transport og emballage'!$G95/'Transport og emballage'!$F95/1000*VLOOKUP($E61,EnvProfiler,AH$3,FALSE),0)","v":0},{"$f":"IFERROR('Transport og emballage'!$G95/'Transport og emballage'!$F95/1000*VLOOKUP($E61,EnvProfiler,AI$3,FALSE),0)","v":0},{"$f":"IFERROR('Transport og emballage'!$G95/'Transport og emballage'!$F95/1000*VLOOKUP($E61,EnvProfiler,AJ$3,FALSE),0)","v":0},{"$f":"IFERROR('Transport og emballage'!$G95/'Transport og emballage'!$F95/1000*VLOOKUP($E61,EnvProfiler,AK$3,FALSE),0)","v":0},{"$f":"IFERROR('Transport og emballage'!$G95/'Transport og emballage'!$F95/1000*VLOOKUP($E61,EnvProfiler,AL$3,FALSE),0)","v":0},{"$f":"IFERROR('Transport og emballage'!$G95/'Transport og emballage'!$F95/1000*VLOOKUP($E61,EnvProfiler,AM$3,FALSE),0)","v":0},{"$f":"IFERROR('Transport og emballage'!$G95/'Transport og emballage'!$F95/1000*VLOOKUP($E61,EnvProfiler,AN$3,FALSE),0)","v":0},{"$f":"IFERROR('Transport og emballage'!$G95/'Transport og emballage'!$F95/1000*VLOOKUP($E61,EnvProfiler,AO$3,FALSE),0)","v":0},{"$f":"IFERROR('Transport og emballage'!$G95/'Transport og emballage'!$F95/1000*VLOOKUP($E61,EnvProfiler,AP$3,FALSE),0)","v":0},{"$f":"IFERROR('Transport og emballage'!$G95/'Transport og emballage'!$F95/1000*VLOOKUP($E61,EnvProfiler,AQ$3,FALSE),0)","v":0},{"$f":"IFERROR('Transport og emballage'!$G95/'Transport og emballage'!$F95/1000*VLOOKUP($E61,EnvProfiler,AR$3,FALSE),0)","v":0},{"$f":"IFERROR('Transport og emballage'!$G95/'Transport og emballage'!$F95/1000*VLOOKUP($E61,EnvProfiler,AS$3,FALSE),0)","v":0},{"$f":"IFERROR('Transport og emballage'!$G95/'Transport og emballage'!$F95/1000*VLOOKUP($E61,EnvProfiler,AT$3,FALSE),0)","v":0},{"$f":"IFERROR('Transport og emballage'!$G95/'Transport og emballage'!$F95/1000*VLOOKUP($E61,EnvProfiler,AU$3,FALSE),0)","v":0},{"$f":"IFERROR('Transport og emballage'!$G95/'Transport og emballage'!$F95/1000*VLOOKUP($E61,EnvProfiler,AV$3,FALSE),0)","v":0},{"$f":"IFERROR('Transport og emballage'!$G95/'Transport og emballage'!$F95/1000*VLOOKUP($E61,EnvProfiler,AW$3,FALSE),0)","v":0},{"$f":"IFERROR('Transport og emballage'!$G95/'Transport og emballage'!$F95/1000*VLOOKUP($E61,EnvProfiler,AX$3,FALSE),0)","v":0},{"$f":"IFERROR('Transport og emballage'!$G95/'Transport og emballage'!$F95/1000*VLOOKUP($E61,EnvProfiler,AY$3,FALSE),0)","v":0},{"$f":"IFERROR('Transport og emballage'!$G95/'Transport og emballage'!$F95/1000*VLOOKUP($E61,EnvProfiler,AZ$3,FALSE),0)","v":0},{"$f":"IFERROR('Transport og emballage'!$G95/'Transport og emballage'!$F95/1000*VLOOKUP($E61,EnvProfiler,BA$3,FALSE),0)","v":0},{"$f":"IFERROR('Transport og emballage'!$G95/'Transport og emballage'!$F95/1000*VLOOKUP($E61,EnvProfiler,BB$3,FALSE),0)","v":0},{"$f":"IFERROR('Transport og emballage'!$G95/'Transport og emballage'!$F95/1000*VLOOKUP($E61,EnvProfiler,BC$3,FALSE),0)","v":0},null,null,null,{"$f":"IFERROR('Transport og emballage'!$K95/'Transport og emballage'!$J95/1000*VLOOKUP($H61,EnvProfiler,BG$3,FALSE),0)","v":0},{"$f":"IFERROR('Transport og emballage'!$K95/'Transport og emballage'!$J95/1000*VLOOKUP($H61,EnvProfiler,BH$3,FALSE),0)","v":0},{"$f":"IFERROR('Transport og emballage'!$K95/'Transport og emballage'!$J95/1000*VLOOKUP($H61,EnvProfiler,BI$3,FALSE),0)","v":0},{"$f":"IFERROR('Transport og emballage'!$K95/'Transport og emballage'!$J95/1000*VLOOKUP($H61,EnvProfiler,BJ$3,FALSE),0)","v":0},{"$f":"IFERROR('Transport og emballage'!$K95/'Transport og emballage'!$J95/1000*VLOOKUP($H61,EnvProfiler,BK$3,FALSE),0)","v":0},{"$f":"IFERROR('Transport og emballage'!$K95/'Transport og emballage'!$J95/1000*VLOOKUP($H61,EnvProfiler,BL$3,FALSE),0)","v":0},{"$f":"IFERROR('Transport og emballage'!$K95/'Transport og emballage'!$J95/1000*VLOOKUP($H61,EnvProfiler,BM$3,FALSE),0)","v":0},{"$f":"IFERROR('Transport og emballage'!$K95/'Transport og emballage'!$J95/1000*VLOOKUP($H61,EnvProfiler,BN$3,FALSE),0)","v":0},{"$f":"IFERROR('Transport og emballage'!$K95/'Transport og emballage'!$J95/1000*VLOOKUP($H61,EnvProfiler,BO$3,FALSE),0)","v":0},{"$f":"IFERROR('Transport og emballage'!$K95/'Transport og emballage'!$J95/1000*VLOOKUP($H61,EnvProfiler,BP$3,FALSE),0)","v":0},{"$f":"IFERROR('Transport og emballage'!$K95/'Transport og emballage'!$J95/1000*VLOOKUP($H61,EnvProfiler,BQ$3,FALSE),0)","v":0},{"$f":"IFERROR('Transport og emballage'!$K95/'Transport og emballage'!$J95/1000*VLOOKUP($H61,EnvProfiler,BR$3,FALSE),0)","v":0},{"$f":"IFERROR('Transport og emballage'!$K95/'Transport og emballage'!$J95/1000*VLOOKUP($H61,EnvProfiler,BS$3,FALSE),0)","v":0},{"$f":"IFERROR('Transport og emballage'!$K95/'Transport og emballage'!$J95/1000*VLOOKUP($H61,EnvProfiler,BT$3,FALSE),0)","v":0},{"$f":"IFERROR('Transport og emballage'!$K95/'Transport og emballage'!$J95/1000*VLOOKUP($H61,EnvProfiler,BU$3,FALSE),0)","v":0},{"$f":"IFERROR('Transport og emballage'!$K95/'Transport og emballage'!$J95/1000*VLOOKUP($H61,EnvProfiler,BV$3,FALSE),0)","v":0},{"$f":"IFERROR('Transport og emballage'!$K95/'Transport og emballage'!$J95/1000*VLOOKUP($H61,EnvProfiler,BW$3,FALSE),0)","v":0},{"$f":"IFERROR('Transport og emballage'!$K95/'Transport og emballage'!$J95/1000*VLOOKUP($H61,EnvProfiler,BX$3,FALSE),0)","v":0},{"$f":"IFERROR('Transport og emballage'!$K95/'Transport og emballage'!$J95/1000*VLOOKUP($H61,EnvProfiler,BY$3,FALSE),0)","v":0},{"$f":"IFERROR('Transport og emballage'!$K95/'Transport og emballage'!$J95/1000*VLOOKUP($H61,EnvProfiler,BZ$3,FALSE),0)","v":0},{"$f":"IFERROR('Transport og emballage'!$K95/'Transport og emballage'!$J95/1000*VLOOKUP($H61,EnvProfiler,CA$3,FALSE),0)","v":0},{"$f":"IFERROR('Transport og emballage'!$K95/'Transport og emballage'!$J95/1000*VLOOKUP($H61,EnvProfiler,CB$3,FALSE),0)","v":0},{"$f":"IFERROR('Transport og emballage'!$K95/'Transport og emballage'!$J95/1000*VLOOKUP($H61,EnvProfiler,CC$3,FALSE),0)","v":0},{"$f":"IFERROR('Transport og emballage'!$K95/'Transport og emballage'!$J95/1000*VLOOKUP($H61,EnvProfiler,CD$3,FALSE),0)","v":0},{"$f":"IFERROR('Transport og emballage'!$K95/'Transport og emballage'!$J95/1000*VLOOKUP($H61,EnvProfiler,CE$3,FALSE),0)","v":0},{"$f":"IFERROR('Transport og emballage'!$K95/'Transport og emballage'!$J95/1000*VLOOKUP($H61,EnvProfiler,CF$3,FALSE),0)","v":0},{"$f":"IFERROR('Transport og emballage'!$K95/'Transport og emballage'!$J95/1000*VLOOKUP($H61,EnvProfiler,CG$3,FALSE),0)","v":0},{"$f":"IFERROR('Transport og emballage'!$K95/'Transport og emballage'!$J95/1000*VLOOKUP($H61,EnvProfiler,CH$3,FALSE),0)","v":0},{"$f":"IFERROR('Transport og emballage'!$K95/'Transport og emballage'!$J95/1000*VLOOKUP($H61,EnvProfiler,CI$3,FALSE),0)","v":0}]
[null,null,null,{"$f":"IF(ISBLANK('Transport og emballage'!E96),\"\",'Transport og emballage'!E96)","v":{"$error":"#N/A"}},{"$error":"#N/A"},null,{"$f":"IF(ISBLANK('Transport og emballage'!I96),\"\",'Transport og emballage'!I96)","v":{"$error":"#N/A"}},{"$error":"#N/A"},null,null,null,null,null,null,null,null,null,null,null,null,null,null,null,null,null,null,{"$f":"IFERROR('Transport og emballage'!$G96/'Transport og emballage'!$F96/1000*VLOOKUP($E62,EnvProfiler,AA$3,FALSE),0)","v":0},{"$f":"IFERROR('Transport og emballage'!$G96/'Transport og emballage'!$F96/1000*VLOOKUP($E62,EnvProfiler,AB$3,FALSE),0)","v":0},{"$f":"IFERROR('Transport og emballage'!$G96/'Transport og emballage'!$F96/1000*VLOOKUP($E62,EnvProfiler,AC$3,FALSE),0)","v":0},{"$f":"IFERROR('Transport og emballage'!$G96/'Transport og emballage'!$F96/1000*VLOOKUP($E62,EnvProfiler,AD$3,FALSE),0)","v":0},{"$f":"IFERROR('Transport og emballage'!$G96/'Transport og emballage'!$F96/1000*VLOOKUP($E62,EnvProfiler,AE$3,FALSE),0)","v":0},{"$f":"IFERROR('Transport og emballage'!$G96/'Transport og emballage'!$F96/1000*VLOOKUP($E62,EnvProfiler,AF$3,FALSE),0)","v":0},{"$f":"IFERROR('Transport og emballage'!$G96/'Transport og emballage'!$F96/1000*VLOOKUP($E62,EnvProfiler,AG$3,FALSE),0)","v":0},{"$f":"IFERROR('Transport og emballage'!$G96/'Transport og emballage'!$F96/1000*VLOOKUP($E62,EnvProfiler,AH$3,FALSE),0)","v":0},{"$f":"IFERROR('Transport og emballage'!$G96/'Transport og emballage'!$F96/1000*VLOOKUP($E62,EnvProfiler,AI$3,FALSE),0)","v":0},{"$f":"IFERROR('Transport og emballage'!$G96/'Transport og emballage'!$F96/1000*VLOOKUP($E62,EnvProfiler,AJ$3,FALSE),0)","v":0},{"$f":"IFERROR('Transport og emballage'!$G96/'Transport og emballage'!$F96/1000*VLOOKUP($E62,EnvProfiler,AK$3,FALSE),0)","v":0},{"$f":"IFERROR('Transport og emballage'!$G96/'Transport og emballage'!$F96/1000*VLOOKUP($E62,EnvProfiler,AL$3,FALSE),0)","v":0},{"$f":"IFERROR('Transport og emballage'!$G96/'Transport og emballage'!$F96/1000*VLOOKUP($E62,EnvProfiler,AM$3,FALSE),0)","v":0},{"$f":"IFERROR('Transport og emballage'!$G96/'Transport og emballage'!$F96/1000*VLOOKUP($E62,EnvProfiler,AN$3,FALSE),0)","v":0},{"$f":"IFERROR('Transport og emballage'!$G96/'Transport og emballage'!$F96/1000*VLOOKUP($E62,EnvProfiler,AO$3,FALSE),0)","v":0},{"$f":"IFERROR('Transport og emballage'!$G96/'Transport og emballage'!$F96/1000*VLOOKUP($E62,EnvProfiler,AP$3,FALSE),0)","v":0},{"$f":"IFERROR('Transport og emballage'!$G96/'Transport og emballage'!$F96/1000*VLOOKUP($E62,EnvProfiler,AQ$3,FALSE),0)","v":0},{"$f":"IFERROR('Transport og emballage'!$G96/'Transport og emballage'!$F96/1000*VLOOKUP($E62,EnvProfiler,AR$3,FALSE),0)","v":0},{"$f":"IFERROR('Transport og emballage'!$G96/'Transport og emballage'!$F96/1000*VLOOKUP($E62,EnvProfiler,AS$3,FALSE),0)","v":0},{"$f":"IFERROR('Transport og emballage'!$G96/'Transport og emballage'!$F96/1000*VLOOKUP($E62,EnvProfiler,AT$3,FALSE),0)","v":0},{"$f":"IFERROR('Transport og emballage'!$G96/'Transport og emballage'!$F96/1000*VLOOKUP($E62,EnvProfiler,AU$3,FALSE),0)","v":0},{"$f":"IFERROR('Transport og emballage'!$G96/'Transport og emballage'!$F96/1000*VLOOKUP($E62,EnvProfiler,AV$3,FALSE),0)","v":0},{"$f":"IFERROR('Transport og emballage'!$G96/'Transport og emballage'!$F96/1000*VLOOKUP($E62,EnvProfiler,AW$3,FALSE),0)","v":0},{"$f":"IFERROR('Transport og emballage'!$G96/'Transport og emballage'!$F96/1000*VLOOKUP($E62,EnvProfiler,AX$3,FALSE),0)","v":0},{"$f":"IFERROR('Transport og emballage'!$G96/'Transport og emballage'!$F96/1000*VLOOKUP($E62,EnvProfiler,AY$3,FALSE),0)","v":0},{"$f":"IFERROR('Transport og emballage'!$G96/'Transport og emballage'!$F96/1000*VLOOKUP($E62,EnvProfiler,AZ$3,FALSE),0)","v":0},{"$f":"IFERROR('Transport og emballage'!$G96/'Transport og emballage'!$F96/1000*VLOOKUP($E62,EnvProfiler,BA$3,FALSE),0)","v":0},{"$f":"IFERROR('Transport og emballage'!$G96/'Transport og emballage'!$F96/1000*VLOOKUP($E62,EnvProfiler,BB$3,FALSE),0)","v":0},{"$f":"IFERROR('Transport og emballage'!$G96/'Transport og emballage'!$F96/1000*VLOOKUP($E62,EnvProfiler,BC$3,FALSE),0)","v":0},null,null,null,{"$f":"IFERROR('Transport og emballage'!$K96/'Transport og emballage'!$J96/1000*VLOOKUP($H62,EnvProfiler,BG$3,FALSE),0)","v":0},{"$f":"IFERROR('Transport og emballage'!$K96/'Transport og emballage'!$J96/1000*VLOOKUP($H62,EnvProfiler,BH$3,FALSE),0)","v":0},{"$f":"IFERROR('Transport og emballage'!$K96/'Transport og emballage'!$J96/1000*VLOOKUP($H62,EnvProfiler,BI$3,FALSE),0)","v":0},{"$f":"IFERROR('Transport og emballage'!$K96/'Transport og emballage'!$J96/1000*VLOOKUP($H62,EnvProfiler,BJ$3,FALSE),0)","v":0},{"$f":"IFERROR('Transport og emballage'!$K96/'Transport og emballage'!$J96/1000*VLOOKUP($H62,EnvProfiler,BK$3,FALSE),0)","v":0},{"$f":"IFERROR('Transport og emballage'!$K96/'Transport og emballage'!$J96/1000*VLOOKUP($H62,EnvProfiler,BL$3,FALSE),0)","v":0},{"$f":"IFERROR('Transport og emballage'!$K96/'Transport og emballage'!$J96/1000*VLOOKUP($H62,EnvProfiler,BM$3,FALSE),0)","v":0},{"$f":"IFERROR('Transport og emballage'!$K96/'Transport og emballage'!$J96/1000*VLOOKUP($H62,EnvProfiler,BN$3,FALSE),0)","v":0},{"$f":"IFERROR('Transport og emballage'!$K96/'Transport og emballage'!$J96/1000*VLOOKUP($H62,EnvProfiler,BO$3,FALSE),0)","v":0},{"$f":"IFERROR('Transport og emballage'!$K96/'Transport og emballage'!$J96/1000*VLOOKUP($H62,EnvProfiler,BP$3,FALSE),0)","v":0},{"$f":"IFERROR('Transport og emballage'!$K96/'Transport og emballage'!$J96/1000*VLOOKUP($H62,EnvProfiler,BQ$3,FALSE),0)","v":0},{"$f":"IFERROR('Transport og emballage'!$K96/'Transport og emballage'!$J96/1000*VLOOKUP($H62,EnvProfiler,BR$3,FALSE),0)","v":0},{"$f":"IFERROR('Transport og emballage'!$K96/'Transport og emballage'!$J96/1000*VLOOKUP($H62,EnvProfiler,BS$3,FALSE),0)","v":0},{"$f":"IFERROR('Transport og emballage'!$K96/'Transport og emballage'!$J96/1000*VLOOKUP($H62,EnvProfiler,BT$3,FALSE),0)","v":0},{"$f":"IFERROR('Transport og emballage'!$K96/'Transport og emballage'!$J96/1000*VLOOKUP($H62,EnvProfiler,BU$3,FALSE),0)","v":0},{"$f":"IFERROR('Transport og emballage'!$K96/'Transport og emballage'!$J96/1000*VLOOKUP($H62,EnvProfiler,BV$3,FALSE),0)","v":0},{"$f":"IFERROR('Transport og emballage'!$K96/'Transport og emballage'!$J96/1000*VLOOKUP($H62,EnvProfiler,BW$3,FALSE),0)","v":0},{"$f":"IFERROR('Transport og emballage'!$K96/'Transport og emballage'!$J96/1000*VLOOKUP($H62,EnvProfiler,BX$3,FALSE),0)","v":0},{"$f":"IFERROR('Transport og emballage'!$K96/'Transport og emballage'!$J96/1000*VLOOKUP($H62,EnvProfiler,BY$3,FALSE),0)","v":0},{"$f":"IFERROR('Transport og emballage'!$K96/'Transport og emballage'!$J96/1000*VLOOKUP($H62,EnvProfiler,BZ$3,FALSE),0)","v":0},{"$f":"IFERROR('Transport og emballage'!$K96/'Transport og emballage'!$J96/1000*VLOOKUP($H62,EnvProfiler,CA$3,FALSE),0)","v":0},{"$f":"IFERROR('Transport og emballage'!$K96/'Transport og emballage'!$J96/1000*VLOOKUP($H62,EnvProfiler,CB$3,FALSE),0)","v":0},{"$f":"IFERROR('Transport og emballage'!$K96/'Transport og emballage'!$J96/1000*VLOOKUP($H62,EnvProfiler,CC$3,FALSE),0)","v":0},{"$f":"IFERROR('Transport og emballage'!$K96/'Transport og emballage'!$J96/1000*VLOOKUP($H62,EnvProfiler,CD$3,FALSE),0)","v":0},{"$f":"IFERROR('Transport og emballage'!$K96/'Transport og emballage'!$J96/1000*VLOOKUP($H62,EnvProfiler,CE$3,FALSE),0)","v":0},{"$f":"IFERROR('Transport og emballage'!$K96/'Transport og emballage'!$J96/1000*VLOOKUP($H62,EnvProfiler,CF$3,FALSE),0)","v":0},{"$f":"IFERROR('Transport og emballage'!$K96/'Transport og emballage'!$J96/1000*VLOOKUP($H62,EnvProfiler,CG$3,FALSE),0)","v":0},{"$f":"IFERROR('Transport og emballage'!$K96/'Transport og emballage'!$J96/1000*VLOOKUP($H62,EnvProfiler,CH$3,FALSE),0)","v":0},{"$f":"IFERROR('Transport og emballage'!$K96/'Transport og emballage'!$J96/1000*VLOOKUP($H62,EnvProfiler,CI$3,FALSE),0)","v":0}]
[null,null,null,{"$f":"IF(ISBLANK('Transport og emballage'!E97),\"\",'Transport og emballage'!E97)","v":{"$error":"#N/A"}},{"$error":"#N/A"},null,{"$f":"IF(ISBLANK('Transport og emballage'!I97),\"\",'Transport og emballage'!I97)","v":{"$error":"#N/A"}},{"$error":"#N/A"},null,null,null,null,null,null,null,null,null,null,null,null,null,null,null,null,null,null,{"$f":"IFERROR('Transport og emballage'!$G97/'Transport og emballage'!$F97/1000*VLOOKUP($E63,EnvProfiler,AA$3,FALSE),0)","v":0},{"$f":"IFERROR('Transport og emballage'!$G97/'Transport og emballage'!$F97/1000*VLOOKUP($E63,EnvProfiler,AB$3,FALSE),0)","v":0},{"$f":"IFERROR('Transport og emballage'!$G97/'Transport og emballage'!$F97/1000*VLOOKUP($E63,EnvProfiler,AC$3,FALSE),0)","v":0},{"$f":"IFERROR('Transport og emballage'!$G97/'Transport og emballage'!$F97/1000*VLOOKUP($E63,EnvProfiler,AD$3,FALSE),0)","v":0},{"$f":"IFERROR('Transport og emballage'!$G97/'Transport og emballage'!$F97/1000*VLOOKUP($E63,EnvProfiler,AE$3,FALSE),0)","v":0},{"$f":"IFERROR('Transport og emballage'!$G97/'Transport og emballage'!$F97/1000*VLOOKUP($E63,EnvProfiler,AF$3,FALSE),0)","v":0},{"$f":"IFERROR('Transport og emballage'!$G97/'Transport og emballage'!$F97/1000*VLOOKUP($E63,EnvProfiler,AG$3,FALSE),0)","v":0},{"$f":"IFERROR('Transport og emballage'!$G97/'Transport og emballage'!$F97/1000*VLOOKUP($E63,EnvProfiler,AH$3,FALSE),0)","v":0},{"$f":"IFERROR('Transport og emballage'!$G97/'Transport og emballage'!$F97/1000*VLOOKUP($E63,EnvProfiler,AI$3,FALSE),0)","v":0},{"$f":"IFERROR('Transport og emballage'!$G97/'Transport og emballage'!$F97/1000*VLOOKUP($E63,EnvProfiler,AJ$3,FALSE),0)","v":0},{"$f":"IFERROR('Transport og emballage'!$G97/'Transport og emballage'!$F97/1000*VLOOKUP($E63,EnvProfiler,AK$3,FALSE),0)","v":0},{"$f":"IFERROR('Transport og emballage'!$G97/'Transport og emballage'!$F97/1000*VLOOKUP($E63,EnvProfiler,AL$3,FALSE),0)","v":0},{"$f":"IFERROR('Transport og emballage'!$G97/'Transport og emballage'!$F97/1000*VLOOKUP($E63,EnvProfiler,AM$3,FALSE),0)","v":0},{"$f":"IFERROR('Transport og emballage'!$G97/'Transport og emballage'!$F97/1000*VLOOKUP($E63,EnvProfiler,AN$3,FALSE),0)","v":0},{"$f":"IFERROR('Transport og emballage'!$G97/'Transport og emballage'!$F97/1000*VLOOKUP($E63,EnvProfiler,AO$3,FALSE),0)","v":0},{"$f":"IFERROR('Transport og emballage'!$G97/'Transport og emballage'!$F97/1000*VLOOKUP($E63,EnvProfiler,AP$3,FALSE),0)","v":0},{"$f":"IFERROR('Transport og emballage'!$G97/'Transport og emballage'!$F97/1000*VLOOKUP($E63,EnvProfiler,AQ$3,FALSE),0)","v":0},{"$f":"IFERROR('Transport og emballage'!$G97/'Transport og emballage'!$F97/1000*VLOOKUP($E63,EnvProfiler,AR$3,FALSE),0)","v":0},{"$f":"IFERROR('Transport og emballage'!$G97/'Transport og emballage'!$F97/1000*VLOOKUP($E63,EnvProfiler,AS$3,FALSE),0)","v":0},{"$f":"IFERROR('Transport og emballage'!$G97/'Transport og emballage'!$F97/1000*VLOOKUP($E63,EnvProfiler,AT$3,FALSE),0)","v":0},{"$f":"IFERROR('Transport og emballage'!$G97/'Transport og emballage'!$F97/1000*VLOOKUP($E63,EnvProfiler,AU$3,FALSE),0)","v":0},{"$f":"IFERROR('Transport og emballage'!$G97/'Transport og emballage'!$F97/1000*VLOOKUP($E63,EnvProfiler,AV$3,FALSE),0)","v":0},{"$f":"IFERROR('Transport og emballage'!$G97/'Transport og emballage'!$F97/1000*VLOOKUP($E63,EnvProfiler,AW$3,FALSE),0)","v":0},{"$f":"IFERROR('Transport og emballage'!$G97/'Transport og emballage'!$F97/1000*VLOOKUP($E63,EnvProfiler,AX$3,FALSE),0)","v":0},{"$f":"IFERROR('Transport og emballage'!$G97/'Transport og emballage'!$F97/1000*VLOOKUP($E63,EnvProfiler,AY$3,FALSE),0)","v":0},{"$f":"IFERROR('Transport og emballage'!$G97/'Transport og emballage'!$F97/1000*VLOOKUP($E63,EnvProfiler,AZ$3,FALSE),0)","v":0},{"$f":"IFERROR('Transport og emballage'!$G97/'Transport og emballage'!$F97/1000*VLOOKUP($E63,EnvProfiler,BA$3,FALSE),0)","v":0},{"$f":"IFERROR('Transport og emballage'!$G97/'Transport og emballage'!$F97/1000*VLOOKUP($E63,EnvProfiler,BB$3,FALSE),0)","v":0},{"$f":"IFERROR('Transport og emballage'!$G97/'Transport og emballage'!$F97/1000*VLOOKUP($E63,EnvProfiler,BC$3,FALSE),0)","v":0},null,null,null,{"$f":"IFERROR('Transport og emballage'!$K97/'Transport og emballage'!$J97/1000*VLOOKUP($H63,EnvProfiler,BG$3,FALSE),0)","v":0},{"$f":"IFERROR('Transport og emballage'!$K97/'Transport og emballage'!$J97/1000*VLOOKUP($H63,EnvProfiler,BH$3,FALSE),0)","v":0},{"$f":"IFERROR('Transport og emballage'!$K97/'Transport og emballage'!$J97/1000*VLOOKUP($H63,EnvProfiler,BI$3,FALSE),0)","v":0},{"$f":"IFERROR('Transport og emballage'!$K97/'Transport og emballage'!$J97/1000*VLOOKUP($H63,EnvProfiler,BJ$3,FALSE),0)","v":0},{"$f":"IFERROR('Transport og emballage'!$K97/'Transport og emballage'!$J97/1000*VLOOKUP($H63,EnvProfiler,BK$3,FALSE),0)","v":0},{"$f":"IFERROR('Transport og emballage'!$K97/'Transport og emballage'!$J97/1000*VLOOKUP($H63,EnvProfiler,BL$3,FALSE),0)","v":0},{"$f":"IFERROR('Transport og emballage'!$K97/'Transport og emballage'!$J97/1000*VLOOKUP($H63,EnvProfiler,BM$3,FALSE),0)","v":0},{"$f":"IFERROR('Transport og emballage'!$K97/'Transport og emballage'!$J97/1000*VLOOKUP($H63,EnvProfiler,BN$3,FALSE),0)","v":0},{"$f":"IFERROR('Transport og emballage'!$K97/'Transport og emballage'!$J97/1000*VLOOKUP($H63,EnvProfiler,BO$3,FALSE),0)","v":0},{"$f":"IFERROR('Transport og emballage'!$K97/'Transport og emballage'!$J97/1000*VLOOKUP($H63,EnvProfiler,BP$3,FALSE),0)","v":0},{"$f":"IFERROR('Transport og emballage'!$K97/'Transport og emballage'!$J97/1000*VLOOKUP($H63,EnvProfiler,BQ$3,FALSE),0)","v":0},{"$f":"IFERROR('Transport og emballage'!$K97/'Transport og emballage'!$J97/1000*VLOOKUP($H63,EnvProfiler,BR$3,FALSE),0)","v":0},{"$f":"IFERROR('Transport og emballage'!$K97/'Transport og emballage'!$J97/1000*VLOOKUP($H63,EnvProfiler,BS$3,FALSE),0)","v":0},{"$f":"IFERROR('Transport og emballage'!$K97/'Transport og emballage'!$J97/1000*VLOOKUP($H63,EnvProfiler,BT$3,FALSE),0)","v":0},{"$f":"IFERROR('Transport og emballage'!$K97/'Transport og emballage'!$J97/1000*VLOOKUP($H63,EnvProfiler,BU$3,FALSE),0)","v":0},{"$f":"IFERROR('Transport og emballage'!$K97/'Transport og emballage'!$J97/1000*VLOOKUP($H63,EnvProfiler,BV$3,FALSE),0)","v":0},{"$f":"IFERROR('Transport og emballage'!$K97/'Transport og emballage'!$J97/1000*VLOOKUP($H63,EnvProfiler,BW$3,FALSE),0)","v":0},{"$f":"IFERROR('Transport og emballage'!$K97/'Transport og emballage'!$J97/1000*VLOOKUP($H63,EnvProfiler,BX$3,FALSE),0)","v":0},{"$f":"IFERROR('Transport og emballage'!$K97/'Transport og emballage'!$J97/1000*VLOOKUP($H63,EnvProfiler,BY$3,FALSE),0)","v":0},{"$f":"IFERROR('Transport og emballage'!$K97/'Transport og emballage'!$J97/1000*VLOOKUP($H63,EnvProfiler,BZ$3,FALSE),0)","v":0},{"$f":"IFERROR('Transport og emballage'!$K97/'Transport og emballage'!$J97/1000*VLOOKUP($H63,EnvProfiler,CA$3,FALSE),0)","v":0},{"$f":"IFERROR('Transport og emballage'!$K97/'Transport og emballage'!$J97/1000*VLOOKUP($H63,EnvProfiler,CB$3,FALSE),0)","v":0},{"$f":"IFERROR('Transport og emballage'!$K97/'Transport og emballage'!$J97/1000*VLOOKUP($H63,EnvProfiler,CC$3,FALSE),0)","v":0},{"$f":"IFERROR('Transport og emballage'!$K97/'Transport og emballage'!$J97/1000*VLOOKUP($H63,EnvProfiler,CD$3,FALSE),0)","v":0},{"$f":"IFERROR('Transport og emballage'!$K97/'Transport og emballage'!$J97/1000*VLOOKUP($H63,EnvProfiler,CE$3,FALSE),0)","v":0},{"$f":"IFERROR('Transport og emballage'!$K97/'Transport og emballage'!$J97/1000*VLOOKUP($H63,EnvProfiler,CF$3,FALSE),0)","v":0},{"$f":"IFERROR('Transport og emballage'!$K97/'Transport og emballage'!$J97/1000*VLOOKUP($H63,EnvProfiler,CG$3,FALSE),0)","v":0},{"$f":"IFERROR('Transport og emballage'!$K97/'Transport og emballage'!$J97/1000*VLOOKUP($H63,EnvProfiler,CH$3,FALSE),0)","v":0},{"$f":"IFERROR('Transport og emballage'!$K97/'Transport og emballage'!$J97/1000*VLOOKUP($H63,EnvProfiler,CI$3,FALSE),0)","v":0}]
[null,null,null,{"$f":"IF(ISBLANK('Transport og emballage'!E98),\"\",'Transport og emballage'!E98)","v":{"$error":"#N/A"}},{"$error":"#N/A"},null,{"$f":"IF(ISBLANK('Transport og emballage'!I98),\"\",'Transport og emballage'!I98)","v":{"$error":"#N/A"}},{"$error":"#N/A"},null,null,null,null,null,null,null,null,null,null,null,null,null,null,null,null,null,null,{"$f":"IFERROR('Transport og emballage'!$G98/'Transport og emballage'!$F98/1000*VLOOKUP($E64,EnvProfiler,AA$3,FALSE),0)","v":0},{"$f":"IFERROR('Transport og emballage'!$G98/'Transport og emballage'!$F98/1000*VLOOKUP($E64,EnvProfiler,AB$3,FALSE),0)","v":0},{"$f":"IFERROR('Transport og emballage'!$G98/'Transport og emballage'!$F98/1000*VLOOKUP($E64,EnvProfiler,AC$3,FALSE),0)","v":0},{"$f":"IFERROR('Transport og emballage'!$G98/'Transport og emballage'!$F98/1000*VLOOKUP($E64,EnvProfiler,AD$3,FALSE),0)","v":0},{"$f":"IFERROR('Transport og emballage'!$G98/'Transport og emballage'!$F98/1000*VLOOKUP($E64,EnvProfiler,AE$3,FALSE),0)","v":0},{"$f":"IFERROR('Transport og emballage'!$G98/'Transport og emballage'!$F98/1000*VLOOKUP($E64,EnvProfiler,AF$3,FALSE),0)","v":0},{"$f":"IFERROR('Transport og emballage'!$G98/'Transport og emballage'!$F98/1000*VLOOKUP($E64,EnvProfiler,AG$3,FALSE),0)","v":0},{"$f":"IFERROR('Transport og emballage'!$G98/'Transport og emballage'!$F98/1000*VLOOKUP($E64,EnvProfiler,AH$3,FALSE),0)","v":0},{"$f":"IFERROR('Transport og emballage'!$G98/'Transport og emballage'!$F98/1000*VLOOKUP($E64,EnvProfiler,AI$3,FALSE),0)","v":0},{"$f":"IFERROR('Transport og emballage'!$G98/'Transport og emballage'!$F98/1000*VLOOKUP($E64,EnvProfiler,AJ$3,FALSE),0)","v":0},{"$f":"IFERROR('Transport og emballage'!$G98/'Transport og emballage'!$F98/1000*VLOOKUP($E64,EnvProfiler,AK$3,FALSE),0)","v":0},{"$f":"IFERROR('Transport og emballage'!$G98/'Transport og emballage'!$F98/1000*VLOOKUP($E64,EnvProfiler,AL$3,FALSE),0)","v":0},{"$f":"IFERROR('Transport og emballage'!$G98/'Transport og emballage'!$F98/1000*VLOOKUP($E64,EnvProfiler,AM$3,FALSE),0)","v":0},{"$f":"IFERROR('Transport og emballage'!$G98/'Transport og emballage'!$F98/1000*VLOOKUP($E64,EnvProfiler,AN$3,FALSE),0)","v":0},{"$f":"IFERROR('Transport og emballage'!$G98/'Transport og emballage'!$F98/1000*VLOOKUP($E64,EnvProfiler,AO$3,FALSE),0)","v":0},{"$f":"IFERROR('Transport og emballage'!$G98/'Transport og emballage'!$F98/1000*VLOOKUP($E64,EnvProfiler,AP$3,FALSE),0)","v":0},{"$f":"IFERROR('Transport og emballage'!$G98/'Transport og emballage'!$F98/1000*VLOOKUP($E64,EnvProfiler,AQ$3,FALSE),0)","v":0},{"$f":"IFERROR('Transport og emballage'!$G98/'Transport og emballage'!$F98/1000*VLOOKUP($E64,EnvProfiler,AR$3,FALSE),0)","v":0},{"$f":"IFERROR('Transport og emballage'!$G98/'Transport og emballage'!$F98/1000*VLOOKUP($E64,EnvProfiler,AS$3,FALSE),0)","v":0},{"$f":"IFERROR('Transport og emballage'!$G98/'Transport og emballage'!$F98/1000*VLOOKUP($E64,EnvProfiler,AT$3,FALSE),0)","v":0},{"$f":"IFERROR('Transport og emballage'!$G98/'Transport og emballage'!$F98/1000*VLOOKUP($E64,EnvProfiler,AU$3,FALSE),0)","v":0},{"$f":"IFERROR('Transport og emballage'!$G98/'Transport og emballage'!$F98/1000*VLOOKUP($E64,EnvProfiler,AV$3,FALSE),0)","v":0},{"$f":"IFERROR('Transport og emballage'!$G98/'Transport og emballage'!$F98/1000*VLOOKUP($E64,EnvProfiler,AW$3,FALSE),0)","v":0},{"$f":"IFERROR('Transport og emballage'!$G98/'Transport og emballage'!$F98/1000*VLOOKUP($E64,EnvProfiler,AX$3,FALSE),0)","v":0},{"$f":"IFERROR('Transport og emballage'!$G98/'Transport og emballage'!$F98/1000*VLOOKUP($E64,EnvProfiler,AY$3,FALSE),0)","v":0},{"$f":"IFERROR('Transport og emballage'!$G98/'Transport og emballage'!$F98/1000*VLOOKUP($E64,EnvProfiler,AZ$3,FALSE),0)","v":0},{"$f":"IFERROR('Transport og emballage'!$G98/'Transport og emballage'!$F98/1000*VLOOKUP($E64,EnvProfiler,BA$3,FALSE),0)","v":0},{"$f":"IFERROR('Transport og emballage'!$G98/'Transport og emballage'!$F98/1000*VLOOKUP($E64,EnvProfiler,BB$3,FALSE),0)","v":0},{"$f":"IFERROR('Transport og emballage'!$G98/'Transport og emballage'!$F98/1000*VLOOKUP($E64,EnvProfiler,BC$3,FALSE),0)","v":0},null,null,null,{"$f":"IFERROR('Transport og emballage'!$K98/'Transport og emballage'!$J98/1000*VLOOKUP($H64,EnvProfiler,BG$3,FALSE),0)","v":0},{"$f":"IFERROR('Transport og emballage'!$K98/'Transport og emballage'!$J98/1000*VLOOKUP($H64,EnvProfiler,BH$3,FALSE),0)","v":0},{"$f":"IFERROR('Transport og emballage'!$K98/'Transport og emballage'!$J98/1000*VLOOKUP($H64,EnvProfiler,BI$3,FALSE),0)","v":0},{"$f":"IFERROR('Transport og emballage'!$K98/'Transport og emballage'!$J98/1000*VLOOKUP($H64,EnvProfiler,BJ$3,FALSE),0)","v":0},{"$f":"IFERROR('Transport og emballage'!$K98/'Transport og emballage'!$J98/1000*VLOOKUP($H64,EnvProfiler,BK$3,FALSE),0)","v":0},{"$f":"IFERROR('Transport og emballage'!$K98/'Transport og emballage'!$J98/1000*VLOOKUP($H64,EnvProfiler,BL$3,FALSE),0)","v":0},{"$f":"IFERROR('Transport og emballage'!$K98/'Transport og emballage'!$J98/1000*VLOOKUP($H64,EnvProfiler,BM$3,FALSE),0)","v":0},{"$f":"IFERROR('Transport og emballage'!$K98/'Transport og emballage'!$J98/1000*VLOOKUP($H64,EnvProfiler,BN$3,FALSE),0)","v":0},{"$f":"IFERROR('Transport og emballage'!$K98/'Transport og emballage'!$J98/1000*VLOOKUP($H64,EnvProfiler,BO$3,FALSE),0)","v":0},{"$f":"IFERROR('Transport og emballage'!$K98/'Transport og emballage'!$J98/1000*VLOOKUP($H64,EnvProfiler,BP$3,FALSE),0)","v":0},{"$f":"IFERROR('Transport og emballage'!$K98/'Transport og emballage'!$J98/1000*VLOOKUP($H64,EnvProfiler,BQ$3,FALSE),0)","v":0},{"$f":"IFERROR('Transport og emballage'!$K98/'Transport og emballage'!$J98/1000*VLOOKUP($H64,EnvProfiler,BR$3,FALSE),0)","v":0},{"$f":"IFERROR('Transport og emballage'!$K98/'Transport og emballage'!$J98/1000*VLOOKUP($H64,EnvProfiler,BS$3,FALSE),0)","v":0},{"$f":"IFERROR('Transport og emballage'!$K98/'Transport og emballage'!$J98/1000*VLOOKUP($H64,EnvProfiler,BT$3,FALSE),0)","v":0},{"$f":"IFERROR('Transport og emballage'!$K98/'Transport og emballage'!$J98/1000*VLOOKUP($H64,EnvProfiler,BU$3,FALSE),0)","v":0},{"$f":"IFERROR('Transport og emballage'!$K98/'Transport og emballage'!$J98/1000*VLOOKUP($H64,EnvProfiler,BV$3,FALSE),0)","v":0},{"$f":"IFERROR('Transport og emballage'!$K98/'Transport og emballage'!$J98/1000*VLOOKUP($H64,EnvProfiler,BW$3,FALSE),0)","v":0},{"$f":"IFERROR('Transport og emballage'!$K98/'Transport og emballage'!$J98/1000*VLOOKUP($H64,EnvProfiler,BX$3,FALSE),0)","v":0},{"$f":"IFERROR('Transport og emballage'!$K98/'Transport og emballage'!$J98/1000*VLOOKUP($H64,EnvProfiler,BY$3,FALSE),0)","v":0},{"$f":"IFERROR('Transport og emballage'!$K98/'Transport og emballage'!$J98/1000*VLOOKUP($H64,EnvProfiler,BZ$3,FALSE),0)","v":0},{"$f":"IFERROR('Transport og emballage'!$K98/'Transport og emballage'!$J98/1000*VLOOKUP($H64,EnvProfiler,CA$3,FALSE),0)","v":0},{"$f":"IFERROR('Transport og emballage'!$K98/'Transport og emballage'!$J98/1000*VLOOKUP($H64,EnvProfiler,CB$3,FALSE),0)","v":0},{"$f":"IFERROR('Transport og emballage'!$K98/'Transport og emballage'!$J98/1000*VLOOKUP($H64,EnvProfiler,CC$3,FALSE),0)","v":0},{"$f":"IFERROR('Transport og emballage'!$K98/'Transport og emballage'!$J98/1000*VLOOKUP($H64,EnvProfiler,CD$3,FALSE),0)","v":0},{"$f":"IFERROR('Transport og emballage'!$K98/'Transport og emballage'!$J98/1000*VLOOKUP($H64,EnvProfiler,CE$3,FALSE),0)","v":0},{"$f":"IFERROR('Transport og emballage'!$K98/'Transport og emballage'!$J98/1000*VLOOKUP($H64,EnvProfiler,CF$3,FALSE),0)","v":0},{"$f":"IFERROR('Transport og emballage'!$K98/'Transport og emballage'!$J98/1000*VLOOKUP($H64,EnvProfiler,CG$3,FALSE),0)","v":0},{"$f":"IFERROR('Transport og emballage'!$K98/'Transport og emballage'!$J98/1000*VLOOKUP($H64,EnvProfiler,CH$3,FALSE),0)","v":0},{"$f":"IFERROR('Transport og emballage'!$K98/'Transport og emballage'!$J98/1000*VLOOKUP($H64,EnvProfiler,CI$3,FALSE),0)","v":0}]
[null,null,null,{"$f":"IF(ISBLANK('Transport og emballage'!E99),\"\",'Transport og emballage'!E99)","v":{"$error":"#N/A"}},{"$error":"#N/A"},null,{"$f":"IF(ISBLANK('Transport og emballage'!I99),\"\",'Transport og emballage'!I99)","v":{"$error":"#N/A"}},{"$error":"#N/A"},null,null,null,null,null,null,null,null,null,null,null,null,null,null,null,null,null,null,{"$f":"IFERROR('Transport og emballage'!$G99/'Transport og emballage'!$F99/1000*VLOOKUP($E65,EnvProfiler,AA$3,FALSE),0)","v":0},{"$f":"IFERROR('Transport og emballage'!$G99/'Transport og emballage'!$F99/1000*VLOOKUP($E65,EnvProfiler,AB$3,FALSE),0)","v":0},{"$f":"IFERROR('Transport og emballage'!$G99/'Transport og emballage'!$F99/1000*VLOOKUP($E65,EnvProfiler,AC$3,FALSE),0)","v":0},{"$f":"IFERROR('Transport og emballage'!$G99/'Transport og emballage'!$F99/1000*VLOOKUP($E65,EnvProfiler,AD$3,FALSE),0)","v":0},{"$f":"IFERROR('Transport og emballage'!$G99/'Transport og emballage'!$F99/1000*VLOOKUP($E65,EnvProfiler,AE$3,FALSE),0)","v":0},{"$f":"IFERROR('Transport og emballage'!$G99/'Transport og emballage'!$F99/1000*VLOOKUP($E65,EnvProfiler,AF$3,FALSE),0)","v":0},{"$f":"IFERROR('Transport og emballage'!$G99/'Transport og emballage'!$F99/1000*VLOOKUP($E65,EnvProfiler,AG$3,FALSE),0)","v":0},{"$f":"IFERROR('Transport og emballage'!$G99/'Transport og emballage'!$F99/1000*VLOOKUP($E65,EnvProfiler,AH$3,FALSE),0)","v":0},{"$f":"IFERROR('Transport og emballage'!$G99/'Transport og emballage'!$F99/1000*VLOOKUP($E65,EnvProfiler,AI$3,FALSE),0)","v":0},{"$f":"IFERROR('Transport og emballage'!$G99/'Transport og emballage'!$F99/1000*VLOOKUP($E65,EnvProfiler,AJ$3,FALSE),0)","v":0},{"$f":"IFERROR('Transport og emballage'!$G99/'Transport og emballage'!$F99/1000*VLOOKUP($E65,EnvProfiler,AK$3,FALSE),0)","v":0},{"$f":"IFERROR('Transport og emballage'!$G99/'Transport og emballage'!$F99/1000*VLOOKUP($E65,EnvProfiler,AL$3,FALSE),0)","v":0},{"$f":"IFERROR('Transport og emballage'!$G99/'Transport og emballage'!$F99/1000*VLOOKUP($E65,EnvProfiler,AM$3,FALSE),0)","v":0},{"$f":"IFERROR('Transport og emballage'!$G99/'Transport og emballage'!$F99/1000*VLOOKUP($E65,EnvProfiler,AN$3,FALSE),0)","v":0},{"$f":"IFERROR('Transport og emballage'!$G99/'Transport og emballage'!$F99/1000*VLOOKUP($E65,EnvProfiler,AO$3,FALSE),0)","v":0},{"$f":"IFERROR('Transport og emballage'!$G99/'Transport og emballage'!$F99/1000*VLOOKUP($E65,EnvProfiler,AP$3,FALSE),0)","v":0},{"$f":"IFERROR('Transport og emballage'!$G99/'Transport og emballage'!$F99/1000*VLOOKUP($E65,EnvProfiler,AQ$3,FALSE),0)","v":0},{"$f":"IFERROR('Transport og emballage'!$G99/'Transport og emballage'!$F99/1000*VLOOKUP($E65,EnvProfiler,AR$3,FALSE),0)","v":0},{"$f":"IFERROR('Transport og emballage'!$G99/'Transport og emballage'!$F99/1000*VLOOKUP($E65,EnvProfiler,AS$3,FALSE),0)","v":0},{"$f":"IFERROR('Transport og emballage'!$G99/'Transport og emballage'!$F99/1000*VLOOKUP($E65,EnvProfiler,AT$3,FALSE),0)","v":0},{"$f":"IFERROR('Transport og emballage'!$G99/'Transport og emballage'!$F99/1000*VLOOKUP($E65,EnvProfiler,AU$3,FALSE),0)","v":0},{"$f":"IFERROR('Transport og emballage'!$G99/'Transport og emballage'!$F99/1000*VLOOKUP($E65,EnvProfiler,AV$3,FALSE),0)","v":0},{"$f":"IFERROR('Transport og emballage'!$G99/'Transport og emballage'!$F99/1000*VLOOKUP($E65,EnvProfiler,AW$3,FALSE),0)","v":0},{"$f":"IFERROR('Transport og emballage'!$G99/'Transport og emballage'!$F99/1000*VLOOKUP($E65,EnvProfiler,AX$3,FALSE),0)","v":0},{"$f":"IFERROR('Transport og emballage'!$G99/'Transport og emballage'!$F99/1000*VLOOKUP($E65,EnvProfiler,AY$3,FALSE),0)","v":0},{"$f":"IFERROR('Transport og emballage'!$G99/'Transport og emballage'!$F99/1000*VLOOKUP($E65,EnvProfiler,AZ$3,FALSE),0)","v":0},{"$f":"IFERROR('Transport og emballage'!$G99/'Transport og emballage'!$F99/1000*VLOOKUP($E65,EnvProfiler,BA$3,FALSE),0)","v":0},{"$f":"IFERROR('Transport og emballage'!$G99/'Transport og emballage'!$F99/1000*VLOOKUP($E65,EnvProfiler,BB$3,FALSE),0)","v":0},{"$f":"IFERROR('Transport og emballage'!$G99/'Transport og emballage'!$F99/1000*VLOOKUP($E65,EnvProfiler,BC$3,FALSE),0)","v":0},null,null,null,{"$f":"IFERROR('Transport og emballage'!$K99/'Transport og emballage'!$J99/1000*VLOOKUP($H65,EnvProfiler,BG$3,FALSE),0)","v":0},{"$f":"IFERROR('Transport og emballage'!$K99/'Transport og emballage'!$J99/1000*VLOOKUP($H65,EnvProfiler,BH$3,FALSE),0)","v":0},{"$f":"IFERROR('Transport og emballage'!$K99/'Transport og emballage'!$J99/1000*VLOOKUP($H65,EnvProfiler,BI$3,FALSE),0)","v":0},{"$f":"IFERROR('Transport og emballage'!$K99/'Transport og emballage'!$J99/1000*VLOOKUP($H65,EnvProfiler,BJ$3,FALSE),0)","v":0},{"$f":"IFERROR('Transport og emballage'!$K99/'Transport og emballage'!$J99/1000*VLOOKUP($H65,EnvProfiler,BK$3,FALSE),0)","v":0},{"$f":"IFERROR('Transport og emballage'!$K99/'Transport og emballage'!$J99/1000*VLOOKUP($H65,EnvProfiler,BL$3,FALSE),0)","v":0},{"$f":"IFERROR('Transport og emballage'!$K99/'Transport og emballage'!$J99/1000*VLOOKUP($H65,EnvProfiler,BM$3,FALSE),0)","v":0},{"$f":"IFERROR('Transport og emballage'!$K99/'Transport og emballage'!$J99/1000*VLOOKUP($H65,EnvProfiler,BN$3,FALSE),0)","v":0},{"$f":"IFERROR('Transport og emballage'!$K99/'Transport og emballage'!$J99/1000*VLOOKUP($H65,EnvProfiler,BO$3,FALSE),0)","v":0},{"$f":"IFERROR('Transport og emballage'!$K99/'Transport og emballage'!$J99/1000*VLOOKUP($H65,EnvProfiler,BP$3,FALSE),0)","v":0},{"$f":"IFERROR('Transport og emballage'!$K99/'Transport og emballage'!$J99/1000*VLOOKUP($H65,EnvProfiler,BQ$3,FALSE),0)","v":0},{"$f":"IFERROR('Transport og emballage'!$K99/'Transport og emballage'!$J99/1000*VLOOKUP($H65,EnvProfiler,BR$3,FALSE),0)","v":0},{"$f":"IFERROR('Transport og emballage'!$K99/'Transport og emballage'!$J99/1000*VLOOKUP($H65,EnvProfiler,BS$3,FALSE),0)","v":0},{"$f":"IFERROR('Transport og emballage'!$K99/'Transport og emballage'!$J99/1000*VLOOKUP($H65,EnvProfiler,BT$3,FALSE),0)","v":0},{"$f":"IFERROR('Transport og emballage'!$K99/'Transport og emballage'!$J99/1000*VLOOKUP($H65,EnvProfiler,BU$3,FALSE),0)","v":0},{"$f":"IFERROR('Transport og emballage'!$K99/'Transport og emballage'!$J99/1000*VLOOKUP($H65,EnvProfiler,BV$3,FALSE),0)","v":0},{"$f":"IFERROR('Transport og emballage'!$K99/'Transport og emballage'!$J99/1000*VLOOKUP($H65,EnvProfiler,BW$3,FALSE),0)","v":0},{"$f":"IFERROR('Transport og emballage'!$K99/'Transport og emballage'!$J99/1000*VLOOKUP($H65,EnvProfiler,BX$3,FALSE),0)","v":0},{"$f":"IFERROR('Transport og emballage'!$K99/'Transport og emballage'!$J99/1000*VLOOKUP($H65,EnvProfiler,BY$3,FALSE),0)","v":0},{"$f":"IFERROR('Transport og emballage'!$K99/'Transport og emballage'!$J99/1000*VLOOKUP($H65,EnvProfiler,BZ$3,FALSE),0)","v":0},{"$f":"IFERROR('Transport og emballage'!$K99/'Transport og emballage'!$J99/1000*VLOOKUP($H65,EnvProfiler,CA$3,FALSE),0)","v":0},{"$f":"IFERROR('Transport og emballage'!$K99/'Transport og emballage'!$J99/1000*VLOOKUP($H65,EnvProfiler,CB$3,FALSE),0)","v":0},{"$f":"IFERROR('Transport og emballage'!$K99/'Transport og emballage'!$J99/1000*VLOOKUP($H65,EnvProfiler,CC$3,FALSE),0)","v":0},{"$f":"IFERROR('Transport og emballage'!$K99/'Transport og emballage'!$J99/1000*VLOOKUP($H65,EnvProfiler,CD$3,FALSE),0)","v":0},{"$f":"IFERROR('Transport og emballage'!$K99/'Transport og emballage'!$J99/1000*VLOOKUP($H65,EnvProfiler,CE$3,FALSE),0)","v":0},{"$f":"IFERROR('Transport og emballage'!$K99/'Transport og emballage'!$J99/1000*VLOOKUP($H65,EnvProfiler,CF$3,FALSE),0)","v":0},{"$f":"IFERROR('Transport og emballage'!$K99/'Transport og emballage'!$J99/1000*VLOOKUP($H65,EnvProfiler,CG$3,FALSE),0)","v":0},{"$f":"IFERROR('Transport og emballage'!$K99/'Transport og emballage'!$J99/1000*VLOOKUP($H65,EnvProfiler,CH$3,FALSE),0)","v":0},{"$f":"IFERROR('Transport og emballage'!$K99/'Transport og emballage'!$J99/1000*VLOOKUP($H65,EnvProfiler,CI$3,FALSE),0)","v":0}]
[null,null,null,{"$f":"IF(ISBLANK('Transport og emballage'!E100),\"\",'Transport og emballage'!E100)","v":{"$error":"#N/A"}},{"$error":"#N/A"},null,{"$f":"IF(ISBLANK('Transport og emballage'!I100),\"\",'Transport og emballage'!I100)","v":{"$error":"#N/A"}},{"$error":"#N/A"},null,null,null,null,null,null,null,null,null,null,null,null,null,null,null,null,null,null,{"$f":"IFERROR('Transport og emballage'!$G100/'Transport og emballage'!$F100/1000*VLOOKUP($E66,EnvProfiler,AA$3,FALSE),0)","v":0},{"$f":"IFERROR('Transport og emballage'!$G100/'Transport og emballage'!$F100/1000*VLOOKUP($E66,EnvProfiler,AB$3,FALSE),0)","v":0},{"$f":"IFERROR('Transport og emballage'!$G100/'Transport og emballage'!$F100/1000*VLOOKUP($E66,EnvProfiler,AC$3,FALSE),0)","v":0},{"$f":"IFERROR('Transport og emballage'!$G100/'Transport og emballage'!$F100/1000*VLOOKUP($E66,EnvProfiler,AD$3,FALSE),0)","v":0},{"$f":"IFERROR('Transport og emballage'!$G100/'Transport og emballage'!$F100/1000*VLOOKUP($E66,EnvProfiler,AE$3,FALSE),0)","v":0},{"$f":"IFERROR('Transport og emballage'!$G100/'Transport og emballage'!$F100/1000*VLOOKUP($E66,EnvProfiler,AF$3,FALSE),0)","v":0},{"$f":"IFERROR('Transport og emballage'!$G100/'Transport og emballage'!$F100/1000*VLOOKUP($E66,EnvProfiler,AG$3,FALSE),0)","v":0},{"$f":"IFERROR('Transport og emballage'!$G100/'Transport og emballage'!$F100/1000*VLOOKUP($E66,EnvProfiler,AH$3,FALSE),0)","v":0},{"$f":"IFERROR('Transport og emballage'!$G100/'Transport og emballage'!$F100/1000*VLOOKUP($E66,EnvProfiler,AI$3,FALSE),0)","v":0},{"$f":"IFERROR('Transport og emballage'!$G100/'Transport og emballage'!$F100/1000*VLOOKUP($E66,EnvProfiler,AJ$3,FALSE),0)","v":0},{"$f":"IFERROR('Transport og emballage'!$G100/'Transport og emballage'!$F100/1000*VLOOKUP($E66,EnvProfiler,AK$3,FALSE),0)","v":0},{"$f":"IFERROR('Transport og emballage'!$G100/'Transport og emballage'!$F100/1000*VLOOKUP($E66,EnvProfiler,AL$3,FALSE),0)","v":0},{"$f":"IFERROR('Transport og emballage'!$G100/'Transport og emballage'!$F100/1000*VLOOKUP($E66,EnvProfiler,AM$3,FALSE),0)","v":0},{"$f":"IFERROR('Transport og emballage'!$G100/'Transport og emballage'!$F100/1000*VLOOKUP($E66,EnvProfiler,AN$3,FALSE),0)","v":0},{"$f":"IFERROR('Transport og emballage'!$G100/'Transport og emballage'!$F100/1000*VLOOKUP($E66,EnvProfiler,AO$3,FALSE),0)","v":0},{"$f":"IFERROR('Transport og emballage'!$G100/'Transport og emballage'!$F100/1000*VLOOKUP($E66,EnvProfiler,AP$3,FALSE),0)","v":0},{"$f":"IFERROR('Transport og emballage'!$G100/'Transport og emballage'!$F100/1000*VLOOKUP($E66,EnvProfiler,AQ$3,FALSE),0)","v":0},{"$f":"IFERROR('Transport og emballage'!$G100/'Transport og emballage'!$F100/1000*VLOOKUP($E66,EnvProfiler,AR$3,FALSE),0)","v":0},{"$f":"IFERROR('Transport og emballage'!$G100/'Transport og emballage'!$F100/1000*VLOOKUP($E66,EnvProfiler,AS$3,FALSE),0)","v":0},{"$f":"IFERROR('Transport og emballage'!$G100/'Transport og emballage'!$F100/1000*VLOOKUP($E66,EnvProfiler,AT$3,FALSE),0)","v":0},{"$f":"IFERROR('Transport og emballage'!$G100/'Transport og emballage'!$F100/1000*VLOOKUP($E66,EnvProfiler,AU$3,FALSE),0)","v":0},{"$f":"IFERROR('Transport og emballage'!$G100/'Transport og emballage'!$F100/1000*VLOOKUP($E66,EnvProfiler,AV$3,FALSE),0)","v":0},{"$f":"IFERROR('Transport og emballage'!$G100/'Transport og emballage'!$F100/1000*VLOOKUP($E66,EnvProfiler,AW$3,FALSE),0)","v":0},{"$f":"IFERROR('Transport og emballage'!$G100/'Transport og emballage'!$F100/1000*VLOOKUP($E66,EnvProfiler,AX$3,FALSE),0)","v":0},{"$f":"IFERROR('Transport og emballage'!$G100/'Transport og emballage'!$F100/1000*VLOOKUP($E66,EnvProfiler,AY$3,FALSE),0)","v":0},{"$f":"IFERROR('Transport og emballage'!$G100/'Transport og emballage'!$F100/1000*VLOOKUP($E66,EnvProfiler,AZ$3,FALSE),0)","v":0},{"$f":"IFERROR('Transport og emballage'!$G100/'Transport og emballage'!$F100/1000*VLOOKUP($E66,EnvProfiler,BA$3,FALSE),0)","v":0},{"$f":"IFERROR('Transport og emballage'!$G100/'Transport og emballage'!$F100/1000*VLOOKUP($E66,EnvProfiler,BB$3,FALSE),0)","v":0},{"$f":"IFERROR('Transport og emballage'!$G100/'Transport og emballage'!$F100/1000*VLOOKUP($E66,EnvProfiler,BC$3,FALSE),0)","v":0},null,null,null,{"$f":"IFERROR('Transport og emballage'!$K100/'Transport og emballage'!$J100/1000*VLOOKUP($H66,EnvProfiler,BG$3,FALSE),0)","v":0},{"$f":"IFERROR('Transport og emballage'!$K100/'Transport og emballage'!$J100/1000*VLOOKUP($H66,EnvProfiler,BH$3,FALSE),0)","v":0},{"$f":"IFERROR('Transport og emballage'!$K100/'Transport og emballage'!$J100/1000*VLOOKUP($H66,EnvProfiler,BI$3,FALSE),0)","v":0},{"$f":"IFERROR('Transport og emballage'!$K100/'Transport og emballage'!$J100/1000*VLOOKUP($H66,EnvProfiler,BJ$3,FALSE),0)","v":0},{"$f":"IFERROR('Transport og emballage'!$K100/'Transport og emballage'!$J100/1000*VLOOKUP($H66,EnvProfiler,BK$3,FALSE),0)","v":0},{"$f":"IFERROR('Transport og emballage'!$K100/'Transport og emballage'!$J100/1000*VLOOKUP($H66,EnvProfiler,BL$3,FALSE),0)","v":0},{"$f":"IFERROR('Transport og emballage'!$K100/'Transport og emballage'!$J100/1000*VLOOKUP($H66,EnvProfiler,BM$3,FALSE),0)","v":0},{"$f":"IFERROR('Transport og emballage'!$K100/'Transport og emballage'!$J100/1000*VLOOKUP($H66,EnvProfiler,BN$3,FALSE),0)","v":0},{"$f":"IFERROR('Transport og emballage'!$K100/'Transport og emballage'!$J100/1000*VLOOKUP($H66,EnvProfiler,BO$3,FALSE),0)","v":0},{"$f":"IFERROR('Transport og emballage'!$K100/'Transport og emballage'!$J100/1000*VLOOKUP($H66,EnvProfiler,BP$3,FALSE),0)","v":0},{"$f":"IFERROR('Transport og emballage'!$K100/'Transport og emballage'!$J100/1000*VLOOKUP($H66,EnvProfiler,BQ$3,FALSE),0)","v":0},{"$f":"IFERROR('Transport og emballage'!$K100/'Transport og emballage'!$J100/1000*VLOOKUP($H66,EnvProfiler,BR$3,FALSE),0)","v":0},{"$f":"IFERROR('Transport og emballage'!$K100/'Transport og emballage'!$J100/1000*VLOOKUP($H66,EnvProfiler,BS$3,FALSE),0)","v":0},{"$f":"IFERROR('Transport og emballage'!$K100/'Transport og emballage'!$J100/1000*VLOOKUP($H66,EnvProfiler,BT$3,FALSE),0)","v":0},{"$f":"IFERROR('Transport og emballage'!$K100/'Transport og emballage'!$J100/1000*VLOOKUP($H66,EnvProfiler,BU$3,FALSE),0)","v":0},{"$f":"IFERROR('Transport og emballage'!$K100/'Transport og emballage'!$J100/1000*VLOOKUP($H66,EnvProfiler,BV$3,FALSE),0)","v":0},{"$f":"IFERROR('Transport og emballage'!$K100/'Transport og emballage'!$J100/1000*VLOOKUP($H66,EnvProfiler,BW$3,FALSE),0)","v":0},{"$f":"IFERROR('Transport og emballage'!$K100/'Transport og emballage'!$J100/1000*VLOOKUP($H66,EnvProfiler,BX$3,FALSE),0)","v":0},{"$f":"IFERROR('Transport og emballage'!$K100/'Transport og emballage'!$J100/1000*VLOOKUP($H66,EnvProfiler,BY$3,FALSE),0)","v":0},{"$f":"IFERROR('Transport og emballage'!$K100/'Transport og emballage'!$J100/1000*VLOOKUP($H66,EnvProfiler,BZ$3,FALSE),0)","v":0},{"$f":"IFERROR('Transport og emballage'!$K100/'Transport og emballage'!$J100/1000*VLOOKUP($H66,EnvProfiler,CA$3,FALSE),0)","v":0},{"$f":"IFERROR('Transport og emballage'!$K100/'Transport og emballage'!$J100/1000*VLOOKUP($H66,EnvProfiler,CB$3,FALSE),0)","v":0},{"$f":"IFERROR('Transport og emballage'!$K100/'Transport og emballage'!$J100/1000*VLOOKUP($H66,EnvProfiler,CC$3,FALSE),0)","v":0},{"$f":"IFERROR('Transport og emballage'!$K100/'Transport og emballage'!$J100/1000*VLOOKUP($H66,EnvProfiler,CD$3,FALSE),0)","v":0},{"$f":"IFERROR('Transport og emballage'!$K100/'Transport og emballage'!$J100/1000*VLOOKUP($H66,EnvProfiler,CE$3,FALSE),0)","v":0},{"$f":"IFERROR('Transport og emballage'!$K100/'Transport og emballage'!$J100/1000*VLOOKUP($H66,EnvProfiler,CF$3,FALSE),0)","v":0},{"$f":"IFERROR('Transport og emballage'!$K100/'Transport og emballage'!$J100/1000*VLOOKUP($H66,EnvProfiler,CG$3,FALSE),0)","v":0},{"$f":"IFERROR('Transport og emballage'!$K100/'Transport og emballage'!$J100/1000*VLOOKUP($H66,EnvProfiler,CH$3,FALSE),0)","v":0},{"$f":"IFERROR('Transport og emballage'!$K100/'Transport og emballage'!$J100/1000*VLOOKUP($H66,EnvProfiler,CI$3,FALSE),0)","v":0}]
[null,null,null,{"$f":"IF(ISBLANK('Transport og emballage'!E101),\"\",'Transport og emballage'!E101)","v":{"$error":"#N/A"}},{"$error":"#N/A"},null,{"$f":"IF(ISBLANK('Transport og emballage'!I101),\"\",'Transport og emballage'!I101)","v":{"$error":"#N/A"}},{"$error":"#N/A"},null,null,null,null,null,null,null,null,null,null,null,null,null,null,null,null,null,null,{"$f":"IFERROR('Transport og emballage'!$G101/'Transport og emballage'!$F101/1000*VLOOKUP($E67,EnvProfiler,AA$3,FALSE),0)","v":0},{"$f":"IFERROR('Transport og emballage'!$G101/'Transport og emballage'!$F101/1000*VLOOKUP($E67,EnvProfiler,AB$3,FALSE),0)","v":0},{"$f":"IFERROR('Transport og emballage'!$G101/'Transport og emballage'!$F101/1000*VLOOKUP($E67,EnvProfiler,AC$3,FALSE),0)","v":0},{"$f":"IFERROR('Transport og emballage'!$G101/'Transport og emballage'!$F101/1000*VLOOKUP($E67,EnvProfiler,AD$3,FALSE),0)","v":0},{"$f":"IFERROR('Transport og emballage'!$G101/'Transport og emballage'!$F101/1000*VLOOKUP($E67,EnvProfiler,AE$3,FALSE),0)","v":0},{"$f":"IFERROR('Transport og emballage'!$G101/'Transport og emballage'!$F101/1000*VLOOKUP($E67,EnvProfiler,AF$3,FALSE),0)","v":0},{"$f":"IFERROR('Transport og emballage'!$G101/'Transport og emballage'!$F101/1000*VLOOKUP($E67,EnvProfiler,AG$3,FALSE),0)","v":0},{"$f":"IFERROR('Transport og emballage'!$G101/'Transport og emballage'!$F101/1000*VLOOKUP($E67,EnvProfiler,AH$3,FALSE),0)","v":0},{"$f":"IFERROR('Transport og emballage'!$G101/'Transport og emballage'!$F101/1000*VLOOKUP($E67,EnvProfiler,AI$3,FALSE),0)","v":0},{"$f":"IFERROR('Transport og emballage'!$G101/'Transport og emballage'!$F101/1000*VLOOKUP($E67,EnvProfiler,AJ$3,FALSE),0)","v":0},{"$f":"IFERROR('Transport og emballage'!$G101/'Transport og emballage'!$F101/1000*VLOOKUP($E67,EnvProfiler,AK$3,FALSE),0)","v":0},{"$f":"IFERROR('Transport og emballage'!$G101/'Transport og emballage'!$F101/1000*VLOOKUP($E67,EnvProfiler,AL$3,FALSE),0)","v":0},{"$f":"IFERROR('Transport og emballage'!$G101/'Transport og emballage'!$F101/1000*VLOOKUP($E67,EnvProfiler,AM$3,FALSE),0)","v":0},{"$f":"IFERROR('Transport og emballage'!$G101/'Transport og emballage'!$F101/1000*VLOOKUP($E67,EnvProfiler,AN$3,FALSE),0)","v":0},{"$f":"IFERROR('Transport og emballage'!$G101/'Transport og emballage'!$F101/1000*VLOOKUP($E67,EnvProfiler,AO$3,FALSE),0)","v":0},{"$f":"IFERROR('Transport og emballage'!$G101/'Transport og emballage'!$F101/1000*VLOOKUP($E67,EnvProfiler,AP$3,FALSE),0)","v":0},{"$f":"IFERROR('Transport og emballage'!$G101/'Transport og emballage'!$F101/1000*VLOOKUP($E67,EnvProfiler,AQ$3,FALSE),0)","v":0},{"$f":"IFERROR('Transport og emballage'!$G101/'Transport og emballage'!$F101/1000*VLOOKUP($E67,EnvProfiler,AR$3,FALSE),0)","v":0},{"$f":"IFERROR('Transport og emballage'!$G101/'Transport og emballage'!$F101/1000*VLOOKUP($E67,EnvProfiler,AS$3,FALSE),0)","v":0},{"$f":"IFERROR('Transport og emballage'!$G101/'Transport og emballage'!$F101/1000*VLOOKUP($E67,EnvProfiler,AT$3,FALSE),0)","v":0},{"$f":"IFERROR('Transport og emballage'!$G101/'Transport og emballage'!$F101/1000*VLOOKUP($E67,EnvProfiler,AU$3,FALSE),0)","v":0},{"$f":"IFERROR('Transport og emballage'!$G101/'Transport og emballage'!$F101/1000*VLOOKUP($E67,EnvProfiler,AV$3,FALSE),0)","v":0},{"$f":"IFERROR('Transport og emballage'!$G101/'Transport og emballage'!$F101/1000*VLOOKUP($E67,EnvProfiler,AW$3,FALSE),0)","v":0},{"$f":"IFERROR('Transport og emballage'!$G101/'Transport og emballage'!$F101/1000*VLOOKUP($E67,EnvProfiler,AX$3,FALSE),0)","v":0},{"$f":"IFERROR('Transport og emballage'!$G101/'Transport og emballage'!$F101/1000*VLOOKUP($E67,EnvProfiler,AY$3,FALSE),0)","v":0},{"$f":"IFERROR('Transport og emballage'!$G101/'Transport og emballage'!$F101/1000*VLOOKUP($E67,EnvProfiler,AZ$3,FALSE),0)","v":0},{"$f":"IFERROR('Transport og emballage'!$G101/'Transport og emballage'!$F101/1000*VLOOKUP($E67,EnvProfiler,BA$3,FALSE),0)","v":0},{"$f":"IFERROR('Transport og emballage'!$G101/'Transport og emballage'!$F101/1000*VLOOKUP($E67,EnvProfiler,BB$3,FALSE),0)","v":0},{"$f":"IFERROR('Transport og emballage'!$G101/'Transport og emballage'!$F101/1000*VLOOKUP($E67,EnvProfiler,BC$3,FALSE),0)","v":0},null,null,null,{"$f":"IFERROR('Transport og emballage'!$K101/'Transport og emballage'!$J101/1000*VLOOKUP($H67,EnvProfiler,BG$3,FALSE),0)","v":0},{"$f":"IFERROR('Transport og emballage'!$K101/'Transport og emballage'!$J101/1000*VLOOKUP($H67,EnvProfiler,BH$3,FALSE),0)","v":0},{"$f":"IFERROR('Transport og emballage'!$K101/'Transport og emballage'!$J101/1000*VLOOKUP($H67,EnvProfiler,BI$3,FALSE),0)","v":0},{"$f":"IFERROR('Transport og emballage'!$K101/'Transport og emballage'!$J101/1000*VLOOKUP($H67,EnvProfiler,BJ$3,FALSE),0)","v":0},{"$f":"IFERROR('Transport og emballage'!$K101/'Transport og emballage'!$J101/1000*VLOOKUP($H67,EnvProfiler,BK$3,FALSE),0)","v":0},{"$f":"IFERROR('Transport og emballage'!$K101/'Transport og emballage'!$J101/1000*VLOOKUP($H67,EnvProfiler,BL$3,FALSE),0)","v":0},{"$f":"IFERROR('Transport og emballage'!$K101/'Transport og emballage'!$J101/1000*VLOOKUP($H67,EnvProfiler,BM$3,FALSE),0)","v":0},{"$f":"IFERROR('Transport og emballage'!$K101/'Transport og emballage'!$J101/1000*VLOOKUP($H67,EnvProfiler,BN$3,FALSE),0)","v":0},{"$f":"IFERROR('Transport og emballage'!$K101/'Transport og emballage'!$J101/1000*VLOOKUP($H67,EnvProfiler,BO$3,FALSE),0)","v":0},{"$f":"IFERROR('Transport og emballage'!$K101/'Transport og emballage'!$J101/1000*VLOOKUP($H67,EnvProfiler,BP$3,FALSE),0)","v":0},{"$f":"IFERROR('Transport og emballage'!$K101/'Transport og emballage'!$J101/1000*VLOOKUP($H67,EnvProfiler,BQ$3,FALSE),0)","v":0},{"$f":"IFERROR('Transport og emballage'!$K101/'Transport og emballage'!$J101/1000*VLOOKUP($H67,EnvProfiler,BR$3,FALSE),0)","v":0},{"$f":"IFERROR('Transport og emballage'!$K101/'Transport og emballage'!$J101/1000*VLOOKUP($H67,EnvProfiler,BS$3,FALSE),0)","v":0},{"$f":"IFERROR('Transport og emballage'!$K101/'Transport og emballage'!$J101/1000*VLOOKUP($H67,EnvProfiler,BT$3,FALSE),0)","v":0},{"$f":"IFERROR('Transport og emballage'!$K101/'Transport og emballage'!$J101/1000*VLOOKUP($H67,EnvProfiler,BU$3,FALSE),0)","v":0},{"$f":"IFERROR('Transport og emballage'!$K101/'Transport og emballage'!$J101/1000*VLOOKUP($H67,EnvProfiler,BV$3,FALSE),0)","v":0},{"$f":"IFERROR('Transport og emballage'!$K101/'Transport og emballage'!$J101/1000*VLOOKUP($H67,EnvProfiler,BW$3,FALSE),0)","v":0},{"$f":"IFERROR('Transport og emballage'!$K101/'Transport og emballage'!$J101/1000*VLOOKUP($H67,EnvProfiler,BX$3,FALSE),0)","v":0},{"$f":"IFERROR('Transport og emballage'!$K101/'Transport og emballage'!$J101/1000*VLOOKUP($H67,EnvProfiler,BY$3,FALSE),0)","v":0},{"$f":"IFERROR('Transport og emballage'!$K101/'Transport og emballage'!$J101/1000*VLOOKUP($H67,EnvProfiler,BZ$3,FALSE),0)","v":0},{"$f":"IFERROR('Transport og emballage'!$K101/'Transport og emballage'!$J101/1000*VLOOKUP($H67,EnvProfiler,CA$3,FALSE),0)","v":0},{"$f":"IFERROR('Transport og emballage'!$K101/'Transport og emballage'!$J101/1000*VLOOKUP($H67,EnvProfiler,CB$3,FALSE),0)","v":0},{"$f":"IFERROR('Transport og emballage'!$K101/'Transport og emballage'!$J101/1000*VLOOKUP($H67,EnvProfiler,CC$3,FALSE),0)","v":0},{"$f":"IFERROR('Transport og emballage'!$K101/'Transport og emballage'!$J101/1000*VLOOKUP($H67,EnvProfiler,CD$3,FALSE),0)","v":0},{"$f":"IFERROR('Transport og emballage'!$K101/'Transport og emballage'!$J101/1000*VLOOKUP($H67,EnvProfiler,CE$3,FALSE),0)","v":0},{"$f":"IFERROR('Transport og emballage'!$K101/'Transport og emballage'!$J101/1000*VLOOKUP($H67,EnvProfiler,CF$3,FALSE),0)","v":0},{"$f":"IFERROR('Transport og emballage'!$K101/'Transport og emballage'!$J101/1000*VLOOKUP($H67,EnvProfiler,CG$3,FALSE),0)","v":0},{"$f":"IFERROR('Transport og emballage'!$K101/'Transport og emballage'!$J101/1000*VLOOKUP($H67,EnvProfiler,CH$3,FALSE),0)","v":0},{"$f":"IFERROR('Transport og emballage'!$K101/'Transport og emballage'!$J101/1000*VLOOKUP($H67,EnvProfiler,CI$3,FALSE),0)","v":0}]
[]
[]
[]
[]
[]
[]
[]
[]
[]
[]
[]
[]
[]
[]
[]
[]
[]
[]
[]
[]
[]
[]
[]
[]
[]
[]
[]
[]
[]
[]
[]
[]
[]
[]
[]
[]
[]
[]
[null,null,null,null,null,null,null,null,null,null,null,null,null,null,null,null,null,null,null,null,null,null,null,null,{"$f":"SUM(Y10:Y105)","v":0},{"$f":"SUM(Z10:Z105)","v":{"$error":"#N/A"}},{"$f":"SUM(AA10:AA105)","v":0},{"$f":"SUM(AB10:AB105)","v":0},0,0,0,0,0,0,0,0,0,0,0,0,0,0,0,0,0,0,0,0,0,0,0,0,0,0,0,null,{"$f":"SUM(BE10:BE105)","v":0},{"$f":"SUM(BF10:BF105)","v":{"$error":"#N/A"}},{"$f":"SUM(BG10:BG105)","v":0},0,0,0,0,0,0,0,0,0,0,0,0,0,0,0,0,0,0,0,0,0,0,0,0,0,0,0,0]
[null,null,null,null,null,null,null,null,null,null,null,null,null,null,null,null,null,null,null,null,null,null,null,null,"indtjening","udgifter",null,null,null,null,null,null,null,null,null,null,null,null,null,null,null,null,null,null,null,null,null,null,null,null,null,null,null,null,null,null,"indtjening","udgifter"]

{"sheet":"Resultat","index":6,"n_rows":86,"n_cols":411,"rows_kept":86,"cut":false,"hidden":false,"merged":[]}
[null,null,null,null,null,null,null,null,null,null,null,null,null,null,null,null,null,null,null,null,null,null,null,null,null,null,null,null,null,null,null,null,null,null,null,null,null,null,null,null,null,null,null,null,null,null,null,null,null,null,null,null,null,null,null,null,null,null,null,null,null,null,null,null,null,null,null,null,null,null,null,null,null,null,null,null,null,null,null,null,null,null,null,null,null,null,null,null,null,null,null,null,null,null,null,null,null,null,null,null,null,null,null,null,null,null,null,null,null,null,null,null,null,null,null,null,null,null,null,null,null,null,null,null,null,null,null,null,null,null,null,null,null,null,null,null,null,null,null,null,null,null,null,null,null,null,null,null,null,null,null,null,null,null,null,null,null,null,null,null,null,null,null,null,null,null,null,null,null,null,null,null,null,null,null,null,null,null,null,null,null,null,null,null,null,null,null,null,null,null,null,null,null,null,null,null,null,null,null,null,null,null,null,null,null,null,null,null,null,null,null,null,null,null,null,null,null,null,null,null,null,null,null,null,null,null,null,null,null,null,null,null,null,null,null,null,null,null,null,null,null,null,null,null,null,null,null,null,null,null,null,null,null,null,null,null,null,null,null,null,null,null,null,null,null,null,null,null,null,null,null,null,null,null,null,null,null,null,null,null,null,null,null,null,null,null,null,null,null,null,null,null,null,null,null,null,null,null,null,null,null,null,null,null,null,null,null,null,null,null,null,null,null,null,null,null,null,null,null,null,null,null,null,null,null,null,null,null,null,null,null,null,null,null,null,null,null,null,null,null,null,null,null,"Robustness","LCIA","NF"]
[null,null,null,null,null,null,null,null,null,null,null,null,null,null,null,null,null,null,null,null,null,null,null,null,null,null,null,null,null,null,null,null,null,null,null,null,null,null,null,null,null,null,null,null,null,null,null,null,null,null,null,null,null,null,null,null,null,null,null,null,null,null,null,null,null,null,null,null,null,null,null,null,null,null,null,null,null,null,null,null,null,null,null,null,null,null,null,null,null,null,null,null,null,null,null,null,null,null,null,null,null,null,null,null,null,null,null,null,null,null,null,null,null,null,null,null,null,null,null,null,null,null,null,null,null,null,null,null,null,null,null,null,null,null,null,null,null,null,null,null,null,null,null,null,null,null,null,null,null,null,null,null,null,null,null,null,null,null,null,null,null,null,null,null,null,null,null,null,null,null,null,null,null,null,null,null,null,null,null,null,null,null,null,null,null,null,null,null,null,null,null,null,null,null,null,null,null,null,null,null,null,null,null,null,null,null,null,null,null,null,null,null,null,null,null,null,null,null,null,null,null,null,null,null,null,null,null,null,null,null,null,null,null,null,null,null,null,null,null,null,null,null,null,null,null,null,null,null,null,null,null,null,null,null,null,null,null,null,null,null,null,null,null,null,null,null,null,null,null,null,null,null,null,null,null,null,null,null,null,null,null,null,null,null,null,null,null,null,null,null,null,null,null,null,null,null,null,null,null,null,null,null,null,null,null,null,null,null,null,null,null,null,null,null,null,null,null,null,null,null,null,null,null,null,null,null,null,null,null,null,null,null,null,null,null,null,null,null,null,null,null,null,null,"I",0.2,0.2,null,null,null,null,"product1",null,null,null,null,null,null,null,null,null,null,null,null,null,null,null,null,null,null,null,null,null,null,null,null,null,null,null,null,null,null,null,"product2"]
[null,"LCA-udbudsværktøj for screening af tekstiler i sundhedssektoren ",null,null,null,null,null,null,null,null,null,null,null,null,null,null,null,null,null,null,null,null,null,null,null,null,null,null,null,null,null,null,null,null,null,null,null,null,null,null,null,null,null,null,null,null,null,null,null,null,null,null,null,null,null,null,null,null,null,null,null,null,null,null,null,null,null,null,null,null,null,null,null,null,null,null,null,null,null,null,null,null,null,null,null,null,null,null,null,null,null,null,null,null,null,null,null,null,null,null,null,null,null,null,null,null,null,null,null,null,null,null,null,null,null,null,null,null,null,null,null,null,null,null,null,null,null,null,null,null,null,null,null,null,null,null,null,null,null,null,null,null,null,null,null,null,null,null,null,null,null,null,null,null,null,null,null,null,null,null,null,null,null,null,null,null,null,null,null,null,null,null,null,null,null,null,null,null,null,null,null,null,null,null,null,null,null,null,null,null,null,null,null,null,null,null,null,null,null,null,null,null,null,null,null,null,null,null,null,null,null,null,null,null,null,null,null,null,null,null,null,null,null,null,null,null,null,null,null,null,null,null,null,null,null,null,null,null,null,null,null,null,null,null,null,null,null,null,null,null,null,null,null,null,null,null,null,null,null,null,null,null,null,null,null,null,null,null,null,null,null,null,null,null,null,null,null,null,null,null,null,null,null,null,null,null,null,null,null,null,null,null,null,null,null,null,null,null,null,null,null,null,null,null,null,null,null,null,null,null,null,null,null,null,null,null,null,null,null,null,null,null,null,null,null,null,null,null,null,null,null,null,null,null,null,null,null,null,null,null,null,null,null,"I/II",0.3,0.3,null,null,null,1,2,3,4,5,6,7,8,9,10,11,12,13,14,15,16,17,18,19,20,21,22,23,24,25,26,27,28,29,30,null,null,1,2,3,4,5,6,7,8,9,10,11,12,13,14,15,16,17,18,19,20,21,22,23,24,25,26,27,28,29,30]
[null,null,null,null,null,null,null,null,null,null,null,null,null,null,null,null,null,null,null,null,null,null,null,null,null,null,null,null,null,null,null,null,null,null,null,null,null,null,null,null,null,null,null,null,null,null,null,null,null,null,null,null,null,null,null,null,null,null,null,null,null,null,null,null,null,null,null,null,null,null,null,null,null,null,null,null,null,null,null,null,null,null,null,null,null,null,null,null,null,null,null,null,null,null,null,null,null,null,null,null,null,null,null,null,null,null,null,null,null,null,null,null,null,null,null,null,null,null,null,null,null,null,null,null,null,null,null,null,null,null,null,null,null,null,null,null,null,null,null,null,null,null,null,null,null,null,null,null,null,null,null,null,null,null,null,null,null,null,null,null,null,null,null,null,null,null,null,null,null,null,null,null,null,null,null,null,null,null,null,null,null,null,null,null,null,null,null,null,null,null,null,null,null,null,null,null,null,null,null,null,null,null,null,null,null,null,null,null,null,null,null,null,null,null,null,null,null,null,null,null,null,null,null,null,null,null,null,null,null,null,null,null,null,null,null,null,null,null,null,null,null,null,null,null,null,null,null,null,null,null,null,null,null,null,null,null,null,null,null,null,null,null,null,null,null,null,null,null,null,null,null,null,null,null,null,null,null,null,null,null,null,null,null,null,null,null,null,null,null,null,null,null,null,null,null,null,null,null,null,null,null,null,null,null,null,null,null,null,null,null,null,null,null,null,null,null,null,null,null,null,null,null,null,null,null,null,null,null,null,null,null,null,null,null,null,null,null,null,null,null,null,null,null,"II",0.4,0.4,null,null,"EF LCIA robustness","I","i","I","II","II","I","II/III","II/III","II","II","II","II","II/III","III","III","III","III",null,null,null,null,null,null,null,null,null,null,null,null,null,null,null,"EF LCIA robustness","i","I","II","II","I","II/III","II/III","II","II","II","II","II/III","III","III","III","III"]
[null,null,null,null,null,null,null,null,null,null,null,null,null,null,null,null,null,null,null,null,null,null,null,null,null,null,null,null,null,null,null,null,null,null,null,null,null,null,null,null,null,null,null,null,null,null,null,null,null,null,null,null,null,null,null,null,null,null,null,null,null,null,null,null,null,null,null,null,null,null,null,null,null,null,null,null,null,null,null,null,null,null,null,null,null,null,null,null,null,null,null,null,null,null,null,null,null,null,null,null,null,null,null,null,null,null,null,null,null,null,null,null,null,null,null,null,null,null,null,null,null,null,null,null,null,null,null,null,null,null,null,null,null,null,null,null,null,null,null,null,null,null,null,null,null,null,null,null,null,null,null,null,null,null,null,null,null,null,null,null,null,null,null,null,null,null,null,null,null,null,null,null,null,null,null,null,null,null,null,null,null,null,null,null,null,null,null,null,null,null,null,null,null,null,null,null,null,null,null,null,null,null,null,null,null,null,null,null,null,null,null,null,null,null,null,null,null,null,null,null,null,null,null,null,null,null,null,null,null,null,null,null,null,null,null,null,null,null,null,null,null,null,null,null,null,null,null,null,null,null,null,null,null,null,null,null,null,null,null,null,null,null,null,null,null,null,null,null,null,null,null,null,null,null,null,null,null,null,null,null,null,null,null,null,null,null,null,null,null,null,null,null,null,null,null,null,null,null,null,null,null,null,null,null,null,null,null,null,null,null,null,null,null,null,null,null,null,null,null,null,null,null,null,null,null,null,null,null,null,null,null,null,null,null,null,null,null,null,null,null,null,null,null,"II/III",0.5,0.5,null,1,null,"Økonomi","Klimaforandringer",null,null,null,"Partikelforurening",null,null,null,"Eutrofiering",null,null,"Økotoksicitet","Brug af landarealer","Forbrug af vand",null,null,null,null,null,null,null,null,null,null,null,null,null,null,null,null,null,"Økonomi","Klimaforandringer",null,null,null,"Partikelforurening",null,null,null,"Eutrofiering",null,null,"Økotoksicitet","Brug af landarealer","Forbrug af vand"]
[null,null,"Resultater af analysen ",null,null,null,null,null,null,null,null,null,null,null,null,null,null,null,null,null,null,null,null,null,null,null,null,null,null,null,null,null,null,null,null,null,null,null,null,null,null,null,null,null,null,null,null,null,null,null,null,null,null,null,null,null,null,null,null,null,null,null,null,null,null,null,null,null,null,null,null,null,null,null,null,null,null,null,null,null,null,null,null,null,null,null,null,null,null,null,null,null,null,null,null,null,null,null,null,null,null,null,null,null,null,null,null,null,null,null,null,null,null,null,null,null,null,null,null,null,null,null,null,null,null,null,null,null,null,null,null,null,null,null,null,null,null,null,null,null,null,null,null,null,null,null,null,null,null,null,null,null,null,null,null,null,null,null,null,null,null,null,null,null,null,null,null,null,null,null,null,null,null,null,null,null,null,null,null,null,null,null,null,null,null,null,null,null,null,null,null,null,null,null,null,null,null,null,null,null,null,null,null,null,null,null,null,null,null,null,null,null,null,null,null,null,null,null,null,null,null,null,null,null,null,null,null,null,null,null,null,null,null,null,null,null,null,null,null,null,null,null,null,null,null,null,null,null,null,null,null,null,null,null,null,null,null,null,null,null,null,null,null,null,null,null,null,null,null,null,null,null,null,null,null,null,null,null,null,null,null,null,null,null,null,null,null,null,null,null,null,null,null,null,null,null,null,null,null,null,null,null,null,null,null,null,null,null,null,null,null,null,null,null,null,null,null,null,null,null,null,null,null,null,null,null,null,null,null,null,null,null,null,null,null,null,null,null,null,null,null,null,null,"III",0.7,0.7,null,2,null,"økonomi","Climate change","Ozone depletion","Ionising radiation","Photochemical ozone formation","Particulate matter","Human toxicity, non-cancer","Human toxicity, cancer","Acidification","Eutrophication, freshwater","Eutrophication, marine","Eutrophication, terrestrial","Ecotoxicity, freshwater","Land use","Water use","Resource use, fossils","Resource use, minerals and metals","Climate change - Fossil","Climate change - Biogenic","Climate change - Land use and LU change","Human toxicity, non-cancer - organics","Human toxicity, non-cancer - inorganics","Human toxicity, non-cancer - metals","Human toxicity, cancer - organics","Human toxicity, cancer - inorganics","Human toxicity, cancer - metals","Ecotoxicity, freshwater - organics","Ecotoxicity, freshwater - inorganics","Ecotoxicity, freshwater - metals","PFAS",null,null,"økonomi","Climate change","Ozone depletion","Ionising radiation","Photochemical ozone formation","Particulate matter","Human toxicity, non-cancer","Human toxicity, cancer","Acidification","Eutrophication, freshwater","Eutrophication, marine","Eutrophication, terrestrial","Ecotoxicity, freshwater","Land use","Water use","Resource use, fossils","Resource use, minerals and metals","Climate change - Fossil","Climate change - Biogenic","Climate change - Land use and LU change","Human toxicity, non-cancer - organics","Human toxicity, non-cancer - inorganics","Human toxicity, non-cancer - metals","Human toxicity, cancer - organics","Human toxicity, cancer - inorganics","Human toxicity, cancer - metals","Ecotoxicity, freshwater - organics","Ecotoxicity, freshwater - inorganics","Ecotoxicity, freshwater - metals","PFAS"]
[null,null,null,null,null,null,null,null,null,null,null,null,null,null,null,null,null,null,null,null,null,null,null,null,null,null,null,null,null,null,null,null,null,null,null,null,null,null,null,null,null,null,null,null,null,null,null,null,null,null,null,null,null,null,null,null,null,null,null,null,null,null,null,null,null,null,null,null,null,null,null,null,null,null,null,null,null,null,null,null,null,null,null,null,null,null,null,null,null,null,null,null,null,null,null,null,null,null,null,null,null,null,null,null,null,null,null,null,null,null,null,null,null,null,null,null,null,null,null,null,null,null,null,null,null,null,null,null,null,null,null,null,null,null,null,null,null,null,null,null,null,null,null,null,null,null,null,null,null,null,null,null,null,null,null,null,null,null,null,null,null,null,null,null,null,null,null,null,null,null,null,null,null,null,null,null,null,null,null,null,null,null,null,null,null,null,null,null,null,null,null,null,null,null,null,null,null,null,null,null,null,null,null,null,null,null,null,null,null,null,null,null,null,null,null,null,null,null,null,null,null,null,null,null,null,null,null,null,null,null,null,null,null,null,null,null,null,null,null,null,null,null,null,null,null,null,null,null,null,null,null,null,null,null,null,null,null,null,null,null,null,null,null,null,null,null,null,null,null,null,null,null,null,null,null,null,null,null,null,null,null,null,null,null,null,null,null,null,null,null,null,null,null,null,null,null,null,null,null,null,null,null,null,null,null,null,null,null,null,null,null,null,null,null,null,null,null,null,null,null,null,null,null,null,null,null,null,null,null,null,null,null,null,null,null,null,null,null,null,null,null,null,null,null,null,null,null,3,null,"DKK","kg CO2 eq","kg CFC11 eq","kBq U-235 eq","kg NMVOC eq","disease inc.","CTUh","CTUh","mol H+ eq","kg P eq","kg N eq","mol N eq","CTUe","Pt","m3 depriv.","MJ","kg Sb eq","kg CO2 eq","kg CO2 eq","kg CO2 eq","CTUh","CTUh","CTUh","CTUh","CTUh","CTUh","CTUe","CTUe","CTUe","kg",null,null,"DKK","kg CO2 eq","kg CFC11 eq","kBq U-235 eq","kg NMVOC eq","disease inc.","CTUh","CTUh","mol H+ eq","kg P eq","kg N eq","mol N eq","CTUe","Pt","m3 depriv.","MJ","kg Sb eq","kg CO2 eq","kg CO2 eq","kg CO2 eq","CTUh","CTUh","CTUh","CTUh","CTUh","CTUh","CTUe","CTUe","CTUe","kg"]
[null,null,null,null,null,null,null,null,null,null,null,null,null,null,null,null,null,null,null,null,null,null,null,null,null,null,null,null,null,null,null,null,null,null,null,null,null,null,null,null,null,null,null,null,null,null,null,null,null,null,null,null,null,null,null,null,null,null,null,null,null,null,null,null,null,null,null,null,null,null,null,null,null,null,null,null,null,null,null,null,null,null,null,null,null,null,null,null,null,null,null,null,null,null,null,null,null,null,null,null,null,null,null,null,null,null,null,null,null,null,null,null,null,null,null,null,null,null,null,null,null,null,null,null,null,null,null,null,null,null,null,null,null,null,null,null,null,null,null,null,null,null,null,null,null,null,null,null,null,null,null,null,null,null,null,null,null,null,null,null,null,null,null,null,null,null,null,null,null,null,null,null,null,null,null,null,null,null,null,null,null,null,null,null,null,null,null,null,null,null,null,null,null,null,null,null,null,null,null,null,null,null,null,null,null,null,null,null,null,null,null,null,null,null,null,null,null,null,null,null,null,null,null,null,null,null,null,null,null,null,null,null,null,null,null,null,null,null,null,null,null,null,null,null,null,null,null,null,null,null,null,null,null,null,null,null,null,null,null,null,null,null,null,null,null,null,null,null,null,null,null,null,null,null,null,null,null,null,null,null,null,null,null,null,null,null,null,null,null,null,null,null,null,null,null,null,null,null,null,null,null,null,null,null,null,null,null,null,null,null,null,null,null,null,null,null,null,null,null,null,null,null,null,null,null,null,null,null,null,null,null,null,null,null,null,null,null,null,null,null,null,null,null,null,null,null,null,4,"Materiale og produktion",{"$f":"INDEX(ResultsMat1,1,ML3)*Amount_product1","v":0},{"$f":"INDEX(ResultsMat1,1,MM3)*Amount_product1","v":{"$error":"#N/A"}},{"$f":"INDEX(ResultsMat1,1,MN3)*Amount_product1","v":{"$error":"#N/A"}},{"$f":"INDEX(ResultsMat1,1,MO3)*Amount_product1","v":{"$error":"#N/A"}},{"$f":"INDEX(ResultsMat1,1,MP3)*Amount_product1","v":{"$error":"#N/A"}},{"$f":"INDEX(ResultsMat1,1,MQ3)*Amount_product1","v":{"$error":"#N/A"}},{"$f":"INDEX(ResultsMat1,1,MR3)*Amount_product1","v":{"$error":"#N/A"}},{"$f":"INDEX(ResultsMat1,1,MS3)*Amount_product1","v":{"$error":"#N/A"}},{"$f":"INDEX(ResultsMat1,1,MT3)*Amount_product1","v":{"$error":"#N/A"}},{"$f":"INDEX(ResultsMat1,1,MU3)*Amount_product1","v":{"$error":"#N/A"}},{"$f":"INDEX(ResultsMat1,1,MV3)*Amount_product1","v":{"$error":"#N/A"}},{"$f":"INDEX(ResultsMat1,1,MW3)*Amount_product1","v":{"$error":"#N/A"}},{"$f":"INDEX(ResultsMat1,1,MX3)*Amount_product1","v":{"$error":"#N/A"}},{"$f":"INDEX(ResultsMat1,1,MY3)*Amount_product1","v":{"$error":"#N/A"}},{"$f":"INDEX(ResultsMat1,1,MZ3)*Amount_product1","v":{"$error":"#N/A"}},{"$f":"INDEX(ResultsMat1,1,NA3)*Amount_product1","v":{"$error":"#N/A"}},{"$f":"INDEX(ResultsMat1,1,NB3)*Amount_product1","v":{"$error":"#N/A"}},{"$f":"INDEX(ResultsMat1,1,NC3)*Amount_product1","v":{"$error":"#N/A"}},{"$f":"INDEX(ResultsMat1,1,ND3)*Amount_product1","v":{"$error":"#N/A"}},{"$f":"INDEX(ResultsMat1,1,NE3)*Amount_product1","v":{"$error":"#N/A"}},{"$f":"INDEX(ResultsMat1,1,NF3)*Amount_product1","v":{"$error":"#N/A"}},{"$f":"INDEX(ResultsMat1,1,NG3)*Amount_product1","v":{"$error":"#N/A"}},{"$f":"INDEX(ResultsMat1,1,NH3)*Amount_product1","v":{"$error":"#N/A"}},{"$f":"INDEX(ResultsMat1,1,NI3)*Amount_product1","v":{"$error":"#N/A"}},{"$f":"INDEX(ResultsMat1,1,NJ3)*Amount_product1","v":{"$error":"#N/A"}},{"$f":"INDEX(ResultsMat1,1,NK3)*Amount_product1","v":{"$error":"#N/A"}},{"$f":"INDEX(ResultsMat1,1,NL3)*Amount_product1","v":{"$error":"#N/A"}},{"$f":"INDEX(ResultsMat1,1,NM3)*Amount_product1","v":{"$error":"#N/A"}},{"$f":"INDEX(ResultsMat1,1,NN3)*Amount_product1","v":{"$error":"#N/A"}},{"$f":"INDEX(ResultsMat1,1,NO3)*Amount_product1","v":{"$error":"#N/A"}},null,"Materiale og produktion",{"$f":"INDEX(ResultsMat2,1,NR3)*Amount_product2","v":0},{"$f":"INDEX(ResultsMat2,1,NS3)*Amount_product2","v":{"$error":"#N/A"}},{"$f":"INDEX(ResultsMat2,1,NT3)*Amount_product2","v":{"$error":"#N/A"}},{"$f":"INDEX(ResultsMat2,1,NU3)*Amount_product2","v":{"$error":"#N/A"}},{"$f":"INDEX(ResultsMat2,1,NV3)*Amount_product2","v":{"$error":"#N/A"}},{"$f":"INDEX(ResultsMat2,1,NW3)*Amount_product2","v":{"$error":"#N/A"}},{"$f":"INDEX(ResultsMat2,1,NX3)*Amount_product2","v":{"$error":"#N/A"}},{"$f":"INDEX(ResultsMat2,1,NY3)*Amount_product2","v":{"$error":"#N/A"}},{"$f":"INDEX(ResultsMat2,1,NZ3)*Amount_product2","v":{"$error":"#N/A"}},{"$f":"INDEX(ResultsMat2,1,OA3)*Amount_product2","v":{"$error":"#N/A"}},{"$f":"INDEX(ResultsMat2,1,OB3)*Amount_product2","v":{"$error":"#N/A"}},{"$f":"INDEX(ResultsMat2,1,OC3)*Amount_product2","v":{"$error":"#N/A"}},{"$f":"INDEX(ResultsMat2,1,OD3)*Amount_product2","v":{"$error":"#N/A"}},{"$f":"INDEX(ResultsMat2,1,OE3)*Amount_product2","v":{"$error":"#N/A"}},{"$f":"INDEX(ResultsMat2,1,OF3)*Amount_product2","v":{"$error":"#N/A"}},{"$f":"INDEX(ResultsMat2,1,OG3)*Amount_product2","v":{"$error":"#N/A"}},{"$f":"INDEX(ResultsMat2,1,OH3)*Amount_product2","v":{"$error":"#N/A"}},{"$f":"INDEX(ResultsMat2,1,OI3)*Amount_product2","v":{"$error":"#N/A"}},{"$f":"INDEX(ResultsMat2,1,OJ3)*Amount_product2","v":{"$error":"#N/A"}},{"$f":"INDEX(ResultsMat2,1,OK3)*Amount_product2","v":{"$error":"#N/A"}},{"$f":"INDEX(ResultsMat2,1,OL3)*Amount_product2","v":{"$error":"#N/A"}},{"$f":"INDEX(ResultsMat2,1,OM3)*Amount_product2","v":{"$error":"#N/A"}},{"$f":"INDEX(ResultsMat2,1,ON3)*Amount_product2","v":{"$error":"#N/A"}},{"$f":"INDEX(ResultsMat2,1,OO3)*Amount_product2","v":{"$error":"#N/A"}},{"$f":"INDEX(ResultsMat2,1,OP3)*Amount_product2","v":{"$error":"#N/A"}},{"$f":"INDEX(ResultsMat2,1,OQ3)*Amount_product2","v":{"$error":"#N/A"}},{"$f":"INDEX(ResultsMat2,1,OR3)*Amount_product2","v":{"$error":"#N/A"}},{"$f":"INDEX(ResultsMat2,1,OS3)*Amount_product2","v":{"$error":"#N/A"}},{"$f":"INDEX(ResultsMat2,1,OT3)*Amount_product2","v":{"$error":"#N/A"}},{"$f":"INDEX(ResultsMat2,1,OU3)*Amount_product2","v":{"$error":"#N/A"}}]
[null,null,null,null,null,null,null,null,null,null,null,null,null,null,null,null,null,null,null,null,null,null,null,null,null,null,null,null,null,null,null,null,null,null,null,null,null,null,null,null,null,null,null,"i",null,null,null,null,null,null,null,null,null,null,null,null,null,null,null,null,null,null,null,null,null,null,null,null,null,null,null,null,null,null,null,null,null,null,null,null,null,null,null,null,null,null,null,null,null,null,null,null,null,null,null,null,null,null,null,null,null,null,null,null,null,null,null,null,null,null,null,null,null,null,null,null,null,null,null,null,null,null,null,null,null,null,null,null,null,null,null,null,null,null,null,null,null,null,null,null,null,null,null,null,null,null,null,null,null,null,null,null,null,null,null,null,null,null,null,null,null,null,null,null,null,null,null,null,null,null,null,null,null,null,null,null,null,null,null,null,null,null,null,null,null,null,null,null,null,null,null,null,null,null,null,null,null,null,null,null,null,null,null,null,null,null,null,null,null,null,null,null,null,null,null,null,null,null,null,null,null,null,null,null,null,null,null,null,null,null,null,null,null,null,null,null,null,null,null,null,null,null,null,null,null,null,null,null,null,null,null,null,null,null,null,null,null,null,null,null,null,null,null,null,null,null,null,null,null,null,null,null,null,null,null,null,null,null,null,null,null,null,null,null,null,null,null,null,null,null,null,null,null,null,null,null,null,null,null,null,null,null,null,null,null,null,null,null,null,null,null,null,null,null,null,null,null,null,null,null,null,null,null,null,null,null,null,null,null,null,null,null,null,null,null,null,null,null,null,null,null,null,null,null,null,null,null,5,"Transport og emballage",{"$f":"INDEX(ResultsTrans1,1,ML3)*Amount_product1","v":{"$error":"#N/A"}},{"$f":"INDEX(ResultsTrans1,1,MM3)*Amount_product1","v":{"$error":"#N/A"}},{"$f":"INDEX(ResultsTrans1,1,MN3)*Amount_product1","v":{"$error":"#N/A"}},{"$f":"INDEX(ResultsTrans1,1,MO3)*Amount_product1","v":{"$error":"#N/A"}},{"$f":"INDEX(ResultsTrans1,1,MP3)*Amount_product1","v":{"$error":"#N/A"}},{"$f":"INDEX(ResultsTrans1,1,MQ3)*Amount_product1","v":{"$error":"#N/A"}},{"$f":"INDEX(ResultsTrans1,1,MR3)*Amount_product1","v":{"$error":"#N/A"}},{"$f":"INDEX(ResultsTrans1,1,MS3)*Amount_product1","v":{"$error":"#N/A"}},{"$f":"INDEX(ResultsTrans1,1,MT3)*Amount_product1","v":{"$error":"#N/A"}},{"$f":"INDEX(ResultsTrans1,1,MU3)*Amount_product1","v":{"$error":"#N/A"}},{"$f":"INDEX(ResultsTrans1,1,MV3)*Amount_product1","v":{"$error":"#N/A"}},{"$f":"INDEX(ResultsTrans1,1,MW3)*Amount_product1","v":{"$error":"#N/A"}},{"$f":"INDEX(ResultsTrans1,1,MX3)*Amount_product1","v":{"$error":"#N/A"}},{"$f":"INDEX(ResultsTrans1,1,MY3)*Amount_product1","v":{"$error":"#N/A"}},{"$f":"INDEX(ResultsTrans1,1,MZ3)*Amount_product1","v":{"$error":"#N/A"}},{"$f":"INDEX(ResultsTrans1,1,NA3)*Amount_product1","v":{"$error":"#N/A"}},{"$f":"INDEX(ResultsTrans1,1,NB3)*Amount_product1","v":{"$error":"#N/A"}},{"$f":"INDEX(ResultsTrans1,1,NC3)*Amount_product1","v":{"$error":"#N/A"}},{"$f":"INDEX(ResultsTrans1,1,ND3)*Amount_product1","v":{"$error":"#N/A"}},{"$f":"INDEX(ResultsTrans1,1,NE3)*Amount_product1","v":{"$error":"#N/A"}},{"$f":"INDEX(ResultsTrans1,1,NF3)*Amount_product1","v":{"$error":"#N/A"}},{"$f":"INDEX(ResultsTrans1,1,NG3)*Amount_product1","v":{"$error":"#N/A"}},{"$f":"INDEX(ResultsTrans1,1,NH3)*Amount_product1","v":{"$error":"#N/A"}},{"$f":"INDEX(ResultsTrans1,1,NI3)*Amount_product1","v":{"$error":"#N/A"}},{"$f":"INDEX(ResultsTrans1,1,NJ3)*Amount_product1","v":{"$error":"#N/A"}},{"$f":"INDEX(ResultsTrans1,1,NK3)*Amount_product1","v":{"$error":"#N/A"}},{"$f":"INDEX(ResultsTrans1,1,NL3)*Amount_product1","v":{"$error":"#N/A"}},{"$f":"INDEX(ResultsTrans1,1,NM3)*Amount_product1","v":{"$error":"#N/A"}},{"$f":"INDEX(ResultsTrans1,1,NN3)*Amount_product1","v":{"$error":"#N/A"}},{"$f":"INDEX(ResultsTrans1,1,NO3)*Amount_product1","v":{"$error":"#N/A"}},null,"Transport og emballage",{"$f":"INDEX(ResultsTrans2,1,NR3)*Amount_product2","v":{"$error":"#N/A"}},{"$f":"INDEX(ResultsTrans2,1,NS3)*Amount_product2","v":{"$error":"#N/A"}},{"$f":"INDEX(ResultsTrans2,1,NT3)*Amount_product2","v":{"$error":"#N/A"}},{"$f":"INDEX(ResultsTrans2,1,NU3)*Amount_product2","v":{"$error":"#N/A"}},{"$f":"INDEX(ResultsTrans2,1,NV3)*Amount_product2","v":{"$error":"#N/A"}},{"$f":"INDEX(ResultsTrans2,1,NW3)*Amount_product2","v":{"$error":"#N/A"}},{"$f":"INDEX(ResultsTrans2,1,NX3)*Amount_product2","v":{"$error":"#N/A"}},{"$f":"INDEX(ResultsTrans2,1,NY3)*Amount_product2","v":{"$error":"#N/A"}},{"$f":"INDEX(ResultsTrans2,1,NZ3)*Amount_product2","v":{"$error":"#N/A"}},{"$f":"INDEX(ResultsTrans2,1,OA3)*Amount_product2","v":{"$error":"#N/A"}},{"$f":"INDEX(ResultsTrans2,1,OB3)*Amount_product2","v":{"$error":"#N/A"}},{"$f":"INDEX(ResultsTrans2,1,OC3)*Amount_product2","v":{"$error":"#N/A"}},{"$f":"INDEX(ResultsTrans2,1,OD3)*Amount_product2","v":{"$error":"#N/A"}},{"$f":"INDEX(ResultsTrans2,1,OE3)*Amount_product2","v":{"$error":"#N/A"}},{"$f":"INDEX(ResultsTrans2,1,OF3)*Amount_product2","v":{"$error":"#N/A"}},{"$f":"INDEX(ResultsTrans2,1,OG3)*Amount_product2","v":{"$error":"#N/A"}},{"$f":"INDEX(ResultsTrans2,1,OH3)*Amount_product2","v":{"$error":"#N/A"}},{"$f":"INDEX(ResultsTrans2,1,OI3)*Amount_product2","v":{"$error":"#N/A"}},{"$f":"INDEX(ResultsTrans2,1,OJ3)*Amount_product2","v":{"$error":"#N/A"}},{"$f":"INDEX(ResultsTrans2,1,OK3)*Amount_product2","v":{"$error":"#N/A"}},{"$f":"INDEX(ResultsTrans2,1,OL3)*Amount_product2","v":{"$error":"#N/A"}},{"$f":"INDEX(ResultsTrans2,1,OM3)*Amount_product2","v":{"$error":"#N/A"}},{"$f":"INDEX(ResultsTrans2,1,ON3)*Amount_product2","v":{"$error":"#N/A"}},{"$f":"INDEX(ResultsTrans2,1,OO3)*Amount_product2","v":{"$error":"#N/A"}},{"$f":"INDEX(ResultsTrans2,1,OP3)*Amount_product2","v":{"$error":"#N/A"}},{"$f":"INDEX(ResultsTrans2,1,OQ3)*Amount_product2","v":{"$error":"#N/A"}},{"$f":"INDEX(ResultsTrans2,1,OR3)*Amount_product2","v":{"$error":"#N/A"}},{"$f":"INDEX(ResultsTrans2,1,OS3)*Amount_product2","v":{"$error":"#N/A"}},{"$f":"INDEX(ResultsTrans2,1,OT3)*Amount_product2","v":{"$error":"#N/A"}},{"$f":"INDEX(ResultsTrans2,1,OU3)*Amount_product2","v":{"$error":"#N/A"}}]
[null,null,null,null,null,null,null,null,null,null,null,null,null,null,null,null,null,null,null,null,null,null,null,null,null,null,null,null,null,null,null,null,null,null,null,null,null,null,null,null,null,null,null,null,null,null,null,null,null,null,null,null,null,null,null,null,null,null,null,null,null,null,null,null,null,null,null,null,null,null,null,null,null,null,null,null,null,null,null,null,null,null,null,null,null,null,null,null,null,null,null,null,null,null,null,null,null,null,null,null,null,null,null,null,null,null,null,null,null,null,null,null,null,null,null,null,null,null,null,null,null,null,null,null,null,null,null,null,null,null,null,null,null,null,null,null,null,null,null,null,null,null,null,null,null,null,null,null,null,null,null,null,null,null,null,null,null,null,null,null,null,null,null,null,null,null,null,null,null,null,null,null,null,null,null,null,null,null,null,null,null,null,null,null,null,null,null,null,null,null,null,null,null,null,null,null,null,null,null,null,null,null,null,null,null,null,null,null,null,null,null,null,null,null,null,null,null,null,null,null,null,null,null,null,null,null,null,null,null,null,null,null,null,null,null,null,null,null,null,null,null,null,null,null,null,null,null,null,null,null,null,null,null,null,null,null,null,null,null,null,null,null,null,null,null,null,null,null,null,null,null,null,null,null,null,null,null,null,null,null,null,null,null,null,null,null,null,null,null,null,null,null,null,null,null,null,null,null,null,null,null,null,null,null,null,null,null,null,null,null,null,null,null,null,null,null,null,null,null,null,null,null,null,null,null,null,null,null,null,null,null,null,null,null,null,null,null,null,null,null,null,null,null,null,null,null,null,6,"Brug og vask",{"$f":"INDEX(ResultsUse1,1,ML3)*Amount_product1","v":{"$error":"#N/A"}},{"$f":"INDEX(ResultsUse1,1,MM3)*Amount_product1","v":{"$error":"#N/A"}},{"$f":"INDEX(ResultsUse1,1,MN3)*Amount_product1","v":{"$error":"#N/A"}},{"$f":"INDEX(ResultsUse1,1,MO3)*Amount_product1","v":{"$error":"#N/A"}},{"$f":"INDEX(ResultsUse1,1,MP3)*Amount_product1","v":{"$error":"#N/A"}},{"$f":"INDEX(ResultsUse1,1,MQ3)*Amount_product1","v":{"$error":"#N/A"}},{"$f":"INDEX(ResultsUse1,1,MR3)*Amount_product1","v":{"$error":"#N/A"}},{"$f":"INDEX(ResultsUse1,1,MS3)*Amount_product1","v":{"$error":"#N/A"}},{"$f":"INDEX(ResultsUse1,1,MT3)*Amount_product1","v":{"$error":"#N/A"}},{"$f":"INDEX(ResultsUse1,1,MU3)*Amount_product1","v":{"$error":"#N/A"}},{"$f":"INDEX(ResultsUse1,1,MV3)*Amount_product1","v":{"$error":"#N/A"}},{"$f":"INDEX(ResultsUse1,1,MW3)*Amount_product1","v":{"$error":"#N/A"}},{"$f":"INDEX(ResultsUse1,1,MX3)*Amount_product1","v":{"$error":"#N/A"}},{"$f":"INDEX(ResultsUse1,1,MY3)*Amount_product1","v":{"$error":"#N/A"}},{"$f":"INDEX(ResultsUse1,1,MZ3)*Amount_product1","v":{"$error":"#N/A"}},{"$f":"INDEX(ResultsUse1,1,NA3)*Amount_product1","v":{"$error":"#N/A"}},{"$f":"INDEX(ResultsUse1,1,NB3)*Amount_product1","v":{"$error":"#N/A"}},{"$f":"INDEX(ResultsUse1,1,NC3)*Amount_product1","v":{"$error":"#N/A"}},{"$f":"INDEX(ResultsUse1,1,ND3)*Amount_product1","v":{"$error":"#N/A"}},{"$f":"INDEX(ResultsUse1,1,NE3)*Amount_product1","v":{"$error":"#N/A"}},{"$f":"INDEX(ResultsUse1,1,NF3)*Amount_product1","v":{"$error":"#N/A"}},{"$f":"INDEX(ResultsUse1,1,NG3)*Amount_product1","v":{"$error":"#N/A"}},{"$f":"INDEX(ResultsUse1,1,NH3)*Amount_product1","v":{"$error":"#N/A"}},{"$f":"INDEX(ResultsUse1,1,NI3)*Amount_product1","v":{"$error":"#N/A"}},{"$f":"INDEX(ResultsUse1,1,NJ3)*Amount_product1","v":{"$error":"#N/A"}},{"$f":"INDEX(ResultsUse1,1,NK3)*Amount_product1","v":{"$error":"#N/A"}},{"$f":"INDEX(ResultsUse1,1,NL3)*Amount_product1","v":{"$error":"#N/A"}},{"$f":"INDEX(ResultsUse1,1,NM3)*Amount_product1","v":{"$error":"#N/A"}},{"$f":"INDEX(ResultsUse1,1,NN3)*Amount_product1","v":{"$error":"#N/A"}},{"$f":"INDEX(ResultsUse1,1,NO3)*Amount_product1","v":{"$error":"#N/A"}},null,"Brug og vask",{"$f":"INDEX(ResultsUse2,1,NR3)*Amount_product2","v":{"$error":"#N/A"}},{"$f":"INDEX(ResultsUse2,1,NS3)*Amount_product2","v":{"$error":"#N/A"}},{"$f":"INDEX(ResultsUse2,1,NT3)*Amount_product2","v":{"$error":"#N/A"}},{"$f":"INDEX(ResultsUse2,1,NU3)*Amount_product2","v":{"$error":"#N/A"}},{"$f":"INDEX(ResultsUse2,1,NV3)*Amount_product2","v":{"$error":"#N/A"}},{"$f":"INDEX(ResultsUse2,1,NW3)*Amount_product2","v":{"$error":"#N/A"}},{"$f":"INDEX(ResultsUse2,1,NX3)*Amount_product2","v":{"$error":"#N/A"}},{"$f":"INDEX(ResultsUse2,1,NY3)*Amount_product2","v":{"$error":"#N/A"}},{"$f":"INDEX(ResultsUse2,1,NZ3)*Amount_product2","v":{"$error":"#N/A"}},{"$f":"INDEX(ResultsUse2,1,OA3)*Amount_product2","v":{"$error":"#N/A"}},{"$f":"INDEX(ResultsUse2,1,OB3)*Amount_product2","v":{"$error":"#N/A"}},{"$f":"INDEX(ResultsUse2,1,OC3)*Amount_product2","v":{"$error":"#N/A"}},{"$f":"INDEX(ResultsUse2,1,OD3)*Amount_product2","v":{"$error":"#N/A"}},{"$f":"INDEX(ResultsUse2,1,OE3)*Amount_product2","v":{"$error":"#N/A"}},{"$f":"INDEX(ResultsUse2,1,OF3)*Amount_product2","v":{"$error":"#N/A"}},{"$f":"INDEX(ResultsUse2,1,OG3)*Amount_product2","v":{"$error":"#N/A"}},{"$f":"INDEX(ResultsUse2,1,OH3)*Amount_product2","v":{"$error":"#N/A"}},{"$f":"INDEX(ResultsUse2,1,OI3)*Amount_product2","v":{"$error":"#N/A"}},{"$f":"INDEX(ResultsUse2,1,OJ3)*Amount_product2","v":{"$error":"#N/A"}},{"$f":"INDEX(ResultsUse2,1,OK3)*Amount_product2","v":{"$error":"#N/A"}},{"$f":"INDEX(ResultsUse2,1,OL3)*Amount_product2","v":{"$error":"#N/A"}},{"$f":"INDEX(ResultsUse2,1,OM3)*Amount_product2","v":{"$error":"#N/A"}},{"$f":"INDEX(ResultsUse2,1,ON3)*Amount_product2","v":{"$error":"#N/A"}},{"$f":"INDEX(ResultsUse2,1,OO3)*Amount_product2","v":{"$error":"#N/A"}},{"$f":"INDEX(ResultsUse2,1,OP3)*Amount_product2","v":{"$error":"#N/A"}},{"$f":"INDEX(ResultsUse2,1,OQ3)*Amount_product2","v":{"$error":"#N/A"}},{"$f":"INDEX(ResultsUse2,1,OR3)*Amount_product2","v":{"$error":"#N/A"}},{"$f":"INDEX(ResultsUse2,1,OS3)*Amount_product2","v":{"$error":"#N/A"}},{"$f":"INDEX(ResultsUse2,1,OT3)*Amount_product2","v":{"$error":"#N/A"}},{"$f":"INDEX(ResultsUse2,1,OU3)*Amount_product2","v":{"$error":"#N/A"}}]
[null,null,null,null,null,null,null,null,null,null,null,null,null,null,null,null,null,null,null,null,null,null,null,null,null,null,null,null,null,null,null,null,null,null,null,null,null,null,null,null,null,null,null,null,null,null,null,null,null,null,null,null,null,null,null,null,null,null,null,null,null,null,null,null,null,null,null,null,null,null,null,null,null,null,null,null,null,null,null,null,null,null,null,null,null,null,null,null,null,null,null,null,null,null,null,null,null,null,null,null,null,null,null,null,null,null,null,null,null,null,null,null,null,null,null,null,null,null,null,null,null,null,null,null,null,null,null,null,null,null,null,null,null,null,null,null,null,null,null,null,null,null,null,null,null,null,null,null,null,null,null,null,null,null,null,null,null,null,null,null,null,null,null,null,null,null,null,null,null,null,null,null,null,null,null,null,null,null,null,null,null,null,null,null,null,null,null,null,null,null,null,null,null,null,null,null,null,null,null,null,null,null,null,null,null,null,null,null,null,null,null,null,null,null,null,null,null,null,null,null,null,null,null,null,null,null,null,null,null,null,null,null,null,null,null,null,null,null,null,null,null,null,null,null,null,null,null,null,null,null,null,null,null,null,null,null,null,null,null,null,null,null,null,null,null,null,null,null,null,null,null,null,null,null,null,null,null,null,null,null,null,null,null,null,null,null,null,null,null,null,null,null,null,null,null,null,null,null,null,null,null,null,null,null,null,null,null,null,null,null,null,null,null,null,null,null,null,null,null,null,null,null,null,null,null,null,null,null,null,null,null,null,null,null,null,null,null,null,null,null,null,null,null,null,null,null,null,7,"Efterliv",{"$f":"INDEX(ResultsEoL1,1,ML3)*Amount_product1","v":{"$error":"#N/A"}},{"$f":"INDEX(ResultsEoL1,1,MM3)*Amount_product1","v":0},{"$f":"INDEX(ResultsEoL1,1,MN3)*Amount_product1","v":0},{"$f":"INDEX(ResultsEoL1,1,MO3)*Amount_product1","v":0},{"$f":"INDEX(ResultsEoL1,1,MP3)*Amount_product1","v":0},{"$f":"INDEX(ResultsEoL1,1,MQ3)*Amount_product1","v":0},{"$f":"INDEX(ResultsEoL1,1,MR3)*Amount_product1","v":0},{"$f":"INDEX(ResultsEoL1,1,MS3)*Amount_product1","v":0},{"$f":"INDEX(ResultsEoL1,1,MT3)*Amount_product1","v":0},{"$f":"INDEX(ResultsEoL1,1,MU3)*Amount_product1","v":0},{"$f":"INDEX(ResultsEoL1,1,MV3)*Amount_product1","v":0},{"$f":"INDEX(ResultsEoL1,1,MW3)*Amount_product1","v":0},{"$f":"INDEX(ResultsEoL1,1,MX3)*Amount_product1","v":0},{"$f":"INDEX(ResultsEoL1,1,MY3)*Amount_product1","v":0},{"$f":"INDEX(ResultsEoL1,1,MZ3)*Amount_product1","v":0},{"$f":"INDEX(ResultsEoL1,1,NA3)*Amount_product1","v":0},{"$f":"INDEX(ResultsEoL1,1,NB3)*Amount_product1","v":0},{"$f":"INDEX(ResultsEoL1,1,NC3)*Amount_product1","v":0},{"$f":"INDEX(ResultsEoL1,1,ND3)*Amount_product1","v":0},{"$f":"INDEX(ResultsEoL1,1,NE3)*Amount_product1","v":0},{"$f":"INDEX(ResultsEoL1,1,NF3)*Amount_product1","v":0},{"$f":"INDEX(ResultsEoL1,1,NG3)*Amount_product1","v":0},{"$f":"INDEX(ResultsEoL1,1,NH3)*Amount_product1","v":0},{"$f":"INDEX(ResultsEoL1,1,NI3)*Amount_product1","v":0},{"$f":"INDEX(ResultsEoL1,1,NJ3)*Amount_product1","v":0},{"$f":"INDEX(ResultsEoL1,1,NK3)*Amount_product1","v":0},{"$f":"INDEX(ResultsEoL1,1,NL3)*Amount_product1","v":0},{"$f":"INDEX(ResultsEoL1,1,NM3)*Amount_product1","v":0},{"$f":"INDEX(ResultsEoL1,1,NN3)*Amount_product1","v":0},{"$f":"INDEX(ResultsEoL1,1,NO3)*Amount_product1","v":0},null,"Efterliv",{"$f":"INDEX(ResultsEoL2,1,NR3)*Amount_product2","v":{"$error":"#N/A"}},{"$f":"INDEX(ResultsEoL2,1,NS3)*Amount_product2","v":0},{"$f":"INDEX(ResultsEoL2,1,NT3)*Amount_product2","v":0},{"$f":"INDEX(ResultsEoL2,1,NU3)*Amount_product2","v":0},{"$f":"INDEX(ResultsEoL2,1,NV3)*Amount_product2","v":0},{"$f":"INDEX(ResultsEoL2,1,NW3)*Amount_product2","v":0},{"$f":"INDEX(ResultsEoL2,1,NX3)*Amount_product2","v":0},{"$f":"INDEX(ResultsEoL2,1,NY3)*Amount_product2","v":0},{"$f":"INDEX(ResultsEoL2,1,NZ3)*Amount_product2","v":0},{"$f":"INDEX(ResultsEoL2,1,OA3)*Amount_product2","v":0},{"$f":"INDEX(ResultsEoL2,1,OB3)*Amount_product2","v":0},{"$f":"INDEX(ResultsEoL2,1,OC3)*Amount_product2","v":0},{"$f":"INDEX(ResultsEoL2,1,OD3)*Amount_product2","v":0},{"$f":"INDEX(ResultsEoL2,1,OE3)*Amount_product2","v":0},{"$f":"INDEX(ResultsEoL2,1,OF3)*Amount_product2","v":0},{"$f":"INDEX(ResultsEoL2,1,OG3)*Amount_product2","v":0},{"$f":"INDEX(ResultsEoL2,1,OH3)*Amount_product2","v":0},{"$f":"INDEX(ResultsEoL2,1,OI3)*Amount_product2","v":0},{"$f":"INDEX(ResultsEoL2,1,OJ3)*Amount_product2","v":0},{"$f":"INDEX(ResultsEoL2,1,OK3)*Amount_product2","v":0},{"$f":"INDEX(ResultsEoL2,1,OL3)*Amount_product2","v":0},{"$f":"INDEX(ResultsEoL2,1,OM3)*Amount_product2","v":0},{"$f":"INDEX(ResultsEoL2,1,ON3)*Amount_product2","v":0},{"$f":"INDEX(ResultsEoL2,1,OO3)*Amount_product2","v":0},{"$f":"INDEX(ResultsEoL2,1,OP3)*Amount_product2","v":0},{"$f":"INDEX(ResultsEoL2,1,OQ3)*Amount_product2","v":0},{"$f":"INDEX(ResultsEoL2,1,OR3)*Amount_product2","v":0},{"$f":"INDEX(ResultsEoL2,1,OS3)*Amount_product2","v":0},{"$f":"INDEX(ResultsEoL2,1,OT3)*Amount_product2","v":0},{"$f":"INDEX(ResultsEoL2,1,OU3)*Amount_product2","v":0}]
[null,null,null,null,null,null,null,null,null,null,null,null,null,null,null,null,null,null,null,null,null,null,null,null,null,null,null,null,null,null,null,null,null,null,null,null,null,null,null,null,null,null,null,null,null,null,null,null,null,null,null,null,null,null,null,null,null,null,null,null,null,null,null,null,null,null,null,null,null,null,null,null,null,null,null,null,null,null,null,null,null,null,null,null,null,null,null,null,null,null,null,null,null,null,null,null,null,null,null,null,null,null,null,null,null,null,null,null,null,null,null,null,null,null,null,null,null,null,null,null,null,null,null,null,null,null,null,null,null,null,null,null,null,null,null,null,null,null,null,null,null,null,null,null,null,null,null,null,null,null,null,null,null,null,null,null,null,null,null,null,null,null,null,null,null,null,null,null,null,null,null,null,null,null,null,null,null,null,null,null,null,null,null,null,null,null,null,null,null,null,null,null,null,null,null,null,null,null,null,null,null,null,null,null,null,null,null,null,null,null,null,null,null,null,null,null,null,null,null,null,null,null,null,null,null,null,null,null,null,null,null,null,null,null,null,null,null,null,null,null,null,null,null,null,null,null,null,null,null,null,null,null,null,null,null,null,null,null,null,null,null,null,null,null,null,null,null,null,null,null,null,null,null,null,null,null,null,null,null,null,null,null,null,null,null,null,null,null,null,null,null,null,null,null,null,null,null,null,null,null,null,null,null,null,null,null,null,null,null,null,null,null,null,null,null,null,null,null,null,null,null,null,null,null,null,null,null,null,null,null,null,null,null,null,null,null,null,null,null,null,null,null,null,null,null,null,null,8,"Total",{"$f":"SUM(ML8:ML11)","v":{"$error":"#N/A"}},{"$f":"SUM(MM8:MM11)","v":{"$error":"#N/A"}},{"$f":"SUM(MN8:MN11)","v":{"$error":"#N/A"}},{"$f":"SUM(MO8:MO11)","v":{"$error":"#N/A"}},{"$error":"#N/A"},{"$error":"#N/A"},{"$error":"#N/A"},{"$error":"#N/A"},{"$error":"#N/A"},{"$error":"#N/A"},{"$error":"#N/A"},{"$error":"#N/A"},{"$error":"#N/A"},{"$error":"#N/A"},{"$error":"#N/A"},{"$error":"#N/A"},{"$error":"#N/A"},{"$error":"#N/A"},{"$error":"#N/A"},{"$error":"#N/A"},{"$error":"#N/A"},{"$error":"#N/A"},{"$error":"#N/A"},{"$error":"#N/A"},{"$error":"#N/A"},{"$error":"#N/A"},{"$error":"#N/A"},{"$error":"#N/A"},{"$error":"#N/A"},{"$f":"SUM(NO8:NO11)","v":{"$error":"#N/A"}},null,"Total",{"$f":"SUM(NR8:NR11)","v":{"$error":"#N/A"}},{"$f":"SUM(NS8:NS11)","v":{"$error":"#N/A"}},{"$error":"#N/A"},{"$error":"#N/A"},{"$error":"#N/A"},{"$error":"#N/A"},{"$error":"#N/A"},{"$error":"#N/A"},{"$error":"#N/A"},{"$error":"#N/A"},{"$error":"#N/A"},{"$error":"#N/A"},{"$error":"#N/A"},{"$error":"#N/A"},{"$error":"#N/A"},{"$error":"#N/A"},{"$error":"#N/A"},{"$error":"#N/A"},{"$error":"#N/A"},{"$error":"#N/A"},{"$error":"#N/A"},{"$error":"#N/A"},{"$error":"#N/A"},{"$error":"#N/A"},{"$error":"#N/A"},{"$error":"#N/A"},{"$error":"#N/A"},{"$error":"#N/A"},{"$error":"#N/A"},{"$error":"#N/A"}]
[null,null,null,null,null,null,null,null,null,null,null,null,null,null,null,null,null,null,null,null,null,null,null,null,null,null,null,null,null,null,null,null,null,null,null,null,null,null,null,null,null,null,null,null,null,null,null,null,null,null,null,null,null,null,null,null,null,null,null,null,null,null,null,null,null,null,null,null,null,null,null,null,null,null,null,null,null,null,null,null,null,null,null,null,null,null,null,null,null,null,null,null,null,null,null,null,null,null,null,null,null,null,null,null,null,null,null,null,null,null,null,null,null,null,null,null,null,null,null,null,null,null,null,null,null,null,null,null,null,null,null,null,null,null,null,null,null,null,null,null,null,null,null,null,null,null,null,null,null,null,null,null,null,null,null,null,null,null,null,null,null,null,null,null,null,null,null,null,null,null,null,null,null,null,null,null,null,null,null,null,null,null,null,null,null,null,null,null,null,null,null,null,null,null,null,null,null,null,null,null,null,null,null,null,null,null,null,null,null,null,null,null,null,null,null,null,null,null,null,null,null,null,null,null,null,null,null,null,null,null,null,null,null,null,null,null,null,null,null,null,null,null,null,null,null,null,null,null,null,null,null,null,null,null,null,null,null,null,null,null,null,null,null,null,null,null,null,null,null,null,null,null,null,null,null,null,null,null,null,null,null,null,null,null,null,null,null,null,null,null,null,null,null,null,null,null,null,null,null,null,null,null,null,null,null,null,null,null,null,null,null,null,null,null,null,null,null,null,null,null,null,null,null,null,null,null,null,null,null,null,null,null,null,null,null,null,null,null,null,null,null,null,null,null,null,null,null,9,"usikkerhed",{"$f":"ML12*VLOOKUP(ML4,$MF$2:$MG$6,2,FALSE)","v":{"$error":"#N/A"}},{"$error":"#N/A"},{"$error":"#N/A"},{"$error":"#N/A"},{"$error":"#N/A"},{"$error":"#N/A"},{"$error":"#N/A"},{"$error":"#N/A"},{"$error":"#N/A"},{"$error":"#N/A"},{"$error":"#N/A"},{"$error":"#N/A"},{"$error":"#N/A"},{"$error":"#N/A"},{"$error":"#N/A"},{"$error":"#N/A"},{"$error":"#N/A"},null,null,null,null,null,null,null,null,null,null,null,null,null,null,"usikkerhed",null,{"$f":"NS12*VLOOKUP(NS4,$MF$2:$MG$6,2,FALSE)","v":{"$error":"#N/A"}},{"$error":"#N/A"},{"$error":"#N/A"},{"$error":"#N/A"},{"$error":"#N/A"},{"$error":"#N/A"},{"$error":"#N/A"},{"$error":"#N/A"},{"$error":"#N/A"},{"$error":"#N/A"},{"$error":"#N/A"},{"$error":"#N/A"},{"$error":"#N/A"},{"$error":"#N/A"},{"$error":"#N/A"},{"$error":"#N/A"}]
[]
[null,null,null,null,null,null,null,null,null,null,null,null,null,null,null,null,null,null,null,null,null,null,null,null,null,null,null,null,null,null,null,null,null,null,null,null,null,null,null,null,null,null,null,null,null,null,null,null,null,null,null,null,null,null,null,null,null,null,null,null,null,null,null,null,null,null,null,null,null,null,null,null,null,null,null,null,null,null,null,null,null,null,null,null,null,null,null,null,null,null,null,null,null,null,null,null,null,null,null,null,null,null,null,null,null,null,null,null,null,null,null,null,null,null,null,null,null,null,null,null,null,null,null,null,null,null,null,null,null,null,null,null,null,null,null,null,null,null,null,null,null,null,null,null,null,null,null,null,null,null,null,null,null,null,null,null,null,null,null,null,null,null,null,null,null,null,null,null,null,null,null,null,null,null,null,null,null,null,null,null,null,null,null,null,null,null,null,null,null,null,null,null,null,null,null,null,null,null,null,null,null,null,null,null,null,null,null,null,null,null,null,null,null,null,null,null,null,null,null,null,null,null,null,null,null,null,null,null,null,null,null,null,null,null,null,null,null,null,null,null,null,null,null,null,null,null,null,null,null,null,null,null,null,null,null,null,null,null,null,null,null,null,null,null,null,null,null,null,null,null,null,null,null,null,null,null,null,null,null,null,null,null,null,null,null,null,null,null,null,null,null,null,null,null,null,null,null,null,null,null,null,null,null,null,null,null,null,null,null,null,null,null,null,null,null,null,null,null,null,null,null,null,null,null,null,null,null,null,null,null,null,null,null,null,null,null,null,null,null,null,null,null,null,null,null,null,null,null,null,null,"% af total"]
[null,null,null,null,null,null,null,null,null,null,null,null,null,null,null,null,null,null,null,null,null,null,null,null,null,null,null,null,null,null,null,null,null,null,null,null,null,null,null,null,null,null,null,null,null,null,null,null,null,null,null,null,null,null,null,null,null,null,null,null,null,null,null,null,null,null,null,null,null,null,null,null,null,null,null,null,null,null,null,null,null,null,null,null,null,null,null,null,null,null,null,null,null,null,null,null,null,null,null,null,null,null,null,null,null,null,null,null,null,null,null,null,null,null,null,null,null,null,null,null,null,null,null,null,null,null,null,null,null,null,null,null,null,null,null,null,null,null,null,null,null,null,null,null,null,null,null,null,null,null,null,null,null,null,null,null,null,null,null,null,null,null,null,null,null,null,null,null,null,null,null,null,null,null,null,null,null,null,null,null,null,null,null,null,null,null,null,null,null,null,null,null,null,null,null,null,null,null,null,null,null,null,null,null,null,null,null,null,null,null,null,null,null,null,null,null,null,null,null,null,null,null,null,null,null,null,null,null,null,null,null,null,null,null,null,null,null,null,null,null,null,null,null,null,null,null,null,null,null,null,null,null,null,null,null,null,null,null,null,null,null,null,null,null,null,null,null,null,null,null,null,null,null,null,null,null,null,null,null,null,null,null,null,null,null,null,null,null,null,null,null,null,null,null,null,null,null,null,null,null,null,null,null,null,null,null,null,null,null,null,null,null,null,null,null,null,null,null,null,null,null,null,null,null,null,null,null,null,null,null,null,null,null,null,null,null,null,null,null,null,null,null,null,null,null,null,null,null,null,"økonomi","Climate change","Ozone depletion","Ionising radiation","Photochemical ozone formation","Particulate matter","Human toxicity, non-cancer","Human toxicity, cancer","Acidification","Eutrophication, freshwater","Eutrophication, marine","Eutrophication, terrestrial","Ecotoxicity, freshwater","Land use","Water use","Resource use, fossils","Resource use, minerals and metals","Climate change - Fossil","Climate change - Biogenic","Climate change - Land use and LU change","Human toxicity, non-cancer - organics","Human toxicity, non-cancer - inorganics","Human toxicity, non-cancer - metals","Human toxicity, cancer - organics","Human toxicity, cancer - inorganics","Human toxicity, cancer - metals","Ecotoxicity, freshwater - organics","Ecotoxicity, freshwater - inorganics","Ecotoxicity, freshwater - metals","PFAS",null,null,"økonomi","Climate change","Ozone depletion","Ionising radiation","Photochemical ozone formation","Particulate matter","Human toxicity, non-cancer","Human toxicity, cancer","Acidification","Eutrophication, freshwater","Eutrophication, marine","Eutrophication, terrestrial","Ecotoxicity, freshwater","Land use","Water use","Resource use, fossils","Resource use, minerals and metals","Climate change - Fossil","Climate change - Biogenic","Climate change - Land use and LU change","Human toxicity, non-cancer - organics","Human toxicity, non-cancer - inorganics","Human toxicity, non-cancer - metals","Human toxicity, cancer - organics","Human toxicity, cancer - inorganics","Human toxicity, cancer - metals","Ecotoxicity, freshwater - organics","Ecotoxicity, freshwater - inorganics","Ecotoxicity, freshwater - metals","PFAS"]
[null,null,null,null,null,null,null,null,null,null,null,null,null,null,null,null,null,null,null,null,null,null,null,null,null,null,null,null,null,null,null,null,null,null,null,null,null,null,null,null,null,null,null,null,null,null,null,null,null,null,null,null,null,null,null,null,null,null,null,null,null,null,null,null,null,null,null,null,null,null,null,null,null,null,null,null,null,null,null,null,null,null,null,null,null,null,null,null,null,null,null,null,null,null,null,null,null,null,null,null,null,null,null,null,null,null,null,null,null,null,null,null,null,null,null,null,null,null,null,null,null,null,null,null,null,null,null,null,null,null,null,null,null,null,null,null,null,null,null,null,null,null,null,null,null,null,null,null,null,null,null,null,null,null,null,null,null,null,null,null,null,null,null,null,null,null,null,null,null,null,null,null,null,null,null,null,null,null,null,null,null,null,null,null,null,null,null,null,null,null,null,null,null,null,null,null,null,null,null,null,null,null,null,null,null,null,null,null,null,null,null,null,null,null,null,null,null,null,null,null,null,null,null,null,null,null,null,null,null,null,null,null,null,null,null,null,null,null,null,null,null,null,null,null,null,null,null,null,null,null,null,null,null,null,null,null,null,null,null,null,null,null,null,null,null,null,null,null,null,null,null,null,null,null,null,null,null,null,null,null,null,null,null,null,null,null,null,null,null,null,null,null,null,null,null,null,null,null,null,null,null,null,null,null,null,null,null,null,null,null,null,null,null,null,null,null,null,null,null,null,null,null,null,null,null,null,null,null,null,null,null,null,null,null,null,null,null,null,null,null,null,null,null,null,null,null,null,null,null,"DKK","kg CO2 eq","kg CFC11 eq","kBq U-235 eq","kg NMVOC eq","disease inc.","CTUh","CTUh","mol H+ eq","kg P eq","kg N eq","mol N eq","CTUe","Pt","m3 depriv.","MJ","kg Sb eq","kg CO2 eq","kg CO2 eq","kg CO2 eq","CTUh","CTUh","CTUh","CTUh","CTUh","CTUh","CTUe","CTUe","CTUe","kg",null,null,"DKK","kg CO2 eq","kg CFC11 eq","kBq U-235 eq","kg NMVOC eq","disease inc.","CTUh","CTUh","mol H+ eq","kg P eq","kg N eq","mol N eq","CTUe","Pt","m3 depriv.","MJ","kg Sb eq","kg CO2 eq","kg CO2 eq","kg CO2 eq","CTUh","CTUh","CTUh","CTUh","CTUh","CTUh","CTUe","CTUe","CTUe","kg"]
[null,null,null,null,null,null,null,null,null,null,null,null,null,null,null,null,null,null,null,null,null,null,null,null,null,null,null,null,null,null,null,null,null,null,null,null,null,null,null,null,null,null,null,null,null,null,null,null,null,null,null,null,null,null,null,null,null,null,null,null,null,null,null,null,null,null,null,null,null,null,null,null,null,null,null,null,null,null,null,null,null,null,null,null,null,null,null,null,null,null,null,null,null,null,null,null,null,null,null,null,null,null,null,null,null,null,null,null,null,null,null,null,null,null,null,null,null,null,null,null,null,null,null,null,null,null,null,null,null,null,null,null,null,null,null,null,null,null,null,null,null,null,null,null,null,null,null,null,null,null,null,null,null,null,null,null,null,null,null,null,null,null,null,null,null,null,null,null,null,null,null,null,null,null,null,null,null,null,null,null,null,null,null,null,null,null,null,null,null,null,null,null,null,null,null,null,null,null,null,null,null,null,null,null,null,null,null,null,null,null,null,null,null,null,null,null,null,null,null,null,null,null,null,null,null,null,null,null,null,null,null,null,null,null,null,null,null,null,null,null,null,null,null,null,null,null,null,null,null,null,null,null,null,null,null,null,null,null,null,null,null,null,null,null,null,null,null,null,null,null,null,null,null,null,null,null,null,null,null,null,null,null,null,null,null,null,null,null,null,null,null,null,null,null,null,null,null,null,null,null,null,null,null,null,null,null,null,null,null,null,null,null,null,null,null,null,null,null,null,null,null,null,null,null,null,null,null,null,null,null,null,null,null,null,null,null,null,null,null,null,null,null,"Klimaforandringer","Climate change",null,null,null,null,"Materiale og produktion",{"$f":"ML8/ML$12","v":{"$error":"#N/A"}},{"$error":"#N/A"},{"$error":"#N/A"},{"$error":"#N/A"},{"$error":"#N/A"},{"$error":"#N/A"},{"$error":"#N/A"},{"$error":"#N/A"},{"$error":"#N/A"},{"$error":"#N/A"},{"$error":"#N/A"},{"$error":"#N/A"},{"$error":"#N/A"},{"$error":"#N/A"},{"$error":"#N/A"},{"$error":"#N/A"},{"$error":"#N/A"},{"$error":"#N/A"},{"$error":"#N/A"},{"$error":"#N/A"},{"$error":"#N/A"},{"$error":"#N/A"},{"$error":"#N/A"},{"$error":"#N/A"},{"$error":"#N/A"},{"$error":"#N/A"},{"$error":"#N/A"},{"$error":"#N/A"},{"$error":"#N/A"},{"$error":"#N/A"},null,"Materiale og produktion",{"$f":"NR8/NR$12","v":{"$error":"#N/A"}},{"$f":"NS8/NS$12","v":{"$error":"#N/A"}},{"$error":"#N/A"},{"$error":"#N/A"},{"$error":"#N/A"},{"$error":"#N/A"},{"$error":"#N/A"},{"$error":"#N/A"},{"$error":"#N/A"},{"$error":"#N/A"},{"$error":"#N/A"},{"$error":"#N/A"},{"$error":"#N/A"},{"$error":"#N/A"},{"$error":"#N/A"},{"$error":"#N/A"},{"$error":"#N/A"},{"$error":"#N/A"},{"$error":"#N/A"},{"$error":"#N/A"},{"$error":"#N/A"},{"$error":"#N/A"},{"$error":"#N/A"},{"$error":"#N/A"},{"$error":"#N/A"},{"$error":"#N/A"},{"$error":"#N/A"},{"$error":"#N/A"},{"$error":"#N/A"},{"$error":"#N/A"}]
[null,null,null,null,null,null,null,null,null,null,null,null,null,null,null,null,null,null,null,null,null,null,null,null,null,null,null,null,null,null,null,null,null,null,null,null,null,null,null,null,null,null,null,null,null,null,null,null,null,null,null,null,null,null,null,null,null,null,null,null,null,null,null,null,null,null,null,null,null,null,null,null,null,null,null,null,null,null,null,null,null,null,null,null,null,null,null,null,null,null,null,null,null,null,null,null,null,null,null,null,null,null,null,null,null,null,null,null,null,null,null,null,null,null,null,null,null,null,null,null,null,null,null,null,null,null,null,null,null,null,null,null,null,null,null,null,null,null,null,null,null,null,null,null,null,null,null,null,null,null,null,null,null,null,null,null,null,null,null,null,null,null,null,null,null,null,null,null,null,null,null,null,null,null,null,null,null,null,null,null,null,null,null,null,null,null,null,null,null,null,null,null,null,null,null,null,null,null,null,null,null,null,null,null,null,null,null,null,null,null,null,null,null,null,null,null,null,null,null,null,null,null,null,null,null,null,null,null,null,null,null,null,null,null,null,null,null,null,null,null,null,null,null,null,null,null,null,null,null,null,null,null,null,null,null,null,null,null,null,null,null,null,null,null,null,null,null,null,null,null,null,null,null,null,null,null,null,null,null,null,null,null,null,null,null,null,null,null,null,null,null,null,null,null,null,null,null,null,null,null,null,null,null,null,null,null,null,null,null,null,null,null,null,null,null,null,null,null,null,null,null,null,null,null,null,null,null,null,null,null,null,null,null,null,null,null,null,null,null,null,null,null,"Partikelforurening","Ozone depletion",null,null,null,null,"Transport og emballage",{"$f":"ML9/ML$12","v":{"$error":"#N/A"}},{"$error":"#N/A"},{"$error":"#N/A"},{"$error":"#N/A"},{"$error":"#N/A"},{"$error":"#N/A"},{"$error":"#N/A"},{"$error":"#N/A"},{"$error":"#N/A"},{"$error":"#N/A"},{"$error":"#N/A"},{"$error":"#N/A"},{"$error":"#N/A"},{"$error":"#N/A"},{"$error":"#N/A"},{"$error":"#N/A"},{"$error":"#N/A"},{"$error":"#N/A"},{"$error":"#N/A"},{"$error":"#N/A"},{"$error":"#N/A"},{"$error":"#N/A"},{"$error":"#N/A"},{"$error":"#N/A"},{"$error":"#N/A"},{"$error":"#N/A"},{"$error":"#N/A"},{"$error":"#N/A"},{"$error":"#N/A"},{"$error":"#N/A"},null,"Transport og emballage",{"$f":"NR9/NR$12","v":{"$error":"#N/A"}},{"$error":"#N/A"},{"$error":"#N/A"},{"$error":"#N/A"},{"$error":"#N/A"},{"$error":"#N/A"},{"$error":"#N/A"},{"$error":"#N/A"},{"$error":"#N/A"},{"$error":"#N/A"},{"$error":"#N/A"},{"$error":"#N/A"},{"$error":"#N/A"},{"$error":"#N/A"},{"$error":"#N/A"},{"$error":"#N/A"},{"$error":"#N/A"},{"$error":"#N/A"},{"$error":"#N/A"},{"$error":"#N/A"},{"$error":"#N/A"},{"$error":"#N/A"},{"$error":"#N/A"},{"$error":"#N/A"},{"$error":"#N/A"},{"$error":"#N/A"},{"$error":"#N/A"},{"$error":"#N/A"},{"$error":"#N/A"},{"$error":"#N/A"}]
[null,null,null,null,null,null,null,null,null,null,null,null,null,null,null,null,null,null,null,null,null,null,null,null,null,null,null,null,null,null,null,null,null,null,null,null,null,null,null,null,null,null,null,null,null,null,null,null,null,null,null,null,null,null,null,null,null,null,null,null,null,null,null,null,null,null,null,null,null,null,null,null,null,null,null,null,null,null,null,null,null,null,null,null,null,null,null,null,null,null,null,null,null,null,null,null,null,null,null,null,null,null,null,null,null,null,null,null,null,null,null,null,null,null,null,null,null,null,null,null,null,null,null,null,null,null,null,null,null,null,null,null,null,null,null,null,null,null,null,null,null,null,null,null,null,null,null,null,null,null,null,null,null,null,null,null,null,null,null,null,null,null,null,null,null,null,null,null,null,null,null,null,null,null,null,null,null,null,null,null,null,null,null,null,null,null,null,null,null,null,null,null,null,null,null,null,null,null,null,null,null,null,null,null,null,null,null,null,null,null,null,null,null,null,null,null,null,null,null,null,null,null,null,null,null,null,null,null,null,null,null,null,null,null,null,null,null,null,null,null,null,null,null,null,null,null,null,null,null,null,null,null,null,null,null,null,null,null,null,null,null,null,null,null,null,null,null,null,null,null,null,null,null,null,null,null,null,null,null,null,null,null,null,null,null,null,null,null,null,null,null,null,null,null,null,null,null,null,null,null,null,null,null,null,null,null,null,null,null,null,null,null,null,null,null,null,null,null,null,null,null,null,null,null,null,null,null,null,null,null,null,null,null,null,null,null,null,null,null,null,null,null,"Eutrofiering","Ionising radiation",null,null,null,null,"Brug og vask",{"$f":"ML10/ML$12","v":{"$error":"#N/A"}},{"$error":"#N/A"},{"$error":"#N/A"},{"$error":"#N/A"},{"$error":"#N/A"},{"$error":"#N/A"},{"$error":"#N/A"},{"$error":"#N/A"},{"$error":"#N/A"},{"$error":"#N/A"},{"$error":"#N/A"},{"$error":"#N/A"},{"$error":"#N/A"},{"$error":"#N/A"},{"$error":"#N/A"},{"$error":"#N/A"},{"$error":"#N/A"},{"$error":"#N/A"},{"$error":"#N/A"},{"$error":"#N/A"},{"$error":"#N/A"},{"$error":"#N/A"},{"$error":"#N/A"},{"$error":"#N/A"},{"$error":"#N/A"},{"$error":"#N/A"},{"$error":"#N/A"},{"$error":"#N/A"},{"$error":"#N/A"},{"$error":"#N/A"},null,"Brug og vask",{"$f":"NR10/NR$12","v":{"$error":"#N/A"}},{"$error":"#N/A"},{"$error":"#N/A"},{"$error":"#N/A"},{"$error":"#N/A"},{"$error":"#N/A"},{"$error":"#N/A"},{"$error":"#N/A"},{"$error":"#N/A"},{"$error":"#N/A"},{"$error":"#N/A"},{"$error":"#N/A"},{"$error":"#N/A"},{"$error":"#N/A"},{"$error":"#N/A"},{"$error":"#N/A"},{"$error":"#N/A"},{"$error":"#N/A"},{"$error":"#N/A"},{"$error":"#N/A"},{"$error":"#N/A"},{"$error":"#N/A"},{"$error":"#N/A"},{"$error":"#N/A"},{"$error":"#N/A"},{"$error":"#N/A"},{"$error":"#N/A"},{"$error":"#N/A"},{"$error":"#N/A"},{"$error":"#N/A"}]
[null,null,null,null,null,null,null,null,null,null,null,null,null,null,null,null,null,null,null,null,null,null,null,null,null,null,null,null,null,null,null,null,null,null,null,null,null,null,null,null,null,null,null,null,null,null,null,null,null,null,null,null,null,null,null,null,null,null,null,null,null,null,null,null,null,null,null,null,null,null,null,null,null,null,null,null,null,null,null,null,null,null,null,null,null,null,null,null,null,null,null,null,null,null,null,null,null,null,null,null,null,null,null,null,null,null,null,null,null,null,null,null,null,null,null,null,null,null,null,null,null,null,null,null,null,null,null,null,null,null,null,null,null,null,null,null,null,null,null,null,null,null,null,null,null,null,null,null,null,null,null,null,null,null,null,null,null,null,null,null,null,null,null,null,null,null,null,null,null,null,null,null,null,null,null,null,null,null,null,null,null,null,null,null,null,null,null,null,null,null,null,null,null,null,null,null,null,null,null,null,null,null,null,null,null,null,null,null,null,null,null,null,null,null,null,null,null,null,null,null,null,null,null,null,null,null,null,null,null,null,null,null,null,null,null,null,null,null,null,null,null,null,null,null,null,null,null,null,null,null,null,null,null,null,null,null,null,null,null,null,null,null,null,null,null,null,null,null,null,null,null,null,null,null,null,null,null,null,null,null,null,null,null,null,null,null,null,null,null,null,null,null,null,null,null,null,null,null,null,null,null,null,null,null,null,null,null,null,null,null,null,null,null,null,null,null,null,null,null,null,null,null,null,null,null,null,null,null,null,null,null,null,null,null,null,null,null,null,null,null,null,null,"Økotoksicitet","Photochemical ozone formation",null,null,null,null,"Efterliv",{"$f":"ML11/ML$12","v":{"$error":"#N/A"}},{"$error":"#N/A"},{"$error":"#N/A"},{"$error":"#N/A"},{"$error":"#N/A"},{"$error":"#N/A"},{"$error":"#N/A"},{"$error":"#N/A"},{"$error":"#N/A"},{"$error":"#N/A"},{"$error":"#N/A"},{"$error":"#N/A"},{"$error":"#N/A"},{"$error":"#N/A"},{"$error":"#N/A"},{"$error":"#N/A"},{"$error":"#N/A"},{"$error":"#N/A"},{"$error":"#N/A"},{"$error":"#N/A"},{"$error":"#N/A"},{"$error":"#N/A"},{"$error":"#N/A"},{"$error":"#N/A"},{"$error":"#N/A"},{"$error":"#N/A"},{"$error":"#N/A"},{"$error":"#N/A"},{"$error":"#N/A"},{"$error":"#N/A"},null,"Efterliv",{"$f":"NR11/NR$12","v":{"$error":"#N/A"}},{"$error":"#N/A"},{"$error":"#N/A"},{"$error":"#N/A"},{"$error":"#N/A"},{"$error":"#N/A"},{"$error":"#N/A"},{"$error":"#N/A"},{"$error":"#N/A"},{"$error":"#N/A"},{"$error":"#N/A"},{"$error":"#N/A"},{"$error":"#N/A"},{"$error":"#N/A"},{"$error":"#N/A"},{"$error":"#N/A"},{"$error":"#N/A"},{"$error":"#N/A"},{"$error":"#N/A"},{"$error":"#N/A"},{"$error":"#N/A"},{"$error":"#N/A"},{"$error":"#N/A"},{"$error":"#N/A"},{"$error":"#N/A"},{"$error":"#N/A"},{"$error":"#N/A"},{"$error":"#N/A"},{"$error":"#N/A"},{"$error":"#N/A"}]
[null,null,null,null,null,null,null,null,null,null,null,null,null,null,null,null,null,null,null,null,null,null,null,null,null,null,null,null,null,null,null,null,null,null,null,null,null,null,null,null,null,null,null,null,null,null,null,null,null,null,null,null,null,null,null,null,null,null,null,null,null,null,null,null,null,null,null,null,null,null,null,null,null,null,null,null,null,null,null,null,null,null,null,null,null,null,null,null,null,null,null,null,null,null,null,null,null,null,null,null,null,null,null,null,null,null,null,null,null,null,null,null,null,null,null,null,null,null,null,null,null,null,null,null,null,null,null,null,null,null,null,null,null,null,null,null,null,null,null,null,null,null,null,null,null,null,null,null,null,null,null,null,null,null,null,null,null,null,null,null,null,null,null,null,null,null,null,null,null,null,null,null,null,null,null,null,null,null,null,null,null,null,null,null,null,null,null,null,null,null,null,null,null,null,null,null,null,null,null,null,null,null,null,null,null,null,null,null,null,null,null,null,null,null,null,null,null,null,null,null,null,null,null,null,null,null,null,null,null,null,null,null,null,null,null,null,null,null,null,null,null,null,null,null,null,null,null,null,null,null,null,null,null,null,null,null,null,null,null,null,null,null,null,null,null,null,null,null,null,null,null,null,null,null,null,null,null,null,null,null,null,null,null,null,null,null,null,null,null,null,null,null,null,null,null,null,null,null,null,null,null,null,null,null,null,null,null,null,null,null,null,null,null,null,null,null,null,null,null,null,null,null,null,null,null,null,null,null,null,null,null,null,null,null,null,null,null,null,null,null,null,null,"Brug af landarealer","Particulate matter",null,null,null,null,"Total",{"$f":"ML12/ML$12","v":{"$error":"#N/A"}},{"$error":"#N/A"},{"$error":"#N/A"},{"$error":"#N/A"},{"$error":"#N/A"},{"$error":"#N/A"},{"$error":"#N/A"},{"$error":"#N/A"},{"$error":"#N/A"},{"$error":"#N/A"},{"$error":"#N/A"},{"$error":"#N/A"},{"$error":"#N/A"},{"$error":"#N/A"},{"$error":"#N/A"},{"$error":"#N/A"},{"$error":"#N/A"},{"$error":"#N/A"},{"$error":"#N/A"},{"$error":"#N/A"},{"$error":"#N/A"},{"$error":"#N/A"},{"$error":"#N/A"},{"$error":"#N/A"},{"$error":"#N/A"},{"$error":"#N/A"},{"$error":"#N/A"},{"$error":"#N/A"},{"$error":"#N/A"},{"$error":"#N/A"},null,"Total",{"$f":"NR12/NR$12","v":{"$error":"#N/A"}},{"$error":"#N/A"},{"$error":"#N/A"},{"$error":"#N/A"},{"$error":"#N/A"},{"$error":"#N/A"},{"$error":"#N/A"},{"$error":"#N/A"},{"$error":"#N/A"},{"$error":"#N/A"},{"$error":"#N/A"},{"$error":"#N/A"},{"$error":"#N/A"},{"$error":"#N/A"},{"$error":"#N/A"},{"$error":"#N/A"},{"$error":"#N/A"},{"$error":"#N/A"},{"$error":"#N/A"},{"$error":"#N/A"},{"$error":"#N/A"},{"$error":"#N/A"},{"$error":"#N/A"},{"$error":"#N/A"},{"$error":"#N/A"},{"$error":"#N/A"},{"$error":"#N/A"},{"$error":"#N/A"},{"$error":"#N/A"},{"$error":"#N/A"}]
[null,null,null,null,null,null,null,null,null,null,null,null,null,null,null,null,null,null,null,null,null,null,null,null,null,null,null,null,null,null,null,null,null,null,null,null,null,null,null,null,null,null,null,null,null,null,null,null,null,null,null,null,null,null,null,null,null,null,null,null,null,null,null,null,null,null,null,null,null,null,null,null,null,null,null,null,null,null,null,null,null,null,null,null,null,null,null,null,null,null,null,null,null,null,null,null,null,null,null,null,null,null,null,null,null,null,null,null,null,null,null,null,null,null,null,null,null,null,null,null,null,null,null,null,null,null,null,null,null,null,null,null,null,null,null,null,null,null,null,null,null,null,null,null,null,null,null,null,null,null,null,null,null,null,null,null,null,null,null,null,null,null,null,null,null,null,null,null,null,null,null,null,null,null,null,null,null,null,null,null,null,null,null,null,null,null,null,null,null,null,null,null,null,null,null,null,null,null,null,null,null,null,null,null,null,null,null,null,null,null,null,null,null,null,null,null,null,null,null,null,null,null,null,null,null,null,null,null,null,null,null,null,null,null,null,null,null,null,null,null,null,null,null,null,null,null,null,null,null,null,null,null,null,null,null,null,null,null,null,null,null,null,null,null,null,null,null,null,null,null,null,null,null,null,null,null,null,null,null,null,null,null,null,null,null,null,null,null,null,null,null,null,null,null,null,null,null,null,null,null,null,null,null,null,null,null,null,null,null,null,null,null,null,null,null,null,null,null,null,null,null,null,null,null,null,null,null,null,null,null,null,null,null,null,null,null,null,null,null,null,null,null,"Forbrug af vand","Human toxicity, non-cancer"]
[null,null,null,null,null,null,null,null,null,null,null,null,null,null,null,null,null,null,null,null,null,null,null,null,null,null,null,null,null,null,null,null,null,null,null,null,null,null,null,null,null,null,null,null,null,null,null,null,null,null,null,null,null,null,null,null,null,null,null,null,null,null,null,null,null,null,null,null,null,null,null,null,null,null,null,null,null,null,null,null,null,null,null,null,null,null,null,null,null,null,null,null,null,null,null,null,null,null,null,null,null,null,null,null,null,null,null,null,null,null,null,null,null,null,null,null,null,null,null,null,null,null,null,null,null,null,null,null,null,null,null,null,null,null,null,null,null,null,null,null,null,null,null,null,null,null,null,null,null,null,null,null,null,null,null,null,null,null,null,null,null,null,null,null,null,null,null,null,null,null,null,null,null,null,null,null,null,null,null,null,null,null,null,null,null,null,null,null,null,null,null,null,null,null,null,null,null,null,null,null,null,null,null,null,null,null,null,null,null,null,null,null,null,null,null,null,null,null,null,null,null,null,null,null,null,null,null,null,null,null,null,null,null,null,null,null,null,null,null,null,null,null,null,null,null,null,null,null,null,null,null,null,null,null,null,null,null,null,null,null,null,null,null,null,null,null,null,null,null,null,null,null,null,null,null,null,null,null,null,null,null,null,null,null,null,null,null,null,null,null,null,null,null,null,null,null,null,null,null,null,null,null,null,null,null,null,null,null,null,null,null,null,null,null,null,null,null,null,null,null,null,null,null,null,null,null,null,null,null,null,null,null,null,null,null,null,null,null,null,null,null,null,"Økonomi","Human toxicity, cancer"]
[null,null,null,null,null,null,null,null,null,null,null,null,null,null,null,null,null,null,null,null,null,null,null,null,null,null,null,null,null,null,null,null,null,null,null,null,null,null,null,null,null,null,null,null,null,null,null,null,null,null,null,null,null,null,null,null,null,null,null,null,null,null,null,null,null,null,null,null,null,null,null,null,null,null,null,null,null,null,null,null,null,null,null,null,null,null,null,null,null,null,null,null,null,null,null,null,null,null,null,null,null,null,null,null,null,null,null,null,null,null,null,null,null,null,null,null,null,null,null,null,null,null,null,null,null,null,null,null,null,null,null,null,null,null,null,null,null,null,null,null,null,null,null,null,null,null,null,null,null,null,null,null,null,null,null,null,null,null,null,null,null,null,null,null,null,null,null,null,null,null,null,null,null,null,null,null,null,null,null,null,null,null,null,null,null,null,null,null,null,null,null,null,null,null,null,null,null,null,null,null,null,null,null,null,null,null,null,null,null,null,null,null,null,null,null,null,null,null,null,null,null,null,null,null,null,null,null,null,null,null,null,null,null,null,null,null,null,null,null,null,null,null,null,null,null,null,null,null,null,null,null,null,null,null,null,null,null,null,null,null,null,null,null,null,null,null,null,null,null,null,null,null,null,null,null,null,null,null,null,null,null,null,null,null,null,null,null,null,null,null,null,null,null,null,null,null,null,null,null,null,null,null,null,null,null,null,null,null,null,null,null,null,null,null,null,null,null,null,null,null,null,null,null,null,null,null,null,null,null,null,null,null,null,null,null,null,null,null,null,null,null,null,null,"Acidification"]
[null,null,null,8,8,3,null,null,null,null,null,null,null,null,null,null,null,null,null,null,null,null,null,null,null,null,null,null,null,null,null,null,null,null,null,null,null,null,null,null,null,null,null,null,null,null,null,null,null,null,null,null,null,null,null,null,null,null,null,null,null,null,null,null,null,null,null,null,null,null,null,null,null,null,null,null,null,null,null,null,null,null,null,null,null,null,null,null,null,null,null,null,null,null,null,null,null,null,null,null,null,null,null,null,null,null,null,null,null,null,null,null,null,null,null,null,null,null,null,null,null,null,null,null,null,null,null,null,null,null,null,null,null,null,null,null,null,null,null,null,null,null,null,null,null,null,null,null,null,null,null,null,null,null,null,null,null,null,null,null,null,null,null,null,null,null,null,null,null,null,null,null,null,null,null,null,null,null,null,null,null,null,null,null,null,null,null,null,null,null,null,null,null,null,null,null,null,null,null,null,null,null,null,null,null,null,null,null,null,null,null,null,null,null,null,null,null,null,null,null,null,null,null,null,null,null,null,null,null,null,null,null,null,null,null,null,null,null,null,null,null,null,null,null,null,null,null,null,null,null,null,null,null,null,null,null,null,null,null,null,null,null,null,null,null,null,null,null,null,null,null,null,null,null,null,null,null,null,null,null,null,null,null,null,null,null,null,null,null,null,null,null,null,null,null,null,null,null,null,null,null,null,null,null,null,null,null,null,null,null,null,null,null,null,null,null,null,null,null,null,null,null,null,null,null,null,null,null,null,null,null,null,null,null,null,null,null,null,null,null,null,null,null,"Eutrophication, freshwater"]
[null,null,null,null,null,null,null,null,null,null,null,null,"Karakteriserede resultater",null,null,null,null,null,null,null,null,null,null,null,null,null,null,null,null,null,null,null,null,null,null,null,null,null,null,null,null,null,null,null,null,null,null,null,null,null,null,null,null,null,null,null,null,null,null,null,null,null,null,null,null,null,null,null,null,null,null,null,null,null,null,null,null,null,null,null,null,null,null,null,null,null,null,null,null,null,null,null,null,null,null,null,null,null,null,null,null,null,null,null,null,null,null,null,null,null,null,null,null,null,null,null,null,null,null,null,null,null,null,null,null,null,null,null,null,null,null,null,null,null,null,null,null,null,null,null,null,null,null,null,null,null,null,null,null,null,null,null,null,null,null,null,null,null,null,null,null,null,null,null,null,null,null,null,null,null,null,null,null,null,null,null,null,null,null,null,null,null,null,null,null,null,null,null,null,null,null,null,null,null,null,null,null,null,null,null,null,null,null,null,null,null,null,null,null,null,null,null,null,null,null,null,null,null,null,null,null,null,null,null,null,null,null,null,null,null,null,null,null,null,null,null,null,null,null,null,null,null,null,null,null,null,null,null,null,null,null,null,null,null,null,null,null,null,null,null,null,null,null,null,null,null,null,null,null,null,null,null,null,null,null,null,null,null,null,null,null,null,null,null,null,null,null,null,null,null,null,null,null,null,null,null,null,null,null,null,null,null,null,null,null,null,null,null,null,null,null,null,null,null,null,null,null,null,null,null,null,null,null,null,null,null,null,null,null,null,null,null,null,null,null,null,null,null,null,null,null,null,null,"Eutrophication, marine",null,null,null,null,null,null,"product2/product1"]
[null,null,null,null,null,null,null,null,null,null,null,null,"Miljøpåvirkninger",null,{"$f":"Name_product1","v":0},{"$f":"Name_product2","v":0},"Enhed",null,null,null,null,null,null,null,null,null,null,null,null,null,null,null,null,null,null,null,null,null,null,null,null,null,null,null,null,null,null,null,null,null,null,null,null,null,null,null,null,null,null,null,null,null,null,null,null,null,null,null,null,null,null,null,null,null,null,null,null,null,null,null,null,null,null,null,null,null,null,null,null,null,null,null,null,null,null,null,null,null,null,null,null,null,null,null,null,null,null,null,null,null,null,null,null,null,null,null,null,null,null,null,null,null,null,null,null,null,null,null,null,null,null,null,null,null,null,null,null,null,null,null,null,null,null,null,null,null,null,null,null,null,null,null,null,null,null,null,null,null,null,null,null,null,null,null,null,null,null,null,null,null,null,null,null,null,null,null,null,null,null,null,null,null,null,null,null,null,null,null,null,null,null,null,null,null,null,null,null,null,null,null,null,null,null,null,null,null,null,null,null,null,null,null,null,null,null,null,null,null,null,null,null,null,null,null,null,null,null,null,null,null,null,null,null,null,null,null,null,null,null,null,null,null,null,null,null,null,null,null,null,null,null,null,null,null,null,null,null,null,null,null,null,null,null,null,null,null,null,null,null,null,null,null,null,null,null,null,null,null,null,null,null,null,null,null,null,null,null,null,null,null,null,null,null,null,null,null,null,null,null,null,null,null,null,null,null,null,null,null,null,null,null,null,null,null,null,null,null,null,null,null,null,null,null,null,null,null,null,null,null,null,null,null,null,null,null,null,null,null,null,null,null,null,null,"Eutrophication, terrestrial",null,null,null,null,null,"EF LCIA robustness","i","I","II","II","I","II/III","II/III","II","II","II","II","II/III","III","III","III","III"]
[null,null,null,null,null,null,null,null,null,null,null,null,"Klimaforandringer",null,{"$f":"IF(ISBLANK($M29),\"\",HLOOKUP($M29,ResultsProduct1,D$26,FALSE))","v":{"$error":"#N/A"}},{"$f":"IF(ISBLANK($M29),\"\",HLOOKUP($M29,ResultsProduct2,E$26,FALSE))","v":{"$error":"#N/A"}},{"$f":"IF(ISBLANK($M29),\"\",HLOOKUP($M29,ResultsProduct1,F$26,FALSE))","v":"kg CO2 eq"},null,null,null,null,null,null,null,null,null,null,null,null,null,null,null,null,null,null,null,null,null,null,null,null,null,null,null,null,null,null,null,null,null,null,null,null,null,null,null,null,null,null,null,null,null,null,null,null,null,null,null,null,null,null,null,null,null,null,null,null,null,null,null,null,null,null,null,null,null,null,null,null,null,null,null,null,null,null,null,null,null,null,null,null,null,null,null,null,null,null,null,null,null,null,null,null,null,null,null,null,null,null,null,null,null,null,null,null,null,null,null,null,null,null,null,null,null,null,null,null,null,null,null,null,null,null,null,null,null,null,null,null,null,null,null,null,null,null,null,null,null,null,null,null,null,null,null,null,null,null,null,null,null,null,null,null,null,null,null,null,null,null,null,null,null,null,null,null,null,null,null,null,null,null,null,null,null,null,null,null,null,null,null,null,null,null,null,null,null,null,null,null,null,null,null,null,null,null,null,null,null,null,null,null,null,null,null,null,null,null,null,null,null,null,null,null,null,null,null,null,null,null,null,null,null,null,null,null,null,null,null,null,null,null,null,null,null,null,null,null,null,null,null,null,null,null,null,null,null,null,null,null,null,null,null,null,null,null,null,null,null,null,null,null,null,null,null,null,null,null,null,null,null,null,null,null,null,null,null,null,null,null,null,null,null,null,null,null,null,null,null,null,null,null,null,null,null,null,null,null,null,null,null,null,null,null,null,null,null,null,null,null,null,null,null,null,null,null,null,null,null,null,null,null,null,null,"Ecotoxicity, freshwater",null,null,null,1,null,"økonomi","Klimaforandringer",null,null,null,"Partikelforurening",null,null,null,"Eutrofiering",null,null,"Økotoksicitet","Brug af landarealer","Forbrug af vand"]
[null,null,null,null,null,null,null,null,null,null,null,null,"Partikelforurening",null,{"$error":"#N/A"},{"$error":"#N/A"},"disease inc.",null,null,null,null,null,null,null,null,null,null,null,null,null,null,null,null,null,null,null,null,null,null,null,null,null,null,null,null,null,null,null,null,null,null,null,null,null,null,null,null,null,null,null,null,null,null,null,null,null,null,null,null,null,null,null,null,null,null,null,null,null,null,null,null,null,null,null,null,null,null,null,null,null,null,null,null,null,null,null,null,null,null,null,null,null,null,null,null,null,null,null,null,null,null,null,null,null,null,null,null,null,null,null,null,null,null,null,null,null,null,null,null,null,null,null,null,null,null,null,null,null,null,null,null,null,null,null,null,null,null,null,null,null,null,null,null,null,null,null,null,null,null,null,null,null,null,null,null,null,null,null,null,null,null,null,null,null,null,null,null,null,null,null,null,null,null,null,null,null,null,null,null,null,null,null,null,null,null,null,null,null,null,null,null,null,null,null,null,null,null,null,null,null,null,null,null,null,null,null,null,null,null,null,null,null,null,null,null,null,null,null,null,null,null,null,null,null,null,null,null,null,null,null,null,null,null,null,null,null,null,null,null,null,null,null,null,null,null,null,null,null,null,null,null,null,null,null,null,null,null,null,null,null,null,null,null,null,null,null,null,null,null,null,null,null,null,null,null,null,null,null,null,null,null,null,null,null,null,null,null,null,null,null,null,null,null,null,null,null,null,null,null,null,null,null,null,null,null,null,null,null,null,null,null,null,null,null,null,null,null,null,null,null,null,null,null,null,null,null,null,null,null,null,null,null,null,"Land use",null,null,null,2,null,"økonomi","Climate change","Ozone depletion","Ionising radiation","Photochemical ozone formation","Particulate matter","Human toxicity, non-cancer","Human toxicity, cancer","Acidification","Eutrophication, freshwater","Eutrophication, marine","Eutrophication, terrestrial","Ecotoxicity, freshwater","Land use","Water use","Resource use, fossils","Resource use, minerals and metals","Climate change - Fossil","Climate change - Biogenic","Climate change - Land use and LU change","Human toxicity, non-cancer - organics","Human toxicity, non-cancer - inorganics","Human toxicity, non-cancer - metals","Human toxicity, cancer - organics","Human toxicity, cancer - inorganics","Human toxicity, cancer - metals","Ecotoxicity, freshwater - organics","Ecotoxicity, freshwater - inorganics","Ecotoxicity, freshwater - metals","PFAS"]
[null,null,null,null,null,null,null,null,null,null,null,null,"Eutrofiering",null,{"$error":"#N/A"},{"$error":"#N/A"},"kg P eq",null,null,null,null,null,null,null,null,null,null,null,null,null,null,null,null,null,null,null,null,null,null,null,null,null,null,null,null,null,null,null,null,null,null,null,null,null,null,null,null,null,null,null,null,null,null,null,null,null,null,null,null,null,null,null,null,null,null,null,null,null,null,null,null,null,null,null,null,null,null,null,null,null,null,null,null,null,null,null,null,null,null,null,null,null,null,null,null,null,null,null,null,null,null,null,null,null,null,null,null,null,null,null,null,null,null,null,null,null,null,null,null,null,null,null,null,null,null,null,null,null,null,null,null,null,null,null,null,null,null,null,null,null,null,null,null,null,null,null,null,null,null,null,null,null,null,null,null,null,null,null,null,null,null,null,null,null,null,null,null,null,null,null,null,null,null,null,null,null,null,null,null,null,null,null,null,null,null,null,null,null,null,null,null,null,null,null,null,null,null,null,null,null,null,null,null,null,null,null,null,null,null,null,null,null,null,null,null,null,null,null,null,null,null,null,null,null,null,null,null,null,null,null,null,null,null,null,null,null,null,null,null,null,null,null,null,null,null,null,null,null,null,null,null,null,null,null,null,null,null,null,null,null,null,null,null,null,null,null,null,null,null,null,null,null,null,null,null,null,null,null,null,null,null,null,null,null,null,null,null,null,null,null,null,null,null,null,null,null,null,null,null,null,null,null,null,null,null,null,null,null,null,null,null,null,null,null,null,null,null,null,null,null,null,null,null,null,null,null,null,null,null,null,null,null,null,"Water use",null,null,null,3,null,"DKK","kg CO2 eq","kg CFC11 eq","kBq U-235 eq","kg NMVOC eq","disease inc.","CTUh","CTUh","mol H+ eq","kg P eq","kg N eq","mol N eq","CTUe","Pt","m3 depriv.","MJ","kg Sb eq","kg CO2 eq","kg CO2 eq","kg CO2 eq","CTUh","CTUh","CTUh","CTUh","CTUh","CTUh","CTUe","CTUe","CTUe","kg"]
[null,null,null,null,null,null,null,null,null,null,null,null,"Økotoksicitet",null,{"$error":"#N/A"},{"$error":"#N/A"},"CTUe",null,null,null,null,null,null,null,null,null,null,null,null,null,null,null,null,null,null,null,null,null,null,null,null,null,null,null,null,null,null,null,null,null,null,null,null,null,null,null,null,null,null,null,null,null,null,null,null,null,null,null,null,null,null,null,null,null,null,null,null,null,null,null,null,null,null,null,null,null,null,null,null,null,null,null,null,null,null,null,null,null,null,null,null,null,null,null,null,null,null,null,null,null,null,null,null,null,null,null,null,null,null,null,null,null,null,null,null,null,null,null,null,null,null,null,null,null,null,null,null,null,null,null,null,null,null,null,null,null,null,null,null,null,null,null,null,null,null,null,null,null,null,null,null,null,null,null,null,null,null,null,null,null,null,null,null,null,null,null,null,null,null,null,null,null,null,null,null,null,null,null,null,null,null,null,null,null,null,null,null,null,null,null,null,null,null,null,null,null,null,null,null,null,null,null,null,null,null,null,null,null,null,null,null,null,null,null,null,null,null,null,null,null,null,null,null,null,null,null,null,null,null,null,null,null,null,null,null,null,null,null,null,null,null,null,null,null,null,null,null,null,null,null,null,null,null,null,null,null,null,null,null,null,null,null,null,null,null,null,null,null,null,null,null,null,null,null,null,null,null,null,null,null,null,null,null,null,null,null,null,null,null,null,null,null,null,null,null,null,null,null,null,null,null,null,null,null,null,null,null,null,null,null,null,null,null,null,null,null,null,null,null,null,null,null,null,null,null,null,null,null,null,null,null,null,null,"Resource use, fossils",null,null,null,4,"Materiale og produktion",{"$f":"NR8/ML8","v":{"$error":"#DIV/0!"}},{"$f":"IF(MM8<0,-NS8/MM8,NS8/MM8)","v":{"$error":"#N/A"}},{"$error":"#N/A"},{"$error":"#N/A"},{"$error":"#N/A"},{"$error":"#N/A"},{"$error":"#N/A"},{"$error":"#N/A"},{"$error":"#N/A"},{"$error":"#N/A"},{"$error":"#N/A"},{"$f":"IF(MW8<0,-OC8/MW8,OC8/MW8)","v":{"$error":"#N/A"}},{"$error":"#N/A"},{"$error":"#N/A"},{"$error":"#N/A"},{"$error":"#N/A"},{"$error":"#N/A"},{"$error":"#N/A"},{"$error":"#N/A"},{"$error":"#N/A"},{"$error":"#N/A"},{"$f":"IF(NG8<0,-OM8/NG8,OM8/NG8)","v":{"$error":"#N/A"}},{"$error":"#N/A"},{"$error":"#N/A"},{"$error":"#N/A"},{"$error":"#N/A"},{"$error":"#N/A"},{"$error":"#N/A"},{"$error":"#N/A"}]
[null,null,null,null,null,null,null,null,null,null,null,null,"Brug af landarealer",null,{"$error":"#N/A"},{"$error":"#N/A"},"Pt",null,null,null,null,null,null,null,null,null,null,null,null,null,null,null,null,null,null,null,null,null,null,null,null,null,null,null,null,null,null,null,null,null,null,null,null,null,null,null,null,null,null,null,null,null,null,null,null,null,null,null,null,null,null,null,null,null,null,null,null,null,null,null,null,null,null,null,null,null,null,null,null,null,null,null,null,null,null,null,null,null,null,null,null,null,null,null,null,null,null,null,null,null,null,null,null,null,null,null,null,null,null,null,null,null,null,null,null,null,null,null,null,null,null,null,null,null,null,null,null,null,null,null,null,null,null,null,null,null,null,null,null,null,null,null,null,null,null,null,null,null,null,null,null,null,null,null,null,null,null,null,null,null,null,null,null,null,null,null,null,null,null,null,null,null,null,null,null,null,null,null,null,null,null,null,null,null,null,null,null,null,null,null,null,null,null,null,null,null,null,null,null,null,null,null,null,null,null,null,null,null,null,null,null,null,null,null,null,null,null,null,null,null,null,null,null,null,null,null,null,null,null,null,null,null,null,null,null,null,null,null,null,null,null,null,null,null,null,null,null,null,null,null,null,null,null,null,null,null,null,null,null,null,null,null,null,null,null,null,null,null,null,null,null,null,null,null,null,null,null,null,null,null,null,null,null,null,null,null,null,null,null,null,null,null,null,null,null,null,null,null,null,null,null,null,null,null,null,null,null,null,null,null,null,null,null,null,null,null,null,null,null,null,null,null,null,null,null,null,null,null,null,null,null,null,null,"Resource use, minerals and metals",null,null,null,5,"Transport og emballage",{"$f":"NR9/ML9","v":{"$error":"#N/A"}},{"$error":"#N/A"},{"$error":"#N/A"},{"$error":"#N/A"},{"$error":"#N/A"},{"$error":"#N/A"},{"$error":"#N/A"},{"$error":"#N/A"},{"$error":"#N/A"},{"$error":"#N/A"},{"$error":"#N/A"},{"$error":"#N/A"},{"$error":"#N/A"},{"$error":"#N/A"},{"$error":"#N/A"},{"$error":"#N/A"},{"$error":"#N/A"},{"$error":"#N/A"},{"$error":"#N/A"},{"$error":"#N/A"},{"$error":"#N/A"},{"$error":"#N/A"},{"$error":"#N/A"},{"$error":"#N/A"},{"$error":"#N/A"},{"$error":"#N/A"},{"$error":"#N/A"},{"$error":"#N/A"},{"$error":"#N/A"}]
[null,null,null,null,null,null,null,null,null,null,null,null,"Forbrug af vand",null,{"$error":"#N/A"},{"$error":"#N/A"},"m3 depriv.",null,null,null,null,null,null,null,null,null,null,null,null,null,null,null,null,null,null,null,null,null,null,null,null,null,null,null,null,null,null,null,null,null,null,null,null,null,null,null,null,null,null,null,null,null,null,null,null,null,null,null,null,null,null,null,null,null,null,null,null,null,null,null,null,null,null,null,null,null,null,null,null,null,null,null,null,null,null,null,null,null,null,null,null,null,null,null,null,null,null,null,null,null,null,null,null,null,null,null,null,null,null,null,null,null,null,null,null,null,null,null,null,null,null,null,null,null,null,null,null,null,null,null,null,null,null,null,null,null,null,null,null,null,null,null,null,null,null,null,null,null,null,null,null,null,null,null,null,null,null,null,null,null,null,null,null,null,null,null,null,null,null,null,null,null,null,null,null,null,null,null,null,null,null,null,null,null,null,null,null,null,null,null,null,null,null,null,null,null,null,null,null,null,null,null,null,null,null,null,null,null,null,null,null,null,null,null,null,null,null,null,null,null,null,null,null,null,null,null,null,null,null,null,null,null,null,null,null,null,null,null,null,null,null,null,null,null,null,null,null,null,null,null,null,null,null,null,null,null,null,null,null,null,null,null,null,null,null,null,null,null,null,null,null,null,null,null,null,null,null,null,null,null,null,null,null,null,null,null,null,null,null,null,null,null,null,null,null,null,null,null,null,null,null,null,null,null,null,null,null,null,null,null,null,null,null,null,null,null,null,null,null,null,null,null,null,null,null,null,null,null,null,null,null,null,null,"Climate change - Fossil",null,null,null,6,"Brug og vask",{"$f":"NR10/ML10","v":{"$error":"#N/A"}},{"$error":"#N/A"},{"$error":"#N/A"},{"$error":"#N/A"},{"$error":"#N/A"},{"$error":"#N/A"},{"$error":"#N/A"},{"$error":"#N/A"},{"$error":"#N/A"},{"$error":"#N/A"},{"$error":"#N/A"},{"$error":"#N/A"},{"$error":"#N/A"},{"$error":"#N/A"},{"$error":"#N/A"},{"$error":"#N/A"},{"$error":"#N/A"},{"$error":"#N/A"},{"$error":"#N/A"},{"$error":"#N/A"},{"$error":"#N/A"},{"$error":"#N/A"},{"$error":"#N/A"},{"$error":"#N/A"},{"$error":"#N/A"},{"$error":"#N/A"},{"$error":"#N/A"},{"$error":"#N/A"},{"$error":"#N/A"}]
[null,null,null,null,null,null,null,null,null,null,null,null,"Økonomi",null,{"$error":"#N/A"},{"$error":"#N/A"},"DKK",null,null,null,null,null,null,null,null,null,null,null,null,null,null,null,null,null,null,null,null,null,null,null,null,null,null,null,null,null,null,null,null,null,null,null,null,null,null,null,null,null,null,null,null,null,null,null,null,null,null,null,null,null,null,null,null,null,null,null,null,null,null,null,null,null,null,null,null,null,null,null,null,null,null,null,null,null,null,null,null,null,null,null,null,null,null,null,null,null,null,null,null,null,null,null,null,null,null,null,null,null,null,null,null,null,null,null,null,null,null,null,null,null,null,null,null,null,null,null,null,null,null,null,null,null,null,null,null,null,null,null,null,null,null,null,null,null,null,null,null,null,null,null,null,null,null,null,null,null,null,null,null,null,null,null,null,null,null,null,null,null,null,null,null,null,null,null,null,null,null,null,null,null,null,null,null,null,null,null,null,null,null,null,null,null,null,null,null,null,null,null,null,null,null,null,null,null,null,null,null,null,null,null,null,null,null,null,null,null,null,null,null,null,null,null,null,null,null,null,null,null,null,null,null,null,null,null,null,null,null,null,null,null,null,null,null,null,null,null,null,null,null,null,null,null,null,null,null,null,null,null,null,null,null,null,null,null,null,null,null,null,null,null,null,null,null,null,null,null,null,null,null,null,null,null,null,null,null,null,null,null,null,null,null,null,null,null,null,null,null,null,null,null,null,null,null,null,null,null,null,null,null,null,null,null,null,null,null,null,null,null,null,null,null,null,null,null,null,null,null,null,null,null,null,null,null,"Climate change - Biogenic",null,null,null,7,"Efterliv",{"$f":"NR11/ML11","v":{"$error":"#N/A"}},{"$error":"#DIV/0!"},{"$error":"#DIV/0!"},{"$error":"#DIV/0!"},{"$error":"#DIV/0!"},{"$error":"#DIV/0!"},{"$error":"#DIV/0!"},{"$error":"#DIV/0!"},{"$error":"#DIV/0!"},{"$error":"#DIV/0!"},{"$error":"#DIV/0!"},{"$error":"#DIV/0!"},{"$error":"#DIV/0!"},{"$error":"#DIV/0!"},{"$error":"#DIV/0!"},{"$error":"#DIV/0!"},{"$error":"#DIV/0!"},{"$error":"#DIV/0!"},{"$error":"#DIV/0!"},{"$error":"#DIV/0!"},{"$error":"#DIV/0!"},{"$error":"#DIV/0!"},{"$error":"#DIV/0!"},{"$error":"#DIV/0!"},{"$error":"#DIV/0!"},{"$error":"#DIV/0!"},{"$error":"#DIV/0!"},{"$error":"#DIV/0!"},{"$error":"#DIV/0!"}]
[null,null,null,null,null,null,null,null,null,null,null,null,null,null,null,null,null,null,null,null,null,null,null,null,null,null,null,null,null,null,null,null,null,null,null,null,null,null,null,null,null,null,null,null,null,null,null,null,null,null,null,null,null,null,null,null,null,null,null,null,null,null,null,null,null,null,null,null,null,null,null,null,null,null,null,null,null,null,null,null,null,null,null,null,null,null,null,null,null,null,null,null,null,null,null,null,null,null,null,null,null,null,null,null,null,null,null,null,null,null,null,null,null,null,null,null,null,null,null,null,null,null,null,null,null,null,null,null,null,null,null,null,null,null,null,null,null,null,null,null,null,null,null,null,null,null,null,null,null,null,null,null,null,null,null,null,null,null,null,null,null,null,null,null,null,null,null,null,null,null,null,null,null,null,null,null,null,null,null,null,null,null,null,null,null,null,null,null,null,null,null,null,null,null,null,null,null,null,null,null,null,null,null,null,null,null,null,null,null,null,null,null,null,null,null,null,null,null,null,null,null,null,null,null,null,null,null,null,null,null,null,null,null,null,null,null,null,null,null,null,null,null,null,null,null,null,null,null,null,null,null,null,null,null,null,null,null,null,null,null,null,null,null,null,null,null,null,null,null,null,null,null,null,null,null,null,null,null,null,null,null,null,null,null,null,null,null,null,null,null,null,null,null,null,null,null,null,null,null,null,null,null,null,null,null,null,null,null,null,null,null,null,null,null,null,null,null,null,null,null,null,null,null,null,null,null,null,null,null,null,null,null,null,null,null,null,null,null,null,null,null,null,null,"Climate change - Land use and LU change",null,null,null,8,"Total product2",{"$f":"NR12/ML12","v":{"$error":"#N/A"}},{"$error":"#N/A"},{"$error":"#N/A"},{"$error":"#N/A"},{"$error":"#N/A"},{"$error":"#N/A"},{"$error":"#N/A"},{"$error":"#N/A"},{"$error":"#N/A"},{"$error":"#N/A"},{"$error":"#N/A"},{"$error":"#N/A"},{"$error":"#N/A"},{"$error":"#N/A"},{"$error":"#N/A"},{"$error":"#N/A"},{"$error":"#N/A"},{"$error":"#N/A"},{"$error":"#N/A"},{"$error":"#N/A"},{"$error":"#N/A"},{"$error":"#N/A"},{"$error":"#N/A"},{"$error":"#N/A"},{"$error":"#N/A"},{"$error":"#N/A"},{"$error":"#N/A"},{"$error":"#N/A"},{"$error":"#N/A"}]
[null,null,null,null,null,null,null,null,null,null,null,null,null,null,null,null,null,null,null,null,null,null,null,null,null,null,null,null,null,null,null,null,null,null,null,null,null,null,null,null,null,null,null,null,null,null,null,null,null,null,null,null,null,null,null,null,null,null,null,null,null,null,null,null,null,null,null,null,null,null,null,null,null,null,null,null,null,null,null,null,null,null,null,null,null,null,null,null,null,null,null,null,null,null,null,null,null,null,null,null,null,null,null,null,null,null,null,null,null,null,null,null,null,null,null,null,null,null,null,null,null,null,null,null,null,null,null,null,null,null,null,null,null,null,null,null,null,null,null,null,null,null,null,null,null,null,null,null,null,null,null,null,null,null,null,null,null,null,null,null,null,null,null,null,null,null,null,null,null,null,null,null,null,null,null,null,null,null,null,null,null,null,null,null,null,null,null,null,null,null,null,null,null,null,null,null,null,null,null,null,null,null,null,null,null,null,null,null,null,null,null,null,null,null,null,null,null,null,null,null,null,null,null,null,null,null,null,null,null,null,null,null,null,null,null,null,null,null,null,null,null,null,null,null,null,null,null,null,null,null,null,null,null,null,null,null,null,null,null,null,null,null,null,null,null,null,null,null,null,null,null,null,null,null,null,null,null,null,null,null,null,null,null,null,null,null,null,null,null,null,null,null,null,null,null,null,null,null,null,null,null,null,null,null,null,null,null,null,null,null,null,null,null,null,null,null,null,null,null,null,null,null,null,null,null,null,null,null,null,null,null,null,null,null,null,null,null,null,null,null,null,null,null,"Human toxicity, non-cancer - organics",null,null,null,9,"Total product1",1,{"$f":"IF(MM12<0,-100%,100%)","v":{"$error":"#N/A"}},{"$error":"#N/A"},{"$error":"#N/A"},{"$error":"#N/A"},{"$error":"#N/A"},{"$error":"#N/A"},{"$error":"#N/A"},{"$error":"#N/A"},{"$error":"#N/A"},{"$error":"#N/A"},{"$error":"#N/A"},{"$error":"#N/A"},{"$error":"#N/A"},{"$error":"#N/A"},{"$error":"#N/A"},{"$error":"#N/A"},{"$error":"#N/A"},{"$error":"#N/A"},{"$error":"#N/A"},{"$error":"#N/A"},{"$error":"#N/A"},{"$error":"#N/A"},{"$error":"#N/A"},{"$error":"#N/A"},{"$error":"#N/A"},{"$error":"#N/A"},{"$error":"#N/A"},{"$error":"#N/A"}]
[null,null,"Bidragsanalyse ",null,null,null,null,null,null,null,null,null,null,null,null,null,null,null,null,null,null,null,null,null,null,null,null,null,null,null,null,null,null,null,null,null,null,null,null,null,null,null,null,null,null,null,null,null,null,null,null,null,null,null,null,null,null,null,null,null,null,null,null,null,null,null,null,null,null,null,null,null,null,null,null,null,null,null,null,null,null,null,null,null,null,null,null,null,null,null,null,null,null,null,null,null,null,null,null,null,null,null,null,null,null,null,null,null,null,null,null,null,null,null,null,null,null,null,null,null,null,null,null,null,null,null,null,null,null,null,null,null,null,null,null,null,null,null,null,null,null,null,null,null,null,null,null,null,null,null,null,null,null,null,null,null,null,null,null,null,null,null,null,null,null,null,null,null,null,null,null,null,null,null,null,null,null,null,null,null,null,null,null,null,null,null,null,null,null,null,null,null,null,null,null,null,null,null,null,null,null,null,null,null,null,null,null,null,null,null,null,null,null,null,null,null,null,null,null,null,null,null,null,null,null,null,null,null,null,null,null,null,null,null,null,null,null,null,null,null,null,null,null,null,null,null,null,null,null,null,null,null,null,null,null,null,null,null,null,null,null,null,null,null,null,null,null,null,null,null,null,null,null,null,null,null,null,null,null,null,null,null,null,null,null,null,null,null,null,null,null,null,null,null,null,null,null,null,null,null,null,null,null,null,null,null,null,null,null,null,null,null,null,null,null,null,null,null,null,null,null,null,null,null,null,null,null,null,null,null,null,null,null,null,null,null,null,null,null,null,null,null,null,"Human toxicity, non-cancer - inorganics",null,null,null,10,"usikkerhed prod1",{"$f":"VLOOKUP(ML4,$MF$2:$MG$6,2,FALSE)","v":0.2},0.2,0.2,0.4,0.4,0.2,0.5,0.5,0.4,0.4,0.4,0.4,0.5,0.7,0.7,0.7,0.7]
[null,null,"Hvilke livscyklusstadier bidrager hvor meget til resultaterne",null,null,null,null,null,null,null,null,null,null,null,null,null,null,null,null,null,null,null,null,null,null,null,null,null,null,null,null,null,null,null,null,null,null,null,null,null,null,null,null,null,null,null,null,null,null,null,null,null,null,null,null,null,null,null,null,null,null,null,null,null,null,null,null,null,null,null,null,null,null,null,null,null,null,null,null,null,null,null,null,null,null,null,null,null,null,null,null,null,null,null,null,null,null,null,null,null,null,null,null,null,null,null,null,null,null,null,null,null,null,null,null,null,null,null,null,null,null,null,null,null,null,null,null,null,null,null,null,null,null,null,null,null,null,null,null,null,null,null,null,null,null,null,null,null,null,null,null,null,null,null,null,null,null,null,null,null,null,null,null,null,null,null,null,null,null,null,null,null,null,null,null,null,null,null,null,null,null,null,null,null,null,null,null,null,null,null,null,null,null,null,null,null,null,null,null,null,null,null,null,null,null,null,null,null,null,null,null,null,null,null,null,null,null,null,null,null,null,null,null,null,null,null,null,null,null,null,null,null,null,null,null,null,null,null,null,null,null,null,null,null,null,null,null,null,null,null,null,null,null,null,null,null,null,null,null,null,null,null,null,null,null,null,null,null,null,null,null,null,null,null,null,null,null,null,null,null,null,null,null,null,null,null,null,null,null,null,null,null,null,null,null,null,null,null,null,null,null,null,null,null,null,null,null,null,null,null,null,null,null,null,null,null,null,null,null,null,null,null,null,null,null,null,null,null,null,null,null,null,null,null,null,null,null,null,null,null,null,null,null,"Human toxicity, non-cancer - metals",null,null,null,11,"usikkerhed prod2",{"$f":"VLOOKUP(ML4,$MF$2:$MG$6,2,FALSE)*ML36","v":{"$error":"#N/A"}},{"$error":"#N/A"},{"$error":"#N/A"},{"$error":"#N/A"},{"$error":"#N/A"},{"$error":"#N/A"},{"$error":"#N/A"},{"$error":"#N/A"},{"$error":"#N/A"},{"$error":"#N/A"},{"$error":"#N/A"},{"$error":"#N/A"},{"$error":"#N/A"},{"$error":"#N/A"},{"$error":"#N/A"},{"$error":"#N/A"},{"$error":"#N/A"}]
[null,null,null,null,null,null,null,null,null,null,null,null,null,null,null,null,null,null,null,null,null,null,null,null,null,null,null,null,null,null,null,null,null,null,null,null,null,null,null,null,null,null,null,null,null,null,null,null,null,null,null,null,null,null,null,null,null,null,null,null,null,null,null,null,null,null,null,null,null,null,null,null,null,null,null,null,null,null,null,null,null,null,null,null,null,null,null,null,null,null,null,null,null,null,null,null,null,null,null,null,null,null,null,null,null,null,null,null,null,null,null,null,null,null,null,null,null,null,null,null,null,null,null,null,null,null,null,null,null,null,null,null,null,null,null,null,null,null,null,null,null,null,null,null,null,null,null,null,null,null,null,null,null,null,null,null,null,null,null,null,null,null,null,null,null,null,null,null,null,null,null,null,null,null,null,null,null,null,null,null,null,null,null,null,null,null,null,null,null,null,null,null,null,null,null,null,null,null,null,null,null,null,null,null,null,null,null,null,null,null,null,null,null,null,null,null,null,null,null,null,null,null,null,null,null,null,null,null,null,null,null,null,null,null,null,null,null,null,null,null,null,null,null,null,null,null,null,null,null,null,null,null,null,null,null,null,null,null,null,null,null,null,null,null,null,null,null,null,null,null,null,null,null,null,null,null,null,null,null,null,null,null,null,null,null,null,null,null,null,null,null,null,null,null,null,null,null,null,null,null,null,null,null,null,null,null,null,null,null,null,null,null,null,null,null,null,null,null,null,null,null,null,null,null,null,null,null,null,null,null,null,null,null,null,null,null,null,null,null,null,null,null,null,"Human toxicity, cancer - organics"]
[null,null,null,null,null,null,null,null,null,null,null,null,null,null,null,null,null,null,null,null,null,null,null,null,null,null,null,null,null,null,null,null,null,null,null,null,null,null,null,null,null,null,null,null,null,null,null,null,null,null,null,null,null,null,null,null,null,null,null,null,null,null,null,null,null,null,null,null,null,null,null,null,null,null,null,null,null,null,null,null,null,null,null,null,null,null,null,null,null,null,null,null,null,null,null,null,null,null,null,null,null,null,null,null,null,null,null,null,null,null,null,null,null,null,null,null,null,null,null,null,null,null,null,null,null,null,null,null,null,null,null,null,null,null,null,null,null,null,null,null,null,null,null,null,null,null,null,null,null,null,null,null,null,null,null,null,null,null,null,null,null,null,null,null,null,null,null,null,null,null,null,null,null,null,null,null,null,null,null,null,null,null,null,null,null,null,null,null,null,null,null,null,null,null,null,null,null,null,null,null,null,null,null,null,null,null,null,null,null,null,null,null,null,null,null,null,null,null,null,null,null,null,null,null,null,null,null,null,null,null,null,null,null,null,null,null,null,null,null,null,null,null,null,null,null,null,null,null,null,null,null,null,null,null,null,null,null,null,null,null,null,null,null,null,null,null,null,null,null,null,null,null,null,null,null,null,null,null,null,null,null,null,null,null,null,null,null,null,null,null,null,null,null,null,null,null,null,null,null,null,null,null,null,null,null,null,null,null,null,null,null,null,null,null,null,null,null,null,null,null,null,null,null,null,null,null,null,null,null,null,null,null,null,null,null,null,null,null,null,null,null,null,null,"Human toxicity, cancer - inorganics"]
[null,null,null,null,null,null,null,null,null,null,null,null,null,null,null,null,null,null,null,null,null,null,null,null,null,null,null,null,null,null,null,null,null,null,null,null,null,null,null,null,null,null,null,null,null,null,null,null,null,null,null,null,null,null,null,null,null,null,null,null,null,null,null,null,null,null,null,null,null,null,null,null,null,null,null,null,null,null,null,null,null,null,null,null,null,null,null,null,null,null,null,null,null,null,null,null,null,null,null,null,null,null,null,null,null,null,null,null,null,null,null,null,null,null,null,null,null,null,null,null,null,null,null,null,null,null,null,null,null,null,null,null,null,null,null,null,null,null,null,null,null,null,null,null,null,null,null,null,null,null,null,null,null,null,null,null,null,null,null,null,null,null,null,null,null,null,null,null,null,null,null,null,null,null,null,null,null,null,null,null,null,null,null,null,null,null,null,null,null,null,null,null,null,null,null,null,null,null,null,null,null,null,null,null,null,null,null,null,null,null,null,null,null,null,null,null,null,null,null,null,null,null,null,null,null,null,null,null,null,null,null,null,null,null,null,null,null,null,null,null,null,null,null,null,null,null,null,null,null,null,null,null,null,null,null,null,null,null,null,null,null,null,null,null,null,null,null,null,null,null,null,null,null,null,null,null,null,null,null,null,null,null,null,null,null,null,null,null,null,null,null,null,null,null,null,null,null,null,null,null,null,null,null,null,null,null,null,null,null,null,null,null,null,null,null,null,null,null,null,null,null,null,null,null,null,null,null,null,null,null,null,null,null,null,null,null,null,null,null,null,null,null,null,"Human toxicity, cancer - metals"]
[null,null,null,null,null,null,null,null,null,null,null,null,null,null,null,null,null,null,null,null,null,null,null,null,null,null,null,null,null,null,null,null,null,null,null,null,null,null,null,null,null,null,null,null,null,null,null,null,null,null,null,null,null,null,null,null,null,null,null,null,null,null,null,null,null,null,null,null,null,null,null,null,null,null,null,null,null,null,null,null,null,null,null,null,null,null,null,null,null,null,null,null,null,null,null,null,null,null,null,null,null,null,null,null,null,null,null,null,null,null,null,null,null,null,null,null,null,null,null,null,null,null,null,null,null,null,null,null,null,null,null,null,null,null,null,null,null,null,null,null,null,null,null,null,null,null,null,null,null,null,null,null,null,null,null,null,null,null,null,null,null,null,null,null,null,null,null,null,null,null,null,null,null,null,null,null,null,null,null,null,null,null,null,null,null,null,null,null,null,null,null,null,null,null,null,null,null,null,null,null,null,null,null,null,null,null,null,null,null,null,null,null,null,null,null,null,null,null,null,null,null,null,null,null,null,null,null,null,null,null,null,null,null,null,null,null,null,null,null,null,null,null,null,null,null,null,null,null,null,null,null,null,null,null,null,null,null,null,null,null,null,null,null,null,null,null,null,null,null,null,null,null,null,null,null,null,null,null,null,null,null,null,null,null,null,null,null,null,null,null,null,null,null,null,null,null,null,null,null,null,null,null,null,null,null,null,null,null,null,null,null,null,null,null,null,null,null,null,null,null,null,null,null,null,null,null,null,null,null,null,null,null,null,null,null,null,null,null,null,null,null,null,null,"Ecotoxicity, freshwater - organics"]
[null,null,null,null,null,null,null,null,null,null,null,null,null,null,null,null,null,null,null,null,null,null,null,null,null,null,null,null,null,null,null,null,null,null,null,null,null,null,null,null,null,null,null,null,null,null,null,null,null,null,null,null,null,null,null,null,null,null,null,null,null,null,null,null,null,null,null,null,null,null,null,null,null,null,null,null,null,null,null,null,null,null,null,null,null,null,null,null,null,null,null,null,null,null,null,null,null,null,null,null,null,null,null,null,null,null,null,null,null,null,null,null,null,null,null,null,null,null,null,null,null,null,null,null,null,null,null,null,null,null,null,null,null,null,null,null,null,null,null,null,null,null,null,null,null,null,null,null,null,null,null,null,null,null,null,null,null,null,null,null,null,null,null,null,null,null,null,null,null,null,null,null,null,null,null,null,null,null,null,null,null,null,null,null,null,null,null,null,null,null,null,null,null,null,null,null,null,null,null,null,null,null,null,null,null,null,null,null,null,null,null,null,null,null,null,null,null,null,null,null,null,null,null,null,null,null,null,null,null,null,null,null,null,null,null,null,null,null,null,null,null,null,null,null,null,null,null,null,null,null,null,null,null,null,null,null,null,null,null,null,null,null,null,null,null,null,null,null,null,null,null,null,null,null,null,null,null,null,null,null,null,null,null,null,null,null,null,null,null,null,null,null,null,null,null,null,null,null,null,null,null,null,null,null,null,null,null,null,null,null,null,null,null,null,null,null,null,null,null,null,null,null,null,null,null,null,null,null,null,null,null,null,null,null,null,null,null,null,null,null,null,null,null,"Ecotoxicity, freshwater - inorganics"]
[null,null,null,null,null,null,null,null,null,null,null,null,null,null,null,null,null,null,null,null,null,null,null,null,null,null,null,null,null,null,null,null,null,null,null,null,null,null,null,null,null,null,null,null,null,null,null,null,null,null,null,null,null,null,null,null,null,null,null,null,null,null,null,null,null,null,null,null,null,null,null,null,null,null,null,null,null,null,null,null,null,null,null,null,null,null,null,null,null,null,null,null,null,null,null,null,null,null,null,null,null,null,null,null,null,null,null,null,null,null,null,null,null,null,null,null,null,null,null,null,null,null,null,null,null,null,null,null,null,null,null,null,null,null,null,null,null,null,null,null,null,null,null,null,null,null,null,null,null,null,null,null,null,null,null,null,null,null,null,null,null,null,null,null,null,null,null,null,null,null,null,null,null,null,null,null,null,null,null,null,null,null,null,null,null,null,null,null,null,null,null,null,null,null,null,null,null,null,null,null,null,null,null,null,null,null,null,null,null,null,null,null,null,null,null,null,null,null,null,null,null,null,null,null,null,null,null,null,null,null,null,null,null,null,null,null,null,null,null,null,null,null,null,null,null,null,null,null,null,null,null,null,null,null,null,null,null,null,null,null,null,null,null,null,null,null,null,null,null,null,null,null,null,null,null,null,null,null,null,null,null,null,null,null,null,null,null,null,null,null,null,null,null,null,null,null,null,null,null,null,null,null,null,null,null,null,null,null,null,null,null,null,null,null,null,null,null,null,null,null,null,null,null,null,null,null,null,null,null,null,null,null,null,null,null,null,null,null,null,null,null,null,null,"Ecotoxicity, freshwater - metals"]
[null,null,null,null,null,null,null,null,null,null,null,null,null,null,null,null,null,null,null,null,null,null,null,null,null,null,null,null,null,null,null,null,null,null,null,null,null,null,null,null,null,null,null,null,null,null,null,null,null,null,null,null,null,null,null,null,null,null,null,null,null,null,null,null,null,null,null,null,null,null,null,null,null,null,null,null,null,null,null,null,null,null,null,null,null,null,null,null,null,null,null,null,null,null,null,null,null,null,null,null,null,null,null,null,null,null,null,null,null,null,null,null,null,null,null,null,null,null,null,null,null,null,null,null,null,null,null,null,null,null,null,null,null,null,null,null,null,null,null,null,null,null,null,null,null,null,null,null,null,null,null,null,null,null,null,null,null,null,null,null,null,null,null,null,null,null,null,null,null,null,null,null,null,null,null,null,null,null,null,null,null,null,null,null,null,null,null,null,null,null,null,null,null,null,null,null,null,null,null,null,null,null,null,null,null,null,null,null,null,null,null,null,null,null,null,null,null,null,null,null,null,null,null,null,null,null,null,null,null,null,null,null,null,null,null,null,null,null,null,null,null,null,null,null,null,null,null,null,null,null,null,null,null,null,null,null,null,null,null,null,null,null,null,null,null,null,null,null,null,null,null,null,null,null,null,null,null,null,null,null,null,null,null,null,null,null,null,null,null,null,null,null,null,null,null,null,null,null,null,null,null,null,null,null,null,null,null,null,null,null,null,null,null,null,null,null,null,null,null,null,null,null,null,null,null,null,null,null,null,null,null,null,null,null,null,null,null,null,null,null,null,null,null,"økonomi"]
[null,null,null,null,null,null,null,null,null,null,null,null,null,null,null,null,null,null,null,null,null,null,null,null,null,null,null,null,null,null,null,null,null,null,null,null,null,null,null,null,null,null,null,null,null,null,null,null,null,null,null,null,null,null,null,null,null,null,null,null,null,null,null,null,null,null,null,null,null,null,null,null,null,null,null,null,null,null,null,null,null,null,null,null,null,null,null,null,null,null,null,null,null,null,null,null,null,null,null,null,null,null,null,null,null,null,null,null,null,null,null,null,null,null,null,null,null,null,null,null,null,null,null,null,null,null,null,null,null,null,null,null,null,null,null,null,null,null,null,null,null,null,null,null,null,null,null,null,null,null,null,null,null,null,null,null,null,null,null,null,null,null,null,null,null,null,null,null,null,null,null,null,null,null,null,null,null,null,null,null,null,null,null,null,null,null,null,null,null,null,null,null,null,null,null,null,null,null,null,null,null,null,null,null,null,null,null,null,null,null,null,null,null,null,null,null,null,null,null,null,null,null,null,null,null,null,null,null,null,null,null,null,null,null,null,null,null,null,null,null,null,null,null,null,null,null,null,null,null,null,null,null,null,null,null,null,null,null,null,null,null,null,null,null,null,null,null,null,null,null,null,null,null,null,null,null,null,null,null,null,null,null,null,null,null,null,null,null,null,null,null,null,null,null,null,null,null,null,null,null,null,null,null,null,null,null,null,null,null,null,null,null,null,null,null,null,null,null,null,null,null,null,null,null,null,null,null,null,null,null,null,null,null,null,null,null,null,null,null,null,null,null,null,"PFAS"]
[]
[]
[]
[]
[]
[null,null,null,null,null,null,null,null,null,null,null,null,null,null,null,null,null,null,null,null,null,null,null,null,null,null,null,null,null,null,null,null,null,null,null,null,null,null,null,null,null,null,null,null,null,null,null,null,null,null,null,null,null,null,null,null,null,null,null,null,null,null,null,null,null,null,null,null,null,null,null,null,null,null,null,null,null,null,null,null,null,null,null,null,null,null,null,null,null,null,null,null,null,null,null,null,null,null,null,null,null,null,null,null,null,null,null,null,null,null,null,null,null,null,null,null,null,null,null,null,null,null,null,null,null,null,null,null,null,null,null,null,null,null,null,null,null,null,null,null,null,null,null,null,null,null,null,null,null,null,null,null,null,null,null,null,null,null,null,null,null,null,null,null,null,null,null,null,null,null,null,null,null,null,null,null,null,null,null,null,null,null,null,null,null,null,null,null,null,null,null,null,null,null,null,null,null,null,null,null,null,null,null,null,null,null,null,null,null,null,null,null,null,null,null,null,null,null,null,null,null,null,null,null,null,null,null,null,null,null,null,null,null,null,null,null,null,null,null,null,null,null,null,null,null,null,null,null,null,null,null,null,null,null,null,null,null,null,null,null,null,null,null,null,null,null,null,null,null,null,null,null,null,null,null,null,null,null,null,null,null,null,null,null,null,null,null,null,null,null,null,null,null,null,null,null,null,null,null,null,null,null,null,null,null,null,null,null,null,null,null,null,null,null,null,null,null,null,null,null,null,null,null,null,null,null,null,null,null,null,null,null,null,null,null,null,null,null,null,null,null,null,null,null,null,null,null,null,null,"EF LCIA robustness","I","I","II","II","I","II/III","II/III","II","II","II","II","II/III","III","III","III","III"]
[null,null,null,null,null,null,null,null,null,null,null,null,null,null,null,null,null,null,null,null,null,null,null,null,null,null,null,null,null,null,null,null,null,null,null,null,null,null,null,null,null,null,null,null,null,null,null,null,null,null,null,null,null,null,null,null,null,null,null,null,null,null,null,null,null,null,null,null,null,null,null,null,null,null,null,null,null,null,null,null,null,null,null,null,null,null,null,null,null,null,null,null,null,null,null,null,null,null,null,null,null,null,null,null,null,null,null,null,null,null,null,null,null,null,null,null,null,null,null,null,null,null,null,null,null,null,null,null,null,null,null,null,null,null,null,null,null,null,null,null,null,null,null,null,null,null,null,null,null,null,null,null,null,null,null,null,null,null,null,null,null,null,null,null,null,null,null,null,null,null,null,null,null,null,null,null,null,null,null,null,null,null,null,null,null,null,null,null,null,null,null,null,null,null,null,null,null,null,null,null,null,null,null,null,null,null,null,null,null,null,null,null,null,null,null,null,null,null,null,null,null,null,null,null,null,null,null,null,null,null,null,null,null,null,null,null,null,null,null,null,null,null,null,null,null,null,null,null,null,null,null,null,null,null,null,null,null,null,null,null,null,null,null,null,null,null,null,null,null,null,null,null,null,null,null,null,null,null,null,null,null,null,null,null,null,null,null,null,null,null,null,null,null,null,null,null,null,null,null,null,null,null,null,null,null,null,null,null,null,null,null,null,null,null,null,null,null,null,null,null,null,null,null,null,null,null,null,null,null,null,null,null,null,null,null,null,null,null,null,null,null,null,null,null,null,null,null,null,null,null,"Climate change","Ozone depletion","Ionising radiation","Photochemical ozone formation","Particulate matter","Human toxicity, non-cancer","Human toxicity, cancer","Acidification","Eutrophication, freshwater","Eutrophication, marine","Eutrophication, terrestrial","Ecotoxicity, freshwater","Land use","Water use","Resource use, fossils","Resource use, minerals and metals","Climate change - Fossil","Climate change - Biogenic","Climate change - Land use and LU change","Human toxicity, non-cancer - organics","Human toxicity, non-cancer - inorganics","Human toxicity, non-cancer - metals","Human toxicity, cancer - organics","Human toxicity, cancer - inorganics","Human toxicity, cancer - metals","Ecotoxicity, freshwater - organics","Ecotoxicity, freshwater - inorganics","Ecotoxicity, freshwater - metals","PFAS"]
[null,null,null,null,null,null,null,null,null,null,null,null,null,null,null,null,null,null,null,null,null,null,null,null,null,null,null,null,null,null,null,null,null,null,null,null,null,null,null,null,null,null,null,null,null,null,null,null,null,null,null,null,null,null,null,null,null,null,null,null,null,null,null,null,null,null,null,null,null,null,null,null,null,null,null,null,null,null,null,null,null,null,null,null,null,null,null,null,null,null,null,null,null,null,null,null,null,null,null,null,null,null,null,null,null,null,null,null,null,null,null,null,null,null,null,null,null,null,null,null,null,null,null,null,null,null,null,null,null,null,null,null,null,null,null,null,null,null,null,null,null,null,null,null,null,null,null,null,null,null,null,null,null,null,null,null,null,null,null,null,null,null,null,null,null,null,null,null,null,null,null,null,null,null,null,null,null,null,null,null,null,null,null,null,null,null,null,null,null,null,null,null,null,null,null,null,null,null,null,null,null,null,null,null,null,null,null,null,null,null,null,null,null,null,null,null,null,null,null,null,null,null,null,null,null,null,null,null,null,null,null,null,null,null,null,null,null,null,null,null,null,null,null,null,null,null,null,null,null,null,null,null,null,null,null,null,null,null,null,null,null,null,null,null,null,null,null,null,null,null,null,null,null,null,null,null,null,null,null,null,null,null,null,null,null,null,null,null,null,null,null,null,null,null,null,null,null,null,null,null,null,null,null,null,null,null,null,null,null,null,null,null,null,null,null,null,null,null,null,null,null,null,null,null,null,null,null,null,null,null,null,null,null,null,null,null,null,null,null,null,null,null,null,null,null,null,null,null,null,null,"kg CO2 eq","kg CFC11 eq","kBq U-235 eq","kg NMVOC eq","disease inc.","CTUh","CTUh","mol H+ eq","kg P eq","kg N eq","mol N eq","CTUe","Pt","m3 depriv.","MJ","kg Sb eq","kg CO2 eq","kg CO2 eq","kg CO2 eq","CTUh","CTUh","CTUh","CTUh","CTUh","CTUh","CTUe","CTUe","CTUe","kg"]
[null,null,null,null,null,null,null,null,null,null,null,null,null,null,null,null,null,null,null,null,null,null,null,null,null,null,null,null,null,null,null,null,null,null,null,null,null,null,null,null,null,null,null,null,null,null,null,null,null,null,null,null,null,null,null,null,null,null,null,null,null,null,null,null,null,null,null,null,null,null,null,null,null,null,null,null,null,null,null,null,null,null,null,null,null,null,null,null,null,null,null,null,null,null,null,null,null,null,null,null,null,null,null,null,null,null,null,null,null,null,null,null,null,null,null,null,null,null,null,null,null,null,null,null,null,null,null,null,null,null,null,null,null,null,null,null,null,null,null,null,null,null,null,null,null,null,null,null,null,null,null,null,null,null,null,null,null,null,null,null,null,null,null,null,null,null,null,null,null,null,null,null,null,null,null,null,null,null,null,null,null,null,null,null,null,null,null,null,null,null,null,null,null,null,null,null,null,null,null,null,null,null,null,null,null,null,null,null,null,null,null,null,null,null,null,null,null,null,null,null,null,null,null,null,null,null,null,null,null,null,null,null,null,null,null,null,null,null,null,null,null,null,null,null,null,null,null,null,null,null,null,null,null,null,null,null,null,null,null,null,null,null,null,null,null,null,null,null,null,null,null,null,null,null,null,null,null,null,null,null,null,null,null,null,null,null,null,null,null,null,null,null,null,null,null,null,null,null,null,null,null,null,null,null,null,null,null,null,null,null,null,null,null,null,null,null,null,null,null,null,null,null,null,null,null,null,null,null,null,null,null,null,null,null,null,null,null,null,null,null,null,null,null,null,null,null,null,"Population 2010",null,"global NF for EF, 2010",57900000000000,161000000,29100000000000,280000000000,4950000,3270000,266000,383000000000,5060000000,195000000000,1220000000000,81500000000000,9640000000000000,79100000000000,450000000000000,439000000]
[null,null,null,null,null,null,null,null,null,null,null,null,null,null,null,null,null,null,null,null,null,null,null,null,null,null,null,null,null,null,null,null,null,null,null,null,null,null,null,null,null,null,null,null,null,null,null,null,null,null,null,null,null,null,null,null,null,null,null,null,null,null,null,null,null,null,null,null,null,null,null,null,null,null,null,null,null,null,null,null,null,null,null,null,null,null,null,null,null,null,null,null,null,null,null,null,null,null,null,null,null,null,null,null,null,null,null,null,null,null,null,null,null,null,null,null,null,null,null,null,null,null,null,null,null,null,null,null,null,null,null,null,null,null,null,null,null,null,null,null,null,null,null,null,null,null,null,null,null,null,null,null,null,null,null,null,null,null,null,null,null,null,null,null,null,null,null,null,null,null,null,null,null,null,null,null,null,null,null,null,null,null,null,null,null,null,null,null,null,null,null,null,null,null,null,null,null,null,null,null,null,null,null,null,null,null,null,null,null,null,null,null,null,null,null,null,null,null,null,null,null,null,null,null,null,null,null,null,null,null,null,null,null,null,null,null,null,null,null,null,null,null,null,null,null,null,null,null,null,null,null,null,null,null,null,null,null,null,null,null,null,null,null,null,null,null,null,null,null,null,null,null,null,null,null,null,null,null,null,null,null,null,null,null,null,null,null,null,null,null,null,null,null,null,null,null,null,null,null,null,null,null,null,null,null,null,null,null,null,null,null,null,null,null,null,null,null,null,null,null,null,null,null,null,null,null,null,null,null,null,null,null,null,null,null,null,null,null,null,null,null,null,null,null,null,null,null,6895889018,null,"PE2010",{"$f":"MM56/$MJ$57","v":8396.3068211896207},2.3347243492427099E-2,4219.9055008051464,40.603901725960171,7.1781897694108158E-4,4.7419556658532061E-4,3.8573706639662161E-5,55.54033700372409,0.73377050976199454,28.277717273436547,176.9170003773979,11818.635680949121,1397934.3308509146,11470.602237583749,65256.270631007421,6.3661117348916121E-2]
[null,null,null,null,null,null,null,null,null,null,null,null,null,null,null,null,null,null,null,null,null,null,null,null,null,null,null,null,null,null,null,null,null,null,null,null,null,null,null,null,null,null,null,null,null,null,null,null,null,null,null,null,null,null,null,null,null,null,null,null,null,null,null,null,null,null,null,null,null,null,null,null,null,null,null,null,null,null,null,null,null,null,null,null,null,null,null,null,null,null,null,null,null,null,null,null,null,null,null,null,null,null,null,null,null,null,null,null,null,null,null,null,null,null,null,null,null,null,null,null,null,null,null,null,null,null,null,null,null,null,null,null,null,null,null,null,null,null,null,null,null,null,null,null,null,null,null,null,null,null,null,null,null,null,null,null,null,null,null,null,null,null,null,null,null,null,null,null,null,null,null,null,null,null,null,null,null,null,null,null,null,null,null,null,null,null,null,null,null,null,null,null,null,null,null,null,null,null,null,null,null,null,null,null,null,null,null,null,null,null,null,null,null,null,null,null,null,null,null,null,null,null,null,null,null,null,null,null,null,null,null,null,null,null,null,null,null,null,null,null,null,null,null,null,null,null,null,null,null,null,null,null,null,null,null,null,null,null,null,null,null,null,null,null,null,null,null,null,null,null,null,null,null,null,null,null,null,null,null,null,null,null,null,null,null,null,null,null,null,null,null,null,null,null,null,null,null,null,null,null,null,null,null,null,null,null,null,null,null,null,null,null,null,null,null,null,null,null,null,null,null,null,null,null,null,null,null,null,null,null,null,null,null,null,null,null,null,null,null,null,null,null,null,null,null,null,null,null,null,"SimaPro NFs [Pt]",1.2349999999999999E-4,18.64,2.3699999999999999E-4,2.4629999999999999E-2,1680,4354,59173,1.7999999999999999E-2,0.62229999999999996,5.1159999999999997E-2,5.6579999999999998E-3,2.3430000000000001E-5,1.22E-6,8.7189999999999997E-5,1.5379999999999998E-5,15.71]
[null,null,null,null,null,null,null,null,null,null,null,null,null,null,null,null,null,null,null,null,null,null,null,null,null,null,null,null,null,null,null,null,null,null,null,null,null,null,null,null,null,null,null,null,null,null,null,null,null,null,null,null,null,null,null,null,null,null,null,null,null,null,null,null,null,null,null,null,null,null,null,null,null,null,null,null,null,null,null,null,null,null,null,null,null,null,null,null,null,null,null,null,null,null,null,null,null,null,null,null,null,null,null,null,null,null,null,null,null,null,null,null,null,null,null,null,null,null,null,null,null,null,null,null,null,null,null,null,null,null,null,null,null,null,null,null,null,null,null,null,null,null,null,null,null,null,null,null,null,null,null,null,null,null,null,null,null,null,null,null,null,null,null,null,null,null,null,null,null,null,null,null,null,null,null,null,null,null,null,null,null,null,null,null,null,null,null,null,null,null,null,null,null,null,null,null,null,null,null,null,null,null,null,null,null,null,null,null,null,null,null,null,null,null,null,null,null,null,null,null,null,null,null,null,null,null,null,null,null,null,null,null,null,null,null,null,null,null,null,null,null,null,null,null,null,null,null,null,null,null,null,null,null,null,null,null,null,null,null,null,null,null,null,null,null,null,null,null,null,null,null,null,null,null,null,null,null,null,null,null,null,null,null,null,null,null,null,null,null,null,null,null,null,null,null,null,null,null,null,null,null,null,null,null,null,null,null,null,null,null,null,null,null,null,null,null,null,null,null,null,null,null,null,null,null,null,null,null,null,null,null,null,null,null,null,null,null,null,null,null,null,null,null,null,null,null,null,null,null,"inventory robustness","I","II","II","I/II","I/II","III","III","I/II","III","II/III","I/II","III","II","II","II","II"]
[null,null,{"$f":"\"Bidragsanalyse for \" & Name_product1 & \" ift. livscyklusstadier\"","v":"Bidragsanalyse for  ift. livscyklusstadier"},4,5,6,7,8,3,null,{"$f":"\"Bidragsanalyse for \" & Name_product2 & \" ift. livscyklusstadier\"","v":"Bidragsanalyse for  ift. livscyklusstadier"},4,5,6,7,8,3]
[null,null,null,"Materialer og produktion","Transport og emballage","Brug og vask","Efterliv","Total","Enhed",null,null,"Materialer og produktion","Transport og emballage","Brug og vask","Efterliv","Total","Enhed",null,null,null,null,null,null,null,null,null,null,null,null,null,null,null,null,null,null,null,null,null,null,null,null,null,null,null,null,null,null,null,null,null,null,null,null,null,null,null,null,null,null,null,null,null,null,null,null,null,null,null,null,null,null,null,null,null,null,null,null,null,null,null,null,null,null,null,null,null,null,null,null,null,null,null,null,null,null,null,null,null,null,null,null,null,null,null,null,null,null,null,null,null,null,null,null,null,null,null,null,null,null,null,null,null,null,null,null,null,null,null,null,null,null,null,null,null,null,null,null,null,null,null,null,null,null,null,null,null,null,null,null,null,null,null,null,null,null,null,null,null,null,null,null,null,null,null,null,null,null,null,null,null,null,null,null,null,null,null,null,null,null,null,null,null,null,null,null,null,null,null,null,null,null,null,null,null,null,null,null,null,null,null,null,null,null,null,null,null,null,null,null,null,null,null,null,null,null,null,null,null,null,null,null,null,null,null,null,null,null,null,null,null,null,null,null,null,null,null,null,null,null,null,null,null,null,null,null,null,null,null,null,null,null,null,null,null,null,null,null,null,null,null,null,null,null,null,null,null,null,null,null,null,null,null,null,null,null,null,null,null,null,null,null,null,null,null,null,null,null,null,null,null,null,null,null,null,null,null,null,null,null,null,null,null,null,null,null,null,null,null,null,null,null,null,null,null,null,null,null,null,null,null,null,null,null,null,null,null,null,null,null,null,null,null,null,null,null,null,null,null,null,null,null,null,null,null,null,null,null,null,null,null,"product1/PE2010",null,null,null,null,null,null,null,null,null,null,null,null,null,null,null,null,null,null,null,null,null,null,null,null,null,null,null,null,null,null,null,"product2/PE2010"]
[null,null,{"$f":"IF(ISBLANK(M29),\"\",M29)","v":"Klimaforandringer"},{"$f":"IF($C62=\"\",\"\",HLOOKUP($C62,ResultsProduct1,D$60,FALSE))","v":{"$error":"#N/A"}},{"$error":"#N/A"},{"$error":"#N/A"},0,{"$error":"#N/A"},"kg CO2 eq",null,{"$f":"IF(ISBLANK(M29),\"\",M29)","v":"Klimaforandringer"},{"$f":"IF($K62=\"\",\"\",HLOOKUP($K62,ResultsProduct2,L$60,FALSE))","v":{"$error":"#N/A"}},{"$error":"#N/A"},{"$error":"#N/A"},0,{"$error":"#N/A"},"kg CO2 eq",null,null,null,null,null,null,null,null,null,null,null,null,null,null,null,null,null,null,null,null,null,null,null,null,null,null,null,null,null,null,null,null,null,null,null,null,null,null,null,null,null,null,null,null,null,null,null,null,null,null,null,null,null,null,null,null,null,null,null,null,null,null,null,null,null,null,null,null,null,null,null,null,null,null,null,null,null,null,null,null,null,null,null,null,null,null,null,null,null,null,null,null,null,null,null,null,null,null,null,null,null,null,null,null,null,null,null,null,null,null,null,null,null,null,null,null,null,null,null,null,null,null,null,null,null,null,null,null,null,null,null,null,null,null,null,null,null,null,null,null,null,null,null,null,null,null,null,null,null,null,null,null,null,null,null,null,null,null,null,null,null,null,null,null,null,null,null,null,null,null,null,null,null,null,null,null,null,null,null,null,null,null,null,null,null,null,null,null,null,null,null,null,null,null,null,null,null,null,null,null,null,null,null,null,null,null,null,null,null,null,null,null,null,null,null,null,null,null,null,null,null,null,null,null,null,null,null,null,null,null,null,null,null,null,null,null,null,null,null,null,null,null,null,null,null,null,null,null,null,null,null,null,null,null,null,null,null,null,null,null,null,null,null,null,null,null,null,null,null,null,null,null,null,null,null,null,null,null,null,null,null,null,null,null,null,null,null,null,null,null,null,null,null,null,null,null,null,null,null,null,null,null,null,null,null,null,null,null,null,null,null,null,null,null,null,null,null,null,null,null,null,null,null,null,null,null,null,null,null,null,null,null,"inventory robustness","I","II","II","I/II","I/II","III","III","I/II","III","II/III","I/II","III","II","II","II","II",null,null,null,null,null,null,null,null,null,null,null,null,null,null,null,"inventory robustness","I","II","II","I/II","I/II","III","III","I/II","III","II/III","I/II","III","II","II","II","II"]
[null,null,"Partikelforurening",{"$error":"#N/A"},{"$error":"#N/A"},{"$error":"#N/A"},0,{"$error":"#N/A"},"disease inc.",null,"Partikelforurening",{"$error":"#N/A"},{"$error":"#N/A"},{"$error":"#N/A"},0,{"$error":"#N/A"},"disease inc.",null,null,null,null,null,null,null,null,null,null,null,null,null,null,null,null,null,null,null,null,null,null,null,null,null,null,null,null,null,null,null,null,null,null,null,null,null,null,null,null,null,null,null,null,null,null,null,null,null,null,null,null,null,null,null,null,null,null,null,null,null,null,null,null,null,null,null,null,null,null,null,null,null,null,null,null,null,null,null,null,null,null,null,null,null,null,null,null,null,null,null,null,null,null,null,null,null,null,null,null,null,null,null,null,null,null,null,null,null,null,null,null,null,null,null,null,null,null,null,null,null,null,null,null,null,null,null,null,null,null,null,null,null,null,null,null,null,null,null,null,null,null,null,null,null,null,null,null,null,null,null,null,null,null,null,null,null,null,null,null,null,null,null,null,null,null,null,null,null,null,null,null,null,null,null,null,null,null,null,null,null,null,null,null,null,null,null,null,null,null,null,null,null,null,null,null,null,null,null,null,null,null,null,null,null,null,null,null,null,null,null,null,null,null,null,null,null,null,null,null,null,null,null,null,null,null,null,null,null,null,null,null,null,null,null,null,null,null,null,null,null,null,null,null,null,null,null,null,null,null,null,null,null,null,null,null,null,null,null,null,null,null,null,null,null,null,null,null,null,null,null,null,null,null,null,null,null,null,null,null,null,null,null,null,null,null,null,null,null,null,null,null,null,null,null,null,null,null,null,null,null,null,null,null,null,null,null,null,null,null,null,null,null,null,null,null,null,null,null,null,null,null,null,null,null,null,null,null,null,null,1,null,"Økonomi","Klimaforandringer",null,null,null,"Partikelforurening",null,null,null,"Eutrofiering",null,null,"Økotoksicitet","Brug af landarealer","Forbrug af vand",null,null,null,null,null,null,null,null,null,null,null,null,null,null,null,null,null,"Økonomi","Klimaforandringer",null,null,null,"Partikelforurening",null,null,null,"Eutrofiering",null,null,"Økotoksicitet","Brug af landarealer","Forbrug af vand"]
[null,null,"Eutrofiering",{"$error":"#N/A"},{"$error":"#N/A"},{"$error":"#N/A"},0,{"$error":"#N/A"},"kg P eq",null,"Eutrofiering",{"$error":"#N/A"},{"$error":"#N/A"},{"$error":"#N/A"},0,{"$error":"#N/A"},"kg P eq",null,null,null,null,null,null,null,null,null,null,null,null,null,null,null,null,null,null,null,null,null,null,null,null,null,null,null,null,null,null,null,null,null,null,null,null,null,null,null,null,null,null,null,null,null,null,null,null,null,null,null,null,null,null,null,null,null,null,null,null,null,null,null,null,null,null,null,null,null,null,null,null,null,null,null,null,null,null,null,null,null,null,null,null,null,null,null,null,null,null,null,null,null,null,null,null,null,null,null,null,null,null,null,null,null,null,null,null,null,null,null,null,null,null,null,null,null,null,null,null,null,null,null,null,null,null,null,null,null,null,null,null,null,null,null,null,null,null,null,null,null,null,null,null,null,null,null,null,null,null,null,null,null,null,null,null,null,null,null,null,null,null,null,null,null,null,null,null,null,null,null,null,null,null,null,null,null,null,null,null,null,null,null,null,null,null,null,null,null,null,null,null,null,null,null,null,null,null,null,null,null,null,null,null,null,null,null,null,null,null,null,null,null,null,null,null,null,null,null,null,null,null,null,null,null,null,null,null,null,null,null,null,null,null,null,null,null,null,null,null,null,null,null,null,null,null,null,null,null,null,null,null,null,null,null,null,null,null,null,null,null,null,null,null,null,null,null,null,null,null,null,null,null,null,null,null,null,null,null,null,null,null,null,null,null,null,null,null,null,null,null,null,null,null,null,null,null,null,null,null,null,null,null,null,null,null,null,null,null,null,null,null,null,null,null,null,null,null,null,null,null,null,null,null,null,null,null,null,null,null,2,null,"økonomi","Climate change","Ozone depletion","Ionising radiation","Photochemical ozone formation","Particulate matter","Human toxicity, non-cancer","Human toxicity, cancer","Acidification","Eutrophication, freshwater","Eutrophication, marine","Eutrophication, terrestrial","Ecotoxicity, freshwater","Land use","Water use","Resource use, fossils","Resource use, minerals and metals","Climate change - Fossil","Climate change - Biogenic","Climate change - Land use and LU change","Human toxicity, non-cancer - organics","Human toxicity, non-cancer - inorganics","Human toxicity, non-cancer - metals","Human toxicity, cancer - organics","Human toxicity, cancer - inorganics","Human toxicity, cancer - metals","Ecotoxicity, freshwater - organics","Ecotoxicity, freshwater - inorganics","Ecotoxicity, freshwater - metals","PFAS",null,null,"økonomi","Climate change","Ozone depletion","Ionising radiation","Photochemical ozone formation","Particulate matter","Human toxicity, non-cancer","Human toxicity, cancer","Acidification","Eutrophication, freshwater","Eutrophication, marine","Eutrophication, terrestrial","Ecotoxicity, freshwater","Land use","Water use","Resource use, fossils","Resource use, minerals and metals","Climate change - Fossil","Climate change - Biogenic","Climate change - Land use and LU change","Human toxicity, non-cancer - organics","Human toxicity, non-cancer - inorganics","Human toxicity, non-cancer - metals","Human toxicity, cancer - organics","Human toxicity, cancer - inorganics","Human toxicity, cancer - metals","Ecotoxicity, freshwater - organics","Ecotoxicity, freshwater - inorganics","Ecotoxicity, freshwater - metals","PFAS"]
[null,null,"Økotoksicitet",{"$error":"#N/A"},{"$error":"#N/A"},{"$error":"#N/A"},0,{"$error":"#N/A"},"CTUe",null,"Økotoksicitet",{"$error":"#N/A"},{"$error":"#N/A"},{"$error":"#N/A"},0,{"$error":"#N/A"},"CTUe",null,null,null,null,null,null,null,null,null,null,null,null,null,null,null,null,null,null,null,null,null,null,null,null,null,null,null,null,null,null,null,null,null,null,null,null,null,null,null,null,null,null,null,null,null,null,null,null,null,null,null,null,null,null,null,null,null,null,null,null,null,null,null,null,null,null,null,null,null,null,null,null,null,null,null,null,null,null,null,null,null,null,null,null,null,null,null,null,null,null,null,null,null,null,null,null,null,null,null,null,null,null,null,null,null,null,null,null,null,null,null,null,null,null,null,null,null,null,null,null,null,null,null,null,null,null,null,null,null,null,null,null,null,null,null,null,null,null,null,null,null,null,null,null,null,null,null,null,null,null,null,null,null,null,null,null,null,null,null,null,null,null,null,null,null,null,null,null,null,null,null,null,null,null,null,null,null,null,null,null,null,null,null,null,null,null,null,null,null,null,null,null,null,null,null,null,null,null,null,null,null,null,null,null,null,null,null,null,null,null,null,null,null,null,null,null,null,null,null,null,null,null,null,null,null,null,null,null,null,null,null,null,null,null,null,null,null,null,null,null,null,null,null,null,null,null,null,null,null,null,null,null,null,null,null,null,null,null,null,null,null,null,null,null,null,null,null,null,null,null,null,null,null,null,null,null,null,null,null,null,null,null,null,null,null,null,null,null,null,null,null,null,null,null,null,null,null,null,null,null,null,null,null,null,null,null,null,null,null,null,null,null,null,null,null,null,null,null,null,null,null,null,null,null,null,null,null,null,null,null,3,null,"DKK","kg CO2 eq","kg CFC11 eq","kBq U-235 eq","kg NMVOC eq","disease inc.","CTUh","CTUh","mol H+ eq","kg P eq","kg N eq","mol N eq","CTUe","Pt","m3 depriv.","MJ","kg Sb eq","kg CO2 eq","kg CO2 eq","kg CO2 eq","CTUh","CTUh","CTUh","CTUh","CTUh","CTUh","CTUe","CTUe","CTUe","kg",null,null,"DKK","kg CO2 eq","kg CFC11 eq","kBq U-235 eq","kg NMVOC eq","disease inc.","CTUh","CTUh","mol H+ eq","kg P eq","kg N eq","mol N eq","CTUe","Pt","m3 depriv.","MJ","kg Sb eq","kg CO2 eq","kg CO2 eq","kg CO2 eq","CTUh","CTUh","CTUh","CTUh","CTUh","CTUh","CTUe","CTUe","CTUe","kg"]
[null,null,"Brug af landarealer",{"$error":"#N/A"},{"$error":"#N/A"},{"$error":"#N/A"},0,{"$error":"#N/A"},"Pt",null,"Brug af landarealer",{"$error":"#N/A"},{"$error":"#N/A"},{"$error":"#N/A"},0,{"$error":"#N/A"},"Pt",null,null,null,null,null,null,null,null,null,null,null,null,null,null,null,null,null,null,null,null,null,null,null,null,null,null,null,null,null,null,null,null,null,null,null,null,null,null,null,null,null,null,null,null,null,null,null,null,null,null,null,null,null,null,null,null,null,null,null,null,null,null,null,null,null,null,null,null,null,null,null,null,null,null,null,null,null,null,null,null,null,null,null,null,null,null,null,null,null,null,null,null,null,null,null,null,null,null,null,null,null,null,null,null,null,null,null,null,null,null,null,null,null,null,null,null,null,null,null,null,null,null,null,null,null,null,null,null,null,null,null,null,null,null,null,null,null,null,null,null,null,null,null,null,null,null,null,null,null,null,null,null,null,null,null,null,null,null,null,null,null,null,null,null,null,null,null,null,null,null,null,null,null,null,null,null,null,null,null,null,null,null,null,null,null,null,null,null,null,null,null,null,null,null,null,null,null,null,null,null,null,null,null,null,null,null,null,null,null,null,null,null,null,null,null,null,null,null,null,null,null,null,null,null,null,null,null,null,null,null,null,null,null,null,null,null,null,null,null,null,null,null,null,null,null,null,null,null,null,null,null,null,null,null,null,null,null,null,null,null,null,null,null,null,null,null,null,null,null,null,null,null,null,null,null,null,null,null,null,null,null,null,null,null,null,null,null,null,null,null,null,null,null,null,null,null,null,null,null,null,null,null,null,null,null,null,null,null,null,null,null,null,null,null,null,null,null,null,null,null,null,null,null,null,null,null,null,null,null,null,4,"Materiale og produktion",null,{"$f":"MM8/MM$57","v":{"$error":"#N/A"}},{"$error":"#N/A"},{"$error":"#N/A"},{"$error":"#N/A"},{"$error":"#N/A"},{"$error":"#N/A"},{"$error":"#N/A"},{"$error":"#N/A"},{"$error":"#N/A"},{"$error":"#N/A"},{"$error":"#N/A"},{"$error":"#N/A"},{"$error":"#N/A"},{"$error":"#N/A"},{"$error":"#N/A"},{"$error":"#N/A"},null,null,null,null,null,null,null,null,null,null,null,null,null,null,"Materiale og produktion",null,{"$f":"NS8/MM$57","v":{"$error":"#N/A"}},{"$error":"#N/A"},{"$error":"#N/A"},{"$error":"#N/A"},{"$error":"#N/A"},{"$error":"#N/A"},{"$error":"#N/A"},{"$error":"#N/A"},{"$error":"#N/A"},{"$error":"#N/A"},{"$error":"#N/A"},{"$error":"#N/A"},{"$error":"#N/A"},{"$error":"#N/A"},{"$error":"#N/A"},{"$error":"#N/A"}]
[null,null,"Forbrug af vand",{"$error":"#N/A"},{"$error":"#N/A"},{"$error":"#N/A"},0,{"$error":"#N/A"},"m3 depriv.",null,"Forbrug af vand",{"$error":"#N/A"},{"$error":"#N/A"},{"$error":"#N/A"},0,{"$error":"#N/A"},"m3 depriv.",null,null,null,null,null,null,null,null,null,null,null,null,null,null,null,null,null,null,null,null,null,null,null,null,null,null,null,null,null,null,null,null,null,null,null,null,null,null,null,null,null,null,null,null,null,null,null,null,null,null,null,null,null,null,null,null,null,null,null,null,null,null,null,null,null,null,null,null,null,null,null,null,null,null,null,null,null,null,null,null,null,null,null,null,null,null,null,null,null,null,null,null,null,null,null,null,null,null,null,null,null,null,null,null,null,null,null,null,null,null,null,null,null,null,null,null,null,null,null,null,null,null,null,null,null,null,null,null,null,null,null,null,null,null,null,null,null,null,null,null,null,null,null,null,null,null,null,null,null,null,null,null,null,null,null,null,null,null,null,null,null,null,null,null,null,null,null,null,null,null,null,null,null,null,null,null,null,null,null,null,null,null,null,null,null,null,null,null,null,null,null,null,null,null,null,null,null,null,null,null,null,null,null,null,null,null,null,null,null,null,null,null,null,null,null,null,null,null,null,null,null,null,null,null,null,null,null,null,null,null,null,null,null,null,null,null,null,null,null,null,null,null,null,null,null,null,null,null,null,null,null,null,null,null,null,null,null,null,null,null,null,null,null,null,null,null,null,null,null,null,null,null,null,null,null,null,null,null,null,null,null,null,null,null,null,null,null,null,null,null,null,null,null,null,null,null,null,null,null,null,null,null,null,null,null,null,null,null,null,null,null,null,null,null,null,null,null,null,null,null,null,null,null,null,null,null,null,null,null,null,5,"Transport og emballage",null,{"$f":"MM9/MM$57","v":{"$error":"#N/A"}},{"$error":"#N/A"},{"$error":"#N/A"},{"$error":"#N/A"},{"$error":"#N/A"},{"$error":"#N/A"},{"$error":"#N/A"},{"$error":"#N/A"},{"$error":"#N/A"},{"$error":"#N/A"},{"$error":"#N/A"},{"$error":"#N/A"},{"$error":"#N/A"},{"$error":"#N/A"},{"$error":"#N/A"},{"$error":"#N/A"},null,null,null,null,null,null,null,null,null,null,null,null,null,null,"Transport og emballage",null,{"$error":"#N/A"},{"$error":"#N/A"},{"$error":"#N/A"},{"$error":"#N/A"},{"$error":"#N/A"},{"$error":"#N/A"},{"$error":"#N/A"},{"$error":"#N/A"},{"$error":"#N/A"},{"$error":"#N/A"},{"$error":"#N/A"},{"$error":"#N/A"},{"$error":"#N/A"},{"$error":"#N/A"},{"$error":"#N/A"},{"$error":"#N/A"}]
[null,null,"Økonomi",0,{"$error":"#N/A"},{"$error":"#N/A"},{"$error":"#N/A"},{"$error":"#N/A"},"DKK",null,"Økonomi",0,{"$error":"#N/A"},{"$error":"#N/A"},{"$error":"#N/A"},{"$error":"#N/A"},"DKK",null,null,null,null,null,null,null,null,null,null,null,null,null,null,null,null,null,null,null,null,null,null,null,null,null,null,null,null,null,null,null,null,null,null,null,null,null,null,null,null,null,null,null,null,null,null,null,null,null,null,null,null,null,null,null,null,null,null,null,null,null,null,null,null,null,null,null,null,null,null,null,null,null,null,null,null,null,null,null,null,null,null,null,null,null,null,null,null,null,null,null,null,null,null,null,null,null,null,null,null,null,null,null,null,null,null,null,null,null,null,null,null,null,null,null,null,null,null,null,null,null,null,null,null,null,null,null,null,null,null,null,null,null,null,null,null,null,null,null,null,null,null,null,null,null,null,null,null,null,null,null,null,null,null,null,null,null,null,null,null,null,null,null,null,null,null,null,null,null,null,null,null,null,null,null,null,null,null,null,null,null,null,null,null,null,null,null,null,null,null,null,null,null,null,null,null,null,null,null,null,null,null,null,null,null,null,null,null,null,null,null,null,null,null,null,null,null,null,null,null,null,null,null,null,null,null,null,null,null,null,null,null,null,null,null,null,null,null,null,null,null,null,null,null,null,null,null,null,null,null,null,null,null,null,null,null,null,null,null,null,null,null,null,null,null,null,null,null,null,null,null,null,null,null,null,null,null,null,null,null,null,null,null,null,null,null,null,null,null,null,null,null,null,null,null,null,null,null,null,null,null,null,null,null,null,null,null,null,null,null,null,null,null,null,null,null,null,null,null,null,null,null,null,null,null,null,null,null,null,null,6,"Brug og vask",null,{"$f":"MM10/MM$57","v":{"$error":"#N/A"}},{"$error":"#N/A"},{"$error":"#N/A"},{"$error":"#N/A"},{"$error":"#N/A"},{"$error":"#N/A"},{"$error":"#N/A"},{"$error":"#N/A"},{"$error":"#N/A"},{"$error":"#N/A"},{"$error":"#N/A"},{"$error":"#N/A"},{"$error":"#N/A"},{"$error":"#N/A"},{"$error":"#N/A"},{"$error":"#N/A"},null,null,null,null,null,null,null,null,null,null,null,null,null,null,"Brug og vask",null,{"$error":"#N/A"},{"$error":"#N/A"},{"$error":"#N/A"},{"$error":"#N/A"},{"$error":"#N/A"},{"$error":"#N/A"},{"$error":"#N/A"},{"$error":"#N/A"},{"$error":"#N/A"},{"$error":"#N/A"},{"$error":"#N/A"},{"$error":"#N/A"},{"$error":"#N/A"},{"$error":"#N/A"},{"$error":"#N/A"},{"$error":"#N/A"}]
[null,null,null,null,null,null,null,null,null,null,null,null,null,null,null,null,null,null,null,null,null,null,null,null,null,null,null,null,null,null,null,null,null,null,null,null,null,null,null,null,null,null,null,null,null,null,null,null,null,null,null,null,null,null,null,null,null,null,null,null,null,null,null,null,null,null,null,null,null,null,null,null,null,null,null,null,null,null,null,null,null,null,null,null,null,null,null,null,null,null,null,null,null,null,null,null,null,null,null,null,null,null,null,null,null,null,null,null,null,null,null,null,null,null,null,null,null,null,null,null,null,null,null,null,null,null,null,null,null,null,null,null,null,null,null,null,null,null,null,null,null,null,null,null,null,null,null,null,null,null,null,null,null,null,null,null,null,null,null,null,null,null,null,null,null,null,null,null,null,null,null,null,null,null,null,null,null,null,null,null,null,null,null,null,null,null,null,null,null,null,null,null,null,null,null,null,null,null,null,null,null,null,null,null,null,null,null,null,null,null,null,null,null,null,null,null,null,null,null,null,null,null,null,null,null,null,null,null,null,null,null,null,null,null,null,null,null,null,null,null,null,null,null,null,null,null,null,null,null,null,null,null,null,null,null,null,null,null,null,null,null,null,null,null,null,null,null,null,null,null,null,null,null,null,null,null,null,null,null,null,null,null,null,null,null,null,null,null,null,null,null,null,null,null,null,null,null,null,null,null,null,null,null,null,null,null,null,null,null,null,null,null,null,null,null,null,null,null,null,null,null,null,null,null,null,null,null,null,null,null,null,null,null,null,null,null,null,null,null,null,null,null,null,null,null,null,null,7,"Efterliv",null,{"$f":"MM11/MM$57","v":0},0,0,0,0,0,0,0,0,0,0,0,0,0,0,0,null,null,null,null,null,null,null,null,null,null,null,null,null,null,"Efterliv",null,0,0,0,0,0,0,0,0,0,0,0,0,0,0,0,0]
[null,null,null,null,null,null,null,null,null,null,null,null,null,null,null,null,null,null,null,null,null,null,null,null,null,null,null,null,null,null,null,null,null,null,null,null,null,null,null,null,null,null,null,null,null,null,null,null,null,null,null,null,null,null,null,null,null,null,null,null,null,null,null,null,null,null,null,null,null,null,null,null,null,null,null,null,null,null,null,null,null,null,null,null,null,null,null,null,null,null,null,null,null,null,null,null,null,null,null,null,null,null,null,null,null,null,null,null,null,null,null,null,null,null,null,null,null,null,null,null,null,null,null,null,null,null,null,null,null,null,null,null,null,null,null,null,null,null,null,null,null,null,null,null,null,null,null,null,null,null,null,null,null,null,null,null,null,null,null,null,null,null,null,null,null,null,null,null,null,null,null,null,null,null,null,null,null,null,null,null,null,null,null,null,null,null,null,null,null,null,null,null,null,null,null,null,null,null,null,null,null,null,null,null,null,null,null,null,null,null,null,null,null,null,null,null,null,null,null,null,null,null,null,null,null,null,null,null,null,null,null,null,null,null,null,null,null,null,null,null,null,null,null,null,null,null,null,null,null,null,null,null,null,null,null,null,null,null,null,null,null,null,null,null,null,null,null,null,null,null,null,null,null,null,null,null,null,null,null,null,null,null,null,null,null,null,null,null,null,null,null,null,null,null,null,null,null,null,null,null,null,null,null,null,null,null,null,null,null,null,null,null,null,null,null,null,null,null,null,null,null,null,null,null,null,null,null,null,null,null,null,null,null,null,null,null,null,null,null,null,null,null,null,null,null,null,null,8,"Total product1",null,{"$f":"MM12/MM$57","v":{"$error":"#N/A"}},{"$error":"#N/A"},{"$error":"#N/A"},{"$error":"#N/A"},{"$error":"#N/A"},{"$error":"#N/A"},{"$error":"#N/A"},{"$error":"#N/A"},{"$error":"#N/A"},{"$error":"#N/A"},{"$error":"#N/A"},{"$error":"#N/A"},{"$error":"#N/A"},{"$error":"#N/A"},{"$error":"#N/A"},{"$error":"#N/A"},null,null,null,null,null,null,null,null,null,null,null,null,null,null,"Total product2",null,{"$error":"#N/A"},{"$error":"#N/A"},{"$error":"#N/A"},{"$error":"#N/A"},{"$error":"#N/A"},{"$error":"#N/A"},{"$error":"#N/A"},{"$error":"#N/A"},{"$error":"#N/A"},{"$error":"#N/A"},{"$error":"#N/A"},{"$error":"#N/A"},{"$error":"#N/A"},{"$error":"#N/A"},{"$error":"#N/A"},{"$error":"#N/A"}]
[]
[]
[]
[]
[]
[null,null,null,null,null,null,null,null,null,null,null,null,null,null,null,null,null,null,null,null,null,null,null,null,null,null,null,null,null,null,null,null,null,null,null,null,null,null,null,null,null,null,null,null,null,null,null,null,null,null,null,null,null,null,null,null,null,null,null,null,null,null,null,null,null,null,null,null,null,null,null,null,null,null,null,null,null,null,null,null,null,null,null,null,null,null,null,null,null,null,null,null,null,null,null,null,null,null,null,null,null,null,null,null,null,null,null,null,null,null,null,null,null,null,null,null,null,null,null,null,null,null,null,null,null,null,null,null,null,null,null,null,null,null,null,null,null,null,null,null,null,null,null,null,null,null,null,null,null,null,null,null,null,null,null,null,null,null,null,null,null,null,null,null,null,null,null,null,null,null,null,null,null,null,null,null,null,null,null,null,null,null,null,null,null,null,null,null,null,null,null,null,null,null,null,null,null,null,null,null,null,null,null,null,null,null,null,null,null,null,null,null,null,null,null,null,null,null,null,null,null,null,null,null,null,null,null,null,null,null,null,null,null,null,null,null,null,null,null,null,null,null,null,null,null,null,null,null,null,null,null,null,null,null,null,null,null,null,null,null,null,null,null,null,null,null,null,null,null,null,null,null,null,null,null,null,null,null,null,null,null,null,null,null,null,null,null,null,null,null,null,null,null,null,null,null,null,null,null,null,null,null,null,null,null,null,null,null,null,null,null,null,null,null,null,null,null,null,null,null,null,null,null,null,null,null,null,null,null,null,null,null,null,null,null,null,null,null,null,null,null,null,null,null,null,null,null,"Internt normaliserede resultater, bruges til graferne"]
[null,null,null,null,null,null,null,null,null,null,null,null,null,null,null,null,null,null,null,null,null,null,null,null,null,null,null,null,null,null,null,null,null,null,null,null,null,null,null,null,null,null,null,null,null,null,null,null,null,null,null,null,null,null,null,null,null,null,null,null,null,null,null,null,null,null,null,null,null,null,null,null,null,null,null,null,null,null,null,null,null,null,null,null,null,null,null,null,null,null,null,null,null,null,null,null,null,null,null,null,null,null,null,null,null,null,null,null,null,null,null,null,null,null,null,null,null,null,null,null,null,null,null,null,null,null,null,null,null,null,null,null,null,null,null,null,null,null,null,null,null,null,null,null,null,null,null,null,null,null,null,null,null,null,null,null,null,null,null,null,null,null,null,null,null,null,null,null,null,null,null,null,null,null,null,null,null,null,null,null,null,null,null,null,null,null,null,null,null,null,null,null,null,null,null,null,null,null,null,null,null,null,null,null,null,null,null,null,null,null,null,null,null,null,null,null,null,null,null,null,null,null,null,null,null,null,null,null,null,null,null,null,null,null,null,null,null,null,null,null,null,null,null,null,null,null,null,null,null,null,null,null,null,null,null,null,null,null,null,null,null,null,null,null,null,null,null,null,null,null,null,null,null,null,null,null,null,null,null,null,null,null,null,null,null,null,null,null,null,null,null,null,null,null,null,null,null,null,null,null,null,null,null,null,null,null,null,null,null,null,null,null,null,null,null,null,null,null,null,null,null,null,null,null,null,null,null,null,null,null,null,null,null,null,null,null,null,null,null,null,null,null,null,null,null,null,null,{"$f":"Name_product2 & \" / \" &Name_product1","v":" / "},9,8,10,10,{"$f":"\"Bidrag for hver livscyklus for \" & Name_product1","v":"Bidrag for hver livscyklus for "},4,5,6,7,8,null,null,{"$f":"\"Bidrag for hver livscyklus for \" & Name_product2","v":"Bidrag for hver livscyklus for "},4,5,6,7,8]
[null,null,null,null,null,null,null,null,null,null,null,null,null,null,null,null,null,null,null,null,null,null,null,null,null,null,null,null,null,null,null,null,null,null,null,null,null,null,null,null,null,null,null,null,null,null,null,null,null,null,null,null,null,null,null,null,null,null,null,null,null,null,null,null,null,null,null,null,null,null,null,null,null,null,null,null,null,null,null,null,null,null,null,null,null,null,null,null,null,null,null,null,null,null,null,null,null,null,null,null,null,null,null,null,null,null,null,null,null,null,null,null,null,null,null,null,null,null,null,null,null,null,null,null,null,null,null,null,null,null,null,null,null,null,null,null,null,null,null,null,null,null,null,null,null,null,null,null,null,null,null,null,null,null,null,null,null,null,null,null,null,null,null,null,null,null,null,null,null,null,null,null,null,null,null,null,null,null,null,null,null,null,null,null,null,null,null,null,null,null,null,null,null,null,null,null,null,null,null,null,null,null,null,null,null,null,null,null,null,null,null,null,null,null,null,null,null,null,null,null,null,null,null,null,null,null,null,null,null,null,null,null,null,null,null,null,null,null,null,null,null,null,null,null,null,null,null,null,null,null,null,null,null,null,null,null,null,null,null,null,null,null,null,null,null,null,null,null,null,null,null,null,null,null,null,null,null,null,null,null,null,null,null,null,null,null,null,null,null,null,null,null,null,null,null,null,null,null,null,null,null,null,null,null,null,null,null,null,null,null,null,null,null,null,null,null,null,null,null,null,null,null,null,null,null,null,null,null,null,null,null,null,null,null,null,null,null,null,null,null,null,null,null,null,null,null,null,null,{"$f":"Name_product1","v":0},{"$f":"Name_product2","v":0},"usikkerhed prod1","usik prod2",null,"Materialer og produktion","Transport og emballage","Brug og vask","Efterliv","Total",null,null,null,"Materialer og produktion","Transport og emballage","Brug og vask","Efterliv","Total"]
[null,null,null,null,null,null,null,null,null,null,null,null,null,null,null,null,null,null,null,null,null,null,null,null,null,null,null,null,null,null,null,null,null,null,null,null,null,null,null,null,null,null,null,null,null,null,null,null,null,null,null,null,null,null,null,null,null,null,null,null,null,null,null,null,null,null,null,null,null,null,null,null,null,null,null,null,null,null,null,null,null,null,null,null,null,null,null,null,null,null,null,null,null,null,null,null,null,null,null,null,null,null,null,null,null,null,null,null,null,null,null,null,null,null,null,null,null,null,null,null,null,null,null,null,null,null,null,null,null,null,null,null,null,null,null,null,null,null,null,null,null,null,null,null,null,null,null,null,null,null,null,null,null,null,null,null,null,null,null,null,null,null,null,null,null,null,null,null,null,null,null,null,null,null,null,null,null,null,null,null,null,null,null,null,null,null,null,null,null,null,null,null,null,null,null,null,null,null,null,null,null,null,null,null,null,null,null,null,null,null,null,null,null,null,null,null,null,null,null,null,null,null,null,null,null,null,null,null,null,null,null,null,null,null,null,null,null,null,null,null,null,null,null,null,null,null,null,null,null,null,null,null,null,null,null,null,null,null,null,null,null,null,null,null,null,null,null,null,null,null,null,null,null,null,null,null,null,null,null,null,null,null,null,null,null,null,null,null,null,null,null,null,null,null,null,null,null,null,null,null,null,null,null,null,null,null,null,null,null,null,null,null,null,null,null,null,null,null,null,null,null,null,null,null,null,null,null,null,null,null,null,null,null,null,null,null,null,null,null,null,null,null,null,null,null,null,null,{"$f":"IF(ISBLANK(M29),\"\",M29)","v":"Klimaforandringer"},{"$f":"IF($MJ79=\"\",\"\",HLOOKUP($MJ79,ResultsRelative,MK$77,FALSE))","v":{"$error":"#N/A"}},{"$error":"#N/A"},0.2,{"$f":"IF($MJ79=\"\",\"\",HLOOKUP($MJ79,ResultsRelative,MN$77,FALSE)*ML79)","v":{"$error":"#N/A"}},{"$f":"IF(ISBLANK(M29),\"\",M29)","v":"Klimaforandringer"},{"$f":"IF($MO79=\"\",\"\",HLOOKUP($MO79,ResultsProduct1,MP$77,FALSE)/ABS(HLOOKUP($MO79,ResultsProduct1,8,FALSE)))","v":{"$error":"#N/A"}},{"$error":"#N/A"},{"$error":"#N/A"},{"$error":"#N/A"},{"$error":"#N/A"},null,null,{"$f":"IF(ISBLANK(M29),\"\",M29)","v":"Klimaforandringer"},{"$f":"IF($MW79=\"\",\"\",HLOOKUP($MW79,ResultsProduct2,MX$77,FALSE)/ABS(HLOOKUP($MW79,ResultsProduct2,8,FALSE)))","v":{"$error":"#N/A"}},{"$error":"#N/A"},{"$error":"#N/A"},{"$error":"#N/A"},{"$error":"#N/A"}]
[null,null,null,null,null,null,null,null,null,null,null,null,null,null,null,null,null,null,null,null,null,null,null,null,null,null,null,null,null,null,null,null,null,null,null,null,null,null,null,null,null,null,null,null,null,null,null,null,null,null,null,null,null,null,null,null,null,null,null,null,null,null,null,null,null,null,null,null,null,null,null,null,null,null,null,null,null,null,null,null,null,null,null,null,null,null,null,null,null,null,null,null,null,null,null,null,null,null,null,null,null,null,null,null,null,null,null,null,null,null,null,null,null,null,null,null,null,null,null,null,null,null,null,null,null,null,null,null,null,null,null,null,null,null,null,null,null,null,null,null,null,null,null,null,null,null,null,null,null,null,null,null,null,null,null,null,null,null,null,null,null,null,null,null,null,null,null,null,null,null,null,null,null,null,null,null,null,null,null,null,null,null,null,null,null,null,null,null,null,null,null,null,null,null,null,null,null,null,null,null,null,null,null,null,null,null,null,null,null,null,null,null,null,null,null,null,null,null,null,null,null,null,null,null,null,null,null,null,null,null,null,null,null,null,null,null,null,null,null,null,null,null,null,null,null,null,null,null,null,null,null,null,null,null,null,null,null,null,null,null,null,null,null,null,null,null,null,null,null,null,null,null,null,null,null,null,null,null,null,null,null,null,null,null,null,null,null,null,null,null,null,null,null,null,null,null,null,null,null,null,null,null,null,null,null,null,null,null,null,null,null,null,null,null,null,null,null,null,null,null,null,null,null,null,null,null,null,null,null,null,null,null,null,null,null,null,null,null,null,null,null,null,null,null,null,null,null,"Partikelforurening",{"$error":"#N/A"},{"$error":"#N/A"},0.2,{"$error":"#N/A"},"Partikelforurening",{"$error":"#N/A"},{"$error":"#N/A"},{"$error":"#N/A"},{"$error":"#N/A"},{"$error":"#N/A"},null,null,"Partikelforurening",{"$error":"#N/A"},{"$error":"#N/A"},{"$error":"#N/A"},{"$error":"#N/A"},{"$error":"#N/A"}]
[null,null,null,null,null,null,null,null,null,null,null,null,null,null,null,null,null,null,null,null,null,null,null,null,null,null,null,null,null,null,null,null,null,null,null,null,null,null,null,null,null,null,null,null,null,null,null,null,null,null,null,null,null,null,null,null,null,null,null,null,null,null,null,null,null,null,null,null,null,null,null,null,null,null,null,null,null,null,null,null,null,null,null,null,null,null,null,null,null,null,null,null,null,null,null,null,null,null,null,null,null,null,null,null,null,null,null,null,null,null,null,null,null,null,null,null,null,null,null,null,null,null,null,null,null,null,null,null,null,null,null,null,null,null,null,null,null,null,null,null,null,null,null,null,null,null,null,null,null,null,null,null,null,null,null,null,null,null,null,null,null,null,null,null,null,null,null,null,null,null,null,null,null,null,null,null,null,null,null,null,null,null,null,null,null,null,null,null,null,null,null,null,null,null,null,null,null,null,null,null,null,null,null,null,null,null,null,null,null,null,null,null,null,null,null,null,null,null,null,null,null,null,null,null,null,null,null,null,null,null,null,null,null,null,null,null,null,null,null,null,null,null,null,null,null,null,null,null,null,null,null,null,null,null,null,null,null,null,null,null,null,null,null,null,null,null,null,null,null,null,null,null,null,null,null,null,null,null,null,null,null,null,null,null,null,null,null,null,null,null,null,null,null,null,null,null,null,null,null,null,null,null,null,null,null,null,null,null,null,null,null,null,null,null,null,null,null,null,null,null,null,null,null,null,null,null,null,null,null,null,null,null,null,null,null,null,null,null,null,null,null,null,null,null,null,null,null,"Eutrofiering",{"$error":"#N/A"},{"$error":"#N/A"},0.4,{"$error":"#N/A"},"Eutrofiering",{"$error":"#N/A"},{"$error":"#N/A"},{"$error":"#N/A"},{"$error":"#N/A"},{"$error":"#N/A"},null,null,"Eutrofiering",{"$error":"#N/A"},{"$error":"#N/A"},{"$error":"#N/A"},{"$error":"#N/A"},{"$error":"#N/A"}]
[null,null,null,null,null,null,null,null,null,null,null,null,null,null,null,null,null,null,null,null,null,null,null,null,null,null,null,null,null,null,null,null,null,null,null,null,null,null,null,null,null,null,null,null,null,null,null,null,null,null,null,null,null,null,null,null,null,null,null,null,null,null,null,null,null,null,null,null,null,null,null,null,null,null,null,null,null,null,null,null,null,null,null,null,null,null,null,null,null,null,null,null,null,null,null,null,null,null,null,null,null,null,null,null,null,null,null,null,null,null,null,null,null,null,null,null,null,null,null,null,null,null,null,null,null,null,null,null,null,null,null,null,null,null,null,null,null,null,null,null,null,null,null,null,null,null,null,null,null,null,null,null,null,null,null,null,null,null,null,null,null,null,null,null,null,null,null,null,null,null,null,null,null,null,null,null,null,null,null,null,null,null,null,null,null,null,null,null,null,null,null,null,null,null,null,null,null,null,null,null,null,null,null,null,null,null,null,null,null,null,null,null,null,null,null,null,null,null,null,null,null,null,null,null,null,null,null,null,null,null,null,null,null,null,null,null,null,null,null,null,null,null,null,null,null,null,null,null,null,null,null,null,null,null,null,null,null,null,null,null,null,null,null,null,null,null,null,null,null,null,null,null,null,null,null,null,null,null,null,null,null,null,null,null,null,null,null,null,null,null,null,null,null,null,null,null,null,null,null,null,null,null,null,null,null,null,null,null,null,null,null,null,null,null,null,null,null,null,null,null,null,null,null,null,null,null,null,null,null,null,null,null,null,null,null,null,null,null,null,null,null,null,null,null,null,null,null,"Økotoksicitet",{"$error":"#N/A"},{"$error":"#N/A"},0.5,{"$error":"#N/A"},"Økotoksicitet",{"$error":"#N/A"},{"$error":"#N/A"},{"$error":"#N/A"},{"$error":"#N/A"},{"$error":"#N/A"},null,null,"Økotoksicitet",{"$error":"#N/A"},{"$error":"#N/A"},{"$error":"#N/A"},{"$error":"#N/A"},{"$error":"#N/A"}]
[null,null,null,null,null,null,null,null,null,null,null,null,null,null,null,null,null,null,null,null,null,null,null,null,null,null,null,null,null,null,null,null,null,null,null,null,null,null,null,null,null,null,null,null,null,null,null,null,null,null,null,null,null,null,null,null,null,null,null,null,null,null,null,null,null,null,null,null,null,null,null,null,null,null,null,null,null,null,null,null,null,null,null,null,null,null,null,null,null,null,null,null,null,null,null,null,null,null,null,null,null,null,null,null,null,null,null,null,null,null,null,null,null,null,null,null,null,null,null,null,null,null,null,null,null,null,null,null,null,null,null,null,null,null,null,null,null,null,null,null,null,null,null,null,null,null,null,null,null,null,null,null,null,null,null,null,null,null,null,null,null,null,null,null,null,null,null,null,null,null,null,null,null,null,null,null,null,null,null,null,null,null,null,null,null,null,null,null,null,null,null,null,null,null,null,null,null,null,null,null,null,null,null,null,null,null,null,null,null,null,null,null,null,null,null,null,null,null,null,null,null,null,null,null,null,null,null,null,null,null,null,null,null,null,null,null,null,null,null,null,null,null,null,null,null,null,null,null,null,null,null,null,null,null,null,null,null,null,null,null,null,null,null,null,null,null,null,null,null,null,null,null,null,null,null,null,null,null,null,null,null,null,null,null,null,null,null,null,null,null,null,null,null,null,null,null,null,null,null,null,null,null,null,null,null,null,null,null,null,null,null,null,null,null,null,null,null,null,null,null,null,null,null,null,null,null,null,null,null,null,null,null,null,null,null,null,null,null,null,null,null,null,null,null,null,null,null,"Brug af landarealer",{"$error":"#N/A"},{"$error":"#N/A"},0.7,{"$error":"#N/A"},"Brug af landarealer",{"$error":"#N/A"},{"$error":"#N/A"},{"$error":"#N/A"},{"$error":"#N/A"},{"$error":"#N/A"},null,null,"Brug af landarealer",{"$error":"#N/A"},{"$error":"#N/A"},{"$error":"#N/A"},{"$error":"#N/A"},{"$error":"#N/A"}]
[null,null,null,null,null,null,null,null,null,null,null,null,null,null,null,null,null,null,null,null,null,null,null,null,null,null,null,null,null,null,null,null,null,null,null,null,null,null,null,null,null,null,null,null,null,null,null,null,null,null,null,null,null,null,null,null,null,null,null,null,null,null,null,null,null,null,null,null,null,null,null,null,null,null,null,null,null,null,null,null,null,null,null,null,null,null,null,null,null,null,null,null,null,null,null,null,null,null,null,null,null,null,null,null,null,null,null,null,null,null,null,null,null,null,null,null,null,null,null,null,null,null,null,null,null,null,null,null,null,null,null,null,null,null,null,null,null,null,null,null,null,null,null,null,null,null,null,null,null,null,null,null,null,null,null,null,null,null,null,null,null,null,null,null,null,null,null,null,null,null,null,null,null,null,null,null,null,null,null,null,null,null,null,null,null,null,null,null,null,null,null,null,null,null,null,null,null,null,null,null,null,null,null,null,null,null,null,null,null,null,null,null,null,null,null,null,null,null,null,null,null,null,null,null,null,null,null,null,null,null,null,null,null,null,null,null,null,null,null,null,null,null,null,null,null,null,null,null,null,null,null,null,null,null,null,null,null,null,null,null,null,null,null,null,null,null,null,null,null,null,null,null,null,null,null,null,null,null,null,null,null,null,null,null,null,null,null,null,null,null,null,null,null,null,null,null,null,null,null,null,null,null,null,null,null,null,null,null,null,null,null,null,null,null,null,null,null,null,null,null,null,null,null,null,null,null,null,null,null,null,null,null,null,null,null,null,null,null,null,null,null,null,null,null,null,null,null,"Forbrug af vand",{"$error":"#N/A"},{"$error":"#N/A"},0.7,{"$error":"#N/A"},"Forbrug af vand",{"$error":"#N/A"},{"$error":"#N/A"},{"$error":"#N/A"},{"$error":"#N/A"},{"$error":"#N/A"},null,null,"Forbrug af vand",{"$error":"#N/A"},{"$error":"#N/A"},{"$error":"#N/A"},{"$error":"#N/A"},{"$error":"#N/A"}]
[null,null,null,null,null,null,null,null,null,null,null,null,null,null,null,null,null,null,null,null,null,null,null,null,null,null,null,null,null,null,null,null,null,null,null,null,null,null,null,null,null,null,null,null,null,null,null,null,null,null,null,null,null,null,null,null,null,null,null,null,null,null,null,null,null,null,null,null,null,null,null,null,null,null,null,null,null,null,null,null,null,null,null,null,null,null,null,null,null,null,null,null,null,null,null,null,null,null,null,null,null,null,null,null,null,null,null,null,null,null,null,null,null,null,null,null,null,null,null,null,null,null,null,null,null,null,null,null,null,null,null,null,null,null,null,null,null,null,null,null,null,null,null,null,null,null,null,null,null,null,null,null,null,null,null,null,null,null,null,null,null,null,null,null,null,null,null,null,null,null,null,null,null,null,null,null,null,null,null,null,null,null,null,null,null,null,null,null,null,null,null,null,null,null,null,null,null,null,null,null,null,null,null,null,null,null,null,null,null,null,null,null,null,null,null,null,null,null,null,null,null,null,null,null,null,null,null,null,null,null,null,null,null,null,null,null,null,null,null,null,null,null,null,null,null,null,null,null,null,null,null,null,null,null,null,null,null,null,null,null,null,null,null,null,null,null,null,null,null,null,null,null,null,null,null,null,null,null,null,null,null,null,null,null,null,null,null,null,null,null,null,null,null,null,null,null,null,null,null,null,null,null,null,null,null,null,null,null,null,null,null,null,null,null,null,null,null,null,null,null,null,null,null,null,null,null,null,null,null,null,null,null,null,null,null,null,null,null,null,null,null,null,null,null,null,null,null,"Økonomi",1,{"$error":"#N/A"},0.2,{"$error":"#N/A"},"Økonomi",{"$error":"#N/A"},{"$error":"#N/A"},{"$error":"#N/A"},{"$error":"#N/A"},{"$error":"#N/A"},null,null,"Økonomi",{"$error":"#N/A"},{"$error":"#N/A"},{"$error":"#N/A"},{"$error":"#N/A"},{"$error":"#N/A"}]
[null,null,null,null,null,null,null,null,null,null,null,null,null,null,null,null,null,null,null,null,null,null,null,null,null,null,null,null,null,null,null,null,null,null,null,null,null,null,null,null,null,null,null,null,null,null,null,null,null,null,null,null,null,null,null,null,null,null,null,null,null,null,null,null,null,null,null,null,null,null,null,null,null,null,null,null,null,null,null,null,null,null,null,null,null,null,null,null,null,null,null,null,null,null,null,null,null,null,null,null,null,null,null,null,null,null,null,null,null,null,null,null,null,null,null,null,null,null,null,null,null,null,null,null,null,null,null,null,null,null,null,null,null,null,null,null,null,null,null,null,null,null,null,null,null,null,null,null,null,null,null,null,null,null,null,null,null,null,null,null,null,null,null,null,null,null,null,null,null,null,null,null,null,null,null,null,null,null,null,null,null,null,null,null,null,null,null,null,null,null,null,null,null,null,null,null,null,null,null,null,null,null,null,null,null,null,null,null,null,null,null,null,null,null,null,null,null,null,null,null,null,null,null,null,null,null,null,null,null,null,null,null,null,null,null,null,null,null,null,null,null,null,null,null,null,null,null,null,null,null,null,null,null,null,null,null,null,null,null,null,null,null,null,null,null,null,null,null,null,null,null,null,null,null,null,null,null,null,null,null,null,null,null,null,null,null,null,null,null,null,null,null,null,null,null,null,null,null,null,null,null,null,null,null,null,null,null,null,null,null,null,null,null,null,null,null,null,null,null,null,null,null,null,null,null,null,null,null,null,null,null,null,null,null,null,null,null,null,null,null,null,null,null,null,null,null,null,{"$f":"\"Sammenligning af miljøpåvirkninger mellem \" & Name_product1 & \" og \" &Name_product2","v":"Sammenligning af miljøpåvirkninger mellem  og "}]

{"sheet":"Arketyper","index":7,"n_rows":342,"n_cols":39,"rows_kept":342,"cut":false,"hidden":false,"merged":[[9,10,9,11],[9,13,9,14],[39,16,39,17],[27,16,27,17],[28,16,28,17],[29,16,29,17],[30,16,30,17],[39,22,39,23],[27,22,27,23],[28,22,28,23],[9,16,9,17],[23,16,23,17],[31,22,31,23],[33,19,33,20],[34,19,34,20],[35,19,35,20],[31,16,31,17],[9,22,9,23],[23,22,23,23],[29,22,29,23],[30,22,30,23],[9,19,9,20],[23,19,23,20],[39,19,39,20],[27,19,27,20],[28,19,28,20],[29,19,29,20],[30,19,30,20],[31,19,31,20],[32,19,32,20],[249,7,249,8],[57,22,57,23],[32,22,32,23],[33,22,33,23],[34,22,34,23],[35,22,35,23],[36,22,36,23],[56,22,56,23],[36,19,36,20],[56,19,56,20],[57,19,57,20],[57,16,57,17],[33,16,33,17],[34,16,34,17],[35,16,35,17],[36,16,36,17],[56,16,56,17],[56,13,56,14],[57,13,57,14],[57,10,57,11],[56,10,56,11],[32,16,32,17],[278,3,278,4],[278,6,278,7],[299,3,299,4],[299,6,299,7],[77,15,77,17],[183,16,183,17],[184,16,184,17],[185,16,185,17],[186,16,186,17],[187,16,187,17],[188,16,188,17],[189,16,189,17],[190,16,190,17],[191,16,191,17],[192,16,192,17],[209,16,209,17],[211,16,211,17],[213,16,213,17],[215,16,215,17],[230,16,230,17],[231,16,231,17],[249,3,249,4],[207,3,207,4],[207,7,207,8],[273,16,273,17],[77,18,77,20],[183,19,183,20],[184,19,184,20],[185,19,185,20],[186,19,186,20],[187,19,187,20],[188,19,188,20],[189,19,189,20],[190,19,190,20],[191,19,191,20],[192,19,192,20],[209,19,209,20],[211,19,211,20],[213,19,213,20],[215,19,215,20],[230,19,230,20],[231,19,231,20],[234,19,234,20],[240,19,240,20],[234,16,234,17],[240,16,240,17],[264,16,264,17],[265,16,265,17],[266,19,266,20],[267,19,267,20],[268,19,268,20],[269,19,269,20],[270,19,270,20],[271,19,271,20],[270,16,270,17],[271,16,271,17],[272,16,272,17],[266,16,266,17],[267,16,267,17],[268,16,268,17],[269,16,269,17],[272,19,272,20],[273,19,273,20],[77,21,77,23],[183,22,183,23],[184,22,184,23],[185,22,185,23],[186,22,186,23],[187,22,187,23],[188,22,188,23],[189,22,189,23],[190,22,190,23],[191,22,191,23],[192,22,192,23],[209,22,209,23],[211,22,211,23],[213,22,213,23],[215,22,215,23],[230,22,230,23],[231,22,231,23],[234,22,234,23],[240,22,240,23],[264,22,264,23],[264,19,264,20],[265,19,265,20],[265,22,265,23],[266,22,266,23],[267,22,267,23],[268,22,268,23],[269,22,269,23],[270,22,270,23],[271,22,271,23],[272,22,272,23],[273,22,273,23],[9,25,9,26],[23,25,23,26],[39,25,39,26],[27,25,27,26],[28,25,28,26],[29,25,29,26],[30,25,30,26],[31,25,31,26],[32,25,32,26],[33,25,33,26],[34,25,34,26],[35,25,35,26],[36,25,36,26],[56,25,56,26],[57,25,57,26],[77,24,77,26],[183,25,183,26],[184,25,184,26],[185,25,185,26],[186,25,186,26],[187,25,187,26],[188,25,188,26],[230,25,230,26],[231,25,231,26],[234,25,234,26],[240,25,240,26],[264,25,264,26],[265,25,265,26],[266,25,266,26],[267,25,267,26],[189,25,189,26],[190,25,190,26],[191,25,191,26],[192,25,192,26],[209,25,209,26],[211,25,211,26],[213,25,213,26],[215,25,215,26],[268,25,268,26],[269,25,269,26],[270,25,270,26],[271,25,271,26],[272,25,272,26],[273,25,273,26],[9,28,9,29],[23,28,23,29],[39,28,39,29],[27,28,27,29],[28,28,28,29],[29,28,29,29],[30,28,30,29],[31,28,31,29],[32,28,32,29],[33,28,33,29],[34,28,34,29],[35,28,35,29],[36,28,36,29],[56,28,56,29],[57,28,57,29],[77,27,77,29],[183,28,183,29],[184,28,184,29],[209,28,209,29],[211,28,211,29],[213,28,213,29],[215,28,215,29],[230,28,230,29],[231,28,231,29],[234,28,234,29],[240,28,240,29],[185,28,185,29],[186,28,186,29],[187,28,187,29],[188,28,188,29],[189,28,189,29],[190,28,190,29],[191,28,191,29],[192,28,192,29],[264,28,264,29],[265,28,265,29],[266,28,266,29],[267,28,267,29],[268,28,268,29],[269,28,269,29],[270,28,270,29],[271,28,271,29],[272,28,272,29],[273,28,273,29],[9,31,9,32],[23,31,23,32],[39,31,39,32],[27,31,27,32],[28,31,28,32],[29,31,29,32],[30,31,30,32],[31,31,31,32],[32,31,32,32],[33,31,33,32],[34,31,34,32],[35,31,35,32],[36,31,36,32],[56,31,56,32],[57,31,57,32],[77,30,77,32],[183,31,183,32],[184,31,184,32],[185,31,185,32],[186,31,186,32],[187,31,187,32],[188,31,188,32],[189,31,189,32],[231,31,231,32],[234,31,234,32],[240,31,240,32],[264,31,264,32],[265,31,265,32],[266,31,266,32],[267,31,267,32],[268,31,268,32],[190,31,190,32],[191,31,191,32],[192,31,192,32],[209,31,209,32],[211,31,211,32],[213,31,213,32],[215,31,215,32],[230,31,230,32],[269,31,269,32],[270,31,270,32],[271,31,271,32],[272,31,272,32],[273,31,273,32],[9,34,9,35],[23,34,23,35],[39,34,39,35],[27,34,27,35],[28,34,28,35],[29,34,29,35],[30,34,30,35],[31,34,31,35],[32,34,32,35],[33,34,33,35],[34,34,34,35],[35,34,35,35],[36,34,36,35],[56,34,56,35],[57,34,57,35],[77,33,77,35],[183,34,183,35],[184,34,184,35],[185,34,185,35],[211,34,211,35],[213,34,213,35],[215,34,215,35],[230,34,230,35],[231,34,231,35],[234,34,234,35],[240,34,240,35],[264,34,264,35],[186,34,186,35],[187,34,187,35],[188,34,188,35],[189,34,189,35],[190,34,190,35],[191,34,191,35],[192,34,192,35],[209,34,209,35],[265,34,265,35],[266,34,266,35],[267,34,267,35],[268,34,268,35],[269,34,269,35],[270,34,270,35],[271,34,271,35],[272,34,272,35],[273,34,273,35],[9,37,9,38],[23,37,23,38],[39,37,39,38],[27,37,27,38],[28,37,28,38],[29,37,29,38],[30,37,30,38],[31,37,31,38],[32,37,32,38],[33,37,33,38],[34,37,34,38],[35,37,35,38],[36,37,36,38],[189,37,189,38],[190,37,190,38],[191,37,191,38],[192,37,192,38],[209,37,209,38],[211,37,211,38],[213,37,213,38],[267,37,267,38],[56,37,56,38],[57,37,57,38],[77,36,77,38],[183,37,183,38],[184,37,184,38],[185,37,185,38],[186,37,186,38],[187,37,187,38],[188,37,188,38],[268,37,268,38],[269,37,269,38],[270,37,270,38],[271,37,271,38],[272,37,272,38],[273,37,273,38],[215,37,215,38],[230,37,230,38],[231,37,231,38],[234,37,234,38],[240,37,240,38],[264,37,264,38],[265,37,265,38],[266,37,266,38]]}
[null,{"$f":"K2","v":"Engangskittel"}]
[null,{"$f":"N2","v":"Flergangskittel"},null,null,null,null,null,null,null,null,"Engangskittel",null,null,"Flergangskittel",null,null,"(tom)Varmejakke",null,null,"(tom)Type4",null,null,"(tom)Type5",null,null,"(tom)Type6",null,null,"(tom)Type7",null,null,"(tom)Type8",null,null,"(tom)Type9",null,null,"(tom)Type10"]
[null,{"$f":"Q2","v":"(tom)Varmejakke"}]
[null,{"$f":"T2","v":"(tom)Type4"},null,"valgt arketype 1",null,null,null,"valgt arketype 2"]
[null,{"$f":"W2","v":"(tom)Type5"},null,{"$f":"'Produkt og funktion'!E27","v":0},null,null,null,{"$f":"'Produkt og funktion'!G27","v":0}]
[1,null,1,2,3,null,1,2,3,{"$f":"K2&\"1\"","v":"Engangskittel1"},{"$f":"K2&\"2\"","v":"Engangskittel2"},{"$f":"K2&\"3\"","v":"Engangskittel3"},{"$f":"N2&\"1\"","v":"Flergangskittel1"},{"$f":"N2&\"2\"","v":"Flergangskittel2"},{"$f":"N2&\"3\"","v":"Flergangskittel3"},{"$f":"Q2&\"1\"","v":"(tom)Varmejakke1"},{"$f":"Q2&\"2\"","v":"(tom)Varmejakke2"},{"$f":"Q2&\"3\"","v":"(tom)Varmejakke3"},{"$f":"T2&\"1\"","v":"(tom)Type41"},{"$f":"T2&\"2\"","v":"(tom)Type42"},{"$f":"T2&\"3\"","v":"(tom)Type43"},{"$f":"W2&\"1\"","v":"(tom)Type51"},{"$f":"W2&\"2\"","v":"(tom)Type52"},{"$f":"W2&\"3\"","v":"(tom)Type53"},{"$f":"Z2&\"1\"","v":"(tom)Type61"},{"$f":"Z2&\"2\"","v":"(tom)Type62"},{"$f":"Z2&\"3\"","v":"(tom)Type63"},{"$f":"AC2&\"1\"","v":"(tom)Type71"},{"$f":"AC2&\"2\"","v":"(tom)Type72"},{"$f":"AC2&\"3\"","v":"(tom)Type73"},{"$f":"AF2&\"1\"","v":"(tom)Type81"},{"$f":"AF2&\"2\"","v":"(tom)Type82"},{"$f":"AF2&\"3\"","v":"(tom)Type83"},{"$f":"AI2&\"1\"","v":"(tom)Type91"},{"$f":"AI2&\"2\"","v":"(tom)Type92"},{"$f":"AI2&\"3\"","v":"(tom)Type93"},{"$f":"AL2&\"1\"","v":"(tom)Type101"},{"$f":"AL2&\"2\"","v":"(tom)Type102"},{"$f":"AL2&\"3\"","v":"(tom)Type103"}]
[{"$f":"A6+1","v":2}]
[{"$f":"A7+1","v":3},"Materiale og produktion",null,{"$f":"Name_product1","v":0},null,null,null,{"$f":"Name_product2","v":0}]
[4,"Produktinformation",null,null,null,null,null,null,null,"fritekst",null,null,"fritekst",null,null,"fritekst",null,null,"fritekst",null,null,"fritekst",null,null,"fritekst",null,null,"fritekst",null,null,"fritekst",null,null,"fritekst",null,null,"fritekst"]
[5,"Produktets vægt",null,{"$f":"IF(HLOOKUP($D$5&D$6,Arketyper,$A10,FALSE)=0,\"\",HLOOKUP($D$5&D$6,Arketyper,$A10,FALSE))","v":{"$error":"#N/A"}},null,null,null,{"$f":"IF(HLOOKUP($H$5&H$6,Arketyper,$A10,FALSE)=0,\"\",HLOOKUP($H$5&H$6,Arketyper,$A10,FALSE))","v":{"$error":"#N/A"}},null,null,125,null,null,308,null,null,200,null,null,250,null,null,42,null,null,687,null,null,381,null,null,381,null,null,381,null,null,381]
[6]
[7,null,"Egen husketekst","Fibertype","%",null,"Egen husketekst","Fibertype","%"]
[8,"Materialesammensætning",{"$f":"IF(HLOOKUP($D$5&C$6,Arketyper,$A13,FALSE)=0,\"\",HLOOKUP($D$5&C$6,Arketyper,$A13,FALSE))","v":{"$error":"#N/A"}},{"$error":"#N/A"},{"$f":"IF(HLOOKUP($D$5&E$6,Arketyper,$A13,FALSE)=0,\"\",HLOOKUP($D$5&E$6,Arketyper,$A13,FALSE))","v":{"$error":"#N/A"}},null,{"$f":"IF(HLOOKUP($H$5&G$6,Arketyper,$A13,FALSE)=0,\"\",HLOOKUP($H$5&G$6,Arketyper,$A13,FALSE))","v":{"$error":"#N/A"}},{"$error":"#N/A"},{"$f":"IF(HLOOKUP($H$5&I$6,Arketyper,$A13,FALSE)=0,\"\",HLOOKUP($H$5&I$6,Arketyper,$A13,FALSE))","v":{"$error":"#N/A"}},null,"Polyester, nonwoven, farvet",0.8,null,"Polyester, vævet, farvet",0.99,"qew","Polyester, vævet, farvet",0.97,"qew","Polyester, vævet, farvet",0.97,"qew","Polyester, vævet, farvet",0.97,"qew","Polyester, vævet, farvet",0.97,"qew","Polyester, vævet, farvet",0.97,"qew","Polyester, vævet, farvet",0.97,"qew","Polyester, vævet, farvet",0.97,"qew","Polyester, vævet, farvet",0.97]
[9,null,{"$error":"#N/A"},{"$error":"#N/A"},{"$error":"#N/A"},null,{"$error":"#N/A"},{"$error":"#N/A"},{"$error":"#N/A"},null,"Polyester, vævet, farvet",0.2,null,"Carbonfibre",0.01,null,"Polyester, vævet, farvet",0.02,null,"Polyester, vævet, farvet",0.02,null,"Polyester, vævet, farvet",0.02,null,"Polyester, vævet, farvet",0.02,null,"Polyester, vævet, farvet",0.02,null,"Polyester, vævet, farvet",0.02,null,"Polyester, vævet, farvet",0.02,null,"Polyester, vævet, farvet",0.02]
[10,null,{"$error":"#N/A"},{"$error":"#N/A"},{"$error":"#N/A"},null,{"$error":"#N/A"},{"$error":"#N/A"},{"$error":"#N/A"},null,null,null,null,null,null,null,"Carbonfibre",0.01,null,"Carbonfibre",0.01,null,"Carbonfibre",0.01,null,"Carbonfibre",0.01,null,"Carbonfibre",0.01,null,"Carbonfibre",0.01,null,"Carbonfibre",0.01,null,"Carbonfibre",0.01]
[11,null,{"$error":"#N/A"},{"$error":"#N/A"},{"$error":"#N/A"},null,{"$error":"#N/A"},{"$error":"#N/A"},{"$error":"#N/A"}]
[12,null,{"$error":"#N/A"},{"$error":"#N/A"},{"$error":"#N/A"},null,{"$error":"#N/A"},{"$error":"#N/A"},{"$error":"#N/A"}]
[13,null,{"$error":"#N/A"},{"$error":"#N/A"},{"$error":"#N/A"},null,{"$error":"#N/A"},{"$error":"#N/A"},{"$error":"#N/A"}]
[14,null,{"$error":"#N/A"},{"$error":"#N/A"},{"$error":"#N/A"},null,{"$error":"#N/A"},{"$error":"#N/A"},{"$error":"#N/A"}]
[15,null,{"$error":"#N/A"},{"$error":"#N/A"},{"$error":"#N/A"},null,{"$error":"#N/A"},{"$error":"#N/A"},{"$error":"#N/A"}]
[16,null,{"$error":"#N/A"},{"$error":"#N/A"},{"$error":"#N/A"},null,{"$error":"#N/A"},{"$error":"#N/A"},{"$error":"#N/A"}]
[17,null,{"$error":"#N/A"},{"$error":"#N/A"},{"$error":"#N/A"},null,{"$error":"#N/A"},{"$error":"#N/A"},{"$error":"#N/A"},null,null,null,null,null,null,null,"Viskose, vævet, ufarvet",0.23,null,"Viskose, vævet, ufarvet",0.23,null,"Viskose, vævet, ufarvet",0.23,null,"Viskose, vævet, ufarvet",0.23,null,"Viskose, vævet, ufarvet",0.23,null,"Viskose, vævet, ufarvet",0.23,null,"Viskose, vævet, ufarvet",0.23,null,"Viskose, vævet, ufarvet",0.23]
[18,null,null,null,null,null,null,null,null,null,null,1,null,null,1,null,null,1,null,null,1,null,null,1,null,null,1,null,null,1,null,null,1,null,null,1,null,null,1]
[19,"Produktionssted",null,{"$f":"IF(HLOOKUP($D$5&D$6,Arketyper,$A24,FALSE)=0,\"\",HLOOKUP($D$5&D$6,Arketyper,$A24,FALSE))","v":{"$error":"#N/A"}},null,null,null,{"$f":"IF(HLOOKUP($H$5&H$6,Arketyper,$A24,FALSE)=0,\"\",HLOOKUP($H$5&H$6,Arketyper,$A24,FALSE))","v":{"$error":"#N/A"}},null,null,"Asien",null,null,"Asien",1,null,"Europa",null,null,"Europa",null,null,"Europa",null,null,"Europa",null,null,"Europa",null,null,"Europa",null,null,"Europa",null,null,"Europa"]
[20,null,null,null,null,null,null,null,null,null,null,null,null,null,1]
[21,"Produktionsprocesser og finishing",null,null,null,null,null,null,null,null,null,null,null,null,1,null,null,null,"fritekst",null,null,"fritekst",null,null,"fritekst",null,null,"fritekst",null,null,"fritekst",null,null,"fritekst",null,null,"fritekst"]
[22,null,"Egen husketekst","Finishingproces",null,null,"Egen husketekst","Finishingproces",null,null,null,null,null,null,1]
[23,null,{"$f":"IF(HLOOKUP($D$5&C$6,Arketyper,$A28,FALSE)=0,\"\",HLOOKUP($D$5&C$6,Arketyper,$A28,FALSE))","v":{"$error":"#N/A"}},{"$f":"IF(HLOOKUP($D$5&D$6,Arketyper,$A28,FALSE)=0,\"\",HLOOKUP($D$5&D$6,Arketyper,$A28,FALSE))","v":{"$error":"#N/A"}},null,null,{"$f":"IF(HLOOKUP($H$5&G$6,Arketyper,$A28,FALSE)=0,\"\",HLOOKUP($H$5&G$6,Arketyper,$A28,FALSE))","v":{"$error":"#N/A"}},{"$f":"IF(HLOOKUP($H$5&H$6,Arketyper,$A28,FALSE)=0,\"\",HLOOKUP($H$5&H$6,Arketyper,$A28,FALSE))","v":{"$error":"#N/A"}},null,null,null,null,"Imprægnering","Væskeafvisende",1,null,"Sanforisering (bomuld)",null,null,"Sanforisering (bomuld)",null,null,"Sanforisering (bomuld)",null,null,"Sanforisering (bomuld)",null,null,"Sanforisering (bomuld)",null,null,"Sanforisering (bomuld)",null,null,"Sanforisering (bomuld)",null,null,"Sanforisering (bomuld)"]
[24,null,{"$error":"#N/A"},{"$error":"#N/A"},null,null,{"$error":"#N/A"},{"$error":"#N/A"},null,null,null,null,null,null,1]
[25,null,{"$error":"#N/A"},{"$error":"#N/A"},null,null,{"$error":"#N/A"},{"$error":"#N/A"},null,null,null,null,null,null,1]
[26,null,{"$error":"#N/A"},{"$error":"#N/A"},null,null,{"$error":"#N/A"},{"$error":"#N/A"},null,null,null,null,null,null,1]
[27,null,{"$error":"#N/A"},{"$error":"#N/A"},null,null,{"$error":"#N/A"},{"$error":"#N/A"},null,null,null,null,null,null,1]
[28,null,{"$error":"#N/A"},{"$error":"#N/A"},null,null,{"$error":"#N/A"},{"$error":"#N/A"},null,null,null,null,null,null,1]
[29,null,{"$error":"#N/A"},{"$error":"#N/A"},null,null,{"$error":"#N/A"},{"$error":"#N/A"},null,null,null,null,null,null,1]
[30,null,{"$error":"#N/A"},{"$error":"#N/A"},null,null,{"$error":"#N/A"},{"$error":"#N/A"},null,null,null,null,null,null,1]
[31,null,{"$error":"#N/A"},{"$error":"#N/A"},null,null,{"$error":"#N/A"},{"$error":"#N/A"},null,null,null,null,null,null,1]
[32,null,{"$error":"#N/A"},{"$error":"#N/A"},null,null,{"$error":"#N/A"},{"$error":"#N/A"},null,null,null,null,null,null,1,212312,"Strikket bomuld: blødgører, vandafvisning, antimikrobiel",null,212312,"Strikket bomuld: blødgører, vandafvisning, antimikrobiel",null,212312,"Strikket bomuld: blødgører, vandafvisning, antimikrobiel",null,212312,"Strikket bomuld: blødgører, vandafvisning, antimikrobiel",null,212312,"Strikket bomuld: blødgører, vandafvisning, antimikrobiel",null,212312,"Strikket bomuld: blødgører, vandafvisning, antimikrobiel",null,212312,"Strikket bomuld: blødgører, vandafvisning, antimikrobiel",null,212312,"Strikket bomuld: blødgører, vandafvisning, antimikrobiel"]
[33,null,null,null,null,null,null,null,null,null,null,null,null,null,1]
[34,null,null,null,null,null,null,null,null,null,null,null,null,null,1]
[35,"Område for syning",null,{"$f":"IF(HLOOKUP($D$5&D$6,Arketyper,$A40,FALSE)=0,\"\",HLOOKUP($D$5&D$6,Arketyper,$A40,FALSE))","v":{"$error":"#N/A"}},null,null,null,{"$f":"IF(HLOOKUP($H$5&H$6,Arketyper,$A40,FALSE)=0,\"\",HLOOKUP($H$5&H$6,Arketyper,$A40,FALSE))","v":{"$error":"#N/A"}},null,null,"Asien",null,null,"Asien",1,null,"Mellemøsten",null,null,"Mellemøsten",null,null,"Mellemøsten",null,null,"Mellemøsten",null,null,"Mellemøsten",null,null,"Mellemøsten",null,null,"Mellemøsten",null,null,"Mellemøsten"]
[36]
[37]
[38]
[39,"Baggrundsdata"]
[40,"Accessories","Egen husketekst","Accessorydel","Vægt",null,"Egen husketekst","Accessorydel","Vægt","fritekst",null,null,"fritekst",null,null,"fritekst",null,null,"fritekst",null,null,"fritekst",null,null,"fritekst",null,null,"fritekst",null,null,"fritekst",null,null,"fritekst",null,null,"fritekst"]
[41,"Knapper, lynlåse, logo og mærker",{"$f":"IF(HLOOKUP($D$5&C$6,Arketyper,$A46,FALSE)=0,\"\",HLOOKUP($D$5&C$6,Arketyper,$A46,FALSE))","v":{"$error":"#N/A"}},{"$error":"#N/A"},{"$error":"#N/A"},null,{"$f":"IF(HLOOKUP($H$5&G$6,Arketyper,$A46,FALSE)=0,\"\",HLOOKUP($H$5&G$6,Arketyper,$A46,FALSE))","v":{"$error":"#N/A"}},{"$error":"#N/A"},{"$error":"#N/A"},null,null,null,null,null,null,null,"Lynlåse",null,null,"Lynlåse",null,null,"Lynlåse",null,null,"Lynlåse",null,null,"Lynlåse",null,null,"Lynlåse",null,null,"Lynlåse",null,null,"Lynlåse"]
[42,null,{"$error":"#N/A"},{"$error":"#N/A"},{"$error":"#N/A"},null,{"$error":"#N/A"},{"$error":"#N/A"},{"$error":"#N/A"}]
[43,null,{"$error":"#N/A"},{"$error":"#N/A"},{"$error":"#N/A"},null,{"$error":"#N/A"},{"$error":"#N/A"},{"$error":"#N/A"}]
[44,null,{"$error":"#N/A"},{"$error":"#N/A"},{"$error":"#N/A"},null,{"$error":"#N/A"},{"$error":"#N/A"},{"$error":"#N/A"}]
[45,null,{"$error":"#N/A"},{"$error":"#N/A"},{"$error":"#N/A"},null,{"$error":"#N/A"},{"$error":"#N/A"},{"$error":"#N/A"}]
[46,null,{"$error":"#N/A"},{"$error":"#N/A"},{"$error":"#N/A"},null,{"$error":"#N/A"},{"$error":"#N/A"},{"$error":"#N/A"}]
[47,null,{"$error":"#N/A"},{"$error":"#N/A"},{"$error":"#N/A"},null,{"$error":"#N/A"},{"$error":"#N/A"},{"$error":"#N/A"}]
[48,null,{"$error":"#N/A"},{"$error":"#N/A"},{"$error":"#N/A"},null,{"$error":"#N/A"},{"$error":"#N/A"},{"$error":"#N/A"}]
[49,null,{"$error":"#N/A"},{"$error":"#N/A"},{"$error":"#N/A"},null,{"$error":"#N/A"},{"$error":"#N/A"},{"$error":"#N/A"}]
[50,null,{"$error":"#N/A"},{"$error":"#N/A"},{"$error":"#N/A"},null,{"$error":"#N/A"},{"$error":"#N/A"},{"$error":"#N/A"},null,null,null,null,null,null,"gdf","Logo, broderet",31,"gdf","Logo, broderet",31,"gdf","Logo, broderet",31,"gdf","Logo, broderet",31,"gdf","Logo, broderet",31,"gdf","Logo, broderet",31,"gdf","Logo, broderet",31,"gdf","Logo, broderet",31]
[51]
[52,"Spildprocent (stof)",null,{"$f":"IF(HLOOKUP($D$5&D$6,Arketyper,$A57,FALSE)=0,\"\",HLOOKUP($D$5&D$6,Arketyper,$A57,FALSE))","v":{"$error":"#N/A"}},null,null,null,{"$f":"IF(HLOOKUP($H$5&H$6,Arketyper,$A57,FALSE)=0,\"\",HLOOKUP($H$5&H$6,Arketyper,$A57,FALSE))","v":{"$error":"#N/A"}},null,null,0.1,null,null,0.1,null,null,0.14000000000000001,null,null,0.14000000000000001,null,null,0.14000000000000001,null,null,0.14000000000000001,null,null,0.14000000000000001,null,null,0.14000000000000001,null,null,0.14000000000000001,null,null,0.14000000000000001]
[53,"Afskaffelse af afklip ",null,{"$f":"IF(HLOOKUP($D$5&D$6,Arketyper,$A58,FALSE)=0,\"\",HLOOKUP($D$5&D$6,Arketyper,$A58,FALSE))","v":{"$error":"#N/A"}},null,null,null,{"$f":"IF(HLOOKUP($H$5&H$6,Arketyper,$A58,FALSE)=0,\"\",HLOOKUP($H$5&H$6,Arketyper,$A58,FALSE))","v":{"$error":"#N/A"}},null,null,"Forbrænding",null,null,"Forbrænding",null,null,"Forbrænding",null,null,"Forbrænding",null,null,"Forbrænding",null,null,"Forbrænding",null,null,"Forbrænding",null,null,"Forbrænding",null,null,"Forbrænding",null,null,"Forbrænding"]
[54]
[55]
[56]
[57]
[58,"Levering af varer (eksterne transportmidler og ansatte)"]
[59,null,null,{"$f":"Name_product1","v":0},null,null,null,{"$f":"Name_product2","v":0}]
[60,null,"Egen husketekst","Transportmiddel","Afstand",null,"Egen husketekst","Transportmiddel","Afstand","fritekst","transportmiddel","afstand","fritekst","transportmiddel","afstand","fritekst","transportmiddel","afstand","fritekst","transportmiddel","afstand","fritekst","transportmiddel","afstand","fritekst","transportmiddel","afstand","fritekst","transportmiddel","afstand","fritekst","transportmiddel","afstand","fritekst","transportmiddel","afstand","fritekst","transportmiddel","afstand"]
[61,"Transportform og distance",{"$f":"IF(HLOOKUP($D$5&C$6,Arketyper,$A66,FALSE)=0,\"\",HLOOKUP($D$5&C$6,Arketyper,$A66,FALSE))","v":{"$error":"#N/A"}},{"$error":"#N/A"},{"$error":"#N/A"},null,{"$f":"IF(HLOOKUP($H$5&G$6,Arketyper,$A66,FALSE)=0,\"\",HLOOKUP($H$5&G$6,Arketyper,$A66,FALSE))","v":{"$error":"#N/A"}},{"$error":"#N/A"},{"$error":"#N/A"},"Shanghai-Hamborg","Fragskib",20000,"Shanghai-Hamborg","Fragskib",20000,"tre","Fragskib",400,"tre","Fragskib",400,"tre","Fragskib",400,"tre","Fragskib",400,"tre","Fragskib",400,"tre","Fragskib",400,"tre","Fragskib",400,"tre","Fragskib",400]
[62,null,{"$error":"#N/A"},{"$error":"#N/A"},{"$error":"#N/A"},null,{"$error":"#N/A"},{"$error":"#N/A"},{"$error":"#N/A"},"Hamborg-Midtjylland","Lastbil - 16-32 ton",350,"Hamborg til Midtjylland","Lastbil - 16-32 ton",350,"Berlin til Århus","Lastbil < 16 ton ",500,"Berlin til Århus","Lastbil < 16 ton ",500,"Berlin til Århus","Lastbil < 16 ton ",500,"Berlin til Århus","Lastbil < 16 ton ",500,"Berlin til Århus","Lastbil < 16 ton ",500,"Berlin til Århus","Lastbil < 16 ton ",500,"Berlin til Århus","Lastbil < 16 ton ",500,"Berlin til Århus","Lastbil < 16 ton ",500]
[63,null,{"$error":"#N/A"},{"$error":"#N/A"},{"$error":"#N/A"},null,{"$error":"#N/A"},{"$error":"#N/A"},{"$error":"#N/A"}]
[64,null,{"$error":"#N/A"},{"$error":"#N/A"},{"$error":"#N/A"},null,{"$error":"#N/A"},{"$error":"#N/A"},{"$error":"#N/A"}]
[{"$f":"A69+1","v":65},null,{"$error":"#N/A"},{"$error":"#N/A"},{"$error":"#N/A"},null,{"$error":"#N/A"},{"$error":"#N/A"},{"$error":"#N/A"}]
[66,null,{"$error":"#N/A"},{"$error":"#N/A"},{"$error":"#N/A"},null,{"$error":"#N/A"},{"$error":"#N/A"},{"$error":"#N/A"}]
[67,null,{"$error":"#N/A"},{"$error":"#N/A"},{"$error":"#N/A"},null,{"$error":"#N/A"},{"$error":"#N/A"},{"$error":"#N/A"}]
[68,null,{"$error":"#N/A"},{"$error":"#N/A"},{"$error":"#N/A"},null,{"$error":"#N/A"},{"$error":"#N/A"},{"$error":"#N/A"}]
[69,null,{"$error":"#N/A"},{"$error":"#N/A"},{"$error":"#N/A"},null,{"$error":"#N/A"},{"$error":"#N/A"},{"$error":"#N/A"}]
[70,null,{"$error":"#N/A"},{"$error":"#N/A"},{"$error":"#N/A"},null,{"$error":"#N/A"},{"$error":"#N/A"},{"$error":"#N/A"},null,null,null,null,null,null,null,"Fragskib",null,null,"Fragskib",null,null,"Fragskib",null,null,"Fragskib",null,null,"Fragskib",null,null,"Fragskib",null,null,"Fragskib",null,null,"Fragskib"]
[71]
[72]
[73,"Leveringspris pr produkt",{"$f":"HLOOKUP($D$5&C$6,Arketyper,$A78,FALSE)","v":{"$error":"#N/A"}},null,null,null,{"$f":"HLOOKUP($H$5&G$6,Arketyper,$A78,FALSE)","v":{"$error":"#N/A"}},null,null,0,null,null,0,null,null,2,null,null,2,null,null,2,null,null,2,null,null,2,null,null,2,null,null,2,null,null,2]
[74,"hjælpetekst"]
[75,"Emballage","Materiale","Produkter pr. pakning","g-emballage pr. pakning",null,"Materiale","Produkter pr. pakning","g-emballage pr. pakning","Materiale","Produkter pr. pakning","g-emballage/ pakning","Materiale","Produkter pr. pakning","g-emballage/ pakning","Materiale","Produkter pr. pakning","g-emballage/ pakning","Materiale","Produkter pr. pakning","g-emballage/ pakning","Materiale","Produkter pr. pakning","g-emballage/ pakning","Materiale","Produkter pr. pakning","g-emballage/ pakning","Materiale","Produkter pr. pakning","g-emballage/ pakning","Materiale","Produkter pr. pakning","g-emballage/ pakning","Materiale","Produkter pr. pakning","g-emballage/ pakning","Materiale","Produkter pr. pakning","g-emballage/ pakning"]
[76,null,{"$f":"IF(HLOOKUP($D$5&C$6,Arketyper,$A81,FALSE)=0,\"\",HLOOKUP($D$5&C$6,Arketyper,$A81,FALSE))","v":{"$error":"#N/A"}},{"$error":"#N/A"},{"$error":"#N/A"},null,{"$f":"IF(HLOOKUP($H$5&G$6,Arketyper,$A81,FALSE)=0,\"\",HLOOKUP($H$5&G$6,Arketyper,$A81,FALSE))","v":{"$error":"#N/A"}},{"$error":"#N/A"},{"$error":"#N/A"},"LDPE film",1,70,"LDPE film",5,500,"PP film",6,3,"PP film",6,3,"PP film",6,3,"PP film",6,3,"PP film",6,3,"PP film",6,3,"PP film",6,3,"PP film",6,3]
[77,null,{"$error":"#N/A"},{"$error":"#N/A"},{"$error":"#N/A"},null,{"$error":"#N/A"},{"$error":"#N/A"},{"$error":"#N/A"},"pap",48,500,"pap",48,2000,"pap",40,50,"pap",40,50,"pap",40,50,"pap",40,50,"pap",40,50,"pap",40,50,"pap",40,50,"pap",40,50]
[78,null,{"$error":"#N/A"},{"$error":"#N/A"},{"$error":"#N/A"},null,{"$error":"#N/A"},{"$error":"#N/A"},{"$error":"#N/A"},"palle",{"$f":"16*48","v":768},20000,"palle",{"$f":"16*48","v":768},20000,"LDPE film",400,50,"LDPE film",400,50,"LDPE film",400,50,"LDPE film",400,50,"LDPE film",400,50,"LDPE film",400,50,"LDPE film",400,50,"LDPE film",400,50]
[79,null,{"$error":"#N/A"},{"$error":"#N/A"},{"$error":"#N/A"},null,{"$error":"#N/A"},{"$error":"#N/A"},{"$error":"#N/A"},null,null,null,null,null,null,"palle",400,55,"palle",400,55,"palle",400,55,"palle",400,55,"palle",400,55,"palle",400,55,"palle",400,55,"palle",400,55]
[80,null,{"$error":"#N/A"},{"$error":"#N/A"},{"$error":"#N/A"},null,{"$error":"#N/A"},{"$error":"#N/A"},{"$error":"#N/A"}]
[81,null,{"$error":"#N/A"},{"$error":"#N/A"},{"$error":"#N/A"},null,{"$error":"#N/A"},{"$error":"#N/A"},{"$error":"#N/A"}]
[82,null,{"$error":"#N/A"},{"$error":"#N/A"},{"$error":"#N/A"},null,{"$error":"#N/A"},{"$error":"#N/A"},{"$error":"#N/A"}]
[83,null,{"$error":"#N/A"},{"$error":"#N/A"},{"$error":"#N/A"},null,{"$error":"#N/A"},{"$error":"#N/A"},{"$error":"#N/A"}]
[84,null,{"$error":"#N/A"},{"$error":"#N/A"},{"$error":"#N/A"},null,{"$error":"#N/A"},{"$error":"#N/A"},{"$error":"#N/A"}]
[85,null,{"$error":"#N/A"},{"$error":"#N/A"},{"$error":"#N/A"},null,{"$error":"#N/A"},{"$error":"#N/A"},{"$error":"#N/A"},null,null,null,null,null,null,null,null,3,null,null,3,null,null,3,null,null,3,null,null,3,null,null,3,null,null,3,null,null,3]
[86]
[87]
[88]
[89]
[90,"Intern logistik før første brug (egne transportmidler og ansatte)"]
[91,null,null,{"$f":"Name_product1","v":0},null,null,null,{"$f":"Name_product2","v":0}]
[92,null,"Egen husketekst","Transportmiddel","Afstand",null,"Egen husketekst","Transportmiddel","Afstand","fritekst","transportmiddel","afstand","fritekst","transportmiddel","afstand","fritekst","transportmiddel","afstand","fritekst","transportmiddel","afstand","fritekst","transportmiddel","afstand","fritekst","transportmiddel","afstand","fritekst","transportmiddel","afstand","fritekst","transportmiddel","afstand","fritekst","transportmiddel","afstand","fritekst","transportmiddel","afstand"]
[93,"Transportform og distance",{"$f":"IF(HLOOKUP($D$5&C$6,Arketyper,$A98,FALSE)=0,\"\",HLOOKUP($D$5&C$6,Arketyper,$A98,FALSE))","v":{"$error":"#N/A"}},{"$error":"#N/A"},{"$error":"#N/A"},null,{"$f":"IF(HLOOKUP($H$5&G$6,Arketyper,$A98,FALSE)=0,\"\",HLOOKUP($H$5&G$6,Arketyper,$A98,FALSE))","v":{"$error":"#N/A"}},{"$error":"#N/A"},{"$error":"#N/A"},"lager til hospital","Lastbil - 16-32 ton",25,"Lager til vaskeri","Lastbil - 16-32 ton",25,"Lager til midtVask","Lastbil - 16-32 ton",25,"Lager til midtVask","Lastbil - 16-32 ton",25,"Lager til midtVask","Lastbil - 16-32 ton",25,"Lager til midtVask","Lastbil - 16-32 ton",25,"Lager til midtVask","Lastbil - 16-32 ton",25,"Lager til midtVask","Lastbil - 16-32 ton",25,"Lager til midtVask","Lastbil - 16-32 ton",25,"Lager til midtVask","Lastbil - 16-32 ton",25]
[94,null,{"$error":"#N/A"},{"$error":"#N/A"},{"$error":"#N/A"},null,{"$error":"#N/A"},{"$error":"#N/A"},{"$error":"#N/A"},null,null,null,"vaskeri til hospital","Lastbil - 16-32 ton",10]
[95,null,{"$error":"#N/A"},{"$error":"#N/A"},{"$error":"#N/A"},null,{"$error":"#N/A"},{"$error":"#N/A"},{"$error":"#N/A"}]
[96,null,{"$error":"#N/A"},{"$error":"#N/A"},{"$error":"#N/A"},null,{"$error":"#N/A"},{"$error":"#N/A"},{"$error":"#N/A"}]
[97,null,{"$error":"#N/A"},{"$error":"#N/A"},{"$error":"#N/A"},null,{"$error":"#N/A"},{"$error":"#N/A"},{"$error":"#N/A"}]
[98,null,{"$error":"#N/A"},{"$error":"#N/A"},{"$error":"#N/A"},null,{"$error":"#N/A"},{"$error":"#N/A"},{"$error":"#N/A"}]
[99,null,{"$error":"#N/A"},{"$error":"#N/A"},{"$error":"#N/A"},null,{"$error":"#N/A"},{"$error":"#N/A"},{"$error":"#N/A"}]
[100,null,{"$error":"#N/A"},{"$error":"#N/A"},{"$error":"#N/A"},null,{"$error":"#N/A"},{"$error":"#N/A"},{"$error":"#N/A"}]
[101,null,{"$error":"#N/A"},{"$error":"#N/A"},{"$error":"#N/A"},null,{"$error":"#N/A"},{"$error":"#N/A"},{"$error":"#N/A"}]
[102,null,{"$error":"#N/A"},{"$error":"#N/A"},{"$error":"#N/A"},null,{"$error":"#N/A"},{"$error":"#N/A"},{"$error":"#N/A"},null,null,null,null,null,null,"a","Tog",4,"a","Tog",4,"a","Tog",4,"a","Tog",4,"a","Tog",4,"a","Tog",4,"a","Tog",4,"a","Tog",4]
[103]
[104]
[105]
[106,"Emballage","Materiale","Produkter pr. pakning","g-emballage pr. pakning",null,"Materiale","Produkter pr. pakning","g-emballage pr. pakning","Materiale","Produkter pr. pakning","g-emballage/ pakning","Materiale","Produkter pr. pakning","g-emballage/ pakning","Materiale","Produkter pr. pakning","g-emballage/ pakning","Materiale","Produkter pr. pakning","g-emballage/ pakning","Materiale","Produkter pr. pakning","g-emballage/ pakning","Materiale","Produkter pr. pakning","g-emballage/ pakning","Materiale","Produkter pr. pakning","g-emballage/ pakning","Materiale","Produkter pr. pakning","g-emballage/ pakning","Materiale","Produkter pr. pakning","g-emballage/ pakning","Materiale","Produkter pr. pakning","g-emballage/ pakning"]
[107,null,{"$f":"IF(HLOOKUP($D$5&C$6,Arketyper,$A112,FALSE)=0,\"\",HLOOKUP($D$5&C$6,Arketyper,$A112,FALSE))","v":{"$error":"#N/A"}},{"$error":"#N/A"},{"$error":"#N/A"},null,{"$f":"IF(HLOOKUP($H$5&G$6,Arketyper,$A112,FALSE)=0,\"\",HLOOKUP($H$5&G$6,Arketyper,$A112,FALSE))","v":{"$error":"#N/A"}},{"$error":"#N/A"},{"$error":"#N/A"},null,null,null,"LDPE film",100,50]
[108,null,{"$error":"#N/A"},{"$error":"#N/A"},{"$error":"#N/A"},null,{"$error":"#N/A"},{"$error":"#N/A"},{"$error":"#N/A"},null,null,null,null,null,null,"LDPE film",100,20,"LDPE film",100,20,"LDPE film",100,20,"LDPE film",100,20,"LDPE film",100,20,"LDPE film",100,20,"LDPE film",100,20,"LDPE film",100,20]
[109,null,{"$error":"#N/A"},{"$error":"#N/A"},{"$error":"#N/A"},null,{"$error":"#N/A"},{"$error":"#N/A"},{"$error":"#N/A"}]
[110,null,{"$error":"#N/A"},{"$error":"#N/A"},{"$error":"#N/A"},null,{"$error":"#N/A"},{"$error":"#N/A"},{"$error":"#N/A"}]
[111,null,{"$error":"#N/A"},{"$error":"#N/A"},{"$error":"#N/A"},null,{"$error":"#N/A"},{"$error":"#N/A"},{"$error":"#N/A"}]
[112,null,{"$error":"#N/A"},{"$error":"#N/A"},{"$error":"#N/A"},null,{"$error":"#N/A"},{"$error":"#N/A"},{"$error":"#N/A"}]
[113,null,{"$error":"#N/A"},{"$error":"#N/A"},{"$error":"#N/A"},null,{"$error":"#N/A"},{"$error":"#N/A"},{"$error":"#N/A"}]
[114,null,{"$error":"#N/A"},{"$error":"#N/A"},{"$error":"#N/A"},null,{"$error":"#N/A"},{"$error":"#N/A"},{"$error":"#N/A"}]
[115,null,{"$error":"#N/A"},{"$error":"#N/A"},{"$error":"#N/A"},null,{"$error":"#N/A"},{"$error":"#N/A"},{"$error":"#N/A"}]
[116,null,{"$error":"#N/A"},{"$error":"#N/A"},{"$error":"#N/A"},null,{"$error":"#N/A"},{"$error":"#N/A"},{"$error":"#N/A"},null,null,null,null,null,null,null,332,null,null,332,null,null,332,null,null,332,null,null,332,null,null,332,null,null,332,null,null,332]
[117]
[118]
[119]
[120,"Logistik i forbindelse med brug, vask, vedligeholdelse og sterilisering"]
[121,null,null,{"$f":"Name_product1","v":0},null,null,null,{"$f":"Name_product2","v":0}]
[122,null,"Egen husketekst","Transportmiddel","Afstand",null,"Egen husketekst","Transportmiddel","Afstand","fritekst","transportmiddel","afstand","fritekst","transportmiddel","afstand","fritekst","transportmiddel","afstand","fritekst","transportmiddel","afstand","fritekst","transportmiddel","afstand","fritekst","transportmiddel","afstand","fritekst","transportmiddel","afstand","fritekst","transportmiddel","afstand","fritekst","transportmiddel","afstand","fritekst","transportmiddel","afstand"]
[123,"Transportform og distance",{"$f":"IF(HLOOKUP($D$5&C$6,Arketyper,$A128,FALSE)=0,\"\",HLOOKUP($D$5&C$6,Arketyper,$A128,FALSE))","v":{"$error":"#N/A"}},{"$error":"#N/A"},{"$error":"#N/A"},null,{"$f":"IF(HLOOKUP($H$5&G$6,Arketyper,$A128,FALSE)=0,\"\",HLOOKUP($H$5&G$6,Arketyper,$A128,FALSE))","v":{"$error":"#N/A"}},{"$error":"#N/A"},{"$error":"#N/A"},null,null,null,"hospital til vaskeri","Lastbil < 16 ton ",7,"AUH-midtvask","Lastbil - 16-32 ton",7,"AUH-midtvask","Lastbil - 16-32 ton",7,"AUH-midtvask","Lastbil - 16-32 ton",7,"AUH-midtvask","Lastbil - 16-32 ton",7,"AUH-midtvask","Lastbil - 16-32 ton",7,"AUH-midtvask","Lastbil - 16-32 ton",7,"AUH-midtvask","Lastbil - 16-32 ton",7,"AUH-midtvask","Lastbil - 16-32 ton",7]
[124,null,{"$error":"#N/A"},{"$error":"#N/A"},{"$error":"#N/A"},null,{"$error":"#N/A"},{"$error":"#N/A"},{"$error":"#N/A"},null,null,null,"vaskeri til sterilliseringscentral","Lastbil < 16 ton ",15,"midtvask-sterilisering","Lastbil < 16 ton ",15,"midtvask-sterilisering","Lastbil < 16 ton ",15,"midtvask-sterilisering","Lastbil < 16 ton ",15,"midtvask-sterilisering","Lastbil < 16 ton ",15,"midtvask-sterilisering","Lastbil < 16 ton ",15,"midtvask-sterilisering","Lastbil < 16 ton ",15,"midtvask-sterilisering","Lastbil < 16 ton ",15,"midtvask-sterilisering","Lastbil < 16 ton ",15]
[125,null,{"$error":"#N/A"},{"$error":"#N/A"},{"$error":"#N/A"},null,{"$error":"#N/A"},{"$error":"#N/A"},{"$error":"#N/A"},null,null,null,"steriliseringscentral til hospital","Lastbil < 16 ton ",20,"sterilisering-AUH","Lastbil < 16 ton ",20,"sterilisering-AUH","Lastbil < 16 ton ",20,"sterilisering-AUH","Lastbil < 16 ton ",20,"sterilisering-AUH","Lastbil < 16 ton ",20,"sterilisering-AUH","Lastbil < 16 ton ",20,"sterilisering-AUH","Lastbil < 16 ton ",20,"sterilisering-AUH","Lastbil < 16 ton ",20,"sterilisering-AUH","Lastbil < 16 ton ",20]
[126,null,{"$error":"#N/A"},{"$error":"#N/A"},{"$error":"#N/A"},null,{"$error":"#N/A"},{"$error":"#N/A"},{"$error":"#N/A"}]
[127,null,{"$error":"#N/A"},{"$error":"#N/A"},{"$error":"#N/A"},null,{"$error":"#N/A"},{"$error":"#N/A"},{"$error":"#N/A"}]
[{"$f":"A132+1","v":128},null,{"$error":"#N/A"},{"$error":"#N/A"},{"$error":"#N/A"},null,{"$error":"#N/A"},{"$error":"#N/A"},{"$error":"#N/A"}]
[129,null,{"$error":"#N/A"},{"$error":"#N/A"},{"$error":"#N/A"},null,{"$error":"#N/A"},{"$error":"#N/A"},{"$error":"#N/A"}]
[130,null,{"$error":"#N/A"},{"$error":"#N/A"},{"$error":"#N/A"},null,{"$error":"#N/A"},{"$error":"#N/A"},{"$error":"#N/A"}]
[131,null,{"$error":"#N/A"},{"$error":"#N/A"},{"$error":"#N/A"},null,{"$error":"#N/A"},{"$error":"#N/A"},{"$error":"#N/A"}]
[132,null,{"$error":"#N/A"},{"$error":"#N/A"},{"$error":"#N/A"},null,{"$error":"#N/A"},{"$error":"#N/A"},{"$error":"#N/A"},null,null,null,null,null,null,null,null,2,null,null,2,null,null,2,null,null,2,null,null,2,null,null,2,null,null,2,null,null,2]
[133]
[134]
[135]
[136]
[137,"Emballage","Materiale","Produkter pr. pakning","g-emballage pr. pakning",null,"Materiale","Produkter pr. pakning","g-emballage pr. pakning","Materiale","Produkter pr. pakning","g-emballage/ pakning","Materiale","Produkter pr. pakning","g-emballage/ pakning","Materiale","Produkter pr. pakning","g-emballage/ pakning","Materiale","Produkter pr. pakning","g-emballage/ pakning","Materiale","Produkter pr. pakning","g-emballage/ pakning","Materiale","Produkter pr. pakning","g-emballage/ pakning","Materiale","Produkter pr. pakning","g-emballage/ pakning","Materiale","Produkter pr. pakning","g-emballage/ pakning","Materiale","Produkter pr. pakning","g-emballage/ pakning","Materiale","Produkter pr. pakning","g-emballage/ pakning"]
[138,null,{"$f":"IF(HLOOKUP($D$5&C$6,Arketyper,$A143,FALSE)=0,\"\",HLOOKUP($D$5&C$6,Arketyper,$A143,FALSE))","v":{"$error":"#N/A"}},{"$error":"#N/A"},{"$error":"#N/A"},null,{"$f":"IF(HLOOKUP($H$5&G$6,Arketyper,$A143,FALSE)=0,\"\",HLOOKUP($H$5&G$6,Arketyper,$A143,FALSE))","v":{"$error":"#N/A"}},{"$error":"#N/A"},{"$error":"#N/A"},null,null,null,"LDPE film",1,10,"indpakningspapir",4,5,"indpakningspapir",4,5,"indpakningspapir",4,5,"indpakningspapir",4,5,"indpakningspapir",4,5,"indpakningspapir",4,5,"indpakningspapir",4,5,"indpakningspapir",4,5]
[139,null,{"$error":"#N/A"},{"$error":"#N/A"},{"$error":"#N/A"},null,{"$error":"#N/A"},{"$error":"#N/A"},{"$error":"#N/A"},null,null,null,"Pap",50,300,"PP film",25,30,"PP film",25,30,"PP film",25,30,"PP film",25,30,"PP film",25,30,"PP film",25,30,"PP film",25,30,"PP film",25,30]
[140,null,{"$error":"#N/A"},{"$error":"#N/A"},{"$error":"#N/A"},null,{"$error":"#N/A"},{"$error":"#N/A"},{"$error":"#N/A"}]
[141,null,{"$error":"#N/A"},{"$error":"#N/A"},{"$error":"#N/A"},null,{"$error":"#N/A"},{"$error":"#N/A"},{"$error":"#N/A"}]
[142,null,{"$error":"#N/A"},{"$error":"#N/A"},{"$error":"#N/A"},null,{"$error":"#N/A"},{"$error":"#N/A"},{"$error":"#N/A"}]
[143,null,{"$error":"#N/A"},{"$error":"#N/A"},{"$error":"#N/A"},null,{"$error":"#N/A"},{"$error":"#N/A"},{"$error":"#N/A"}]
[144,null,{"$error":"#N/A"},{"$error":"#N/A"},{"$error":"#N/A"},null,{"$error":"#N/A"},{"$error":"#N/A"},{"$error":"#N/A"}]
[145,null,{"$error":"#N/A"},{"$error":"#N/A"},{"$error":"#N/A"},null,{"$error":"#N/A"},{"$error":"#N/A"},{"$error":"#N/A"}]
[146,null,{"$error":"#N/A"},{"$error":"#N/A"},{"$error":"#N/A"},null,{"$error":"#N/A"},{"$error":"#N/A"},{"$error":"#N/A"}]
[147,null,{"$error":"#N/A"},{"$error":"#N/A"},{"$error":"#N/A"},null,{"$error":"#N/A"},{"$error":"#N/A"},{"$error":"#N/A"},null,null,null,null,null,null,null,null,null,"indpakningspapir",null,null,"indpakningspapir",null,null,"indpakningspapir",null,null,"indpakningspapir",null,null,"indpakningspapir",null,null,"indpakningspapir",null,null,"indpakningspapir"]
[148]
[149]
[150]
[151]
[152,"Baggrundsdata"]
[153,null,null,{"$f":"Name_product1","v":0},null,null,null,{"$f":"Name_product2","v":0}]
[154,"Logistik på lager","Egen husketekst","Funktion","sekunder pr. produkt pr. cyklus",null,"Egen husketekst","Funktion","sekunder pr. produkt pr. cyklus","fritekst","Funktion","sek/produkt/ cykuls","fritekst","Funktion","sek/produkt/ cykuls","fritekst","Funktion","sek/produkt/ cykuls","fritekst","Funktion","sek/produkt/ cykuls","fritekst","Funktion","sek/produkt/ cykuls","fritekst","Funktion","sek/produkt/ cykuls","fritekst","Funktion","sek/produkt/ cykuls","fritekst","Funktion","sek/produkt/ cykuls","fritekst","Funktion","sek/produkt/ cykuls","fritekst","Funktion","sek/produkt/ cykuls"]
[155,"Sker én gang i løbet af ",{"$f":"IF(HLOOKUP($D$5&C$6,Arketyper,$A160,FALSE)=0,\"\",HLOOKUP($D$5&C$6,Arketyper,$A160,FALSE))","v":{"$error":"#N/A"}},{"$error":"#N/A"},{"$error":"#N/A"},null,{"$f":"IF(HLOOKUP($H$5&G$6,Arketyper,$A160,FALSE)=0,\"\",HLOOKUP($H$5&G$6,Arketyper,$A160,FALSE))","v":{"$error":"#N/A"}},{"$error":"#N/A"},{"$error":"#N/A"},null,null,null,null,null,null,"Lastning på lager","logistik medarbejder",null,"Lastning på lager","logistik medarbejder",null,"Lastning på lager","logistik medarbejder",null,"Lastning på lager","logistik medarbejder",null,"Lastning på lager","logistik medarbejder",null,"Lastning på lager","logistik medarbejder",null,"Lastning på lager","logistik medarbejder",null,"Lastning på lager","logistik medarbejder"]
[156,"produktets livscyklus",{"$error":"#N/A"},{"$error":"#N/A"},{"$error":"#N/A"},null,{"$error":"#N/A"},{"$error":"#N/A"},{"$error":"#N/A"},null,null,null,null,null,null,"Kørsel","logistik medarbejder",null,"Kørsel","logistik medarbejder",null,"Kørsel","logistik medarbejder",null,"Kørsel","logistik medarbejder",null,"Kørsel","logistik medarbejder",null,"Kørsel","logistik medarbejder",null,"Kørsel","logistik medarbejder",null,"Kørsel","logistik medarbejder"]
[157,null,{"$error":"#N/A"},{"$error":"#N/A"},{"$error":"#N/A"},null,{"$error":"#N/A"},{"$error":"#N/A"},{"$error":"#N/A"},null,null,null,null,null,null,"aflæsning midtVask","logistik medarbejder",null,"aflæsning midtVask","logistik medarbejder",null,"aflæsning midtVask","logistik medarbejder",null,"aflæsning midtVask","logistik medarbejder",null,"aflæsning midtVask","logistik medarbejder",null,"aflæsning midtVask","logistik medarbejder",null,"aflæsning midtVask","logistik medarbejder",null,"aflæsning midtVask","logistik medarbejder"]
[158,null,{"$error":"#N/A"},{"$error":"#N/A"},{"$error":"#N/A"},null,{"$error":"#N/A"},{"$error":"#N/A"},{"$error":"#N/A"},null,null,null,null,null,null,"Kørsel","logistik medarbejder",null,"Kørsel","logistik medarbejder",null,"Kørsel","logistik medarbejder",null,"Kørsel","logistik medarbejder",null,"Kørsel","logistik medarbejder",null,"Kørsel","logistik medarbejder",null,"Kørsel","logistik medarbejder",null,"Kørsel","logistik medarbejder"]
[159,null,{"$error":"#N/A"},{"$error":"#N/A"},{"$error":"#N/A"},null,{"$error":"#N/A"},{"$error":"#N/A"},{"$error":"#N/A"},null,null,null,null,null,null,"Aflæsning AUH","logistik medarbejder",null,"Aflæsning AUH","logistik medarbejder",null,"Aflæsning AUH","logistik medarbejder",null,"Aflæsning AUH","logistik medarbejder",null,"Aflæsning AUH","logistik medarbejder",null,"Aflæsning AUH","logistik medarbejder",null,"Aflæsning AUH","logistik medarbejder",null,"Aflæsning AUH","logistik medarbejder"]
[160,null,{"$error":"#N/A"},{"$error":"#N/A"},{"$error":"#N/A"},null,{"$error":"#N/A"},{"$error":"#N/A"},{"$error":"#N/A"}]
[161,null,{"$error":"#N/A"},{"$error":"#N/A"},{"$error":"#N/A"},null,{"$error":"#N/A"},{"$error":"#N/A"},{"$error":"#N/A"}]
[162,null,{"$error":"#N/A"},{"$error":"#N/A"},{"$error":"#N/A"},null,{"$error":"#N/A"},{"$error":"#N/A"},{"$error":"#N/A"}]
[163,null,{"$error":"#N/A"},{"$error":"#N/A"},{"$error":"#N/A"},null,{"$error":"#N/A"},{"$error":"#N/A"},{"$error":"#N/A"}]
[164,null,{"$error":"#N/A"},{"$error":"#N/A"},{"$error":"#N/A"},null,{"$error":"#N/A"},{"$error":"#N/A"},{"$error":"#N/A"},null,null,null,null,null,null,null,"anden funktion",null,null,"anden funktion",null,null,"anden funktion",null,null,"anden funktion",null,null,"anden funktion",null,null,"anden funktion",null,null,"anden funktion",null,null,"anden funktion"]
[165]
[166,"Tidsforbrug","Egen husketekst","Funktion","sekunder pr. produkt pr. cyklus",null,"Egen husketekst","Funktion","sekunder pr. produkt pr. cyklus","fritekst","Funktion","sek/produkt/ cykuls","fritekst","Funktion","sek/produkt/ cykuls","fritekst","Funktion","sek/produkt/ cykuls","fritekst","Funktion","sek/produkt/ cykuls","fritekst","Funktion","sek/produkt/ cykuls","fritekst","Funktion","sek/produkt/ cykuls","fritekst","Funktion","sek/produkt/ cykuls","fritekst","Funktion","sek/produkt/ cykuls","fritekst","Funktion","sek/produkt/ cykuls","fritekst","Funktion","sek/produkt/ cykuls"]
[167,"Tidsforbrug egne medarbejdere ",{"$f":"IF(HLOOKUP($D$5&C$6,Arketyper,$A172,FALSE)=0,\"\",HLOOKUP($D$5&C$6,Arketyper,$A172,FALSE))","v":{"$error":"#N/A"}},{"$error":"#N/A"},{"$error":"#N/A"},null,{"$f":"IF(HLOOKUP($H$5&G$6,Arketyper,$A172,FALSE)=0,\"\",HLOOKUP($H$5&G$6,Arketyper,$A172,FALSE))","v":{"$error":"#N/A"}},{"$error":"#N/A"},{"$error":"#N/A"},null,null,null,null,null,null,"afhentning på AUH","logistik medarbejder",null,"afhentning på AUH","logistik medarbejder",null,"afhentning på AUH","logistik medarbejder",null,"afhentning på AUH","logistik medarbejder",null,"afhentning på AUH","logistik medarbejder",null,"afhentning på AUH","logistik medarbejder",null,"afhentning på AUH","logistik medarbejder",null,"afhentning på AUH","logistik medarbejder"]
[168,"(ekskl. køretid)",{"$error":"#N/A"},{"$error":"#N/A"},{"$error":"#N/A"},null,{"$error":"#N/A"},{"$error":"#N/A"},{"$error":"#N/A"},null,null,null,null,null,null,"kørsel","logistik medarbejder",null,"kørsel","logistik medarbejder",null,"kørsel","logistik medarbejder",null,"kørsel","logistik medarbejder",null,"kørsel","logistik medarbejder",null,"kørsel","logistik medarbejder",null,"kørsel","logistik medarbejder",null,"kørsel","logistik medarbejder"]
[169,"Sker for hver vaskecyklus",{"$error":"#N/A"},{"$error":"#N/A"},{"$error":"#N/A"},null,{"$error":"#N/A"},{"$error":"#N/A"},{"$error":"#N/A"},null,null,null,null,null,null,"håndtering på midtvask","logistik medarbejder",null,"håndtering på midtvask","logistik medarbejder",null,"håndtering på midtvask","logistik medarbejder",null,"håndtering på midtvask","logistik medarbejder",null,"håndtering på midtvask","logistik medarbejder",null,"håndtering på midtvask","logistik medarbejder",null,"håndtering på midtvask","logistik medarbejder",null,"håndtering på midtvask","logistik medarbejder"]
[170,null,{"$error":"#N/A"},{"$error":"#N/A"},{"$error":"#N/A"},null,{"$error":"#N/A"},{"$error":"#N/A"},{"$error":"#N/A"},null,null,null,null,null,null,"kørsel","logistik medarbejder",null,"kørsel","logistik medarbejder",null,"kørsel","logistik medarbejder",null,"kørsel","logistik medarbejder",null,"kørsel","logistik medarbejder",null,"kørsel","logistik medarbejder",null,"kørsel","logistik medarbejder",null,"kørsel","logistik medarbejder"]
[171,null,{"$error":"#N/A"},{"$error":"#N/A"},{"$error":"#N/A"},null,{"$error":"#N/A"},{"$error":"#N/A"},{"$error":"#N/A"},null,null,null,null,null,null,"påpladslægning AUH","logistik medarbejder",null,"påpladslægning AUH","logistik medarbejder",null,"påpladslægning AUH","logistik medarbejder",null,"påpladslægning AUH","logistik medarbejder",null,"påpladslægning AUH","logistik medarbejder",null,"påpladslægning AUH","logistik medarbejder",null,"påpladslægning AUH","logistik medarbejder",null,"påpladslægning AUH","logistik medarbejder"]
[172,null,{"$error":"#N/A"},{"$error":"#N/A"},{"$error":"#N/A"},null,{"$error":"#N/A"},{"$error":"#N/A"},{"$error":"#N/A"}]
[173,null,{"$error":"#N/A"},{"$error":"#N/A"},{"$error":"#N/A"},null,{"$error":"#N/A"},{"$error":"#N/A"},{"$error":"#N/A"}]
[174,null,{"$error":"#N/A"},{"$error":"#N/A"},{"$error":"#N/A"},null,{"$error":"#N/A"},{"$error":"#N/A"},{"$error":"#N/A"}]
[175,null,{"$error":"#N/A"},{"$error":"#N/A"},{"$error":"#N/A"},null,{"$error":"#N/A"},{"$error":"#N/A"},{"$error":"#N/A"}]
[176,null,{"$error":"#N/A"},{"$error":"#N/A"},{"$error":"#N/A"},null,{"$error":"#N/A"},{"$error":"#N/A"},{"$error":"#N/A"},null,null,null,null,null,null,null,"anden funktion",null,null,"anden funktion",null,null,"anden funktion",null,null,"anden funktion",null,null,"anden funktion",null,null,"anden funktion",null,null,"anden funktion",null,null,"anden funktion"]
[177]
[178,"Omkostninger til løn til",null,"timepris for personalegruppe",null,null,null,"timepris for personalegruppe"]
[179,"lagermedarbejder",null,{"$f":"IF(HLOOKUP($D$5&D$6,Arketyper,$A184,FALSE)=0,\"\",HLOOKUP($D$5&D$6,Arketyper,$A184,FALSE))","v":{"$error":"#N/A"}},null,null,null,{"$f":"IF(HLOOKUP($H$5&H$6,Arketyper,$A184,FALSE)=0,\"\",HLOOKUP($H$5&H$6,Arketyper,$A184,FALSE))","v":{"$error":"#N/A"}},null,null,150,null,null,150,null,null,150,null,null,150,null,null,150,null,null,150,null,null,150,null,null,150,null,null,150,null,null,150]
[180,"lastbilchauffør",null,{"$error":"#N/A"},null,null,null,{"$error":"#N/A"},null,null,170,null,null,170,null,null,170,null,null,170,null,null,170,null,null,170,null,null,170,null,null,170,null,null,170,null,null,170]
[181,"klinisk personale",null,{"$error":"#N/A"},null,null,null,{"$error":"#N/A"},null,null,350,null,null,350,null,null,350,null,null,350,null,null,350,null,null,350,null,null,350,null,null,350,null,null,350,null,null,350]
[182,"logistik medarbejder",null,{"$error":"#N/A"},null,null,null,{"$error":"#N/A"},null,null,200,null,null,200,null,null,200,null,null,200,null,null,200,null,null,200,null,null,200,null,null,200,null,null,200,null,null,200]
[183,"anden funktion",null,{"$error":"#N/A"},null,null,null,{"$error":"#N/A"}]
[184,"anden funktion",null,{"$error":"#N/A"},null,null,null,{"$error":"#N/A"}]
[185,"anden funktion",null,{"$error":"#N/A"},null,null,null,{"$error":"#N/A"}]
[186,"anden funktion",null,{"$error":"#N/A"},null,null,null,{"$error":"#N/A"}]
[187,"anden funktion",null,{"$error":"#N/A"},null,null,null,{"$error":"#N/A"}]
[188,"anden funktion",null,{"$error":"#N/A"},null,null,null,{"$error":"#N/A"},null,null,null,null,null,null,null,null,32,null,null,32,null,null,32,null,null,32,null,null,32,null,null,32,null,null,32,null,null,32]
[189]
[190,"Omkostninger for kørsel i egne vogne"]
[191,"Gennemsnitlig indkøbspris for lastbil",null,{"$f":"IF(HLOOKUP($D$5&D$6,Arketyper,$A196,FALSE)=0,\"\",HLOOKUP($D$5&D$6,Arketyper,$A196,FALSE))","v":{"$error":"#N/A"}},"DKK",null,null,{"$f":"IF(HLOOKUP($H$5&H$6,Arketyper,$A196,FALSE)=0,\"\",HLOOKUP($H$5&H$6,Arketyper,$A196,FALSE))","v":{"$error":"#N/A"}},"DKK",null,1500000,"DKK",null,1500000,"DKK",null,1500000,"DKK",null,1500000,"DKK",null,1500000,"DKK",null,1500000,"DKK",null,1500000,"DKK",null,1500000,"DKK",null,1500000,"DKK",null,1500000,"DKK"]
[{"$f":"A196+1","v":192},"Gennemsnitlig kørsel i levetid",null,{"$error":"#N/A"},"km",null,null,{"$error":"#N/A"},"km",null,500000,"km",null,500000,"km",null,500000,"km",null,500000,"km",null,500000,"km",null,500000,"km",null,500000,"km",null,500000,"km",null,500000,"km",null,500000,"km"]
[193,"Gennemsnitlig læs i levetid (inkl. tomme ture)",null,{"$error":"#N/A"},"ton",null,null,{"$error":"#N/A"},"ton",null,10,"ton",null,10,"ton",null,10,"ton",null,10,"ton",null,10,"ton",null,10,"ton",null,10,"ton",null,10,"ton",null,10,"ton",null,10,"ton"]
[194,"Gennemsnitlige reparationsomkostninger i levetid",null,{"$error":"#N/A"},"DKK",null,null,{"$error":"#N/A"},"DKK",null,50000,"DKK",null,50000,"DKK",null,50000,"DKK",null,50000,"DKK",null,50000,"DKK",null,50000,"DKK",null,50000,"DKK",null,50000,"DKK",null,50000,"DKK",null,50000,"DKK"]
[195,"Gennemsnitlig distance pr liter brændstof",null,{"$error":"#N/A"},"km/L",null,null,{"$error":"#N/A"},"km/L",null,3,"km/L",null,3,"km/L",null,3,"km/L",null,3,"km/L",null,3,"km/L",null,3,"km/L",null,3,"km/L",null,3,"km/L",null,3,"km/L",null,3,"km/L"]
[196,"Brændstofpris",null,{"$error":"#N/A"},"DKK/L",null,null,{"$error":"#N/A"},"DKK/L",null,14.69,"DKK/L",null,14.69,"DKK/L",null,14.69,"DKK/L",null,14.69,"DKK/L",null,14.69,"DKK/L",null,14.69,"DKK/L",null,14.69,"DKK/L",null,14.69,"DKK/L",null,14.69,"DKK/L",null,14.69,"DKK/L"]
[197,null,null,{"$f":"(D196+D199)/(D198*D197)+D201/(D200*D198)","v":{"$error":"#N/A"}},"DKK/(ton.km)",null,null,{"$f":"(H196+H199)/(H198*H197)+H201/(H200*H198)","v":{"$error":"#N/A"}},"DKK/(ton.km)",null,{"$f":"(K196+K199)/(K198*K197)+K201/(K200*K198)","v":0.79966666666666664},"DKK/(ton.km)",null,{"$f":"(N196+N199)/(N198*N197)+N201/(N200*N198)","v":0.79966666666666664},"DKK/(ton.km)",null,{"$f":"(Q196+Q199)/(Q198*Q197)+Q201/(Q200*Q198)","v":0.79966666666666664},"DKK/(ton.km)",null,{"$f":"(T196+T199)/(T198*T197)+T201/(T200*T198)","v":0.79966666666666664},"DKK/(ton.km)",null,{"$f":"(W196+W199)/(W198*W197)+W201/(W200*W198)","v":0.79966666666666664},"DKK/(ton.km)",null,{"$f":"(Z196+Z199)/(Z198*Z197)+Z201/(Z200*Z198)","v":0.79966666666666664},"DKK/(ton.km)",null,{"$f":"(AC196+AC199)/(AC198*AC197)+AC201/(AC200*AC198)","v":0.79966666666666664},"DKK/(ton.km)",null,{"$f":"(AF196+AF199)/(AF198*AF197)+AF201/(AF200*AF198)","v":0.79966666666666664},"DKK/(ton.km)",null,{"$f":"(AI196+AI199)/(AI198*AI197)+AI201/(AI200*AI198)","v":0.79966666666666664},"DKK/(ton.km)",null,{"$f":"(AL196+AL199)/(AL198*AL197)+AL201/(AL200*AL198)","v":0.79966666666666664},"DKK/(ton.km)"]
[198]
[199]
[{"$f":"A204+1","v":200}]
[201]
[202,"Brug og vask"]
[203,null,null,{"$f":"Name_product1","v":0},null,null,null,{"$f":"Name_product2","v":0}]
[204,"Vask og tørring"]
[205,"Vaskeprogram",null,{"$f":"IF(HLOOKUP($D$5&D$6,Arketyper,$A210,FALSE)=0,\"\",HLOOKUP($D$5&D$6,Arketyper,$A210,FALSE))","v":{"$error":"#N/A"}},null,null,null,{"$f":"IF(HLOOKUP($H$5&H$6,Arketyper,$A210,FALSE)=0,\"\",HLOOKUP($H$5&H$6,Arketyper,$A210,FALSE))","v":{"$error":"#N/A"}},null,null,null,null,null,"Lille maskine, 40gr, 40min",null,null,"Lille maskine, 60gr, 40min",null,null,"Lille maskine, 60gr, 40min",null,null,"Lille maskine, 60gr, 40min",null,null,"Lille maskine, 60gr, 40min",null,null,"Lille maskine, 60gr, 40min",null,null,"Lille maskine, 60gr, 40min",null,null,"Lille maskine, 60gr, 40min",null,null,"Lille maskine, 60gr, 40min"]
[206]
[207,"Energikilde",null,{"$f":"IF(HLOOKUP($D$5&D$6,Arketyper,$A212,FALSE)=0,\"\",HLOOKUP($D$5&D$6,Arketyper,$A212,FALSE))","v":{"$error":"#N/A"}},null,null,null,{"$f":"IF(HLOOKUP($H$5&H$6,Arketyper,$A212,FALSE)=0,\"\",HLOOKUP($H$5&H$6,Arketyper,$A212,FALSE))","v":{"$error":"#N/A"}},null,null,null,null,null,"Biobrændsel, briketter",null,null,"Gas",null,null,"Gas",null,null,"Gas",null,null,"Gas",null,null,"Gas",null,null,"Gas",null,null,"Gas",null,null,"Gas"]
[208]
[209,"Vandforbrug, frisk vand",null,{"$f":"IF(HLOOKUP($D$5&D$6,Arketyper,$A214,FALSE)=0,\"\",HLOOKUP($D$5&D$6,Arketyper,$A214,FALSE))","v":{"$error":"#N/A"}},"L/vask",null,null,{"$f":"IF(HLOOKUP($H$5&H$6,Arketyper,$A214,FALSE)=0,\"\",HLOOKUP($H$5&H$6,Arketyper,$A214,FALSE))","v":{"$error":"#N/A"}},"L/vask",null,null,null,null,500,null,null,432,null,null,432,null,null,432,null,null,432,null,null,432,null,null,432,null,null,432,null,null,432]
[210]
[211,"Maskinekapacitet",null,{"$f":"IF(HLOOKUP($D$5&D$6,Arketyper,$A216,FALSE)=0,\"\",HLOOKUP($D$5&D$6,Arketyper,$A216,FALSE))","v":{"$error":"#N/A"}},"stk/maskine",null,null,{"$f":"IF(HLOOKUP($H$5&H$6,Arketyper,$A216,FALSE)=0,\"\",HLOOKUP($H$5&H$6,Arketyper,$A216,FALSE))","v":{"$error":"#N/A"}},"stk/maskine",null,null,null,null,{"$f":"ROUND(50000/N10,0)","v":162},null,null,160,null,null,160,null,null,160,null,null,160,null,null,160,null,null,160,null,null,160,null,null,160]
[212]
[213,null,null,"Vaskemiddel","mængde pr vask",null,null,"Vaskemiddel","mængde pr vask"]
[214,"Vaskemiddel og mængde",null,{"$f":"IF(HLOOKUP($D$5&D$6,Arketyper,$A219,FALSE)=0,\"\",HLOOKUP($D$5&D$6,Arketyper,$A219,FALSE))","v":{"$error":"#N/A"}},{"$error":"#N/A"},null,null,{"$f":"IF(HLOOKUP($H$5&H$6,Arketyper,$A219,FALSE)=0,\"\",HLOOKUP($H$5&H$6,Arketyper,$A219,FALSE))","v":{"$error":"#N/A"}},{"$error":"#N/A"},null,null,null,null,"Generisk, gennemsnitligt vaskemiddel",1,null,"Ecolab - Ozonit PERformance",1,null,"Ecolab - Ozonit PERformance",1,null,"Ecolab - Ozonit PERformance",1,null,"Ecolab - Ozonit PERformance",1,null,"Ecolab - Ozonit PERformance",1,null,"Ecolab - Ozonit PERformance",1,null,"Ecolab - Ozonit PERformance",1,null,"Ecolab - Ozonit PERformance",1]
[215,null,null,{"$error":"#N/A"},{"$error":"#N/A"},null,null,{"$error":"#N/A"},{"$error":"#N/A"}]
[216,null,null,{"$error":"#N/A"},{"$error":"#N/A"},null,null,{"$error":"#N/A"},{"$error":"#N/A"}]
[217,null,null,{"$error":"#N/A"},{"$error":"#N/A"},null,null,{"$error":"#N/A"},{"$error":"#N/A"}]
[218,null,null,{"$error":"#N/A"},{"$error":"#N/A"},null,null,{"$error":"#N/A"},{"$error":"#N/A"}]
[219,null,null,{"$error":"#N/A"},{"$error":"#N/A"},null,null,{"$error":"#N/A"},{"$error":"#N/A"}]
[220,null,null,{"$error":"#N/A"},{"$error":"#N/A"},null,null,{"$error":"#N/A"},{"$error":"#N/A"}]
[221,null,null,{"$error":"#N/A"},{"$error":"#N/A"},null,null,{"$error":"#N/A"},{"$error":"#N/A"}]
[222,null,null,{"$error":"#N/A"},{"$error":"#N/A"},null,null,{"$error":"#N/A"},{"$error":"#N/A"}]
[223,null,null,{"$error":"#N/A"},{"$error":"#N/A"},null,null,{"$error":"#N/A"},{"$error":"#N/A"},null,null,null,null,null,null,null,null,32,null,null,32,null,null,32,null,null,32,null,null,32,null,null,32,null,null,32,null,null,32]
[224]
[225]
[226,"Tørreprogram",null,{"$f":"IF(HLOOKUP($D$5&D$6,Arketyper,$A231,FALSE)=0,\"\",HLOOKUP($D$5&D$6,Arketyper,$A231,FALSE))","v":{"$error":"#N/A"}},null,null,null,{"$f":"IF(HLOOKUP($H$5&H$6,Arketyper,$A231,FALSE)=0,\"\",HLOOKUP($H$5&H$6,Arketyper,$A231,FALSE))","v":{"$error":"#N/A"}},null,null,null,null,null,"Tørretumbler, 80gr, 20min",null,null,"Tørretumbler, 80gr, 20min",null,null,"Tørretumbler, 80gr, 20min",null,null,"Tørretumbler, 80gr, 20min",null,null,"Tørretumbler, 80gr, 20min",null,null,"Tørretumbler, 80gr, 20min",null,null,"Tørretumbler, 80gr, 20min",null,null,"Tørretumbler, 80gr, 20min",null,null,"Tørretumbler, 80gr, 20min"]
[227]
[228,"Efterbehandling"]
[229,null,null,"Efterbehandling",null,null,null,"Efterbehandling"]
[230,"Strygning eller presning",null,{"$f":"IF(HLOOKUP($D$5&D$6,Arketyper,$A235,FALSE)=0,\"\",HLOOKUP($D$5&D$6,Arketyper,$A235,FALSE))","v":{"$error":"#N/A"}},null,null,null,{"$f":"IF(HLOOKUP($H$5&H$6,Arketyper,$A235,FALSE)=0,\"\",HLOOKUP($H$5&H$6,Arketyper,$A235,FALSE))","v":{"$error":"#N/A"}},null,null,"ingen",null,null,"Uniformsbehandling, våd, strygning, sammenlægning",null,null,"Strygning, håndholdt",null,null,"Strygning, håndholdt",null,null,"Strygning, håndholdt",null,null,"Strygning, håndholdt",null,null,"Strygning, håndholdt",null,null,"Strygning, håndholdt",null,null,"Strygning, håndholdt",null,null,"Strygning, håndholdt"]
[231]
[232,null,null,"Tid i minutter","timepris",null,null,"Tid i minutter","timepris"]
[233,"Specialhåndtering",null,{"$f":"HLOOKUP($D$5&D$6,Arketyper,$A238,FALSE)","v":{"$error":"#N/A"}},{"$f":"HLOOKUP($D$5&E$6,Arketyper,$A238,FALSE)","v":{"$error":"#N/A"}},null,null,{"$f":"HLOOKUP($H$5&H$6,Arketyper,$A238,FALSE)","v":{"$error":"#N/A"}},{"$f":"HLOOKUP($H$5&I$6,Arketyper,$A238,FALSE)","v":{"$error":"#N/A"}},null,null,null,null,null,null,null,0,0,null,0,0,null,0,0,null,0,0,null,0,0,null,0,0,null,0,0,null,0,0]
[234]
[235,null,null,"(ja/nej)",null,null,null,"(ja/nej)"]
[236,"Sterilisering",null,{"$error":"#N/A"},null,null,null,{"$error":"#N/A"},null,null,"nej",null,null,"nej",null,null,"nej",null,null,"nej",null,null,"nej",null,null,"nej",null,null,"nej",null,null,"nej",null,null,"nej",null,null,"nej"]
[237]
[238,null,null,"(ja/nej)","frekvens",null,null,"(ja/nej)","frekvens"]
[239,"Genimprægnering",null,{"$error":"#N/A"},{"$error":"#N/A"},null,null,{"$error":"#N/A"},{"$error":"#N/A"},null,"nej",0,null,"Væskeafvisende",4,null,"Væskeafvisende",4,null,"nej",4,null,"nej",4,null,"Væskeafvisende",4,null,"nej",4,null,"nej",4,null,"Væsketæt",4,null,"Væsketæt",4]
[240]
[241]
[242]
[243]
[244,"Baggrundsdata"]
[245,null,null,{"$f":"Name_product1","v":0},null,null,null,{"$f":"Name_product2","v":0}]
[246]
[247,"Brug på hospital"]
[{"$f":"A252+1","v":248},"Tidsforbrug pr. kittelskift ",null,{"$f":"IF(HLOOKUP($D$5&D$6,Arketyper,$A253,FALSE)=0,\"\",HLOOKUP($D$5&D$6,Arketyper,$A253,FALSE))","v":{"$error":"#N/A"}},{"$error":"#N/A"},null,null,{"$f":"IF(HLOOKUP($H$5&H$6,Arketyper,$A253,FALSE)=0,\"\",HLOOKUP($H$5&H$6,Arketyper,$A253,FALSE))","v":{"$error":"#N/A"}},{"$error":"#N/A"},null,null,null,null,null,null,null,"udførende læge",50,null,"udførende læge",50,null,"udførende læge",50,null,"udførende læge",50,null,"udførende læge",50,null,"udførende læge",50,null,"udførende læge",50,null,"udførende læge",50]
[249,null,null,{"$error":"#N/A"},{"$error":"#N/A"},null,null,{"$error":"#N/A"},{"$error":"#N/A"}]
[250,null,null,{"$error":"#N/A"},{"$error":"#N/A"},null,null,{"$error":"#N/A"},{"$error":"#N/A"}]
[251,null,null,{"$error":"#N/A"},{"$error":"#N/A"},null,null,{"$error":"#N/A"},{"$error":"#N/A"}]
[252,null,null,{"$error":"#N/A"},{"$error":"#N/A"},null,null,{"$error":"#N/A"},{"$error":"#N/A"}]
[253,null,null,{"$error":"#N/A"},{"$error":"#N/A"},null,null,{"$error":"#N/A"},{"$error":"#N/A"}]
[254,null,null,{"$error":"#N/A"},{"$error":"#N/A"},null,null,{"$error":"#N/A"},{"$error":"#N/A"}]
[255,null,null,{"$error":"#N/A"},{"$error":"#N/A"},null,null,{"$error":"#N/A"},{"$error":"#N/A"}]
[256,null,null,{"$error":"#N/A"},{"$error":"#N/A"},null,null,{"$error":"#N/A"},{"$error":"#N/A"}]
[257,null,null,{"$error":"#N/A"},{"$error":"#N/A"},null,null,{"$error":"#N/A"},{"$error":"#N/A"},null,null,null,null,null,null,null,"anden funktion",null,null,"anden funktion",null,null,"anden funktion",null,null,"anden funktion",null,null,"anden funktion",null,null,"anden funktion",null,null,"anden funktion",null,null,"anden funktion"]
[258]
[259,"Omkostninger til løn til"]
[260,"klinisk personale",null,{"$f":"IF(HLOOKUP($D$5&D$6,Arketyper,$A265,FALSE)=0,\"\",HLOOKUP($D$5&D$6,Arketyper,$A265,FALSE))","v":{"$error":"#N/A"}},null,null,null,{"$f":"IF(HLOOKUP($H$5&H$6,Arketyper,$A265,FALSE)=0,\"\",HLOOKUP($H$5&H$6,Arketyper,$A265,FALSE))","v":{"$error":"#N/A"}},null,null,200,null,null,200,null,null,200,null,null,200,null,null,200,null,null,200,null,null,200,null,null,200,null,null,200,null,null,200]
[261,"sygeplejerske",null,{"$error":"#N/A"},null,null,null,{"$error":"#N/A"},null,null,170,null,null,170,null,null,170,null,null,170,null,null,170,null,null,170,null,null,170,null,null,170,null,null,170,null,null,170]
[262,"udførende læge",null,{"$error":"#N/A"},null,null,null,{"$error":"#N/A"},null,null,250,null,null,250,null,null,250,null,null,250,null,null,250,null,null,250,null,null,250,null,null,250,null,null,250,null,null,250]
[263,"overlæge",null,{"$error":"#N/A"},null,null,null,{"$error":"#N/A"},null,null,300,null,null,300,null,null,300,null,null,300,null,null,300,null,null,300,null,null,300,null,null,300,null,null,300,null,null,300]
[264,"anden funktion",null,{"$error":"#N/A"},null,null,null,{"$error":"#N/A"},null,null,{"$f":"$K$71","v":0},null,null,{"$f":"$K$71","v":0},null,null,{"$f":"$K$71","v":0},null,null,{"$f":"$K$71","v":0},null,null,{"$f":"$K$71","v":0},null,null,{"$f":"$K$71","v":0},null,null,{"$f":"$K$71","v":0},null,null,{"$f":"$K$71","v":0},null,null,{"$f":"$K$71","v":0},null,null,{"$f":"$K$71","v":0}]
[265,"anden funktion",null,{"$error":"#N/A"},null,null,null,{"$error":"#N/A"},null,null,{"$f":"$K$71","v":0},null,null,{"$f":"$K$71","v":0},null,null,{"$f":"$K$71","v":0},null,null,{"$f":"$K$71","v":0},null,null,{"$f":"$K$71","v":0},null,null,{"$f":"$K$71","v":0},null,null,{"$f":"$K$71","v":0},null,null,{"$f":"$K$71","v":0},null,null,{"$f":"$K$71","v":0},null,null,{"$f":"$K$71","v":0}]
[{"$f":"A270+1","v":266},"anden funktion",null,{"$error":"#N/A"},null,null,null,{"$error":"#N/A"},null,null,{"$f":"$K$71","v":0},null,null,{"$f":"$K$71","v":0},null,null,{"$f":"$K$71","v":0},null,null,{"$f":"$K$71","v":0},null,null,{"$f":"$K$71","v":0},null,null,{"$f":"$K$71","v":0},null,null,{"$f":"$K$71","v":0},null,null,{"$f":"$K$71","v":0},null,null,{"$f":"$K$71","v":0},null,null,{"$f":"$K$71","v":0}]
[267,"anden funktion",null,{"$error":"#N/A"},null,null,null,{"$error":"#N/A"},null,null,{"$f":"$K$71","v":0},null,null,{"$f":"$K$71","v":0},null,null,{"$f":"$K$71","v":0},null,null,{"$f":"$K$71","v":0},null,null,{"$f":"$K$71","v":0},null,null,{"$f":"$K$71","v":0},null,null,{"$f":"$K$71","v":0},null,null,{"$f":"$K$71","v":0},null,null,{"$f":"$K$71","v":0},null,null,{"$f":"$K$71","v":0}]
[268,"anden funktion",null,{"$error":"#N/A"},null,null,null,{"$error":"#N/A"},null,null,0,null,null,{"$f":"$K$71","v":0},null,null,{"$f":"$K$71","v":0},null,null,{"$f":"$K$71","v":0},null,null,{"$f":"$K$71","v":0},null,null,{"$f":"$K$71","v":0},null,null,{"$f":"$K$71","v":0},null,null,{"$f":"$K$71","v":0},null,null,{"$f":"$K$71","v":0},null,null,{"$f":"$K$71","v":0}]
[269,"anden funktion",null,{"$error":"#N/A"},null,null,null,{"$error":"#N/A"},null,null,{"$f":"$K$71","v":0},null,null,0,null,null,32,null,null,32,null,null,32,null,null,32,null,null,32,null,null,32,null,null,32,null,null,32]
[270]
[271]
[272]
[273,"Efterliv for tekstiler"]
[274,null,null,{"$f":"Name_product1","v":0},null,null,{"$f":"Name_product2","v":0}]
[275,"Tekstilprodukt"]
[276,null,null,"End of Life håndtering",null,null,null,"End of Life håndtering",null,null,"End of Life håndtering",null,null,"End of Life håndtering",null,null,"End of Life håndtering",null,null,"End of Life håndtering",null,null,"End of Life håndtering",null,null,"End of Life håndtering",null,null,"End of Life håndtering",null,null,"End of Life håndtering",null,null,"End of Life håndtering",null,null,"End of Life håndtering"]
[277,null,null,{"$f":"IF(HLOOKUP($D$5&D$6,Arketyper,$A282,FALSE)=0,\"\",HLOOKUP($D$5&D$6,Arketyper,$A282,FALSE))","v":{"$error":"#N/A"}},null,null,null,{"$f":"IF(HLOOKUP($H$5&H$6,Arketyper,$A282,FALSE)=0,\"\",HLOOKUP($H$5&H$6,Arketyper,$A282,FALSE))","v":{"$error":"#N/A"}},null,null,"Forbrænding, polyester, polypropylen, carbonfibre, fyld",null,null,"Forbrænding, polyester, polypropylen, carbonfibre, fyld",null,null,"Genbrug, bomuld, konv",null,null,"Genbrug, bomuld, konv",null,null,"Genbrug, bomuld, konv",null,null,"Genbrug, bomuld, konv",null,null,"Genbrug, bomuld, konv",null,null,"Genbrug, bomuld, konv",null,null,"Genbrug, bomuld, konv",null,null,"Genbrug, bomuld, konv"]
[278,null,null,{"$error":"#N/A"},null,null,null,{"$error":"#N/A"},null,null,"Forbrænding, polyester, polypropylen, carbonfibre, fyld",null,null,"Forbrænding, generelt tekstil",null,null,"Genbrug, bomuld, konv",null,null,"Genbrug, bomuld, konv",null,null,"Genbrug, bomuld, konv",null,null,"Genbrug, bomuld, konv",null,null,"Genbrug, bomuld, konv",null,null,"Genbrug, bomuld, konv",null,null,"Genbrug, bomuld, konv",null,null,"Genbrug, bomuld, konv"]
[279,null,null,{"$error":"#N/A"},null,null,null,{"$error":"#N/A"}]
[280,null,null,{"$error":"#N/A"},null,null,null,{"$error":"#N/A"}]
[281,null,null,{"$error":"#N/A"},null,null,null,{"$error":"#N/A"}]
[282,null,null,{"$error":"#N/A"},null,null,null,{"$error":"#N/A"}]
[283,null,null,{"$error":"#N/A"},null,null,null,{"$error":"#N/A"}]
[284,null,null,{"$error":"#N/A"},null,null,null,{"$error":"#N/A"}]
[285,null,null,{"$error":"#N/A"},null,null,null,{"$error":"#N/A"}]
[286,null,null,{"$error":"#N/A"},null,null,null,{"$error":"#N/A"}]
[287]
[288,"Økonomi ved bortskaffelse"]
[289,"Bortskaffelsespris/ produkt",null,{"$f":"IF(HLOOKUP($D$5&D$6,Arketyper,$A294,FALSE)=0,\"\",HLOOKUP($D$5&D$6,Arketyper,$A294,FALSE))","v":{"$error":"#N/A"}},null,null,null,{"$f":"IF(HLOOKUP($H$5&H$6,Arketyper,$A294,FALSE)=0,\"\",HLOOKUP($H$5&H$6,Arketyper,$A294,FALSE))","v":{"$error":"#N/A"}},null,null,null,null,null,null,null,null,-10,null,null,-10,null,null,-10,null,null,-10,null,null,-10,null,null,-10,null,null,-10,null,null,-10]
[290]
[291]
[292]
[293]
[294,"Efterliv for emballage"]
[295,null,null,{"$f":"Name_product1","v":0},null,null,{"$f":"Name_product2","v":0}]
[296,"Emballage - varelevering"]
[297,null,null,"End of Life håndtering",null,null,null,"End of Life håndtering",null,null,"End of Life håndtering",null,null,"End of Life håndtering",null,null,"End of Life håndtering",null,null,"End of Life håndtering",null,null,"End of Life håndtering",null,null,"End of Life håndtering",null,null,"End of Life håndtering",null,null,"End of Life håndtering",null,null,"End of Life håndtering",null,null,"End of Life håndtering"]
[298,null,null,{"$f":"IF(HLOOKUP($D$5&D$6,Arketyper,$A303,FALSE)=0,\"\",HLOOKUP($D$5&D$6,Arketyper,$A303,FALSE))","v":{"$error":"#N/A"}},null,null,null,{"$f":"IF(HLOOKUP($H$5&H$6,Arketyper,$A303,FALSE)=0,\"\",HLOOKUP($H$5&H$6,Arketyper,$A303,FALSE))","v":{"$error":"#N/A"}},null,null,"Plast, forbrænding",null,null,"Plast, forbrænding",null,null,"Plast, forbrænding",null,null,"Plast, forbrænding",null,null,"Plast, forbrænding",null,null,"Plast, forbrænding",null,null,"Plast, forbrænding",null,null,"Plast, forbrænding",null,null,"Plast, forbrænding",null,null,"Plast, forbrænding"]
[299,null,null,{"$error":"#N/A"},null,null,null,{"$error":"#N/A"},null,null,"Pap, genanvendelse",null,null,"Pap, genanvendelse",null,null,"Pap, genanvendelse",null,null,"Pap, genanvendelse",null,null,"Pap, genanvendelse",null,null,"Pap, genanvendelse",null,null,"Pap, genanvendelse",null,null,"Pap, genanvendelse",null,null,"Pap, genanvendelse",null,null,"Pap, genanvendelse"]
[300,null,null,{"$error":"#N/A"},null,null,null,{"$error":"#N/A"},null,null,null,null,null,null,null,null,"Plast, forbrænding",null,null,"Plast, forbrænding",null,null,"Plast, forbrænding",null,null,"Plast, forbrænding",null,null,"Plast, forbrænding",null,null,"Plast, forbrænding",null,null,"Plast, forbrænding",null,null,"Plast, forbrænding"]
[301,null,null,{"$error":"#N/A"},null,null,null,{"$error":"#N/A"}]
[302,null,null,{"$error":"#N/A"},null,null,null,{"$error":"#N/A"}]
[303,null,null,{"$error":"#N/A"},null,null,null,{"$error":"#N/A"}]
[304,null,null,{"$error":"#N/A"},null,null,null,{"$error":"#N/A"}]
[305,null,null,{"$error":"#N/A"},null,null,null,{"$error":"#N/A"}]
[306,null,null,{"$error":"#N/A"},null,null,null,{"$error":"#N/A"}]
[307,null,null,{"$error":"#N/A"},null,null,null,{"$error":"#N/A"}]
[308]
[309,"Emballage - før første brug"]
[310,null,null,"End of Life håndtering",null,null,null,"End of Life håndtering",null,null,"End of Life håndtering",null,null,"End of Life håndtering",null,null,"End of Life håndtering",null,null,"End of Life håndtering",null,null,"End of Life håndtering",null,null,"End of Life håndtering",null,null,"End of Life håndtering",null,null,"End of Life håndtering",null,null,"End of Life håndtering",null,null,"End of Life håndtering"]
[311,null,null,{"$f":"IF(HLOOKUP($D$5&D$6,Arketyper,$A316,FALSE)=0,\"\",HLOOKUP($D$5&D$6,Arketyper,$A316,FALSE))","v":{"$error":"#N/A"}},null,null,null,{"$f":"IF(HLOOKUP($H$5&H$6,Arketyper,$A316,FALSE)=0,\"\",HLOOKUP($H$5&H$6,Arketyper,$A316,FALSE))","v":{"$error":"#N/A"}},null,null,"Pap, forbrænding",null,null,"Plast, forbrænding",null,null,"Pap, forbrænding",null,null,"Pap, forbrænding",null,null,"Pap, forbrænding",null,null,"Pap, forbrænding",null,null,"Pap, forbrænding",null,null,"Pap, forbrænding",null,null,"Pap, forbrænding",null,null,"Pap, forbrænding"]
[312,null,null,{"$error":"#N/A"},null,null,null,{"$error":"#N/A"},null,null,"Plast, deponi",null,null,null,null,null,"Plast, deponi",null,null,"Plast, deponi",null,null,"Plast, deponi",null,null,"Plast, deponi",null,null,"Plast, deponi",null,null,"Plast, deponi",null,null,"Plast, deponi",null,null,"Plast, deponi"]
[313,null,null,{"$error":"#N/A"},null,null,null,{"$error":"#N/A"}]
[314,null,null,{"$error":"#N/A"},null,null,null,{"$error":"#N/A"}]
[315,null,null,{"$error":"#N/A"},null,null,null,{"$error":"#N/A"}]
[316,null,null,{"$error":"#N/A"},null,null,null,{"$error":"#N/A"}]
[317,null,null,{"$error":"#N/A"},null,null,null,{"$error":"#N/A"}]
[318,null,null,{"$error":"#N/A"},null,null,null,{"$error":"#N/A"}]
[319,null,null,{"$error":"#N/A"},null,null,null,{"$error":"#N/A"}]
[320,null,null,{"$error":"#N/A"},null,null,null,{"$error":"#N/A"}]
[321]
[322,"Emballage - brug, vask, vedligeholdelse, sterilisering"]
[323,null,null,"End of Life håndtering",null,null,null,"End of Life håndtering",null,null,"End of Life håndtering",null,null,"End of Life håndtering",null,null,"End of Life håndtering",null,null,"End of Life håndtering",null,null,"End of Life håndtering",null,null,"End of Life håndtering",null,null,"End of Life håndtering",null,null,"End of Life håndtering",null,null,"End of Life håndtering",null,null,"End of Life håndtering"]
[324,null,null,{"$f":"IF(HLOOKUP($D$5&D$6,Arketyper,$A329,FALSE)=0,\"\",HLOOKUP($D$5&D$6,Arketyper,$A329,FALSE))","v":{"$error":"#N/A"}},null,null,null,{"$f":"IF(HLOOKUP($H$5&H$6,Arketyper,$A329,FALSE)=0,\"\",HLOOKUP($H$5&H$6,Arketyper,$A329,FALSE))","v":{"$error":"#N/A"}},null,null,null,null,null,"Plast, forbrænding",null,null,"Pap, genanvendelse",null,null,"Pap, genanvendelse",null,null,"Pap, genanvendelse",null,null,"Pap, genanvendelse",null,null,"Pap, genanvendelse",null,null,"Pap, genanvendelse",null,null,"Pap, genanvendelse",null,null,"Pap, genanvendelse"]
[325,null,null,{"$error":"#N/A"},null,null,null,{"$error":"#N/A"},null,null,null,null,null,"Pap, genanvendelse",null,null,"Plast, forbrænding",null,null,"Plast, forbrænding",null,null,"Plast, forbrænding",null,null,"Plast, forbrænding",null,null,"Plast, forbrænding",null,null,"Plast, forbrænding",null,null,"Plast, forbrænding",null,null,"Plast, forbrænding"]
[326,null,null,{"$error":"#N/A"},null,null,null,{"$error":"#N/A"}]
[327,null,null,{"$error":"#N/A"},null,null,null,{"$error":"#N/A"}]
[328,null,null,{"$error":"#N/A"},null,null,null,{"$error":"#N/A"}]
[329,null,null,{"$error":"#N/A"},null,null,null,{"$error":"#N/A"}]
[{"$f":"A334+1","v":330},null,null,{"$error":"#N/A"},null,null,null,{"$error":"#N/A"}]
[331,null,null,{"$error":"#N/A"},null,null,null,{"$error":"#N/A"}]
[332,null,null,{"$error":"#N/A"},null,null,null,{"$error":"#N/A"},null,null,null,null,null,null,null,null,"Pap, genanvendelse",null,null,"Pap, genanvendelse",null,null,"Pap, genanvendelse",null,null,"Pap, genanvendelse",null,null,"Pap, genanvendelse",null,null,"Pap, genanvendelse",null,null,"Pap, genanvendelse",null,null,"Pap, genanvendelse"]
[333,null,null,{"$error":"#N/A"},null,null,null,{"$error":"#N/A"}]
[334]
[335]
[336]
[337]

{"sheet":"Processer","index":8,"n_rows":324,"n_cols":35,"rows_kept":324,"cut":false,"hidden":true,"merged":[]}
[1,2,3,4,5,6,7,8,9,10,11,12,13,14,15,16,17,18,19,20,21,22,23,24,25,26,27,28,29,30,31,32,33,34,35]
["Internt","energiforbrug",null,"procesinformation",null,null,"miljøprofil ekskl energi"]
["Kaldenavn","elektricitetsforbrug","varmeforbrug","procesenhed","kommentar","ecoinvent v3.8 navn","Climate change","Ozone depletion","Ionising radiation","Photochemical ozone formation","Particulate matter","Human toxicity, non-cancer","Human toxicity, cancer","Acidification","Eutrophication, freshwater","Eutrophication, marine","Eutrophication, terrestrial","Ecotoxicity, freshwater","Land use","Water use","Resource use, fossils","Resource use, minerals and metals","Climate change - Fossil","Climate change - Biogenic","Climate change - Land use and LU change","Human toxicity, non-cancer - organics","Human toxicity, non-cancer - inorganics","Human toxicity, non-cancer - metals","Human toxicity, cancer - organics","Human toxicity, cancer - inorganics","Human toxicity, cancer - metals","Ecotoxicity, freshwater - organics","Ecotoxicity, freshwater - inorganics","Ecotoxicity, freshwater - metals","PFAS"]
[null,"kWh/procesenhed","MJ/ procesenhed",null,null,null,"kg CO2 eq","kg CFC11 eq","kBq U-235 eq","kg NMVOC eq","disease inc.","CTUh","CTUh","mol H+ eq","kg P eq","kg N eq","mol N eq","CTUe","Pt","m3 depriv.","MJ","kg Sb eq","kg CO2 eq","kg CO2 eq","kg CO2 eq","CTUh","CTUh","CTUh","CTUh","CTUh","CTUh","CTUe","CTUe","CTUe","kg"]
["Bomuld, konv., strikket, bleget, farvet",1,0,"kg",null,"Bomuld, konv, strikket, bleget, farvet - ACM",1,1,1,1,1,1,1,1,1,1,1,1,1,1,1,1,1,1,1,1,1,1,1,1,1,1,1,1,0]
["Bomuld, konv, strikket, ubleget, ufarvet",1,0,"kg",null,"Bomuld, konv, strikket, ubleget, ufarvet - ACM",1,1,1,1,1,1,1,1,1,1,1,1,1,1,1,1,1,1,1,1,1,1,1,1,1,1,1,1,0]
["Bomuld, konv., vævet, bleget, farvet",1,8,"kg",null,"Bomuld, konv, vævet, bleget, farvet - ACM",1,1,1,1,1,1,1,1,1,1,1,1,1,1,1,1,1,1,1,1,1,1,1,1,1,1,1,1,0]
["Bomuld, konv, vævet, ubleget, ufarvet",1,8,"kg",null,"Bomuld, konv, vævet, ubleget, ufarvet - ACM",1,1,1,1,1,1,1,1,1,1,1,1,1,1,1,1,1,1,1,1,1,1,1,1,1,1,1,1,0]
["Bomuld, økologisk, strikket, bleget, farvet",1,0,"kg",null,"Bomuld, økol, strikket, bleget, farvet - ACM",1,1,1,1,1,1,1,1,1,1,1,1,1,1,1,1,1,1,1,1,1,1,1,1,1,1,1,1,0]
["Bomuld, økologisk, strikket, ubleget, ufarvet",1,0,"kg",null,"Bomuld, økol, strikket, ubleget, ufarvet - ACM",1,1,1,1,1,1,1,1,1,1,1,1,1,1,1,1,1,1,1,1,1,1,1,1,1,1,1,1,0]
["Bomuld, økologisk, vævet, bleget, farvet",1,8,"kg",null,"Bomuld, økol, vævet, bleget, farvet - ACM",1,1,1,1,1,1,1,1,1,1,1,1,1,1,1,1,1,1,1,1,1,1,1,1,1,1,1,1,0]
["Bomuld, økologisk, vævet, ubleget, ufarvet",1,8,"kg",null,"Bomuld, økol, vævet, ubleget, ufarvet - ACM",1,1,1,1,1,1,1,1,1,1,1,1,1,1,1,1,1,1,1,1,1,1,1,1,1,1,1,1,0]
["Polyester, nonwoven, farvet",1,0,"kg",null,"Polyester, nonwoven, farvet - ACM",1,1,1,1,1,1,1,1,1,1,1,1,1,1,1,1,1,1,1,1,1,1,1,1,1,1,1,1,0]
["Polyester, nonwoven, ufarvet",1,0,"kg",null,"Polyester, nonwoven, ufarvet - ACM",1,1,1,1,1,1,1,1,1,1,1,1,1,1,1,1,1,1,1,1,1,1,1,1,1,1,1,1,0]
["Polyester, vævet, farvet",1,0,"kg",null,"Polyester, vævet, farvet - ACM",1,1,1,1,1,1,1,1,1,1,1,1,1,1,1,1,1,1,1,1,1,1,1,1,1,1,1,1,0]
["Polyester, vævet, ufarvet ",1,0,"kg",null,"Polyester, vævet, ufarvet - ACM",1,1,1,1,1,1,1,1,1,1,1,1,1,1,1,1,1,1,1,1,1,1,1,1,1,1,1,1,0]
["Polyester, strikket, farvet",1,0,"kg",null,"Polyester, strikket, farvet - ACM",1,1,1,1,1,1,1,1,1,1,1,1,1,1,1,1,1,1,1,1,1,1,1,1,1,1,1,1,0]
["Polyester, strikket, ufarvet",1,0,"kg",null,"Polyester, strikket, ufarvet - ACM",1,1,1,1,1,1,1,1,1,1,1,1,1,1,1,1,1,1,1,1,1,1,1,1,1,1,1,1,0]
["Polypropylen, nonwoven, farvet",1,0,"kg",null,"Polypropylen, nonwoven, farvet - ACM",1,1,1,1,1,1,1,1,1,1,1,1,1,1,1,1,1,1,1,1,1,1,1,1,1,1,1,1,0]
["Polypropylen, nonwoven, ufarvet ",1,0,"kg",null,"Polypropylen, nonwoven, ufarvet - ACM",1,1,1,1,1,1,1,1,1,1,1,1,1,1,1,1,1,1,1,1,1,1,1,1,1,1,1,1,0]
["Polypropylen, vævet, farvet",1,0,"kg",null,"Polypropylen, vævet, farvet - ACM",1,1,1,1,1,1,1,1,1,1,1,1,1,1,1,1,1,1,1,1,1,1,1,1,1,1,1,1,0]
["Polypropylen, vævet, ufarvet",1,0,"kg",null,"Polypropylen, vævet, ufarvet - ACM",1,1,1,1,1,1,1,1,1,1,1,1,1,1,1,1,1,1,1,1,1,1,1,1,1,1,1,1,0]
["Polypropylen, strikket, farvet",1,0,"kg",null,"Polypropylen, strikket, farvet - ACM",1,1,1,1,1,1,1,1,1,1,1,1,1,1,1,1,1,1,1,1,1,1,1,1,1,1,1,1,0]
["Polypropylen, strikket, ufarvet",1,0,"kg",null,"Polypropylen, strikket, ufarvet - ACM",1,1,1,1,1,1,1,1,1,1,1,1,1,1,1,1,1,1,1,1,1,1,1,1,1,1,1,1,0]
["Viskose, nonwoven, farvet",1,0,"kg",null,"Viskose, nonwoven, farvet - ACM",1,1,1,1,1,1,1,1,1,1,1,1,1,1,1,1,1,1,1,1,1,1,1,1,1,1,1,1,0]
["Viskose, nonwoven, ufarvet",1,0,"kg",null,"Viskose, nonwoven, ufarvet - ACM",1,1,1,1,1,1,1,1,1,1,1,1,1,1,1,1,1,1,1,1,1,1,1,1,1,1,1,1,0]
["Viskose, vævet, farvet",1,0,"kg",null,"Viskose, vævet, farvet - ACM",1,1,1,1,1,1,1,1,1,1,1,1,1,1,1,1,1,1,1,1,1,1,1,1,1,1,1,1,0]
["Viskose, vævet, ufarvet",1,0,"kg",null,"Viskose, vævet, ufarvet - ACM",1,1,1,1,1,1,1,1,1,1,1,1,1,1,1,1,1,1,1,1,1,1,1,1,1,1,1,1,0]
["Viskose, strikket, farvet",1,0,"kg",null,"Viskose, strikket, farvet - ACM",1,1,1,1,1,1,1,1,1,1,1,1,1,1,1,1,1,1,1,1,1,1,1,1,1,1,1,1,0]
["Viskose, strikket, ufarvet",1,0,"kg",null,"Viskose, strikket, ufarvet - ACM",1,1,1,1,1,1,1,1,1,1,1,1,1,1,1,1,1,1,1,1,1,1,1,1,1,1,1,1,0]
["Carbonfibre",null,null,"kg","energi ikke udtrukket fra processen","Carbon fibre, til tekstiler - ACM",1,1,1,1,1,1,1,1,1,1,1,1,1,1,1,1,1,1,1,1,1,1,1,1,1,1,1,1,0]
["Fyld til jakker, tæpper, o.l.",null,null,"kg","energi ikke udtrukket fra processen","Fibre, polyester {GLO}| market for fibre, polyester | Conseq, U",1,1,1,1,1,1,1,1,1,1,1,1,1,1,1,1,1,1,1,1,1,1,1,1,1,1,1,1,0]
[null,null,null,null,null,null,1,1,1,1,1,1,1,1,1,1,1,1,1,1,1,1,1,1,1,1,1,1,1,1,1,1,1,1]
["Strikket bomuld: blødgører, vandafvisning, antimikrobiel",1,1,"kg",null,"Finishing, textile, knit cotton | Conseq, U - ACM",1,1,1,1,1,1,1,1,1,1,1,1,1,1,1,1,1,1,1,1,1,1,1,1,1,1,1,1,0]
["Vævet bomuld: blødgører, vandafvisning, antikrøl, flammehæmmer",1,1,"kg",null,"Finishing, textile, woven cotton | Conseq, U - ACM",1,1,1,1,1,1,1,1,1,1,1,1,1,1,1,1,1,1,1,1,1,1,1,1,1,1,1,1,0]
["Mercerisering (bomuld)",1,1,"kg",null,"Mercerizing, textile | Conseq, U - ACM",1,1,1,1,1,1,1,1,1,1,1,1,1,1,1,1,1,1,1,1,1,1,1,1,1,1,1,1,0]
["Sanforisering (bomuld)",1,1,"kg",null,"Sanforizing, textile | Conseq, U - ACM",1,1,1,1,1,1,1,1,1,1,1,1,1,1,1,1,1,1,1,1,1,1,1,1,1,1,1,1,0]
["Sterilisering, 121 grader ",0,1,"kg","Energiforbrug fra Alingsås, SE","Vaskemaskiner til vask af tekstiler - ACM",1,1,1,1,1,1,1,1,1,1,1,1,1,1,1,1,1,1,1,1,1,1,1,1,1,1,1,1,0]
["Væskeafvisende",null,null,"kg",null,null,1,1,1,1,1,1,1,1,1,1,1,1,1,1,1,1,1,1,1,1,1,1,1,1,1,1,1,1]
["Væsketæt",null,null,"kg",null,null,1,1,1,1,1,1,1,1,1,1,1,1,1,1,1,1,1,1,1,1,1,1,1,1,1,1,1,1]
["(anden finishing) (tom)",null,null,"kg",null,null,1,1,1,1,1,1,1,1,1,1,1,1,1,1,1,1,1,1,1,1,1,1,1,1,1,1,1,1,0]
[null,null,null,null,null,null,1,1,1,1,1,1,1,1,1,1,1,1,1,1,1,1,1,1,1,1,1,1,1,1,1,1,1,1]
["Knapper, metal",null,null,"kg","antager stål","Steel, unalloyed {GLO}| market for | Conseq, U",1,1,1,1,1,1,1,1,1,1,1,1,1,1,1,1,1,1,1,1,1,1,1,1,1,1,1,1,0]
["Knapper, plast",null,null,"kg",null,"Polyester resin, unsaturated {RER}| market for polyester resin, unsaturated | Conseq, U",1,1,1,1,1,1,1,1,1,1,1,1,1,1,1,1,1,1,1,1,1,1,1,1,1,1,1,1,0]
["Lynlåse",null,null,"kg","antager stål","Steel, unalloyed {GLO}| market for | Conseq, U",1,1,1,1,1,1,1,1,1,1,1,1,1,1,1,1,1,1,1,1,1,1,1,1,1,1,1,1,0]
["Logo, broderet",null,null,"kg","antager vævet bomuld","Textile, woven cotton {GLO}| market for | Conseq, U",1,1,1,1,1,1,1,1,1,1,1,1,1,1,1,1,1,1,1,1,1,1,1,1,1,1,1,1,0]
["Mærker",null,null,"kg","antager vævet bomuld","Textile, woven cotton {GLO}| market for | Conseq, U",1,1,1,1,1,1,1,1,1,1,1,1,1,1,1,1,1,1,1,1,1,1,1,1,1,1,1,1,0]
[null,null,null,null,null,null,1,1,1,1,1,1,1,1,1,1,1,1,1,1,1,1,1,1,1,1,1,1,1,1,1,1,1,1]
["Lastbil - 16-32 ton",null,null,"tkm",null,"Transport, freight, lorry 16-32 metric ton, euro5 {RER}| market for transport, freight, lorry 16-32 metric ton, EURO5 | Conseq, U",1,1,1,1,1,1,1,1,1,1,1,1,1,1,1,1,1,1,1,1,1,1,1,1,1,1,1,1,0]
["Lastbil < 16 ton ",null,null,"tkm",null,"Transport, freight, lorry 7.5-16 metric ton, euro5 {RER}| market for transport, freight, lorry 7.5-16 metric ton, EURO5 | Conseq, U",1,1,1,1,1,1,1,1,1,1,1,1,1,1,1,1,1,1,1,1,1,1,1,1,1,1,1,1,0]
["Varevogn",null,null,"tkm",null,"Transport, freight, lorry 3.5-7.5 metric ton, euro5 {RER}| market for transport, freight, lorry 3.5-7.5 metric ton, EURO5 | Conseq, U",1,1,1,1,1,1,1,1,1,1,1,1,1,1,1,1,1,1,1,1,1,1,1,1,1,1,1,1,0]
["Fragskib",null,null,"tkm",null,"Transport, freight, sea, container ship {GLO}| market for transport, freight, sea, container ship | Conseq, U",1,1,1,1,1,1,1,1,1,1,1,1,1,1,1,1,1,1,1,1,1,1,1,1,1,1,1,1,0]
["Tog",null,null,"tkm",null,"Transport, freight train {GLO}| market group for | Conseq, U",1,1,1,1,1,1,1,1,1,1,1,1,1,1,1,1,1,1,1,1,1,1,1,1,1,1,1,1,0]
["Fly",null,null,"tkm",null,"Transport, freight, aircraft, unspecified {GLO}| market for transport, freight, aircraft, unspecified | Conseq, U",1,1,1,1,1,1,1,1,1,1,1,1,1,1,1,1,1,1,1,1,1,1,1,1,1,1,1,1,0]
[null,null,null,null,null,null,1,1,1,1,1,1,1,1,1,1,1,1,1,1,1,1,1,1,1,1,1,1,1,1,1,1,1,1,0]
["PP film",null,null,"kg",null,"Polypropylene, granulate {GLO}| market for | Conseq, U",1,1,1,1,1,1,1,1,1,1,1,1,1,1,1,1,1,1,1,1,1,1,1,1,1,1,1,1,0]
["LDPE film",null,null,"kg",null,"Packaging film, low density polyethylene {GLO}| market for | Conseq, U",1,1,1,1,1,1,1,1,1,1,1,1,1,1,1,1,1,1,1,1,1,1,1,1,1,1,1,1,0]
["Pap",null,null,"kg",null,"Folding boxboard carton {RER}| market for folding boxboard carton | Conseq, U",1,1,1,1,1,1,1,1,1,1,1,1,1,1,1,1,1,1,1,1,1,1,1,1,1,1,1,1,0]
["Indpakningspapir",null,null,"kg",null,"Kraft paper {RER}| market for kraft paper | Conseq, U",1,1,1,1,1,1,1,1,1,1,1,1,1,1,1,1,1,1,1,1,1,1,1,1,1,1,1,1,0]
["Autoklaveringspose",null,null,"kg",null,null,1,1,1,1,1,1,1,1,1,1,1,1,1,1,1,1,1,1,1,1,1,1,1,1,1,1,1,1]
["Palle",null,null,"kg","GLO market selvom den hedder RoW\nGns vægt = 25kg\nGns brugsgange: 20","EUR-flat pallet {RoW}| market for EUR-flat pallet | Conseq, U",1,1,1,1,1,1,1,1,1,1,1,1,1,1,1,1,1,1,1,1,1,1,1,1,1,1,1,1,0]
["Palleindpakning",null,null,"kg",null,"Packaging film, low density polyethylene {GLO}| market for | Conseq, U",1,1,1,1,1,1,1,1,1,1,1,1,1,1,1,1,1,1,1,1,1,1,1,1,1,1,1,1,0]
[null,null,null,null,null,null,1,1,1,1,1,1,1,1,1,1,1,1,1,1,1,1,1,1,1,1,1,1,1,1,1,1,1,1,0]
["Vaskerør, 60gr, 30min ",1,1,"kg-vasket tekstil","OBS! Varmeforbruget er også pr kg-vand!","Vaskemaskiner til vask af tekstiler - ACM",1,1,1,1,1,1,1,1,1,1,1,1,1,1,1,1,1,1,1,1,1,1,1,1,1,1,1,1,0]
["Lille maskine, 40gr, 40min",1,1,"kg-vasket tekstil","OBS! Varmeforbruget er også pr kg-vand!","Vaskemaskiner til vask af tekstiler - ACM",1,1,1,1,1,1,1,1,1,1,1,1,1,1,1,1,1,1,1,1,1,1,1,1,1,1,1,1,0]
["Lille maskine, 60gr, 40min",1,1,"kg-vasket tekstil","OBS! Varmeforbruget er også pr kg-vand!","Vaskemaskiner til vask af tekstiler - ACM",1,1,1,1,1,1,1,1,1,1,1,1,1,1,1,1,1,1,1,1,1,1,1,1,1,1,1,1,0]
["Lille maskine, 80gr, 40min",1,1,"kg-vasket tekstil","OBS! Varmeforbruget er også pr kg-vand!","Vaskemaskiner til vask af tekstiler - ACM",1,1,1,1,1,1,1,1,1,1,1,1,1,1,1,1,1,1,1,1,1,1,1,1,1,1,1,1,0]
[null,null,null,null,null,null,1,1,1,1,1,1,1,1,1,1,1,1,1,1,1,1,1,1,1,1,1,1,1,1,1,1,1,1,0]
["Dansk el",null,null,"kWh","Stoler på ecoinvents conseq modellering","Electricity, medium voltage {DK}| market for | Conseq, U",1,1,1,1,1,1,1,1,1,1,1,1,1,1,1,1,1,1,1,1,1,1,1,1,1,1,1,1,0]
[null,null,null,null,null,null,1,1,1,1,1,1,1,1,1,1,1,1,1,1,1,1,1,1,1,1,1,1,1,1,1,1,1,1,0]
["Vand til vask",null,null,"L",null,"Vand til vask - ACM",1,1,1,1,1,1,1,1,1,1,1,1,1,1,1,1,1,1,1,1,1,1,1,1,1,1,1,1,0]
[null,null,null,null,null,null,1,1,1,1,1,1,1,1,1,1,1,1,1,1,1,1,1,1,1,1,1,1,1,1,1,1,1,1,0]
["Olie",null,null,"MJ",null,"Heat, district or industrial, other than natural gas {DK}| heat and power co-generation, oil | Conseq, U",1,1,1,1,1,1,1,1,1,1,1,1,1,1,1,1,1,1,1,1,1,1,1,1,1,1,1,1,0]
["Gas",null,null,"MJ",null,"Heat, central or small-scale, natural gas {Europe without Switzerland}| market for heat, central or small-scale, natural gas | Conseq, U",1,1,1,1,1,1,1,1,1,1,1,1,1,1,1,1,1,1,1,1,1,1,1,1,1,1,1,1,0]
["Biobrændsel, briketter",null,null,"MJ",null,"Heat, central or small-scale, other than natural gas {Europe without Switzerland}| heat production, lignite briquette, at stove 5-15kW | Conseq, U",1,1,1,1,1,1,1,1,1,1,1,1,1,1,1,1,1,1,1,1,1,1,1,1,1,1,1,1,0]
["Biobrændsel, wood chips",null,null,"MJ",null,"Heat, district or industrial, other than natural gas {DK}| heat and power co-generation, wood chips, 6667 kW, state-of-the-art 2014 | Conseq, U",1,1,1,1,1,1,1,1,1,1,1,1,1,1,1,1,1,1,1,1,1,1,1,1,1,1,1,1,0]
["El",null,null,"MJ",null,"Omregnet fra \"Dansk el\"",1,1,1,1,1,1,1,1,1,1,1,1,1,1,1,1,1,1,1,1,1,1,1,1,1,1,1,1,{"$f":"AI69*3.6","v":0}]
[null,null,null,null,null,null,1,1,1,1,1,1,1,1,1,1,1,1,1,1,1,1,1,1,1,1,1,1,1,1,1,1,1,1,0]
["Christeyns - Cool 1 Green",null,null,"L","ingen indholdsstoffer opgivet på sikkerhedsdatabladet; al modellering er antagelser","Christeyns - !PROXY! COOL 1 GREEN | Cool Brite / Cool Asepsis, tilsætning 1 - ACM",1,1,1,1,1,1,1,1,1,1,1,1,1,1,1,1,1,1,1,1,1,1,1,1,1,1,1,1,0]
["Christeyns - Smart Shield",null,null,"L","ingen indholdsstoffer opgivet på sikkerhedsdatabladet; al modellering er antagelser","Christeyns - !PROXY! Smart Shield - ACM",1,1,1,1,1,1,1,1,1,1,1,1,1,1,1,1,1,1,1,1,1,1,1,1,1,1,1,1,0]
["Christeyns - Cool 2 Blue",null,null,"L",null,"Christeyns - COOL 2 BLUE | Cool Brite Blue, tilsætning 2 - ACM",1,1,1,1,1,1,1,1,1,1,1,1,1,1,1,1,1,1,1,1,1,1,1,1,1,1,1,1,0]
["Christeyns - Cool 3 Green",null,null,"L",null,"Christeyns - COOL 3 GREEN | Cool Brite / Cool Asepsis, tilsætning 3 - ACM",1,1,1,1,1,1,1,1,1,1,1,1,1,1,1,1,1,1,1,1,1,1,1,1,1,1,1,1,0]
["Christeyns - Cool Care Blue [🦢]",null,null,"L",null,"Christeyns - COOL CARE BLUE - ACM",1,1,1,1,1,1,1,1,1,1,1,1,1,1,1,1,1,1,1,1,1,1,1,1,1,1,1,1,0]
["Christeyns - Cool Intense Blue",null,null,"L",null,"Christeyns - COOL INTENSE BLUE - ACM",1,1,1,1,1,1,1,1,1,1,1,1,1,1,1,1,1,1,1,1,1,1,1,1,1,1,1,1,0]
["Christeyns - Neutrapur Forte NS",null,null,"L",null,"Christeyns - NEUTRAPUR FORTE NS - ACM",1,1,1,1,1,1,1,1,1,1,1,1,1,1,1,1,1,1,1,1,1,1,1,1,1,1,1,1,0]
["Christeyns - Power Extract Blue [🦢]",null,null,"L",null,"Christeyns - POWER EXTRACT BLUE - ACM",1,1,1,1,1,1,1,1,1,1,1,1,1,1,1,1,1,1,1,1,1,1,1,1,1,1,1,1,0]
["Christeyns - Select Power Blue [🦢]",null,null,"L",null,"Christeyns - SELECT POWER BLUE - ACM",1,1,1,1,1,1,1,1,1,1,1,1,1,1,1,1,1,1,1,1,1,1,1,1,1,1,1,1,0]
["Ecolab - Dermasil Emulsion M",null,null,"L",null,"Ecolab - DERMASIL EMULSION M - ACM",1,1,1,1,1,1,1,1,1,1,1,1,1,1,1,1,1,1,1,1,1,1,1,1,1,1,1,1,0]
["Ecolab - Hygenil ALCA",null,null,"L",null,"Ecolab - HYGENIL ALCA - ACM",1,1,1,1,1,1,1,1,1,1,1,1,1,1,1,1,1,1,1,1,1,1,1,1,1,1,1,1,0]
["Ecolab - Hygenil Sour",null,null,"L",null,"Ecolab - HYGENIL SOUR - ACM",1,1,1,1,1,1,1,1,1,1,1,1,1,1,1,1,1,1,1,1,1,1,1,1,1,1,1,1,0]
["Ecolab - Ozonit PERformance",null,null,"L",null,"Ecolab - Ozonit PERformance - ACM",1,1,1,1,1,1,1,1,1,1,1,1,1,1,1,1,1,1,1,1,1,1,1,1,1,1,1,1,0]
["Ecolab - Triplex Plus-M",null,null,"L",null,"Ecolab - TRIPLEX PLUS-M - ACM",1,1,1,1,1,1,1,1,1,1,1,1,1,1,1,1,1,1,1,1,1,1,1,1,1,1,1,1,0]
["Generisk, gennemsnitligt vaskemiddel",null,null,"L","uvægtet gennemsnit af alle vaskemidler",null,1,1,1,1,1,1,1,1,1,1,1,1,1,1,1,1,1,1,1,1,1,1,1,1,1,1,1,1,{"$f":"AVERAGE(AI79:AI92)","v":0}]
[null,null,null,null,null,null,1,1,1,1,1,1,1,1,1,1,1,1,1,1,1,1,1,1,1,1,1,1,1,1,1,1,1,1,0]
["Tørretumbler, 70gr, 60min",1,1,"kg-tørret tekstil","OBS! Varmeforbruget er pr kg-vand der skal fordampes, IKKE pr. Kg-tørret tekstil!","Vaskemaskiner til vask af tekstiler - ACM",1,1,1,1,1,1,1,1,1,1,1,1,1,1,1,1,1,1,1,1,1,1,1,1,1,1,1,1,0]
["Tørretumbler, 80gr, 10min",1,1,"kg-tørret tekstil","OBS! Varmeforbruget er pr kg-vand der skal fordampes, IKKE pr. Kg-tørret tekstil!","Vaskemaskiner til vask af tekstiler - ACM",1,1,1,1,1,1,1,1,1,1,1,1,1,1,1,1,1,1,1,1,1,1,1,1,1,1,1,1,0]
["Tørretumbler, 80gr, 20min",1,1,"kg-tørret tekstil","OBS! Varmeforbruget er pr kg-vand der skal fordampes, IKKE pr. Kg-tørret tekstil!","Vaskemaskiner til vask af tekstiler - ACM",1,1,1,1,1,1,1,1,1,1,1,1,1,1,1,1,1,1,1,1,1,1,1,1,1,1,1,1,0]
["Tørretumbler, 80gr, 40min",1,1,"kg-tørret tekstil","OBS! Varmeforbruget er pr kg-vand der skal fordampes, IKKE pr. Kg-tørret tekstil!","Vaskemaskiner til vask af tekstiler - ACM",1,1,1,1,1,1,1,1,1,1,1,1,1,1,1,1,1,1,1,1,1,1,1,1,1,1,1,1,0]
[null,null,null,null,null,null,1,1,1,1,1,1,1,1,1,1,1,1,1,1,1,1,1,1,1,1,1,1,1,1,1,1,1,1,0]
["Stortøjsrulle, våd, strygning, sammenlægning",null,0,"kg",null,"Vaskemaskiner til vask af tekstiler - ACM",1,1,1,1,1,1,1,1,1,1,1,1,1,1,1,1,1,1,1,1,1,1,1,1,1,1,1,1,0]
["Småtøjsrulle, våd, strygning, sammenlægning",null,0,"kg",null,"Vaskemaskiner til vask af tekstiler - ACM",1,1,1,1,1,1,1,1,1,1,1,1,1,1,1,1,1,1,1,1,1,1,1,1,1,1,1,1,0]
["Sammenlægningsmaskine (tørt)",null,0,"kg",null,"Vaskemaskiner til vask af tekstiler - ACM",1,1,1,1,1,1,1,1,1,1,1,1,1,1,1,1,1,1,1,1,1,1,1,1,1,1,1,1,0]
["Uniformsbehandling, våd, strygning, sammenlægning",null,null,"kg",null,"Vaskemaskiner til vask af tekstiler - ACM",1,1,1,1,1,1,1,1,1,1,1,1,1,1,1,1,1,1,1,1,1,1,1,1,1,1,1,1,0]
["Strygning, flatwork maskine",1,0,"kg",null,"Vaskemaskiner til vask af tekstiler - ACM",1,1,1,1,1,1,1,1,1,1,1,1,1,1,1,1,1,1,1,1,1,1,1,1,1,1,1,1,0]
["Presning",1,0,"stk",null,"Vaskemaskiner til vask af tekstiler - ACM",1,1,1,1,1,1,1,1,1,1,1,1,1,1,1,1,1,1,1,1,1,1,1,1,1,1,1,1,0]
[null,null,null,null,null,null,1,1,1,1,1,1,1,1,1,1,1,1,1,1,1,1,1,1,1,1,1,1,1,1,1,1,1,1,0]
["Forbrænding, bomuld, viskose",null,null,"kg",null,"Forbrænding, bomuld + naturlige fibre - ACM",1,1,1,1,1,1,1,1,1,1,1,1,1,1,1,1,1,1,1,1,1,1,1,1,1,1,1,1,0]
["Forbrænding, polyester, polypropylen, carbonfibre, fyld",null,null,"kg",null,"Forbrænding, polyester + fossilbaserede fibre - ACM",1,1,1,1,1,1,1,1,1,1,1,1,1,1,1,1,1,1,1,1,1,1,1,1,1,1,1,1,0]
["Forbrænding, generelt tekstil",null,null,"kg",null,"Waste textile, soiled {CH}| treatment of, municipal incineration with fly ash extraction | Conseq, U",1,1,1,1,1,1,1,1,1,1,1,1,1,1,1,1,1,1,1,1,1,1,1,1,1,1,1,1,0]
["Deponering/ eksport",null,null,"kg",null,"Waste yarn and waste textile {IN}| treatment of waste yarn and waste textile, unsanitary landfill | Conseq, U",1,1,1,1,1,1,1,1,1,1,1,1,1,1,1,1,1,1,1,1,1,1,1,1,1,1,1,1,0]
["Genbrug, bomuld, konv",null,null,"kg",null,"Genbrug, bomuld, konv - ACM",1,1,1,1,1,1,1,1,1,1,1,1,1,1,1,1,1,1,1,1,1,1,1,1,1,1,1,1,0]
["Genbrug, bomuld, økol",null,null,"kg",null,"Genbrug, bomuld, økol - ACM",1,1,1,1,1,1,1,1,1,1,1,1,1,1,1,1,1,1,1,1,1,1,1,1,1,1,1,1,0]
["Genbrug, polyester, tekstil + fyld",null,null,"kg",null,"Genbrug, polyester, fyld - ACM",1,1,1,1,1,1,1,1,1,1,1,1,1,1,1,1,1,1,1,1,1,1,1,1,1,1,1,1,0]
["Genbrug, polypropylen",null,null,"kg",null,"Genbrug, polypropylen - ACM",1,1,1,1,1,1,1,1,1,1,1,1,1,1,1,1,1,1,1,1,1,1,1,1,1,1,1,1,0]
["Genbrug, viskose",null,null,"kg",null,"Genbrug, viskose - ACM",1,1,1,1,1,1,1,1,1,1,1,1,1,1,1,1,1,1,1,1,1,1,1,1,1,1,1,1,0]
["(tom) Mekanisk genanvendelse, bomuld til cellulosepulp",null,null,"kg",null,null,1,1,1,1,1,1,1,1,1,1,1,1,1,1,1,1,1,1,1,1,1,1,1,1,1,1,1,1]
["(tom) Mekanisk genanvendelse, bomuld til bomuldsgarn",null,null,"kg",null,null,1,1,1,1,1,1,1,1,1,1,1,1,1,1,1,1,1,1,1,1,1,1,1,1,1,1,1,1]
["Mekanisk genanvendelse, bomuld til isolering",null,null,"kg",null,"Mekanisk genanvendelse, bomuld til isolering - ACM",1,1,1,1,1,1,1,1,1,1,1,1,1,1,1,1,1,1,1,1,1,1,1,1,1,1,1,1,0]
["Mekanisk genanvendelse, tekstil til non-woven klude",null,null,"kg",null,"Mekanisk genanvendelse, tekstil til non-woven klude - ACM",1,1,1,1,1,1,1,1,1,1,1,1,1,1,1,1,1,1,1,1,1,1,1,1,1,1,1,1,0]
["Kemisk genanvendelse, polyester erstatter ny polyester",null,null,"kg",null,"Kemisk genanvendelse, polyester - ACM",1,1,1,1,1,1,1,1,1,1,1,1,1,1,1,1,1,1,1,1,1,1,1,1,1,1,1,1,0]
["(tom) Takeback ordning",null,null,"kg",null,null,1,1,1,1,1,1,1,1,1,1,1,1,1,1,1,1,1,1,1,1,1,1,1,1,1,1,1,1]
[null,null,null,null,null,null,1,1,1,1,1,1,1,1,1,1,1,1,1,1,1,1,1,1,1,1,1,1,1,1,1,1,1,1]
["Forbrænding",null,null,"kg","Gennemsnit af processer",null,1,1,1,1,1,1,1,1,1,1,1,1,1,1,1,1,1,1,1,1,1,1,1,1,1,1,1,1,0]
["Genbrug",null,null,"kg","Gennemsnit af processer",null,1,1,1,1,1,1,1,1,1,1,1,1,1,1,1,1,1,1,1,1,1,1,1,1,1,1,1,1,0]
["Mekanisk genanvendelse",null,null,"kg","Gennemsnit af processer",null,1,1,1,1,1,1,1,1,1,1,1,1,1,1,1,1,1,1,1,1,1,1,1,1,1,1,1,1,0]
["Deponi",null,null,"kg",null,"Waste yarn and waste textile {IN}| treatment of waste yarn and waste textile, unsanitary landfill | Conseq, U",1,1,1,1,1,1,1,1,1,1,1,1,1,1,1,1,1,1,1,1,1,1,1,1,1,1,1,1,0]
[null,null,null,null,null,null,1,1,1,1,1,1,1,1,1,1,1,1,1,1,1,1,1,1,1,1,1,1,1,1,1,1,1,1]
["Pap, forbrænding",null,null,"kg",null,"Waste newspaper {CH}| treatment of, municipal incineration with fly ash extraction | Conseq, U",1,1,1,1,1,1,1,1,1,1,1,1,1,1,1,1,1,1,1,1,1,1,1,1,1,1,1,1,0]
["Pap, genanvendelse",null,null,"kg",null,"Waste paper, unsorted {CA-QC}| treatment of waste paper to pulp, wet lap, totally chlorine free bleached | Conseq, U",1,1,1,1,1,1,1,1,1,1,1,1,1,1,1,1,1,1,1,1,1,1,1,1,1,1,1,1,0]
["Plast, forbrænding",null,null,"kg",null,"Waste polyethylene terephthalate {CH}| treatment of waste polyethylene terephthalate, municipal incineration with fly ash extraction | Conseq, U",1,1,1,1,1,1,1,1,1,1,1,1,1,1,1,1,1,1,1,1,1,1,1,1,1,1,1,1,0]
["Plast, deponi",null,null,"kg",null,"Waste polypropylene {RoW}| treatment of waste polypropylene, sanitary landfill | Conseq, U",1,1,1,1,1,1,1,1,1,1,1,1,1,1,1,1,1,1,1,1,1,1,1,1,1,1,1,1,0]
[null,null,null,null,null,null,1,1,1,1,1,1,1,1,1,1,1,1,1,1,1,1,1,1,1,1,1,1,1,1,1,1,1,1,0]
["El, Europa",null,null,"kWh",null,"Electricity, medium voltage {RER}| market group for | Conseq, U",1,1,1,1,1,1,1,1,1,1,1,1,1,1,1,1,1,1,1,1,1,1,1,1,1,1,1,1,0]
["El, Asien",null,null,"kWh",null,"Electricity, medium voltage {RAS}| market group for | Conseq, U",1,1,1,1,1,1,1,1,1,1,1,1,1,1,1,1,1,1,1,1,1,1,1,1,1,1,1,1,0]
["El, Nordamerika",null,null,"kWh",null,"Electricity, medium voltage {RNA}| market group for | Conseq, U",1,1,1,1,1,1,1,1,1,1,1,1,1,1,1,1,1,1,1,1,1,1,1,1,1,1,1,1,0]
["El, Indien",null,null,"kWh",null,"Electricity, medium voltage {IN}| market group for electricity, medium voltage | Conseq, U",1,1,1,1,1,1,1,1,1,1,1,1,1,1,1,1,1,1,1,1,1,1,1,1,1,1,1,1,0]
["El, Kina",null,null,"kWh",null,"Electricity, medium voltage {IN}| market group for electricity, medium voltage | Conseq, U",1,1,1,1,1,1,1,1,1,1,1,1,1,1,1,1,1,1,1,1,1,1,1,1,1,1,1,1,0]
["El, Mellemøsten",null,null,"kWh",null,"Electricity, medium voltage {RME}| market group for | Conseq, U",1,1,1,1,1,1,1,1,1,1,1,1,1,1,1,1,1,1,1,1,1,1,1,1,1,1,1,1,0]
["El, Afrika",null,null,"kWh",null,"Electricity, medium voltage {RAF}| market group for | Conseq, U",1,1,1,1,1,1,1,1,1,1,1,1,1,1,1,1,1,1,1,1,1,1,1,1,1,1,1,1,0]
["El, Latinamerika",null,null,"kWh",null,"Electricity, medium voltage {RLA}| market group for | Conseq, U",1,1,1,1,1,1,1,1,1,1,1,1,1,1,1,1,1,1,1,1,1,1,1,1,1,1,1,1,0]
[null,null,null,null,null,null,1,1,1,1,1,1,1,1,1,1,1,1,1,1,1,1,1,1,1,1,1,1,1,1,1,1,1,1,0]
["Varme, Europa",null,null,"MJ",null,"Heat, district or industrial, natural gas {RER}| market group for | Conseq, U",1,1,1,1,1,1,1,1,1,1,1,1,1,1,1,1,1,1,1,1,1,1,1,1,1,1,1,1,0]
["Varme, Asien",null,null,"MJ",null,"Heat, district or industrial, other than natural gas {TW}| heat and power co-generation, oil | Conseq, U",1,1,1,1,1,1,1,1,1,1,1,1,1,1,1,1,1,1,1,1,1,1,1,1,1,1,1,1,0]
["Varme, Nordamerika",null,null,"MJ",null,"Heat, district or industrial, other than natural gas {WECC, US only}| heat and power co-generation, oil | Conseq, U",1,1,1,1,1,1,1,1,1,1,1,1,1,1,1,1,1,1,1,1,1,1,1,1,1,1,1,1,0]
["Varme, Indien",null,null,"MJ",null,"2/3 coal, 1/3 oil, https://www.iea.org/regions/asia-pacific",1,1,1,1,1,1,1,1,1,1,1,1,1,1,1,1,1,1,1,1,1,1,1,1,1,1,1,1,0]
["Varme, Kina",null,null,"MJ",null,"1/10 natural gas, 2/10oil, 7/10coal, https://www.iea.org/regions/asia-pacific",1,1,1,1,1,1,1,1,1,1,1,1,1,1,1,1,1,1,1,1,1,1,1,1,1,1,1,1,0]
["Varme, Mellemøsten",null,null,"MJ",null,"2/5 oil, 3/5 natural gas, https://www.iea.org/regions/middle-east",1,1,1,1,1,1,1,1,1,1,1,1,1,1,1,1,1,1,1,1,1,1,1,1,1,1,1,1,0]
["Varme, Afrika",null,null,"MJ",null,"3rd of oil, coal, gas, https://www.iea.org/regions/africa",1,1,1,1,1,1,1,1,1,1,1,1,1,1,1,1,1,1,1,1,1,1,1,1,1,1,1,1,0]
["Varme, Latinamerika",null,null,"MJ",null,"1/3 natural gas, 2/3 oil, https://www.iea.org/regions/central-south-america",1,1,1,1,1,1,1,1,1,1,1,1,1,1,1,1,1,1,1,1,1,1,1,1,1,1,1,1,0]
[]
[]
[null,"Opslagslister"]
[]
[null,"Materialer_stof"]
[null,{"$f":"A5","v":"Bomuld, konv., strikket, bleget, farvet"}]
[null,"Bomuld, konv, strikket, ubleget, ufarvet"]
[null,"Bomuld, konv., vævet, bleget, farvet"]
[null,"Bomuld, konv, vævet, ubleget, ufarvet"]
[null,"Bomuld, økologisk, strikket, bleget, farvet"]
[null,"Bomuld, økologisk, strikket, ubleget, ufarvet"]
[null,"Bomuld, økologisk, vævet, bleget, farvet"]
[null,"Bomuld, økologisk, vævet, ubleget, ufarvet"]
[null,"Polyester, nonwoven, farvet"]
[null,"Polyester, nonwoven, ufarvet"]
[null,"Polyester, vævet, farvet"]
[null,"Polyester, vævet, ufarvet "]
[null,"Polyester, strikket, farvet"]
[null,"Polyester, strikket, ufarvet"]
[null,"Polypropylen, nonwoven, farvet"]
[null,"Polypropylen, nonwoven, ufarvet "]
[null,"Polypropylen, vævet, farvet"]
[null,"Polypropylen, vævet, ufarvet"]
[null,"Polypropylen, strikket, farvet"]
[null,"Polypropylen, strikket, ufarvet"]
[null,"Viskose, nonwoven, farvet"]
[null,"Viskose, nonwoven, ufarvet"]
[null,"Viskose, vævet, farvet"]
[null,"Viskose, vævet, ufarvet"]
[null,"Viskose, strikket, farvet"]
[null,"Viskose, strikket, ufarvet"]
[null,"Carbonfibre"]
[null,"Fyld til jakker, tæpper, o.l."]
[]
[]
[null,"Coating"]
[null,{"$f":"A34","v":"Strikket bomuld: blødgører, vandafvisning, antimikrobiel"}]
[null,"Vævet bomuld: blødgører, vandafvisning, antikrøl, flammehæmmer"]
[null,"Mercerisering (bomuld)"]
[null,"Sanforisering (bomuld)"]
[null,"Sterilisering, 121 grader "]
[null,"Væskeafvisende"]
[null,"Væsketæt"]
[null,"(anden finishing) (tom)"]
[]
[]
[null,"Accessories"]
[null,"ingen"]
[null,{"$f":"A43","v":"Knapper, metal"}]
[null,{"$f":"A44","v":"Knapper, plast"}]
[null,{"$f":"A45","v":"Lynlåse"}]
[null,{"$f":"A46","v":"Logo, broderet"}]
[null,{"$f":"A47","v":"Mærker"}]
[]
[]
[null,"Transport"]
[null,{"$f":"A49","v":"Lastbil - 16-32 ton"}]
[null,"Lastbil < 16 ton "]
[null,"Varevogn"]
[null,"Fragskib"]
[null,"Tog"]
[null,"Fly"]
[]
[]
[null,"Emballage"]
[null,{"$f":"A56","v":"PP film"}]
[null,"LDPE film"]
[null,"Pap"]
[null,"Indpakningspapir"]
[null,"Autoklaveringspose"]
[null,"Palle"]
[null,"Palleindpakning"]
[]
[]
[null,"Vaskemaskine"]
[null,{"$f":"A64","v":"Vaskerør, 60gr, 30min "}]
[null,{"$f":"A65","v":"Lille maskine, 40gr, 40min"}]
[null,{"$f":"A66","v":"Lille maskine, 60gr, 40min"}]
[null,{"$f":"A67","v":"Lille maskine, 80gr, 40min"}]
[]
[]
[null,"Dansk el"]
[null,{"$f":"A69","v":"Dansk el"}]
[]
[null,"Vaskevand"]
[null,{"$f":"A71","v":"Vand til vask"}]
[]
[null,"Varmekilder til vaskeri"]
[null,{"$f":"A73","v":"Olie"}]
[null,{"$f":"A74","v":"Gas"}]
[null,{"$f":"A75","v":"Biobrændsel, briketter"}]
[null,{"$f":"A76","v":"Biobrændsel, wood chips"}]
[null,{"$f":"A77","v":"El"}]
[]
[]
[null,"Vaskemiddel"]
[null,{"$f":"A79","v":"Christeyns - Cool 1 Green"}]
[null,"Christeyns - Smart Shield"]
[null,"Christeyns - Cool 2 Blue"]
[null,"Christeyns - Cool 3 Green"]
[null,"Christeyns - Cool Care Blue [🦢]"]
[null,"Christeyns - Cool Intense Blue"]
[null,"Christeyns - Neutrapur Forte NS"]
[null,"Christeyns - Power Extract Blue [🦢]"]
[null,"Christeyns - Select Power Blue [🦢]"]
[null,"Ecolab - Dermasil Emulsion M"]
[null,"Ecolab - Hygenil ALCA"]
[null,"Ecolab - Hygenil Sour"]
[null,"Ecolab - Ozonit PERformance"]
[null,"Ecolab - Triplex Plus-M"]
[null,"Generisk, gennemsnitligt vaskemiddel"]
[]
[]
[null,"Tørring"]
[null,{"$f":"A95","v":"Tørretumbler, 70gr, 60min"}]
[null,{"$f":"A96","v":"Tørretumbler, 80gr, 10min"}]
[null,{"$f":"A97","v":"Tørretumbler, 80gr, 20min"}]
[null,{"$f":"A98","v":"Tørretumbler, 80gr, 40min"}]
[]
[]
[null,"Efterbehandling"]
[null,"ingen"]
[null,{"$f":"A100","v":"Stortøjsrulle, våd, strygning, sammenlægning"}]
[null,{"$f":"A101","v":"Småtøjsrulle, våd, strygning, sammenlægning"}]
[null,{"$f":"A102","v":"Sammenlægningsmaskine (tørt)"}]
[null,{"$f":"A103","v":"Uniformsbehandling, våd, strygning, sammenlægning"}]
[null,{"$f":"A104","v":"Strygning, flatwork maskine"}]
[null,{"$f":"A105","v":"Presning"}]
[]
[null,"Vandafvisning"]
[null,"nej"]
[null,{"$f":"A39","v":"Væskeafvisende"}]
[null,{"$f":"A40","v":"Væsketæt"}]
[]
[null,"ProdEoL"]
[null,{"$f":"A123","v":"Forbrænding"}]
[null,{"$f":"A124","v":"Genbrug"}]
[null,{"$f":"A125","v":"Mekanisk genanvendelse"}]
[null,{"$f":"A126","v":"Deponi"}]
[]
[null,"Efterliv"]
[null,{"$f":"A107","v":"Forbrænding, bomuld, viskose"}]
[null,"Forbrænding, polyester, polypropylen, carbonfibre, fyld"]
[null,"Forbrænding, generelt tekstil"]
[null,"Deponering/ eksport"]
[null,"Genbrug, bomuld, konv"]
[null,"Genbrug, bomuld, økol"]
[null,"Genbrug, polyester, tekstil + fyld"]
[null,"Genbrug, polypropylen"]
[null,"Genbrug, viskose"]
[null,"(tom) Mekanisk genanvendelse, bomuld til cellulosepulp"]
[null,"(tom) Mekanisk genanvendelse, bomuld til bomuldsgarn"]
[null,"Mekanisk genanvendelse, bomuld til isolering"]
[null,"Mekanisk genanvendelse, tekstil til non-woven klude"]
[null,"Kemisk genanvendelse, polyester erstatter ny polyester"]
[null,"(tom) Takeback ordning"]
[]
[]
[]
[null,"Efterliv, emballage"]
[null,{"$f":"A128","v":"Pap, forbrænding"}]
[null,{"$f":"A129","v":"Pap, genanvendelse"}]
[null,{"$f":"A130","v":"Plast, forbrænding"}]
[null,{"$f":"A131","v":"Plast, deponi"}]
[]
[]
[null,"Energimiks"]
[null,{"$f":"RIGHT(A133,LEN(A133)-FIND(\",\",A133)-1)","v":"Europa"}]
[null,{"$f":"RIGHT(A134,LEN(A134)-FIND(\",\",A134)-1)","v":"Asien"}]
[null,"Nordamerika"]
[null,"Indien"]
[null,"Kina"]
[null,"Mellemøsten"]
[null,"Afrika"]
[null,"Latinamerika"]

{"sheet":"Brugeraftaleindehaver","index":9,"n_rows":9,"n_cols":1,"rows_kept":9,"cut":false,"hidden":true,"merged":[]}
["Navn organisation:"]
["Adresse:"]
["Postnr.:"]
["By:"]
["CVR:"]
["Navn kontakt:"]
["Titel:"]
["Telefon:"]
["E-mail:"]