{"text_format":"1","workbook":"xlsx","n_sheets":18,"sheets":["Introduktion","Stamdata","Tilbudsgiver","Benzin - diesel - hybrid","IB - B&D&H","El og plugin hybrid","IB - E&PH","Opsummering af tilbud","Sammenligning af tilbud","Beregningsmetode","Euronorm","Lister","Fremskrivninger","Fremskrivninger CO2e egne data","ENS udvikling i elpris","ENS udvikling i brændstofspris","Samfundsøkonomiske priser","Udledninger per Wh"],"not_rendered":{"charts":6,"images":1,"macros":0,"external_links":1,"defined_names":40,"comments":1,"pivot_tables":0},"unopened":[],"bounds":{"document_bytes":16777216,"sheet_cells":100000,"rows_first":2000,"rows_last":500,"rows_between":2000,"halvings":0,"cell_chars":16384,"cell_head_chars":4096},"cells_cut":0,"cells_raw":0,"read":"whole","date_system":"1900"}

{"sheet":"Introduktion","index":0,"n_rows":0,"n_cols":0,"rows_kept":0,"cut":false,"hidden":false,"merged":[]}

{"sheet":"Stamdata","index":1,"n_rows":7,"n_cols":3,"rows_kept":7,"cut":false,"hidden":false,"merged":[]}
[]
[]
[null,null,"Stamdata for udbud"]
[]
[null,null,"Ordregiver - Navn"]
[null,null,"Bedst beskrivende geografiske område"]
[null,null,"Samlede antal km i udbud per år"]

{"sheet":"Tilbudsgiver","index":2,"n_rows":6,"n_cols":3,"rows_kept":6,"cut":false,"hidden":false,"merged":[]}
[]
[]
[null,null,"Basisoplysninger på tilbudsgiver"]
[]
[null,null,"Tilbudsgivers navn"]
[null,null,"Tilbudsgivers samlede pris for hele TCO-perioden"]

{"sheet":"Benzin - diesel - hybrid","index":3,"n_rows":109,"n_cols":23,"rows_kept":109,"cut":false,"hidden":false,"merged":[[51,1,51,3],[2,1,2,2],[49,18,49,23],[5,1,5,4],[43,1,43,3],[49,6,49,7],[49,4,49,5],[49,2,49,3],[49,10,49,11],[49,12,49,13],[49,14,49,15],[49,16,49,17],[44,1,44,3]]}
[]
[null,"TCO-værktøj til tilbudsevaluering"]
[null,"Benzin - diesel - hybrid (uden opladning) - Transportydelser"]
[]
[]
[null,"          "]
[null,"4    Tilbudsgiver: Oplysninger om produktet"]
[null,null,"Køretøjets navn","Egen reference","PRODUKT 1",null,"PRODUKT 2",null,"PRODUKT 3",null,"PRODUKT 4",null,"PRODUKT 5",null,"PRODUKT 6",null,"PRODUKT 7",null,"PRODUKT 8",null,"PRODUKT 9",null,"PRODUKT 10"]
[null,null,"Type af køretøj","Personbil / varevogn / \nminibus / lastbil / bus","Klik for valg",null,"Klik for valg",null,"Klik for valg",null,"Klik for valg",null,"Klik for valg",null,"Klik for valg",null,"Klik for valg",null,"Klik for valg",null,"Klik for valg",null,"Klik for valg"]
[null,null,"Kategori",null,"Klik for valg",null,"Klik for valg",null,"Klik for valg",null,"Klik for valg",null,"Klik for valg",null,"Klik for valg",null,"Klik for valg",null,"Klik for valg",null,"Klik for valg",null,"Klik for valg"]
[null,null,"Antal køretøjer","stk."]
[null,null,null,null,{"$f":"IF(OR(E$9=\"Klik for valg\",E$10=\"Klik for valg\"),\"\",IF(OR(AND(E$9=\"Bus\",E$10=\"Kategori M3\"),AND(E$9=\"Lastbil\",E$10=\"Kategori N3\"),AND(E$9=\"Personbil\",E$10=\"Kategori M1\"),AND(E$9=\"Minibus\",E$10=\"Kategori M2\"),AND(E$9=\"Varevogn\",OR(E$10=\"Kategori N1, klasse I, ≤1305 kg\",E$10=\"Kategori N1, klasse II, 1305-1760 kg\",E$10=\"Kategori N1, klasse III, >1760 kg\",E$10=\"Kategori N2\"))),\"\",\"Vælg korrekt kategori\"))","v":""},null,{"$f":"IF(OR(G$9=\"Klik for valg\",G$10=\"Klik for valg\"),\"\",IF(OR(AND(G$9=\"Bus\",G$10=\"Kategori M3\"),AND(G$9=\"Lastbil\",G$10=\"Kategori N3\"),AND(G$9=\"Personbil\",G$10=\"Kategori M1\"),AND(G$9=\"Minibus\",G$10=\"Kategori M2\"),AND(G$9=\"Varevogn\",OR(G$10=\"Kategori N1, klasse I, ≤1305 kg\",G$10=\"Kategori N1, klasse II, 1305-1760 kg\",G$10=\"Kategori N1, klasse III, >1760 kg\",G$10=\"Kategori N2\"))),\"\",\"Vælg korrekt kategori\"))","v":""},null,{"$f":"IF(OR(I$9=\"Klik for valg\",I$10=\"Klik for valg\"),\"\",IF(OR(AND(I$9=\"Bus\",I$10=\"Kategori M3\"),AND(I$9=\"Lastbil\",I$10=\"Kategori N3\"),AND(I$9=\"Personbil\",I$10=\"Kategori M1\"),AND(I$9=\"Minibus\",I$10=\"Kategori M2\"),AND(I$9=\"Varevogn\",OR(I$10=\"Kategori N1, klasse I, ≤1305 kg\",I$10=\"Kategori N1, klasse II, 1305-1760 kg\",I$10=\"Kategori N1, klasse III, >1760 kg\",I$10=\"Kategori N2\"))),\"\",\"Vælg korrekt kategori\"))","v":""},null,{"$f":"IF(OR(K$9=\"Klik for valg\",K$10=\"Klik for valg\"),\"\",IF(OR(AND(K$9=\"Bus\",K$10=\"Kategori M3\"),AND(K$9=\"Lastbil\",K$10=\"Kategori N3\"),AND(K$9=\"Personbil\",K$10=\"Kategori M1\"),AND(K$9=\"Minibus\",K$10=\"Kategori M2\"),AND(K$9=\"Varevogn\",OR(K$10=\"Kategori N1, klasse I, ≤1305 kg\",K$10=\"Kategori N1, klasse II, 1305-1760 kg\",K$10=\"Kategori N1, klasse III, >1760 kg\",K$10=\"Kategori N2\"))),\"\",\"Vælg korrekt kategori\"))","v":""},null,{"$f":"IF(OR(M$9=\"Klik for valg\",M$10=\"Klik for valg\"),\"\",IF(OR(AND(M$9=\"Bus\",M$10=\"Kategori M3\"),AND(M$9=\"Lastbil\",M$10=\"Kategori N3\"),AND(M$9=\"Personbil\",M$10=\"Kategori M1\"),AND(M$9=\"Minibus\",M$10=\"Kategori M2\"),AND(M$9=\"Varevogn\",OR(M$10=\"Kategori N1, klasse I, ≤1305 kg\",M$10=\"Kategori N1, klasse II, 1305-1760 kg\",M$10=\"Kategori N1, klasse III, >1760 kg\",M$10=\"Kategori N2\"))),\"\",\"Vælg korrekt kategori\"))","v":""},null,{"$f":"IF(OR(O$9=\"Klik for valg\",O$10=\"Klik for valg\"),\"\",IF(OR(AND(O$9=\"Bus\",O$10=\"Kategori M3\"),AND(O$9=\"Lastbil\",O$10=\"Kategori N3\"),AND(O$9=\"Personbil\",O$10=\"Kategori M1\"),AND(O$9=\"Minibus\",O$10=\"Kategori M2\"),AND(O$9=\"Varevogn\",OR(O$10=\"Kategori N1, klasse I, ≤1305 kg\",O$10=\"Kategori N1, klasse II, 1305-1760 kg\",O$10=\"Kategori N1, klasse III, >1760 kg\",O$10=\"Kategori N2\"))),\"\",\"Vælg korrekt kategori\"))","v":""},null,{"$f":"IF(OR(Q$9=\"Klik for valg\",Q$10=\"Klik for valg\"),\"\",IF(OR(AND(Q$9=\"Bus\",Q$10=\"Kategori M3\"),AND(Q$9=\"Lastbil\",Q$10=\"Kategori N3\"),AND(Q$9=\"Personbil\",Q$10=\"Kategori M1\"),AND(Q$9=\"Minibus\",Q$10=\"Kategori M2\"),AND(Q$9=\"Varevogn\",OR(Q$10=\"Kategori N1, klasse I, ≤1305 kg\",Q$10=\"Kategori N1, klasse II, 1305-1760 kg\",Q$10=\"Kategori N1, klasse III, >1760 kg\",Q$10=\"Kategori N2\"))),\"\",\"Vælg korrekt kategori\"))","v":""},null,{"$f":"IF(OR(S$9=\"Klik for valg\",S$10=\"Klik for valg\"),\"\",IF(OR(AND(S$9=\"Bus\",S$10=\"Kategori M3\"),AND(S$9=\"Lastbil\",S$10=\"Kategori N3\"),AND(S$9=\"Personbil\",S$10=\"Kategori M1\"),AND(S$9=\"Minibus\",S$10=\"Kategori M2\"),AND(S$9=\"Varevogn\",OR(S$10=\"Kategori N1, klasse I, ≤1305 kg\",S$10=\"Kategori N1, klasse II, 1305-1760 kg\",S$10=\"Kategori N1, klasse III, >1760 kg\",S$10=\"Kategori N2\"))),\"\",\"Vælg korrekt kategori\"))","v":""},null,{"$f":"IF(OR(U$9=\"Klik for valg\",U$10=\"Klik for valg\"),\"\",IF(OR(AND(U$9=\"Bus\",U$10=\"Kategori M3\"),AND(U$9=\"Lastbil\",U$10=\"Kategori N3\"),AND(U$9=\"Personbil\",U$10=\"Kategori M1\"),AND(U$9=\"Minibus\",U$10=\"Kategori M2\"),AND(U$9=\"Varevogn\",OR(U$10=\"Kategori N1, klasse I, ≤1305 kg\",U$10=\"Kategori N1, klasse II, 1305-1760 kg\",U$10=\"Kategori N1, klasse III, >1760 kg\",U$10=\"Kategori N2\"))),\"\",\"Vælg korrekt kategori\"))","v":""},null,{"$f":"IF(OR(W$9=\"Klik for valg\",W$10=\"Klik for valg\"),\"\",IF(OR(AND(W$9=\"Bus\",W$10=\"Kategori M3\"),AND(W$9=\"Lastbil\",W$10=\"Kategori N3\"),AND(W$9=\"Personbil\",W$10=\"Kategori M1\"),AND(W$9=\"Minibus\",W$10=\"Kategori M2\"),AND(W$9=\"Varevogn\",OR(W$10=\"Kategori N1, klasse I, ≤1305 kg\",W$10=\"Kategori N1, klasse II, 1305-1760 kg\",W$10=\"Kategori N1, klasse III, >1760 kg\",W$10=\"Kategori N2\"))),\"\",\"Vælg korrekt kategori\"))","v":""}]
[null,null,"Hvilken type brændstof anvender køretøjet?","Benzin/diesel","Klik for valg",null,"Klik for valg",null,"Klik for valg",null,"Klik for valg",null,"Klik for valg",null,"Klik for valg",null,"Klik for valg",null,"Klik for valg",null,"Klik for valg",null,"Klik for valg"]
[null,null,"Årligt kørselsforbrug pr. motorkøretøj","km/år pr. køretøj"]
[null,null,"Brændstofforbrug (fra VECTO) - KUN Lastbil/bus","liter/100 km"]
[null,null,null,null,{"$f":"IF(AND(OR(E$9=\"Bus\",E$9=\"Lastbil\"),E$13=\"Benzin\"),\"Vælg korrekt brændstof\",\"\")","v":""},null,{"$f":"IF(AND(OR(G$9=\"Bus\",G$9=\"Lastbil\"),G$13=\"Benzin\"),\"Vælg korrekt brændstof\",\"\")","v":""},null,{"$f":"IF(AND(OR(I$9=\"Bus\",I$9=\"Lastbil\"),I$13=\"Benzin\"),\"Vælg korrekt brændstof\",\"\")","v":""},null,{"$f":"IF(AND(OR(K$9=\"Bus\",K$9=\"Lastbil\"),K$13=\"Benzin\"),\"Vælg korrekt brændstof\",\"\")","v":""},null,{"$f":"IF(AND(OR(M$9=\"Bus\",M$9=\"Lastbil\"),M$13=\"Benzin\"),\"Vælg korrekt brændstof\",\"\")","v":""},null,{"$f":"IF(AND(OR(O$9=\"Bus\",O$9=\"Lastbil\"),O$13=\"Benzin\"),\"Vælg korrekt brændstof\",\"\")","v":""},null,{"$f":"IF(AND(OR(Q$9=\"Bus\",Q$9=\"Lastbil\"),Q$13=\"Benzin\"),\"Vælg korrekt brændstof\",\"\")","v":""},null,{"$f":"IF(AND(OR(S$9=\"Bus\",S$9=\"Lastbil\"),S$13=\"Benzin\"),\"Vælg korrekt brændstof\",\"\")","v":""},null,{"$f":"IF(AND(OR(U$9=\"Bus\",U$9=\"Lastbil\"),U$13=\"Benzin\"),\"Vælg korrekt brændstof\",\"\")","v":""},null,{"$f":"IF(AND(OR(W$9=\"Bus\",W$9=\"Lastbil\"),W$13=\"Benzin\"),\"Vælg korrekt brændstof\",\"\")","v":""}]
[null,null,"Miljøudledninger",null,{"$f":"IF(AND(OR(E$9=\"Bus\",E$9=\"Lastbil\"),OR(E$15=0,E$15=\"\")),\"Husk at angive brændstofforbrug\",\"\")","v":""},null,{"$f":"IF(AND(OR(G$9=\"Bus\",G$9=\"Lastbil\"),OR(G$15=0,G$15=\"\")),\"Husk at angive brændstofforbrug\",\"\")","v":""},null,{"$f":"IF(AND(OR(I$9=\"Bus\",I$9=\"Lastbil\"),OR(I$15=0,I$15=\"\")),\"Husk at angive brændstofforbrug\",\"\")","v":""},null,{"$f":"IF(AND(OR(K$9=\"Bus\",K$9=\"Lastbil\"),OR(K$15=0,K$15=\"\")),\"Husk at angive brændstofforbrug\",\"\")","v":""},null,{"$f":"IF(AND(OR(M$9=\"Bus\",M$9=\"Lastbil\"),OR(M$15=0,M$15=\"\")),\"Husk at angive brændstofforbrug\",\"\")","v":""},null,{"$f":"IF(AND(OR(O$9=\"Bus\",O$9=\"Lastbil\"),OR(O$15=0,O$15=\"\")),\"Husk at angive brændstofforbrug\",\"\")","v":""},null,{"$f":"IF(AND(OR(Q$9=\"Bus\",Q$9=\"Lastbil\"),OR(Q$15=0,Q$15=\"\")),\"Husk at angive brændstofforbrug\",\"\")","v":""},null,{"$f":"IF(AND(OR(S$9=\"Bus\",S$9=\"Lastbil\"),OR(S$15=0,S$15=\"\")),\"Husk at angive brændstofforbrug\",\"\")","v":""},null,{"$f":"IF(AND(OR(U$9=\"Bus\",U$9=\"Lastbil\"),OR(U$15=0,U$15=\"\")),\"Husk at angive brændstofforbrug\",\"\")","v":""},null,{"$f":"IF(AND(OR(W$9=\"Bus\",W$9=\"Lastbil\"),OR(W$15=0,W$15=\"\")),\"Husk at angive brændstofforbrug\",\"\")","v":""}]
[null,null,"Anvend CO2-værdier ifølge WLTP/VECTO?",null,"Klik for valg",null,"Klik for valg",null,"Klik for valg",null,"Klik for valg",null,"Klik for valg",null,"Klik for valg",null,"Klik for valg",null,"Klik for valg",null,"Klik for valg",null,"Klik for valg"]
[null,null,"CO2-emission ifølge WLTP/VECTO","g CO2/km"]
[null,null,"CO2-emission - målt emission","g CO2/km"]
[]
[null,null,"Anvend Euronorm-værdier for NOx og partikler?",null,"Klik for valg",null,"Klik for valg",null,"Klik for valg",null,"Klik for valg",null,"Klik for valg",null,"Klik for valg",null,"Klik for valg",null,"Klik for valg",null,"Klik for valg",null,"Klik for valg"]
[null,null,"Euronorm NOx-emission","mg NOx/km",{"$f":"IFERROR(IF(OR(E$22=\"Nej\",E$22=\"Klik for valg\"),\"\",IF(AND(OR(E$9=\"Personbil\",E$9=\"Varevogn\",E$9=\"Minibus\"),OR(E$22=\"Euro 5\",E$22=\"Euro 6\")),VLOOKUP(E$13&E$10&E$22,Euronorm!$B$5:$G$44,5,FALSE),IF(AND(OR(E$9=\"Bus\",E$9=\"Lastbil\"),OR(E$22=\"Euro V\",E$22=\"Euro VI\")),VLOOKUP(E$22,Euronorm!$E$46:$Y$50,2,FALSE),\"Vælg korrekt Euronorm\"))),\"Vælg korrekt Euronorm\")","v":""},null,{"$f":"IFERROR(IF(OR(G$22=\"Nej\",G$22=\"Klik for valg\"),\"\",IF(AND(OR(G$9=\"Personbil\",G$9=\"Varevogn\",G$9=\"Minibus\"),OR(G$22=\"Euro 5\",G$22=\"Euro 6\")),VLOOKUP(G$13&G$10&G$22,Euronorm!$B$5:$G$44,5,FALSE),IF(AND(OR(G$9=\"Bus\",G$9=\"Lastbil\"),OR(G$22=\"Euro V\",G$22=\"Euro VI\")),VLOOKUP(G$22,Euronorm!$E$46:$Y$50,4,FALSE),\"Vælg korrekt Euronorm\"))),\"Vælg korrekt Euronorm\")","v":""},null,{"$f":"IFERROR(IF(OR(I$22=\"Nej\",I$22=\"Klik for valg\"),\"\",IF(AND(OR(I$9=\"Personbil\",I$9=\"Varevogn\",I$9=\"Minibus\"),OR(I$22=\"Euro 5\",I$22=\"Euro 6\")),VLOOKUP(I$13&I$10&I$22,Euronorm!$B$5:$G$44,5,FALSE),IF(AND(OR(I$9=\"Bus\",I$9=\"Lastbil\"),OR(I$22=\"Euro V\",I$22=\"Euro VI\")),VLOOKUP(I$22,Euronorm!$E$46:$Y$50,6,FALSE),\"Vælg korrekt Euronorm\"))),\"Vælg korrekt Euronorm\")","v":""},null,{"$f":"IFERROR(IF(OR(K$22=\"Nej\",K$22=\"Klik for valg\"),\"\",IF(AND(OR(K$9=\"Personbil\",K$9=\"Varevogn\",K$9=\"Minibus\"),OR(K$22=\"Euro 5\",K$22=\"Euro 6\")),VLOOKUP(K$13&K$10&K$22,Euronorm!$B$5:$G$44,5,FALSE),IF(AND(OR(K$9=\"Bus\",K$9=\"Lastbil\"),OR(K$22=\"Euro V\",K$22=\"Euro VI\")),VLOOKUP(K$22,Euronorm!$E$46:$Y$50,8,FALSE),\"Vælg korrekt Euronorm\"))),\"Vælg korrekt Euronorm\")","v":""},null,{"$f":"IFERROR(IF(OR(M$22=\"Nej\",M$22=\"Klik for valg\"),\"\",IF(AND(OR(M$9=\"Personbil\",M$9=\"Varevogn\",M$9=\"Minibus\"),OR(M$22=\"Euro 5\",M$22=\"Euro 6\")),VLOOKUP(M$13&M$10&M$22,Euronorm!$B$5:$G$44,5,FALSE),IF(AND(OR(M$9=\"Bus\",M$9=\"Lastbil\"),OR(M$22=\"Euro V\",M$22=\"Euro VI\")),VLOOKUP(M$22,Euronorm!$E$46:$Y$50,10,FALSE),\"Vælg korrekt Euronorm\"))),\"Vælg korrekt Euronorm\")","v":""},null,{"$f":"IFERROR(IF(OR(O$22=\"Nej\",O$22=\"Klik for valg\"),\"\",IF(AND(OR(O$9=\"Personbil\",O$9=\"Varevogn\",O$9=\"Minibus\"),OR(O$22=\"Euro 5\",O$22=\"Euro 6\")),VLOOKUP(O$13&O$10&O$22,Euronorm!$B$5:$G$44,5,FALSE),IF(AND(OR(O$9=\"Bus\",O$9=\"Lastbil\"),OR(O$22=\"Euro V\",O$22=\"Euro VI\")),VLOOKUP(O$22,Euronorm!$E$46:$Y$50,12,FALSE),\"Vælg korrekt Euronorm\"))),\"Vælg korrekt Euronorm\")","v":""},null,{"$f":"IFERROR(IF(OR(Q$22=\"Nej\",Q$22=\"Klik for valg\"),\"\",IF(AND(OR(Q$9=\"Personbil\",Q$9=\"Varevogn\",Q$9=\"Minibus\"),OR(Q$22=\"Euro 5\",Q$22=\"Euro 6\")),VLOOKUP(Q$13&Q$10&Q$22,Euronorm!$B$5:$G$44,5,FALSE),IF(AND(OR(Q$9=\"Bus\",Q$9=\"Lastbil\"),OR(Q$22=\"Euro V\",Q$22=\"Euro VI\")),VLOOKUP(Q$22,Euronorm!$E$46:$Y$50,14,FALSE),\"Vælg korrekt Euronorm\"))),\"Vælg korrekt Euronorm\")","v":""},null,{"$f":"IFERROR(IF(OR(S$22=\"Nej\",S$22=\"Klik for valg\"),\"\",IF(AND(OR(S$9=\"Personbil\",S$9=\"Varevogn\",S$9=\"Minibus\"),OR(S$22=\"Euro 5\",S$22=\"Euro 6\")),VLOOKUP(S$13&S$10&S$22,Euronorm!$B$5:$G$44,5,FALSE),IF(AND(OR(S$9=\"Bus\",S$9=\"Lastbil\"),OR(S$22=\"Euro V\",S$22=\"Euro VI\")),VLOOKUP(S$22,Euronorm!$E$46:$Y$50,16,FALSE),\"Vælg korrekt Euronorm\"))),\"Vælg korrekt Euronorm\")","v":""},null,{"$f":"IFERROR(IF(OR(U$22=\"Nej\",U$22=\"Klik for valg\"),\"\",IF(AND(OR(U$9=\"Personbil\",U$9=\"Varevogn\",U$9=\"Minibus\"),OR(U$22=\"Euro 5\",U$22=\"Euro 6\")),VLOOKUP(U$13&U$10&U$22,Euronorm!$B$5:$G$44,5,FALSE),IF(AND(OR(U$9=\"Bus\",U$9=\"Lastbil\"),OR(U$22=\"Euro V\",U$22=\"Euro VI\")),VLOOKUP(U$22,Euronorm!$E$46:$Y$50,18,FALSE),\"Vælg korrekt Euronorm\"))),\"Vælg korrekt Euronorm\")","v":""},null,{"$f":"IFERROR(IF(OR(W$22=\"Nej\",W$22=\"Klik for valg\"),\"\",IF(AND(OR(W$9=\"Personbil\",W$9=\"Varevogn\",W$9=\"Minibus\"),OR(W$22=\"Euro 5\",W$22=\"Euro 6\")),VLOOKUP(W$13&W$10&W$22,Euronorm!$B$5:$G$44,5,FALSE),IF(AND(OR(W$9=\"Bus\",W$9=\"Lastbil\"),OR(W$22=\"Euro V\",W$22=\"Euro VI\")),VLOOKUP(W$22,Euronorm!$E$46:$Y$50,20,FALSE),\"Vælg korrekt Euronorm\"))),\"Vælg korrekt Euronorm\")","v":""}]
[null,null,"Euronorm partikelemission","mg partikler/km",{"$f":"IFERROR(IF(OR(E$22=\"Nej\",E$22=\"Klik for valg\"),\"\",IF(AND(OR(E$9=\"Personbil\",E$9=\"Varevogn\",E$9=\"Minibus\"),OR(E$22=\"Euro 5\",E$22=\"Euro 6\")),VLOOKUP(E$13&E$10&E$22,Euronorm!$B$5:$G$44,6,FALSE),IF(AND(OR(E$9=\"Bus\",E$9=\"Lastbil\"),OR(E$22=\"Euro V\",E$22=\"Euro VI\")),VLOOKUP(E$22,Euronorm!$E$46:$Y$50,3,FALSE),\"Vælg korrekt Euronorm\"))),\"Vælg korrekt Euronorm\")","v":""},null,{"$f":"IFERROR(IF(OR(G$22=\"Nej\",G$22=\"Klik for valg\"),\"\",IF(AND(OR(G$9=\"Personbil\",G$9=\"Varevogn\",G$9=\"Minibus\"),OR(G$22=\"Euro 5\",G$22=\"Euro 6\")),VLOOKUP(G$13&G$10&G$22,Euronorm!$B$5:$G$44,6,FALSE),IF(AND(OR(G$9=\"Bus\",G$9=\"Lastbil\"),OR(G$22=\"Euro V\",G$22=\"Euro VI\")),VLOOKUP(G$22,Euronorm!$E$46:$Y$50,5,FALSE),\"Vælg korrekt Euronorm\"))),\"Vælg korrekt Euronorm\")","v":""},null,{"$f":"IFERROR(IF(OR(I$22=\"Nej\",I$22=\"Klik for valg\"),\"\",IF(AND(OR(I$9=\"Personbil\",I$9=\"Varevogn\",I$9=\"Minibus\"),OR(I$22=\"Euro 5\",I$22=\"Euro 6\")),VLOOKUP(I$13&I$10&I$22,Euronorm!$B$5:$G$44,6,FALSE),IF(AND(OR(I$9=\"Bus\",I$9=\"Lastbil\"),OR(I$22=\"Euro V\",I$22=\"Euro VI\")),VLOOKUP(I$22,Euronorm!$E$46:$Y$50,7,FALSE),\"Vælg korrekt Euronorm\"))),\"Vælg korrekt Euronorm\")","v":""},null,{"$f":"IFERROR(IF(OR(K$22=\"Nej\",K$22=\"Klik for valg\"),\"\",IF(AND(OR(K$9=\"Personbil\",K$9=\"Varevogn\",K$9=\"Minibus\"),OR(K$22=\"Euro 5\",K$22=\"Euro 6\")),VLOOKUP(K$13&K$10&K$22,Euronorm!$B$5:$G$44,6,FALSE),IF(AND(OR(K$9=\"Bus\",K$9=\"Lastbil\"),OR(K$22=\"Euro V\",K$22=\"Euro VI\")),VLOOKUP(K$22,Euronorm!$E$46:$Y$50,9,FALSE),\"Vælg korrekt Euronorm\"))),\"Vælg korrekt Euronorm\")","v":""},null,{"$f":"IFERROR(IF(OR(M$22=\"Nej\",M$22=\"Klik for valg\"),\"\",IF(AND(OR(M$9=\"Personbil\",M$9=\"Varevogn\",M$9=\"Minibus\"),OR(M$22=\"Euro 5\",M$22=\"Euro 6\")),VLOOKUP(M$13&M$10&M$22,Euronorm!$B$5:$G$44,6,FALSE),IF(AND(OR(M$9=\"Bus\",M$9=\"Lastbil\"),OR(M$22=\"Euro V\",M$22=\"Euro VI\")),VLOOKUP(M$22,Euronorm!$E$46:$Y$50,11,FALSE),\"Vælg korrekt Euronorm\"))),\"Vælg korrekt Euronorm\")","v":""},null,{"$f":"IFERROR(IF(OR(O$22=\"Nej\",O$22=\"Klik for valg\"),\"\",IF(AND(OR(O$9=\"Personbil\",O$9=\"Varevogn\",O$9=\"Minibus\"),OR(O$22=\"Euro 5\",O$22=\"Euro 6\")),VLOOKUP(O$13&O$10&O$22,Euronorm!$B$5:$G$44,6,FALSE),IF(AND(OR(O$9=\"Bus\",O$9=\"Lastbil\"),OR(O$22=\"Euro V\",O$22=\"Euro VI\")),VLOOKUP(O$22,Euronorm!$E$46:$Y$50,13,FALSE),\"Vælg korrekt Euronorm\"))),\"Vælg korrekt Euronorm\")","v":""},null,{"$f":"IFERROR(IF(OR(Q$22=\"Nej\",Q$22=\"Klik for valg\"),\"\",IF(AND(OR(Q$9=\"Personbil\",Q$9=\"Varevogn\",Q$9=\"Minibus\"),OR(Q$22=\"Euro 5\",Q$22=\"Euro 6\")),VLOOKUP(Q$13&Q$10&Q$22,Euronorm!$B$5:$G$44,6,FALSE),IF(AND(OR(Q$9=\"Bus\",Q$9=\"Lastbil\"),OR(Q$22=\"Euro V\",Q$22=\"Euro VI\")),VLOOKUP(Q$22,Euronorm!$E$46:$Y$50,15,FALSE),\"Vælg korrekt Euronorm\"))),\"Vælg korrekt Euronorm\")","v":""},null,{"$f":"IFERROR(IF(OR(S$22=\"Nej\",S$22=\"Klik for valg\"),\"\",IF(AND(OR(S$9=\"Personbil\",S$9=\"Varevogn\",S$9=\"Minibus\"),OR(S$22=\"Euro 5\",S$22=\"Euro 6\")),VLOOKUP(S$13&S$10&S$22,Euronorm!$B$5:$G$44,6,FALSE),IF(AND(OR(S$9=\"Bus\",S$9=\"Lastbil\"),OR(S$22=\"Euro V\",S$22=\"Euro VI\")),VLOOKUP(S$22,Euronorm!$E$46:$Y$50,17,FALSE),\"Vælg korrekt Euronorm\"))),\"Vælg korrekt Euronorm\")","v":""},null,{"$f":"IFERROR(IF(OR(U$22=\"Nej\",U$22=\"Klik for valg\"),\"\",IF(AND(OR(U$9=\"Personbil\",U$9=\"Varevogn\",U$9=\"Minibus\"),OR(U$22=\"Euro 5\",U$22=\"Euro 6\")),VLOOKUP(U$13&U$10&U$22,Euronorm!$B$5:$G$44,6,FALSE),IF(AND(OR(U$9=\"Bus\",U$9=\"Lastbil\"),OR(U$22=\"Euro V\",U$22=\"Euro VI\")),VLOOKUP(U$22,Euronorm!$E$46:$Y$50,19,FALSE),\"Vælg korrekt Euronorm\"))),\"Vælg korrekt Euronorm\")","v":""},null,{"$f":"IFERROR(IF(OR(W$22=\"Nej\",W$22=\"Klik for valg\"),\"\",IF(AND(OR(W$9=\"Personbil\",W$9=\"Varevogn\",W$9=\"Minibus\"),OR(W$22=\"Euro 5\",W$22=\"Euro 6\")),VLOOKUP(W$13&W$10&W$22,Euronorm!$B$5:$G$44,6,FALSE),IF(AND(OR(W$9=\"Bus\",W$9=\"Lastbil\"),OR(W$22=\"Euro V\",W$22=\"Euro VI\")),VLOOKUP(W$22,Euronorm!$E$46:$Y$50,21,FALSE),\"Vælg korrekt Euronorm\"))),\"Vælg korrekt Euronorm\")","v":""}]
[null,null,"NOx-emission - egne data","mg NOx/km"]
[null,null,"Partikelemission - egne data","mg partikler/km"]
[]
[]
[]
[null,"3   Ordregiver: Værdisætning af samfundsøkonomiske omkostninger ved eksterne virkninger på miljøet"]
[null,null,"Skal de eksterne virkninger på miljøet inkluderes i denne TCO-beregning?",null,"Ja",null,{"$f":"$E$31","v":"Ja"},null,{"$f":"$E$31","v":"Ja"},null,{"$f":"$E$31","v":"Ja"},null,{"$f":"$E$31","v":"Ja"},null,{"$f":"$E$31","v":"Ja"},null,{"$f":"$E$31","v":"Ja"},null,{"$f":"$E$31","v":"Ja"},null,{"$f":"$E$31","v":"Ja"},null,{"$f":"$E$31","v":"Ja"}]
[]
[null,null,"Anvendelse af standard-værdisætning af samfundsøkonomiske omkostninger for CO2?",null,"Ja",null,{"$f":"$E$33","v":"Ja"},null,{"$f":"$E$33","v":"Ja"},null,{"$f":"$E$33","v":"Ja"},null,{"$f":"$E$33","v":"Ja"},null,{"$f":"$E$33","v":"Ja"},null,{"$f":"$E$33","v":"Ja"},null,{"$f":"$E$33","v":"Ja"},null,{"$f":"$E$33","v":"Ja"},null,{"$f":"$E$33","v":"Ja"}]
[null,null,"Standard-værdisætning for CO2","kr./tons CO2e",1500,null,{"$f":"$E$34","v":1500},null,{"$f":"$E$34","v":1500},null,{"$f":"$E$34","v":1500},null,{"$f":"$E$34","v":1500},null,{"$f":"$E$34","v":1500},null,{"$f":"$E$34","v":1500},null,{"$f":"$E$34","v":1500},null,{"$f":"$E$34","v":1500},null,{"$f":"$E$34","v":1500}]
[null,null,"Egen værdisætning","kr./tons CO2e",0,null,{"$f":"$E$35","v":0},null,{"$f":"$E$35","v":0},null,{"$f":"$E$35","v":0},null,{"$f":"$E$35","v":0},null,{"$f":"$E$35","v":0},null,{"$f":"$E$35","v":0},null,{"$f":"$E$35","v":0},null,{"$f":"$E$35","v":0},null,{"$f":"$E$35","v":0}]
[]
[null,null,"Anvendelse af standard-værdisætning af samfundsøkonomiske omkostninger for NOx og partikler"]
[null,null,"Størrelse af bymæssig bebyggelse som motorkøretøjet anvendes i",null,{"$f":"IF(NOT(Stamdata!$D$6=\"\"),Stamdata!$D$6,\"Angiv i Stamdata-fane\")","v":"Angiv i Stamdata-fane"},null,{"$f":"$E$38","v":"Angiv i Stamdata-fane"},null,{"$f":"$E$38","v":"Angiv i Stamdata-fane"},null,{"$f":"$E$38","v":"Angiv i Stamdata-fane"},null,{"$f":"$E$38","v":"Angiv i Stamdata-fane"},null,{"$f":"$E$38","v":"Angiv i Stamdata-fane"},null,{"$f":"$E$38","v":"Angiv i Stamdata-fane"},null,{"$f":"$E$38","v":"Angiv i Stamdata-fane"},null,{"$f":"$E$38","v":"Angiv i Stamdata-fane"},null,{"$f":"$E$38","v":"Angiv i Stamdata-fane"}]
[null,null,"Standard-værdisætning for NOx","kr./kg NOx",{"$f":"IFERROR(VLOOKUP($E$38,'Samfundsøkonomiske priser'!$A$5:$C$9,2,FALSE),\"0\")","v":"0"},null,{"$f":"$E$39","v":"0"},null,{"$f":"$E$39","v":"0"},null,{"$f":"$E$39","v":"0"},null,{"$f":"$E$39","v":"0"},null,{"$f":"$E$39","v":"0"},null,{"$f":"$E$39","v":"0"},null,{"$f":"$E$39","v":"0"},null,{"$f":"$E$39","v":"0"},null,{"$f":"$E$39","v":"0"}]
[null,null,"Standard-værdisætning for partikler","kr./kg partikler",{"$f":"IFERROR(VLOOKUP($E$38,'Samfundsøkonomiske priser'!$A$5:$C$9,3,FALSE),\"0\")","v":"0"},null,{"$f":"$E$40","v":"0"},null,{"$f":"$E$40","v":"0"},null,{"$f":"$E$40","v":"0"},null,{"$f":"$E$40","v":"0"},null,{"$f":"$E$40","v":"0"},null,{"$f":"$E$40","v":"0"},null,{"$f":"$E$40","v":"0"},null,{"$f":"$E$40","v":"0"},null,{"$f":"$E$40","v":"0"}]
[]
[]
[]
[null,"          "]
[null,"1   Ordregiver: Baggrundsdata"]
[null,null,"1. år for brugsperiode","årstal",2022,null,{"$f":"$E$46","v":2022},null,{"$f":"$E$46","v":2022},null,{"$f":"$E$46","v":2022},null,{"$f":"$E$46","v":2022},null,{"$f":"$E$46","v":2022},null,{"$f":"$E$46","v":2022},null,{"$f":"$E$46","v":2022},null,{"$f":"$E$46","v":2022},null,{"$f":"$E$46","v":2022}]
[null,null,"TCO-evalueringsperiode","år",4,null,{"$f":"$E$47","v":4},null,{"$f":"$E$47","v":4},null,{"$f":"$E$47","v":4},null,{"$f":"$E$47","v":4},null,{"$f":"$E$47","v":4},null,{"$f":"$E$47","v":4},null,{"$f":"$E$47","v":4},null,{"$f":"$E$47","v":4},null,{"$f":"$E$47","v":4}]
[null,null,"Diskonteringsrente","%/år",3.5000000000000003E-2,null,{"$f":"$E$48","v":3.5000000000000003E-2},null,{"$f":"$E$48","v":3.5000000000000003E-2},null,{"$f":"$E$48","v":3.5000000000000003E-2},null,{"$f":"$E$48","v":3.5000000000000003E-2},null,{"$f":"$E$48","v":3.5000000000000003E-2},null,{"$f":"$E$48","v":3.5000000000000003E-2},null,{"$f":"$E$48","v":3.5000000000000003E-2},null,{"$f":"$E$48","v":3.5000000000000003E-2},null,{"$f":"$E$48","v":3.5000000000000003E-2}]
[]
[]
[]
[null,"5   Resultat for hele TCO-perioden"]
[null,null,null,null,{"$f":"IF($E$38=\"Angiv i Stamdata-fane\",\"De samfundsøkonomiske omkostninger beregnes ikke før det bedst beskrivende geografiske område er angivet i Stamdata-fane\",\"\")","v":"De samfundsøkonomiske omkostninger beregnes ikke før det bedst beskrivende geografiske område er angivet i Stamdata-fane"}]
[null,null,{"$f":"IF(E31=\"nej\",\"\",\"Samfundsøkonomiske omkostninger af eksterne virkninger på miljøet\")","v":"Samfundsøkonomiske omkostninger af eksterne virkninger på miljøet"},{"$f":"IF(C54=\"\",\"\",\"kr.\")","v":"kr."},{"$f":"IFERROR(IF($D$54=\"\",\"\",SUMIFS('IB - B&D&H'!E$187:E$206,'IB - B&D&H'!$C$187:$C$206,\"<=\"&E47)+SUMIFS('IB - B&D&H'!E$210:E$229,'IB - B&D&H'!$C$210:$C$229,\"<=\"&E47)+SUMIFS('IB - B&D&H'!E$234:E$253,'IB - B&D&H'!$C$234:$C$253,\"<=\"&E47)),\"\")","v":0},null,{"$f":"IFERROR(IF($D$54=\"\",\"\",SUMIFS('IB - B&D&H'!G$187:G$206,'IB - B&D&H'!$C$187:$C$206,\"<=\"&G47)+SUMIFS('IB - B&D&H'!G$210:G$229,'IB - B&D&H'!$C$210:$C$229,\"<=\"&G47)+SUMIFS('IB - B&D&H'!G$234:G$253,'IB - B&D&H'!$C$234:$C$253,\"<=\"&G47)),\"\")","v":0},null,{"$f":"IFERROR(IF($D$54=\"\",\"\",SUMIFS('IB - B&D&H'!I$187:I$206,'IB - B&D&H'!$C$187:$C$206,\"<=\"&I47)+SUMIFS('IB - B&D&H'!I$210:I$229,'IB - B&D&H'!$C$210:$C$229,\"<=\"&I47)+SUMIFS('IB - B&D&H'!I$234:I$253,'IB - B&D&H'!$C$234:$C$253,\"<=\"&I47)),\"\")","v":0},null,{"$f":"IFERROR(IF($D$54=\"\",\"\",SUMIFS('IB - B&D&H'!K$187:K$206,'IB - B&D&H'!$C$187:$C$206,\"<=\"&K47)+SUMIFS('IB - B&D&H'!K$210:K$229,'IB - B&D&H'!$C$210:$C$229,\"<=\"&K47)+SUMIFS('IB - B&D&H'!K$234:K$253,'IB - B&D&H'!$C$234:$C$253,\"<=\"&K47)),\"\")","v":0},null,{"$f":"IFERROR(IF($D$54=\"\",\"\",SUMIFS('IB - B&D&H'!M$187:M$206,'IB - B&D&H'!$C$187:$C$206,\"<=\"&M47)+SUMIFS('IB - B&D&H'!M$210:M$229,'IB - B&D&H'!$C$210:$C$229,\"<=\"&M47)+SUMIFS('IB - B&D&H'!M$234:M$253,'IB - B&D&H'!$C$234:$C$253,\"<=\"&M47)),\"\")","v":0},null,{"$f":"IFERROR(IF($D$54=\"\",\"\",SUMIFS('IB - B&D&H'!O$187:O$206,'IB - B&D&H'!$C$187:$C$206,\"<=\"&O47)+SUMIFS('IB - B&D&H'!O$210:O$229,'IB - B&D&H'!$C$210:$C$229,\"<=\"&O47)+SUMIFS('IB - B&D&H'!O$234:O$253,'IB - B&D&H'!$C$234:$C$253,\"<=\"&O47)),\"\")","v":0},null,{"$f":"IFERROR(IF($D$54=\"\",\"\",SUMIFS('IB - B&D&H'!Q$187:Q$206,'IB - B&D&H'!$C$187:$C$206,\"<=\"&Q47)+SUMIFS('IB - B&D&H'!Q$210:Q$229,'IB - B&D&H'!$C$210:$C$229,\"<=\"&Q47)+SUMIFS('IB - B&D&H'!Q$234:Q$253,'IB - B&D&H'!$C$234:$C$253,\"<=\"&Q47)),\"\")","v":0},null,{"$f":"IFERROR(IF($D$54=\"\",\"\",SUMIFS('IB - B&D&H'!S$187:S$206,'IB - B&D&H'!$C$187:$C$206,\"<=\"&S47)+SUMIFS('IB - B&D&H'!S$210:S$229,'IB - B&D&H'!$C$210:$C$229,\"<=\"&S47)+SUMIFS('IB - B&D&H'!S$234:S$253,'IB - B&D&H'!$C$234:$C$253,\"<=\"&S47)),\"\")","v":0},null,{"$f":"IFERROR(IF($D$54=\"\",\"\",SUMIFS('IB - B&D&H'!U$187:U$206,'IB - B&D&H'!$C$187:$C$206,\"<=\"&U47)+SUMIFS('IB - B&D&H'!U$210:U$229,'IB - B&D&H'!$C$210:$C$229,\"<=\"&U47)+SUMIFS('IB - B&D&H'!U$234:U$253,'IB - B&D&H'!$C$234:$C$253,\"<=\"&U47)),\"\")","v":0},null,{"$f":"IFERROR(IF($D$54=\"\",\"\",SUMIFS('IB - B&D&H'!W$187:W$206,'IB - B&D&H'!$C$187:$C$206,\"<=\"&W47)+SUMIFS('IB - B&D&H'!W$210:W$229,'IB - B&D&H'!$C$210:$C$229,\"<=\"&W47)+SUMIFS('IB - B&D&H'!W$234:W$253,'IB - B&D&H'!$C$234:$C$253,\"<=\"&W47)),\"\")","v":0}]
[]
[null,null,{"$f":"IF(E31=\"ja\",\"Samlede CO2e udledninger fra brugsfasen\",\"\")","v":"Samlede CO2e udledninger fra brugsfasen"},{"$f":"IF(C56=\"\",\"\",\"tons CO2e\")","v":"tons CO2e"},{"$f":"IF(E31=\"ja\",SUMIFS('IB - B&D&H'!F$187:F$206,'IB - B&D&H'!$B187:$B206,\"<=\"&'Benzin - diesel - hybrid'!E47),\"\")","v":0},null,{"$f":"IF(G31=\"ja\",SUMIFS('IB - B&D&H'!H$187:H$206,'IB - B&D&H'!$B187:$B206,\"<=\"&'Benzin - diesel - hybrid'!G47),\"\")","v":0},null,{"$f":"IF(I31=\"ja\",SUMIFS('IB - B&D&H'!J$187:J$206,'IB - B&D&H'!$B187:$B206,\"<=\"&'Benzin - diesel - hybrid'!I47),\"\")","v":0},null,{"$f":"IF(K31=\"ja\",SUMIFS('IB - B&D&H'!L$187:L$206,'IB - B&D&H'!$B187:$B206,\"<=\"&'Benzin - diesel - hybrid'!K47),\"\")","v":0},null,{"$f":"IF(M31=\"ja\",SUMIFS('IB - B&D&H'!N$187:N$206,'IB - B&D&H'!$B187:$B206,\"<=\"&'Benzin - diesel - hybrid'!M47),\"\")","v":0},null,{"$f":"IF(O31=\"ja\",SUMIFS('IB - B&D&H'!P$187:P$206,'IB - B&D&H'!$B187:$B206,\"<=\"&'Benzin - diesel - hybrid'!O47),\"\")","v":0},null,{"$f":"IF(Q31=\"ja\",SUMIFS('IB - B&D&H'!R$187:R$206,'IB - B&D&H'!$B187:$B206,\"<=\"&'Benzin - diesel - hybrid'!Q47),\"\")","v":0},null,{"$f":"IF(S31=\"ja\",SUMIFS('IB - B&D&H'!T$187:T$206,'IB - B&D&H'!$B187:$B206,\"<=\"&'Benzin - diesel - hybrid'!S47),\"\")","v":0},null,{"$f":"IF(U31=\"ja\",SUMIFS('IB - B&D&H'!V$187:V$206,'IB - B&D&H'!$B187:$B206,\"<=\"&'Benzin - diesel - hybrid'!U47),\"\")","v":0},null,{"$f":"IF(W31=\"ja\",SUMIFS('IB - B&D&H'!X$187:X$206,'IB - B&D&H'!$B187:$B206,\"<=\"&'Benzin - diesel - hybrid'!W47),\"\")","v":0}]
[null,null,{"$f":"IF(E31=\"ja\",\"Samlede NOx udledninger fra brugsfasen\",\"\")","v":"Samlede NOx udledninger fra brugsfasen"},{"$f":"IF(C56=\"\",\"\",\"kg NOx\")","v":"kg NOx"},{"$f":"IF(E31=\"ja\",_xlfn.IFS(OR(E13=\"Benzin\",E13=\"Diesel\"),SUMIFS('IB - B&D&H'!F$210:F$229,'IB - B&D&H'!$B210:$B229,\"<=\"&'Benzin - diesel - hybrid'!E47),OR(E13=\"\",E13=\"Klik for valg\"),\"0,00\"),\"\")","v":"0,00"},null,{"$f":"IF(G31=\"ja\",_xlfn.IFS(OR(G13=\"Benzin\",G13=\"Diesel\"),SUMIFS('IB - B&D&H'!H$210:H$229,'IB - B&D&H'!$B210:$B229,\"<=\"&'Benzin - diesel - hybrid'!G47),OR(G13=\"\",G13=\"Klik for valg\"),\"0,00\"),\"\")","v":"0,00"},null,{"$f":"IF(I31=\"ja\",_xlfn.IFS(OR(I13=\"Benzin\",I13=\"Diesel\"),SUMIFS('IB - B&D&H'!J$210:J$229,'IB - B&D&H'!$B210:$B229,\"<=\"&'Benzin - diesel - hybrid'!I47),OR(I13=\"\",I13=\"Klik for valg\"),\"0,00\"),\"\")","v":"0,00"},null,{"$f":"IF(K31=\"ja\",_xlfn.IFS(OR(K13=\"Benzin\",K13=\"Diesel\"),SUMIFS('IB - B&D&H'!L$210:L$229,'IB - B&D&H'!$B210:$B229,\"<=\"&'Benzin - diesel - hybrid'!K47),OR(K13=\"\",K13=\"Klik for valg\"),\"0,00\"),\"\")","v":"0,00"},null,{"$f":"IF(M31=\"ja\",_xlfn.IFS(OR(M13=\"Benzin\",M13=\"Diesel\"),SUMIFS('IB - B&D&H'!N$210:N$229,'IB - B&D&H'!$B210:$B229,\"<=\"&'Benzin - diesel - hybrid'!M47),OR(M13=\"\",M13=\"Klik for valg\"),\"0,00\"),\"\")","v":"0,00"},null,{"$f":"IF(O31=\"ja\",_xlfn.IFS(OR(O13=\"Benzin\",O13=\"Diesel\"),SUMIFS('IB - B&D&H'!P$210:P$229,'IB - B&D&H'!$B210:$B229,\"<=\"&'Benzin - diesel - hybrid'!O47),OR(O13=\"\",O13=\"Klik for valg\"),\"0,00\"),\"\")","v":"0,00"},null,{"$f":"IF(Q31=\"ja\",_xlfn.IFS(OR(Q13=\"Benzin\",Q13=\"Diesel\"),SUMIFS('IB - B&D&H'!R$210:R$229,'IB - B&D&H'!$B210:$B229,\"<=\"&'Benzin - diesel - hybrid'!Q47),OR(Q13=\"\",Q13=\"Klik for valg\"),\"0,00\"),\"\")","v":"0,00"},null,{"$f":"IF(S31=\"ja\",_xlfn.IFS(OR(S13=\"Benzin\",S13=\"Diesel\"),SUMIFS('IB - B&D&H'!T$210:T$229,'IB - B&D&H'!$B210:$B229,\"<=\"&'Benzin - diesel - hybrid'!S47),OR(S13=\"\",S13=\"Klik for valg\"),\"0,00\"),\"\")","v":"0,00"},null,{"$f":"IF(U31=\"ja\",_xlfn.IFS(OR(U13=\"Benzin\",U13=\"Diesel\"),SUMIFS('IB - B&D&H'!V$210:V$229,'IB - B&D&H'!$B210:$B229,\"<=\"&'Benzin - diesel - hybrid'!U47),OR(U13=\"\",U13=\"Klik for valg\"),\"0,00\"),\"\")","v":"0,00"},null,{"$f":"IF(W31=\"ja\",_xlfn.IFS(OR(W13=\"Benzin\",W13=\"Diesel\"),SUMIFS('IB - B&D&H'!X$210:X$229,'IB - B&D&H'!$B210:$B229,\"<=\"&'Benzin - diesel - hybrid'!W47),OR(W13=\"\",W13=\"Klik for valg\"),\"0,00\"),\"\")","v":"0,00"}]
[null,null,{"$f":"IF(E31=\"ja\",\"Samlede partikeludledninger fra brugsfasen\",\"\")","v":"Samlede partikeludledninger fra brugsfasen"},{"$f":"IF(C56=\"\",\"\",\"kg partikler\")","v":"kg partikler"},{"$f":"IF(E31=\"ja\",_xlfn.IFS(OR(E13=\"Benzin\",E13=\"Diesel\"),SUMIFS('IB - B&D&H'!F$234:F$253,'IB - B&D&H'!$B234:$B253,\"<=\"&'Benzin - diesel - hybrid'!E47),OR(E13=\"\",E13=\"Klik for valg\"),\"0,00\"),\"\")","v":"0,00"},null,{"$f":"IF(G31=\"ja\",_xlfn.IFS(OR(G13=\"Benzin\",G13=\"Diesel\"),SUMIFS('IB - B&D&H'!H$234:H$253,'IB - B&D&H'!$B234:$B253,\"<=\"&'Benzin - diesel - hybrid'!G47),OR(G13=\"\",G13=\"Klik for valg\"),\"0,00\"),\"\")","v":"0,00"},null,{"$f":"IF(I31=\"ja\",_xlfn.IFS(OR(I13=\"Benzin\",I13=\"Diesel\"),SUMIFS('IB - B&D&H'!J$234:J$253,'IB - B&D&H'!$B234:$B253,\"<=\"&'Benzin - diesel - hybrid'!I47),OR(I13=\"\",I13=\"Klik for valg\"),\"0,00\"),\"\")","v":"0,00"},null,{"$f":"IF(K31=\"ja\",_xlfn.IFS(OR(K13=\"Benzin\",K13=\"Diesel\"),SUMIFS('IB - B&D&H'!L$234:L$253,'IB - B&D&H'!$B234:$B253,\"<=\"&'Benzin - diesel - hybrid'!K47),OR(K13=\"\",K13=\"Klik for valg\"),\"0,00\"),\"\")","v":"0,00"},null,{"$f":"IF(M31=\"ja\",_xlfn.IFS(OR(M13=\"Benzin\",M13=\"Diesel\"),SUMIFS('IB - B&D&H'!N$234:N$253,'IB - B&D&H'!$B234:$B253,\"<=\"&'Benzin - diesel - hybrid'!M47),OR(M13=\"\",M13=\"Klik for valg\"),\"0,00\"),\"\")","v":"0,00"},null,{"$f":"IF(O31=\"ja\",_xlfn.IFS(OR(O13=\"Benzin\",O13=\"Diesel\"),SUMIFS('IB - B&D&H'!P$234:P$253,'IB - B&D&H'!$B234:$B253,\"<=\"&'Benzin - diesel - hybrid'!O47),OR(O13=\"\",O13=\"Klik for valg\"),\"0,00\"),\"\")","v":"0,00"},null,{"$f":"IF(Q31=\"ja\",_xlfn.IFS(OR(Q13=\"Benzin\",Q13=\"Diesel\"),SUMIFS('IB - B&D&H'!R$234:R$253,'IB - B&D&H'!$B234:$B253,\"<=\"&'Benzin - diesel - hybrid'!Q47),OR(Q13=\"\",Q13=\"Klik for valg\"),\"0,00\"),\"\")","v":"0,00"},null,{"$f":"IF(S31=\"ja\",_xlfn.IFS(OR(S13=\"Benzin\",S13=\"Diesel\"),SUMIFS('IB - B&D&H'!T$234:T$253,'IB - B&D&H'!$B234:$B253,\"<=\"&'Benzin - diesel - hybrid'!S47),OR(S13=\"\",S13=\"Klik for valg\"),\"0,00\"),\"\")","v":"0,00"},null,{"$f":"IF(U31=\"ja\",_xlfn.IFS(OR(U13=\"Benzin\",U13=\"Diesel\"),SUMIFS('IB - B&D&H'!V$234:V$253,'IB - B&D&H'!$B234:$B253,\"<=\"&'Benzin - diesel - hybrid'!U47),OR(U13=\"\",U13=\"Klik for valg\"),\"0,00\"),\"\")","v":"0,00"},null,{"$f":"IF(W31=\"ja\",_xlfn.IFS(OR(W13=\"Benzin\",W13=\"Diesel\"),SUMIFS('IB - B&D&H'!X$234:X$253,'IB - B&D&H'!$B234:$B253,\"<=\"&'Benzin - diesel - hybrid'!W47),OR(W13=\"\",W13=\"Klik for valg\"),\"0,00\"),\"\")","v":"0,00"}]
[]
[]
[]
[]
[]
[]
[]
[]
[null,null,{"$f":"'IB - B&D&H'!B25","v":0},null,{"$f":"'IB - B&D&H'!E25","v":0},null,{"$f":"'IB - B&D&H'!G25","v":0},null,{"$f":"'IB - B&D&H'!I25","v":0},null,{"$f":"'IB - B&D&H'!K25","v":0},null,{"$f":"'IB - B&D&H'!M25","v":0},null,{"$f":"'IB - B&D&H'!O25","v":0},null,{"$f":"'IB - B&D&H'!Q25","v":0},null,{"$f":"'IB - B&D&H'!S25","v":0}]
[null,null,null,null,{"$f":"'IB - B&D&H'!E26","v":0},null,{"$f":"'IB - B&D&H'!G26","v":0},null,{"$f":"'IB - B&D&H'!I26","v":0},null,{"$f":"'IB - B&D&H'!K26","v":0},null,{"$f":"'IB - B&D&H'!M26","v":0},null,{"$f":"'IB - B&D&H'!O26","v":0},null,{"$f":"'IB - B&D&H'!Q26","v":0},null,{"$f":"'IB - B&D&H'!S26","v":0}]
[null,null,null,null,{"$f":"'IB - B&D&H'!E27","v":0},null,{"$f":"'IB - B&D&H'!G27","v":0},null,{"$f":"'IB - B&D&H'!I27","v":0},null,{"$f":"'IB - B&D&H'!K27","v":0},null,{"$f":"'IB - B&D&H'!M27","v":0},null,{"$f":"'IB - B&D&H'!O27","v":0},null,{"$f":"'IB - B&D&H'!Q27","v":0},null,{"$f":"'IB - B&D&H'!S27","v":0}]
[null,null,null,null,{"$f":"'IB - B&D&H'!E28","v":0},null,{"$f":"'IB - B&D&H'!G28","v":0},null,{"$f":"'IB - B&D&H'!I28","v":0},null,{"$f":"'IB - B&D&H'!K28","v":0},null,{"$f":"'IB - B&D&H'!M28","v":0},null,{"$f":"'IB - B&D&H'!O28","v":0},null,{"$f":"'IB - B&D&H'!Q28","v":0},null,{"$f":"'IB - B&D&H'!S28","v":0}]
[null,null,null,null,{"$f":"'IB - B&D&H'!E29","v":0},null,{"$f":"'IB - B&D&H'!G29","v":0},null,{"$f":"'IB - B&D&H'!I29","v":0},null,{"$f":"'IB - B&D&H'!K29","v":0},null,{"$f":"'IB - B&D&H'!M29","v":0},null,{"$f":"'IB - B&D&H'!O29","v":0},null,{"$f":"'IB - B&D&H'!Q29","v":0},null,{"$f":"'IB - B&D&H'!S29","v":0}]
[null,null,null,null,{"$f":"'IB - B&D&H'!E30","v":0},null,{"$f":"'IB - B&D&H'!G30","v":0},null,{"$f":"'IB - B&D&H'!I30","v":0},null,{"$f":"'IB - B&D&H'!K30","v":0},null,{"$f":"'IB - B&D&H'!M30","v":0},null,{"$f":"'IB - B&D&H'!O30","v":0},null,{"$f":"'IB - B&D&H'!Q30","v":0},null,{"$f":"'IB - B&D&H'!S30","v":0}]
[null,null,null,null,{"$f":"'IB - B&D&H'!E31","v":0},null,{"$f":"'IB - B&D&H'!G31","v":0},null,{"$f":"'IB - B&D&H'!I31","v":0},null,{"$f":"'IB - B&D&H'!K31","v":0},null,{"$f":"'IB - B&D&H'!M31","v":0},null,{"$f":"'IB - B&D&H'!O31","v":0},null,{"$f":"'IB - B&D&H'!Q31","v":0},null,{"$f":"'IB - B&D&H'!S31","v":0}]
[null,null,null,null,{"$f":"'IB - B&D&H'!E32","v":0},null,{"$f":"'IB - B&D&H'!G32","v":0},null,{"$f":"'IB - B&D&H'!I32","v":0},null,{"$f":"'IB - B&D&H'!K32","v":0},null,{"$f":"'IB - B&D&H'!M32","v":0},null,{"$f":"'IB - B&D&H'!O32","v":0},null,{"$f":"'IB - B&D&H'!Q32","v":0},null,{"$f":"'IB - B&D&H'!S32","v":0}]
[null,null,null,null,{"$f":"'IB - B&D&H'!E33","v":0},null,{"$f":"'IB - B&D&H'!G33","v":0},null,{"$f":"'IB - B&D&H'!I33","v":0},null,{"$f":"'IB - B&D&H'!K33","v":0},null,{"$f":"'IB - B&D&H'!M33","v":0},null,{"$f":"'IB - B&D&H'!O33","v":0},null,{"$f":"'IB - B&D&H'!Q33","v":0},null,{"$f":"'IB - B&D&H'!S33","v":0}]
[null,null,null,null,{"$f":"'IB - B&D&H'!E34","v":0},null,{"$f":"'IB - B&D&H'!G34","v":0},null,{"$f":"'IB - B&D&H'!I34","v":0},null,{"$f":"'IB - B&D&H'!K34","v":0},null,{"$f":"'IB - B&D&H'!M34","v":0},null,{"$f":"'IB - B&D&H'!O34","v":0},null,{"$f":"'IB - B&D&H'!Q34","v":0},null,{"$f":"'IB - B&D&H'!S34","v":0}]
[null,null,null,null,{"$f":"'IB - B&D&H'!E35","v":0},null,{"$f":"'IB - B&D&H'!G35","v":0},null,{"$f":"'IB - B&D&H'!I35","v":0},null,{"$f":"'IB - B&D&H'!K35","v":0},null,{"$f":"'IB - B&D&H'!M35","v":0},null,{"$f":"'IB - B&D&H'!O35","v":0},null,{"$f":"'IB - B&D&H'!Q35","v":0},null,{"$f":"'IB - B&D&H'!S35","v":0}]
[null,null,null,null,{"$f":"'IB - B&D&H'!E36","v":0},null,{"$f":"'IB - B&D&H'!G36","v":0},null,{"$f":"'IB - B&D&H'!I36","v":0},null,{"$f":"'IB - B&D&H'!K36","v":0},null,{"$f":"'IB - B&D&H'!M36","v":0},null,{"$f":"'IB - B&D&H'!O36","v":0},null,{"$f":"'IB - B&D&H'!Q36","v":0},null,{"$f":"'IB - B&D&H'!S36","v":0}]
[null,null,null,null,{"$f":"'IB - B&D&H'!E37","v":0},null,{"$f":"'IB - B&D&H'!G37","v":0},null,{"$f":"'IB - B&D&H'!I37","v":0},null,{"$f":"'IB - B&D&H'!K37","v":0},null,{"$f":"'IB - B&D&H'!M37","v":0},null,{"$f":"'IB - B&D&H'!O37","v":0},null,{"$f":"'IB - B&D&H'!Q37","v":0},null,{"$f":"'IB - B&D&H'!S37","v":0}]
[null,null,null,null,{"$f":"'IB - B&D&H'!E38","v":0},null,{"$f":"'IB - B&D&H'!G38","v":0},null,{"$f":"'IB - B&D&H'!I38","v":0},null,{"$f":"'IB - B&D&H'!K38","v":0},null,{"$f":"'IB - B&D&H'!M38","v":0},null,{"$f":"'IB - B&D&H'!O38","v":0},null,{"$f":"'IB - B&D&H'!Q38","v":0},null,{"$f":"'IB - B&D&H'!S38","v":0}]
[null,null,null,null,{"$f":"'IB - B&D&H'!E39","v":0},null,{"$f":"'IB - B&D&H'!G39","v":0},null,{"$f":"'IB - B&D&H'!I39","v":0},null,{"$f":"'IB - B&D&H'!K39","v":0},null,{"$f":"'IB - B&D&H'!M39","v":0},null,{"$f":"'IB - B&D&H'!O39","v":0},null,{"$f":"'IB - B&D&H'!Q39","v":0},null,{"$f":"'IB - B&D&H'!S39","v":0}]
[null,null,null,null,{"$f":"'IB - B&D&H'!E40","v":0},null,{"$f":"'IB - B&D&H'!G40","v":0},null,{"$f":"'IB - B&D&H'!I40","v":0},null,{"$f":"'IB - B&D&H'!K40","v":0},null,{"$f":"'IB - B&D&H'!M40","v":0},null,{"$f":"'IB - B&D&H'!O40","v":0},null,{"$f":"'IB - B&D&H'!Q40","v":0},null,{"$f":"'IB - B&D&H'!S40","v":0}]
[null,null,null,null,{"$f":"'IB - B&D&H'!E41","v":0},null,{"$f":"'IB - B&D&H'!G41","v":0},null,{"$f":"'IB - B&D&H'!I41","v":0},null,{"$f":"'IB - B&D&H'!K41","v":0},null,{"$f":"'IB - B&D&H'!M41","v":0},null,{"$f":"'IB - B&D&H'!O41","v":0},null,{"$f":"'IB - B&D&H'!Q41","v":0},null,{"$f":"'IB - B&D&H'!S41","v":0}]
[null,null,null,null,{"$f":"'IB - B&D&H'!E42","v":0},null,{"$f":"'IB - B&D&H'!G42","v":0},null,{"$f":"'IB - B&D&H'!I42","v":0},null,{"$f":"'IB - B&D&H'!K42","v":0},null,{"$f":"'IB - B&D&H'!M42","v":0},null,{"$f":"'IB - B&D&H'!O42","v":0},null,{"$f":"'IB - B&D&H'!Q42","v":0},null,{"$f":"'IB - B&D&H'!S42","v":0}]
[null,null,null,null,{"$f":"'IB - B&D&H'!E43","v":0},null,{"$f":"'IB - B&D&H'!G43","v":0},null,{"$f":"'IB - B&D&H'!I43","v":0},null,{"$f":"'IB - B&D&H'!K43","v":0},null,{"$f":"'IB - B&D&H'!M43","v":0},null,{"$f":"'IB - B&D&H'!O43","v":0},null,{"$f":"'IB - B&D&H'!Q43","v":0},null,{"$f":"'IB - B&D&H'!S43","v":0}]
[null,null,null,null,{"$f":"'IB - B&D&H'!E44","v":0},null,{"$f":"'IB - B&D&H'!G44","v":0},null,{"$f":"'IB - B&D&H'!I44","v":0},null,{"$f":"'IB - B&D&H'!K44","v":0},null,{"$f":"'IB - B&D&H'!M44","v":0},null,{"$f":"'IB - B&D&H'!O44","v":0},null,{"$f":"'IB - B&D&H'!Q44","v":0},null,{"$f":"'IB - B&D&H'!S44","v":0}]
[null,null,null,null,{"$f":"'IB - B&D&H'!E45","v":0},null,{"$f":"'IB - B&D&H'!G45","v":0},null,{"$f":"'IB - B&D&H'!I45","v":0},null,{"$f":"'IB - B&D&H'!K45","v":0},null,{"$f":"'IB - B&D&H'!M45","v":0},null,{"$f":"'IB - B&D&H'!O45","v":0},null,{"$f":"'IB - B&D&H'!Q45","v":0},null,{"$f":"'IB - B&D&H'!S45","v":0}]
[]
[null,null,{"$f":"'IB - B&D&H'!A94","v":0},null,{"$f":"'IB - B&D&H'!E95","v":0},null,{"$f":"'IB - B&D&H'!G95","v":0},null,{"$f":"'IB - B&D&H'!I95","v":0},null,{"$f":"'IB - B&D&H'!K95","v":0},null,{"$f":"'IB - B&D&H'!M95","v":0},null,{"$f":"'IB - B&D&H'!O95","v":0},null,{"$f":"'IB - B&D&H'!Q95","v":0},null,{"$f":"'IB - B&D&H'!S95","v":0},null,{"$f":"'IB - B&D&H'!U95","v":0},null,{"$f":"'IB - B&D&H'!W95","v":0}]
[null,null,null,null,{"$f":"'IB - B&D&H'!E96","v":0},null,{"$f":"'IB - B&D&H'!G96","v":0},null,{"$f":"'IB - B&D&H'!I96","v":0},null,{"$f":"'IB - B&D&H'!K96","v":0},null,{"$f":"'IB - B&D&H'!M96","v":0},null,{"$f":"'IB - B&D&H'!O96","v":0},null,{"$f":"'IB - B&D&H'!Q96","v":0},null,{"$f":"'IB - B&D&H'!S96","v":0},null,{"$f":"'IB - B&D&H'!U96","v":0},null,{"$f":"'IB - B&D&H'!W96","v":0}]
[null,null,null,null,{"$f":"'IB - B&D&H'!E97","v":0},null,{"$f":"'IB - B&D&H'!G97","v":0},null,{"$f":"'IB - B&D&H'!I97","v":0},null,{"$f":"'IB - B&D&H'!K97","v":0},null,{"$f":"'IB - B&D&H'!M97","v":0},null,{"$f":"'IB - B&D&H'!O97","v":0},null,{"$f":"'IB - B&D&H'!Q97","v":0},null,{"$f":"'IB - B&D&H'!S97","v":0},null,{"$f":"'IB - B&D&H'!U97","v":0},null,{"$f":"'IB - B&D&H'!W97","v":0}]
[null,null,null,null,{"$f":"'IB - B&D&H'!E98","v":0},null,{"$f":"'IB - B&D&H'!G98","v":0},null,{"$f":"'IB - B&D&H'!I98","v":0},null,{"$f":"'IB - B&D&H'!K98","v":0},null,{"$f":"'IB - B&D&H'!M98","v":0},null,{"$f":"'IB - B&D&H'!O98","v":0},null,{"$f":"'IB - B&D&H'!Q98","v":0},null,{"$f":"'IB - B&D&H'!S98","v":0},null,{"$f":"'IB - B&D&H'!U98","v":0},null,{"$f":"'IB - B&D&H'!W98","v":0}]
[null,null,null,null,{"$f":"'IB - B&D&H'!E99","v":0},null,{"$f":"'IB - B&D&H'!G99","v":0},null,{"$f":"'IB - B&D&H'!I99","v":0},null,{"$f":"'IB - B&D&H'!K99","v":0},null,{"$f":"'IB - B&D&H'!M99","v":0},null,{"$f":"'IB - B&D&H'!O99","v":0},null,{"$f":"'IB - B&D&H'!Q99","v":0},null,{"$f":"'IB - B&D&H'!S99","v":0},null,{"$f":"'IB - B&D&H'!U99","v":0},null,{"$f":"'IB - B&D&H'!W99","v":0}]
[null,null,null,null,{"$f":"'IB - B&D&H'!E100","v":0},null,{"$f":"'IB - B&D&H'!G100","v":0},null,{"$f":"'IB - B&D&H'!I100","v":0},null,{"$f":"'IB - B&D&H'!K100","v":0},null,{"$f":"'IB - B&D&H'!M100","v":0},null,{"$f":"'IB - B&D&H'!O100","v":0},null,{"$f":"'IB - B&D&H'!Q100","v":0},null,{"$f":"'IB - B&D&H'!S100","v":0},null,{"$f":"'IB - B&D&H'!U100","v":0},null,{"$f":"'IB - B&D&H'!W100","v":0}]
[null,null,null,null,{"$f":"'IB - B&D&H'!E101","v":0},null,{"$f":"'IB - B&D&H'!G101","v":0},null,{"$f":"'IB - B&D&H'!I101","v":0},null,{"$f":"'IB - B&D&H'!K101","v":0},null,{"$f":"'IB - B&D&H'!M101","v":0},null,{"$f":"'IB - B&D&H'!O101","v":0},null,{"$f":"'IB - B&D&H'!Q101","v":0},null,{"$f":"'IB - B&D&H'!S101","v":0},null,{"$f":"'IB - B&D&H'!U101","v":0},null,{"$f":"'IB - B&D&H'!W101","v":0}]
[null,null,null,null,{"$f":"'IB - B&D&H'!E102","v":0},null,{"$f":"'IB - B&D&H'!G102","v":0},null,{"$f":"'IB - B&D&H'!I102","v":0},null,{"$f":"'IB - B&D&H'!K102","v":0},null,{"$f":"'IB - B&D&H'!M102","v":0},null,{"$f":"'IB - B&D&H'!O102","v":0},null,{"$f":"'IB - B&D&H'!Q102","v":0},null,{"$f":"'IB - B&D&H'!S102","v":0},null,{"$f":"'IB - B&D&H'!U102","v":0},null,{"$f":"'IB - B&D&H'!W102","v":0}]
[null,null,null,null,{"$f":"'IB - B&D&H'!E103","v":0},null,{"$f":"'IB - B&D&H'!G103","v":0},null,{"$f":"'IB - B&D&H'!I103","v":0},null,{"$f":"'IB - B&D&H'!K103","v":0},null,{"$f":"'IB - B&D&H'!M103","v":0},null,{"$f":"'IB - B&D&H'!O103","v":0},null,{"$f":"'IB - B&D&H'!Q103","v":0},null,{"$f":"'IB - B&D&H'!S103","v":0},null,{"$f":"'IB - B&D&H'!U103","v":0},null,{"$f":"'IB - B&D&H'!W103","v":0}]
[null,null,null,null,{"$f":"'IB - B&D&H'!E104","v":0},null,{"$f":"'IB - B&D&H'!G104","v":0},null,{"$f":"'IB - B&D&H'!I104","v":0},null,{"$f":"'IB - B&D&H'!K104","v":0},null,{"$f":"'IB - B&D&H'!M104","v":0},null,{"$f":"'IB - B&D&H'!O104","v":0},null,{"$f":"'IB - B&D&H'!Q104","v":0},null,{"$f":"'IB - B&D&H'!S104","v":0},null,{"$f":"'IB - B&D&H'!U104","v":0},null,{"$f":"'IB - B&D&H'!W104","v":0}]
[null,null,null,null,{"$f":"'IB - B&D&H'!E105","v":0},null,{"$f":"'IB - B&D&H'!G105","v":0},null,{"$f":"'IB - B&D&H'!I105","v":0},null,{"$f":"'IB - B&D&H'!K105","v":0},null,{"$f":"'IB - B&D&H'!M105","v":0},null,{"$f":"'IB - B&D&H'!O105","v":0},null,{"$f":"'IB - B&D&H'!Q105","v":0},null,{"$f":"'IB - B&D&H'!S105","v":0},null,{"$f":"'IB - B&D&H'!U105","v":0},null,{"$f":"'IB - B&D&H'!W105","v":0}]
[null,null,null,null,{"$f":"'IB - B&D&H'!E106","v":0},null,{"$f":"'IB - B&D&H'!G106","v":0},null,{"$f":"'IB - B&D&H'!I106","v":0},null,{"$f":"'IB - B&D&H'!K106","v":0},null,{"$f":"'IB - B&D&H'!M106","v":0},null,{"$f":"'IB - B&D&H'!O106","v":0},null,{"$f":"'IB - B&D&H'!Q106","v":0},null,{"$f":"'IB - B&D&H'!S106","v":0},null,{"$f":"'IB - B&D&H'!U106","v":0},null,{"$f":"'IB - B&D&H'!W106","v":0}]
[null,null,null,null,{"$f":"'IB - B&D&H'!E107","v":0},null,{"$f":"'IB - B&D&H'!G107","v":0},null,{"$f":"'IB - B&D&H'!I107","v":0},null,{"$f":"'IB - B&D&H'!K107","v":0},null,{"$f":"'IB - B&D&H'!M107","v":0},null,{"$f":"'IB - B&D&H'!O107","v":0},null,{"$f":"'IB - B&D&H'!Q107","v":0},null,{"$f":"'IB - B&D&H'!S107","v":0},null,{"$f":"'IB - B&D&H'!U107","v":0},null,{"$f":"'IB - B&D&H'!W107","v":0}]
[null,null,null,null,{"$f":"'IB - B&D&H'!E108","v":0},null,{"$f":"'IB - B&D&H'!G108","v":0},null,{"$f":"'IB - B&D&H'!I108","v":0},null,{"$f":"'IB - B&D&H'!K108","v":0},null,{"$f":"'IB - B&D&H'!M108","v":0},null,{"$f":"'IB - B&D&H'!O108","v":0},null,{"$f":"'IB - B&D&H'!Q108","v":0},null,{"$f":"'IB - B&D&H'!S108","v":0},null,{"$f":"'IB - B&D&H'!U108","v":0},null,{"$f":"'IB - B&D&H'!W108","v":0}]
[null,null,null,null,{"$f":"'IB - B&D&H'!E109","v":0},null,{"$f":"'IB - B&D&H'!G109","v":0},null,{"$f":"'IB - B&D&H'!I109","v":0},null,{"$f":"'IB - B&D&H'!K109","v":0},null,{"$f":"'IB - B&D&H'!M109","v":0},null,{"$f":"'IB - B&D&H'!O109","v":0},null,{"$f":"'IB - B&D&H'!Q109","v":0},null,{"$f":"'IB - B&D&H'!S109","v":0},null,{"$f":"'IB - B&D&H'!U109","v":0},null,{"$f":"'IB - B&D&H'!W109","v":0}]
[null,null,null,null,{"$f":"'IB - B&D&H'!E110","v":0},null,{"$f":"'IB - B&D&H'!G110","v":0},null,{"$f":"'IB - B&D&H'!I110","v":0},null,{"$f":"'IB - B&D&H'!K110","v":0},null,{"$f":"'IB - B&D&H'!M110","v":0},null,{"$f":"'IB - B&D&H'!O110","v":0},null,{"$f":"'IB - B&D&H'!Q110","v":0},null,{"$f":"'IB - B&D&H'!S110","v":0},null,{"$f":"'IB - B&D&H'!U110","v":0},null,{"$f":"'IB - B&D&H'!W110","v":0}]
[null,null,null,null,{"$f":"'IB - B&D&H'!E111","v":0},null,{"$f":"'IB - B&D&H'!G111","v":0},null,{"$f":"'IB - B&D&H'!I111","v":0},null,{"$f":"'IB - B&D&H'!K111","v":0},null,{"$f":"'IB - B&D&H'!M111","v":0},null,{"$f":"'IB - B&D&H'!O111","v":0},null,{"$f":"'IB - B&D&H'!Q111","v":0},null,{"$f":"'IB - B&D&H'!S111","v":0},null,{"$f":"'IB - B&D&H'!U111","v":0},null,{"$f":"'IB - B&D&H'!W111","v":0}]
[null,null,null,null,{"$f":"'IB - B&D&H'!E112","v":0},null,{"$f":"'IB - B&D&H'!G112","v":0},null,{"$f":"'IB - B&D&H'!I112","v":0},null,{"$f":"'IB - B&D&H'!K112","v":0},null,{"$f":"'IB - B&D&H'!M112","v":0},null,{"$f":"'IB - B&D&H'!O112","v":0},null,{"$f":"'IB - B&D&H'!Q112","v":0},null,{"$f":"'IB - B&D&H'!S112","v":0},null,{"$f":"'IB - B&D&H'!U112","v":0},null,{"$f":"'IB - B&D&H'!W112","v":0}]
[null,null,null,null,{"$f":"'IB - B&D&H'!E113","v":0},null,{"$f":"'IB - B&D&H'!G113","v":0},null,{"$f":"'IB - B&D&H'!I113","v":0},null,{"$f":"'IB - B&D&H'!K113","v":0},null,{"$f":"'IB - B&D&H'!M113","v":0},null,{"$f":"'IB - B&D&H'!O113","v":0},null,{"$f":"'IB - B&D&H'!Q113","v":0},null,{"$f":"'IB - B&D&H'!S113","v":0},null,{"$f":"'IB - B&D&H'!U113","v":0},null,{"$f":"'IB - B&D&H'!W113","v":0}]
[null,null,null,null,{"$f":"'IB - B&D&H'!E114","v":0},null,{"$f":"'IB - B&D&H'!G114","v":0},null,{"$f":"'IB - B&D&H'!I114","v":0},null,{"$f":"'IB - B&D&H'!K114","v":0},null,{"$f":"'IB - B&D&H'!M114","v":0},null,{"$f":"'IB - B&D&H'!O114","v":0},null,{"$f":"'IB - B&D&H'!Q114","v":0},null,{"$f":"'IB - B&D&H'!S114","v":0},null,{"$f":"'IB - B&D&H'!U114","v":0},null,{"$f":"'IB - B&D&H'!W114","v":0}]
[null,null,null,null,{"$f":"'IB - B&D&H'!E115","v":0},null,{"$f":"'IB - B&D&H'!G115","v":0},null,{"$f":"'IB - B&D&H'!I115","v":0},null,{"$f":"'IB - B&D&H'!K115","v":0},null,{"$f":"'IB - B&D&H'!M115","v":0},null,{"$f":"'IB - B&D&H'!O115","v":0},null,{"$f":"'IB - B&D&H'!Q115","v":0},null,{"$f":"'IB - B&D&H'!S115","v":0},null,{"$f":"'IB - B&D&H'!U115","v":0},null,{"$f":"'IB - B&D&H'!W115","v":0}]

{"sheet":"IB - B&D&H","index":4,"n_rows":253,"n_cols":27,"rows_kept":253,"cut":false,"hidden":true,"merged":[]}
[null,null,null,null,null,null,null,null,null,null,null,null,null,null,null,null,null,null,null,null,null,null,null,null,null,null,"Klik for valg"]
[null,null,null,null,null,null,null,null,null,null,null,null,null,null,null,null,null,null,null,null,null,null,null,null,null,null,"Benzin"]
[null,null,null,null,null,null,null,null,null,null,null,null,null,null,null,null,null,null,null,null,null,null,null,null,null,null,"Diesel"]
[]
[]
[]
[]
[]
[]
[]
[]
[]
[]
[]
[]
[]
[]
[]
[]
[]
[]
[]
[]
[]
[]
[null,null,null,null,null,null,null,null,null,null,null,null,null,null,null,null,null,null,null,null,null,null,null,null,null,"X-akse til akkummulerede omkostninger"]
[null,null,null,null,null,null,null,null,null,null,null,null,null,null,null,null,null,null,null,null,null,null,null,null,null,1]
[null,null,null,null,null,null,null,null,null,null,null,null,null,null,null,null,null,null,null,null,null,null,null,null,null,{"$f":"IF('Benzin - diesel - hybrid'!$E$47>=B27,B27,\"\")","v":0}]
[null,null,null,null,null,null,null,null,null,null,null,null,null,null,null,null,null,null,null,null,null,null,null,null,null,{"$f":"IF('Benzin - diesel - hybrid'!$E$47>=B28,B28,\"\")","v":0}]
[null,null,null,null,null,null,null,null,null,null,null,null,null,null,null,null,null,null,null,null,null,null,null,null,null,{"$f":"IF('Benzin - diesel - hybrid'!$E$47>=B29,B29,\"\")","v":0}]
[null,null,null,null,null,null,null,null,null,null,null,null,null,null,null,null,null,null,null,null,null,null,null,null,null,{"$f":"IF('Benzin - diesel - hybrid'!$E$47>=B30,B30,\"\")","v":0}]
[null,null,null,null,null,null,null,null,null,null,null,null,null,null,null,null,null,null,null,null,null,null,null,null,null,{"$f":"IF('Benzin - diesel - hybrid'!$E$47>=B31,B31,\"\")","v":0}]
[null,null,null,null,null,null,null,null,null,null,null,null,null,null,null,null,null,null,null,null,null,null,null,null,null,{"$f":"IF('Benzin - diesel - hybrid'!$E$47>=B32,B32,\"\")","v":0}]
[null,null,null,null,null,null,null,null,null,null,null,null,null,null,null,null,null,null,null,null,null,null,null,null,null,{"$f":"IF('Benzin - diesel - hybrid'!$E$47>=B33,B33,\"\")","v":0}]
[null,null,null,null,null,null,null,null,null,null,null,null,null,null,null,null,null,null,null,null,null,null,null,null,null,{"$f":"IF('Benzin - diesel - hybrid'!$E$47>=B34,B34,\"\")","v":0}]
[null,null,null,null,null,null,null,null,null,null,null,null,null,null,null,null,null,null,null,null,null,null,null,null,null,{"$f":"IF('Benzin - diesel - hybrid'!$E$47>=B35,B35,\"\")","v":0}]
[null,null,null,null,null,null,null,null,null,null,null,null,null,null,null,null,null,null,null,null,null,null,null,null,null,{"$f":"IF('Benzin - diesel - hybrid'!$E$47>=B36,B36,\"\")","v":0}]
[null,null,null,null,null,null,null,null,null,null,null,null,null,null,null,null,null,null,null,null,null,null,null,null,null,{"$f":"IF('Benzin - diesel - hybrid'!$E$47>=B37,B37,\"\")","v":0}]
[null,null,null,null,null,null,null,null,null,null,null,null,null,null,null,null,null,null,null,null,null,null,null,null,null,{"$f":"IF('Benzin - diesel - hybrid'!$E$47>=B38,B38,\"\")","v":0}]
[null,null,null,null,null,null,null,null,null,null,null,null,null,null,null,null,null,null,null,null,null,null,null,null,null,{"$f":"IF('Benzin - diesel - hybrid'!$E$47>=B39,B39,\"\")","v":0}]
[null,null,null,null,null,null,null,null,null,null,null,null,null,null,null,null,null,null,null,null,null,null,null,null,null,{"$f":"IF('Benzin - diesel - hybrid'!$E$47>=B40,B40,\"\")","v":0}]
[null,null,null,null,null,null,null,null,null,null,null,null,null,null,null,null,null,null,null,null,null,null,null,null,null,{"$f":"IF('Benzin - diesel - hybrid'!$E$47>=B41,B41,\"\")","v":0}]
[null,null,null,null,null,null,null,null,null,null,null,null,null,null,null,null,null,null,null,null,null,null,null,null,null,{"$f":"IF('Benzin - diesel - hybrid'!$E$47>=B42,B42,\"\")","v":0}]
[null,null,null,null,null,null,null,null,null,null,null,null,null,null,null,null,null,null,null,null,null,null,null,null,null,{"$f":"IF('Benzin - diesel - hybrid'!$E$47>=B43,B43,\"\")","v":0}]
[null,null,null,null,null,null,null,null,null,null,null,null,null,null,null,null,null,null,null,null,null,null,null,null,null,{"$f":"IF('Benzin - diesel - hybrid'!$E$47>=B44,B44,\"\")","v":0}]
[null,null,null,null,null,null,null,null,null,null,null,null,null,null,null,null,null,null,null,null,null,null,null,null,null,{"$f":"IF('Benzin - diesel - hybrid'!$E$47>=B45,B45,\"\")","v":0}]
[]
[]
[]
[]
[]
[]
[]
[]
[]
[]
[]
[]
[]
[]
[]
[]
[]
[]
[]
[]
[]
[]
[]
[]
[]
[]
[]
[]
[]
[]
[]
[]
[]
[]
[]
[]
[]
[]
[]
[]
[]
[]
[]
[]
[]
[]
[]
[]
[]
[]
[]
[]
[]
[]
[]
[]
[]
[]
[]
[]
[]
[]
[]
[]
[]
[]
[]
[]
[]
[]
["Eksternalitetsmodul - Udledning forbundet med elforbrug I brugsfasen (tons Co2e) -  Udledningerne er multipleret med antallet af produkter I det givne tilbud"]
[null,"År indeks",null,"TCO-evalueringsperiode",{"$f":"'Benzin - diesel - hybrid'!E8","v":"PRODUKT 1"},"PD1 - Årligt strømforbrug (kWh/år/produkt)",{"$f":"'Benzin - diesel - hybrid'!G8","v":"PRODUKT 2"},"PD2 - Årligt strømforbrug (kWh/år/produkt)",{"$f":"'Benzin - diesel - hybrid'!I8","v":"PRODUKT 3"},"PD3 - Årligt strømforbrug (kWh/år/produkt)",{"$f":"'Benzin - diesel - hybrid'!K8","v":"PRODUKT 4"},"PD4 - Årligt strømforbrug (kWh/år/produkt)",{"$f":"'Benzin - diesel - hybrid'!M8","v":"PRODUKT 5"},"PD5 - Årligt strømforbrug (kWh/år/produkt)",{"$f":"'Benzin - diesel - hybrid'!O8","v":"PRODUKT 6"},"PD6 - Årligt strømforbrug (kWh/år/produkt)",{"$f":"'Benzin - diesel - hybrid'!Q8","v":"PRODUKT 7"},"PD7 - Årligt strømforbrug (kWh/år/produkt)",{"$f":"'Benzin - diesel - hybrid'!S8","v":"PRODUKT 8"},"PD8 - Årligt strømforbrug (kWh/år/produkt)",{"$f":"'Benzin - diesel - hybrid'!Y8","v":0},"PD8 - Årligt strømforbrug (kWh/år/produkt)",{"$f":"'Benzin - diesel - hybrid'!AA8","v":0},"PD8 - Årligt strømforbrug (kWh/år/produkt)"]
[null,1,{"$f":"B119","v":1},null,{"$f":"'Benzin - diesel - hybrid'!E$11*F119*IF('Benzin - diesel - hybrid'!E$31=\"nej\",\"\",IF('Benzin - diesel - hybrid'!#REF!=\"ja\",VLOOKUP('Benzin - diesel - hybrid'!E$46+($C119-1),Fremskrivninger!$A$9:$L$38,12),'Benzin - diesel - hybrid'!#REF!))/1000","v":{"$error":"#REF!"}},{"$f":"('Benzin - diesel - hybrid'!#REF!*'Benzin - diesel - hybrid'!E$14*'Benzin - diesel - hybrid'!#REF!/10+'Benzin - diesel - hybrid'!#REF!*365)","v":{"$error":"#REF!"}},{"$f":"'Benzin - diesel - hybrid'!G$11*H119*IF('Benzin - diesel - hybrid'!G$31=\"nej\",\"\",IF('Benzin - diesel - hybrid'!#REF!=\"ja\",VLOOKUP('Benzin - diesel - hybrid'!G$46+($C119-1),Fremskrivninger!$A$9:$L$38,12),'Benzin - diesel - hybrid'!#REF!))/1000","v":{"$error":"#REF!"}},{"$f":"('Benzin - diesel - hybrid'!#REF!*'Benzin - diesel - hybrid'!G$14*'Benzin - diesel - hybrid'!#REF!/10+'Benzin - diesel - hybrid'!#REF!*365)","v":{"$error":"#REF!"}},{"$f":"'Benzin - diesel - hybrid'!I$11*J119*IF('Benzin - diesel - hybrid'!I$31=\"nej\",\"\",IF('Benzin - diesel - hybrid'!#REF!=\"ja\",VLOOKUP('Benzin - diesel - hybrid'!I$46+($C119-1),Fremskrivninger!$A$9:$L$38,12),'Benzin - diesel - hybrid'!#REF!))/1000","v":{"$error":"#REF!"}},{"$f":"('Benzin - diesel - hybrid'!#REF!*'Benzin - diesel - hybrid'!I$14*'Benzin - diesel - hybrid'!#REF!/10+'Benzin - diesel - hybrid'!#REF!*365)","v":{"$error":"#REF!"}},{"$f":"'Benzin - diesel - hybrid'!K$11*L119*IF('Benzin - diesel - hybrid'!K$31=\"nej\",\"\",IF('Benzin - diesel - hybrid'!#REF!=\"ja\",VLOOKUP('Benzin - diesel - hybrid'!K$46+($C119-1),Fremskrivninger!$A$9:$L$38,12),'Benzin - diesel - hybrid'!#REF!))/1000","v":{"$error":"#REF!"}},{"$f":"('Benzin - diesel - hybrid'!#REF!*'Benzin - diesel - hybrid'!K$14*'Benzin - diesel - hybrid'!#REF!/10+'Benzin - diesel - hybrid'!#REF!*365)","v":{"$error":"#REF!"}},{"$f":"'Benzin - diesel - hybrid'!M$11*N119*IF('Benzin - diesel - hybrid'!M$31=\"nej\",\"\",IF('Benzin - diesel - hybrid'!#REF!=\"ja\",VLOOKUP('Benzin - diesel - hybrid'!M$46+($C119-1),Fremskrivninger!$A$9:$L$38,12),'Benzin - diesel - hybrid'!#REF!))/1000","v":{"$error":"#REF!"}},{"$f":"('Benzin - diesel - hybrid'!#REF!*'Benzin - diesel - hybrid'!M$14*'Benzin - diesel - hybrid'!#REF!/10+'Benzin - diesel - hybrid'!#REF!*365)","v":{"$error":"#REF!"}},{"$f":"'Benzin - diesel - hybrid'!O$11*P119*IF('Benzin - diesel - hybrid'!O$31=\"nej\",\"\",IF('Benzin - diesel - hybrid'!#REF!=\"ja\",VLOOKUP('Benzin - diesel - hybrid'!O$46+($C119-1),Fremskrivninger!$A$9:$L$38,12),'Benzin - diesel - hybrid'!#REF!))/1000","v":{"$error":"#REF!"}},{"$f":"('Benzin - diesel - hybrid'!#REF!*'Benzin - diesel - hybrid'!O$14*'Benzin - diesel - hybrid'!#REF!/10+'Benzin - diesel - hybrid'!#REF!*365)","v":{"$error":"#REF!"}},{"$f":"'Benzin - diesel - hybrid'!Q$11*R119*IF('Benzin - diesel - hybrid'!Q$31=\"nej\",\"\",IF('Benzin - diesel - hybrid'!#REF!=\"ja\",VLOOKUP('Benzin - diesel - hybrid'!Q$46+($C119-1),Fremskrivninger!$A$9:$L$38,12),'Benzin - diesel - hybrid'!#REF!))/1000","v":{"$error":"#REF!"}},{"$f":"('Benzin - diesel - hybrid'!#REF!*'Benzin - diesel - hybrid'!Q$14*'Benzin - diesel - hybrid'!#REF!/10+'Benzin - diesel - hybrid'!#REF!*365)","v":{"$error":"#REF!"}},{"$f":"'Benzin - diesel - hybrid'!S$11*T119*IF('Benzin - diesel - hybrid'!S$31=\"nej\",\"\",IF('Benzin - diesel - hybrid'!#REF!=\"ja\",VLOOKUP('Benzin - diesel - hybrid'!S$46+($C119-1),Fremskrivninger!$A$9:$L$38,12),'Benzin - diesel - hybrid'!#REF!))/1000","v":{"$error":"#REF!"}},{"$f":"('Benzin - diesel - hybrid'!#REF!*'Benzin - diesel - hybrid'!S$14*'Benzin - diesel - hybrid'!#REF!/10+'Benzin - diesel - hybrid'!#REF!*365)","v":{"$error":"#REF!"}},{"$f":"'Benzin - diesel - hybrid'!Y$11*V119*IF('Benzin - diesel - hybrid'!Y$31=\"nej\",\"\",IF('Benzin - diesel - hybrid'!#REF!=\"ja\",VLOOKUP('Benzin - diesel - hybrid'!Y$46+($C119-1),Fremskrivninger!$A$9:$L$38,12),'Benzin - diesel - hybrid'!#REF!))/1000","v":{"$error":"#REF!"}},{"$f":"('Benzin - diesel - hybrid'!#REF!*'Benzin - diesel - hybrid'!Y$14*'Benzin - diesel - hybrid'!#REF!/10+'Benzin - diesel - hybrid'!#REF!*365)","v":{"$error":"#REF!"}},{"$f":"'Benzin - diesel - hybrid'!AA$11*X119*IF('Benzin - diesel - hybrid'!AA$31=\"nej\",\"\",IF('Benzin - diesel - hybrid'!#REF!=\"ja\",VLOOKUP('Benzin - diesel - hybrid'!AA$46+($C119-1),Fremskrivninger!$A$9:$L$38,12),'Benzin - diesel - hybrid'!#REF!))/1000","v":{"$error":"#REF!"}},{"$f":"('Benzin - diesel - hybrid'!#REF!*'Benzin - diesel - hybrid'!AA$14*'Benzin - diesel - hybrid'!#REF!/10+'Benzin - diesel - hybrid'!#REF!*365)","v":{"$error":"#REF!"}}]
[null,2,{"$f":"B120","v":2},null,{"$f":"'Benzin - diesel - hybrid'!E$11*F120*IF('Benzin - diesel - hybrid'!E$31=\"nej\",\"\",IF('Benzin - diesel - hybrid'!#REF!=\"ja\",VLOOKUP('Benzin - diesel - hybrid'!E$46+($C120-1),Fremskrivninger!$A$9:$L$38,12),'Benzin - diesel - hybrid'!#REF!))/1000","v":{"$error":"#REF!"}},{"$f":"('Benzin - diesel - hybrid'!#REF!*'Benzin - diesel - hybrid'!E$14*'Benzin - diesel - hybrid'!#REF!/10+'Benzin - diesel - hybrid'!#REF!*365)","v":{"$error":"#REF!"}},{"$f":"'Benzin - diesel - hybrid'!G$11*H120*IF('Benzin - diesel - hybrid'!G$31=\"nej\",\"\",IF('Benzin - diesel - hybrid'!#REF!=\"ja\",VLOOKUP('Benzin - diesel - hybrid'!G$46+($C120-1),Fremskrivninger!$A$9:$L$38,12),'Benzin - diesel - hybrid'!#REF!))/1000","v":{"$error":"#REF!"}},{"$f":"('Benzin - diesel - hybrid'!#REF!*'Benzin - diesel - hybrid'!G$14*'Benzin - diesel - hybrid'!#REF!/10+'Benzin - diesel - hybrid'!#REF!*365)","v":{"$error":"#REF!"}},{"$f":"'Benzin - diesel - hybrid'!I$11*J120*IF('Benzin - diesel - hybrid'!I$31=\"nej\",\"\",IF('Benzin - diesel - hybrid'!#REF!=\"ja\",VLOOKUP('Benzin - diesel - hybrid'!I$46+($C120-1),Fremskrivninger!$A$9:$L$38,12),'Benzin - diesel - hybrid'!#REF!))/1000","v":{"$error":"#REF!"}},{"$f":"('Benzin - diesel - hybrid'!#REF!*'Benzin - diesel - hybrid'!I$14*'Benzin - diesel - hybrid'!#REF!/10+'Benzin - diesel - hybrid'!#REF!*365)","v":{"$error":"#REF!"}},{"$f":"'Benzin - diesel - hybrid'!K$11*L120*IF('Benzin - diesel - hybrid'!K$31=\"nej\",\"\",IF('Benzin - diesel - hybrid'!#REF!=\"ja\",VLOOKUP('Benzin - diesel - hybrid'!K$46+($C120-1),Fremskrivninger!$A$9:$L$38,12),'Benzin - diesel - hybrid'!#REF!))/1000","v":{"$error":"#REF!"}},{"$f":"('Benzin - diesel - hybrid'!#REF!*'Benzin - diesel - hybrid'!K$14*'Benzin - diesel - hybrid'!#REF!/10+'Benzin - diesel - hybrid'!#REF!*365)","v":{"$error":"#REF!"}},{"$f":"'Benzin - diesel - hybrid'!M$11*N120*IF('Benzin - diesel - hybrid'!M$31=\"nej\",\"\",IF('Benzin - diesel - hybrid'!#REF!=\"ja\",VLOOKUP('Benzin - diesel - hybrid'!M$46+($C120-1),Fremskrivninger!$A$9:$L$38,12),'Benzin - diesel - hybrid'!#REF!))/1000","v":{"$error":"#REF!"}},{"$f":"('Benzin - diesel - hybrid'!#REF!*'Benzin - diesel - hybrid'!M$14*'Benzin - diesel - hybrid'!#REF!/10+'Benzin - diesel - hybrid'!#REF!*365)","v":{"$error":"#REF!"}},{"$f":"'Benzin - diesel - hybrid'!O$11*P120*IF('Benzin - diesel - hybrid'!O$31=\"nej\",\"\",IF('Benzin - diesel - hybrid'!#REF!=\"ja\",VLOOKUP('Benzin - diesel - hybrid'!O$46+($C120-1),Fremskrivninger!$A$9:$L$38,12),'Benzin - diesel - hybrid'!#REF!))/1000","v":{"$error":"#REF!"}},{"$f":"('Benzin - diesel - hybrid'!#REF!*'Benzin - diesel - hybrid'!O$14*'Benzin - diesel - hybrid'!#REF!/10+'Benzin - diesel - hybrid'!#REF!*365)","v":{"$error":"#REF!"}},{"$f":"'Benzin - diesel - hybrid'!Q$11*R120*IF('Benzin - diesel - hybrid'!Q$31=\"nej\",\"\",IF('Benzin - diesel - hybrid'!#REF!=\"ja\",VLOOKUP('Benzin - diesel - hybrid'!Q$46+($C120-1),Fremskrivninger!$A$9:$L$38,12),'Benzin - diesel - hybrid'!#REF!))/1000","v":{"$error":"#REF!"}},{"$f":"('Benzin - diesel - hybrid'!#REF!*'Benzin - diesel - hybrid'!Q$14*'Benzin - diesel - hybrid'!#REF!/10+'Benzin - diesel - hybrid'!#REF!*365)","v":{"$error":"#REF!"}},{"$f":"'Benzin - diesel - hybrid'!S$11*T120*IF('Benzin - diesel - hybrid'!S$31=\"nej\",\"\",IF('Benzin - diesel - hybrid'!#REF!=\"ja\",VLOOKUP('Benzin - diesel - hybrid'!S$46+($C120-1),Fremskrivninger!$A$9:$L$38,12),'Benzin - diesel - hybrid'!#REF!))/1000","v":{"$error":"#REF!"}},{"$f":"('Benzin - diesel - hybrid'!#REF!*'Benzin - diesel - hybrid'!S$14*'Benzin - diesel - hybrid'!#REF!/10+'Benzin - diesel - hybrid'!#REF!*365)","v":{"$error":"#REF!"}},{"$f":"'Benzin - diesel - hybrid'!Y$11*V120*IF('Benzin - diesel - hybrid'!Y$31=\"nej\",\"\",IF('Benzin - diesel - hybrid'!#REF!=\"ja\",VLOOKUP('Benzin - diesel - hybrid'!Y$46+($C120-1),Fremskrivninger!$A$9:$L$38,12),'Benzin - diesel - hybrid'!#REF!))/1000","v":{"$error":"#REF!"}},{"$f":"('Benzin - diesel - hybrid'!#REF!*'Benzin - diesel - hybrid'!Y$14*'Benzin - diesel - hybrid'!#REF!/10+'Benzin - diesel - hybrid'!#REF!*365)","v":{"$error":"#REF!"}},{"$f":"'Benzin - diesel - hybrid'!AA$11*X120*IF('Benzin - diesel - hybrid'!AA$31=\"nej\",\"\",IF('Benzin - diesel - hybrid'!#REF!=\"ja\",VLOOKUP('Benzin - diesel - hybrid'!AA$46+($C120-1),Fremskrivninger!$A$9:$L$38,12),'Benzin - diesel - hybrid'!#REF!))/1000","v":{"$error":"#REF!"}},{"$f":"('Benzin - diesel - hybrid'!#REF!*'Benzin - diesel - hybrid'!AA$14*'Benzin - diesel - hybrid'!#REF!/10+'Benzin - diesel - hybrid'!#REF!*365)","v":{"$error":"#REF!"}}]
[null,3,3,null,{"$f":"'Benzin - diesel - hybrid'!E$11*F121*IF('Benzin - diesel - hybrid'!E$31=\"nej\",\"\",IF('Benzin - diesel - hybrid'!#REF!=\"ja\",VLOOKUP('Benzin - diesel - hybrid'!E$46+($C121-1),Fremskrivninger!$A$9:$L$38,12),'Benzin - diesel - hybrid'!#REF!))/1000","v":{"$error":"#REF!"}},{"$f":"('Benzin - diesel - hybrid'!#REF!*'Benzin - diesel - hybrid'!E$14*'Benzin - diesel - hybrid'!#REF!/10+'Benzin - diesel - hybrid'!#REF!*365)","v":{"$error":"#REF!"}},{"$f":"'Benzin - diesel - hybrid'!G$11*H121*IF('Benzin - diesel - hybrid'!G$31=\"nej\",\"\",IF('Benzin - diesel - hybrid'!#REF!=\"ja\",VLOOKUP('Benzin - diesel - hybrid'!G$46+($C121-1),Fremskrivninger!$A$9:$L$38,12),'Benzin - diesel - hybrid'!#REF!))/1000","v":{"$error":"#REF!"}},{"$f":"('Benzin - diesel - hybrid'!#REF!*'Benzin - diesel - hybrid'!G$14*'Benzin - diesel - hybrid'!#REF!/10+'Benzin - diesel - hybrid'!#REF!*365)","v":{"$error":"#REF!"}},{"$f":"'Benzin - diesel - hybrid'!I$11*J121*IF('Benzin - diesel - hybrid'!I$31=\"nej\",\"\",IF('Benzin - diesel - hybrid'!#REF!=\"ja\",VLOOKUP('Benzin - diesel - hybrid'!I$46+($C121-1),Fremskrivninger!$A$9:$L$38,12),'Benzin - diesel - hybrid'!#REF!))/1000","v":{"$error":"#REF!"}},{"$f":"('Benzin - diesel - hybrid'!#REF!*'Benzin - diesel - hybrid'!I$14*'Benzin - diesel - hybrid'!#REF!/10+'Benzin - diesel - hybrid'!#REF!*365)","v":{"$error":"#REF!"}},{"$f":"'Benzin - diesel - hybrid'!K$11*L121*IF('Benzin - diesel - hybrid'!K$31=\"nej\",\"\",IF('Benzin - diesel - hybrid'!#REF!=\"ja\",VLOOKUP('Benzin - diesel - hybrid'!K$46+($C121-1),Fremskrivninger!$A$9:$L$38,12),'Benzin - diesel - hybrid'!#REF!))/1000","v":{"$error":"#REF!"}},{"$f":"('Benzin - diesel - hybrid'!#REF!*'Benzin - diesel - hybrid'!K$14*'Benzin - diesel - hybrid'!#REF!/10+'Benzin - diesel - hybrid'!#REF!*365)","v":{"$error":"#REF!"}},{"$f":"'Benzin - diesel - hybrid'!M$11*N121*IF('Benzin - diesel - hybrid'!M$31=\"nej\",\"\",IF('Benzin - diesel - hybrid'!#REF!=\"ja\",VLOOKUP('Benzin - diesel - hybrid'!M$46+($C121-1),Fremskrivninger!$A$9:$L$38,12),'Benzin - diesel - hybrid'!#REF!))/1000","v":{"$error":"#REF!"}},{"$f":"('Benzin - diesel - hybrid'!#REF!*'Benzin - diesel - hybrid'!M$14*'Benzin - diesel - hybrid'!#REF!/10+'Benzin - diesel - hybrid'!#REF!*365)","v":{"$error":"#REF!"}},{"$f":"'Benzin - diesel - hybrid'!O$11*P121*IF('Benzin - diesel - hybrid'!O$31=\"nej\",\"\",IF('Benzin - diesel - hybrid'!#REF!=\"ja\",VLOOKUP('Benzin - diesel - hybrid'!O$46+($C121-1),Fremskrivninger!$A$9:$L$38,12),'Benzin - diesel - hybrid'!#REF!))/1000","v":{"$error":"#REF!"}},{"$f":"('Benzin - diesel - hybrid'!#REF!*'Benzin - diesel - hybrid'!O$14*'Benzin - diesel - hybrid'!#REF!/10+'Benzin - diesel - hybrid'!#REF!*365)","v":{"$error":"#REF!"}},{"$f":"'Benzin - diesel - hybrid'!Q$11*R121*IF('Benzin - diesel - hybrid'!Q$31=\"nej\",\"\",IF('Benzin - diesel - hybrid'!#REF!=\"ja\",VLOOKUP('Benzin - diesel - hybrid'!Q$46+($C121-1),Fremskrivninger!$A$9:$L$38,12),'Benzin - diesel - hybrid'!#REF!))/1000","v":{"$error":"#REF!"}},{"$f":"('Benzin - diesel - hybrid'!#REF!*'Benzin - diesel - hybrid'!Q$14*'Benzin - diesel - hybrid'!#REF!/10+'Benzin - diesel - hybrid'!#REF!*365)","v":{"$error":"#REF!"}},{"$f":"'Benzin - diesel - hybrid'!S$11*T121*IF('Benzin - diesel - hybrid'!S$31=\"nej\",\"\",IF('Benzin - diesel - hybrid'!#REF!=\"ja\",VLOOKUP('Benzin - diesel - hybrid'!S$46+($C121-1),Fremskrivninger!$A$9:$L$38,12),'Benzin - diesel - hybrid'!#REF!))/1000","v":{"$error":"#REF!"}},{"$f":"('Benzin - diesel - hybrid'!#REF!*'Benzin - diesel - hybrid'!S$14*'Benzin - diesel - hybrid'!#REF!/10+'Benzin - diesel - hybrid'!#REF!*365)","v":{"$error":"#REF!"}},{"$f":"'Benzin - diesel - hybrid'!Y$11*V121*IF('Benzin - diesel - hybrid'!Y$31=\"nej\",\"\",IF('Benzin - diesel - hybrid'!#REF!=\"ja\",VLOOKUP('Benzin - diesel - hybrid'!Y$46+($C121-1),Fremskrivninger!$A$9:$L$38,12),'Benzin - diesel - hybrid'!#REF!))/1000","v":{"$error":"#REF!"}},{"$f":"('Benzin - diesel - hybrid'!#REF!*'Benzin - diesel - hybrid'!Y$14*'Benzin - diesel - hybrid'!#REF!/10+'Benzin - diesel - hybrid'!#REF!*365)","v":{"$error":"#REF!"}},{"$f":"'Benzin - diesel - hybrid'!AA$11*X121*IF('Benzin - diesel - hybrid'!AA$31=\"nej\",\"\",IF('Benzin - diesel - hybrid'!#REF!=\"ja\",VLOOKUP('Benzin - diesel - hybrid'!AA$46+($C121-1),Fremskrivninger!$A$9:$L$38,12),'Benzin - diesel - hybrid'!#REF!))/1000","v":{"$error":"#REF!"}},{"$f":"('Benzin - diesel - hybrid'!#REF!*'Benzin - diesel - hybrid'!AA$14*'Benzin - diesel - hybrid'!#REF!/10+'Benzin - diesel - hybrid'!#REF!*365)","v":{"$error":"#REF!"}}]
[null,4,4,null,{"$f":"'Benzin - diesel - hybrid'!E$11*F122*IF('Benzin - diesel - hybrid'!E$31=\"nej\",\"\",IF('Benzin - diesel - hybrid'!#REF!=\"ja\",VLOOKUP('Benzin - diesel - hybrid'!E$46+($C122-1),Fremskrivninger!$A$9:$L$38,12),'Benzin - diesel - hybrid'!#REF!))/1000","v":{"$error":"#REF!"}},{"$f":"('Benzin - diesel - hybrid'!#REF!*'Benzin - diesel - hybrid'!E$14*'Benzin - diesel - hybrid'!#REF!/10+'Benzin - diesel - hybrid'!#REF!*365)","v":{"$error":"#REF!"}},{"$f":"'Benzin - diesel - hybrid'!G$11*H122*IF('Benzin - diesel - hybrid'!G$31=\"nej\",\"\",IF('Benzin - diesel - hybrid'!#REF!=\"ja\",VLOOKUP('Benzin - diesel - hybrid'!G$46+($C122-1),Fremskrivninger!$A$9:$L$38,12),'Benzin - diesel - hybrid'!#REF!))/1000","v":{"$error":"#REF!"}},{"$f":"('Benzin - diesel - hybrid'!#REF!*'Benzin - diesel - hybrid'!G$14*'Benzin - diesel - hybrid'!#REF!/10+'Benzin - diesel - hybrid'!#REF!*365)","v":{"$error":"#REF!"}},{"$f":"'Benzin - diesel - hybrid'!I$11*J122*IF('Benzin - diesel - hybrid'!I$31=\"nej\",\"\",IF('Benzin - diesel - hybrid'!#REF!=\"ja\",VLOOKUP('Benzin - diesel - hybrid'!I$46+($C122-1),Fremskrivninger!$A$9:$L$38,12),'Benzin - diesel - hybrid'!#REF!))/1000","v":{"$error":"#REF!"}},{"$f":"('Benzin - diesel - hybrid'!#REF!*'Benzin - diesel - hybrid'!I$14*'Benzin - diesel - hybrid'!#REF!/10+'Benzin - diesel - hybrid'!#REF!*365)","v":{"$error":"#REF!"}},{"$f":"'Benzin - diesel - hybrid'!K$11*L122*IF('Benzin - diesel - hybrid'!K$31=\"nej\",\"\",IF('Benzin - diesel - hybrid'!#REF!=\"ja\",VLOOKUP('Benzin - diesel - hybrid'!K$46+($C122-1),Fremskrivninger!$A$9:$L$38,12),'Benzin - diesel - hybrid'!#REF!))/1000","v":{"$error":"#REF!"}},{"$f":"('Benzin - diesel - hybrid'!#REF!*'Benzin - diesel - hybrid'!K$14*'Benzin - diesel - hybrid'!#REF!/10+'Benzin - diesel - hybrid'!#REF!*365)","v":{"$error":"#REF!"}},{"$f":"'Benzin - diesel - hybrid'!M$11*N122*IF('Benzin - diesel - hybrid'!M$31=\"nej\",\"\",IF('Benzin - diesel - hybrid'!#REF!=\"ja\",VLOOKUP('Benzin - diesel - hybrid'!M$46+($C122-1),Fremskrivninger!$A$9:$L$38,12),'Benzin - diesel - hybrid'!#REF!))/1000","v":{"$error":"#REF!"}},{"$f":"('Benzin - diesel - hybrid'!#REF!*'Benzin - diesel - hybrid'!M$14*'Benzin - diesel - hybrid'!#REF!/10+'Benzin - diesel - hybrid'!#REF!*365)","v":{"$error":"#REF!"}},{"$f":"'Benzin - diesel - hybrid'!O$11*P122*IF('Benzin - diesel - hybrid'!O$31=\"nej\",\"\",IF('Benzin - diesel - hybrid'!#REF!=\"ja\",VLOOKUP('Benzin - diesel - hybrid'!O$46+($C122-1),Fremskrivninger!$A$9:$L$38,12),'Benzin - diesel - hybrid'!#REF!))/1000","v":{"$error":"#REF!"}},{"$f":"('Benzin - diesel - hybrid'!#REF!*'Benzin - diesel - hybrid'!O$14*'Benzin - diesel - hybrid'!#REF!/10+'Benzin - diesel - hybrid'!#REF!*365)","v":{"$error":"#REF!"}},{"$f":"'Benzin - diesel - hybrid'!Q$11*R122*IF('Benzin - diesel - hybrid'!Q$31=\"nej\",\"\",IF('Benzin - diesel - hybrid'!#REF!=\"ja\",VLOOKUP('Benzin - diesel - hybrid'!Q$46+($C122-1),Fremskrivninger!$A$9:$L$38,12),'Benzin - diesel - hybrid'!#REF!))/1000","v":{"$error":"#REF!"}},{"$f":"('Benzin - diesel - hybrid'!#REF!*'Benzin - diesel - hybrid'!Q$14*'Benzin - diesel - hybrid'!#REF!/10+'Benzin - diesel - hybrid'!#REF!*365)","v":{"$error":"#REF!"}},{"$f":"'Benzin - diesel - hybrid'!S$11*T122*IF('Benzin - diesel - hybrid'!S$31=\"nej\",\"\",IF('Benzin - diesel - hybrid'!#REF!=\"ja\",VLOOKUP('Benzin - diesel - hybrid'!S$46+($C122-1),Fremskrivninger!$A$9:$L$38,12),'Benzin - diesel - hybrid'!#REF!))/1000","v":{"$error":"#REF!"}},{"$f":"('Benzin - diesel - hybrid'!#REF!*'Benzin - diesel - hybrid'!S$14*'Benzin - diesel - hybrid'!#REF!/10+'Benzin - diesel - hybrid'!#REF!*365)","v":{"$error":"#REF!"}},{"$f":"'Benzin - diesel - hybrid'!Y$11*V122*IF('Benzin - diesel - hybrid'!Y$31=\"nej\",\"\",IF('Benzin - diesel - hybrid'!#REF!=\"ja\",VLOOKUP('Benzin - diesel - hybrid'!Y$46+($C122-1),Fremskrivninger!$A$9:$L$38,12),'Benzin - diesel - hybrid'!#REF!))/1000","v":{"$error":"#REF!"}},{"$f":"('Benzin - diesel - hybrid'!#REF!*'Benzin - diesel - hybrid'!Y$14*'Benzin - diesel - hybrid'!#REF!/10+'Benzin - diesel - hybrid'!#REF!*365)","v":{"$error":"#REF!"}},{"$f":"'Benzin - diesel - hybrid'!AA$11*X122*IF('Benzin - diesel - hybrid'!AA$31=\"nej\",\"\",IF('Benzin - diesel - hybrid'!#REF!=\"ja\",VLOOKUP('Benzin - diesel - hybrid'!AA$46+($C122-1),Fremskrivninger!$A$9:$L$38,12),'Benzin - diesel - hybrid'!#REF!))/1000","v":{"$error":"#REF!"}},{"$f":"('Benzin - diesel - hybrid'!#REF!*'Benzin - diesel - hybrid'!AA$14*'Benzin - diesel - hybrid'!#REF!/10+'Benzin - diesel - hybrid'!#REF!*365)","v":{"$error":"#REF!"}}]
[null,5,5,null,{"$f":"'Benzin - diesel - hybrid'!E$11*F123*IF('Benzin - diesel - hybrid'!E$31=\"nej\",\"\",IF('Benzin - diesel - hybrid'!#REF!=\"ja\",VLOOKUP('Benzin - diesel - hybrid'!E$46+($C123-1),Fremskrivninger!$A$9:$L$38,12),'Benzin - diesel - hybrid'!#REF!))/1000","v":{"$error":"#REF!"}},{"$f":"('Benzin - diesel - hybrid'!#REF!*'Benzin - diesel - hybrid'!E$14*'Benzin - diesel - hybrid'!#REF!/10+'Benzin - diesel - hybrid'!#REF!*365)","v":{"$error":"#REF!"}},{"$f":"'Benzin - diesel - hybrid'!G$11*H123*IF('Benzin - diesel - hybrid'!G$31=\"nej\",\"\",IF('Benzin - diesel - hybrid'!#REF!=\"ja\",VLOOKUP('Benzin - diesel - hybrid'!G$46+($C123-1),Fremskrivninger!$A$9:$L$38,12),'Benzin - diesel - hybrid'!#REF!))/1000","v":{"$error":"#REF!"}},{"$f":"('Benzin - diesel - hybrid'!#REF!*'Benzin - diesel - hybrid'!G$14*'Benzin - diesel - hybrid'!#REF!/10+'Benzin - diesel - hybrid'!#REF!*365)","v":{"$error":"#REF!"}},{"$f":"'Benzin - diesel - hybrid'!I$11*J123*IF('Benzin - diesel - hybrid'!I$31=\"nej\",\"\",IF('Benzin - diesel - hybrid'!#REF!=\"ja\",VLOOKUP('Benzin - diesel - hybrid'!I$46+($C123-1),Fremskrivninger!$A$9:$L$38,12),'Benzin - diesel - hybrid'!#REF!))/1000","v":{"$error":"#REF!"}},{"$f":"('Benzin - diesel - hybrid'!#REF!*'Benzin - diesel - hybrid'!I$14*'Benzin - diesel - hybrid'!#REF!/10+'Benzin - diesel - hybrid'!#REF!*365)","v":{"$error":"#REF!"}},{"$f":"'Benzin - diesel - hybrid'!K$11*L123*IF('Benzin - diesel - hybrid'!K$31=\"nej\",\"\",IF('Benzin - diesel - hybrid'!#REF!=\"ja\",VLOOKUP('Benzin - diesel - hybrid'!K$46+($C123-1),Fremskrivninger!$A$9:$L$38,12),'Benzin - diesel - hybrid'!#REF!))/1000","v":{"$error":"#REF!"}},{"$f":"('Benzin - diesel - hybrid'!#REF!*'Benzin - diesel - hybrid'!K$14*'Benzin - diesel - hybrid'!#REF!/10+'Benzin - diesel - hybrid'!#REF!*365)","v":{"$error":"#REF!"}},{"$f":"'Benzin - diesel - hybrid'!M$11*N123*IF('Benzin - diesel - hybrid'!M$31=\"nej\",\"\",IF('Benzin - diesel - hybrid'!#REF!=\"ja\",VLOOKUP('Benzin - diesel - hybrid'!M$46+($C123-1),Fremskrivninger!$A$9:$L$38,12),'Benzin - diesel - hybrid'!#REF!))/1000","v":{"$error":"#REF!"}},{"$f":"('Benzin - diesel - hybrid'!#REF!*'Benzin - diesel - hybrid'!M$14*'Benzin - diesel - hybrid'!#REF!/10+'Benzin - diesel - hybrid'!#REF!*365)","v":{"$error":"#REF!"}},{"$f":"'Benzin - diesel - hybrid'!O$11*P123*IF('Benzin - diesel - hybrid'!O$31=\"nej\",\"\",IF('Benzin - diesel - hybrid'!#REF!=\"ja\",VLOOKUP('Benzin - diesel - hybrid'!O$46+($C123-1),Fremskrivninger!$A$9:$L$38,12),'Benzin - diesel - hybrid'!#REF!))/1000","v":{"$error":"#REF!"}},{"$f":"('Benzin - diesel - hybrid'!#REF!*'Benzin - diesel - hybrid'!O$14*'Benzin - diesel - hybrid'!#REF!/10+'Benzin - diesel - hybrid'!#REF!*365)","v":{"$error":"#REF!"}},{"$f":"'Benzin - diesel - hybrid'!Q$11*R123*IF('Benzin - diesel - hybrid'!Q$31=\"nej\",\"\",IF('Benzin - diesel - hybrid'!#REF!=\"ja\",VLOOKUP('Benzin - diesel - hybrid'!Q$46+($C123-1),Fremskrivninger!$A$9:$L$38,12),'Benzin - diesel - hybrid'!#REF!))/1000","v":{"$error":"#REF!"}},{"$f":"('Benzin - diesel - hybrid'!#REF!*'Benzin - diesel - hybrid'!Q$14*'Benzin - diesel - hybrid'!#REF!/10+'Benzin - diesel - hybrid'!#REF!*365)","v":{"$error":"#REF!"}},{"$f":"'Benzin - diesel - hybrid'!S$11*T123*IF('Benzin - diesel - hybrid'!S$31=\"nej\",\"\",IF('Benzin - diesel - hybrid'!#REF!=\"ja\",VLOOKUP('Benzin - diesel - hybrid'!S$46+($C123-1),Fremskrivninger!$A$9:$L$38,12),'Benzin - diesel - hybrid'!#REF!))/1000","v":{"$error":"#REF!"}},{"$f":"('Benzin - diesel - hybrid'!#REF!*'Benzin - diesel - hybrid'!S$14*'Benzin - diesel - hybrid'!#REF!/10+'Benzin - diesel - hybrid'!#REF!*365)","v":{"$error":"#REF!"}},{"$f":"'Benzin - diesel - hybrid'!Y$11*V123*IF('Benzin - diesel - hybrid'!Y$31=\"nej\",\"\",IF('Benzin - diesel - hybrid'!#REF!=\"ja\",VLOOKUP('Benzin - diesel - hybrid'!Y$46+($C123-1),Fremskrivninger!$A$9:$L$38,12),'Benzin - diesel - hybrid'!#REF!))/1000","v":{"$error":"#REF!"}},{"$f":"('Benzin - diesel - hybrid'!#REF!*'Benzin - diesel - hybrid'!Y$14*'Benzin - diesel - hybrid'!#REF!/10+'Benzin - diesel - hybrid'!#REF!*365)","v":{"$error":"#REF!"}},{"$f":"'Benzin - diesel - hybrid'!AA$11*X123*IF('Benzin - diesel - hybrid'!AA$31=\"nej\",\"\",IF('Benzin - diesel - hybrid'!#REF!=\"ja\",VLOOKUP('Benzin - diesel - hybrid'!AA$46+($C123-1),Fremskrivninger!$A$9:$L$38,12),'Benzin - diesel - hybrid'!#REF!))/1000","v":{"$error":"#REF!"}},{"$f":"('Benzin - diesel - hybrid'!#REF!*'Benzin - diesel - hybrid'!AA$14*'Benzin - diesel - hybrid'!#REF!/10+'Benzin - diesel - hybrid'!#REF!*365)","v":{"$error":"#REF!"}}]
[null,6,6,null,{"$f":"'Benzin - diesel - hybrid'!E$11*F124*IF('Benzin - diesel - hybrid'!E$31=\"nej\",\"\",IF('Benzin - diesel - hybrid'!#REF!=\"ja\",VLOOKUP('Benzin - diesel - hybrid'!E$46+($C124-1),Fremskrivninger!$A$9:$L$38,12),'Benzin - diesel - hybrid'!#REF!))/1000","v":{"$error":"#REF!"}},{"$f":"('Benzin - diesel - hybrid'!#REF!*'Benzin - diesel - hybrid'!E$14*'Benzin - diesel - hybrid'!#REF!/10+'Benzin - diesel - hybrid'!#REF!*365)","v":{"$error":"#REF!"}},{"$f":"'Benzin - diesel - hybrid'!G$11*H124*IF('Benzin - diesel - hybrid'!G$31=\"nej\",\"\",IF('Benzin - diesel - hybrid'!#REF!=\"ja\",VLOOKUP('Benzin - diesel - hybrid'!G$46+($C124-1),Fremskrivninger!$A$9:$L$38,12),'Benzin - diesel - hybrid'!#REF!))/1000","v":{"$error":"#REF!"}},{"$f":"('Benzin - diesel - hybrid'!#REF!*'Benzin - diesel - hybrid'!G$14*'Benzin - diesel - hybrid'!#REF!/10+'Benzin - diesel - hybrid'!#REF!*365)","v":{"$error":"#REF!"}},{"$f":"'Benzin - diesel - hybrid'!I$11*J124*IF('Benzin - diesel - hybrid'!I$31=\"nej\",\"\",IF('Benzin - diesel - hybrid'!#REF!=\"ja\",VLOOKUP('Benzin - diesel - hybrid'!I$46+($C124-1),Fremskrivninger!$A$9:$L$38,12),'Benzin - diesel - hybrid'!#REF!))/1000","v":{"$error":"#REF!"}},{"$f":"('Benzin - diesel - hybrid'!#REF!*'Benzin - diesel - hybrid'!I$14*'Benzin - diesel - hybrid'!#REF!/10+'Benzin - diesel - hybrid'!#REF!*365)","v":{"$error":"#REF!"}},{"$f":"'Benzin - diesel - hybrid'!K$11*L124*IF('Benzin - diesel - hybrid'!K$31=\"nej\",\"\",IF('Benzin - diesel - hybrid'!#REF!=\"ja\",VLOOKUP('Benzin - diesel - hybrid'!K$46+($C124-1),Fremskrivninger!$A$9:$L$38,12),'Benzin - diesel - hybrid'!#REF!))/1000","v":{"$error":"#REF!"}},{"$f":"('Benzin - diesel - hybrid'!#REF!*'Benzin - diesel - hybrid'!K$14*'Benzin - diesel - hybrid'!#REF!/10+'Benzin - diesel - hybrid'!#REF!*365)","v":{"$error":"#REF!"}},{"$f":"'Benzin - diesel - hybrid'!M$11*N124*IF('Benzin - diesel - hybrid'!M$31=\"nej\",\"\",IF('Benzin - diesel - hybrid'!#REF!=\"ja\",VLOOKUP('Benzin - diesel - hybrid'!M$46+($C124-1),Fremskrivninger!$A$9:$L$38,12),'Benzin - diesel - hybrid'!#REF!))/1000","v":{"$error":"#REF!"}},{"$f":"('Benzin - diesel - hybrid'!#REF!*'Benzin - diesel - hybrid'!M$14*'Benzin - diesel - hybrid'!#REF!/10+'Benzin - diesel - hybrid'!#REF!*365)","v":{"$error":"#REF!"}},{"$f":"'Benzin - diesel - hybrid'!O$11*P124*IF('Benzin - diesel - hybrid'!O$31=\"nej\",\"\",IF('Benzin - diesel - hybrid'!#REF!=\"ja\",VLOOKUP('Benzin - diesel - hybrid'!O$46+($C124-1),Fremskrivninger!$A$9:$L$38,12),'Benzin - diesel - hybrid'!#REF!))/1000","v":{"$error":"#REF!"}},{"$f":"('Benzin - diesel - hybrid'!#REF!*'Benzin - diesel - hybrid'!O$14*'Benzin - diesel - hybrid'!#REF!/10+'Benzin - diesel - hybrid'!#REF!*365)","v":{"$error":"#REF!"}},{"$f":"'Benzin - diesel - hybrid'!Q$11*R124*IF('Benzin - diesel - hybrid'!Q$31=\"nej\",\"\",IF('Benzin - diesel - hybrid'!#REF!=\"ja\",VLOOKUP('Benzin - diesel - hybrid'!Q$46+($C124-1),Fremskrivninger!$A$9:$L$38,12),'Benzin - diesel - hybrid'!#REF!))/1000","v":{"$error":"#REF!"}},{"$f":"('Benzin - diesel - hybrid'!#REF!*'Benzin - diesel - hybrid'!Q$14*'Benzin - diesel - hybrid'!#REF!/10+'Benzin - diesel - hybrid'!#REF!*365)","v":{"$error":"#REF!"}},{"$f":"'Benzin - diesel - hybrid'!S$11*T124*IF('Benzin - diesel - hybrid'!S$31=\"nej\",\"\",IF('Benzin - diesel - hybrid'!#REF!=\"ja\",VLOOKUP('Benzin - diesel - hybrid'!S$46+($C124-1),Fremskrivninger!$A$9:$L$38,12),'Benzin - diesel - hybrid'!#REF!))/1000","v":{"$error":"#REF!"}},{"$f":"('Benzin - diesel - hybrid'!#REF!*'Benzin - diesel - hybrid'!S$14*'Benzin - diesel - hybrid'!#REF!/10+'Benzin - diesel - hybrid'!#REF!*365)","v":{"$error":"#REF!"}},{"$f":"'Benzin - diesel - hybrid'!Y$11*V124*IF('Benzin - diesel - hybrid'!Y$31=\"nej\",\"\",IF('Benzin - diesel - hybrid'!#REF!=\"ja\",VLOOKUP('Benzin - diesel - hybrid'!Y$46+($C124-1),Fremskrivninger!$A$9:$L$38,12),'Benzin - diesel - hybrid'!#REF!))/1000","v":{"$error":"#REF!"}},{"$f":"('Benzin - diesel - hybrid'!#REF!*'Benzin - diesel - hybrid'!Y$14*'Benzin - diesel - hybrid'!#REF!/10+'Benzin - diesel - hybrid'!#REF!*365)","v":{"$error":"#REF!"}},{"$f":"'Benzin - diesel - hybrid'!AA$11*X124*IF('Benzin - diesel - hybrid'!AA$31=\"nej\",\"\",IF('Benzin - diesel - hybrid'!#REF!=\"ja\",VLOOKUP('Benzin - diesel - hybrid'!AA$46+($C124-1),Fremskrivninger!$A$9:$L$38,12),'Benzin - diesel - hybrid'!#REF!))/1000","v":{"$error":"#REF!"}},{"$f":"('Benzin - diesel - hybrid'!#REF!*'Benzin - diesel - hybrid'!AA$14*'Benzin - diesel - hybrid'!#REF!/10+'Benzin - diesel - hybrid'!#REF!*365)","v":{"$error":"#REF!"}}]
[null,7,7,null,{"$f":"'Benzin - diesel - hybrid'!E$11*F125*IF('Benzin - diesel - hybrid'!E$31=\"nej\",\"\",IF('Benzin - diesel - hybrid'!#REF!=\"ja\",VLOOKUP('Benzin - diesel - hybrid'!E$46+($C125-1),Fremskrivninger!$A$9:$L$38,12),'Benzin - diesel - hybrid'!#REF!))/1000","v":{"$error":"#REF!"}},{"$f":"('Benzin - diesel - hybrid'!#REF!*'Benzin - diesel - hybrid'!E$14*'Benzin - diesel - hybrid'!#REF!/10+'Benzin - diesel - hybrid'!#REF!*365)","v":{"$error":"#REF!"}},{"$f":"'Benzin - diesel - hybrid'!G$11*H125*IF('Benzin - diesel - hybrid'!G$31=\"nej\",\"\",IF('Benzin - diesel - hybrid'!#REF!=\"ja\",VLOOKUP('Benzin - diesel - hybrid'!G$46+($C125-1),Fremskrivninger!$A$9:$L$38,12),'Benzin - diesel - hybrid'!#REF!))/1000","v":{"$error":"#REF!"}},{"$f":"('Benzin - diesel - hybrid'!#REF!*'Benzin - diesel - hybrid'!G$14*'Benzin - diesel - hybrid'!#REF!/10+'Benzin - diesel - hybrid'!#REF!*365)","v":{"$error":"#REF!"}},{"$f":"'Benzin - diesel - hybrid'!I$11*J125*IF('Benzin - diesel - hybrid'!I$31=\"nej\",\"\",IF('Benzin - diesel - hybrid'!#REF!=\"ja\",VLOOKUP('Benzin - diesel - hybrid'!I$46+($C125-1),Fremskrivninger!$A$9:$L$38,12),'Benzin - diesel - hybrid'!#REF!))/1000","v":{"$error":"#REF!"}},{"$f":"('Benzin - diesel - hybrid'!#REF!*'Benzin - diesel - hybrid'!I$14*'Benzin - diesel - hybrid'!#REF!/10+'Benzin - diesel - hybrid'!#REF!*365)","v":{"$error":"#REF!"}},{"$f":"'Benzin - diesel - hybrid'!K$11*L125*IF('Benzin - diesel - hybrid'!K$31=\"nej\",\"\",IF('Benzin - diesel - hybrid'!#REF!=\"ja\",VLOOKUP('Benzin - diesel - hybrid'!K$46+($C125-1),Fremskrivninger!$A$9:$L$38,12),'Benzin - diesel - hybrid'!#REF!))/1000","v":{"$error":"#REF!"}},{"$f":"('Benzin - diesel - hybrid'!#REF!*'Benzin - diesel - hybrid'!K$14*'Benzin - diesel - hybrid'!#REF!/10+'Benzin - diesel - hybrid'!#REF!*365)","v":{"$error":"#REF!"}},{"$f":"'Benzin - diesel - hybrid'!M$11*N125*IF('Benzin - diesel - hybrid'!M$31=\"nej\",\"\",IF('Benzin - diesel - hybrid'!#REF!=\"ja\",VLOOKUP('Benzin - diesel - hybrid'!M$46+($C125-1),Fremskrivninger!$A$9:$L$38,12),'Benzin - diesel - hybrid'!#REF!))/1000","v":{"$error":"#REF!"}},{"$f":"('Benzin - diesel - hybrid'!#REF!*'Benzin - diesel - hybrid'!M$14*'Benzin - diesel - hybrid'!#REF!/10+'Benzin - diesel - hybrid'!#REF!*365)","v":{"$error":"#REF!"}},{"$f":"'Benzin - diesel - hybrid'!O$11*P125*IF('Benzin - diesel - hybrid'!O$31=\"nej\",\"\",IF('Benzin - diesel - hybrid'!#REF!=\"ja\",VLOOKUP('Benzin - diesel - hybrid'!O$46+($C125-1),Fremskrivninger!$A$9:$L$38,12),'Benzin - diesel - hybrid'!#REF!))/1000","v":{"$error":"#REF!"}},{"$f":"('Benzin - diesel - hybrid'!#REF!*'Benzin - diesel - hybrid'!O$14*'Benzin - diesel - hybrid'!#REF!/10+'Benzin - diesel - hybrid'!#REF!*365)","v":{"$error":"#REF!"}},{"$f":"'Benzin - diesel - hybrid'!Q$11*R125*IF('Benzin - diesel - hybrid'!Q$31=\"nej\",\"\",IF('Benzin - diesel - hybrid'!#REF!=\"ja\",VLOOKUP('Benzin - diesel - hybrid'!Q$46+($C125-1),Fremskrivninger!$A$9:$L$38,12),'Benzin - diesel - hybrid'!#REF!))/1000","v":{"$error":"#REF!"}},{"$f":"('Benzin - diesel - hybrid'!#REF!*'Benzin - diesel - hybrid'!Q$14*'Benzin - diesel - hybrid'!#REF!/10+'Benzin - diesel - hybrid'!#REF!*365)","v":{"$error":"#REF!"}},{"$f":"'Benzin - diesel - hybrid'!S$11*T125*IF('Benzin - diesel - hybrid'!S$31=\"nej\",\"\",IF('Benzin - diesel - hybrid'!#REF!=\"ja\",VLOOKUP('Benzin - diesel - hybrid'!S$46+($C125-1),Fremskrivninger!$A$9:$L$38,12),'Benzin - diesel - hybrid'!#REF!))/1000","v":{"$error":"#REF!"}},{"$f":"('Benzin - diesel - hybrid'!#REF!*'Benzin - diesel - hybrid'!S$14*'Benzin - diesel - hybrid'!#REF!/10+'Benzin - diesel - hybrid'!#REF!*365)","v":{"$error":"#REF!"}},{"$f":"'Benzin - diesel - hybrid'!Y$11*V125*IF('Benzin - diesel - hybrid'!Y$31=\"nej\",\"\",IF('Benzin - diesel - hybrid'!#REF!=\"ja\",VLOOKUP('Benzin - diesel - hybrid'!Y$46+($C125-1),Fremskrivninger!$A$9:$L$38,12),'Benzin - diesel - hybrid'!#REF!))/1000","v":{"$error":"#REF!"}},{"$f":"('Benzin - diesel - hybrid'!#REF!*'Benzin - diesel - hybrid'!Y$14*'Benzin - diesel - hybrid'!#REF!/10+'Benzin - diesel - hybrid'!#REF!*365)","v":{"$error":"#REF!"}},{"$f":"'Benzin - diesel - hybrid'!AA$11*X125*IF('Benzin - diesel - hybrid'!AA$31=\"nej\",\"\",IF('Benzin - diesel - hybrid'!#REF!=\"ja\",VLOOKUP('Benzin - diesel - hybrid'!AA$46+($C125-1),Fremskrivninger!$A$9:$L$38,12),'Benzin - diesel - hybrid'!#REF!))/1000","v":{"$error":"#REF!"}},{"$f":"('Benzin - diesel - hybrid'!#REF!*'Benzin - diesel - hybrid'!AA$14*'Benzin - diesel - hybrid'!#REF!/10+'Benzin - diesel - hybrid'!#REF!*365)","v":{"$error":"#REF!"}}]
[null,8,8,null,{"$f":"'Benzin - diesel - hybrid'!E$11*F126*IF('Benzin - diesel - hybrid'!E$31=\"nej\",\"\",IF('Benzin - diesel - hybrid'!#REF!=\"ja\",VLOOKUP('Benzin - diesel - hybrid'!E$46+($C126-1),Fremskrivninger!$A$9:$L$38,12),'Benzin - diesel - hybrid'!#REF!))/1000","v":{"$error":"#REF!"}},{"$f":"('Benzin - diesel - hybrid'!#REF!*'Benzin - diesel - hybrid'!E$14*'Benzin - diesel - hybrid'!#REF!/10+'Benzin - diesel - hybrid'!#REF!*365)","v":{"$error":"#REF!"}},{"$f":"'Benzin - diesel - hybrid'!G$11*H126*IF('Benzin - diesel - hybrid'!G$31=\"nej\",\"\",IF('Benzin - diesel - hybrid'!#REF!=\"ja\",VLOOKUP('Benzin - diesel - hybrid'!G$46+($C126-1),Fremskrivninger!$A$9:$L$38,12),'Benzin - diesel - hybrid'!#REF!))/1000","v":{"$error":"#REF!"}},{"$f":"('Benzin - diesel - hybrid'!#REF!*'Benzin - diesel - hybrid'!G$14*'Benzin - diesel - hybrid'!#REF!/10+'Benzin - diesel - hybrid'!#REF!*365)","v":{"$error":"#REF!"}},{"$f":"'Benzin - diesel - hybrid'!I$11*J126*IF('Benzin - diesel - hybrid'!I$31=\"nej\",\"\",IF('Benzin - diesel - hybrid'!#REF!=\"ja\",VLOOKUP('Benzin - diesel - hybrid'!I$46+($C126-1),Fremskrivninger!$A$9:$L$38,12),'Benzin - diesel - hybrid'!#REF!))/1000","v":{"$error":"#REF!"}},{"$f":"('Benzin - diesel - hybrid'!#REF!*'Benzin - diesel - hybrid'!I$14*'Benzin - diesel - hybrid'!#REF!/10+'Benzin - diesel - hybrid'!#REF!*365)","v":{"$error":"#REF!"}},{"$f":"'Benzin - diesel - hybrid'!K$11*L126*IF('Benzin - diesel - hybrid'!K$31=\"nej\",\"\",IF('Benzin - diesel - hybrid'!#REF!=\"ja\",VLOOKUP('Benzin - diesel - hybrid'!K$46+($C126-1),Fremskrivninger!$A$9:$L$38,12),'Benzin - diesel - hybrid'!#REF!))/1000","v":{"$error":"#REF!"}},{"$f":"('Benzin - diesel - hybrid'!#REF!*'Benzin - diesel - hybrid'!K$14*'Benzin - diesel - hybrid'!#REF!/10+'Benzin - diesel - hybrid'!#REF!*365)","v":{"$error":"#REF!"}},{"$f":"'Benzin - diesel - hybrid'!M$11*N126*IF('Benzin - diesel - hybrid'!M$31=\"nej\",\"\",IF('Benzin - diesel - hybrid'!#REF!=\"ja\",VLOOKUP('Benzin - diesel - hybrid'!M$46+($C126-1),Fremskrivninger!$A$9:$L$38,12),'Benzin - diesel - hybrid'!#REF!))/1000","v":{"$error":"#REF!"}},{"$f":"('Benzin - diesel - hybrid'!#REF!*'Benzin - diesel - hybrid'!M$14*'Benzin - diesel - hybrid'!#REF!/10+'Benzin - diesel - hybrid'!#REF!*365)","v":{"$error":"#REF!"}},{"$f":"'Benzin - diesel - hybrid'!O$11*P126*IF('Benzin - diesel - hybrid'!O$31=\"nej\",\"\",IF('Benzin - diesel - hybrid'!#REF!=\"ja\",VLOOKUP('Benzin - diesel - hybrid'!O$46+($C126-1),Fremskrivninger!$A$9:$L$38,12),'Benzin - diesel - hybrid'!#REF!))/1000","v":{"$error":"#REF!"}},{"$f":"('Benzin - diesel - hybrid'!#REF!*'Benzin - diesel - hybrid'!O$14*'Benzin - diesel - hybrid'!#REF!/10+'Benzin - diesel - hybrid'!#REF!*365)","v":{"$error":"#REF!"}},{"$f":"'Benzin - diesel - hybrid'!Q$11*R126*IF('Benzin - diesel - hybrid'!Q$31=\"nej\",\"\",IF('Benzin - diesel - hybrid'!#REF!=\"ja\",VLOOKUP('Benzin - diesel - hybrid'!Q$46+($C126-1),Fremskrivninger!$A$9:$L$38,12),'Benzin - diesel - hybrid'!#REF!))/1000","v":{"$error":"#REF!"}},{"$f":"('Benzin - diesel - hybrid'!#REF!*'Benzin - diesel - hybrid'!Q$14*'Benzin - diesel - hybrid'!#REF!/10+'Benzin - diesel - hybrid'!#REF!*365)","v":{"$error":"#REF!"}},{"$f":"'Benzin - diesel - hybrid'!S$11*T126*IF('Benzin - diesel - hybrid'!S$31=\"nej\",\"\",IF('Benzin - diesel - hybrid'!#REF!=\"ja\",VLOOKUP('Benzin - diesel - hybrid'!S$46+($C126-1),Fremskrivninger!$A$9:$L$38,12),'Benzin - diesel - hybrid'!#REF!))/1000","v":{"$error":"#REF!"}},{"$f":"('Benzin - diesel - hybrid'!#REF!*'Benzin - diesel - hybrid'!S$14*'Benzin - diesel - hybrid'!#REF!/10+'Benzin - diesel - hybrid'!#REF!*365)","v":{"$error":"#REF!"}},{"$f":"'Benzin - diesel - hybrid'!Y$11*V126*IF('Benzin - diesel - hybrid'!Y$31=\"nej\",\"\",IF('Benzin - diesel - hybrid'!#REF!=\"ja\",VLOOKUP('Benzin - diesel - hybrid'!Y$46+($C126-1),Fremskrivninger!$A$9:$L$38,12),'Benzin - diesel - hybrid'!#REF!))/1000","v":{"$error":"#REF!"}},{"$f":"('Benzin - diesel - hybrid'!#REF!*'Benzin - diesel - hybrid'!Y$14*'Benzin - diesel - hybrid'!#REF!/10+'Benzin - diesel - hybrid'!#REF!*365)","v":{"$error":"#REF!"}},{"$f":"'Benzin - diesel - hybrid'!AA$11*X126*IF('Benzin - diesel - hybrid'!AA$31=\"nej\",\"\",IF('Benzin - diesel - hybrid'!#REF!=\"ja\",VLOOKUP('Benzin - diesel - hybrid'!AA$46+($C126-1),Fremskrivninger!$A$9:$L$38,12),'Benzin - diesel - hybrid'!#REF!))/1000","v":{"$error":"#REF!"}},{"$f":"('Benzin - diesel - hybrid'!#REF!*'Benzin - diesel - hybrid'!AA$14*'Benzin - diesel - hybrid'!#REF!/10+'Benzin - diesel - hybrid'!#REF!*365)","v":{"$error":"#REF!"}}]
[null,9,9,null,{"$f":"'Benzin - diesel - hybrid'!E$11*F127*IF('Benzin - diesel - hybrid'!E$31=\"nej\",\"\",IF('Benzin - diesel - hybrid'!#REF!=\"ja\",VLOOKUP('Benzin - diesel - hybrid'!E$46+($C127-1),Fremskrivninger!$A$9:$L$38,12),'Benzin - diesel - hybrid'!#REF!))/1000","v":{"$error":"#REF!"}},{"$f":"('Benzin - diesel - hybrid'!#REF!*'Benzin - diesel - hybrid'!E$14*'Benzin - diesel - hybrid'!#REF!/10+'Benzin - diesel - hybrid'!#REF!*365)","v":{"$error":"#REF!"}},{"$f":"'Benzin - diesel - hybrid'!G$11*H127*IF('Benzin - diesel - hybrid'!G$31=\"nej\",\"\",IF('Benzin - diesel - hybrid'!#REF!=\"ja\",VLOOKUP('Benzin - diesel - hybrid'!G$46+($C127-1),Fremskrivninger!$A$9:$L$38,12),'Benzin - diesel - hybrid'!#REF!))/1000","v":{"$error":"#REF!"}},{"$f":"('Benzin - diesel - hybrid'!#REF!*'Benzin - diesel - hybrid'!G$14*'Benzin - diesel - hybrid'!#REF!/10+'Benzin - diesel - hybrid'!#REF!*365)","v":{"$error":"#REF!"}},{"$f":"'Benzin - diesel - hybrid'!I$11*J127*IF('Benzin - diesel - hybrid'!I$31=\"nej\",\"\",IF('Benzin - diesel - hybrid'!#REF!=\"ja\",VLOOKUP('Benzin - diesel - hybrid'!I$46+($C127-1),Fremskrivninger!$A$9:$L$38,12),'Benzin - diesel - hybrid'!#REF!))/1000","v":{"$error":"#REF!"}},{"$f":"('Benzin - diesel - hybrid'!#REF!*'Benzin - diesel - hybrid'!I$14*'Benzin - diesel - hybrid'!#REF!/10+'Benzin - diesel - hybrid'!#REF!*365)","v":{"$error":"#REF!"}},{"$f":"'Benzin - diesel - hybrid'!K$11*L127*IF('Benzin - diesel - hybrid'!K$31=\"nej\",\"\",IF('Benzin - diesel - hybrid'!#REF!=\"ja\",VLOOKUP('Benzin - diesel - hybrid'!K$46+($C127-1),Fremskrivninger!$A$9:$L$38,12),'Benzin - diesel - hybrid'!#REF!))/1000","v":{"$error":"#REF!"}},{"$f":"('Benzin - diesel - hybrid'!#REF!*'Benzin - diesel - hybrid'!K$14*'Benzin - diesel - hybrid'!#REF!/10+'Benzin - diesel - hybrid'!#REF!*365)","v":{"$error":"#REF!"}},{"$f":"'Benzin - diesel - hybrid'!M$11*N127*IF('Benzin - diesel - hybrid'!M$31=\"nej\",\"\",IF('Benzin - diesel - hybrid'!#REF!=\"ja\",VLOOKUP('Benzin - diesel - hybrid'!M$46+($C127-1),Fremskrivninger!$A$9:$L$38,12),'Benzin - diesel - hybrid'!#REF!))/1000","v":{"$error":"#REF!"}},{"$f":"('Benzin - diesel - hybrid'!#REF!*'Benzin - diesel - hybrid'!M$14*'Benzin - diesel - hybrid'!#REF!/10+'Benzin - diesel - hybrid'!#REF!*365)","v":{"$error":"#REF!"}},{"$f":"'Benzin - diesel - hybrid'!O$11*P127*IF('Benzin - diesel - hybrid'!O$31=\"nej\",\"\",IF('Benzin - diesel - hybrid'!#REF!=\"ja\",VLOOKUP('Benzin - diesel - hybrid'!O$46+($C127-1),Fremskrivninger!$A$9:$L$38,12),'Benzin - diesel - hybrid'!#REF!))/1000","v":{"$error":"#REF!"}},{"$f":"('Benzin - diesel - hybrid'!#REF!*'Benzin - diesel - hybrid'!O$14*'Benzin - diesel - hybrid'!#REF!/10+'Benzin - diesel - hybrid'!#REF!*365)","v":{"$error":"#REF!"}},{"$f":"'Benzin - diesel - hybrid'!Q$11*R127*IF('Benzin - diesel - hybrid'!Q$31=\"nej\",\"\",IF('Benzin - diesel - hybrid'!#REF!=\"ja\",VLOOKUP('Benzin - diesel - hybrid'!Q$46+($C127-1),Fremskrivninger!$A$9:$L$38,12),'Benzin - diesel - hybrid'!#REF!))/1000","v":{"$error":"#REF!"}},{"$f":"('Benzin - diesel - hybrid'!#REF!*'Benzin - diesel - hybrid'!Q$14*'Benzin - diesel - hybrid'!#REF!/10+'Benzin - diesel - hybrid'!#REF!*365)","v":{"$error":"#REF!"}},{"$f":"'Benzin - diesel - hybrid'!S$11*T127*IF('Benzin - diesel - hybrid'!S$31=\"nej\",\"\",IF('Benzin - diesel - hybrid'!#REF!=\"ja\",VLOOKUP('Benzin - diesel - hybrid'!S$46+($C127-1),Fremskrivninger!$A$9:$L$38,12),'Benzin - diesel - hybrid'!#REF!))/1000","v":{"$error":"#REF!"}},{"$f":"('Benzin - diesel - hybrid'!#REF!*'Benzin - diesel - hybrid'!S$14*'Benzin - diesel - hybrid'!#REF!/10+'Benzin - diesel - hybrid'!#REF!*365)","v":{"$error":"#REF!"}},{"$f":"'Benzin - diesel - hybrid'!Y$11*V127*IF('Benzin - diesel - hybrid'!Y$31=\"nej\",\"\",IF('Benzin - diesel - hybrid'!#REF!=\"ja\",VLOOKUP('Benzin - diesel - hybrid'!Y$46+($C127-1),Fremskrivninger!$A$9:$L$38,12),'Benzin - diesel - hybrid'!#REF!))/1000","v":{"$error":"#REF!"}},{"$f":"('Benzin - diesel - hybrid'!#REF!*'Benzin - diesel - hybrid'!Y$14*'Benzin - diesel - hybrid'!#REF!/10+'Benzin - diesel - hybrid'!#REF!*365)","v":{"$error":"#REF!"}},{"$f":"'Benzin - diesel - hybrid'!AA$11*X127*IF('Benzin - diesel - hybrid'!AA$31=\"nej\",\"\",IF('Benzin - diesel - hybrid'!#REF!=\"ja\",VLOOKUP('Benzin - diesel - hybrid'!AA$46+($C127-1),Fremskrivninger!$A$9:$L$38,12),'Benzin - diesel - hybrid'!#REF!))/1000","v":{"$error":"#REF!"}},{"$f":"('Benzin - diesel - hybrid'!#REF!*'Benzin - diesel - hybrid'!AA$14*'Benzin - diesel - hybrid'!#REF!/10+'Benzin - diesel - hybrid'!#REF!*365)","v":{"$error":"#REF!"}}]
[null,10,10,null,{"$f":"'Benzin - diesel - hybrid'!E$11*F128*IF('Benzin - diesel - hybrid'!E$31=\"nej\",\"\",IF('Benzin - diesel - hybrid'!#REF!=\"ja\",VLOOKUP('Benzin - diesel - hybrid'!E$46+($C128-1),Fremskrivninger!$A$9:$L$38,12),'Benzin - diesel - hybrid'!#REF!))/1000","v":{"$error":"#REF!"}},{"$f":"('Benzin - diesel - hybrid'!#REF!*'Benzin - diesel - hybrid'!E$14*'Benzin - diesel - hybrid'!#REF!/10+'Benzin - diesel - hybrid'!#REF!*365)","v":{"$error":"#REF!"}},{"$f":"'Benzin - diesel - hybrid'!G$11*H128*IF('Benzin - diesel - hybrid'!G$31=\"nej\",\"\",IF('Benzin - diesel - hybrid'!#REF!=\"ja\",VLOOKUP('Benzin - diesel - hybrid'!G$46+($C128-1),Fremskrivninger!$A$9:$L$38,12),'Benzin - diesel - hybrid'!#REF!))/1000","v":{"$error":"#REF!"}},{"$f":"('Benzin - diesel - hybrid'!#REF!*'Benzin - diesel - hybrid'!G$14*'Benzin - diesel - hybrid'!#REF!/10+'Benzin - diesel - hybrid'!#REF!*365)","v":{"$error":"#REF!"}},{"$f":"'Benzin - diesel - hybrid'!I$11*J128*IF('Benzin - diesel - hybrid'!I$31=\"nej\",\"\",IF('Benzin - diesel - hybrid'!#REF!=\"ja\",VLOOKUP('Benzin - diesel - hybrid'!I$46+($C128-1),Fremskrivninger!$A$9:$L$38,12),'Benzin - diesel - hybrid'!#REF!))/1000","v":{"$error":"#REF!"}},{"$f":"('Benzin - diesel - hybrid'!#REF!*'Benzin - diesel - hybrid'!I$14*'Benzin - diesel - hybrid'!#REF!/10+'Benzin - diesel - hybrid'!#REF!*365)","v":{"$error":"#REF!"}},{"$f":"'Benzin - diesel - hybrid'!K$11*L128*IF('Benzin - diesel - hybrid'!K$31=\"nej\",\"\",IF('Benzin - diesel - hybrid'!#REF!=\"ja\",VLOOKUP('Benzin - diesel - hybrid'!K$46+($C128-1),Fremskrivninger!$A$9:$L$38,12),'Benzin - diesel - hybrid'!#REF!))/1000","v":{"$error":"#REF!"}},{"$f":"('Benzin - diesel - hybrid'!#REF!*'Benzin - diesel - hybrid'!K$14*'Benzin - diesel - hybrid'!#REF!/10+'Benzin - diesel - hybrid'!#REF!*365)","v":{"$error":"#REF!"}},{"$f":"'Benzin - diesel - hybrid'!M$11*N128*IF('Benzin - diesel - hybrid'!M$31=\"nej\",\"\",IF('Benzin - diesel - hybrid'!#REF!=\"ja\",VLOOKUP('Benzin - diesel - hybrid'!M$46+($C128-1),Fremskrivninger!$A$9:$L$38,12),'Benzin - diesel - hybrid'!#REF!))/1000","v":{"$error":"#REF!"}},{"$f":"('Benzin - diesel - hybrid'!#REF!*'Benzin - diesel - hybrid'!M$14*'Benzin - diesel - hybrid'!#REF!/10+'Benzin - diesel - hybrid'!#REF!*365)","v":{"$error":"#REF!"}},{"$f":"'Benzin - diesel - hybrid'!O$11*P128*IF('Benzin - diesel - hybrid'!O$31=\"nej\",\"\",IF('Benzin - diesel - hybrid'!#REF!=\"ja\",VLOOKUP('Benzin - diesel - hybrid'!O$46+($C128-1),Fremskrivninger!$A$9:$L$38,12),'Benzin - diesel - hybrid'!#REF!))/1000","v":{"$error":"#REF!"}},{"$f":"('Benzin - diesel - hybrid'!#REF!*'Benzin - diesel - hybrid'!O$14*'Benzin - diesel - hybrid'!#REF!/10+'Benzin - diesel - hybrid'!#REF!*365)","v":{"$error":"#REF!"}},{"$f":"'Benzin - diesel - hybrid'!Q$11*R128*IF('Benzin - diesel - hybrid'!Q$31=\"nej\",\"\",IF('Benzin - diesel - hybrid'!#REF!=\"ja\",VLOOKUP('Benzin - diesel - hybrid'!Q$46+($C128-1),Fremskrivninger!$A$9:$L$38,12),'Benzin - diesel - hybrid'!#REF!))/1000","v":{"$error":"#REF!"}},{"$f":"('Benzin - diesel - hybrid'!#REF!*'Benzin - diesel - hybrid'!Q$14*'Benzin - diesel - hybrid'!#REF!/10+'Benzin - diesel - hybrid'!#REF!*365)","v":{"$error":"#REF!"}},{"$f":"'Benzin - diesel - hybrid'!S$11*T128*IF('Benzin - diesel - hybrid'!S$31=\"nej\",\"\",IF('Benzin - diesel - hybrid'!#REF!=\"ja\",VLOOKUP('Benzin - diesel - hybrid'!S$46+($C128-1),Fremskrivninger!$A$9:$L$38,12),'Benzin - diesel - hybrid'!#REF!))/1000","v":{"$error":"#REF!"}},{"$f":"('Benzin - diesel - hybrid'!#REF!*'Benzin - diesel - hybrid'!S$14*'Benzin - diesel - hybrid'!#REF!/10+'Benzin - diesel - hybrid'!#REF!*365)","v":{"$error":"#REF!"}},{"$f":"'Benzin - diesel - hybrid'!Y$11*V128*IF('Benzin - diesel - hybrid'!Y$31=\"nej\",\"\",IF('Benzin - diesel - hybrid'!#REF!=\"ja\",VLOOKUP('Benzin - diesel - hybrid'!Y$46+($C128-1),Fremskrivninger!$A$9:$L$38,12),'Benzin - diesel - hybrid'!#REF!))/1000","v":{"$error":"#REF!"}},{"$f":"('Benzin - diesel - hybrid'!#REF!*'Benzin - diesel - hybrid'!Y$14*'Benzin - diesel - hybrid'!#REF!/10+'Benzin - diesel - hybrid'!#REF!*365)","v":{"$error":"#REF!"}},{"$f":"'Benzin - diesel - hybrid'!AA$11*X128*IF('Benzin - diesel - hybrid'!AA$31=\"nej\",\"\",IF('Benzin - diesel - hybrid'!#REF!=\"ja\",VLOOKUP('Benzin - diesel - hybrid'!AA$46+($C128-1),Fremskrivninger!$A$9:$L$38,12),'Benzin - diesel - hybrid'!#REF!))/1000","v":{"$error":"#REF!"}},{"$f":"('Benzin - diesel - hybrid'!#REF!*'Benzin - diesel - hybrid'!AA$14*'Benzin - diesel - hybrid'!#REF!/10+'Benzin - diesel - hybrid'!#REF!*365)","v":{"$error":"#REF!"}}]
[null,11,11,null,{"$f":"'Benzin - diesel - hybrid'!E$11*F129*IF('Benzin - diesel - hybrid'!E$31=\"nej\",\"\",IF('Benzin - diesel - hybrid'!#REF!=\"ja\",VLOOKUP('Benzin - diesel - hybrid'!E$46+($C129-1),Fremskrivninger!$A$9:$L$38,12),'Benzin - diesel - hybrid'!#REF!))/1000","v":{"$error":"#REF!"}},{"$f":"('Benzin - diesel - hybrid'!#REF!*'Benzin - diesel - hybrid'!E$14*'Benzin - diesel - hybrid'!#REF!/10+'Benzin - diesel - hybrid'!#REF!*365)","v":{"$error":"#REF!"}},{"$f":"'Benzin - diesel - hybrid'!G$11*H129*IF('Benzin - diesel - hybrid'!G$31=\"nej\",\"\",IF('Benzin - diesel - hybrid'!#REF!=\"ja\",VLOOKUP('Benzin - diesel - hybrid'!G$46+($C129-1),Fremskrivninger!$A$9:$L$38,12),'Benzin - diesel - hybrid'!#REF!))/1000","v":{"$error":"#REF!"}},{"$f":"('Benzin - diesel - hybrid'!#REF!*'Benzin - diesel - hybrid'!G$14*'Benzin - diesel - hybrid'!#REF!/10+'Benzin - diesel - hybrid'!#REF!*365)","v":{"$error":"#REF!"}},{"$f":"'Benzin - diesel - hybrid'!I$11*J129*IF('Benzin - diesel - hybrid'!I$31=\"nej\",\"\",IF('Benzin - diesel - hybrid'!#REF!=\"ja\",VLOOKUP('Benzin - diesel - hybrid'!I$46+($C129-1),Fremskrivninger!$A$9:$L$38,12),'Benzin - diesel - hybrid'!#REF!))/1000","v":{"$error":"#REF!"}},{"$f":"('Benzin - diesel - hybrid'!#REF!*'Benzin - diesel - hybrid'!I$14*'Benzin - diesel - hybrid'!#REF!/10+'Benzin - diesel - hybrid'!#REF!*365)","v":{"$error":"#REF!"}},{"$f":"'Benzin - diesel - hybrid'!K$11*L129*IF('Benzin - diesel - hybrid'!K$31=\"nej\",\"\",IF('Benzin - diesel - hybrid'!#REF!=\"ja\",VLOOKUP('Benzin - diesel - hybrid'!K$46+($C129-1),Fremskrivninger!$A$9:$L$38,12),'Benzin - diesel - hybrid'!#REF!))/1000","v":{"$error":"#REF!"}},{"$f":"('Benzin - diesel - hybrid'!#REF!*'Benzin - diesel - hybrid'!K$14*'Benzin - diesel - hybrid'!#REF!/10+'Benzin - diesel - hybrid'!#REF!*365)","v":{"$error":"#REF!"}},{"$f":"'Benzin - diesel - hybrid'!M$11*N129*IF('Benzin - diesel - hybrid'!M$31=\"nej\",\"\",IF('Benzin - diesel - hybrid'!#REF!=\"ja\",VLOOKUP('Benzin - diesel - hybrid'!M$46+($C129-1),Fremskrivninger!$A$9:$L$38,12),'Benzin - diesel - hybrid'!#REF!))/1000","v":{"$error":"#REF!"}},{"$f":"('Benzin - diesel - hybrid'!#REF!*'Benzin - diesel - hybrid'!M$14*'Benzin - diesel - hybrid'!#REF!/10+'Benzin - diesel - hybrid'!#REF!*365)","v":{"$error":"#REF!"}},{"$f":"'Benzin - diesel - hybrid'!O$11*P129*IF('Benzin - diesel - hybrid'!O$31=\"nej\",\"\",IF('Benzin - diesel - hybrid'!#REF!=\"ja\",VLOOKUP('Benzin - diesel - hybrid'!O$46+($C129-1),Fremskrivninger!$A$9:$L$38,12),'Benzin - diesel - hybrid'!#REF!))/1000","v":{"$error":"#REF!"}},{"$f":"('Benzin - diesel - hybrid'!#REF!*'Benzin - diesel - hybrid'!O$14*'Benzin - diesel - hybrid'!#REF!/10+'Benzin - diesel - hybrid'!#REF!*365)","v":{"$error":"#REF!"}},{"$f":"'Benzin - diesel - hybrid'!Q$11*R129*IF('Benzin - diesel - hybrid'!Q$31=\"nej\",\"\",IF('Benzin - diesel - hybrid'!#REF!=\"ja\",VLOOKUP('Benzin - diesel - hybrid'!Q$46+($C129-1),Fremskrivninger!$A$9:$L$38,12),'Benzin - diesel - hybrid'!#REF!))/1000","v":{"$error":"#REF!"}},{"$f":"('Benzin - diesel - hybrid'!#REF!*'Benzin - diesel - hybrid'!Q$14*'Benzin - diesel - hybrid'!#REF!/10+'Benzin - diesel - hybrid'!#REF!*365)","v":{"$error":"#REF!"}},{"$f":"'Benzin - diesel - hybrid'!S$11*T129*IF('Benzin - diesel - hybrid'!S$31=\"nej\",\"\",IF('Benzin - diesel - hybrid'!#REF!=\"ja\",VLOOKUP('Benzin - diesel - hybrid'!S$46+($C129-1),Fremskrivninger!$A$9:$L$38,12),'Benzin - diesel - hybrid'!#REF!))/1000","v":{"$error":"#REF!"}},{"$f":"('Benzin - diesel - hybrid'!#REF!*'Benzin - diesel - hybrid'!S$14*'Benzin - diesel - hybrid'!#REF!/10+'Benzin - diesel - hybrid'!#REF!*365)","v":{"$error":"#REF!"}},{"$f":"'Benzin - diesel - hybrid'!Y$11*V129*IF('Benzin - diesel - hybrid'!Y$31=\"nej\",\"\",IF('Benzin - diesel - hybrid'!#REF!=\"ja\",VLOOKUP('Benzin - diesel - hybrid'!Y$46+($C129-1),Fremskrivninger!$A$9:$L$38,12),'Benzin - diesel - hybrid'!#REF!))/1000","v":{"$error":"#REF!"}},{"$f":"('Benzin - diesel - hybrid'!#REF!*'Benzin - diesel - hybrid'!Y$14*'Benzin - diesel - hybrid'!#REF!/10+'Benzin - diesel - hybrid'!#REF!*365)","v":{"$error":"#REF!"}},{"$f":"'Benzin - diesel - hybrid'!AA$11*X129*IF('Benzin - diesel - hybrid'!AA$31=\"nej\",\"\",IF('Benzin - diesel - hybrid'!#REF!=\"ja\",VLOOKUP('Benzin - diesel - hybrid'!AA$46+($C129-1),Fremskrivninger!$A$9:$L$38,12),'Benzin - diesel - hybrid'!#REF!))/1000","v":{"$error":"#REF!"}},{"$f":"('Benzin - diesel - hybrid'!#REF!*'Benzin - diesel - hybrid'!AA$14*'Benzin - diesel - hybrid'!#REF!/10+'Benzin - diesel - hybrid'!#REF!*365)","v":{"$error":"#REF!"}}]
[null,12,12,null,{"$f":"'Benzin - diesel - hybrid'!E$11*F130*IF('Benzin - diesel - hybrid'!E$31=\"nej\",\"\",IF('Benzin - diesel - hybrid'!#REF!=\"ja\",VLOOKUP('Benzin - diesel - hybrid'!E$46+($C130-1),Fremskrivninger!$A$9:$L$38,12),'Benzin - diesel - hybrid'!#REF!))/1000","v":{"$error":"#REF!"}},{"$f":"('Benzin - diesel - hybrid'!#REF!*'Benzin - diesel - hybrid'!E$14*'Benzin - diesel - hybrid'!#REF!/10+'Benzin - diesel - hybrid'!#REF!*365)","v":{"$error":"#REF!"}},{"$f":"'Benzin - diesel - hybrid'!G$11*H130*IF('Benzin - diesel - hybrid'!G$31=\"nej\",\"\",IF('Benzin - diesel - hybrid'!#REF!=\"ja\",VLOOKUP('Benzin - diesel - hybrid'!G$46+($C130-1),Fremskrivninger!$A$9:$L$38,12),'Benzin - diesel - hybrid'!#REF!))/1000","v":{"$error":"#REF!"}},{"$f":"('Benzin - diesel - hybrid'!#REF!*'Benzin - diesel - hybrid'!G$14*'Benzin - diesel - hybrid'!#REF!/10+'Benzin - diesel - hybrid'!#REF!*365)","v":{"$error":"#REF!"}},{"$f":"'Benzin - diesel - hybrid'!I$11*J130*IF('Benzin - diesel - hybrid'!I$31=\"nej\",\"\",IF('Benzin - diesel - hybrid'!#REF!=\"ja\",VLOOKUP('Benzin - diesel - hybrid'!I$46+($C130-1),Fremskrivninger!$A$9:$L$38,12),'Benzin - diesel - hybrid'!#REF!))/1000","v":{"$error":"#REF!"}},{"$f":"('Benzin - diesel - hybrid'!#REF!*'Benzin - diesel - hybrid'!I$14*'Benzin - diesel - hybrid'!#REF!/10+'Benzin - diesel - hybrid'!#REF!*365)","v":{"$error":"#REF!"}},{"$f":"'Benzin - diesel - hybrid'!K$11*L130*IF('Benzin - diesel - hybrid'!K$31=\"nej\",\"\",IF('Benzin - diesel - hybrid'!#REF!=\"ja\",VLOOKUP('Benzin - diesel - hybrid'!K$46+($C130-1),Fremskrivninger!$A$9:$L$38,12),'Benzin - diesel - hybrid'!#REF!))/1000","v":{"$error":"#REF!"}},{"$f":"('Benzin - diesel - hybrid'!#REF!*'Benzin - diesel - hybrid'!K$14*'Benzin - diesel - hybrid'!#REF!/10+'Benzin - diesel - hybrid'!#REF!*365)","v":{"$error":"#REF!"}},{"$f":"'Benzin - diesel - hybrid'!M$11*N130*IF('Benzin - diesel - hybrid'!M$31=\"nej\",\"\",IF('Benzin - diesel - hybrid'!#REF!=\"ja\",VLOOKUP('Benzin - diesel - hybrid'!M$46+($C130-1),Fremskrivninger!$A$9:$L$38,12),'Benzin - diesel - hybrid'!#REF!))/1000","v":{"$error":"#REF!"}},{"$f":"('Benzin - diesel - hybrid'!#REF!*'Benzin - diesel - hybrid'!M$14*'Benzin - diesel - hybrid'!#REF!/10+'Benzin - diesel - hybrid'!#REF!*365)","v":{"$error":"#REF!"}},{"$f":"'Benzin - diesel - hybrid'!O$11*P130*IF('Benzin - diesel - hybrid'!O$31=\"nej\",\"\",IF('Benzin - diesel - hybrid'!#REF!=\"ja\",VLOOKUP('Benzin - diesel - hybrid'!O$46+($C130-1),Fremskrivninger!$A$9:$L$38,12),'Benzin - diesel - hybrid'!#REF!))/1000","v":{"$error":"#REF!"}},{"$f":"('Benzin - diesel - hybrid'!#REF!*'Benzin - diesel - hybrid'!O$14*'Benzin - diesel - hybrid'!#REF!/10+'Benzin - diesel - hybrid'!#REF!*365)","v":{"$error":"#REF!"}},{"$f":"'Benzin - diesel - hybrid'!Q$11*R130*IF('Benzin - diesel - hybrid'!Q$31=\"nej\",\"\",IF('Benzin - diesel - hybrid'!#REF!=\"ja\",VLOOKUP('Benzin - diesel - hybrid'!Q$46+($C130-1),Fremskrivninger!$A$9:$L$38,12),'Benzin - diesel - hybrid'!#REF!))/1000","v":{"$error":"#REF!"}},{"$f":"('Benzin - diesel - hybrid'!#REF!*'Benzin - diesel - hybrid'!Q$14*'Benzin - diesel - hybrid'!#REF!/10+'Benzin - diesel - hybrid'!#REF!*365)","v":{"$error":"#REF!"}},{"$f":"'Benzin - diesel - hybrid'!S$11*T130*IF('Benzin - diesel - hybrid'!S$31=\"nej\",\"\",IF('Benzin - diesel - hybrid'!#REF!=\"ja\",VLOOKUP('Benzin - diesel - hybrid'!S$46+($C130-1),Fremskrivninger!$A$9:$L$38,12),'Benzin - diesel - hybrid'!#REF!))/1000","v":{"$error":"#REF!"}},{"$f":"('Benzin - diesel - hybrid'!#REF!*'Benzin - diesel - hybrid'!S$14*'Benzin - diesel - hybrid'!#REF!/10+'Benzin - diesel - hybrid'!#REF!*365)","v":{"$error":"#REF!"}},{"$f":"'Benzin - diesel - hybrid'!Y$11*V130*IF('Benzin - diesel - hybrid'!Y$31=\"nej\",\"\",IF('Benzin - diesel - hybrid'!#REF!=\"ja\",VLOOKUP('Benzin - diesel - hybrid'!Y$46+($C130-1),Fremskrivninger!$A$9:$L$38,12),'Benzin - diesel - hybrid'!#REF!))/1000","v":{"$error":"#REF!"}},{"$f":"('Benzin - diesel - hybrid'!#REF!*'Benzin - diesel - hybrid'!Y$14*'Benzin - diesel - hybrid'!#REF!/10+'Benzin - diesel - hybrid'!#REF!*365)","v":{"$error":"#REF!"}},{"$f":"'Benzin - diesel - hybrid'!AA$11*X130*IF('Benzin - diesel - hybrid'!AA$31=\"nej\",\"\",IF('Benzin - diesel - hybrid'!#REF!=\"ja\",VLOOKUP('Benzin - diesel - hybrid'!AA$46+($C130-1),Fremskrivninger!$A$9:$L$38,12),'Benzin - diesel - hybrid'!#REF!))/1000","v":{"$error":"#REF!"}},{"$f":"('Benzin - diesel - hybrid'!#REF!*'Benzin - diesel - hybrid'!AA$14*'Benzin - diesel - hybrid'!#REF!/10+'Benzin - diesel - hybrid'!#REF!*365)","v":{"$error":"#REF!"}}]
[null,13,13,null,{"$f":"'Benzin - diesel - hybrid'!E$11*F131*IF('Benzin - diesel - hybrid'!E$31=\"nej\",\"\",IF('Benzin - diesel - hybrid'!#REF!=\"ja\",VLOOKUP('Benzin - diesel - hybrid'!E$46+($C131-1),Fremskrivninger!$A$9:$L$38,12),'Benzin - diesel - hybrid'!#REF!))/1000","v":{"$error":"#REF!"}},{"$f":"('Benzin - diesel - hybrid'!#REF!*'Benzin - diesel - hybrid'!E$14*'Benzin - diesel - hybrid'!#REF!/10+'Benzin - diesel - hybrid'!#REF!*365)","v":{"$error":"#REF!"}},{"$f":"'Benzin - diesel - hybrid'!G$11*H131*IF('Benzin - diesel - hybrid'!G$31=\"nej\",\"\",IF('Benzin - diesel - hybrid'!#REF!=\"ja\",VLOOKUP('Benzin - diesel - hybrid'!G$46+($C131-1),Fremskrivninger!$A$9:$L$38,12),'Benzin - diesel - hybrid'!#REF!))/1000","v":{"$error":"#REF!"}},{"$f":"('Benzin - diesel - hybrid'!#REF!*'Benzin - diesel - hybrid'!G$14*'Benzin - diesel - hybrid'!#REF!/10+'Benzin - diesel - hybrid'!#REF!*365)","v":{"$error":"#REF!"}},{"$f":"'Benzin - diesel - hybrid'!I$11*J131*IF('Benzin - diesel - hybrid'!I$31=\"nej\",\"\",IF('Benzin - diesel - hybrid'!#REF!=\"ja\",VLOOKUP('Benzin - diesel - hybrid'!I$46+($C131-1),Fremskrivninger!$A$9:$L$38,12),'Benzin - diesel - hybrid'!#REF!))/1000","v":{"$error":"#REF!"}},{"$f":"('Benzin - diesel - hybrid'!#REF!*'Benzin - diesel - hybrid'!I$14*'Benzin - diesel - hybrid'!#REF!/10+'Benzin - diesel - hybrid'!#REF!*365)","v":{"$error":"#REF!"}},{"$f":"'Benzin - diesel - hybrid'!K$11*L131*IF('Benzin - diesel - hybrid'!K$31=\"nej\",\"\",IF('Benzin - diesel - hybrid'!#REF!=\"ja\",VLOOKUP('Benzin - diesel - hybrid'!K$46+($C131-1),Fremskrivninger!$A$9:$L$38,12),'Benzin - diesel - hybrid'!#REF!))/1000","v":{"$error":"#REF!"}},{"$f":"('Benzin - diesel - hybrid'!#REF!*'Benzin - diesel - hybrid'!K$14*'Benzin - diesel - hybrid'!#REF!/10+'Benzin - diesel - hybrid'!#REF!*365)","v":{"$error":"#REF!"}},{"$f":"'Benzin - diesel - hybrid'!M$11*N131*IF('Benzin - diesel - hybrid'!M$31=\"nej\",\"\",IF('Benzin - diesel - hybrid'!#REF!=\"ja\",VLOOKUP('Benzin - diesel - hybrid'!M$46+($C131-1),Fremskrivninger!$A$9:$L$38,12),'Benzin - diesel - hybrid'!#REF!))/1000","v":{"$error":"#REF!"}},{"$f":"('Benzin - diesel - hybrid'!#REF!*'Benzin - diesel - hybrid'!M$14*'Benzin - diesel - hybrid'!#REF!/10+'Benzin - diesel - hybrid'!#REF!*365)","v":{"$error":"#REF!"}},{"$f":"'Benzin - diesel - hybrid'!O$11*P131*IF('Benzin - diesel - hybrid'!O$31=\"nej\",\"\",IF('Benzin - diesel - hybrid'!#REF!=\"ja\",VLOOKUP('Benzin - diesel - hybrid'!O$46+($C131-1),Fremskrivninger!$A$9:$L$38,12),'Benzin - diesel - hybrid'!#REF!))/1000","v":{"$error":"#REF!"}},{"$f":"('Benzin - diesel - hybrid'!#REF!*'Benzin - diesel - hybrid'!O$14*'Benzin - diesel - hybrid'!#REF!/10+'Benzin - diesel - hybrid'!#REF!*365)","v":{"$error":"#REF!"}},{"$f":"'Benzin - diesel - hybrid'!Q$11*R131*IF('Benzin - diesel - hybrid'!Q$31=\"nej\",\"\",IF('Benzin - diesel - hybrid'!#REF!=\"ja\",VLOOKUP('Benzin - diesel - hybrid'!Q$46+($C131-1),Fremskrivninger!$A$9:$L$38,12),'Benzin - diesel - hybrid'!#REF!))/1000","v":{"$error":"#REF!"}},{"$f":"('Benzin - diesel - hybrid'!#REF!*'Benzin - diesel - hybrid'!Q$14*'Benzin - diesel - hybrid'!#REF!/10+'Benzin - diesel - hybrid'!#REF!*365)","v":{"$error":"#REF!"}},{"$f":"'Benzin - diesel - hybrid'!S$11*T131*IF('Benzin - diesel - hybrid'!S$31=\"nej\",\"\",IF('Benzin - diesel - hybrid'!#REF!=\"ja\",VLOOKUP('Benzin - diesel - hybrid'!S$46+($C131-1),Fremskrivninger!$A$9:$L$38,12),'Benzin - diesel - hybrid'!#REF!))/1000","v":{"$error":"#REF!"}},{"$f":"('Benzin - diesel - hybrid'!#REF!*'Benzin - diesel - hybrid'!S$14*'Benzin - diesel - hybrid'!#REF!/10+'Benzin - diesel - hybrid'!#REF!*365)","v":{"$error":"#REF!"}},{"$f":"'Benzin - diesel - hybrid'!Y$11*V131*IF('Benzin - diesel - hybrid'!Y$31=\"nej\",\"\",IF('Benzin - diesel - hybrid'!#REF!=\"ja\",VLOOKUP('Benzin - diesel - hybrid'!Y$46+($C131-1),Fremskrivninger!$A$9:$L$38,12),'Benzin - diesel - hybrid'!#REF!))/1000","v":{"$error":"#REF!"}},{"$f":"('Benzin - diesel - hybrid'!#REF!*'Benzin - diesel - hybrid'!Y$14*'Benzin - diesel - hybrid'!#REF!/10+'Benzin - diesel - hybrid'!#REF!*365)","v":{"$error":"#REF!"}},{"$f":"'Benzin - diesel - hybrid'!AA$11*X131*IF('Benzin - diesel - hybrid'!AA$31=\"nej\",\"\",IF('Benzin - diesel - hybrid'!#REF!=\"ja\",VLOOKUP('Benzin - diesel - hybrid'!AA$46+($C131-1),Fremskrivninger!$A$9:$L$38,12),'Benzin - diesel - hybrid'!#REF!))/1000","v":{"$error":"#REF!"}},{"$f":"('Benzin - diesel - hybrid'!#REF!*'Benzin - diesel - hybrid'!AA$14*'Benzin - diesel - hybrid'!#REF!/10+'Benzin - diesel - hybrid'!#REF!*365)","v":{"$error":"#REF!"}}]
[null,14,14,null,{"$f":"'Benzin - diesel - hybrid'!E$11*F132*IF('Benzin - diesel - hybrid'!E$31=\"nej\",\"\",IF('Benzin - diesel - hybrid'!#REF!=\"ja\",VLOOKUP('Benzin - diesel - hybrid'!E$46+($C132-1),Fremskrivninger!$A$9:$L$38,12),'Benzin - diesel - hybrid'!#REF!))/1000","v":{"$error":"#REF!"}},{"$f":"('Benzin - diesel - hybrid'!#REF!*'Benzin - diesel - hybrid'!E$14*'Benzin - diesel - hybrid'!#REF!/10+'Benzin - diesel - hybrid'!#REF!*365)","v":{"$error":"#REF!"}},{"$f":"'Benzin - diesel - hybrid'!G$11*H132*IF('Benzin - diesel - hybrid'!G$31=\"nej\",\"\",IF('Benzin - diesel - hybrid'!#REF!=\"ja\",VLOOKUP('Benzin - diesel - hybrid'!G$46+($C132-1),Fremskrivninger!$A$9:$L$38,12),'Benzin - diesel - hybrid'!#REF!))/1000","v":{"$error":"#REF!"}},{"$f":"('Benzin - diesel - hybrid'!#REF!*'Benzin - diesel - hybrid'!G$14*'Benzin - diesel - hybrid'!#REF!/10+'Benzin - diesel - hybrid'!#REF!*365)","v":{"$error":"#REF!"}},{"$f":"'Benzin - diesel - hybrid'!I$11*J132*IF('Benzin - diesel - hybrid'!I$31=\"nej\",\"\",IF('Benzin - diesel - hybrid'!#REF!=\"ja\",VLOOKUP('Benzin - diesel - hybrid'!I$46+($C132-1),Fremskrivninger!$A$9:$L$38,12),'Benzin - diesel - hybrid'!#REF!))/1000","v":{"$error":"#REF!"}},{"$f":"('Benzin - diesel - hybrid'!#REF!*'Benzin - diesel - hybrid'!I$14*'Benzin - diesel - hybrid'!#REF!/10+'Benzin - diesel - hybrid'!#REF!*365)","v":{"$error":"#REF!"}},{"$f":"'Benzin - diesel - hybrid'!K$11*L132*IF('Benzin - diesel - hybrid'!K$31=\"nej\",\"\",IF('Benzin - diesel - hybrid'!#REF!=\"ja\",VLOOKUP('Benzin - diesel - hybrid'!K$46+($C132-1),Fremskrivninger!$A$9:$L$38,12),'Benzin - diesel - hybrid'!#REF!))/1000","v":{"$error":"#REF!"}},{"$f":"('Benzin - diesel - hybrid'!#REF!*'Benzin - diesel - hybrid'!K$14*'Benzin - diesel - hybrid'!#REF!/10+'Benzin - diesel - hybrid'!#REF!*365)","v":{"$error":"#REF!"}},{"$f":"'Benzin - diesel - hybrid'!M$11*N132*IF('Benzin - diesel - hybrid'!M$31=\"nej\",\"\",IF('Benzin - diesel - hybrid'!#REF!=\"ja\",VLOOKUP('Benzin - diesel - hybrid'!M$46+($C132-1),Fremskrivninger!$A$9:$L$38,12),'Benzin - diesel - hybrid'!#REF!))/1000","v":{"$error":"#REF!"}},{"$f":"('Benzin - diesel - hybrid'!#REF!*'Benzin - diesel - hybrid'!M$14*'Benzin - diesel - hybrid'!#REF!/10+'Benzin - diesel - hybrid'!#REF!*365)","v":{"$error":"#REF!"}},{"$f":"'Benzin - diesel - hybrid'!O$11*P132*IF('Benzin - diesel - hybrid'!O$31=\"nej\",\"\",IF('Benzin - diesel - hybrid'!#REF!=\"ja\",VLOOKUP('Benzin - diesel - hybrid'!O$46+($C132-1),Fremskrivninger!$A$9:$L$38,12),'Benzin - diesel - hybrid'!#REF!))/1000","v":{"$error":"#REF!"}},{"$f":"('Benzin - diesel - hybrid'!#REF!*'Benzin - diesel - hybrid'!O$14*'Benzin - diesel - hybrid'!#REF!/10+'Benzin - diesel - hybrid'!#REF!*365)","v":{"$error":"#REF!"}},{"$f":"'Benzin - diesel - hybrid'!Q$11*R132*IF('Benzin - diesel - hybrid'!Q$31=\"nej\",\"\",IF('Benzin - diesel - hybrid'!#REF!=\"ja\",VLOOKUP('Benzin - diesel - hybrid'!Q$46+($C132-1),Fremskrivninger!$A$9:$L$38,12),'Benzin - diesel - hybrid'!#REF!))/1000","v":{"$error":"#REF!"}},{"$f":"('Benzin - diesel - hybrid'!#REF!*'Benzin - diesel - hybrid'!Q$14*'Benzin - diesel - hybrid'!#REF!/10+'Benzin - diesel - hybrid'!#REF!*365)","v":{"$error":"#REF!"}},{"$f":"'Benzin - diesel - hybrid'!S$11*T132*IF('Benzin - diesel - hybrid'!S$31=\"nej\",\"\",IF('Benzin - diesel - hybrid'!#REF!=\"ja\",VLOOKUP('Benzin - diesel - hybrid'!S$46+($C132-1),Fremskrivninger!$A$9:$L$38,12),'Benzin - diesel - hybrid'!#REF!))/1000","v":{"$error":"#REF!"}},{"$f":"('Benzin - diesel - hybrid'!#REF!*'Benzin - diesel - hybrid'!S$14*'Benzin - diesel - hybrid'!#REF!/10+'Benzin - diesel - hybrid'!#REF!*365)","v":{"$error":"#REF!"}},{"$f":"'Benzin - diesel - hybrid'!Y$11*V132*IF('Benzin - diesel - hybrid'!Y$31=\"nej\",\"\",IF('Benzin - diesel - hybrid'!#REF!=\"ja\",VLOOKUP('Benzin - diesel - hybrid'!Y$46+($C132-1),Fremskrivninger!$A$9:$L$38,12),'Benzin - diesel - hybrid'!#REF!))/1000","v":{"$error":"#REF!"}},{"$f":"('Benzin - diesel - hybrid'!#REF!*'Benzin - diesel - hybrid'!Y$14*'Benzin - diesel - hybrid'!#REF!/10+'Benzin - diesel - hybrid'!#REF!*365)","v":{"$error":"#REF!"}},{"$f":"'Benzin - diesel - hybrid'!AA$11*X132*IF('Benzin - diesel - hybrid'!AA$31=\"nej\",\"\",IF('Benzin - diesel - hybrid'!#REF!=\"ja\",VLOOKUP('Benzin - diesel - hybrid'!AA$46+($C132-1),Fremskrivninger!$A$9:$L$38,12),'Benzin - diesel - hybrid'!#REF!))/1000","v":{"$error":"#REF!"}},{"$f":"('Benzin - diesel - hybrid'!#REF!*'Benzin - diesel - hybrid'!AA$14*'Benzin - diesel - hybrid'!#REF!/10+'Benzin - diesel - hybrid'!#REF!*365)","v":{"$error":"#REF!"}}]
[null,15,15,null,{"$f":"'Benzin - diesel - hybrid'!E$11*F133*IF('Benzin - diesel - hybrid'!E$31=\"nej\",\"\",IF('Benzin - diesel - hybrid'!#REF!=\"ja\",VLOOKUP('Benzin - diesel - hybrid'!E$46+($C133-1),Fremskrivninger!$A$9:$L$38,12),'Benzin - diesel - hybrid'!#REF!))/1000","v":{"$error":"#REF!"}},{"$f":"('Benzin - diesel - hybrid'!#REF!*'Benzin - diesel - hybrid'!E$14*'Benzin - diesel - hybrid'!#REF!/10+'Benzin - diesel - hybrid'!#REF!*365)","v":{"$error":"#REF!"}},{"$f":"'Benzin - diesel - hybrid'!G$11*H133*IF('Benzin - diesel - hybrid'!G$31=\"nej\",\"\",IF('Benzin - diesel - hybrid'!#REF!=\"ja\",VLOOKUP('Benzin - diesel - hybrid'!G$46+($C133-1),Fremskrivninger!$A$9:$L$38,12),'Benzin - diesel - hybrid'!#REF!))/1000","v":{"$error":"#REF!"}},{"$f":"('Benzin - diesel - hybrid'!#REF!*'Benzin - diesel - hybrid'!G$14*'Benzin - diesel - hybrid'!#REF!/10+'Benzin - diesel - hybrid'!#REF!*365)","v":{"$error":"#REF!"}},{"$f":"'Benzin - diesel - hybrid'!I$11*J133*IF('Benzin - diesel - hybrid'!I$31=\"nej\",\"\",IF('Benzin - diesel - hybrid'!#REF!=\"ja\",VLOOKUP('Benzin - diesel - hybrid'!I$46+($C133-1),Fremskrivninger!$A$9:$L$38,12),'Benzin - diesel - hybrid'!#REF!))/1000","v":{"$error":"#REF!"}},{"$f":"('Benzin - diesel - hybrid'!#REF!*'Benzin - diesel - hybrid'!I$14*'Benzin - diesel - hybrid'!#REF!/10+'Benzin - diesel - hybrid'!#REF!*365)","v":{"$error":"#REF!"}},{"$f":"'Benzin - diesel - hybrid'!K$11*L133*IF('Benzin - diesel - hybrid'!K$31=\"nej\",\"\",IF('Benzin - diesel - hybrid'!#REF!=\"ja\",VLOOKUP('Benzin - diesel - hybrid'!K$46+($C133-1),Fremskrivninger!$A$9:$L$38,12),'Benzin - diesel - hybrid'!#REF!))/1000","v":{"$error":"#REF!"}},{"$f":"('Benzin - diesel - hybrid'!#REF!*'Benzin - diesel - hybrid'!K$14*'Benzin - diesel - hybrid'!#REF!/10+'Benzin - diesel - hybrid'!#REF!*365)","v":{"$error":"#REF!"}},{"$f":"'Benzin - diesel - hybrid'!M$11*N133*IF('Benzin - diesel - hybrid'!M$31=\"nej\",\"\",IF('Benzin - diesel - hybrid'!#REF!=\"ja\",VLOOKUP('Benzin - diesel - hybrid'!M$46+($C133-1),Fremskrivninger!$A$9:$L$38,12),'Benzin - diesel - hybrid'!#REF!))/1000","v":{"$error":"#REF!"}},{"$f":"('Benzin - diesel - hybrid'!#REF!*'Benzin - diesel - hybrid'!M$14*'Benzin - diesel - hybrid'!#REF!/10+'Benzin - diesel - hybrid'!#REF!*365)","v":{"$error":"#REF!"}},{"$f":"'Benzin - diesel - hybrid'!O$11*P133*IF('Benzin - diesel - hybrid'!O$31=\"nej\",\"\",IF('Benzin - diesel - hybrid'!#REF!=\"ja\",VLOOKUP('Benzin - diesel - hybrid'!O$46+($C133-1),Fremskrivninger!$A$9:$L$38,12),'Benzin - diesel - hybrid'!#REF!))/1000","v":{"$error":"#REF!"}},{"$f":"('Benzin - diesel - hybrid'!#REF!*'Benzin - diesel - hybrid'!O$14*'Benzin - diesel - hybrid'!#REF!/10+'Benzin - diesel - hybrid'!#REF!*365)","v":{"$error":"#REF!"}},{"$f":"'Benzin - diesel - hybrid'!Q$11*R133*IF('Benzin - diesel - hybrid'!Q$31=\"nej\",\"\",IF('Benzin - diesel - hybrid'!#REF!=\"ja\",VLOOKUP('Benzin - diesel - hybrid'!Q$46+($C133-1),Fremskrivninger!$A$9:$L$38,12),'Benzin - diesel - hybrid'!#REF!))/1000","v":{"$error":"#REF!"}},{"$f":"('Benzin - diesel - hybrid'!#REF!*'Benzin - diesel - hybrid'!Q$14*'Benzin - diesel - hybrid'!#REF!/10+'Benzin - diesel - hybrid'!#REF!*365)","v":{"$error":"#REF!"}},{"$f":"'Benzin - diesel - hybrid'!S$11*T133*IF('Benzin - diesel - hybrid'!S$31=\"nej\",\"\",IF('Benzin - diesel - hybrid'!#REF!=\"ja\",VLOOKUP('Benzin - diesel - hybrid'!S$46+($C133-1),Fremskrivninger!$A$9:$L$38,12),'Benzin - diesel - hybrid'!#REF!))/1000","v":{"$error":"#REF!"}},{"$f":"('Benzin - diesel - hybrid'!#REF!*'Benzin - diesel - hybrid'!S$14*'Benzin - diesel - hybrid'!#REF!/10+'Benzin - diesel - hybrid'!#REF!*365)","v":{"$error":"#REF!"}},{"$f":"'Benzin - diesel - hybrid'!Y$11*V133*IF('Benzin - diesel - hybrid'!Y$31=\"nej\",\"\",IF('Benzin - diesel - hybrid'!#REF!=\"ja\",VLOOKUP('Benzin - diesel - hybrid'!Y$46+($C133-1),Fremskrivninger!$A$9:$L$38,12),'Benzin - diesel - hybrid'!#REF!))/1000","v":{"$error":"#REF!"}},{"$f":"('Benzin - diesel - hybrid'!#REF!*'Benzin - diesel - hybrid'!Y$14*'Benzin - diesel - hybrid'!#REF!/10+'Benzin - diesel - hybrid'!#REF!*365)","v":{"$error":"#REF!"}},{"$f":"'Benzin - diesel - hybrid'!AA$11*X133*IF('Benzin - diesel - hybrid'!AA$31=\"nej\",\"\",IF('Benzin - diesel - hybrid'!#REF!=\"ja\",VLOOKUP('Benzin - diesel - hybrid'!AA$46+($C133-1),Fremskrivninger!$A$9:$L$38,12),'Benzin - diesel - hybrid'!#REF!))/1000","v":{"$error":"#REF!"}},{"$f":"('Benzin - diesel - hybrid'!#REF!*'Benzin - diesel - hybrid'!AA$14*'Benzin - diesel - hybrid'!#REF!/10+'Benzin - diesel - hybrid'!#REF!*365)","v":{"$error":"#REF!"}}]
[null,16,16,null,{"$f":"'Benzin - diesel - hybrid'!E$11*F134*IF('Benzin - diesel - hybrid'!E$31=\"nej\",\"\",IF('Benzin - diesel - hybrid'!#REF!=\"ja\",VLOOKUP('Benzin - diesel - hybrid'!E$46+($C134-1),Fremskrivninger!$A$9:$L$38,12),'Benzin - diesel - hybrid'!#REF!))/1000","v":{"$error":"#REF!"}},{"$f":"('Benzin - diesel - hybrid'!#REF!*'Benzin - diesel - hybrid'!E$14*'Benzin - diesel - hybrid'!#REF!/10+'Benzin - diesel - hybrid'!#REF!*365)","v":{"$error":"#REF!"}},{"$f":"'Benzin - diesel - hybrid'!G$11*H134*IF('Benzin - diesel - hybrid'!G$31=\"nej\",\"\",IF('Benzin - diesel - hybrid'!#REF!=\"ja\",VLOOKUP('Benzin - diesel - hybrid'!G$46+($C134-1),Fremskrivninger!$A$9:$L$38,12),'Benzin - diesel - hybrid'!#REF!))/1000","v":{"$error":"#REF!"}},{"$f":"('Benzin - diesel - hybrid'!#REF!*'Benzin - diesel - hybrid'!G$14*'Benzin - diesel - hybrid'!#REF!/10+'Benzin - diesel - hybrid'!#REF!*365)","v":{"$error":"#REF!"}},{"$f":"'Benzin - diesel - hybrid'!I$11*J134*IF('Benzin - diesel - hybrid'!I$31=\"nej\",\"\",IF('Benzin - diesel - hybrid'!#REF!=\"ja\",VLOOKUP('Benzin - diesel - hybrid'!I$46+($C134-1),Fremskrivninger!$A$9:$L$38,12),'Benzin - diesel - hybrid'!#REF!))/1000","v":{"$error":"#REF!"}},{"$f":"('Benzin - diesel - hybrid'!#REF!*'Benzin - diesel - hybrid'!I$14*'Benzin - diesel - hybrid'!#REF!/10+'Benzin - diesel - hybrid'!#REF!*365)","v":{"$error":"#REF!"}},{"$f":"'Benzin - diesel - hybrid'!K$11*L134*IF('Benzin - diesel - hybrid'!K$31=\"nej\",\"\",IF('Benzin - diesel - hybrid'!#REF!=\"ja\",VLOOKUP('Benzin - diesel - hybrid'!K$46+($C134-1),Fremskrivninger!$A$9:$L$38,12),'Benzin - diesel - hybrid'!#REF!))/1000","v":{"$error":"#REF!"}},{"$f":"('Benzin - diesel - hybrid'!#REF!*'Benzin - diesel - hybrid'!K$14*'Benzin - diesel - hybrid'!#REF!/10+'Benzin - diesel - hybrid'!#REF!*365)","v":{"$error":"#REF!"}},{"$f":"'Benzin - diesel - hybrid'!M$11*N134*IF('Benzin - diesel - hybrid'!M$31=\"nej\",\"\",IF('Benzin - diesel - hybrid'!#REF!=\"ja\",VLOOKUP('Benzin - diesel - hybrid'!M$46+($C134-1),Fremskrivninger!$A$9:$L$38,12),'Benzin - diesel - hybrid'!#REF!))/1000","v":{"$error":"#REF!"}},{"$f":"('Benzin - diesel - hybrid'!#REF!*'Benzin - diesel - hybrid'!M$14*'Benzin - diesel - hybrid'!#REF!/10+'Benzin - diesel - hybrid'!#REF!*365)","v":{"$error":"#REF!"}},{"$f":"'Benzin - diesel - hybrid'!O$11*P134*IF('Benzin - diesel - hybrid'!O$31=\"nej\",\"\",IF('Benzin - diesel - hybrid'!#REF!=\"ja\",VLOOKUP('Benzin - diesel - hybrid'!O$46+($C134-1),Fremskrivninger!$A$9:$L$38,12),'Benzin - diesel - hybrid'!#REF!))/1000","v":{"$error":"#REF!"}},{"$f":"('Benzin - diesel - hybrid'!#REF!*'Benzin - diesel - hybrid'!O$14*'Benzin - diesel - hybrid'!#REF!/10+'Benzin - diesel - hybrid'!#REF!*365)","v":{"$error":"#REF!"}},{"$f":"'Benzin - diesel - hybrid'!Q$11*R134*IF('Benzin - diesel - hybrid'!Q$31=\"nej\",\"\",IF('Benzin - diesel - hybrid'!#REF!=\"ja\",VLOOKUP('Benzin - diesel - hybrid'!Q$46+($C134-1),Fremskrivninger!$A$9:$L$38,12),'Benzin - diesel - hybrid'!#REF!))/1000","v":{"$error":"#REF!"}},{"$f":"('Benzin - diesel - hybrid'!#REF!*'Benzin - diesel - hybrid'!Q$14*'Benzin - diesel - hybrid'!#REF!/10+'Benzin - diesel - hybrid'!#REF!*365)","v":{"$error":"#REF!"}},{"$f":"'Benzin - diesel - hybrid'!S$11*T134*IF('Benzin - diesel - hybrid'!S$31=\"nej\",\"\",IF('Benzin - diesel - hybrid'!#REF!=\"ja\",VLOOKUP('Benzin - diesel - hybrid'!S$46+($C134-1),Fremskrivninger!$A$9:$L$38,12),'Benzin - diesel - hybrid'!#REF!))/1000","v":{"$error":"#REF!"}},{"$f":"('Benzin - diesel - hybrid'!#REF!*'Benzin - diesel - hybrid'!S$14*'Benzin - diesel - hybrid'!#REF!/10+'Benzin - diesel - hybrid'!#REF!*365)","v":{"$error":"#REF!"}},{"$f":"'Benzin - diesel - hybrid'!Y$11*V134*IF('Benzin - diesel - hybrid'!Y$31=\"nej\",\"\",IF('Benzin - diesel - hybrid'!#REF!=\"ja\",VLOOKUP('Benzin - diesel - hybrid'!Y$46+($C134-1),Fremskrivninger!$A$9:$L$38,12),'Benzin - diesel - hybrid'!#REF!))/1000","v":{"$error":"#REF!"}},{"$f":"('Benzin - diesel - hybrid'!#REF!*'Benzin - diesel - hybrid'!Y$14*'Benzin - diesel - hybrid'!#REF!/10+'Benzin - diesel - hybrid'!#REF!*365)","v":{"$error":"#REF!"}},{"$f":"'Benzin - diesel - hybrid'!AA$11*X134*IF('Benzin - diesel - hybrid'!AA$31=\"nej\",\"\",IF('Benzin - diesel - hybrid'!#REF!=\"ja\",VLOOKUP('Benzin - diesel - hybrid'!AA$46+($C134-1),Fremskrivninger!$A$9:$L$38,12),'Benzin - diesel - hybrid'!#REF!))/1000","v":{"$error":"#REF!"}},{"$f":"('Benzin - diesel - hybrid'!#REF!*'Benzin - diesel - hybrid'!AA$14*'Benzin - diesel - hybrid'!#REF!/10+'Benzin - diesel - hybrid'!#REF!*365)","v":{"$error":"#REF!"}}]
[null,17,17,null,{"$f":"'Benzin - diesel - hybrid'!E$11*F135*IF('Benzin - diesel - hybrid'!E$31=\"nej\",\"\",IF('Benzin - diesel - hybrid'!#REF!=\"ja\",VLOOKUP('Benzin - diesel - hybrid'!E$46+($C135-1),Fremskrivninger!$A$9:$L$38,12),'Benzin - diesel - hybrid'!#REF!))/1000","v":{"$error":"#REF!"}},{"$f":"('Benzin - diesel - hybrid'!#REF!*'Benzin - diesel - hybrid'!E$14*'Benzin - diesel - hybrid'!#REF!/10+'Benzin - diesel - hybrid'!#REF!*365)","v":{"$error":"#REF!"}},{"$f":"'Benzin - diesel - hybrid'!G$11*H135*IF('Benzin - diesel - hybrid'!G$31=\"nej\",\"\",IF('Benzin - diesel - hybrid'!#REF!=\"ja\",VLOOKUP('Benzin - diesel - hybrid'!G$46+($C135-1),Fremskrivninger!$A$9:$L$38,12),'Benzin - diesel - hybrid'!#REF!))/1000","v":{"$error":"#REF!"}},{"$f":"('Benzin - diesel - hybrid'!#REF!*'Benzin - diesel - hybrid'!G$14*'Benzin - diesel - hybrid'!#REF!/10+'Benzin - diesel - hybrid'!#REF!*365)","v":{"$error":"#REF!"}},{"$f":"'Benzin - diesel - hybrid'!I$11*J135*IF('Benzin - diesel - hybrid'!I$31=\"nej\",\"\",IF('Benzin - diesel - hybrid'!#REF!=\"ja\",VLOOKUP('Benzin - diesel - hybrid'!I$46+($C135-1),Fremskrivninger!$A$9:$L$38,12),'Benzin - diesel - hybrid'!#REF!))/1000","v":{"$error":"#REF!"}},{"$f":"('Benzin - diesel - hybrid'!#REF!*'Benzin - diesel - hybrid'!I$14*'Benzin - diesel - hybrid'!#REF!/10+'Benzin - diesel - hybrid'!#REF!*365)","v":{"$error":"#REF!"}},{"$f":"'Benzin - diesel - hybrid'!K$11*L135*IF('Benzin - diesel - hybrid'!K$31=\"nej\",\"\",IF('Benzin - diesel - hybrid'!#REF!=\"ja\",VLOOKUP('Benzin - diesel - hybrid'!K$46+($C135-1),Fremskrivninger!$A$9:$L$38,12),'Benzin - diesel - hybrid'!#REF!))/1000","v":{"$error":"#REF!"}},{"$f":"('Benzin - diesel - hybrid'!#REF!*'Benzin - diesel - hybrid'!K$14*'Benzin - diesel - hybrid'!#REF!/10+'Benzin - diesel - hybrid'!#REF!*365)","v":{"$error":"#REF!"}},{"$f":"'Benzin - diesel - hybrid'!M$11*N135*IF('Benzin - diesel - hybrid'!M$31=\"nej\",\"\",IF('Benzin - diesel - hybrid'!#REF!=\"ja\",VLOOKUP('Benzin - diesel - hybrid'!M$46+($C135-1),Fremskrivninger!$A$9:$L$38,12),'Benzin - diesel - hybrid'!#REF!))/1000","v":{"$error":"#REF!"}},{"$f":"('Benzin - diesel - hybrid'!#REF!*'Benzin - diesel - hybrid'!M$14*'Benzin - diesel - hybrid'!#REF!/10+'Benzin - diesel - hybrid'!#REF!*365)","v":{"$error":"#REF!"}},{"$f":"'Benzin - diesel - hybrid'!O$11*P135*IF('Benzin - diesel - hybrid'!O$31=\"nej\",\"\",IF('Benzin - diesel - hybrid'!#REF!=\"ja\",VLOOKUP('Benzin - diesel - hybrid'!O$46+($C135-1),Fremskrivninger!$A$9:$L$38,12),'Benzin - diesel - hybrid'!#REF!))/1000","v":{"$error":"#REF!"}},{"$f":"('Benzin - diesel - hybrid'!#REF!*'Benzin - diesel - hybrid'!O$14*'Benzin - diesel - hybrid'!#REF!/10+'Benzin - diesel - hybrid'!#REF!*365)","v":{"$error":"#REF!"}},{"$f":"'Benzin - diesel - hybrid'!Q$11*R135*IF('Benzin - diesel - hybrid'!Q$31=\"nej\",\"\",IF('Benzin - diesel - hybrid'!#REF!=\"ja\",VLOOKUP('Benzin - diesel - hybrid'!Q$46+($C135-1),Fremskrivninger!$A$9:$L$38,12),'Benzin - diesel - hybrid'!#REF!))/1000","v":{"$error":"#REF!"}},{"$f":"('Benzin - diesel - hybrid'!#REF!*'Benzin - diesel - hybrid'!Q$14*'Benzin - diesel - hybrid'!#REF!/10+'Benzin - diesel - hybrid'!#REF!*365)","v":{"$error":"#REF!"}},{"$f":"'Benzin - diesel - hybrid'!S$11*T135*IF('Benzin - diesel - hybrid'!S$31=\"nej\",\"\",IF('Benzin - diesel - hybrid'!#REF!=\"ja\",VLOOKUP('Benzin - diesel - hybrid'!S$46+($C135-1),Fremskrivninger!$A$9:$L$38,12),'Benzin - diesel - hybrid'!#REF!))/1000","v":{"$error":"#REF!"}},{"$f":"('Benzin - diesel - hybrid'!#REF!*'Benzin - diesel - hybrid'!S$14*'Benzin - diesel - hybrid'!#REF!/10+'Benzin - diesel - hybrid'!#REF!*365)","v":{"$error":"#REF!"}},{"$f":"'Benzin - diesel - hybrid'!Y$11*V135*IF('Benzin - diesel - hybrid'!Y$31=\"nej\",\"\",IF('Benzin - diesel - hybrid'!#REF!=\"ja\",VLOOKUP('Benzin - diesel - hybrid'!Y$46+($C135-1),Fremskrivninger!$A$9:$L$38,12),'Benzin - diesel - hybrid'!#REF!))/1000","v":{"$error":"#REF!"}},{"$f":"('Benzin - diesel - hybrid'!#REF!*'Benzin - diesel - hybrid'!Y$14*'Benzin - diesel - hybrid'!#REF!/10+'Benzin - diesel - hybrid'!#REF!*365)","v":{"$error":"#REF!"}},{"$f":"'Benzin - diesel - hybrid'!AA$11*X135*IF('Benzin - diesel - hybrid'!AA$31=\"nej\",\"\",IF('Benzin - diesel - hybrid'!#REF!=\"ja\",VLOOKUP('Benzin - diesel - hybrid'!AA$46+($C135-1),Fremskrivninger!$A$9:$L$38,12),'Benzin - diesel - hybrid'!#REF!))/1000","v":{"$error":"#REF!"}},{"$f":"('Benzin - diesel - hybrid'!#REF!*'Benzin - diesel - hybrid'!AA$14*'Benzin - diesel - hybrid'!#REF!/10+'Benzin - diesel - hybrid'!#REF!*365)","v":{"$error":"#REF!"}}]
[null,18,18,null,{"$f":"'Benzin - diesel - hybrid'!E$11*F136*IF('Benzin - diesel - hybrid'!E$31=\"nej\",\"\",IF('Benzin - diesel - hybrid'!#REF!=\"ja\",VLOOKUP('Benzin - diesel - hybrid'!E$46+($C136-1),Fremskrivninger!$A$9:$L$38,12),'Benzin - diesel - hybrid'!#REF!))/1000","v":{"$error":"#REF!"}},{"$f":"('Benzin - diesel - hybrid'!#REF!*'Benzin - diesel - hybrid'!E$14*'Benzin - diesel - hybrid'!#REF!/10+'Benzin - diesel - hybrid'!#REF!*365)","v":{"$error":"#REF!"}},{"$f":"'Benzin - diesel - hybrid'!G$11*H136*IF('Benzin - diesel - hybrid'!G$31=\"nej\",\"\",IF('Benzin - diesel - hybrid'!#REF!=\"ja\",VLOOKUP('Benzin - diesel - hybrid'!G$46+($C136-1),Fremskrivninger!$A$9:$L$38,12),'Benzin - diesel - hybrid'!#REF!))/1000","v":{"$error":"#REF!"}},{"$f":"('Benzin - diesel - hybrid'!#REF!*'Benzin - diesel - hybrid'!G$14*'Benzin - diesel - hybrid'!#REF!/10+'Benzin - diesel - hybrid'!#REF!*365)","v":{"$error":"#REF!"}},{"$f":"'Benzin - diesel - hybrid'!I$11*J136*IF('Benzin - diesel - hybrid'!I$31=\"nej\",\"\",IF('Benzin - diesel - hybrid'!#REF!=\"ja\",VLOOKUP('Benzin - diesel - hybrid'!I$46+($C136-1),Fremskrivninger!$A$9:$L$38,12),'Benzin - diesel - hybrid'!#REF!))/1000","v":{"$error":"#REF!"}},{"$f":"('Benzin - diesel - hybrid'!#REF!*'Benzin - diesel - hybrid'!I$14*'Benzin - diesel - hybrid'!#REF!/10+'Benzin - diesel - hybrid'!#REF!*365)","v":{"$error":"#REF!"}},{"$f":"'Benzin - diesel - hybrid'!K$11*L136*IF('Benzin - diesel - hybrid'!K$31=\"nej\",\"\",IF('Benzin - diesel - hybrid'!#REF!=\"ja\",VLOOKUP('Benzin - diesel - hybrid'!K$46+($C136-1),Fremskrivninger!$A$9:$L$38,12),'Benzin - diesel - hybrid'!#REF!))/1000","v":{"$error":"#REF!"}},{"$f":"('Benzin - diesel - hybrid'!#REF!*'Benzin - diesel - hybrid'!K$14*'Benzin - diesel - hybrid'!#REF!/10+'Benzin - diesel - hybrid'!#REF!*365)","v":{"$error":"#REF!"}},{"$f":"'Benzin - diesel - hybrid'!M$11*N136*IF('Benzin - diesel - hybrid'!M$31=\"nej\",\"\",IF('Benzin - diesel - hybrid'!#REF!=\"ja\",VLOOKUP('Benzin - diesel - hybrid'!M$46+($C136-1),Fremskrivninger!$A$9:$L$38,12),'Benzin - diesel - hybrid'!#REF!))/1000","v":{"$error":"#REF!"}},{"$f":"('Benzin - diesel - hybrid'!#REF!*'Benzin - diesel - hybrid'!M$14*'Benzin - diesel - hybrid'!#REF!/10+'Benzin - diesel - hybrid'!#REF!*365)","v":{"$error":"#REF!"}},{"$f":"'Benzin - diesel - hybrid'!O$11*P136*IF('Benzin - diesel - hybrid'!O$31=\"nej\",\"\",IF('Benzin - diesel - hybrid'!#REF!=\"ja\",VLOOKUP('Benzin - diesel - hybrid'!O$46+($C136-1),Fremskrivninger!$A$9:$L$38,12),'Benzin - diesel - hybrid'!#REF!))/1000","v":{"$error":"#REF!"}},{"$f":"('Benzin - diesel - hybrid'!#REF!*'Benzin - diesel - hybrid'!O$14*'Benzin - diesel - hybrid'!#REF!/10+'Benzin - diesel - hybrid'!#REF!*365)","v":{"$error":"#REF!"}},{"$f":"'Benzin - diesel - hybrid'!Q$11*R136*IF('Benzin - diesel - hybrid'!Q$31=\"nej\",\"\",IF('Benzin - diesel - hybrid'!#REF!=\"ja\",VLOOKUP('Benzin - diesel - hybrid'!Q$46+($C136-1),Fremskrivninger!$A$9:$L$38,12),'Benzin - diesel - hybrid'!#REF!))/1000","v":{"$error":"#REF!"}},{"$f":"('Benzin - diesel - hybrid'!#REF!*'Benzin - diesel - hybrid'!Q$14*'Benzin - diesel - hybrid'!#REF!/10+'Benzin - diesel - hybrid'!#REF!*365)","v":{"$error":"#REF!"}},{"$f":"'Benzin - diesel - hybrid'!S$11*T136*IF('Benzin - diesel - hybrid'!S$31=\"nej\",\"\",IF('Benzin - diesel - hybrid'!#REF!=\"ja\",VLOOKUP('Benzin - diesel - hybrid'!S$46+($C136-1),Fremskrivninger!$A$9:$L$38,12),'Benzin - diesel - hybrid'!#REF!))/1000","v":{"$error":"#REF!"}},{"$f":"('Benzin - diesel - hybrid'!#REF!*'Benzin - diesel - hybrid'!S$14*'Benzin - diesel - hybrid'!#REF!/10+'Benzin - diesel - hybrid'!#REF!*365)","v":{"$error":"#REF!"}},{"$f":"'Benzin - diesel - hybrid'!Y$11*V136*IF('Benzin - diesel - hybrid'!Y$31=\"nej\",\"\",IF('Benzin - diesel - hybrid'!#REF!=\"ja\",VLOOKUP('Benzin - diesel - hybrid'!Y$46+($C136-1),Fremskrivninger!$A$9:$L$38,12),'Benzin - diesel - hybrid'!#REF!))/1000","v":{"$error":"#REF!"}},{"$f":"('Benzin - diesel - hybrid'!#REF!*'Benzin - diesel - hybrid'!Y$14*'Benzin - diesel - hybrid'!#REF!/10+'Benzin - diesel - hybrid'!#REF!*365)","v":{"$error":"#REF!"}},{"$f":"'Benzin - diesel - hybrid'!AA$11*X136*IF('Benzin - diesel - hybrid'!AA$31=\"nej\",\"\",IF('Benzin - diesel - hybrid'!#REF!=\"ja\",VLOOKUP('Benzin - diesel - hybrid'!AA$46+($C136-1),Fremskrivninger!$A$9:$L$38,12),'Benzin - diesel - hybrid'!#REF!))/1000","v":{"$error":"#REF!"}},{"$f":"('Benzin - diesel - hybrid'!#REF!*'Benzin - diesel - hybrid'!AA$14*'Benzin - diesel - hybrid'!#REF!/10+'Benzin - diesel - hybrid'!#REF!*365)","v":{"$error":"#REF!"}}]
[null,19,19,null,{"$f":"'Benzin - diesel - hybrid'!E$11*F137*IF('Benzin - diesel - hybrid'!E$31=\"nej\",\"\",IF('Benzin - diesel - hybrid'!#REF!=\"ja\",VLOOKUP('Benzin - diesel - hybrid'!E$46+($C137-1),Fremskrivninger!$A$9:$L$38,12),'Benzin - diesel - hybrid'!#REF!))/1000","v":{"$error":"#REF!"}},{"$f":"('Benzin - diesel - hybrid'!#REF!*'Benzin - diesel - hybrid'!E$14*'Benzin - diesel - hybrid'!#REF!/10+'Benzin - diesel - hybrid'!#REF!*365)","v":{"$error":"#REF!"}},{"$f":"'Benzin - diesel - hybrid'!G$11*H137*IF('Benzin - diesel - hybrid'!G$31=\"nej\",\"\",IF('Benzin - diesel - hybrid'!#REF!=\"ja\",VLOOKUP('Benzin - diesel - hybrid'!G$46+($C137-1),Fremskrivninger!$A$9:$L$38,12),'Benzin - diesel - hybrid'!#REF!))/1000","v":{"$error":"#REF!"}},{"$f":"('Benzin - diesel - hybrid'!#REF!*'Benzin - diesel - hybrid'!G$14*'Benzin - diesel - hybrid'!#REF!/10+'Benzin - diesel - hybrid'!#REF!*365)","v":{"$error":"#REF!"}},{"$f":"'Benzin - diesel - hybrid'!I$11*J137*IF('Benzin - diesel - hybrid'!I$31=\"nej\",\"\",IF('Benzin - diesel - hybrid'!#REF!=\"ja\",VLOOKUP('Benzin - diesel - hybrid'!I$46+($C137-1),Fremskrivninger!$A$9:$L$38,12),'Benzin - diesel - hybrid'!#REF!))/1000","v":{"$error":"#REF!"}},{"$f":"('Benzin - diesel - hybrid'!#REF!*'Benzin - diesel - hybrid'!I$14*'Benzin - diesel - hybrid'!#REF!/10+'Benzin - diesel - hybrid'!#REF!*365)","v":{"$error":"#REF!"}},{"$f":"'Benzin - diesel - hybrid'!K$11*L137*IF('Benzin - diesel - hybrid'!K$31=\"nej\",\"\",IF('Benzin - diesel - hybrid'!#REF!=\"ja\",VLOOKUP('Benzin - diesel - hybrid'!K$46+($C137-1),Fremskrivninger!$A$9:$L$38,12),'Benzin - diesel - hybrid'!#REF!))/1000","v":{"$error":"#REF!"}},{"$f":"('Benzin - diesel - hybrid'!#REF!*'Benzin - diesel - hybrid'!K$14*'Benzin - diesel - hybrid'!#REF!/10+'Benzin - diesel - hybrid'!#REF!*365)","v":{"$error":"#REF!"}},{"$f":"'Benzin - diesel - hybrid'!M$11*N137*IF('Benzin - diesel - hybrid'!M$31=\"nej\",\"\",IF('Benzin - diesel - hybrid'!#REF!=\"ja\",VLOOKUP('Benzin - diesel - hybrid'!M$46+($C137-1),Fremskrivninger!$A$9:$L$38,12),'Benzin - diesel - hybrid'!#REF!))/1000","v":{"$error":"#REF!"}},{"$f":"('Benzin - diesel - hybrid'!#REF!*'Benzin - diesel - hybrid'!M$14*'Benzin - diesel - hybrid'!#REF!/10+'Benzin - diesel - hybrid'!#REF!*365)","v":{"$error":"#REF!"}},{"$f":"'Benzin - diesel - hybrid'!O$11*P137*IF('Benzin - diesel - hybrid'!O$31=\"nej\",\"\",IF('Benzin - diesel - hybrid'!#REF!=\"ja\",VLOOKUP('Benzin - diesel - hybrid'!O$46+($C137-1),Fremskrivninger!$A$9:$L$38,12),'Benzin - diesel - hybrid'!#REF!))/1000","v":{"$error":"#REF!"}},{"$f":"('Benzin - diesel - hybrid'!#REF!*'Benzin - diesel - hybrid'!O$14*'Benzin - diesel - hybrid'!#REF!/10+'Benzin - diesel - hybrid'!#REF!*365)","v":{"$error":"#REF!"}},{"$f":"'Benzin - diesel - hybrid'!Q$11*R137*IF('Benzin - diesel - hybrid'!Q$31=\"nej\",\"\",IF('Benzin - diesel - hybrid'!#REF!=\"ja\",VLOOKUP('Benzin - diesel - hybrid'!Q$46+($C137-1),Fremskrivninger!$A$9:$L$38,12),'Benzin - diesel - hybrid'!#REF!))/1000","v":{"$error":"#REF!"}},{"$f":"('Benzin - diesel - hybrid'!#REF!*'Benzin - diesel - hybrid'!Q$14*'Benzin - diesel - hybrid'!#REF!/10+'Benzin - diesel - hybrid'!#REF!*365)","v":{"$error":"#REF!"}},{"$f":"'Benzin - diesel - hybrid'!S$11*T137*IF('Benzin - diesel - hybrid'!S$31=\"nej\",\"\",IF('Benzin - diesel - hybrid'!#REF!=\"ja\",VLOOKUP('Benzin - diesel - hybrid'!S$46+($C137-1),Fremskrivninger!$A$9:$L$38,12),'Benzin - diesel - hybrid'!#REF!))/1000","v":{"$error":"#REF!"}},{"$f":"('Benzin - diesel - hybrid'!#REF!*'Benzin - diesel - hybrid'!S$14*'Benzin - diesel - hybrid'!#REF!/10+'Benzin - diesel - hybrid'!#REF!*365)","v":{"$error":"#REF!"}},{"$f":"'Benzin - diesel - hybrid'!Y$11*V137*IF('Benzin - diesel - hybrid'!Y$31=\"nej\",\"\",IF('Benzin - diesel - hybrid'!#REF!=\"ja\",VLOOKUP('Benzin - diesel - hybrid'!Y$46+($C137-1),Fremskrivninger!$A$9:$L$38,12),'Benzin - diesel - hybrid'!#REF!))/1000","v":{"$error":"#REF!"}},{"$f":"('Benzin - diesel - hybrid'!#REF!*'Benzin - diesel - hybrid'!Y$14*'Benzin - diesel - hybrid'!#REF!/10+'Benzin - diesel - hybrid'!#REF!*365)","v":{"$error":"#REF!"}},{"$f":"'Benzin - diesel - hybrid'!AA$11*X137*IF('Benzin - diesel - hybrid'!AA$31=\"nej\",\"\",IF('Benzin - diesel - hybrid'!#REF!=\"ja\",VLOOKUP('Benzin - diesel - hybrid'!AA$46+($C137-1),Fremskrivninger!$A$9:$L$38,12),'Benzin - diesel - hybrid'!#REF!))/1000","v":{"$error":"#REF!"}},{"$f":"('Benzin - diesel - hybrid'!#REF!*'Benzin - diesel - hybrid'!AA$14*'Benzin - diesel - hybrid'!#REF!/10+'Benzin - diesel - hybrid'!#REF!*365)","v":{"$error":"#REF!"}}]
[null,20,20,null,{"$f":"'Benzin - diesel - hybrid'!E$11*F138*IF('Benzin - diesel - hybrid'!E$31=\"nej\",\"\",IF('Benzin - diesel - hybrid'!#REF!=\"ja\",VLOOKUP('Benzin - diesel - hybrid'!E$46+($C138-1),Fremskrivninger!$A$9:$L$38,12),'Benzin - diesel - hybrid'!#REF!))/1000","v":{"$error":"#REF!"}},{"$f":"('Benzin - diesel - hybrid'!#REF!*'Benzin - diesel - hybrid'!E$14*'Benzin - diesel - hybrid'!#REF!/10+'Benzin - diesel - hybrid'!#REF!*365)","v":{"$error":"#REF!"}},{"$f":"'Benzin - diesel - hybrid'!G$11*H138*IF('Benzin - diesel - hybrid'!G$31=\"nej\",\"\",IF('Benzin - diesel - hybrid'!#REF!=\"ja\",VLOOKUP('Benzin - diesel - hybrid'!G$46+($C138-1),Fremskrivninger!$A$9:$L$38,12),'Benzin - diesel - hybrid'!#REF!))/1000","v":{"$error":"#REF!"}},{"$f":"('Benzin - diesel - hybrid'!#REF!*'Benzin - diesel - hybrid'!G$14*'Benzin - diesel - hybrid'!#REF!/10+'Benzin - diesel - hybrid'!#REF!*365)","v":{"$error":"#REF!"}},{"$f":"'Benzin - diesel - hybrid'!I$11*J138*IF('Benzin - diesel - hybrid'!I$31=\"nej\",\"\",IF('Benzin - diesel - hybrid'!#REF!=\"ja\",VLOOKUP('Benzin - diesel - hybrid'!I$46+($C138-1),Fremskrivninger!$A$9:$L$38,12),'Benzin - diesel - hybrid'!#REF!))/1000","v":{"$error":"#REF!"}},{"$f":"('Benzin - diesel - hybrid'!#REF!*'Benzin - diesel - hybrid'!I$14*'Benzin - diesel - hybrid'!#REF!/10+'Benzin - diesel - hybrid'!#REF!*365)","v":{"$error":"#REF!"}},{"$f":"'Benzin - diesel - hybrid'!K$11*L138*IF('Benzin - diesel - hybrid'!K$31=\"nej\",\"\",IF('Benzin - diesel - hybrid'!#REF!=\"ja\",VLOOKUP('Benzin - diesel - hybrid'!K$46+($C138-1),Fremskrivninger!$A$9:$L$38,12),'Benzin - diesel - hybrid'!#REF!))/1000","v":{"$error":"#REF!"}},{"$f":"('Benzin - diesel - hybrid'!#REF!*'Benzin - diesel - hybrid'!K$14*'Benzin - diesel - hybrid'!#REF!/10+'Benzin - diesel - hybrid'!#REF!*365)","v":{"$error":"#REF!"}},{"$f":"'Benzin - diesel - hybrid'!M$11*N138*IF('Benzin - diesel - hybrid'!M$31=\"nej\",\"\",IF('Benzin - diesel - hybrid'!#REF!=\"ja\",VLOOKUP('Benzin - diesel - hybrid'!M$46+($C138-1),Fremskrivninger!$A$9:$L$38,12),'Benzin - diesel - hybrid'!#REF!))/1000","v":{"$error":"#REF!"}},{"$f":"('Benzin - diesel - hybrid'!#REF!*'Benzin - diesel - hybrid'!M$14*'Benzin - diesel - hybrid'!#REF!/10+'Benzin - diesel - hybrid'!#REF!*365)","v":{"$error":"#REF!"}},{"$f":"'Benzin - diesel - hybrid'!O$11*P138*IF('Benzin - diesel - hybrid'!O$31=\"nej\",\"\",IF('Benzin - diesel - hybrid'!#REF!=\"ja\",VLOOKUP('Benzin - diesel - hybrid'!O$46+($C138-1),Fremskrivninger!$A$9:$L$38,12),'Benzin - diesel - hybrid'!#REF!))/1000","v":{"$error":"#REF!"}},{"$f":"('Benzin - diesel - hybrid'!#REF!*'Benzin - diesel - hybrid'!O$14*'Benzin - diesel - hybrid'!#REF!/10+'Benzin - diesel - hybrid'!#REF!*365)","v":{"$error":"#REF!"}},{"$f":"'Benzin - diesel - hybrid'!Q$11*R138*IF('Benzin - diesel - hybrid'!Q$31=\"nej\",\"\",IF('Benzin - diesel - hybrid'!#REF!=\"ja\",VLOOKUP('Benzin - diesel - hybrid'!Q$46+($C138-1),Fremskrivninger!$A$9:$L$38,12),'Benzin - diesel - hybrid'!#REF!))/1000","v":{"$error":"#REF!"}},{"$f":"('Benzin - diesel - hybrid'!#REF!*'Benzin - diesel - hybrid'!Q$14*'Benzin - diesel - hybrid'!#REF!/10+'Benzin - diesel - hybrid'!#REF!*365)","v":{"$error":"#REF!"}},{"$f":"'Benzin - diesel - hybrid'!S$11*T138*IF('Benzin - diesel - hybrid'!S$31=\"nej\",\"\",IF('Benzin - diesel - hybrid'!#REF!=\"ja\",VLOOKUP('Benzin - diesel - hybrid'!S$46+($C138-1),Fremskrivninger!$A$9:$L$38,12),'Benzin - diesel - hybrid'!#REF!))/1000","v":{"$error":"#REF!"}},{"$f":"('Benzin - diesel - hybrid'!#REF!*'Benzin - diesel - hybrid'!S$14*'Benzin - diesel - hybrid'!#REF!/10+'Benzin - diesel - hybrid'!#REF!*365)","v":{"$error":"#REF!"}},{"$f":"'Benzin - diesel - hybrid'!Y$11*V138*IF('Benzin - diesel - hybrid'!Y$31=\"nej\",\"\",IF('Benzin - diesel - hybrid'!#REF!=\"ja\",VLOOKUP('Benzin - diesel - hybrid'!Y$46+($C138-1),Fremskrivninger!$A$9:$L$38,12),'Benzin - diesel - hybrid'!#REF!))/1000","v":{"$error":"#REF!"}},{"$f":"('Benzin - diesel - hybrid'!#REF!*'Benzin - diesel - hybrid'!Y$14*'Benzin - diesel - hybrid'!#REF!/10+'Benzin - diesel - hybrid'!#REF!*365)","v":{"$error":"#REF!"}},{"$f":"'Benzin - diesel - hybrid'!AA$11*X138*IF('Benzin - diesel - hybrid'!AA$31=\"nej\",\"\",IF('Benzin - diesel - hybrid'!#REF!=\"ja\",VLOOKUP('Benzin - diesel - hybrid'!AA$46+($C138-1),Fremskrivninger!$A$9:$L$38,12),'Benzin - diesel - hybrid'!#REF!))/1000","v":{"$error":"#REF!"}},{"$f":"('Benzin - diesel - hybrid'!#REF!*'Benzin - diesel - hybrid'!AA$14*'Benzin - diesel - hybrid'!#REF!/10+'Benzin - diesel - hybrid'!#REF!*365)","v":{"$error":"#REF!"}}]
[]
["Eksternalitetsmodul - Udledninger forbundet med benzinforbrug i brugsfasen (tons CO2e) - Udledningerne er multipleret med antallet af produkter I det givne tilbud"]
[null,"År indeks",null,"TCO-evalueringsperiode",{"$f":"'Benzin - diesel - hybrid'!E8&\" - (ton CO2e/år)\"","v":"PRODUKT 1 - (ton CO2e/år)"},{"$f":"'Benzin - diesel - hybrid'!E8&\" - Årligt benzinforbrug (liter/år/produkt)\"","v":"PRODUKT 1 - Årligt benzinforbrug (liter/år/produkt)"},{"$f":"'Benzin - diesel - hybrid'!G8&\" - (ton CO2e/år)\"","v":"PRODUKT 2 - (ton CO2e/år)"},{"$f":"'Benzin - diesel - hybrid'!G8&\" - Årligt benzinforbrug (liter/år/produkt)\"","v":"PRODUKT 2 - Årligt benzinforbrug (liter/år/produkt)"},{"$f":"'Benzin - diesel - hybrid'!I8&\" - (ton CO2e/år)\"","v":"PRODUKT 3 - (ton CO2e/år)"},{"$f":"'Benzin - diesel - hybrid'!I8&\" - Årligt benzinforbrug (liter/år/produkt)\"","v":"PRODUKT 3 - Årligt benzinforbrug (liter/år/produkt)"},{"$f":"'Benzin - diesel - hybrid'!K8&\" - (ton CO2e/år)\"","v":"PRODUKT 4 - (ton CO2e/år)"},{"$f":"'Benzin - diesel - hybrid'!K8&\" - Årligt benzinforbrug (liter/år/produkt)\"","v":"PRODUKT 4 - Årligt benzinforbrug (liter/år/produkt)"},{"$f":"'Benzin - diesel - hybrid'!M8&\" - (ton CO2e/år)\"","v":"PRODUKT 5 - (ton CO2e/år)"},{"$f":"'Benzin - diesel - hybrid'!M8&\" - Årligt benzinforbrug (liter/år/produkt)\"","v":"PRODUKT 5 - Årligt benzinforbrug (liter/år/produkt)"},{"$f":"'Benzin - diesel - hybrid'!O8&\" - (ton CO2e/år)\"","v":"PRODUKT 6 - (ton CO2e/år)"},{"$f":"'Benzin - diesel - hybrid'!O8&\" - Årligt benzinforbrug (liter/år/produkt)\"","v":"PRODUKT 6 - Årligt benzinforbrug (liter/år/produkt)"},{"$f":"'Benzin - diesel - hybrid'!Q8&\" - (ton CO2e/år)\"","v":"PRODUKT 7 - (ton CO2e/år)"},{"$f":"'Benzin - diesel - hybrid'!Q8&\" - Årligt benzinforbrug (liter/år/produkt)\"","v":"PRODUKT 7 - Årligt benzinforbrug (liter/år/produkt)"},{"$f":"'Benzin - diesel - hybrid'!S8&\" - (ton CO2e/år)\"","v":"PRODUKT 8 - (ton CO2e/år)"},{"$f":"'Benzin - diesel - hybrid'!S8&\" - Årligt benzinforbrug (liter/år/produkt)\"","v":"PRODUKT 8 - Årligt benzinforbrug (liter/år/produkt)"},{"$f":"'Benzin - diesel - hybrid'!U8&\" - (ton CO2e/år)\"","v":"PRODUKT 9 - (ton CO2e/år)"},{"$f":"'Benzin - diesel - hybrid'!U8&\" - Årligt benzinforbrug (liter/år/produkt)\"","v":"PRODUKT 9 - Årligt benzinforbrug (liter/år/produkt)"},{"$f":"'Benzin - diesel - hybrid'!W8&\" - (ton CO2e/år)\"","v":"PRODUKT 10 - (ton CO2e/år)"},{"$f":"'Benzin - diesel - hybrid'!W8&\" - Årligt benzinforbrug (liter/år/produkt)\"","v":"PRODUKT 10 - Årligt benzinforbrug (liter/år/produkt)"}]
[null,1,{"$f":"B142","v":1},null,{"$f":"VLOOKUP('Benzin - diesel - hybrid'!E$46+($B142-1),'Fremskrivninger CO2e egne data'!$B$4:$M$34,3)/1000*'Benzin - diesel - hybrid'!E$11","v":0},{"$f":"IFERROR('Benzin - diesel - hybrid'!E$14/'Benzin - diesel - hybrid'!#REF!,0)","v":0},{"$f":"VLOOKUP('Benzin - diesel - hybrid'!G$46+($B142-1),'Fremskrivninger CO2e egne data'!$B$4:$M$34,4)/1000*'Benzin - diesel - hybrid'!G$11","v":0},{"$f":"IFERROR('Benzin - diesel - hybrid'!G$14/'Benzin - diesel - hybrid'!#REF!,0)","v":0},{"$f":"VLOOKUP('Benzin - diesel - hybrid'!I$46+($B142-1),'Fremskrivninger CO2e egne data'!$B$4:$M$34,5)/1000*'Benzin - diesel - hybrid'!I$11","v":0},{"$f":"IFERROR('Benzin - diesel - hybrid'!I$14/'Benzin - diesel - hybrid'!#REF!,0)","v":0},{"$f":"VLOOKUP('Benzin - diesel - hybrid'!K$46+($B142-1),'Fremskrivninger CO2e egne data'!$B$4:$M$34,6)/1000*'Benzin - diesel - hybrid'!K$11","v":0},{"$f":"IFERROR('Benzin - diesel - hybrid'!K$14/'Benzin - diesel - hybrid'!#REF!,0)","v":0},{"$f":"VLOOKUP('Benzin - diesel - hybrid'!M$46+($B142-1),'Fremskrivninger CO2e egne data'!$B$4:$M$34,7)/1000*'Benzin - diesel - hybrid'!M$11","v":0},{"$f":"IFERROR('Benzin - diesel - hybrid'!M$14/'Benzin - diesel - hybrid'!#REF!,0)","v":0},{"$f":"VLOOKUP('Benzin - diesel - hybrid'!O$46+($B142-1),'Fremskrivninger CO2e egne data'!$B$4:$M$34,8)/1000*'Benzin - diesel - hybrid'!O$11","v":0},{"$f":"IFERROR('Benzin - diesel - hybrid'!O$14/'Benzin - diesel - hybrid'!#REF!,0)","v":0},{"$f":"VLOOKUP('Benzin - diesel - hybrid'!Q$46+($B142-1),'Fremskrivninger CO2e egne data'!$B$4:$M$34,9)/1000*'Benzin - diesel - hybrid'!Q$11","v":0},{"$f":"IFERROR('Benzin - diesel - hybrid'!Q$14/'Benzin - diesel - hybrid'!#REF!,0)","v":0},{"$f":"VLOOKUP('Benzin - diesel - hybrid'!S$46+($B142-1),'Fremskrivninger CO2e egne data'!$B$4:$M$34,10)/1000*'Benzin - diesel - hybrid'!S$11","v":0},{"$f":"IFERROR('Benzin - diesel - hybrid'!S$14/'Benzin - diesel - hybrid'!#REF!,0)","v":0},{"$f":"VLOOKUP('Benzin - diesel - hybrid'!U$46+($B142-1),'Fremskrivninger CO2e egne data'!$B$4:$M$34,11)/1000*'Benzin - diesel - hybrid'!U$11","v":0},{"$f":"IFERROR('Benzin - diesel - hybrid'!U$14/'Benzin - diesel - hybrid'!#REF!,0)","v":0},{"$f":"VLOOKUP('Benzin - diesel - hybrid'!W$46+($B142-1),'Fremskrivninger CO2e egne data'!$B$4:$M$34,12)/1000*'Benzin - diesel - hybrid'!W$11","v":0},{"$f":"IFERROR('Benzin - diesel - hybrid'!W$14/'Benzin - diesel - hybrid'!#REF!,0)","v":0}]
[null,2,{"$f":"B143","v":2},null,{"$f":"VLOOKUP('Benzin - diesel - hybrid'!E$46+($B143-1),'Fremskrivninger CO2e egne data'!$B$4:$M$34,3)/1000*'Benzin - diesel - hybrid'!E$11","v":0},{"$f":"IFERROR('Benzin - diesel - hybrid'!E$14/'Benzin - diesel - hybrid'!#REF!,0)","v":0},{"$f":"VLOOKUP('Benzin - diesel - hybrid'!G$46+($B143-1),'Fremskrivninger CO2e egne data'!$B$4:$M$34,4)/1000*'Benzin - diesel - hybrid'!G$11","v":0},{"$f":"IFERROR('Benzin - diesel - hybrid'!G$14/'Benzin - diesel - hybrid'!#REF!,0)","v":0},{"$f":"VLOOKUP('Benzin - diesel - hybrid'!I$46+($B143-1),'Fremskrivninger CO2e egne data'!$B$4:$M$34,5)/1000*'Benzin - diesel - hybrid'!I$11","v":0},{"$f":"IFERROR('Benzin - diesel - hybrid'!I$14/'Benzin - diesel - hybrid'!#REF!,0)","v":0},{"$f":"VLOOKUP('Benzin - diesel - hybrid'!K$46+($B143-1),'Fremskrivninger CO2e egne data'!$B$4:$M$34,6)/1000*'Benzin - diesel - hybrid'!K$11","v":0},{"$f":"IFERROR('Benzin - diesel - hybrid'!K$14/'Benzin - diesel - hybrid'!#REF!,0)","v":0},{"$f":"VLOOKUP('Benzin - diesel - hybrid'!M$46+($B143-1),'Fremskrivninger CO2e egne data'!$B$4:$M$34,7)/1000*'Benzin - diesel - hybrid'!M$11","v":0},{"$f":"IFERROR('Benzin - diesel - hybrid'!M$14/'Benzin - diesel - hybrid'!#REF!,0)","v":0},{"$f":"VLOOKUP('Benzin - diesel - hybrid'!O$46+($B143-1),'Fremskrivninger CO2e egne data'!$B$4:$M$34,8)/1000*'Benzin - diesel - hybrid'!O$11","v":0},{"$f":"IFERROR('Benzin - diesel - hybrid'!O$14/'Benzin - diesel - hybrid'!#REF!,0)","v":0},{"$f":"VLOOKUP('Benzin - diesel - hybrid'!Q$46+($B143-1),'Fremskrivninger CO2e egne data'!$B$4:$M$34,9)/1000*'Benzin - diesel - hybrid'!Q$11","v":0},{"$f":"IFERROR('Benzin - diesel - hybrid'!Q$14/'Benzin - diesel - hybrid'!#REF!,0)","v":0},{"$f":"VLOOKUP('Benzin - diesel - hybrid'!S$46+($B143-1),'Fremskrivninger CO2e egne data'!$B$4:$M$34,10)/1000*'Benzin - diesel - hybrid'!S$11","v":0},{"$f":"IFERROR('Benzin - diesel - hybrid'!S$14/'Benzin - diesel - hybrid'!#REF!,0)","v":0},{"$f":"VLOOKUP('Benzin - diesel - hybrid'!U$46+($B143-1),'Fremskrivninger CO2e egne data'!$B$4:$M$34,11)/1000*'Benzin - diesel - hybrid'!U$11","v":0},{"$f":"IFERROR('Benzin - diesel - hybrid'!U$14/'Benzin - diesel - hybrid'!#REF!,0)","v":0},{"$f":"VLOOKUP('Benzin - diesel - hybrid'!W$46+($B143-1),'Fremskrivninger CO2e egne data'!$B$4:$M$34,12)/1000*'Benzin - diesel - hybrid'!W$11","v":0},{"$f":"IFERROR('Benzin - diesel - hybrid'!W$14/'Benzin - diesel - hybrid'!#REF!,0)","v":0}]
[null,3,3,null,{"$f":"VLOOKUP('Benzin - diesel - hybrid'!E$46+($B144-1),'Fremskrivninger CO2e egne data'!$B$4:$M$34,3)/1000*'Benzin - diesel - hybrid'!E$11","v":0},{"$f":"IFERROR('Benzin - diesel - hybrid'!E$14/'Benzin - diesel - hybrid'!#REF!,0)","v":0},{"$f":"VLOOKUP('Benzin - diesel - hybrid'!G$46+($B144-1),'Fremskrivninger CO2e egne data'!$B$4:$M$34,4)/1000*'Benzin - diesel - hybrid'!G$11","v":0},{"$f":"IFERROR('Benzin - diesel - hybrid'!G$14/'Benzin - diesel - hybrid'!#REF!,0)","v":0},{"$f":"VLOOKUP('Benzin - diesel - hybrid'!I$46+($B144-1),'Fremskrivninger CO2e egne data'!$B$4:$M$34,5)/1000*'Benzin - diesel - hybrid'!I$11","v":0},{"$f":"IFERROR('Benzin - diesel - hybrid'!I$14/'Benzin - diesel - hybrid'!#REF!,0)","v":0},{"$f":"VLOOKUP('Benzin - diesel - hybrid'!K$46+($B144-1),'Fremskrivninger CO2e egne data'!$B$4:$M$34,6)/1000*'Benzin - diesel - hybrid'!K$11","v":0},{"$f":"IFERROR('Benzin - diesel - hybrid'!K$14/'Benzin - diesel - hybrid'!#REF!,0)","v":0},{"$f":"VLOOKUP('Benzin - diesel - hybrid'!M$46+($B144-1),'Fremskrivninger CO2e egne data'!$B$4:$M$34,7)/1000*'Benzin - diesel - hybrid'!M$11","v":0},{"$f":"IFERROR('Benzin - diesel - hybrid'!M$14/'Benzin - diesel - hybrid'!#REF!,0)","v":0},{"$f":"VLOOKUP('Benzin - diesel - hybrid'!O$46+($B144-1),'Fremskrivninger CO2e egne data'!$B$4:$M$34,8)/1000*'Benzin - diesel - hybrid'!O$11","v":0},{"$f":"IFERROR('Benzin - diesel - hybrid'!O$14/'Benzin - diesel - hybrid'!#REF!,0)","v":0},{"$f":"VLOOKUP('Benzin - diesel - hybrid'!Q$46+($B144-1),'Fremskrivninger CO2e egne data'!$B$4:$M$34,9)/1000*'Benzin - diesel - hybrid'!Q$11","v":0},{"$f":"IFERROR('Benzin - diesel - hybrid'!Q$14/'Benzin - diesel - hybrid'!#REF!,0)","v":0},{"$f":"VLOOKUP('Benzin - diesel - hybrid'!S$46+($B144-1),'Fremskrivninger CO2e egne data'!$B$4:$M$34,10)/1000*'Benzin - diesel - hybrid'!S$11","v":0},{"$f":"IFERROR('Benzin - diesel - hybrid'!S$14/'Benzin - diesel - hybrid'!#REF!,0)","v":0},{"$f":"VLOOKUP('Benzin - diesel - hybrid'!U$46+($B144-1),'Fremskrivninger CO2e egne data'!$B$4:$M$34,11)/1000*'Benzin - diesel - hybrid'!U$11","v":0},{"$f":"IFERROR('Benzin - diesel - hybrid'!U$14/'Benzin - diesel - hybrid'!#REF!,0)","v":0},{"$f":"VLOOKUP('Benzin - diesel - hybrid'!W$46+($B144-1),'Fremskrivninger CO2e egne data'!$B$4:$M$34,12)/1000*'Benzin - diesel - hybrid'!W$11","v":0},{"$f":"IFERROR('Benzin - diesel - hybrid'!W$14/'Benzin - diesel - hybrid'!#REF!,0)","v":0}]
[null,4,4,null,{"$f":"VLOOKUP('Benzin - diesel - hybrid'!E$46+($B145-1),'Fremskrivninger CO2e egne data'!$B$4:$M$34,3)/1000*'Benzin - diesel - hybrid'!E$11","v":0},{"$f":"IFERROR('Benzin - diesel - hybrid'!E$14/'Benzin - diesel - hybrid'!#REF!,0)","v":0},{"$f":"VLOOKUP('Benzin - diesel - hybrid'!G$46+($B145-1),'Fremskrivninger CO2e egne data'!$B$4:$M$34,4)/1000*'Benzin - diesel - hybrid'!G$11","v":0},{"$f":"IFERROR('Benzin - diesel - hybrid'!G$14/'Benzin - diesel - hybrid'!#REF!,0)","v":0},{"$f":"VLOOKUP('Benzin - diesel - hybrid'!I$46+($B145-1),'Fremskrivninger CO2e egne data'!$B$4:$M$34,5)/1000*'Benzin - diesel - hybrid'!I$11","v":0},{"$f":"IFERROR('Benzin - diesel - hybrid'!I$14/'Benzin - diesel - hybrid'!#REF!,0)","v":0},{"$f":"VLOOKUP('Benzin - diesel - hybrid'!K$46+($B145-1),'Fremskrivninger CO2e egne data'!$B$4:$M$34,6)/1000*'Benzin - diesel - hybrid'!K$11","v":0},{"$f":"IFERROR('Benzin - diesel - hybrid'!K$14/'Benzin - diesel - hybrid'!#REF!,0)","v":0},{"$f":"VLOOKUP('Benzin - diesel - hybrid'!M$46+($B145-1),'Fremskrivninger CO2e egne data'!$B$4:$M$34,7)/1000*'Benzin - diesel - hybrid'!M$11","v":0},{"$f":"IFERROR('Benzin - diesel - hybrid'!M$14/'Benzin - diesel - hybrid'!#REF!,0)","v":0},{"$f":"VLOOKUP('Benzin - diesel - hybrid'!O$46+($B145-1),'Fremskrivninger CO2e egne data'!$B$4:$M$34,8)/1000*'Benzin - diesel - hybrid'!O$11","v":0},{"$f":"IFERROR('Benzin - diesel - hybrid'!O$14/'Benzin - diesel - hybrid'!#REF!,0)","v":0},{"$f":"VLOOKUP('Benzin - diesel - hybrid'!Q$46+($B145-1),'Fremskrivninger CO2e egne data'!$B$4:$M$34,9)/1000*'Benzin - diesel - hybrid'!Q$11","v":0},{"$f":"IFERROR('Benzin - diesel - hybrid'!Q$14/'Benzin - diesel - hybrid'!#REF!,0)","v":0},{"$f":"VLOOKUP('Benzin - diesel - hybrid'!S$46+($B145-1),'Fremskrivninger CO2e egne data'!$B$4:$M$34,10)/1000*'Benzin - diesel - hybrid'!S$11","v":0},{"$f":"IFERROR('Benzin - diesel - hybrid'!S$14/'Benzin - diesel - hybrid'!#REF!,0)","v":0},{"$f":"VLOOKUP('Benzin - diesel - hybrid'!U$46+($B145-1),'Fremskrivninger CO2e egne data'!$B$4:$M$34,11)/1000*'Benzin - diesel - hybrid'!U$11","v":0},{"$f":"IFERROR('Benzin - diesel - hybrid'!U$14/'Benzin - diesel - hybrid'!#REF!,0)","v":0},{"$f":"VLOOKUP('Benzin - diesel - hybrid'!W$46+($B145-1),'Fremskrivninger CO2e egne data'!$B$4:$M$34,12)/1000*'Benzin - diesel - hybrid'!W$11","v":0},{"$f":"IFERROR('Benzin - diesel - hybrid'!W$14/'Benzin - diesel - hybrid'!#REF!,0)","v":0}]
[null,5,5,null,{"$f":"VLOOKUP('Benzin - diesel - hybrid'!E$46+($B146-1),'Fremskrivninger CO2e egne data'!$B$4:$M$34,3)/1000*'Benzin - diesel - hybrid'!E$11","v":0},{"$f":"IFERROR('Benzin - diesel - hybrid'!E$14/'Benzin - diesel - hybrid'!#REF!,0)","v":0},{"$f":"VLOOKUP('Benzin - diesel - hybrid'!G$46+($B146-1),'Fremskrivninger CO2e egne data'!$B$4:$M$34,4)/1000*'Benzin - diesel - hybrid'!G$11","v":0},{"$f":"IFERROR('Benzin - diesel - hybrid'!G$14/'Benzin - diesel - hybrid'!#REF!,0)","v":0},{"$f":"VLOOKUP('Benzin - diesel - hybrid'!I$46+($B146-1),'Fremskrivninger CO2e egne data'!$B$4:$M$34,5)/1000*'Benzin - diesel - hybrid'!I$11","v":0},{"$f":"IFERROR('Benzin - diesel - hybrid'!I$14/'Benzin - diesel - hybrid'!#REF!,0)","v":0},{"$f":"VLOOKUP('Benzin - diesel - hybrid'!K$46+($B146-1),'Fremskrivninger CO2e egne data'!$B$4:$M$34,6)/1000*'Benzin - diesel - hybrid'!K$11","v":0},{"$f":"IFERROR('Benzin - diesel - hybrid'!K$14/'Benzin - diesel - hybrid'!#REF!,0)","v":0},{"$f":"VLOOKUP('Benzin - diesel - hybrid'!M$46+($B146-1),'Fremskrivninger CO2e egne data'!$B$4:$M$34,7)/1000*'Benzin - diesel - hybrid'!M$11","v":0},{"$f":"IFERROR('Benzin - diesel - hybrid'!M$14/'Benzin - diesel - hybrid'!#REF!,0)","v":0},{"$f":"VLOOKUP('Benzin - diesel - hybrid'!O$46+($B146-1),'Fremskrivninger CO2e egne data'!$B$4:$M$34,8)/1000*'Benzin - diesel - hybrid'!O$11","v":0},{"$f":"IFERROR('Benzin - diesel - hybrid'!O$14/'Benzin - diesel - hybrid'!#REF!,0)","v":0},{"$f":"VLOOKUP('Benzin - diesel - hybrid'!Q$46+($B146-1),'Fremskrivninger CO2e egne data'!$B$4:$M$34,9)/1000*'Benzin - diesel - hybrid'!Q$11","v":0},{"$f":"IFERROR('Benzin - diesel - hybrid'!Q$14/'Benzin - diesel - hybrid'!#REF!,0)","v":0},{"$f":"VLOOKUP('Benzin - diesel - hybrid'!S$46+($B146-1),'Fremskrivninger CO2e egne data'!$B$4:$M$34,10)/1000*'Benzin - diesel - hybrid'!S$11","v":0},{"$f":"IFERROR('Benzin - diesel - hybrid'!S$14/'Benzin - diesel - hybrid'!#REF!,0)","v":0},{"$f":"VLOOKUP('Benzin - diesel - hybrid'!U$46+($B146-1),'Fremskrivninger CO2e egne data'!$B$4:$M$34,11)/1000*'Benzin - diesel - hybrid'!U$11","v":0},{"$f":"IFERROR('Benzin - diesel - hybrid'!U$14/'Benzin - diesel - hybrid'!#REF!,0)","v":0},{"$f":"VLOOKUP('Benzin - diesel - hybrid'!W$46+($B146-1),'Fremskrivninger CO2e egne data'!$B$4:$M$34,12)/1000*'Benzin - diesel - hybrid'!W$11","v":0},{"$f":"IFERROR('Benzin - diesel - hybrid'!W$14/'Benzin - diesel - hybrid'!#REF!,0)","v":0}]
[null,6,6,null,{"$f":"VLOOKUP('Benzin - diesel - hybrid'!E$46+($B147-1),'Fremskrivninger CO2e egne data'!$B$4:$M$34,3)/1000*'Benzin - diesel - hybrid'!E$11","v":0},{"$f":"IFERROR('Benzin - diesel - hybrid'!E$14/'Benzin - diesel - hybrid'!#REF!,0)","v":0},{"$f":"VLOOKUP('Benzin - diesel - hybrid'!G$46+($B147-1),'Fremskrivninger CO2e egne data'!$B$4:$M$34,4)/1000*'Benzin - diesel - hybrid'!G$11","v":0},{"$f":"IFERROR('Benzin - diesel - hybrid'!G$14/'Benzin - diesel - hybrid'!#REF!,0)","v":0},{"$f":"VLOOKUP('Benzin - diesel - hybrid'!I$46+($B147-1),'Fremskrivninger CO2e egne data'!$B$4:$M$34,5)/1000*'Benzin - diesel - hybrid'!I$11","v":0},{"$f":"IFERROR('Benzin - diesel - hybrid'!I$14/'Benzin - diesel - hybrid'!#REF!,0)","v":0},{"$f":"VLOOKUP('Benzin - diesel - hybrid'!K$46+($B147-1),'Fremskrivninger CO2e egne data'!$B$4:$M$34,6)/1000*'Benzin - diesel - hybrid'!K$11","v":0},{"$f":"IFERROR('Benzin - diesel - hybrid'!K$14/'Benzin - diesel - hybrid'!#REF!,0)","v":0},{"$f":"VLOOKUP('Benzin - diesel - hybrid'!M$46+($B147-1),'Fremskrivninger CO2e egne data'!$B$4:$M$34,7)/1000*'Benzin - diesel - hybrid'!M$11","v":0},{"$f":"IFERROR('Benzin - diesel - hybrid'!M$14/'Benzin - diesel - hybrid'!#REF!,0)","v":0},{"$f":"VLOOKUP('Benzin - diesel - hybrid'!O$46+($B147-1),'Fremskrivninger CO2e egne data'!$B$4:$M$34,8)/1000*'Benzin - diesel - hybrid'!O$11","v":0},{"$f":"IFERROR('Benzin - diesel - hybrid'!O$14/'Benzin - diesel - hybrid'!#REF!,0)","v":0},{"$f":"VLOOKUP('Benzin - diesel - hybrid'!Q$46+($B147-1),'Fremskrivninger CO2e egne data'!$B$4:$M$34,9)/1000*'Benzin - diesel - hybrid'!Q$11","v":0},{"$f":"IFERROR('Benzin - diesel - hybrid'!Q$14/'Benzin - diesel - hybrid'!#REF!,0)","v":0},{"$f":"VLOOKUP('Benzin - diesel - hybrid'!S$46+($B147-1),'Fremskrivninger CO2e egne data'!$B$4:$M$34,10)/1000*'Benzin - diesel - hybrid'!S$11","v":0},{"$f":"IFERROR('Benzin - diesel - hybrid'!S$14/'Benzin - diesel - hybrid'!#REF!,0)","v":0},{"$f":"VLOOKUP('Benzin - diesel - hybrid'!U$46+($B147-1),'Fremskrivninger CO2e egne data'!$B$4:$M$34,11)/1000*'Benzin - diesel - hybrid'!U$11","v":0},{"$f":"IFERROR('Benzin - diesel - hybrid'!U$14/'Benzin - diesel - hybrid'!#REF!,0)","v":0},{"$f":"VLOOKUP('Benzin - diesel - hybrid'!W$46+($B147-1),'Fremskrivninger CO2e egne data'!$B$4:$M$34,12)/1000*'Benzin - diesel - hybrid'!W$11","v":0},{"$f":"IFERROR('Benzin - diesel - hybrid'!W$14/'Benzin - diesel - hybrid'!#REF!,0)","v":0}]
[null,7,7,null,{"$f":"VLOOKUP('Benzin - diesel - hybrid'!E$46+($B148-1),'Fremskrivninger CO2e egne data'!$B$4:$M$34,3)/1000*'Benzin - diesel - hybrid'!E$11","v":0},{"$f":"IFERROR('Benzin - diesel - hybrid'!E$14/'Benzin - diesel - hybrid'!#REF!,0)","v":0},{"$f":"VLOOKUP('Benzin - diesel - hybrid'!G$46+($B148-1),'Fremskrivninger CO2e egne data'!$B$4:$M$34,4)/1000*'Benzin - diesel - hybrid'!G$11","v":0},{"$f":"IFERROR('Benzin - diesel - hybrid'!G$14/'Benzin - diesel - hybrid'!#REF!,0)","v":0},{"$f":"VLOOKUP('Benzin - diesel - hybrid'!I$46+($B148-1),'Fremskrivninger CO2e egne data'!$B$4:$M$34,5)/1000*'Benzin - diesel - hybrid'!I$11","v":0},{"$f":"IFERROR('Benzin - diesel - hybrid'!I$14/'Benzin - diesel - hybrid'!#REF!,0)","v":0},{"$f":"VLOOKUP('Benzin - diesel - hybrid'!K$46+($B148-1),'Fremskrivninger CO2e egne data'!$B$4:$M$34,6)/1000*'Benzin - diesel - hybrid'!K$11","v":0},{"$f":"IFERROR('Benzin - diesel - hybrid'!K$14/'Benzin - diesel - hybrid'!#REF!,0)","v":0},{"$f":"VLOOKUP('Benzin - diesel - hybrid'!M$46+($B148-1),'Fremskrivninger CO2e egne data'!$B$4:$M$34,7)/1000*'Benzin - diesel - hybrid'!M$11","v":0},{"$f":"IFERROR('Benzin - diesel - hybrid'!M$14/'Benzin - diesel - hybrid'!#REF!,0)","v":0},{"$f":"VLOOKUP('Benzin - diesel - hybrid'!O$46+($B148-1),'Fremskrivninger CO2e egne data'!$B$4:$M$34,8)/1000*'Benzin - diesel - hybrid'!O$11","v":0},{"$f":"IFERROR('Benzin - diesel - hybrid'!O$14/'Benzin - diesel - hybrid'!#REF!,0)","v":0},{"$f":"VLOOKUP('Benzin - diesel - hybrid'!Q$46+($B148-1),'Fremskrivninger CO2e egne data'!$B$4:$M$34,9)/1000*'Benzin - diesel - hybrid'!Q$11","v":0},{"$f":"IFERROR('Benzin - diesel - hybrid'!Q$14/'Benzin - diesel - hybrid'!#REF!,0)","v":0},{"$f":"VLOOKUP('Benzin - diesel - hybrid'!S$46+($B148-1),'Fremskrivninger CO2e egne data'!$B$4:$M$34,10)/1000*'Benzin - diesel - hybrid'!S$11","v":0},{"$f":"IFERROR('Benzin - diesel - hybrid'!S$14/'Benzin - diesel - hybrid'!#REF!,0)","v":0},{"$f":"VLOOKUP('Benzin - diesel - hybrid'!U$46+($B148-1),'Fremskrivninger CO2e egne data'!$B$4:$M$34,11)/1000*'Benzin - diesel - hybrid'!U$11","v":0},{"$f":"IFERROR('Benzin - diesel - hybrid'!U$14/'Benzin - diesel - hybrid'!#REF!,0)","v":0},{"$f":"VLOOKUP('Benzin - diesel - hybrid'!W$46+($B148-1),'Fremskrivninger CO2e egne data'!$B$4:$M$34,12)/1000*'Benzin - diesel - hybrid'!W$11","v":0},{"$f":"IFERROR('Benzin - diesel - hybrid'!W$14/'Benzin - diesel - hybrid'!#REF!,0)","v":0}]
[null,8,8,null,{"$f":"VLOOKUP('Benzin - diesel - hybrid'!E$46+($B149-1),'Fremskrivninger CO2e egne data'!$B$4:$M$34,3)/1000*'Benzin - diesel - hybrid'!E$11","v":0},{"$f":"IFERROR('Benzin - diesel - hybrid'!E$14/'Benzin - diesel - hybrid'!#REF!,0)","v":0},{"$f":"VLOOKUP('Benzin - diesel - hybrid'!G$46+($B149-1),'Fremskrivninger CO2e egne data'!$B$4:$M$34,4)/1000*'Benzin - diesel - hybrid'!G$11","v":0},{"$f":"IFERROR('Benzin - diesel - hybrid'!G$14/'Benzin - diesel - hybrid'!#REF!,0)","v":0},{"$f":"VLOOKUP('Benzin - diesel - hybrid'!I$46+($B149-1),'Fremskrivninger CO2e egne data'!$B$4:$M$34,5)/1000*'Benzin - diesel - hybrid'!I$11","v":0},{"$f":"IFERROR('Benzin - diesel - hybrid'!I$14/'Benzin - diesel - hybrid'!#REF!,0)","v":0},{"$f":"VLOOKUP('Benzin - diesel - hybrid'!K$46+($B149-1),'Fremskrivninger CO2e egne data'!$B$4:$M$34,6)/1000*'Benzin - diesel - hybrid'!K$11","v":0},{"$f":"IFERROR('Benzin - diesel - hybrid'!K$14/'Benzin - diesel - hybrid'!#REF!,0)","v":0},{"$f":"VLOOKUP('Benzin - diesel - hybrid'!M$46+($B149-1),'Fremskrivninger CO2e egne data'!$B$4:$M$34,7)/1000*'Benzin - diesel - hybrid'!M$11","v":0},{"$f":"IFERROR('Benzin - diesel - hybrid'!M$14/'Benzin - diesel - hybrid'!#REF!,0)","v":0},{"$f":"VLOOKUP('Benzin - diesel - hybrid'!O$46+($B149-1),'Fremskrivninger CO2e egne data'!$B$4:$M$34,8)/1000*'Benzin - diesel - hybrid'!O$11","v":0},{"$f":"IFERROR('Benzin - diesel - hybrid'!O$14/'Benzin - diesel - hybrid'!#REF!,0)","v":0},{"$f":"VLOOKUP('Benzin - diesel - hybrid'!Q$46+($B149-1),'Fremskrivninger CO2e egne data'!$B$4:$M$34,9)/1000*'Benzin - diesel - hybrid'!Q$11","v":0},{"$f":"IFERROR('Benzin - diesel - hybrid'!Q$14/'Benzin - diesel - hybrid'!#REF!,0)","v":0},{"$f":"VLOOKUP('Benzin - diesel - hybrid'!S$46+($B149-1),'Fremskrivninger CO2e egne data'!$B$4:$M$34,10)/1000*'Benzin - diesel - hybrid'!S$11","v":0},{"$f":"IFERROR('Benzin - diesel - hybrid'!S$14/'Benzin - diesel - hybrid'!#REF!,0)","v":0},{"$f":"VLOOKUP('Benzin - diesel - hybrid'!U$46+($B149-1),'Fremskrivninger CO2e egne data'!$B$4:$M$34,11)/1000*'Benzin - diesel - hybrid'!U$11","v":0},{"$f":"IFERROR('Benzin - diesel - hybrid'!U$14/'Benzin - diesel - hybrid'!#REF!,0)","v":0},{"$f":"VLOOKUP('Benzin - diesel - hybrid'!W$46+($B149-1),'Fremskrivninger CO2e egne data'!$B$4:$M$34,12)/1000*'Benzin - diesel - hybrid'!W$11","v":0},{"$f":"IFERROR('Benzin - diesel - hybrid'!W$14/'Benzin - diesel - hybrid'!#REF!,0)","v":0}]
[null,9,9,null,{"$f":"VLOOKUP('Benzin - diesel - hybrid'!E$46+($B150-1),'Fremskrivninger CO2e egne data'!$B$4:$M$34,3)/1000*'Benzin - diesel - hybrid'!E$11","v":0},{"$f":"IFERROR('Benzin - diesel - hybrid'!E$14/'Benzin - diesel - hybrid'!#REF!,0)","v":0},{"$f":"VLOOKUP('Benzin - diesel - hybrid'!G$46+($B150-1),'Fremskrivninger CO2e egne data'!$B$4:$M$34,4)/1000*'Benzin - diesel - hybrid'!G$11","v":0},{"$f":"IFERROR('Benzin - diesel - hybrid'!G$14/'Benzin - diesel - hybrid'!#REF!,0)","v":0},{"$f":"VLOOKUP('Benzin - diesel - hybrid'!I$46+($B150-1),'Fremskrivninger CO2e egne data'!$B$4:$M$34,5)/1000*'Benzin - diesel - hybrid'!I$11","v":0},{"$f":"IFERROR('Benzin - diesel - hybrid'!I$14/'Benzin - diesel - hybrid'!#REF!,0)","v":0},{"$f":"VLOOKUP('Benzin - diesel - hybrid'!K$46+($B150-1),'Fremskrivninger CO2e egne data'!$B$4:$M$34,6)/1000*'Benzin - diesel - hybrid'!K$11","v":0},{"$f":"IFERROR('Benzin - diesel - hybrid'!K$14/'Benzin - diesel - hybrid'!#REF!,0)","v":0},{"$f":"VLOOKUP('Benzin - diesel - hybrid'!M$46+($B150-1),'Fremskrivninger CO2e egne data'!$B$4:$M$34,7)/1000*'Benzin - diesel - hybrid'!M$11","v":0},{"$f":"IFERROR('Benzin - diesel - hybrid'!M$14/'Benzin - diesel - hybrid'!#REF!,0)","v":0},{"$f":"VLOOKUP('Benzin - diesel - hybrid'!O$46+($B150-1),'Fremskrivninger CO2e egne data'!$B$4:$M$34,8)/1000*'Benzin - diesel - hybrid'!O$11","v":0},{"$f":"IFERROR('Benzin - diesel - hybrid'!O$14/'Benzin - diesel - hybrid'!#REF!,0)","v":0},{"$f":"VLOOKUP('Benzin - diesel - hybrid'!Q$46+($B150-1),'Fremskrivninger CO2e egne data'!$B$4:$M$34,9)/1000*'Benzin - diesel - hybrid'!Q$11","v":0},{"$f":"IFERROR('Benzin - diesel - hybrid'!Q$14/'Benzin - diesel - hybrid'!#REF!,0)","v":0},{"$f":"VLOOKUP('Benzin - diesel - hybrid'!S$46+($B150-1),'Fremskrivninger CO2e egne data'!$B$4:$M$34,10)/1000*'Benzin - diesel - hybrid'!S$11","v":0},{"$f":"IFERROR('Benzin - diesel - hybrid'!S$14/'Benzin - diesel - hybrid'!#REF!,0)","v":0},{"$f":"VLOOKUP('Benzin - diesel - hybrid'!U$46+($B150-1),'Fremskrivninger CO2e egne data'!$B$4:$M$34,11)/1000*'Benzin - diesel - hybrid'!U$11","v":0},{"$f":"IFERROR('Benzin - diesel - hybrid'!U$14/'Benzin - diesel - hybrid'!#REF!,0)","v":0},{"$f":"VLOOKUP('Benzin - diesel - hybrid'!W$46+($B150-1),'Fremskrivninger CO2e egne data'!$B$4:$M$34,12)/1000*'Benzin - diesel - hybrid'!W$11","v":0},{"$f":"IFERROR('Benzin - diesel - hybrid'!W$14/'Benzin - diesel - hybrid'!#REF!,0)","v":0}]
[null,10,10,null,{"$f":"VLOOKUP('Benzin - diesel - hybrid'!E$46+($B151-1),'Fremskrivninger CO2e egne data'!$B$4:$M$34,3)/1000*'Benzin - diesel - hybrid'!E$11","v":0},{"$f":"IFERROR('Benzin - diesel - hybrid'!E$14/'Benzin - diesel - hybrid'!#REF!,0)","v":0},{"$f":"VLOOKUP('Benzin - diesel - hybrid'!G$46+($B151-1),'Fremskrivninger CO2e egne data'!$B$4:$M$34,4)/1000*'Benzin - diesel - hybrid'!G$11","v":0},{"$f":"IFERROR('Benzin - diesel - hybrid'!G$14/'Benzin - diesel - hybrid'!#REF!,0)","v":0},{"$f":"VLOOKUP('Benzin - diesel - hybrid'!I$46+($B151-1),'Fremskrivninger CO2e egne data'!$B$4:$M$34,5)/1000*'Benzin - diesel - hybrid'!I$11","v":0},{"$f":"IFERROR('Benzin - diesel - hybrid'!I$14/'Benzin - diesel - hybrid'!#REF!,0)","v":0},{"$f":"VLOOKUP('Benzin - diesel - hybrid'!K$46+($B151-1),'Fremskrivninger CO2e egne data'!$B$4:$M$34,6)/1000*'Benzin - diesel - hybrid'!K$11","v":0},{"$f":"IFERROR('Benzin - diesel - hybrid'!K$14/'Benzin - diesel - hybrid'!#REF!,0)","v":0},{"$f":"VLOOKUP('Benzin - diesel - hybrid'!M$46+($B151-1),'Fremskrivninger CO2e egne data'!$B$4:$M$34,7)/1000*'Benzin - diesel - hybrid'!M$11","v":0},{"$f":"IFERROR('Benzin - diesel - hybrid'!M$14/'Benzin - diesel - hybrid'!#REF!,0)","v":0},{"$f":"VLOOKUP('Benzin - diesel - hybrid'!O$46+($B151-1),'Fremskrivninger CO2e egne data'!$B$4:$M$34,8)/1000*'Benzin - diesel - hybrid'!O$11","v":0},{"$f":"IFERROR('Benzin - diesel - hybrid'!O$14/'Benzin - diesel - hybrid'!#REF!,0)","v":0},{"$f":"VLOOKUP('Benzin - diesel - hybrid'!Q$46+($B151-1),'Fremskrivninger CO2e egne data'!$B$4:$M$34,9)/1000*'Benzin - diesel - hybrid'!Q$11","v":0},{"$f":"IFERROR('Benzin - diesel - hybrid'!Q$14/'Benzin - diesel - hybrid'!#REF!,0)","v":0},{"$f":"VLOOKUP('Benzin - diesel - hybrid'!S$46+($B151-1),'Fremskrivninger CO2e egne data'!$B$4:$M$34,10)/1000*'Benzin - diesel - hybrid'!S$11","v":0},{"$f":"IFERROR('Benzin - diesel - hybrid'!S$14/'Benzin - diesel - hybrid'!#REF!,0)","v":0},{"$f":"VLOOKUP('Benzin - diesel - hybrid'!U$46+($B151-1),'Fremskrivninger CO2e egne data'!$B$4:$M$34,11)/1000*'Benzin - diesel - hybrid'!U$11","v":0},{"$f":"IFERROR('Benzin - diesel - hybrid'!U$14/'Benzin - diesel - hybrid'!#REF!,0)","v":0},{"$f":"VLOOKUP('Benzin - diesel - hybrid'!W$46+($B151-1),'Fremskrivninger CO2e egne data'!$B$4:$M$34,12)/1000*'Benzin - diesel - hybrid'!W$11","v":0},{"$f":"IFERROR('Benzin - diesel - hybrid'!W$14/'Benzin - diesel - hybrid'!#REF!,0)","v":0}]
[null,11,11,null,{"$f":"VLOOKUP('Benzin - diesel - hybrid'!E$46+($B152-1),'Fremskrivninger CO2e egne data'!$B$4:$M$34,3)/1000*'Benzin - diesel - hybrid'!E$11","v":0},{"$f":"IFERROR('Benzin - diesel - hybrid'!E$14/'Benzin - diesel - hybrid'!#REF!,0)","v":0},{"$f":"VLOOKUP('Benzin - diesel - hybrid'!G$46+($B152-1),'Fremskrivninger CO2e egne data'!$B$4:$M$34,4)/1000*'Benzin - diesel - hybrid'!G$11","v":0},{"$f":"IFERROR('Benzin - diesel - hybrid'!G$14/'Benzin - diesel - hybrid'!#REF!,0)","v":0},{"$f":"VLOOKUP('Benzin - diesel - hybrid'!I$46+($B152-1),'Fremskrivninger CO2e egne data'!$B$4:$M$34,5)/1000*'Benzin - diesel - hybrid'!I$11","v":0},{"$f":"IFERROR('Benzin - diesel - hybrid'!I$14/'Benzin - diesel - hybrid'!#REF!,0)","v":0},{"$f":"VLOOKUP('Benzin - diesel - hybrid'!K$46+($B152-1),'Fremskrivninger CO2e egne data'!$B$4:$M$34,6)/1000*'Benzin - diesel - hybrid'!K$11","v":0},{"$f":"IFERROR('Benzin - diesel - hybrid'!K$14/'Benzin - diesel - hybrid'!#REF!,0)","v":0},{"$f":"VLOOKUP('Benzin - diesel - hybrid'!M$46+($B152-1),'Fremskrivninger CO2e egne data'!$B$4:$M$34,7)/1000*'Benzin - diesel - hybrid'!M$11","v":0},{"$f":"IFERROR('Benzin - diesel - hybrid'!M$14/'Benzin - diesel - hybrid'!#REF!,0)","v":0},{"$f":"VLOOKUP('Benzin - diesel - hybrid'!O$46+($B152-1),'Fremskrivninger CO2e egne data'!$B$4:$M$34,8)/1000*'Benzin - diesel - hybrid'!O$11","v":0},{"$f":"IFERROR('Benzin - diesel - hybrid'!O$14/'Benzin - diesel - hybrid'!#REF!,0)","v":0},{"$f":"VLOOKUP('Benzin - diesel - hybrid'!Q$46+($B152-1),'Fremskrivninger CO2e egne data'!$B$4:$M$34,9)/1000*'Benzin - diesel - hybrid'!Q$11","v":0},{"$f":"IFERROR('Benzin - diesel - hybrid'!Q$14/'Benzin - diesel - hybrid'!#REF!,0)","v":0},{"$f":"VLOOKUP('Benzin - diesel - hybrid'!S$46+($B152-1),'Fremskrivninger CO2e egne data'!$B$4:$M$34,10)/1000*'Benzin - diesel - hybrid'!S$11","v":0},{"$f":"IFERROR('Benzin - diesel - hybrid'!S$14/'Benzin - diesel - hybrid'!#REF!,0)","v":0},{"$f":"VLOOKUP('Benzin - diesel - hybrid'!U$46+($B152-1),'Fremskrivninger CO2e egne data'!$B$4:$M$34,11)/1000*'Benzin - diesel - hybrid'!U$11","v":0},{"$f":"IFERROR('Benzin - diesel - hybrid'!U$14/'Benzin - diesel - hybrid'!#REF!,0)","v":0},{"$f":"VLOOKUP('Benzin - diesel - hybrid'!W$46+($B152-1),'Fremskrivninger CO2e egne data'!$B$4:$M$34,12)/1000*'Benzin - diesel - hybrid'!W$11","v":0},{"$f":"IFERROR('Benzin - diesel - hybrid'!W$14/'Benzin - diesel - hybrid'!#REF!,0)","v":0}]
[null,12,12,null,{"$f":"VLOOKUP('Benzin - diesel - hybrid'!E$46+($B153-1),'Fremskrivninger CO2e egne data'!$B$4:$M$34,3)/1000*'Benzin - diesel - hybrid'!E$11","v":0},{"$f":"IFERROR('Benzin - diesel - hybrid'!E$14/'Benzin - diesel - hybrid'!#REF!,0)","v":0},{"$f":"VLOOKUP('Benzin - diesel - hybrid'!G$46+($B153-1),'Fremskrivninger CO2e egne data'!$B$4:$M$34,4)/1000*'Benzin - diesel - hybrid'!G$11","v":0},{"$f":"IFERROR('Benzin - diesel - hybrid'!G$14/'Benzin - diesel - hybrid'!#REF!,0)","v":0},{"$f":"VLOOKUP('Benzin - diesel - hybrid'!I$46+($B153-1),'Fremskrivninger CO2e egne data'!$B$4:$M$34,5)/1000*'Benzin - diesel - hybrid'!I$11","v":0},{"$f":"IFERROR('Benzin - diesel - hybrid'!I$14/'Benzin - diesel - hybrid'!#REF!,0)","v":0},{"$f":"VLOOKUP('Benzin - diesel - hybrid'!K$46+($B153-1),'Fremskrivninger CO2e egne data'!$B$4:$M$34,6)/1000*'Benzin - diesel - hybrid'!K$11","v":0},{"$f":"IFERROR('Benzin - diesel - hybrid'!K$14/'Benzin - diesel - hybrid'!#REF!,0)","v":0},{"$f":"VLOOKUP('Benzin - diesel - hybrid'!M$46+($B153-1),'Fremskrivninger CO2e egne data'!$B$4:$M$34,7)/1000*'Benzin - diesel - hybrid'!M$11","v":0},{"$f":"IFERROR('Benzin - diesel - hybrid'!M$14/'Benzin - diesel - hybrid'!#REF!,0)","v":0},{"$f":"VLOOKUP('Benzin - diesel - hybrid'!O$46+($B153-1),'Fremskrivninger CO2e egne data'!$B$4:$M$34,8)/1000*'Benzin - diesel - hybrid'!O$11","v":0},{"$f":"IFERROR('Benzin - diesel - hybrid'!O$14/'Benzin - diesel - hybrid'!#REF!,0)","v":0},{"$f":"VLOOKUP('Benzin - diesel - hybrid'!Q$46+($B153-1),'Fremskrivninger CO2e egne data'!$B$4:$M$34,9)/1000*'Benzin - diesel - hybrid'!Q$11","v":0},{"$f":"IFERROR('Benzin - diesel - hybrid'!Q$14/'Benzin - diesel - hybrid'!#REF!,0)","v":0},{"$f":"VLOOKUP('Benzin - diesel - hybrid'!S$46+($B153-1),'Fremskrivninger CO2e egne data'!$B$4:$M$34,10)/1000*'Benzin - diesel - hybrid'!S$11","v":0},{"$f":"IFERROR('Benzin - diesel - hybrid'!S$14/'Benzin - diesel - hybrid'!#REF!,0)","v":0},{"$f":"VLOOKUP('Benzin - diesel - hybrid'!U$46+($B153-1),'Fremskrivninger CO2e egne data'!$B$4:$M$34,11)/1000*'Benzin - diesel - hybrid'!U$11","v":0},{"$f":"IFERROR('Benzin - diesel - hybrid'!U$14/'Benzin - diesel - hybrid'!#REF!,0)","v":0},{"$f":"VLOOKUP('Benzin - diesel - hybrid'!W$46+($B153-1),'Fremskrivninger CO2e egne data'!$B$4:$M$34,12)/1000*'Benzin - diesel - hybrid'!W$11","v":0},{"$f":"IFERROR('Benzin - diesel - hybrid'!W$14/'Benzin - diesel - hybrid'!#REF!,0)","v":0}]
[null,13,13,null,{"$f":"VLOOKUP('Benzin - diesel - hybrid'!E$46+($B154-1),'Fremskrivninger CO2e egne data'!$B$4:$M$34,3)/1000*'Benzin - diesel - hybrid'!E$11","v":0},{"$f":"IFERROR('Benzin - diesel - hybrid'!E$14/'Benzin - diesel - hybrid'!#REF!,0)","v":0},{"$f":"VLOOKUP('Benzin - diesel - hybrid'!G$46+($B154-1),'Fremskrivninger CO2e egne data'!$B$4:$M$34,4)/1000*'Benzin - diesel - hybrid'!G$11","v":0},{"$f":"IFERROR('Benzin - diesel - hybrid'!G$14/'Benzin - diesel - hybrid'!#REF!,0)","v":0},{"$f":"VLOOKUP('Benzin - diesel - hybrid'!I$46+($B154-1),'Fremskrivninger CO2e egne data'!$B$4:$M$34,5)/1000*'Benzin - diesel - hybrid'!I$11","v":0},{"$f":"IFERROR('Benzin - diesel - hybrid'!I$14/'Benzin - diesel - hybrid'!#REF!,0)","v":0},{"$f":"VLOOKUP('Benzin - diesel - hybrid'!K$46+($B154-1),'Fremskrivninger CO2e egne data'!$B$4:$M$34,6)/1000*'Benzin - diesel - hybrid'!K$11","v":0},{"$f":"IFERROR('Benzin - diesel - hybrid'!K$14/'Benzin - diesel - hybrid'!#REF!,0)","v":0},{"$f":"VLOOKUP('Benzin - diesel - hybrid'!M$46+($B154-1),'Fremskrivninger CO2e egne data'!$B$4:$M$34,7)/1000*'Benzin - diesel - hybrid'!M$11","v":0},{"$f":"IFERROR('Benzin - diesel - hybrid'!M$14/'Benzin - diesel - hybrid'!#REF!,0)","v":0},{"$f":"VLOOKUP('Benzin - diesel - hybrid'!O$46+($B154-1),'Fremskrivninger CO2e egne data'!$B$4:$M$34,8)/1000*'Benzin - diesel - hybrid'!O$11","v":0},{"$f":"IFERROR('Benzin - diesel - hybrid'!O$14/'Benzin - diesel - hybrid'!#REF!,0)","v":0},{"$f":"VLOOKUP('Benzin - diesel - hybrid'!Q$46+($B154-1),'Fremskrivninger CO2e egne data'!$B$4:$M$34,9)/1000*'Benzin - diesel - hybrid'!Q$11","v":0},{"$f":"IFERROR('Benzin - diesel - hybrid'!Q$14/'Benzin - diesel - hybrid'!#REF!,0)","v":0},{"$f":"VLOOKUP('Benzin - diesel - hybrid'!S$46+($B154-1),'Fremskrivninger CO2e egne data'!$B$4:$M$34,10)/1000*'Benzin - diesel - hybrid'!S$11","v":0},{"$f":"IFERROR('Benzin - diesel - hybrid'!S$14/'Benzin - diesel - hybrid'!#REF!,0)","v":0},{"$f":"VLOOKUP('Benzin - diesel - hybrid'!U$46+($B154-1),'Fremskrivninger CO2e egne data'!$B$4:$M$34,11)/1000*'Benzin - diesel - hybrid'!U$11","v":0},{"$f":"IFERROR('Benzin - diesel - hybrid'!U$14/'Benzin - diesel - hybrid'!#REF!,0)","v":0},{"$f":"VLOOKUP('Benzin - diesel - hybrid'!W$46+($B154-1),'Fremskrivninger CO2e egne data'!$B$4:$M$34,12)/1000*'Benzin - diesel - hybrid'!W$11","v":0},{"$f":"IFERROR('Benzin - diesel - hybrid'!W$14/'Benzin - diesel - hybrid'!#REF!,0)","v":0}]
[null,14,14,null,{"$f":"VLOOKUP('Benzin - diesel - hybrid'!E$46+($B155-1),'Fremskrivninger CO2e egne data'!$B$4:$M$34,3)/1000*'Benzin - diesel - hybrid'!E$11","v":0},{"$f":"IFERROR('Benzin - diesel - hybrid'!E$14/'Benzin - diesel - hybrid'!#REF!,0)","v":0},{"$f":"VLOOKUP('Benzin - diesel - hybrid'!G$46+($B155-1),'Fremskrivninger CO2e egne data'!$B$4:$M$34,4)/1000*'Benzin - diesel - hybrid'!G$11","v":0},{"$f":"IFERROR('Benzin - diesel - hybrid'!G$14/'Benzin - diesel - hybrid'!#REF!,0)","v":0},{"$f":"VLOOKUP('Benzin - diesel - hybrid'!I$46+($B155-1),'Fremskrivninger CO2e egne data'!$B$4:$M$34,5)/1000*'Benzin - diesel - hybrid'!I$11","v":0},{"$f":"IFERROR('Benzin - diesel - hybrid'!I$14/'Benzin - diesel - hybrid'!#REF!,0)","v":0},{"$f":"VLOOKUP('Benzin - diesel - hybrid'!K$46+($B155-1),'Fremskrivninger CO2e egne data'!$B$4:$M$34,6)/1000*'Benzin - diesel - hybrid'!K$11","v":0},{"$f":"IFERROR('Benzin - diesel - hybrid'!K$14/'Benzin - diesel - hybrid'!#REF!,0)","v":0},{"$f":"VLOOKUP('Benzin - diesel - hybrid'!M$46+($B155-1),'Fremskrivninger CO2e egne data'!$B$4:$M$34,7)/1000*'Benzin - diesel - hybrid'!M$11","v":0},{"$f":"IFERROR('Benzin - diesel - hybrid'!M$14/'Benzin - diesel - hybrid'!#REF!,0)","v":0},{"$f":"VLOOKUP('Benzin - diesel - hybrid'!O$46+($B155-1),'Fremskrivninger CO2e egne data'!$B$4:$M$34,8)/1000*'Benzin - diesel - hybrid'!O$11","v":0},{"$f":"IFERROR('Benzin - diesel - hybrid'!O$14/'Benzin - diesel - hybrid'!#REF!,0)","v":0},{"$f":"VLOOKUP('Benzin - diesel - hybrid'!Q$46+($B155-1),'Fremskrivninger CO2e egne data'!$B$4:$M$34,9)/1000*'Benzin - diesel - hybrid'!Q$11","v":0},{"$f":"IFERROR('Benzin - diesel - hybrid'!Q$14/'Benzin - diesel - hybrid'!#REF!,0)","v":0},{"$f":"VLOOKUP('Benzin - diesel - hybrid'!S$46+($B155-1),'Fremskrivninger CO2e egne data'!$B$4:$M$34,10)/1000*'Benzin - diesel - hybrid'!S$11","v":0},{"$f":"IFERROR('Benzin - diesel - hybrid'!S$14/'Benzin - diesel - hybrid'!#REF!,0)","v":0},{"$f":"VLOOKUP('Benzin - diesel - hybrid'!U$46+($B155-1),'Fremskrivninger CO2e egne data'!$B$4:$M$34,11)/1000*'Benzin - diesel - hybrid'!U$11","v":0},{"$f":"IFERROR('Benzin - diesel - hybrid'!U$14/'Benzin - diesel - hybrid'!#REF!,0)","v":0},{"$f":"VLOOKUP('Benzin - diesel - hybrid'!W$46+($B155-1),'Fremskrivninger CO2e egne data'!$B$4:$M$34,12)/1000*'Benzin - diesel - hybrid'!W$11","v":0},{"$f":"IFERROR('Benzin - diesel - hybrid'!W$14/'Benzin - diesel - hybrid'!#REF!,0)","v":0}]
[null,15,15,null,{"$f":"VLOOKUP('Benzin - diesel - hybrid'!E$46+($B156-1),'Fremskrivninger CO2e egne data'!$B$4:$M$34,3)/1000*'Benzin - diesel - hybrid'!E$11","v":0},{"$f":"IFERROR('Benzin - diesel - hybrid'!E$14/'Benzin - diesel - hybrid'!#REF!,0)","v":0},{"$f":"VLOOKUP('Benzin - diesel - hybrid'!G$46+($B156-1),'Fremskrivninger CO2e egne data'!$B$4:$M$34,4)/1000*'Benzin - diesel - hybrid'!G$11","v":0},{"$f":"IFERROR('Benzin - diesel - hybrid'!G$14/'Benzin - diesel - hybrid'!#REF!,0)","v":0},{"$f":"VLOOKUP('Benzin - diesel - hybrid'!I$46+($B156-1),'Fremskrivninger CO2e egne data'!$B$4:$M$34,5)/1000*'Benzin - diesel - hybrid'!I$11","v":0},{"$f":"IFERROR('Benzin - diesel - hybrid'!I$14/'Benzin - diesel - hybrid'!#REF!,0)","v":0},{"$f":"VLOOKUP('Benzin - diesel - hybrid'!K$46+($B156-1),'Fremskrivninger CO2e egne data'!$B$4:$M$34,6)/1000*'Benzin - diesel - hybrid'!K$11","v":0},{"$f":"IFERROR('Benzin - diesel - hybrid'!K$14/'Benzin - diesel - hybrid'!#REF!,0)","v":0},{"$f":"VLOOKUP('Benzin - diesel - hybrid'!M$46+($B156-1),'Fremskrivninger CO2e egne data'!$B$4:$M$34,7)/1000*'Benzin - diesel - hybrid'!M$11","v":0},{"$f":"IFERROR('Benzin - diesel - hybrid'!M$14/'Benzin - diesel - hybrid'!#REF!,0)","v":0},{"$f":"VLOOKUP('Benzin - diesel - hybrid'!O$46+($B156-1),'Fremskrivninger CO2e egne data'!$B$4:$M$34,8)/1000*'Benzin - diesel - hybrid'!O$11","v":0},{"$f":"IFERROR('Benzin - diesel - hybrid'!O$14/'Benzin - diesel - hybrid'!#REF!,0)","v":0},{"$f":"VLOOKUP('Benzin - diesel - hybrid'!Q$46+($B156-1),'Fremskrivninger CO2e egne data'!$B$4:$M$34,9)/1000*'Benzin - diesel - hybrid'!Q$11","v":0},{"$f":"IFERROR('Benzin - diesel - hybrid'!Q$14/'Benzin - diesel - hybrid'!#REF!,0)","v":0},{"$f":"VLOOKUP('Benzin - diesel - hybrid'!S$46+($B156-1),'Fremskrivninger CO2e egne data'!$B$4:$M$34,10)/1000*'Benzin - diesel - hybrid'!S$11","v":0},{"$f":"IFERROR('Benzin - diesel - hybrid'!S$14/'Benzin - diesel - hybrid'!#REF!,0)","v":0},{"$f":"VLOOKUP('Benzin - diesel - hybrid'!U$46+($B156-1),'Fremskrivninger CO2e egne data'!$B$4:$M$34,11)/1000*'Benzin - diesel - hybrid'!U$11","v":0},{"$f":"IFERROR('Benzin - diesel - hybrid'!U$14/'Benzin - diesel - hybrid'!#REF!,0)","v":0},{"$f":"VLOOKUP('Benzin - diesel - hybrid'!W$46+($B156-1),'Fremskrivninger CO2e egne data'!$B$4:$M$34,12)/1000*'Benzin - diesel - hybrid'!W$11","v":0},{"$f":"IFERROR('Benzin - diesel - hybrid'!W$14/'Benzin - diesel - hybrid'!#REF!,0)","v":0}]
[null,16,16,null,{"$f":"VLOOKUP('Benzin - diesel - hybrid'!E$46+($B157-1),'Fremskrivninger CO2e egne data'!$B$4:$M$34,3)/1000*'Benzin - diesel - hybrid'!E$11","v":0},{"$f":"IFERROR('Benzin - diesel - hybrid'!E$14/'Benzin - diesel - hybrid'!#REF!,0)","v":0},{"$f":"VLOOKUP('Benzin - diesel - hybrid'!G$46+($B157-1),'Fremskrivninger CO2e egne data'!$B$4:$M$34,4)/1000*'Benzin - diesel - hybrid'!G$11","v":0},{"$f":"IFERROR('Benzin - diesel - hybrid'!G$14/'Benzin - diesel - hybrid'!#REF!,0)","v":0},{"$f":"VLOOKUP('Benzin - diesel - hybrid'!I$46+($B157-1),'Fremskrivninger CO2e egne data'!$B$4:$M$34,5)/1000*'Benzin - diesel - hybrid'!I$11","v":0},{"$f":"IFERROR('Benzin - diesel - hybrid'!I$14/'Benzin - diesel - hybrid'!#REF!,0)","v":0},{"$f":"VLOOKUP('Benzin - diesel - hybrid'!K$46+($B157-1),'Fremskrivninger CO2e egne data'!$B$4:$M$34,6)/1000*'Benzin - diesel - hybrid'!K$11","v":0},{"$f":"IFERROR('Benzin - diesel - hybrid'!K$14/'Benzin - diesel - hybrid'!#REF!,0)","v":0},{"$f":"VLOOKUP('Benzin - diesel - hybrid'!M$46+($B157-1),'Fremskrivninger CO2e egne data'!$B$4:$M$34,7)/1000*'Benzin - diesel - hybrid'!M$11","v":0},{"$f":"IFERROR('Benzin - diesel - hybrid'!M$14/'Benzin - diesel - hybrid'!#REF!,0)","v":0},{"$f":"VLOOKUP('Benzin - diesel - hybrid'!O$46+($B157-1),'Fremskrivninger CO2e egne data'!$B$4:$M$34,8)/1000*'Benzin - diesel - hybrid'!O$11","v":0},{"$f":"IFERROR('Benzin - diesel - hybrid'!O$14/'Benzin - diesel - hybrid'!#REF!,0)","v":0},{"$f":"VLOOKUP('Benzin - diesel - hybrid'!Q$46+($B157-1),'Fremskrivninger CO2e egne data'!$B$4:$M$34,9)/1000*'Benzin - diesel - hybrid'!Q$11","v":0},{"$f":"IFERROR('Benzin - diesel - hybrid'!Q$14/'Benzin - diesel - hybrid'!#REF!,0)","v":0},{"$f":"VLOOKUP('Benzin - diesel - hybrid'!S$46+($B157-1),'Fremskrivninger CO2e egne data'!$B$4:$M$34,10)/1000*'Benzin - diesel - hybrid'!S$11","v":0},{"$f":"IFERROR('Benzin - diesel - hybrid'!S$14/'Benzin - diesel - hybrid'!#REF!,0)","v":0},{"$f":"VLOOKUP('Benzin - diesel - hybrid'!U$46+($B157-1),'Fremskrivninger CO2e egne data'!$B$4:$M$34,11)/1000*'Benzin - diesel - hybrid'!U$11","v":0},{"$f":"IFERROR('Benzin - diesel - hybrid'!U$14/'Benzin - diesel - hybrid'!#REF!,0)","v":0},{"$f":"VLOOKUP('Benzin - diesel - hybrid'!W$46+($B157-1),'Fremskrivninger CO2e egne data'!$B$4:$M$34,12)/1000*'Benzin - diesel - hybrid'!W$11","v":0},{"$f":"IFERROR('Benzin - diesel - hybrid'!W$14/'Benzin - diesel - hybrid'!#REF!,0)","v":0}]
[null,17,17,null,{"$f":"VLOOKUP('Benzin - diesel - hybrid'!E$46+($B158-1),'Fremskrivninger CO2e egne data'!$B$4:$M$34,3)/1000*'Benzin - diesel - hybrid'!E$11","v":0},{"$f":"IFERROR('Benzin - diesel - hybrid'!E$14/'Benzin - diesel - hybrid'!#REF!,0)","v":0},{"$f":"VLOOKUP('Benzin - diesel - hybrid'!G$46+($B158-1),'Fremskrivninger CO2e egne data'!$B$4:$M$34,4)/1000*'Benzin - diesel - hybrid'!G$11","v":0},{"$f":"IFERROR('Benzin - diesel - hybrid'!G$14/'Benzin - diesel - hybrid'!#REF!,0)","v":0},{"$f":"VLOOKUP('Benzin - diesel - hybrid'!I$46+($B158-1),'Fremskrivninger CO2e egne data'!$B$4:$M$34,5)/1000*'Benzin - diesel - hybrid'!I$11","v":0},{"$f":"IFERROR('Benzin - diesel - hybrid'!I$14/'Benzin - diesel - hybrid'!#REF!,0)","v":0},{"$f":"VLOOKUP('Benzin - diesel - hybrid'!K$46+($B158-1),'Fremskrivninger CO2e egne data'!$B$4:$M$34,6)/1000*'Benzin - diesel - hybrid'!K$11","v":0},{"$f":"IFERROR('Benzin - diesel - hybrid'!K$14/'Benzin - diesel - hybrid'!#REF!,0)","v":0},{"$f":"VLOOKUP('Benzin - diesel - hybrid'!M$46+($B158-1),'Fremskrivninger CO2e egne data'!$B$4:$M$34,7)/1000*'Benzin - diesel - hybrid'!M$11","v":0},{"$f":"IFERROR('Benzin - diesel - hybrid'!M$14/'Benzin - diesel - hybrid'!#REF!,0)","v":0},{"$f":"VLOOKUP('Benzin - diesel - hybrid'!O$46+($B158-1),'Fremskrivninger CO2e egne data'!$B$4:$M$34,8)/1000*'Benzin - diesel - hybrid'!O$11","v":0},{"$f":"IFERROR('Benzin - diesel - hybrid'!O$14/'Benzin - diesel - hybrid'!#REF!,0)","v":0},{"$f":"VLOOKUP('Benzin - diesel - hybrid'!Q$46+($B158-1),'Fremskrivninger CO2e egne data'!$B$4:$M$34,9)/1000*'Benzin - diesel - hybrid'!Q$11","v":0},{"$f":"IFERROR('Benzin - diesel - hybrid'!Q$14/'Benzin - diesel - hybrid'!#REF!,0)","v":0},{"$f":"VLOOKUP('Benzin - diesel - hybrid'!S$46+($B158-1),'Fremskrivninger CO2e egne data'!$B$4:$M$34,10)/1000*'Benzin - diesel - hybrid'!S$11","v":0},{"$f":"IFERROR('Benzin - diesel - hybrid'!S$14/'Benzin - diesel - hybrid'!#REF!,0)","v":0},{"$f":"VLOOKUP('Benzin - diesel - hybrid'!U$46+($B158-1),'Fremskrivninger CO2e egne data'!$B$4:$M$34,11)/1000*'Benzin - diesel - hybrid'!U$11","v":0},{"$f":"IFERROR('Benzin - diesel - hybrid'!U$14/'Benzin - diesel - hybrid'!#REF!,0)","v":0},{"$f":"VLOOKUP('Benzin - diesel - hybrid'!W$46+($B158-1),'Fremskrivninger CO2e egne data'!$B$4:$M$34,12)/1000*'Benzin - diesel - hybrid'!W$11","v":0},{"$f":"IFERROR('Benzin - diesel - hybrid'!W$14/'Benzin - diesel - hybrid'!#REF!,0)","v":0}]
[null,18,18,null,{"$f":"VLOOKUP('Benzin - diesel - hybrid'!E$46+($B159-1),'Fremskrivninger CO2e egne data'!$B$4:$M$34,3)/1000*'Benzin - diesel - hybrid'!E$11","v":0},{"$f":"IFERROR('Benzin - diesel - hybrid'!E$14/'Benzin - diesel - hybrid'!#REF!,0)","v":0},{"$f":"VLOOKUP('Benzin - diesel - hybrid'!G$46+($B159-1),'Fremskrivninger CO2e egne data'!$B$4:$M$34,4)/1000*'Benzin - diesel - hybrid'!G$11","v":0},{"$f":"IFERROR('Benzin - diesel - hybrid'!G$14/'Benzin - diesel - hybrid'!#REF!,0)","v":0},{"$f":"VLOOKUP('Benzin - diesel - hybrid'!I$46+($B159-1),'Fremskrivninger CO2e egne data'!$B$4:$M$34,5)/1000*'Benzin - diesel - hybrid'!I$11","v":0},{"$f":"IFERROR('Benzin - diesel - hybrid'!I$14/'Benzin - diesel - hybrid'!#REF!,0)","v":0},{"$f":"VLOOKUP('Benzin - diesel - hybrid'!K$46+($B159-1),'Fremskrivninger CO2e egne data'!$B$4:$M$34,6)/1000*'Benzin - diesel - hybrid'!K$11","v":0},{"$f":"IFERROR('Benzin - diesel - hybrid'!K$14/'Benzin - diesel - hybrid'!#REF!,0)","v":0},{"$f":"VLOOKUP('Benzin - diesel - hybrid'!M$46+($B159-1),'Fremskrivninger CO2e egne data'!$B$4:$M$34,7)/1000*'Benzin - diesel - hybrid'!M$11","v":0},{"$f":"IFERROR('Benzin - diesel - hybrid'!M$14/'Benzin - diesel - hybrid'!#REF!,0)","v":0},{"$f":"VLOOKUP('Benzin - diesel - hybrid'!O$46+($B159-1),'Fremskrivninger CO2e egne data'!$B$4:$M$34,8)/1000*'Benzin - diesel - hybrid'!O$11","v":0},{"$f":"IFERROR('Benzin - diesel - hybrid'!O$14/'Benzin - diesel - hybrid'!#REF!,0)","v":0},{"$f":"VLOOKUP('Benzin - diesel - hybrid'!Q$46+($B159-1),'Fremskrivninger CO2e egne data'!$B$4:$M$34,9)/1000*'Benzin - diesel - hybrid'!Q$11","v":0},{"$f":"IFERROR('Benzin - diesel - hybrid'!Q$14/'Benzin - diesel - hybrid'!#REF!,0)","v":0},{"$f":"VLOOKUP('Benzin - diesel - hybrid'!S$46+($B159-1),'Fremskrivninger CO2e egne data'!$B$4:$M$34,10)/1000*'Benzin - diesel - hybrid'!S$11","v":0},{"$f":"IFERROR('Benzin - diesel - hybrid'!S$14/'Benzin - diesel - hybrid'!#REF!,0)","v":0},{"$f":"VLOOKUP('Benzin - diesel - hybrid'!U$46+($B159-1),'Fremskrivninger CO2e egne data'!$B$4:$M$34,11)/1000*'Benzin - diesel - hybrid'!U$11","v":0},{"$f":"IFERROR('Benzin - diesel - hybrid'!U$14/'Benzin - diesel - hybrid'!#REF!,0)","v":0},{"$f":"VLOOKUP('Benzin - diesel - hybrid'!W$46+($B159-1),'Fremskrivninger CO2e egne data'!$B$4:$M$34,12)/1000*'Benzin - diesel - hybrid'!W$11","v":0},{"$f":"IFERROR('Benzin - diesel - hybrid'!W$14/'Benzin - diesel - hybrid'!#REF!,0)","v":0}]
[null,19,19,null,{"$f":"VLOOKUP('Benzin - diesel - hybrid'!E$46+($B160-1),'Fremskrivninger CO2e egne data'!$B$4:$M$34,3)/1000*'Benzin - diesel - hybrid'!E$11","v":0},{"$f":"IFERROR('Benzin - diesel - hybrid'!E$14/'Benzin - diesel - hybrid'!#REF!,0)","v":0},{"$f":"VLOOKUP('Benzin - diesel - hybrid'!G$46+($B160-1),'Fremskrivninger CO2e egne data'!$B$4:$M$34,4)/1000*'Benzin - diesel - hybrid'!G$11","v":0},{"$f":"IFERROR('Benzin - diesel - hybrid'!G$14/'Benzin - diesel - hybrid'!#REF!,0)","v":0},{"$f":"VLOOKUP('Benzin - diesel - hybrid'!I$46+($B160-1),'Fremskrivninger CO2e egne data'!$B$4:$M$34,5)/1000*'Benzin - diesel - hybrid'!I$11","v":0},{"$f":"IFERROR('Benzin - diesel - hybrid'!I$14/'Benzin - diesel - hybrid'!#REF!,0)","v":0},{"$f":"VLOOKUP('Benzin - diesel - hybrid'!K$46+($B160-1),'Fremskrivninger CO2e egne data'!$B$4:$M$34,6)/1000*'Benzin - diesel - hybrid'!K$11","v":0},{"$f":"IFERROR('Benzin - diesel - hybrid'!K$14/'Benzin - diesel - hybrid'!#REF!,0)","v":0},{"$f":"VLOOKUP('Benzin - diesel - hybrid'!M$46+($B160-1),'Fremskrivninger CO2e egne data'!$B$4:$M$34,7)/1000*'Benzin - diesel - hybrid'!M$11","v":0},{"$f":"IFERROR('Benzin - diesel - hybrid'!M$14/'Benzin - diesel - hybrid'!#REF!,0)","v":0},{"$f":"VLOOKUP('Benzin - diesel - hybrid'!O$46+($B160-1),'Fremskrivninger CO2e egne data'!$B$4:$M$34,8)/1000*'Benzin - diesel - hybrid'!O$11","v":0},{"$f":"IFERROR('Benzin - diesel - hybrid'!O$14/'Benzin - diesel - hybrid'!#REF!,0)","v":0},{"$f":"VLOOKUP('Benzin - diesel - hybrid'!Q$46+($B160-1),'Fremskrivninger CO2e egne data'!$B$4:$M$34,9)/1000*'Benzin - diesel - hybrid'!Q$11","v":0},{"$f":"IFERROR('Benzin - diesel - hybrid'!Q$14/'Benzin - diesel - hybrid'!#REF!,0)","v":0},{"$f":"VLOOKUP('Benzin - diesel - hybrid'!S$46+($B160-1),'Fremskrivninger CO2e egne data'!$B$4:$M$34,10)/1000*'Benzin - diesel - hybrid'!S$11","v":0},{"$f":"IFERROR('Benzin - diesel - hybrid'!S$14/'Benzin - diesel - hybrid'!#REF!,0)","v":0},{"$f":"VLOOKUP('Benzin - diesel - hybrid'!U$46+($B160-1),'Fremskrivninger CO2e egne data'!$B$4:$M$34,11)/1000*'Benzin - diesel - hybrid'!U$11","v":0},{"$f":"IFERROR('Benzin - diesel - hybrid'!U$14/'Benzin - diesel - hybrid'!#REF!,0)","v":0},{"$f":"VLOOKUP('Benzin - diesel - hybrid'!W$46+($B160-1),'Fremskrivninger CO2e egne data'!$B$4:$M$34,12)/1000*'Benzin - diesel - hybrid'!W$11","v":0},{"$f":"IFERROR('Benzin - diesel - hybrid'!W$14/'Benzin - diesel - hybrid'!#REF!,0)","v":0}]
[null,20,20,null,{"$f":"VLOOKUP('Benzin - diesel - hybrid'!E$46+($B161-1),'Fremskrivninger CO2e egne data'!$B$4:$M$34,3)/1000*'Benzin - diesel - hybrid'!E$11","v":0},{"$f":"IFERROR('Benzin - diesel - hybrid'!E$14/'Benzin - diesel - hybrid'!#REF!,0)","v":0},{"$f":"VLOOKUP('Benzin - diesel - hybrid'!G$46+($B161-1),'Fremskrivninger CO2e egne data'!$B$4:$M$34,4)/1000*'Benzin - diesel - hybrid'!G$11","v":0},{"$f":"IFERROR('Benzin - diesel - hybrid'!G$14/'Benzin - diesel - hybrid'!#REF!,0)","v":0},{"$f":"VLOOKUP('Benzin - diesel - hybrid'!I$46+($B161-1),'Fremskrivninger CO2e egne data'!$B$4:$M$34,5)/1000*'Benzin - diesel - hybrid'!I$11","v":0},{"$f":"IFERROR('Benzin - diesel - hybrid'!I$14/'Benzin - diesel - hybrid'!#REF!,0)","v":0},{"$f":"VLOOKUP('Benzin - diesel - hybrid'!K$46+($B161-1),'Fremskrivninger CO2e egne data'!$B$4:$M$34,6)/1000*'Benzin - diesel - hybrid'!K$11","v":0},{"$f":"IFERROR('Benzin - diesel - hybrid'!K$14/'Benzin - diesel - hybrid'!#REF!,0)","v":0},{"$f":"VLOOKUP('Benzin - diesel - hybrid'!M$46+($B161-1),'Fremskrivninger CO2e egne data'!$B$4:$M$34,7)/1000*'Benzin - diesel - hybrid'!M$11","v":0},{"$f":"IFERROR('Benzin - diesel - hybrid'!M$14/'Benzin - diesel - hybrid'!#REF!,0)","v":0},{"$f":"VLOOKUP('Benzin - diesel - hybrid'!O$46+($B161-1),'Fremskrivninger CO2e egne data'!$B$4:$M$34,8)/1000*'Benzin - diesel - hybrid'!O$11","v":0},{"$f":"IFERROR('Benzin - diesel - hybrid'!O$14/'Benzin - diesel - hybrid'!#REF!,0)","v":0},{"$f":"VLOOKUP('Benzin - diesel - hybrid'!Q$46+($B161-1),'Fremskrivninger CO2e egne data'!$B$4:$M$34,9)/1000*'Benzin - diesel - hybrid'!Q$11","v":0},{"$f":"IFERROR('Benzin - diesel - hybrid'!Q$14/'Benzin - diesel - hybrid'!#REF!,0)","v":0},{"$f":"VLOOKUP('Benzin - diesel - hybrid'!S$46+($B161-1),'Fremskrivninger CO2e egne data'!$B$4:$M$34,10)/1000*'Benzin - diesel - hybrid'!S$11","v":0},{"$f":"IFERROR('Benzin - diesel - hybrid'!S$14/'Benzin - diesel - hybrid'!#REF!,0)","v":0},{"$f":"VLOOKUP('Benzin - diesel - hybrid'!U$46+($B161-1),'Fremskrivninger CO2e egne data'!$B$4:$M$34,11)/1000*'Benzin - diesel - hybrid'!U$11","v":0},{"$f":"IFERROR('Benzin - diesel - hybrid'!U$14/'Benzin - diesel - hybrid'!#REF!,0)","v":0},{"$f":"VLOOKUP('Benzin - diesel - hybrid'!W$46+($B161-1),'Fremskrivninger CO2e egne data'!$B$4:$M$34,12)/1000*'Benzin - diesel - hybrid'!W$11","v":0},{"$f":"IFERROR('Benzin - diesel - hybrid'!W$14/'Benzin - diesel - hybrid'!#REF!,0)","v":0}]
[]
["Eksternalitetsmodul - Udledninger forbundet med dieselforbruget i brugsfasen (tons CO2e) - Udledningerne er multipleret med antallet af produkter I det givne tilbud"]
[null,"År indeks",null,"TCO-evalueringsperiode",{"$f":"'Benzin - diesel - hybrid'!E8&\" - (ton CO2e/år)\"","v":"PRODUKT 1 - (ton CO2e/år)"},{"$f":"'Benzin - diesel - hybrid'!E8&\" - Årligt dieselforbrug (liter/år/produkt)\"","v":"PRODUKT 1 - Årligt dieselforbrug (liter/år/produkt)"},{"$f":"'Benzin - diesel - hybrid'!G8&\" - (ton CO2e/år)\"","v":"PRODUKT 2 - (ton CO2e/år)"},{"$f":"'Benzin - diesel - hybrid'!G8&\" - Årligt dieselforbrug (liter/år/produkt)\"","v":"PRODUKT 2 - Årligt dieselforbrug (liter/år/produkt)"},{"$f":"'Benzin - diesel - hybrid'!I8&\" - (ton CO2e/år)\"","v":"PRODUKT 3 - (ton CO2e/år)"},{"$f":"'Benzin - diesel - hybrid'!I8&\" - Årligt dieselforbrug (liter/år/produkt)\"","v":"PRODUKT 3 - Årligt dieselforbrug (liter/år/produkt)"},{"$f":"'Benzin - diesel - hybrid'!K8&\" - (ton CO2e/år)\"","v":"PRODUKT 4 - (ton CO2e/år)"},{"$f":"'Benzin - diesel - hybrid'!K8&\" - Årligt dieselforbrug (liter/år/produkt)\"","v":"PRODUKT 4 - Årligt dieselforbrug (liter/år/produkt)"},{"$f":"'Benzin - diesel - hybrid'!M8&\" - (ton CO2e/år)\"","v":"PRODUKT 5 - (ton CO2e/år)"},{"$f":"'Benzin - diesel - hybrid'!M8&\" - Årligt dieselforbrug (liter/år/produkt)\"","v":"PRODUKT 5 - Årligt dieselforbrug (liter/år/produkt)"},{"$f":"'Benzin - diesel - hybrid'!O8&\" - (ton CO2e/år)\"","v":"PRODUKT 6 - (ton CO2e/år)"},{"$f":"'Benzin - diesel - hybrid'!O8&\" - Årligt dieselforbrug (liter/år/produkt)\"","v":"PRODUKT 6 - Årligt dieselforbrug (liter/år/produkt)"},{"$f":"'Benzin - diesel - hybrid'!Q8&\" - (ton CO2e/år)\"","v":"PRODUKT 7 - (ton CO2e/år)"},{"$f":"'Benzin - diesel - hybrid'!Q8&\" - Årligt dieselforbrug (liter/år/produkt)\"","v":"PRODUKT 7 - Årligt dieselforbrug (liter/år/produkt)"},{"$f":"'Benzin - diesel - hybrid'!S8&\" - (ton CO2e/år)\"","v":"PRODUKT 8 - (ton CO2e/år)"},{"$f":"'Benzin - diesel - hybrid'!S8&\" - Årligt dieselforbrug (liter/år/produkt)\"","v":"PRODUKT 8 - Årligt dieselforbrug (liter/år/produkt)"},{"$f":"'Benzin - diesel - hybrid'!U8&\" - (ton CO2e/år)\"","v":"PRODUKT 9 - (ton CO2e/år)"},{"$f":"'Benzin - diesel - hybrid'!U8&\" - Årligt dieselforbrug (liter/år/produkt)\"","v":"PRODUKT 9 - Årligt dieselforbrug (liter/år/produkt)"},{"$f":"'Benzin - diesel - hybrid'!W8&\" - (ton CO2e/år)\"","v":"PRODUKT 10 - (ton CO2e/år)"},{"$f":"'Benzin - diesel - hybrid'!W8&\" - Årligt dieselforbrug (liter/år/produkt)\"","v":"PRODUKT 10 - Årligt dieselforbrug (liter/år/produkt)"}]
[null,1,{"$f":"B165","v":1},null,{"$f":"VLOOKUP('Benzin - diesel - hybrid'!E$46+($B165-1),'Fremskrivninger CO2e egne data'!$B$4:$M$34,3)/1000*'Benzin - diesel - hybrid'!E$11","v":0},{"$f":"IFERROR('Benzin - diesel - hybrid'!E$14/'Benzin - diesel - hybrid'!#REF!,0)","v":0},{"$f":"VLOOKUP('Benzin - diesel - hybrid'!G$46+($B165-1),'Fremskrivninger CO2e egne data'!$B$4:$M$34,4)/1000*'Benzin - diesel - hybrid'!G$11","v":0},{"$f":"IFERROR('Benzin - diesel - hybrid'!G$14/'Benzin - diesel - hybrid'!#REF!,0)","v":0},{"$f":"VLOOKUP('Benzin - diesel - hybrid'!I$46+($B165-1),'Fremskrivninger CO2e egne data'!$B$4:$M$34,5)/1000*'Benzin - diesel - hybrid'!I$11","v":0},{"$f":"IFERROR('Benzin - diesel - hybrid'!I$14/'Benzin - diesel - hybrid'!#REF!,0)","v":0},{"$f":"VLOOKUP('Benzin - diesel - hybrid'!K$46+($B165-1),'Fremskrivninger CO2e egne data'!$B$4:$M$34,6)/1000*'Benzin - diesel - hybrid'!K$11","v":0},{"$f":"IFERROR('Benzin - diesel - hybrid'!K$14/'Benzin - diesel - hybrid'!#REF!,0)","v":0},{"$f":"VLOOKUP('Benzin - diesel - hybrid'!M$46+($B165-1),'Fremskrivninger CO2e egne data'!$B$4:$M$34,7)/1000*'Benzin - diesel - hybrid'!M$11","v":0},{"$f":"IFERROR('Benzin - diesel - hybrid'!M$14/'Benzin - diesel - hybrid'!#REF!,0)","v":0},{"$f":"VLOOKUP('Benzin - diesel - hybrid'!O$46+($B165-1),'Fremskrivninger CO2e egne data'!$B$4:$M$34,8)/1000*'Benzin - diesel - hybrid'!O$11","v":0},{"$f":"IFERROR('Benzin - diesel - hybrid'!O$14/'Benzin - diesel - hybrid'!#REF!,0)","v":0},{"$f":"VLOOKUP('Benzin - diesel - hybrid'!Q$46+($B165-1),'Fremskrivninger CO2e egne data'!$B$4:$M$34,9)/1000*'Benzin - diesel - hybrid'!Q$11","v":0},{"$f":"IFERROR('Benzin - diesel - hybrid'!Q$14/'Benzin - diesel - hybrid'!#REF!,0)","v":0},{"$f":"VLOOKUP('Benzin - diesel - hybrid'!S$46+($B165-1),'Fremskrivninger CO2e egne data'!$B$4:$M$34,10)/1000*'Benzin - diesel - hybrid'!S$11","v":0},{"$f":"IFERROR('Benzin - diesel - hybrid'!S$14/'Benzin - diesel - hybrid'!#REF!,0)","v":0},{"$f":"VLOOKUP('Benzin - diesel - hybrid'!U$46+($B165-1),'Fremskrivninger CO2e egne data'!$B$4:$M$34,11)/1000*'Benzin - diesel - hybrid'!U$11","v":0},{"$f":"IFERROR('Benzin - diesel - hybrid'!U$14/'Benzin - diesel - hybrid'!#REF!,0)","v":0},{"$f":"VLOOKUP('Benzin - diesel - hybrid'!W$46+($B165-1),'Fremskrivninger CO2e egne data'!$B$4:$M$34,12)/1000*'Benzin - diesel - hybrid'!W$11","v":0},{"$f":"IFERROR('Benzin - diesel - hybrid'!W$14/'Benzin - diesel - hybrid'!#REF!,0)","v":0}]
[null,2,{"$f":"B166","v":2},null,{"$f":"VLOOKUP('Benzin - diesel - hybrid'!E$46+($B166-1),'Fremskrivninger CO2e egne data'!$B$4:$M$34,3)/1000*'Benzin - diesel - hybrid'!E$11","v":0},{"$f":"IFERROR('Benzin - diesel - hybrid'!E$14/'Benzin - diesel - hybrid'!#REF!,0)","v":0},{"$f":"VLOOKUP('Benzin - diesel - hybrid'!G$46+($B166-1),'Fremskrivninger CO2e egne data'!$B$4:$M$34,4)/1000*'Benzin - diesel - hybrid'!G$11","v":0},{"$f":"IFERROR('Benzin - diesel - hybrid'!G$14/'Benzin - diesel - hybrid'!#REF!,0)","v":0},{"$f":"VLOOKUP('Benzin - diesel - hybrid'!I$46+($B166-1),'Fremskrivninger CO2e egne data'!$B$4:$M$34,5)/1000*'Benzin - diesel - hybrid'!I$11","v":0},{"$f":"IFERROR('Benzin - diesel - hybrid'!I$14/'Benzin - diesel - hybrid'!#REF!,0)","v":0},{"$f":"VLOOKUP('Benzin - diesel - hybrid'!K$46+($B166-1),'Fremskrivninger CO2e egne data'!$B$4:$M$34,6)/1000*'Benzin - diesel - hybrid'!K$11","v":0},{"$f":"IFERROR('Benzin - diesel - hybrid'!K$14/'Benzin - diesel - hybrid'!#REF!,0)","v":0},{"$f":"VLOOKUP('Benzin - diesel - hybrid'!M$46+($B166-1),'Fremskrivninger CO2e egne data'!$B$4:$M$34,7)/1000*'Benzin - diesel - hybrid'!M$11","v":0},{"$f":"IFERROR('Benzin - diesel - hybrid'!M$14/'Benzin - diesel - hybrid'!#REF!,0)","v":0},{"$f":"VLOOKUP('Benzin - diesel - hybrid'!O$46+($B166-1),'Fremskrivninger CO2e egne data'!$B$4:$M$34,8)/1000*'Benzin - diesel - hybrid'!O$11","v":0},{"$f":"IFERROR('Benzin - diesel - hybrid'!O$14/'Benzin - diesel - hybrid'!#REF!,0)","v":0},{"$f":"VLOOKUP('Benzin - diesel - hybrid'!Q$46+($B166-1),'Fremskrivninger CO2e egne data'!$B$4:$M$34,9)/1000*'Benzin - diesel - hybrid'!Q$11","v":0},{"$f":"IFERROR('Benzin - diesel - hybrid'!Q$14/'Benzin - diesel - hybrid'!#REF!,0)","v":0},{"$f":"VLOOKUP('Benzin - diesel - hybrid'!S$46+($B166-1),'Fremskrivninger CO2e egne data'!$B$4:$M$34,10)/1000*'Benzin - diesel - hybrid'!S$11","v":0},{"$f":"IFERROR('Benzin - diesel - hybrid'!S$14/'Benzin - diesel - hybrid'!#REF!,0)","v":0},{"$f":"VLOOKUP('Benzin - diesel - hybrid'!U$46+($B166-1),'Fremskrivninger CO2e egne data'!$B$4:$M$34,11)/1000*'Benzin - diesel - hybrid'!U$11","v":0},{"$f":"IFERROR('Benzin - diesel - hybrid'!U$14/'Benzin - diesel - hybrid'!#REF!,0)","v":0},{"$f":"VLOOKUP('Benzin - diesel - hybrid'!W$46+($B166-1),'Fremskrivninger CO2e egne data'!$B$4:$M$34,12)/1000*'Benzin - diesel - hybrid'!W$11","v":0},{"$f":"IFERROR('Benzin - diesel - hybrid'!W$14/'Benzin - diesel - hybrid'!#REF!,0)","v":0}]
[null,3,3,null,{"$f":"VLOOKUP('Benzin - diesel - hybrid'!E$46+($B167-1),'Fremskrivninger CO2e egne data'!$B$4:$M$34,3)/1000*'Benzin - diesel - hybrid'!E$11","v":0},{"$f":"IFERROR('Benzin - diesel - hybrid'!E$14/'Benzin - diesel - hybrid'!#REF!,0)","v":0},{"$f":"VLOOKUP('Benzin - diesel - hybrid'!G$46+($B167-1),'Fremskrivninger CO2e egne data'!$B$4:$M$34,4)/1000*'Benzin - diesel - hybrid'!G$11","v":0},{"$f":"IFERROR('Benzin - diesel - hybrid'!G$14/'Benzin - diesel - hybrid'!#REF!,0)","v":0},{"$f":"VLOOKUP('Benzin - diesel - hybrid'!I$46+($B167-1),'Fremskrivninger CO2e egne data'!$B$4:$M$34,5)/1000*'Benzin - diesel - hybrid'!I$11","v":0},{"$f":"IFERROR('Benzin - diesel - hybrid'!I$14/'Benzin - diesel - hybrid'!#REF!,0)","v":0},{"$f":"VLOOKUP('Benzin - diesel - hybrid'!K$46+($B167-1),'Fremskrivninger CO2e egne data'!$B$4:$M$34,6)/1000*'Benzin - diesel - hybrid'!K$11","v":0},{"$f":"IFERROR('Benzin - diesel - hybrid'!K$14/'Benzin - diesel - hybrid'!#REF!,0)","v":0},{"$f":"VLOOKUP('Benzin - diesel - hybrid'!M$46+($B167-1),'Fremskrivninger CO2e egne data'!$B$4:$M$34,7)/1000*'Benzin - diesel - hybrid'!M$11","v":0},{"$f":"IFERROR('Benzin - diesel - hybrid'!M$14/'Benzin - diesel - hybrid'!#REF!,0)","v":0},{"$f":"VLOOKUP('Benzin - diesel - hybrid'!O$46+($B167-1),'Fremskrivninger CO2e egne data'!$B$4:$M$34,8)/1000*'Benzin - diesel - hybrid'!O$11","v":0},{"$f":"IFERROR('Benzin - diesel - hybrid'!O$14/'Benzin - diesel - hybrid'!#REF!,0)","v":0},{"$f":"VLOOKUP('Benzin - diesel - hybrid'!Q$46+($B167-1),'Fremskrivninger CO2e egne data'!$B$4:$M$34,9)/1000*'Benzin - diesel - hybrid'!Q$11","v":0},{"$f":"IFERROR('Benzin - diesel - hybrid'!Q$14/'Benzin - diesel - hybrid'!#REF!,0)","v":0},{"$f":"VLOOKUP('Benzin - diesel - hybrid'!S$46+($B167-1),'Fremskrivninger CO2e egne data'!$B$4:$M$34,10)/1000*'Benzin - diesel - hybrid'!S$11","v":0},{"$f":"IFERROR('Benzin - diesel - hybrid'!S$14/'Benzin - diesel - hybrid'!#REF!,0)","v":0},{"$f":"VLOOKUP('Benzin - diesel - hybrid'!U$46+($B167-1),'Fremskrivninger CO2e egne data'!$B$4:$M$34,11)/1000*'Benzin - diesel - hybrid'!U$11","v":0},{"$f":"IFERROR('Benzin - diesel - hybrid'!U$14/'Benzin - diesel - hybrid'!#REF!,0)","v":0},{"$f":"VLOOKUP('Benzin - diesel - hybrid'!W$46+($B167-1),'Fremskrivninger CO2e egne data'!$B$4:$M$34,12)/1000*'Benzin - diesel - hybrid'!W$11","v":0},{"$f":"IFERROR('Benzin - diesel - hybrid'!W$14/'Benzin - diesel - hybrid'!#REF!,0)","v":0}]
[null,4,4,null,{"$f":"VLOOKUP('Benzin - diesel - hybrid'!E$46+($B168-1),'Fremskrivninger CO2e egne data'!$B$4:$M$34,3)/1000*'Benzin - diesel - hybrid'!E$11","v":0},{"$f":"IFERROR('Benzin - diesel - hybrid'!E$14/'Benzin - diesel - hybrid'!#REF!,0)","v":0},{"$f":"VLOOKUP('Benzin - diesel - hybrid'!G$46+($B168-1),'Fremskrivninger CO2e egne data'!$B$4:$M$34,4)/1000*'Benzin - diesel - hybrid'!G$11","v":0},{"$f":"IFERROR('Benzin - diesel - hybrid'!G$14/'Benzin - diesel - hybrid'!#REF!,0)","v":0},{"$f":"VLOOKUP('Benzin - diesel - hybrid'!I$46+($B168-1),'Fremskrivninger CO2e egne data'!$B$4:$M$34,5)/1000*'Benzin - diesel - hybrid'!I$11","v":0},{"$f":"IFERROR('Benzin - diesel - hybrid'!I$14/'Benzin - diesel - hybrid'!#REF!,0)","v":0},{"$f":"VLOOKUP('Benzin - diesel - hybrid'!K$46+($B168-1),'Fremskrivninger CO2e egne data'!$B$4:$M$34,6)/1000*'Benzin - diesel - hybrid'!K$11","v":0},{"$f":"IFERROR('Benzin - diesel - hybrid'!K$14/'Benzin - diesel - hybrid'!#REF!,0)","v":0},{"$f":"VLOOKUP('Benzin - diesel - hybrid'!M$46+($B168-1),'Fremskrivninger CO2e egne data'!$B$4:$M$34,7)/1000*'Benzin - diesel - hybrid'!M$11","v":0},{"$f":"IFERROR('Benzin - diesel - hybrid'!M$14/'Benzin - diesel - hybrid'!#REF!,0)","v":0},{"$f":"VLOOKUP('Benzin - diesel - hybrid'!O$46+($B168-1),'Fremskrivninger CO2e egne data'!$B$4:$M$34,8)/1000*'Benzin - diesel - hybrid'!O$11","v":0},{"$f":"IFERROR('Benzin - diesel - hybrid'!O$14/'Benzin - diesel - hybrid'!#REF!,0)","v":0},{"$f":"VLOOKUP('Benzin - diesel - hybrid'!Q$46+($B168-1),'Fremskrivninger CO2e egne data'!$B$4:$M$34,9)/1000*'Benzin - diesel - hybrid'!Q$11","v":0},{"$f":"IFERROR('Benzin - diesel - hybrid'!Q$14/'Benzin - diesel - hybrid'!#REF!,0)","v":0},{"$f":"VLOOKUP('Benzin - diesel - hybrid'!S$46+($B168-1),'Fremskrivninger CO2e egne data'!$B$4:$M$34,10)/1000*'Benzin - diesel - hybrid'!S$11","v":0},{"$f":"IFERROR('Benzin - diesel - hybrid'!S$14/'Benzin - diesel - hybrid'!#REF!,0)","v":0},{"$f":"VLOOKUP('Benzin - diesel - hybrid'!U$46+($B168-1),'Fremskrivninger CO2e egne data'!$B$4:$M$34,11)/1000*'Benzin - diesel - hybrid'!U$11","v":0},{"$f":"IFERROR('Benzin - diesel - hybrid'!U$14/'Benzin - diesel - hybrid'!#REF!,0)","v":0},{"$f":"VLOOKUP('Benzin - diesel - hybrid'!W$46+($B168-1),'Fremskrivninger CO2e egne data'!$B$4:$M$34,12)/1000*'Benzin - diesel - hybrid'!W$11","v":0},{"$f":"IFERROR('Benzin - diesel - hybrid'!W$14/'Benzin - diesel - hybrid'!#REF!,0)","v":0}]
[null,5,5,null,{"$f":"VLOOKUP('Benzin - diesel - hybrid'!E$46+($B169-1),'Fremskrivninger CO2e egne data'!$B$4:$M$34,3)/1000*'Benzin - diesel - hybrid'!E$11","v":0},{"$f":"IFERROR('Benzin - diesel - hybrid'!E$14/'Benzin - diesel - hybrid'!#REF!,0)","v":0},{"$f":"VLOOKUP('Benzin - diesel - hybrid'!G$46+($B169-1),'Fremskrivninger CO2e egne data'!$B$4:$M$34,4)/1000*'Benzin - diesel - hybrid'!G$11","v":0},{"$f":"IFERROR('Benzin - diesel - hybrid'!G$14/'Benzin - diesel - hybrid'!#REF!,0)","v":0},{"$f":"VLOOKUP('Benzin - diesel - hybrid'!I$46+($B169-1),'Fremskrivninger CO2e egne data'!$B$4:$M$34,5)/1000*'Benzin - diesel - hybrid'!I$11","v":0},{"$f":"IFERROR('Benzin - diesel - hybrid'!I$14/'Benzin - diesel - hybrid'!#REF!,0)","v":0},{"$f":"VLOOKUP('Benzin - diesel - hybrid'!K$46+($B169-1),'Fremskrivninger CO2e egne data'!$B$4:$M$34,6)/1000*'Benzin - diesel - hybrid'!K$11","v":0},{"$f":"IFERROR('Benzin - diesel - hybrid'!K$14/'Benzin - diesel - hybrid'!#REF!,0)","v":0},{"$f":"VLOOKUP('Benzin - diesel - hybrid'!M$46+($B169-1),'Fremskrivninger CO2e egne data'!$B$4:$M$34,7)/1000*'Benzin - diesel - hybrid'!M$11","v":0},{"$f":"IFERROR('Benzin - diesel - hybrid'!M$14/'Benzin - diesel - hybrid'!#REF!,0)","v":0},{"$f":"VLOOKUP('Benzin - diesel - hybrid'!O$46+($B169-1),'Fremskrivninger CO2e egne data'!$B$4:$M$34,8)/1000*'Benzin - diesel - hybrid'!O$11","v":0},{"$f":"IFERROR('Benzin - diesel - hybrid'!O$14/'Benzin - diesel - hybrid'!#REF!,0)","v":0},{"$f":"VLOOKUP('Benzin - diesel - hybrid'!Q$46+($B169-1),'Fremskrivninger CO2e egne data'!$B$4:$M$34,9)/1000*'Benzin - diesel - hybrid'!Q$11","v":0},{"$f":"IFERROR('Benzin - diesel - hybrid'!Q$14/'Benzin - diesel - hybrid'!#REF!,0)","v":0},{"$f":"VLOOKUP('Benzin - diesel - hybrid'!S$46+($B169-1),'Fremskrivninger CO2e egne data'!$B$4:$M$34,10)/1000*'Benzin - diesel - hybrid'!S$11","v":0},{"$f":"IFERROR('Benzin - diesel - hybrid'!S$14/'Benzin - diesel - hybrid'!#REF!,0)","v":0},{"$f":"VLOOKUP('Benzin - diesel - hybrid'!U$46+($B169-1),'Fremskrivninger CO2e egne data'!$B$4:$M$34,11)/1000*'Benzin - diesel - hybrid'!U$11","v":0},{"$f":"IFERROR('Benzin - diesel - hybrid'!U$14/'Benzin - diesel - hybrid'!#REF!,0)","v":0},{"$f":"VLOOKUP('Benzin - diesel - hybrid'!W$46+($B169-1),'Fremskrivninger CO2e egne data'!$B$4:$M$34,12)/1000*'Benzin - diesel - hybrid'!W$11","v":0},{"$f":"IFERROR('Benzin - diesel - hybrid'!W$14/'Benzin - diesel - hybrid'!#REF!,0)","v":0}]
[null,6,6,null,{"$f":"VLOOKUP('Benzin - diesel - hybrid'!E$46+($B170-1),'Fremskrivninger CO2e egne data'!$B$4:$M$34,3)/1000*'Benzin - diesel - hybrid'!E$11","v":0},{"$f":"IFERROR('Benzin - diesel - hybrid'!E$14/'Benzin - diesel - hybrid'!#REF!,0)","v":0},{"$f":"VLOOKUP('Benzin - diesel - hybrid'!G$46+($B170-1),'Fremskrivninger CO2e egne data'!$B$4:$M$34,4)/1000*'Benzin - diesel - hybrid'!G$11","v":0},{"$f":"IFERROR('Benzin - diesel - hybrid'!G$14/'Benzin - diesel - hybrid'!#REF!,0)","v":0},{"$f":"VLOOKUP('Benzin - diesel - hybrid'!I$46+($B170-1),'Fremskrivninger CO2e egne data'!$B$4:$M$34,5)/1000*'Benzin - diesel - hybrid'!I$11","v":0},{"$f":"IFERROR('Benzin - diesel - hybrid'!I$14/'Benzin - diesel - hybrid'!#REF!,0)","v":0},{"$f":"VLOOKUP('Benzin - diesel - hybrid'!K$46+($B170-1),'Fremskrivninger CO2e egne data'!$B$4:$M$34,6)/1000*'Benzin - diesel - hybrid'!K$11","v":0},{"$f":"IFERROR('Benzin - diesel - hybrid'!K$14/'Benzin - diesel - hybrid'!#REF!,0)","v":0},{"$f":"VLOOKUP('Benzin - diesel - hybrid'!M$46+($B170-1),'Fremskrivninger CO2e egne data'!$B$4:$M$34,7)/1000*'Benzin - diesel - hybrid'!M$11","v":0},{"$f":"IFERROR('Benzin - diesel - hybrid'!M$14/'Benzin - diesel - hybrid'!#REF!,0)","v":0},{"$f":"VLOOKUP('Benzin - diesel - hybrid'!O$46+($B170-1),'Fremskrivninger CO2e egne data'!$B$4:$M$34,8)/1000*'Benzin - diesel - hybrid'!O$11","v":0},{"$f":"IFERROR('Benzin - diesel - hybrid'!O$14/'Benzin - diesel - hybrid'!#REF!,0)","v":0},{"$f":"VLOOKUP('Benzin - diesel - hybrid'!Q$46+($B170-1),'Fremskrivninger CO2e egne data'!$B$4:$M$34,9)/1000*'Benzin - diesel - hybrid'!Q$11","v":0},{"$f":"IFERROR('Benzin - diesel - hybrid'!Q$14/'Benzin - diesel - hybrid'!#REF!,0)","v":0},{"$f":"VLOOKUP('Benzin - diesel - hybrid'!S$46+($B170-1),'Fremskrivninger CO2e egne data'!$B$4:$M$34,10)/1000*'Benzin - diesel - hybrid'!S$11","v":0},{"$f":"IFERROR('Benzin - diesel - hybrid'!S$14/'Benzin - diesel - hybrid'!#REF!,0)","v":0},{"$f":"VLOOKUP('Benzin - diesel - hybrid'!U$46+($B170-1),'Fremskrivninger CO2e egne data'!$B$4:$M$34,11)/1000*'Benzin - diesel - hybrid'!U$11","v":0},{"$f":"IFERROR('Benzin - diesel - hybrid'!U$14/'Benzin - diesel - hybrid'!#REF!,0)","v":0},{"$f":"VLOOKUP('Benzin - diesel - hybrid'!W$46+($B170-1),'Fremskrivninger CO2e egne data'!$B$4:$M$34,12)/1000*'Benzin - diesel - hybrid'!W$11","v":0},{"$f":"IFERROR('Benzin - diesel - hybrid'!W$14/'Benzin - diesel - hybrid'!#REF!,0)","v":0}]
[null,7,7,null,{"$f":"VLOOKUP('Benzin - diesel - hybrid'!E$46+($B171-1),'Fremskrivninger CO2e egne data'!$B$4:$M$34,3)/1000*'Benzin - diesel - hybrid'!E$11","v":0},{"$f":"IFERROR('Benzin - diesel - hybrid'!E$14/'Benzin - diesel - hybrid'!#REF!,0)","v":0},{"$f":"VLOOKUP('Benzin - diesel - hybrid'!G$46+($B171-1),'Fremskrivninger CO2e egne data'!$B$4:$M$34,4)/1000*'Benzin - diesel - hybrid'!G$11","v":0},{"$f":"IFERROR('Benzin - diesel - hybrid'!G$14/'Benzin - diesel - hybrid'!#REF!,0)","v":0},{"$f":"VLOOKUP('Benzin - diesel - hybrid'!I$46+($B171-1),'Fremskrivninger CO2e egne data'!$B$4:$M$34,5)/1000*'Benzin - diesel - hybrid'!I$11","v":0},{"$f":"IFERROR('Benzin - diesel - hybrid'!I$14/'Benzin - diesel - hybrid'!#REF!,0)","v":0},{"$f":"VLOOKUP('Benzin - diesel - hybrid'!K$46+($B171-1),'Fremskrivninger CO2e egne data'!$B$4:$M$34,6)/1000*'Benzin - diesel - hybrid'!K$11","v":0},{"$f":"IFERROR('Benzin - diesel - hybrid'!K$14/'Benzin - diesel - hybrid'!#REF!,0)","v":0},{"$f":"VLOOKUP('Benzin - diesel - hybrid'!M$46+($B171-1),'Fremskrivninger CO2e egne data'!$B$4:$M$34,7)/1000*'Benzin - diesel - hybrid'!M$11","v":0},{"$f":"IFERROR('Benzin - diesel - hybrid'!M$14/'Benzin - diesel - hybrid'!#REF!,0)","v":0},{"$f":"VLOOKUP('Benzin - diesel - hybrid'!O$46+($B171-1),'Fremskrivninger CO2e egne data'!$B$4:$M$34,8)/1000*'Benzin - diesel - hybrid'!O$11","v":0},{"$f":"IFERROR('Benzin - diesel - hybrid'!O$14/'Benzin - diesel - hybrid'!#REF!,0)","v":0},{"$f":"VLOOKUP('Benzin - diesel - hybrid'!Q$46+($B171-1),'Fremskrivninger CO2e egne data'!$B$4:$M$34,9)/1000*'Benzin - diesel - hybrid'!Q$11","v":0},{"$f":"IFERROR('Benzin - diesel - hybrid'!Q$14/'Benzin - diesel - hybrid'!#REF!,0)","v":0},{"$f":"VLOOKUP('Benzin - diesel - hybrid'!S$46+($B171-1),'Fremskrivninger CO2e egne data'!$B$4:$M$34,10)/1000*'Benzin - diesel - hybrid'!S$11","v":0},{"$f":"IFERROR('Benzin - diesel - hybrid'!S$14/'Benzin - diesel - hybrid'!#REF!,0)","v":0},{"$f":"VLOOKUP('Benzin - diesel - hybrid'!U$46+($B171-1),'Fremskrivninger CO2e egne data'!$B$4:$M$34,11)/1000*'Benzin - diesel - hybrid'!U$11","v":0},{"$f":"IFERROR('Benzin - diesel - hybrid'!U$14/'Benzin - diesel - hybrid'!#REF!,0)","v":0},{"$f":"VLOOKUP('Benzin - diesel - hybrid'!W$46+($B171-1),'Fremskrivninger CO2e egne data'!$B$4:$M$34,12)/1000*'Benzin - diesel - hybrid'!W$11","v":0},{"$f":"IFERROR('Benzin - diesel - hybrid'!W$14/'Benzin - diesel - hybrid'!#REF!,0)","v":0}]
[null,8,8,null,{"$f":"VLOOKUP('Benzin - diesel - hybrid'!E$46+($B172-1),'Fremskrivninger CO2e egne data'!$B$4:$M$34,3)/1000*'Benzin - diesel - hybrid'!E$11","v":0},{"$f":"IFERROR('Benzin - diesel - hybrid'!E$14/'Benzin - diesel - hybrid'!#REF!,0)","v":0},{"$f":"VLOOKUP('Benzin - diesel - hybrid'!G$46+($B172-1),'Fremskrivninger CO2e egne data'!$B$4:$M$34,4)/1000*'Benzin - diesel - hybrid'!G$11","v":0},{"$f":"IFERROR('Benzin - diesel - hybrid'!G$14/'Benzin - diesel - hybrid'!#REF!,0)","v":0},{"$f":"VLOOKUP('Benzin - diesel - hybrid'!I$46+($B172-1),'Fremskrivninger CO2e egne data'!$B$4:$M$34,5)/1000*'Benzin - diesel - hybrid'!I$11","v":0},{"$f":"IFERROR('Benzin - diesel - hybrid'!I$14/'Benzin - diesel - hybrid'!#REF!,0)","v":0},{"$f":"VLOOKUP('Benzin - diesel - hybrid'!K$46+($B172-1),'Fremskrivninger CO2e egne data'!$B$4:$M$34,6)/1000*'Benzin - diesel - hybrid'!K$11","v":0},{"$f":"IFERROR('Benzin - diesel - hybrid'!K$14/'Benzin - diesel - hybrid'!#REF!,0)","v":0},{"$f":"VLOOKUP('Benzin - diesel - hybrid'!M$46+($B172-1),'Fremskrivninger CO2e egne data'!$B$4:$M$34,7)/1000*'Benzin - diesel - hybrid'!M$11","v":0},{"$f":"IFERROR('Benzin - diesel - hybrid'!M$14/'Benzin - diesel - hybrid'!#REF!,0)","v":0},{"$f":"VLOOKUP('Benzin - diesel - hybrid'!O$46+($B172-1),'Fremskrivninger CO2e egne data'!$B$4:$M$34,8)/1000*'Benzin - diesel - hybrid'!O$11","v":0},{"$f":"IFERROR('Benzin - diesel - hybrid'!O$14/'Benzin - diesel - hybrid'!#REF!,0)","v":0},{"$f":"VLOOKUP('Benzin - diesel - hybrid'!Q$46+($B172-1),'Fremskrivninger CO2e egne data'!$B$4:$M$34,9)/1000*'Benzin - diesel - hybrid'!Q$11","v":0},{"$f":"IFERROR('Benzin - diesel - hybrid'!Q$14/'Benzin - diesel - hybrid'!#REF!,0)","v":0},{"$f":"VLOOKUP('Benzin - diesel - hybrid'!S$46+($B172-1),'Fremskrivninger CO2e egne data'!$B$4:$M$34,10)/1000*'Benzin - diesel - hybrid'!S$11","v":0},{"$f":"IFERROR('Benzin - diesel - hybrid'!S$14/'Benzin - diesel - hybrid'!#REF!,0)","v":0},{"$f":"VLOOKUP('Benzin - diesel - hybrid'!U$46+($B172-1),'Fremskrivninger CO2e egne data'!$B$4:$M$34,11)/1000*'Benzin - diesel - hybrid'!U$11","v":0},{"$f":"IFERROR('Benzin - diesel - hybrid'!U$14/'Benzin - diesel - hybrid'!#REF!,0)","v":0},{"$f":"VLOOKUP('Benzin - diesel - hybrid'!W$46+($B172-1),'Fremskrivninger CO2e egne data'!$B$4:$M$34,12)/1000*'Benzin - diesel - hybrid'!W$11","v":0},{"$f":"IFERROR('Benzin - diesel - hybrid'!W$14/'Benzin - diesel - hybrid'!#REF!,0)","v":0}]
[null,9,9,null,{"$f":"VLOOKUP('Benzin - diesel - hybrid'!E$46+($B173-1),'Fremskrivninger CO2e egne data'!$B$4:$M$34,3)/1000*'Benzin - diesel - hybrid'!E$11","v":0},{"$f":"IFERROR('Benzin - diesel - hybrid'!E$14/'Benzin - diesel - hybrid'!#REF!,0)","v":0},{"$f":"VLOOKUP('Benzin - diesel - hybrid'!G$46+($B173-1),'Fremskrivninger CO2e egne data'!$B$4:$M$34,4)/1000*'Benzin - diesel - hybrid'!G$11","v":0},{"$f":"IFERROR('Benzin - diesel - hybrid'!G$14/'Benzin - diesel - hybrid'!#REF!,0)","v":0},{"$f":"VLOOKUP('Benzin - diesel - hybrid'!I$46+($B173-1),'Fremskrivninger CO2e egne data'!$B$4:$M$34,5)/1000*'Benzin - diesel - hybrid'!I$11","v":0},{"$f":"IFERROR('Benzin - diesel - hybrid'!I$14/'Benzin - diesel - hybrid'!#REF!,0)","v":0},{"$f":"VLOOKUP('Benzin - diesel - hybrid'!K$46+($B173-1),'Fremskrivninger CO2e egne data'!$B$4:$M$34,6)/1000*'Benzin - diesel - hybrid'!K$11","v":0},{"$f":"IFERROR('Benzin - diesel - hybrid'!K$14/'Benzin - diesel - hybrid'!#REF!,0)","v":0},{"$f":"VLOOKUP('Benzin - diesel - hybrid'!M$46+($B173-1),'Fremskrivninger CO2e egne data'!$B$4:$M$34,7)/1000*'Benzin - diesel - hybrid'!M$11","v":0},{"$f":"IFERROR('Benzin - diesel - hybrid'!M$14/'Benzin - diesel - hybrid'!#REF!,0)","v":0},{"$f":"VLOOKUP('Benzin - diesel - hybrid'!O$46+($B173-1),'Fremskrivninger CO2e egne data'!$B$4:$M$34,8)/1000*'Benzin - diesel - hybrid'!O$11","v":0},{"$f":"IFERROR('Benzin - diesel - hybrid'!O$14/'Benzin - diesel - hybrid'!#REF!,0)","v":0},{"$f":"VLOOKUP('Benzin - diesel - hybrid'!Q$46+($B173-1),'Fremskrivninger CO2e egne data'!$B$4:$M$34,9)/1000*'Benzin - diesel - hybrid'!Q$11","v":0},{"$f":"IFERROR('Benzin - diesel - hybrid'!Q$14/'Benzin - diesel - hybrid'!#REF!,0)","v":0},{"$f":"VLOOKUP('Benzin - diesel - hybrid'!S$46+($B173-1),'Fremskrivninger CO2e egne data'!$B$4:$M$34,10)/1000*'Benzin - diesel - hybrid'!S$11","v":0},{"$f":"IFERROR('Benzin - diesel - hybrid'!S$14/'Benzin - diesel - hybrid'!#REF!,0)","v":0},{"$f":"VLOOKUP('Benzin - diesel - hybrid'!U$46+($B173-1),'Fremskrivninger CO2e egne data'!$B$4:$M$34,11)/1000*'Benzin - diesel - hybrid'!U$11","v":0},{"$f":"IFERROR('Benzin - diesel - hybrid'!U$14/'Benzin - diesel - hybrid'!#REF!,0)","v":0},{"$f":"VLOOKUP('Benzin - diesel - hybrid'!W$46+($B173-1),'Fremskrivninger CO2e egne data'!$B$4:$M$34,12)/1000*'Benzin - diesel - hybrid'!W$11","v":0},{"$f":"IFERROR('Benzin - diesel - hybrid'!W$14/'Benzin - diesel - hybrid'!#REF!,0)","v":0}]
[null,10,10,null,{"$f":"VLOOKUP('Benzin - diesel - hybrid'!E$46+($B174-1),'Fremskrivninger CO2e egne data'!$B$4:$M$34,3)/1000*'Benzin - diesel - hybrid'!E$11","v":0},{"$f":"IFERROR('Benzin - diesel - hybrid'!E$14/'Benzin - diesel - hybrid'!#REF!,0)","v":0},{"$f":"VLOOKUP('Benzin - diesel - hybrid'!G$46+($B174-1),'Fremskrivninger CO2e egne data'!$B$4:$M$34,4)/1000*'Benzin - diesel - hybrid'!G$11","v":0},{"$f":"IFERROR('Benzin - diesel - hybrid'!G$14/'Benzin - diesel - hybrid'!#REF!,0)","v":0},{"$f":"VLOOKUP('Benzin - diesel - hybrid'!I$46+($B174-1),'Fremskrivninger CO2e egne data'!$B$4:$M$34,5)/1000*'Benzin - diesel - hybrid'!I$11","v":0},{"$f":"IFERROR('Benzin - diesel - hybrid'!I$14/'Benzin - diesel - hybrid'!#REF!,0)","v":0},{"$f":"VLOOKUP('Benzin - diesel - hybrid'!K$46+($B174-1),'Fremskrivninger CO2e egne data'!$B$4:$M$34,6)/1000*'Benzin - diesel - hybrid'!K$11","v":0},{"$f":"IFERROR('Benzin - diesel - hybrid'!K$14/'Benzin - diesel - hybrid'!#REF!,0)","v":0},{"$f":"VLOOKUP('Benzin - diesel - hybrid'!M$46+($B174-1),'Fremskrivninger CO2e egne data'!$B$4:$M$34,7)/1000*'Benzin - diesel - hybrid'!M$11","v":0},{"$f":"IFERROR('Benzin - diesel - hybrid'!M$14/'Benzin - diesel - hybrid'!#REF!,0)","v":0},{"$f":"VLOOKUP('Benzin - diesel - hybrid'!O$46+($B174-1),'Fremskrivninger CO2e egne data'!$B$4:$M$34,8)/1000*'Benzin - diesel - hybrid'!O$11","v":0},{"$f":"IFERROR('Benzin - diesel - hybrid'!O$14/'Benzin - diesel - hybrid'!#REF!,0)","v":0},{"$f":"VLOOKUP('Benzin - diesel - hybrid'!Q$46+($B174-1),'Fremskrivninger CO2e egne data'!$B$4:$M$34,9)/1000*'Benzin - diesel - hybrid'!Q$11","v":0},{"$f":"IFERROR('Benzin - diesel - hybrid'!Q$14/'Benzin - diesel - hybrid'!#REF!,0)","v":0},{"$f":"VLOOKUP('Benzin - diesel - hybrid'!S$46+($B174-1),'Fremskrivninger CO2e egne data'!$B$4:$M$34,10)/1000*'Benzin - diesel - hybrid'!S$11","v":0},{"$f":"IFERROR('Benzin - diesel - hybrid'!S$14/'Benzin - diesel - hybrid'!#REF!,0)","v":0},{"$f":"VLOOKUP('Benzin - diesel - hybrid'!U$46+($B174-1),'Fremskrivninger CO2e egne data'!$B$4:$M$34,11)/1000*'Benzin - diesel - hybrid'!U$11","v":0},{"$f":"IFERROR('Benzin - diesel - hybrid'!U$14/'Benzin - diesel - hybrid'!#REF!,0)","v":0},{"$f":"VLOOKUP('Benzin - diesel - hybrid'!W$46+($B174-1),'Fremskrivninger CO2e egne data'!$B$4:$M$34,12)/1000*'Benzin - diesel - hybrid'!W$11","v":0},{"$f":"IFERROR('Benzin - diesel - hybrid'!W$14/'Benzin - diesel - hybrid'!#REF!,0)","v":0}]
[null,11,11,null,{"$f":"VLOOKUP('Benzin - diesel - hybrid'!E$46+($B175-1),'Fremskrivninger CO2e egne data'!$B$4:$M$34,3)/1000*'Benzin - diesel - hybrid'!E$11","v":0},{"$f":"IFERROR('Benzin - diesel - hybrid'!E$14/'Benzin - diesel - hybrid'!#REF!,0)","v":0},{"$f":"VLOOKUP('Benzin - diesel - hybrid'!G$46+($B175-1),'Fremskrivninger CO2e egne data'!$B$4:$M$34,4)/1000*'Benzin - diesel - hybrid'!G$11","v":0},{"$f":"IFERROR('Benzin - diesel - hybrid'!G$14/'Benzin - diesel - hybrid'!#REF!,0)","v":0},{"$f":"VLOOKUP('Benzin - diesel - hybrid'!I$46+($B175-1),'Fremskrivninger CO2e egne data'!$B$4:$M$34,5)/1000*'Benzin - diesel - hybrid'!I$11","v":0},{"$f":"IFERROR('Benzin - diesel - hybrid'!I$14/'Benzin - diesel - hybrid'!#REF!,0)","v":0},{"$f":"VLOOKUP('Benzin - diesel - hybrid'!K$46+($B175-1),'Fremskrivninger CO2e egne data'!$B$4:$M$34,6)/1000*'Benzin - diesel - hybrid'!K$11","v":0},{"$f":"IFERROR('Benzin - diesel - hybrid'!K$14/'Benzin - diesel - hybrid'!#REF!,0)","v":0},{"$f":"VLOOKUP('Benzin - diesel - hybrid'!M$46+($B175-1),'Fremskrivninger CO2e egne data'!$B$4:$M$34,7)/1000*'Benzin - diesel - hybrid'!M$11","v":0},{"$f":"IFERROR('Benzin - diesel - hybrid'!M$14/'Benzin - diesel - hybrid'!#REF!,0)","v":0},{"$f":"VLOOKUP('Benzin - diesel - hybrid'!O$46+($B175-1),'Fremskrivninger CO2e egne data'!$B$4:$M$34,8)/1000*'Benzin - diesel - hybrid'!O$11","v":0},{"$f":"IFERROR('Benzin - diesel - hybrid'!O$14/'Benzin - diesel - hybrid'!#REF!,0)","v":0},{"$f":"VLOOKUP('Benzin - diesel - hybrid'!Q$46+($B175-1),'Fremskrivninger CO2e egne data'!$B$4:$M$34,9)/1000*'Benzin - diesel - hybrid'!Q$11","v":0},{"$f":"IFERROR('Benzin - diesel - hybrid'!Q$14/'Benzin - diesel - hybrid'!#REF!,0)","v":0},{"$f":"VLOOKUP('Benzin - diesel - hybrid'!S$46+($B175-1),'Fremskrivninger CO2e egne data'!$B$4:$M$34,10)/1000*'Benzin - diesel - hybrid'!S$11","v":0},{"$f":"IFERROR('Benzin - diesel - hybrid'!S$14/'Benzin - diesel - hybrid'!#REF!,0)","v":0},{"$f":"VLOOKUP('Benzin - diesel - hybrid'!U$46+($B175-1),'Fremskrivninger CO2e egne data'!$B$4:$M$34,11)/1000*'Benzin - diesel - hybrid'!U$11","v":0},{"$f":"IFERROR('Benzin - diesel - hybrid'!U$14/'Benzin - diesel - hybrid'!#REF!,0)","v":0},{"$f":"VLOOKUP('Benzin - diesel - hybrid'!W$46+($B175-1),'Fremskrivninger CO2e egne data'!$B$4:$M$34,12)/1000*'Benzin - diesel - hybrid'!W$11","v":0},{"$f":"IFERROR('Benzin - diesel - hybrid'!W$14/'Benzin - diesel - hybrid'!#REF!,0)","v":0}]
[null,12,12,null,{"$f":"VLOOKUP('Benzin - diesel - hybrid'!E$46+($B176-1),'Fremskrivninger CO2e egne data'!$B$4:$M$34,3)/1000*'Benzin - diesel - hybrid'!E$11","v":0},{"$f":"IFERROR('Benzin - diesel - hybrid'!E$14/'Benzin - diesel - hybrid'!#REF!,0)","v":0},{"$f":"VLOOKUP('Benzin - diesel - hybrid'!G$46+($B176-1),'Fremskrivninger CO2e egne data'!$B$4:$M$34,4)/1000*'Benzin - diesel - hybrid'!G$11","v":0},{"$f":"IFERROR('Benzin - diesel - hybrid'!G$14/'Benzin - diesel - hybrid'!#REF!,0)","v":0},{"$f":"VLOOKUP('Benzin - diesel - hybrid'!I$46+($B176-1),'Fremskrivninger CO2e egne data'!$B$4:$M$34,5)/1000*'Benzin - diesel - hybrid'!I$11","v":0},{"$f":"IFERROR('Benzin - diesel - hybrid'!I$14/'Benzin - diesel - hybrid'!#REF!,0)","v":0},{"$f":"VLOOKUP('Benzin - diesel - hybrid'!K$46+($B176-1),'Fremskrivninger CO2e egne data'!$B$4:$M$34,6)/1000*'Benzin - diesel - hybrid'!K$11","v":0},{"$f":"IFERROR('Benzin - diesel - hybrid'!K$14/'Benzin - diesel - hybrid'!#REF!,0)","v":0},{"$f":"VLOOKUP('Benzin - diesel - hybrid'!M$46+($B176-1),'Fremskrivninger CO2e egne data'!$B$4:$M$34,7)/1000*'Benzin - diesel - hybrid'!M$11","v":0},{"$f":"IFERROR('Benzin - diesel - hybrid'!M$14/'Benzin - diesel - hybrid'!#REF!,0)","v":0},{"$f":"VLOOKUP('Benzin - diesel - hybrid'!O$46+($B176-1),'Fremskrivninger CO2e egne data'!$B$4:$M$34,8)/1000*'Benzin - diesel - hybrid'!O$11","v":0},{"$f":"IFERROR('Benzin - diesel - hybrid'!O$14/'Benzin - diesel - hybrid'!#REF!,0)","v":0},{"$f":"VLOOKUP('Benzin - diesel - hybrid'!Q$46+($B176-1),'Fremskrivninger CO2e egne data'!$B$4:$M$34,9)/1000*'Benzin - diesel - hybrid'!Q$11","v":0},{"$f":"IFERROR('Benzin - diesel - hybrid'!Q$14/'Benzin - diesel - hybrid'!#REF!,0)","v":0},{"$f":"VLOOKUP('Benzin - diesel - hybrid'!S$46+($B176-1),'Fremskrivninger CO2e egne data'!$B$4:$M$34,10)/1000*'Benzin - diesel - hybrid'!S$11","v":0},{"$f":"IFERROR('Benzin - diesel - hybrid'!S$14/'Benzin - diesel - hybrid'!#REF!,0)","v":0},{"$f":"VLOOKUP('Benzin - diesel - hybrid'!U$46+($B176-1),'Fremskrivninger CO2e egne data'!$B$4:$M$34,11)/1000*'Benzin - diesel - hybrid'!U$11","v":0},{"$f":"IFERROR('Benzin - diesel - hybrid'!U$14/'Benzin - diesel - hybrid'!#REF!,0)","v":0},{"$f":"VLOOKUP('Benzin - diesel - hybrid'!W$46+($B176-1),'Fremskrivninger CO2e egne data'!$B$4:$M$34,12)/1000*'Benzin - diesel - hybrid'!W$11","v":0},{"$f":"IFERROR('Benzin - diesel - hybrid'!W$14/'Benzin - diesel - hybrid'!#REF!,0)","v":0}]
[null,13,13,null,{"$f":"VLOOKUP('Benzin - diesel - hybrid'!E$46+($B177-1),'Fremskrivninger CO2e egne data'!$B$4:$M$34,3)/1000*'Benzin - diesel - hybrid'!E$11","v":0},{"$f":"IFERROR('Benzin - diesel - hybrid'!E$14/'Benzin - diesel - hybrid'!#REF!,0)","v":0},{"$f":"VLOOKUP('Benzin - diesel - hybrid'!G$46+($B177-1),'Fremskrivninger CO2e egne data'!$B$4:$M$34,4)/1000*'Benzin - diesel - hybrid'!G$11","v":0},{"$f":"IFERROR('Benzin - diesel - hybrid'!G$14/'Benzin - diesel - hybrid'!#REF!,0)","v":0},{"$f":"VLOOKUP('Benzin - diesel - hybrid'!I$46+($B177-1),'Fremskrivninger CO2e egne data'!$B$4:$M$34,5)/1000*'Benzin - diesel - hybrid'!I$11","v":0},{"$f":"IFERROR('Benzin - diesel - hybrid'!I$14/'Benzin - diesel - hybrid'!#REF!,0)","v":0},{"$f":"VLOOKUP('Benzin - diesel - hybrid'!K$46+($B177-1),'Fremskrivninger CO2e egne data'!$B$4:$M$34,6)/1000*'Benzin - diesel - hybrid'!K$11","v":0},{"$f":"IFERROR('Benzin - diesel - hybrid'!K$14/'Benzin - diesel - hybrid'!#REF!,0)","v":0},{"$f":"VLOOKUP('Benzin - diesel - hybrid'!M$46+($B177-1),'Fremskrivninger CO2e egne data'!$B$4:$M$34,7)/1000*'Benzin - diesel - hybrid'!M$11","v":0},{"$f":"IFERROR('Benzin - diesel - hybrid'!M$14/'Benzin - diesel - hybrid'!#REF!,0)","v":0},{"$f":"VLOOKUP('Benzin - diesel - hybrid'!O$46+($B177-1),'Fremskrivninger CO2e egne data'!$B$4:$M$34,8)/1000*'Benzin - diesel - hybrid'!O$11","v":0},{"$f":"IFERROR('Benzin - diesel - hybrid'!O$14/'Benzin - diesel - hybrid'!#REF!,0)","v":0},{"$f":"VLOOKUP('Benzin - diesel - hybrid'!Q$46+($B177-1),'Fremskrivninger CO2e egne data'!$B$4:$M$34,9)/1000*'Benzin - diesel - hybrid'!Q$11","v":0},{"$f":"IFERROR('Benzin - diesel - hybrid'!Q$14/'Benzin - diesel - hybrid'!#REF!,0)","v":0},{"$f":"VLOOKUP('Benzin - diesel - hybrid'!S$46+($B177-1),'Fremskrivninger CO2e egne data'!$B$4:$M$34,10)/1000*'Benzin - diesel - hybrid'!S$11","v":0},{"$f":"IFERROR('Benzin - diesel - hybrid'!S$14/'Benzin - diesel - hybrid'!#REF!,0)","v":0},{"$f":"VLOOKUP('Benzin - diesel - hybrid'!U$46+($B177-1),'Fremskrivninger CO2e egne data'!$B$4:$M$34,11)/1000*'Benzin - diesel - hybrid'!U$11","v":0},{"$f":"IFERROR('Benzin - diesel - hybrid'!U$14/'Benzin - diesel - hybrid'!#REF!,0)","v":0},{"$f":"VLOOKUP('Benzin - diesel - hybrid'!W$46+($B177-1),'Fremskrivninger CO2e egne data'!$B$4:$M$34,12)/1000*'Benzin - diesel - hybrid'!W$11","v":0},{"$f":"IFERROR('Benzin - diesel - hybrid'!W$14/'Benzin - diesel - hybrid'!#REF!,0)","v":0}]
[null,14,14,null,{"$f":"VLOOKUP('Benzin - diesel - hybrid'!E$46+($B178-1),'Fremskrivninger CO2e egne data'!$B$4:$M$34,3)/1000*'Benzin - diesel - hybrid'!E$11","v":0},{"$f":"IFERROR('Benzin - diesel - hybrid'!E$14/'Benzin - diesel - hybrid'!#REF!,0)","v":0},{"$f":"VLOOKUP('Benzin - diesel - hybrid'!G$46+($B178-1),'Fremskrivninger CO2e egne data'!$B$4:$M$34,4)/1000*'Benzin - diesel - hybrid'!G$11","v":0},{"$f":"IFERROR('Benzin - diesel - hybrid'!G$14/'Benzin - diesel - hybrid'!#REF!,0)","v":0},{"$f":"VLOOKUP('Benzin - diesel - hybrid'!I$46+($B178-1),'Fremskrivninger CO2e egne data'!$B$4:$M$34,5)/1000*'Benzin - diesel - hybrid'!I$11","v":0},{"$f":"IFERROR('Benzin - diesel - hybrid'!I$14/'Benzin - diesel - hybrid'!#REF!,0)","v":0},{"$f":"VLOOKUP('Benzin - diesel - hybrid'!K$46+($B178-1),'Fremskrivninger CO2e egne data'!$B$4:$M$34,6)/1000*'Benzin - diesel - hybrid'!K$11","v":0},{"$f":"IFERROR('Benzin - diesel - hybrid'!K$14/'Benzin - diesel - hybrid'!#REF!,0)","v":0},{"$f":"VLOOKUP('Benzin - diesel - hybrid'!M$46+($B178-1),'Fremskrivninger CO2e egne data'!$B$4:$M$34,7)/1000*'Benzin - diesel - hybrid'!M$11","v":0},{"$f":"IFERROR('Benzin - diesel - hybrid'!M$14/'Benzin - diesel - hybrid'!#REF!,0)","v":0},{"$f":"VLOOKUP('Benzin - diesel - hybrid'!O$46+($B178-1),'Fremskrivninger CO2e egne data'!$B$4:$M$34,8)/1000*'Benzin - diesel - hybrid'!O$11","v":0},{"$f":"IFERROR('Benzin - diesel - hybrid'!O$14/'Benzin - diesel - hybrid'!#REF!,0)","v":0},{"$f":"VLOOKUP('Benzin - diesel - hybrid'!Q$46+($B178-1),'Fremskrivninger CO2e egne data'!$B$4:$M$34,9)/1000*'Benzin - diesel - hybrid'!Q$11","v":0},{"$f":"IFERROR('Benzin - diesel - hybrid'!Q$14/'Benzin - diesel - hybrid'!#REF!,0)","v":0},{"$f":"VLOOKUP('Benzin - diesel - hybrid'!S$46+($B178-1),'Fremskrivninger CO2e egne data'!$B$4:$M$34,10)/1000*'Benzin - diesel - hybrid'!S$11","v":0},{"$f":"IFERROR('Benzin - diesel - hybrid'!S$14/'Benzin - diesel - hybrid'!#REF!,0)","v":0},{"$f":"VLOOKUP('Benzin - diesel - hybrid'!U$46+($B178-1),'Fremskrivninger CO2e egne data'!$B$4:$M$34,11)/1000*'Benzin - diesel - hybrid'!U$11","v":0},{"$f":"IFERROR('Benzin - diesel - hybrid'!U$14/'Benzin - diesel - hybrid'!#REF!,0)","v":0},{"$f":"VLOOKUP('Benzin - diesel - hybrid'!W$46+($B178-1),'Fremskrivninger CO2e egne data'!$B$4:$M$34,12)/1000*'Benzin - diesel - hybrid'!W$11","v":0},{"$f":"IFERROR('Benzin - diesel - hybrid'!W$14/'Benzin - diesel - hybrid'!#REF!,0)","v":0}]
[null,15,15,null,{"$f":"VLOOKUP('Benzin - diesel - hybrid'!E$46+($B179-1),'Fremskrivninger CO2e egne data'!$B$4:$M$34,3)/1000*'Benzin - diesel - hybrid'!E$11","v":0},{"$f":"IFERROR('Benzin - diesel - hybrid'!E$14/'Benzin - diesel - hybrid'!#REF!,0)","v":0},{"$f":"VLOOKUP('Benzin - diesel - hybrid'!G$46+($B179-1),'Fremskrivninger CO2e egne data'!$B$4:$M$34,4)/1000*'Benzin - diesel - hybrid'!G$11","v":0},{"$f":"IFERROR('Benzin - diesel - hybrid'!G$14/'Benzin - diesel - hybrid'!#REF!,0)","v":0},{"$f":"VLOOKUP('Benzin - diesel - hybrid'!I$46+($B179-1),'Fremskrivninger CO2e egne data'!$B$4:$M$34,5)/1000*'Benzin - diesel - hybrid'!I$11","v":0},{"$f":"IFERROR('Benzin - diesel - hybrid'!I$14/'Benzin - diesel - hybrid'!#REF!,0)","v":0},{"$f":"VLOOKUP('Benzin - diesel - hybrid'!K$46+($B179-1),'Fremskrivninger CO2e egne data'!$B$4:$M$34,6)/1000*'Benzin - diesel - hybrid'!K$11","v":0},{"$f":"IFERROR('Benzin - diesel - hybrid'!K$14/'Benzin - diesel - hybrid'!#REF!,0)","v":0},{"$f":"VLOOKUP('Benzin - diesel - hybrid'!M$46+($B179-1),'Fremskrivninger CO2e egne data'!$B$4:$M$34,7)/1000*'Benzin - diesel - hybrid'!M$11","v":0},{"$f":"IFERROR('Benzin - diesel - hybrid'!M$14/'Benzin - diesel - hybrid'!#REF!,0)","v":0},{"$f":"VLOOKUP('Benzin - diesel - hybrid'!O$46+($B179-1),'Fremskrivninger CO2e egne data'!$B$4:$M$34,8)/1000*'Benzin - diesel - hybrid'!O$11","v":0},{"$f":"IFERROR('Benzin - diesel - hybrid'!O$14/'Benzin - diesel - hybrid'!#REF!,0)","v":0},{"$f":"VLOOKUP('Benzin - diesel - hybrid'!Q$46+($B179-1),'Fremskrivninger CO2e egne data'!$B$4:$M$34,9)/1000*'Benzin - diesel - hybrid'!Q$11","v":0},{"$f":"IFERROR('Benzin - diesel - hybrid'!Q$14/'Benzin - diesel - hybrid'!#REF!,0)","v":0},{"$f":"VLOOKUP('Benzin - diesel - hybrid'!S$46+($B179-1),'Fremskrivninger CO2e egne data'!$B$4:$M$34,10)/1000*'Benzin - diesel - hybrid'!S$11","v":0},{"$f":"IFERROR('Benzin - diesel - hybrid'!S$14/'Benzin - diesel - hybrid'!#REF!,0)","v":0},{"$f":"VLOOKUP('Benzin - diesel - hybrid'!U$46+($B179-1),'Fremskrivninger CO2e egne data'!$B$4:$M$34,11)/1000*'Benzin - diesel - hybrid'!U$11","v":0},{"$f":"IFERROR('Benzin - diesel - hybrid'!U$14/'Benzin - diesel - hybrid'!#REF!,0)","v":0},{"$f":"VLOOKUP('Benzin - diesel - hybrid'!W$46+($B179-1),'Fremskrivninger CO2e egne data'!$B$4:$M$34,12)/1000*'Benzin - diesel - hybrid'!W$11","v":0},{"$f":"IFERROR('Benzin - diesel - hybrid'!W$14/'Benzin - diesel - hybrid'!#REF!,0)","v":0}]
[null,16,16,null,{"$f":"VLOOKUP('Benzin - diesel - hybrid'!E$46+($B180-1),'Fremskrivninger CO2e egne data'!$B$4:$M$34,3)/1000*'Benzin - diesel - hybrid'!E$11","v":0},{"$f":"IFERROR('Benzin - diesel - hybrid'!E$14/'Benzin - diesel - hybrid'!#REF!,0)","v":0},{"$f":"VLOOKUP('Benzin - diesel - hybrid'!G$46+($B180-1),'Fremskrivninger CO2e egne data'!$B$4:$M$34,4)/1000*'Benzin - diesel - hybrid'!G$11","v":0},{"$f":"IFERROR('Benzin - diesel - hybrid'!G$14/'Benzin - diesel - hybrid'!#REF!,0)","v":0},{"$f":"VLOOKUP('Benzin - diesel - hybrid'!I$46+($B180-1),'Fremskrivninger CO2e egne data'!$B$4:$M$34,5)/1000*'Benzin - diesel - hybrid'!I$11","v":0},{"$f":"IFERROR('Benzin - diesel - hybrid'!I$14/'Benzin - diesel - hybrid'!#REF!,0)","v":0},{"$f":"VLOOKUP('Benzin - diesel - hybrid'!K$46+($B180-1),'Fremskrivninger CO2e egne data'!$B$4:$M$34,6)/1000*'Benzin - diesel - hybrid'!K$11","v":0},{"$f":"IFERROR('Benzin - diesel - hybrid'!K$14/'Benzin - diesel - hybrid'!#REF!,0)","v":0},{"$f":"VLOOKUP('Benzin - diesel - hybrid'!M$46+($B180-1),'Fremskrivninger CO2e egne data'!$B$4:$M$34,7)/1000*'Benzin - diesel - hybrid'!M$11","v":0},{"$f":"IFERROR('Benzin - diesel - hybrid'!M$14/'Benzin - diesel - hybrid'!#REF!,0)","v":0},{"$f":"VLOOKUP('Benzin - diesel - hybrid'!O$46+($B180-1),'Fremskrivninger CO2e egne data'!$B$4:$M$34,8)/1000*'Benzin - diesel - hybrid'!O$11","v":0},{"$f":"IFERROR('Benzin - diesel - hybrid'!O$14/'Benzin - diesel - hybrid'!#REF!,0)","v":0},{"$f":"VLOOKUP('Benzin - diesel - hybrid'!Q$46+($B180-1),'Fremskrivninger CO2e egne data'!$B$4:$M$34,9)/1000*'Benzin - diesel - hybrid'!Q$11","v":0},{"$f":"IFERROR('Benzin - diesel - hybrid'!Q$14/'Benzin - diesel - hybrid'!#REF!,0)","v":0},{"$f":"VLOOKUP('Benzin - diesel - hybrid'!S$46+($B180-1),'Fremskrivninger CO2e egne data'!$B$4:$M$34,10)/1000*'Benzin - diesel - hybrid'!S$11","v":0},{"$f":"IFERROR('Benzin - diesel - hybrid'!S$14/'Benzin - diesel - hybrid'!#REF!,0)","v":0},{"$f":"VLOOKUP('Benzin - diesel - hybrid'!U$46+($B180-1),'Fremskrivninger CO2e egne data'!$B$4:$M$34,11)/1000*'Benzin - diesel - hybrid'!U$11","v":0},{"$f":"IFERROR('Benzin - diesel - hybrid'!U$14/'Benzin - diesel - hybrid'!#REF!,0)","v":0},{"$f":"VLOOKUP('Benzin - diesel - hybrid'!W$46+($B180-1),'Fremskrivninger CO2e egne data'!$B$4:$M$34,12)/1000*'Benzin - diesel - hybrid'!W$11","v":0},{"$f":"IFERROR('Benzin - diesel - hybrid'!W$14/'Benzin - diesel - hybrid'!#REF!,0)","v":0}]
[null,17,17,null,{"$f":"VLOOKUP('Benzin - diesel - hybrid'!E$46+($B181-1),'Fremskrivninger CO2e egne data'!$B$4:$M$34,3)/1000*'Benzin - diesel - hybrid'!E$11","v":0},{"$f":"IFERROR('Benzin - diesel - hybrid'!E$14/'Benzin - diesel - hybrid'!#REF!,0)","v":0},{"$f":"VLOOKUP('Benzin - diesel - hybrid'!G$46+($B181-1),'Fremskrivninger CO2e egne data'!$B$4:$M$34,4)/1000*'Benzin - diesel - hybrid'!G$11","v":0},{"$f":"IFERROR('Benzin - diesel - hybrid'!G$14/'Benzin - diesel - hybrid'!#REF!,0)","v":0},{"$f":"VLOOKUP('Benzin - diesel - hybrid'!I$46+($B181-1),'Fremskrivninger CO2e egne data'!$B$4:$M$34,5)/1000*'Benzin - diesel - hybrid'!I$11","v":0},{"$f":"IFERROR('Benzin - diesel - hybrid'!I$14/'Benzin - diesel - hybrid'!#REF!,0)","v":0},{"$f":"VLOOKUP('Benzin - diesel - hybrid'!K$46+($B181-1),'Fremskrivninger CO2e egne data'!$B$4:$M$34,6)/1000*'Benzin - diesel - hybrid'!K$11","v":0},{"$f":"IFERROR('Benzin - diesel - hybrid'!K$14/'Benzin - diesel - hybrid'!#REF!,0)","v":0},{"$f":"VLOOKUP('Benzin - diesel - hybrid'!M$46+($B181-1),'Fremskrivninger CO2e egne data'!$B$4:$M$34,7)/1000*'Benzin - diesel - hybrid'!M$11","v":0},{"$f":"IFERROR('Benzin - diesel - hybrid'!M$14/'Benzin - diesel - hybrid'!#REF!,0)","v":0},{"$f":"VLOOKUP('Benzin - diesel - hybrid'!O$46+($B181-1),'Fremskrivninger CO2e egne data'!$B$4:$M$34,8)/1000*'Benzin - diesel - hybrid'!O$11","v":0},{"$f":"IFERROR('Benzin - diesel - hybrid'!O$14/'Benzin - diesel - hybrid'!#REF!,0)","v":0},{"$f":"VLOOKUP('Benzin - diesel - hybrid'!Q$46+($B181-1),'Fremskrivninger CO2e egne data'!$B$4:$M$34,9)/1000*'Benzin - diesel - hybrid'!Q$11","v":0},{"$f":"IFERROR('Benzin - diesel - hybrid'!Q$14/'Benzin - diesel - hybrid'!#REF!,0)","v":0},{"$f":"VLOOKUP('Benzin - diesel - hybrid'!S$46+($B181-1),'Fremskrivninger CO2e egne data'!$B$4:$M$34,10)/1000*'Benzin - diesel - hybrid'!S$11","v":0},{"$f":"IFERROR('Benzin - diesel - hybrid'!S$14/'Benzin - diesel - hybrid'!#REF!,0)","v":0},{"$f":"VLOOKUP('Benzin - diesel - hybrid'!U$46+($B181-1),'Fremskrivninger CO2e egne data'!$B$4:$M$34,11)/1000*'Benzin - diesel - hybrid'!U$11","v":0},{"$f":"IFERROR('Benzin - diesel - hybrid'!U$14/'Benzin - diesel - hybrid'!#REF!,0)","v":0},{"$f":"VLOOKUP('Benzin - diesel - hybrid'!W$46+($B181-1),'Fremskrivninger CO2e egne data'!$B$4:$M$34,12)/1000*'Benzin - diesel - hybrid'!W$11","v":0},{"$f":"IFERROR('Benzin - diesel - hybrid'!W$14/'Benzin - diesel - hybrid'!#REF!,0)","v":0}]
[null,18,18,null,{"$f":"VLOOKUP('Benzin - diesel - hybrid'!E$46+($B182-1),'Fremskrivninger CO2e egne data'!$B$4:$M$34,3)/1000*'Benzin - diesel - hybrid'!E$11","v":0},{"$f":"IFERROR('Benzin - diesel - hybrid'!E$14/'Benzin - diesel - hybrid'!#REF!,0)","v":0},{"$f":"VLOOKUP('Benzin - diesel - hybrid'!G$46+($B182-1),'Fremskrivninger CO2e egne data'!$B$4:$M$34,4)/1000*'Benzin - diesel - hybrid'!G$11","v":0},{"$f":"IFERROR('Benzin - diesel - hybrid'!G$14/'Benzin - diesel - hybrid'!#REF!,0)","v":0},{"$f":"VLOOKUP('Benzin - diesel - hybrid'!I$46+($B182-1),'Fremskrivninger CO2e egne data'!$B$4:$M$34,5)/1000*'Benzin - diesel - hybrid'!I$11","v":0},{"$f":"IFERROR('Benzin - diesel - hybrid'!I$14/'Benzin - diesel - hybrid'!#REF!,0)","v":0},{"$f":"VLOOKUP('Benzin - diesel - hybrid'!K$46+($B182-1),'Fremskrivninger CO2e egne data'!$B$4:$M$34,6)/1000*'Benzin - diesel - hybrid'!K$11","v":0},{"$f":"IFERROR('Benzin - diesel - hybrid'!K$14/'Benzin - diesel - hybrid'!#REF!,0)","v":0},{"$f":"VLOOKUP('Benzin - diesel - hybrid'!M$46+($B182-1),'Fremskrivninger CO2e egne data'!$B$4:$M$34,7)/1000*'Benzin - diesel - hybrid'!M$11","v":0},{"$f":"IFERROR('Benzin - diesel - hybrid'!M$14/'Benzin - diesel - hybrid'!#REF!,0)","v":0},{"$f":"VLOOKUP('Benzin - diesel - hybrid'!O$46+($B182-1),'Fremskrivninger CO2e egne data'!$B$4:$M$34,8)/1000*'Benzin - diesel - hybrid'!O$11","v":0},{"$f":"IFERROR('Benzin - diesel - hybrid'!O$14/'Benzin - diesel - hybrid'!#REF!,0)","v":0},{"$f":"VLOOKUP('Benzin - diesel - hybrid'!Q$46+($B182-1),'Fremskrivninger CO2e egne data'!$B$4:$M$34,9)/1000*'Benzin - diesel - hybrid'!Q$11","v":0},{"$f":"IFERROR('Benzin - diesel - hybrid'!Q$14/'Benzin - diesel - hybrid'!#REF!,0)","v":0},{"$f":"VLOOKUP('Benzin - diesel - hybrid'!S$46+($B182-1),'Fremskrivninger CO2e egne data'!$B$4:$M$34,10)/1000*'Benzin - diesel - hybrid'!S$11","v":0},{"$f":"IFERROR('Benzin - diesel - hybrid'!S$14/'Benzin - diesel - hybrid'!#REF!,0)","v":0},{"$f":"VLOOKUP('Benzin - diesel - hybrid'!U$46+($B182-1),'Fremskrivninger CO2e egne data'!$B$4:$M$34,11)/1000*'Benzin - diesel - hybrid'!U$11","v":0},{"$f":"IFERROR('Benzin - diesel - hybrid'!U$14/'Benzin - diesel - hybrid'!#REF!,0)","v":0},{"$f":"VLOOKUP('Benzin - diesel - hybrid'!W$46+($B182-1),'Fremskrivninger CO2e egne data'!$B$4:$M$34,12)/1000*'Benzin - diesel - hybrid'!W$11","v":0},{"$f":"IFERROR('Benzin - diesel - hybrid'!W$14/'Benzin - diesel - hybrid'!#REF!,0)","v":0}]
[null,19,19,null,{"$f":"VLOOKUP('Benzin - diesel - hybrid'!E$46+($B183-1),'Fremskrivninger CO2e egne data'!$B$4:$M$34,3)/1000*'Benzin - diesel - hybrid'!E$11","v":0},{"$f":"IFERROR('Benzin - diesel - hybrid'!E$14/'Benzin - diesel - hybrid'!#REF!,0)","v":0},{"$f":"VLOOKUP('Benzin - diesel - hybrid'!G$46+($B183-1),'Fremskrivninger CO2e egne data'!$B$4:$M$34,4)/1000*'Benzin - diesel - hybrid'!G$11","v":0},{"$f":"IFERROR('Benzin - diesel - hybrid'!G$14/'Benzin - diesel - hybrid'!#REF!,0)","v":0},{"$f":"VLOOKUP('Benzin - diesel - hybrid'!I$46+($B183-1),'Fremskrivninger CO2e egne data'!$B$4:$M$34,5)/1000*'Benzin - diesel - hybrid'!I$11","v":0},{"$f":"IFERROR('Benzin - diesel - hybrid'!I$14/'Benzin - diesel - hybrid'!#REF!,0)","v":0},{"$f":"VLOOKUP('Benzin - diesel - hybrid'!K$46+($B183-1),'Fremskrivninger CO2e egne data'!$B$4:$M$34,6)/1000*'Benzin - diesel - hybrid'!K$11","v":0},{"$f":"IFERROR('Benzin - diesel - hybrid'!K$14/'Benzin - diesel - hybrid'!#REF!,0)","v":0},{"$f":"VLOOKUP('Benzin - diesel - hybrid'!M$46+($B183-1),'Fremskrivninger CO2e egne data'!$B$4:$M$34,7)/1000*'Benzin - diesel - hybrid'!M$11","v":0},{"$f":"IFERROR('Benzin - diesel - hybrid'!M$14/'Benzin - diesel - hybrid'!#REF!,0)","v":0},{"$f":"VLOOKUP('Benzin - diesel - hybrid'!O$46+($B183-1),'Fremskrivninger CO2e egne data'!$B$4:$M$34,8)/1000*'Benzin - diesel - hybrid'!O$11","v":0},{"$f":"IFERROR('Benzin - diesel - hybrid'!O$14/'Benzin - diesel - hybrid'!#REF!,0)","v":0},{"$f":"VLOOKUP('Benzin - diesel - hybrid'!Q$46+($B183-1),'Fremskrivninger CO2e egne data'!$B$4:$M$34,9)/1000*'Benzin - diesel - hybrid'!Q$11","v":0},{"$f":"IFERROR('Benzin - diesel - hybrid'!Q$14/'Benzin - diesel - hybrid'!#REF!,0)","v":0},{"$f":"VLOOKUP('Benzin - diesel - hybrid'!S$46+($B183-1),'Fremskrivninger CO2e egne data'!$B$4:$M$34,10)/1000*'Benzin - diesel - hybrid'!S$11","v":0},{"$f":"IFERROR('Benzin - diesel - hybrid'!S$14/'Benzin - diesel - hybrid'!#REF!,0)","v":0},{"$f":"VLOOKUP('Benzin - diesel - hybrid'!U$46+($B183-1),'Fremskrivninger CO2e egne data'!$B$4:$M$34,11)/1000*'Benzin - diesel - hybrid'!U$11","v":0},{"$f":"IFERROR('Benzin - diesel - hybrid'!U$14/'Benzin - diesel - hybrid'!#REF!,0)","v":0},{"$f":"VLOOKUP('Benzin - diesel - hybrid'!W$46+($B183-1),'Fremskrivninger CO2e egne data'!$B$4:$M$34,12)/1000*'Benzin - diesel - hybrid'!W$11","v":0},{"$f":"IFERROR('Benzin - diesel - hybrid'!W$14/'Benzin - diesel - hybrid'!#REF!,0)","v":0}]
[null,20,20,null,{"$f":"VLOOKUP('Benzin - diesel - hybrid'!E$46+($B184-1),'Fremskrivninger CO2e egne data'!$B$4:$M$34,3)/1000*'Benzin - diesel - hybrid'!E$11","v":0},{"$f":"IFERROR('Benzin - diesel - hybrid'!E$14/'Benzin - diesel - hybrid'!#REF!,0)","v":0},{"$f":"VLOOKUP('Benzin - diesel - hybrid'!G$46+($B184-1),'Fremskrivninger CO2e egne data'!$B$4:$M$34,4)/1000*'Benzin - diesel - hybrid'!G$11","v":0},{"$f":"IFERROR('Benzin - diesel - hybrid'!G$14/'Benzin - diesel - hybrid'!#REF!,0)","v":0},{"$f":"VLOOKUP('Benzin - diesel - hybrid'!I$46+($B184-1),'Fremskrivninger CO2e egne data'!$B$4:$M$34,5)/1000*'Benzin - diesel - hybrid'!I$11","v":0},{"$f":"IFERROR('Benzin - diesel - hybrid'!I$14/'Benzin - diesel - hybrid'!#REF!,0)","v":0},{"$f":"VLOOKUP('Benzin - diesel - hybrid'!K$46+($B184-1),'Fremskrivninger CO2e egne data'!$B$4:$M$34,6)/1000*'Benzin - diesel - hybrid'!K$11","v":0},{"$f":"IFERROR('Benzin - diesel - hybrid'!K$14/'Benzin - diesel - hybrid'!#REF!,0)","v":0},{"$f":"VLOOKUP('Benzin - diesel - hybrid'!M$46+($B184-1),'Fremskrivninger CO2e egne data'!$B$4:$M$34,7)/1000*'Benzin - diesel - hybrid'!M$11","v":0},{"$f":"IFERROR('Benzin - diesel - hybrid'!M$14/'Benzin - diesel - hybrid'!#REF!,0)","v":0},{"$f":"VLOOKUP('Benzin - diesel - hybrid'!O$46+($B184-1),'Fremskrivninger CO2e egne data'!$B$4:$M$34,8)/1000*'Benzin - diesel - hybrid'!O$11","v":0},{"$f":"IFERROR('Benzin - diesel - hybrid'!O$14/'Benzin - diesel - hybrid'!#REF!,0)","v":0},{"$f":"VLOOKUP('Benzin - diesel - hybrid'!Q$46+($B184-1),'Fremskrivninger CO2e egne data'!$B$4:$M$34,9)/1000*'Benzin - diesel - hybrid'!Q$11","v":0},{"$f":"IFERROR('Benzin - diesel - hybrid'!Q$14/'Benzin - diesel - hybrid'!#REF!,0)","v":0},{"$f":"VLOOKUP('Benzin - diesel - hybrid'!S$46+($B184-1),'Fremskrivninger CO2e egne data'!$B$4:$M$34,10)/1000*'Benzin - diesel - hybrid'!S$11","v":0},{"$f":"IFERROR('Benzin - diesel - hybrid'!S$14/'Benzin - diesel - hybrid'!#REF!,0)","v":0},{"$f":"VLOOKUP('Benzin - diesel - hybrid'!U$46+($B184-1),'Fremskrivninger CO2e egne data'!$B$4:$M$34,11)/1000*'Benzin - diesel - hybrid'!U$11","v":0},{"$f":"IFERROR('Benzin - diesel - hybrid'!U$14/'Benzin - diesel - hybrid'!#REF!,0)","v":0},{"$f":"VLOOKUP('Benzin - diesel - hybrid'!W$46+($B184-1),'Fremskrivninger CO2e egne data'!$B$4:$M$34,12)/1000*'Benzin - diesel - hybrid'!W$11","v":0},{"$f":"IFERROR('Benzin - diesel - hybrid'!W$14/'Benzin - diesel - hybrid'!#REF!,0)","v":0}]
["Eksternalitetsmodul - Samfundsøkonomiske omkostninger (kr.)",null,null,null,"Udregninger CO2"]
[null,"År indeks",null,"TCO-evalueringsperiode",{"$f":"'Benzin - diesel - hybrid'!E8&\" - Samfundsøkonomiske omkostninger (kr.)\"","v":"PRODUKT 1 - Samfundsøkonomiske omkostninger (kr.)"},{"$f":"'Benzin - diesel - hybrid'!E8&\" - Samlet udledning i tons CO2e\"","v":"PRODUKT 1 - Samlet udledning i tons CO2e"},{"$f":"'Benzin - diesel - hybrid'!G8&\" - Samfundsøkonomiske omkostninger (kr.)\"","v":"PRODUKT 2 - Samfundsøkonomiske omkostninger (kr.)"},{"$f":"'Benzin - diesel - hybrid'!G8&\" - Samlet udledning i tons CO2e\"","v":"PRODUKT 2 - Samlet udledning i tons CO2e"},{"$f":"'Benzin - diesel - hybrid'!I8&\" - Samfundsøkonomiske omkostninger (kr.)\"","v":"PRODUKT 3 - Samfundsøkonomiske omkostninger (kr.)"},{"$f":"'Benzin - diesel - hybrid'!I8&\" - Samlet udledning i tons CO2e\"","v":"PRODUKT 3 - Samlet udledning i tons CO2e"},{"$f":"'Benzin - diesel - hybrid'!K8&\" - Samfundsøkonomiske omkostninger (kr.)\"","v":"PRODUKT 4 - Samfundsøkonomiske omkostninger (kr.)"},{"$f":"'Benzin - diesel - hybrid'!K8&\" - Samlet udledning i tons CO2e\"","v":"PRODUKT 4 - Samlet udledning i tons CO2e"},{"$f":"'Benzin - diesel - hybrid'!M8&\" - Samfundsøkonomiske omkostninger (kr.)\"","v":"PRODUKT 5 - Samfundsøkonomiske omkostninger (kr.)"},{"$f":"'Benzin - diesel - hybrid'!M8&\" - Samlet udledning i tons CO2e\"","v":"PRODUKT 5 - Samlet udledning i tons CO2e"},{"$f":"'Benzin - diesel - hybrid'!O8&\" - Samfundsøkonomiske omkostninger (kr.)\"","v":"PRODUKT 6 - Samfundsøkonomiske omkostninger (kr.)"},{"$f":"'Benzin - diesel - hybrid'!O8&\" - Samlet udledning i tons CO2e\"","v":"PRODUKT 6 - Samlet udledning i tons CO2e"},{"$f":"'Benzin - diesel - hybrid'!Q8&\" - Samfundsøkonomiske omkostninger (kr.)\"","v":"PRODUKT 7 - Samfundsøkonomiske omkostninger (kr.)"},{"$f":"'Benzin - diesel - hybrid'!Q8&\" - Samlet udledning i tons CO2e\"","v":"PRODUKT 7 - Samlet udledning i tons CO2e"},{"$f":"'Benzin - diesel - hybrid'!S8&\" - Samfundsøkonomiske omkostninger (kr.)\"","v":"PRODUKT 8 - Samfundsøkonomiske omkostninger (kr.)"},{"$f":"'Benzin - diesel - hybrid'!S8&\" - Samlet udledning i tons CO2e\"","v":"PRODUKT 8 - Samlet udledning i tons CO2e"},{"$f":"'Benzin - diesel - hybrid'!U8&\" - Samfundsøkonomiske omkostninger (kr.)\"","v":"PRODUKT 9 - Samfundsøkonomiske omkostninger (kr.)"},{"$f":"'Benzin - diesel - hybrid'!U8&\" - Samlet udledning i tons CO2e\"","v":"PRODUKT 9 - Samlet udledning i tons CO2e"},{"$f":"'Benzin - diesel - hybrid'!W8&\" - Samfundsøkonomiske omkostninger (kr.)\"","v":"PRODUKT 10 - Samfundsøkonomiske omkostninger (kr.)"},{"$f":"'Benzin - diesel - hybrid'!W8&\" - Samlet udledning i tons CO2e\"","v":"PRODUKT 10 - Samlet udledning i tons CO2e"}]
[null,1,{"$f":"B187","v":1},null,{"$f":"F187*IF('Benzin - diesel - hybrid'!E$31=\"nej\",0,IF('Benzin - diesel - hybrid'!E$33=\"ja\",'Benzin - diesel - hybrid'!E$34,'Benzin - diesel - hybrid'!E$35))*(1+'Benzin - diesel - hybrid'!E$48)^-$C187","v":0},{"$f":"IF('Benzin - diesel - hybrid'!E$13=\"benzin\",E142,IF('Benzin - diesel - hybrid'!E$13=\"diesel\",E165,0))","v":0},{"$f":"H187*IF('Benzin - diesel - hybrid'!G$31=\"nej\",0,IF('Benzin - diesel - hybrid'!G$33=\"ja\",'Benzin - diesel - hybrid'!G$34,'Benzin - diesel - hybrid'!G$35))*(1+'Benzin - diesel - hybrid'!G$48)^-$C187","v":0},{"$f":"IF('Benzin - diesel - hybrid'!G$13=\"benzin\",G142,IF('Benzin - diesel - hybrid'!G$13=\"diesel\",G165,0))","v":0},{"$f":"J187*IF('Benzin - diesel - hybrid'!I$31=\"nej\",0,IF('Benzin - diesel - hybrid'!I$33=\"ja\",'Benzin - diesel - hybrid'!I$34,'Benzin - diesel - hybrid'!I$35))*(1+'Benzin - diesel - hybrid'!I$48)^-$C187","v":0},{"$f":"IF('Benzin - diesel - hybrid'!I$13=\"benzin\",I142,IF('Benzin - diesel - hybrid'!I$13=\"diesel\",I165,0))","v":0},{"$f":"L187*IF('Benzin - diesel - hybrid'!K$31=\"nej\",0,IF('Benzin - diesel - hybrid'!K$33=\"ja\",'Benzin - diesel - hybrid'!K$34,'Benzin - diesel - hybrid'!K$35))*(1+'Benzin - diesel - hybrid'!K$48)^-$C187","v":0},{"$f":"IF('Benzin - diesel - hybrid'!K$13=\"benzin\",K142,IF('Benzin - diesel - hybrid'!K$13=\"diesel\",K165,0))","v":0},{"$f":"N187*IF('Benzin - diesel - hybrid'!M$31=\"nej\",0,IF('Benzin - diesel - hybrid'!M$33=\"ja\",'Benzin - diesel - hybrid'!M$34,'Benzin - diesel - hybrid'!M$35))*(1+'Benzin - diesel - hybrid'!M$48)^-$C187","v":0},{"$f":"IF('Benzin - diesel - hybrid'!M$13=\"benzin\",M142,IF('Benzin - diesel - hybrid'!M$13=\"diesel\",M165,0))","v":0},{"$f":"P187*IF('Benzin - diesel - hybrid'!O$31=\"nej\",0,IF('Benzin - diesel - hybrid'!O$33=\"ja\",'Benzin - diesel - hybrid'!O$34,'Benzin - diesel - hybrid'!O$35))*(1+'Benzin - diesel - hybrid'!O$48)^-$C187","v":0},{"$f":"IF('Benzin - diesel - hybrid'!O$13=\"benzin\",O142,IF('Benzin - diesel - hybrid'!O$13=\"diesel\",O165,0))","v":0},{"$f":"R187*IF('Benzin - diesel - hybrid'!Q$31=\"nej\",0,IF('Benzin - diesel - hybrid'!Q$33=\"ja\",'Benzin - diesel - hybrid'!Q$34,'Benzin - diesel - hybrid'!Q$35))*(1+'Benzin - diesel - hybrid'!Q$48)^-$C187","v":0},{"$f":"IF('Benzin - diesel - hybrid'!Q$13=\"benzin\",Q142,IF('Benzin - diesel - hybrid'!Q$13=\"diesel\",Q165,0))","v":0},{"$f":"T187*IF('Benzin - diesel - hybrid'!S$31=\"nej\",0,IF('Benzin - diesel - hybrid'!S$33=\"ja\",'Benzin - diesel - hybrid'!S$34,'Benzin - diesel - hybrid'!S$35))*(1+'Benzin - diesel - hybrid'!S$48)^-$C187","v":0},{"$f":"IF('Benzin - diesel - hybrid'!S$13=\"benzin\",S142,IF('Benzin - diesel - hybrid'!S$13=\"diesel\",S165,0))","v":0},{"$f":"V187*IF('Benzin - diesel - hybrid'!U$31=\"nej\",0,IF('Benzin - diesel - hybrid'!U$33=\"ja\",'Benzin - diesel - hybrid'!U$34,'Benzin - diesel - hybrid'!U$35))*(1+'Benzin - diesel - hybrid'!U$48)^-$C187","v":0},{"$f":"IF('Benzin - diesel - hybrid'!U$13=\"benzin\",U142,IF('Benzin - diesel - hybrid'!U$13=\"diesel\",U165,0))","v":0},{"$f":"X187*IF('Benzin - diesel - hybrid'!W$31=\"nej\",0,IF('Benzin - diesel - hybrid'!W$33=\"ja\",'Benzin - diesel - hybrid'!W$34,'Benzin - diesel - hybrid'!W$35))*(1+'Benzin - diesel - hybrid'!W$48)^-$C187","v":0},{"$f":"IF('Benzin - diesel - hybrid'!W$13=\"benzin\",W142,IF('Benzin - diesel - hybrid'!W$13=\"diesel\",W165,0))","v":0}]
[null,2,{"$f":"B188","v":2},null,{"$f":"F188*IF('Benzin - diesel - hybrid'!E$31=\"nej\",0,IF('Benzin - diesel - hybrid'!E$33=\"ja\",'Benzin - diesel - hybrid'!E$34,'Benzin - diesel - hybrid'!E$35))*(1+'Benzin - diesel - hybrid'!E$48)^-$C188","v":0},{"$f":"IF('Benzin - diesel - hybrid'!E$13=\"benzin\",E143,IF('Benzin - diesel - hybrid'!E$13=\"diesel\",E166,0))","v":0},{"$f":"H188*IF('Benzin - diesel - hybrid'!G$31=\"nej\",0,IF('Benzin - diesel - hybrid'!G$33=\"ja\",'Benzin - diesel - hybrid'!G$34,'Benzin - diesel - hybrid'!G$35))*(1+'Benzin - diesel - hybrid'!G$48)^-$C188","v":0},{"$f":"IF('Benzin - diesel - hybrid'!G$13=\"benzin\",G143,IF('Benzin - diesel - hybrid'!G$13=\"diesel\",G166,0))","v":0},{"$f":"J188*IF('Benzin - diesel - hybrid'!I$31=\"nej\",0,IF('Benzin - diesel - hybrid'!I$33=\"ja\",'Benzin - diesel - hybrid'!I$34,'Benzin - diesel - hybrid'!I$35))*(1+'Benzin - diesel - hybrid'!I$48)^-$C188","v":0},{"$f":"IF('Benzin - diesel - hybrid'!I$13=\"benzin\",I143,IF('Benzin - diesel - hybrid'!I$13=\"diesel\",I166,0))","v":0},{"$f":"L188*IF('Benzin - diesel - hybrid'!K$31=\"nej\",0,IF('Benzin - diesel - hybrid'!K$33=\"ja\",'Benzin - diesel - hybrid'!K$34,'Benzin - diesel - hybrid'!K$35))*(1+'Benzin - diesel - hybrid'!K$48)^-$C188","v":0},{"$f":"IF('Benzin - diesel - hybrid'!K$13=\"benzin\",K143,IF('Benzin - diesel - hybrid'!K$13=\"diesel\",K166,0))","v":0},{"$f":"N188*IF('Benzin - diesel - hybrid'!M$31=\"nej\",0,IF('Benzin - diesel - hybrid'!M$33=\"ja\",'Benzin - diesel - hybrid'!M$34,'Benzin - diesel - hybrid'!M$35))*(1+'Benzin - diesel - hybrid'!M$48)^-$C188","v":0},{"$f":"IF('Benzin - diesel - hybrid'!M$13=\"benzin\",M143,IF('Benzin - diesel - hybrid'!M$13=\"diesel\",M166,0))","v":0},{"$f":"P188*IF('Benzin - diesel - hybrid'!O$31=\"nej\",0,IF('Benzin - diesel - hybrid'!O$33=\"ja\",'Benzin - diesel - hybrid'!O$34,'Benzin - diesel - hybrid'!O$35))*(1+'Benzin - diesel - hybrid'!O$48)^-$C188","v":0},{"$f":"IF('Benzin - diesel - hybrid'!O$13=\"benzin\",O143,IF('Benzin - diesel - hybrid'!O$13=\"diesel\",O166,0))","v":0},{"$f":"R188*IF('Benzin - diesel - hybrid'!Q$31=\"nej\",0,IF('Benzin - diesel - hybrid'!Q$33=\"ja\",'Benzin - diesel - hybrid'!Q$34,'Benzin - diesel - hybrid'!Q$35))*(1+'Benzin - diesel - hybrid'!Q$48)^-$C188","v":0},{"$f":"IF('Benzin - diesel - hybrid'!Q$13=\"benzin\",Q143,IF('Benzin - diesel - hybrid'!Q$13=\"diesel\",Q166,0))","v":0},{"$f":"T188*IF('Benzin - diesel - hybrid'!S$31=\"nej\",0,IF('Benzin - diesel - hybrid'!S$33=\"ja\",'Benzin - diesel - hybrid'!S$34,'Benzin - diesel - hybrid'!S$35))*(1+'Benzin - diesel - hybrid'!S$48)^-$C188","v":0},{"$f":"IF('Benzin - diesel - hybrid'!S$13=\"benzin\",S143,IF('Benzin - diesel - hybrid'!S$13=\"diesel\",S166,0))","v":0},{"$f":"V188*IF('Benzin - diesel - hybrid'!U$31=\"nej\",0,IF('Benzin - diesel - hybrid'!U$33=\"ja\",'Benzin - diesel - hybrid'!U$34,'Benzin - diesel - hybrid'!U$35))*(1+'Benzin - diesel - hybrid'!U$48)^-$C188","v":0},{"$f":"IF('Benzin - diesel - hybrid'!U$13=\"benzin\",U143,IF('Benzin - diesel - hybrid'!U$13=\"diesel\",U166,0))","v":0},{"$f":"X188*IF('Benzin - diesel - hybrid'!W$31=\"nej\",0,IF('Benzin - diesel - hybrid'!W$33=\"ja\",'Benzin - diesel - hybrid'!W$34,'Benzin - diesel - hybrid'!W$35))*(1+'Benzin - diesel - hybrid'!W$48)^-$C188","v":0},{"$f":"IF('Benzin - diesel - hybrid'!W$13=\"benzin\",W143,IF('Benzin - diesel - hybrid'!W$13=\"diesel\",W166,0))","v":0}]
[null,3,3,null,{"$f":"F189*IF('Benzin - diesel - hybrid'!E$31=\"nej\",0,IF('Benzin - diesel - hybrid'!E$33=\"ja\",'Benzin - diesel - hybrid'!E$34,'Benzin - diesel - hybrid'!E$35))*(1+'Benzin - diesel - hybrid'!E$48)^-$C189","v":0},{"$f":"IF('Benzin - diesel - hybrid'!E$13=\"benzin\",E144,IF('Benzin - diesel - hybrid'!E$13=\"diesel\",E167,0))","v":0},{"$f":"H189*IF('Benzin - diesel - hybrid'!G$31=\"nej\",0,IF('Benzin - diesel - hybrid'!G$33=\"ja\",'Benzin - diesel - hybrid'!G$34,'Benzin - diesel - hybrid'!G$35))*(1+'Benzin - diesel - hybrid'!G$48)^-$C189","v":0},{"$f":"IF('Benzin - diesel - hybrid'!G$13=\"benzin\",G144,IF('Benzin - diesel - hybrid'!G$13=\"diesel\",G167,0))","v":0},{"$f":"J189*IF('Benzin - diesel - hybrid'!I$31=\"nej\",0,IF('Benzin - diesel - hybrid'!I$33=\"ja\",'Benzin - diesel - hybrid'!I$34,'Benzin - diesel - hybrid'!I$35))*(1+'Benzin - diesel - hybrid'!I$48)^-$C189","v":0},{"$f":"IF('Benzin - diesel - hybrid'!I$13=\"benzin\",I144,IF('Benzin - diesel - hybrid'!I$13=\"diesel\",I167,0))","v":0},{"$f":"L189*IF('Benzin - diesel - hybrid'!K$31=\"nej\",0,IF('Benzin - diesel - hybrid'!K$33=\"ja\",'Benzin - diesel - hybrid'!K$34,'Benzin - diesel - hybrid'!K$35))*(1+'Benzin - diesel - hybrid'!K$48)^-$C189","v":0},{"$f":"IF('Benzin - diesel - hybrid'!K$13=\"benzin\",K144,IF('Benzin - diesel - hybrid'!K$13=\"diesel\",K167,0))","v":0},{"$f":"N189*IF('Benzin - diesel - hybrid'!M$31=\"nej\",0,IF('Benzin - diesel - hybrid'!M$33=\"ja\",'Benzin - diesel - hybrid'!M$34,'Benzin - diesel - hybrid'!M$35))*(1+'Benzin - diesel - hybrid'!M$48)^-$C189","v":0},{"$f":"IF('Benzin - diesel - hybrid'!M$13=\"benzin\",M144,IF('Benzin - diesel - hybrid'!M$13=\"diesel\",M167,0))","v":0},{"$f":"P189*IF('Benzin - diesel - hybrid'!O$31=\"nej\",0,IF('Benzin - diesel - hybrid'!O$33=\"ja\",'Benzin - diesel - hybrid'!O$34,'Benzin - diesel - hybrid'!O$35))*(1+'Benzin - diesel - hybrid'!O$48)^-$C189","v":0},{"$f":"IF('Benzin - diesel - hybrid'!O$13=\"benzin\",O144,IF('Benzin - diesel - hybrid'!O$13=\"diesel\",O167,0))","v":0},{"$f":"R189*IF('Benzin - diesel - hybrid'!Q$31=\"nej\",0,IF('Benzin - diesel - hybrid'!Q$33=\"ja\",'Benzin - diesel - hybrid'!Q$34,'Benzin - diesel - hybrid'!Q$35))*(1+'Benzin - diesel - hybrid'!Q$48)^-$C189","v":0},{"$f":"IF('Benzin - diesel - hybrid'!Q$13=\"benzin\",Q144,IF('Benzin - diesel - hybrid'!Q$13=\"diesel\",Q167,0))","v":0},{"$f":"T189*IF('Benzin - diesel - hybrid'!S$31=\"nej\",0,IF('Benzin - diesel - hybrid'!S$33=\"ja\",'Benzin - diesel - hybrid'!S$34,'Benzin - diesel - hybrid'!S$35))*(1+'Benzin - diesel - hybrid'!S$48)^-$C189","v":0},{"$f":"IF('Benzin - diesel - hybrid'!S$13=\"benzin\",S144,IF('Benzin - diesel - hybrid'!S$13=\"diesel\",S167,0))","v":0},{"$f":"V189*IF('Benzin - diesel - hybrid'!U$31=\"nej\",0,IF('Benzin - diesel - hybrid'!U$33=\"ja\",'Benzin - diesel - hybrid'!U$34,'Benzin - diesel - hybrid'!U$35))*(1+'Benzin - diesel - hybrid'!U$48)^-$C189","v":0},{"$f":"IF('Benzin - diesel - hybrid'!U$13=\"benzin\",U144,IF('Benzin - diesel - hybrid'!U$13=\"diesel\",U167,0))","v":0},{"$f":"X189*IF('Benzin - diesel - hybrid'!W$31=\"nej\",0,IF('Benzin - diesel - hybrid'!W$33=\"ja\",'Benzin - diesel - hybrid'!W$34,'Benzin - diesel - hybrid'!W$35))*(1+'Benzin - diesel - hybrid'!W$48)^-$C189","v":0},{"$f":"IF('Benzin - diesel - hybrid'!W$13=\"benzin\",W144,IF('Benzin - diesel - hybrid'!W$13=\"diesel\",W167,0))","v":0}]
[null,4,4,null,{"$f":"F190*IF('Benzin - diesel - hybrid'!E$31=\"nej\",0,IF('Benzin - diesel - hybrid'!E$33=\"ja\",'Benzin - diesel - hybrid'!E$34,'Benzin - diesel - hybrid'!E$35))*(1+'Benzin - diesel - hybrid'!E$48)^-$C190","v":0},{"$f":"IF('Benzin - diesel - hybrid'!E$13=\"benzin\",E145,IF('Benzin - diesel - hybrid'!E$13=\"diesel\",E168,0))","v":0},{"$f":"H190*IF('Benzin - diesel - hybrid'!G$31=\"nej\",0,IF('Benzin - diesel - hybrid'!G$33=\"ja\",'Benzin - diesel - hybrid'!G$34,'Benzin - diesel - hybrid'!G$35))*(1+'Benzin - diesel - hybrid'!G$48)^-$C190","v":0},{"$f":"IF('Benzin - diesel - hybrid'!G$13=\"benzin\",G145,IF('Benzin - diesel - hybrid'!G$13=\"diesel\",G168,0))","v":0},{"$f":"J190*IF('Benzin - diesel - hybrid'!I$31=\"nej\",0,IF('Benzin - diesel - hybrid'!I$33=\"ja\",'Benzin - diesel - hybrid'!I$34,'Benzin - diesel - hybrid'!I$35))*(1+'Benzin - diesel - hybrid'!I$48)^-$C190","v":0},{"$f":"IF('Benzin - diesel - hybrid'!I$13=\"benzin\",I145,IF('Benzin - diesel - hybrid'!I$13=\"diesel\",I168,0))","v":0},{"$f":"L190*IF('Benzin - diesel - hybrid'!K$31=\"nej\",0,IF('Benzin - diesel - hybrid'!K$33=\"ja\",'Benzin - diesel - hybrid'!K$34,'Benzin - diesel - hybrid'!K$35))*(1+'Benzin - diesel - hybrid'!K$48)^-$C190","v":0},{"$f":"IF('Benzin - diesel - hybrid'!K$13=\"benzin\",K145,IF('Benzin - diesel - hybrid'!K$13=\"diesel\",K168,0))","v":0},{"$f":"N190*IF('Benzin - diesel - hybrid'!M$31=\"nej\",0,IF('Benzin - diesel - hybrid'!M$33=\"ja\",'Benzin - diesel - hybrid'!M$34,'Benzin - diesel - hybrid'!M$35))*(1+'Benzin - diesel - hybrid'!M$48)^-$C190","v":0},{"$f":"IF('Benzin - diesel - hybrid'!M$13=\"benzin\",M145,IF('Benzin - diesel - hybrid'!M$13=\"diesel\",M168,0))","v":0},{"$f":"P190*IF('Benzin - diesel - hybrid'!O$31=\"nej\",0,IF('Benzin - diesel - hybrid'!O$33=\"ja\",'Benzin - diesel - hybrid'!O$34,'Benzin - diesel - hybrid'!O$35))*(1+'Benzin - diesel - hybrid'!O$48)^-$C190","v":0},{"$f":"IF('Benzin - diesel - hybrid'!O$13=\"benzin\",O145,IF('Benzin - diesel - hybrid'!O$13=\"diesel\",O168,0))","v":0},{"$f":"R190*IF('Benzin - diesel - hybrid'!Q$31=\"nej\",0,IF('Benzin - diesel - hybrid'!Q$33=\"ja\",'Benzin - diesel - hybrid'!Q$34,'Benzin - diesel - hybrid'!Q$35))*(1+'Benzin - diesel - hybrid'!Q$48)^-$C190","v":0},{"$f":"IF('Benzin - diesel - hybrid'!Q$13=\"benzin\",Q145,IF('Benzin - diesel - hybrid'!Q$13=\"diesel\",Q168,0))","v":0},{"$f":"T190*IF('Benzin - diesel - hybrid'!S$31=\"nej\",0,IF('Benzin - diesel - hybrid'!S$33=\"ja\",'Benzin - diesel - hybrid'!S$34,'Benzin - diesel - hybrid'!S$35))*(1+'Benzin - diesel - hybrid'!S$48)^-$C190","v":0},{"$f":"IF('Benzin - diesel - hybrid'!S$13=\"benzin\",S145,IF('Benzin - diesel - hybrid'!S$13=\"diesel\",S168,0))","v":0},{"$f":"V190*IF('Benzin - diesel - hybrid'!U$31=\"nej\",0,IF('Benzin - diesel - hybrid'!U$33=\"ja\",'Benzin - diesel - hybrid'!U$34,'Benzin - diesel - hybrid'!U$35))*(1+'Benzin - diesel - hybrid'!U$48)^-$C190","v":0},{"$f":"IF('Benzin - diesel - hybrid'!U$13=\"benzin\",U145,IF('Benzin - diesel - hybrid'!U$13=\"diesel\",U168,0))","v":0},{"$f":"X190*IF('Benzin - diesel - hybrid'!W$31=\"nej\",0,IF('Benzin - diesel - hybrid'!W$33=\"ja\",'Benzin - diesel - hybrid'!W$34,'Benzin - diesel - hybrid'!W$35))*(1+'Benzin - diesel - hybrid'!W$48)^-$C190","v":0},{"$f":"IF('Benzin - diesel - hybrid'!W$13=\"benzin\",W145,IF('Benzin - diesel - hybrid'!W$13=\"diesel\",W168,0))","v":0}]
[null,5,5,null,{"$f":"F191*IF('Benzin - diesel - hybrid'!E$31=\"nej\",0,IF('Benzin - diesel - hybrid'!E$33=\"ja\",'Benzin - diesel - hybrid'!E$34,'Benzin - diesel - hybrid'!E$35))*(1+'Benzin - diesel - hybrid'!E$48)^-$C191","v":0},{"$f":"IF('Benzin - diesel - hybrid'!E$13=\"benzin\",E146,IF('Benzin - diesel - hybrid'!E$13=\"diesel\",E169,0))","v":0},{"$f":"H191*IF('Benzin - diesel - hybrid'!G$31=\"nej\",0,IF('Benzin - diesel - hybrid'!G$33=\"ja\",'Benzin - diesel - hybrid'!G$34,'Benzin - diesel - hybrid'!G$35))*(1+'Benzin - diesel - hybrid'!G$48)^-$C191","v":0},{"$f":"IF('Benzin - diesel - hybrid'!G$13=\"benzin\",G146,IF('Benzin - diesel - hybrid'!G$13=\"diesel\",G169,0))","v":0},{"$f":"J191*IF('Benzin - diesel - hybrid'!I$31=\"nej\",0,IF('Benzin - diesel - hybrid'!I$33=\"ja\",'Benzin - diesel - hybrid'!I$34,'Benzin - diesel - hybrid'!I$35))*(1+'Benzin - diesel - hybrid'!I$48)^-$C191","v":0},{"$f":"IF('Benzin - diesel - hybrid'!I$13=\"benzin\",I146,IF('Benzin - diesel - hybrid'!I$13=\"diesel\",I169,0))","v":0},{"$f":"L191*IF('Benzin - diesel - hybrid'!K$31=\"nej\",0,IF('Benzin - diesel - hybrid'!K$33=\"ja\",'Benzin - diesel - hybrid'!K$34,'Benzin - diesel - hybrid'!K$35))*(1+'Benzin - diesel - hybrid'!K$48)^-$C191","v":0},{"$f":"IF('Benzin - diesel - hybrid'!K$13=\"benzin\",K146,IF('Benzin - diesel - hybrid'!K$13=\"diesel\",K169,0))","v":0},{"$f":"N191*IF('Benzin - diesel - hybrid'!M$31=\"nej\",0,IF('Benzin - diesel - hybrid'!M$33=\"ja\",'Benzin - diesel - hybrid'!M$34,'Benzin - diesel - hybrid'!M$35))*(1+'Benzin - diesel - hybrid'!M$48)^-$C191","v":0},{"$f":"IF('Benzin - diesel - hybrid'!M$13=\"benzin\",M146,IF('Benzin - diesel - hybrid'!M$13=\"diesel\",M169,0))","v":0},{"$f":"P191*IF('Benzin - diesel - hybrid'!O$31=\"nej\",0,IF('Benzin - diesel - hybrid'!O$33=\"ja\",'Benzin - diesel - hybrid'!O$34,'Benzin - diesel - hybrid'!O$35))*(1+'Benzin - diesel - hybrid'!O$48)^-$C191","v":0},{"$f":"IF('Benzin - diesel - hybrid'!O$13=\"benzin\",O146,IF('Benzin - diesel - hybrid'!O$13=\"diesel\",O169,0))","v":0},{"$f":"R191*IF('Benzin - diesel - hybrid'!Q$31=\"nej\",0,IF('Benzin - diesel - hybrid'!Q$33=\"ja\",'Benzin - diesel - hybrid'!Q$34,'Benzin - diesel - hybrid'!Q$35))*(1+'Benzin - diesel - hybrid'!Q$48)^-$C191","v":0},{"$f":"IF('Benzin - diesel - hybrid'!Q$13=\"benzin\",Q146,IF('Benzin - diesel - hybrid'!Q$13=\"diesel\",Q169,0))","v":0},{"$f":"T191*IF('Benzin - diesel - hybrid'!S$31=\"nej\",0,IF('Benzin - diesel - hybrid'!S$33=\"ja\",'Benzin - diesel - hybrid'!S$34,'Benzin - diesel - hybrid'!S$35))*(1+'Benzin - diesel - hybrid'!S$48)^-$C191","v":0},{"$f":"IF('Benzin - diesel - hybrid'!S$13=\"benzin\",S146,IF('Benzin - diesel - hybrid'!S$13=\"diesel\",S169,0))","v":0},{"$f":"V191*IF('Benzin - diesel - hybrid'!U$31=\"nej\",0,IF('Benzin - diesel - hybrid'!U$33=\"ja\",'Benzin - diesel - hybrid'!U$34,'Benzin - diesel - hybrid'!U$35))*(1+'Benzin - diesel - hybrid'!U$48)^-$C191","v":0},{"$f":"IF('Benzin - diesel - hybrid'!U$13=\"benzin\",U146,IF('Benzin - diesel - hybrid'!U$13=\"diesel\",U169,0))","v":0},{"$f":"X191*IF('Benzin - diesel - hybrid'!W$31=\"nej\",0,IF('Benzin - diesel - hybrid'!W$33=\"ja\",'Benzin - diesel - hybrid'!W$34,'Benzin - diesel - hybrid'!W$35))*(1+'Benzin - diesel - hybrid'!W$48)^-$C191","v":0},{"$f":"IF('Benzin - diesel - hybrid'!W$13=\"benzin\",W146,IF('Benzin - diesel - hybrid'!W$13=\"diesel\",W169,0))","v":0}]
[null,6,6,null,{"$f":"F192*IF('Benzin - diesel - hybrid'!E$31=\"nej\",0,IF('Benzin - diesel - hybrid'!E$33=\"ja\",'Benzin - diesel - hybrid'!E$34,'Benzin - diesel - hybrid'!E$35))*(1+'Benzin - diesel - hybrid'!E$48)^-$C192","v":0},{"$f":"IF('Benzin - diesel - hybrid'!E$13=\"benzin\",E147,IF('Benzin - diesel - hybrid'!E$13=\"diesel\",E170,0))","v":0},{"$f":"H192*IF('Benzin - diesel - hybrid'!G$31=\"nej\",0,IF('Benzin - diesel - hybrid'!G$33=\"ja\",'Benzin - diesel - hybrid'!G$34,'Benzin - diesel - hybrid'!G$35))*(1+'Benzin - diesel - hybrid'!G$48)^-$C192","v":0},{"$f":"IF('Benzin - diesel - hybrid'!G$13=\"benzin\",G147,IF('Benzin - diesel - hybrid'!G$13=\"diesel\",G170,0))","v":0},{"$f":"J192*IF('Benzin - diesel - hybrid'!I$31=\"nej\",0,IF('Benzin - diesel - hybrid'!I$33=\"ja\",'Benzin - diesel - hybrid'!I$34,'Benzin - diesel - hybrid'!I$35))*(1+'Benzin - diesel - hybrid'!I$48)^-$C192","v":0},{"$f":"IF('Benzin - diesel - hybrid'!I$13=\"benzin\",I147,IF('Benzin - diesel - hybrid'!I$13=\"diesel\",I170,0))","v":0},{"$f":"L192*IF('Benzin - diesel - hybrid'!K$31=\"nej\",0,IF('Benzin - diesel - hybrid'!K$33=\"ja\",'Benzin - diesel - hybrid'!K$34,'Benzin - diesel - hybrid'!K$35))*(1+'Benzin - diesel - hybrid'!K$48)^-$C192","v":0},{"$f":"IF('Benzin - diesel - hybrid'!K$13=\"benzin\",K147,IF('Benzin - diesel - hybrid'!K$13=\"diesel\",K170,0))","v":0},{"$f":"N192*IF('Benzin - diesel - hybrid'!M$31=\"nej\",0,IF('Benzin - diesel - hybrid'!M$33=\"ja\",'Benzin - diesel - hybrid'!M$34,'Benzin - diesel - hybrid'!M$35))*(1+'Benzin - diesel - hybrid'!M$48)^-$C192","v":0},{"$f":"IF('Benzin - diesel - hybrid'!M$13=\"benzin\",M147,IF('Benzin - diesel - hybrid'!M$13=\"diesel\",M170,0))","v":0},{"$f":"P192*IF('Benzin - diesel - hybrid'!O$31=\"nej\",0,IF('Benzin - diesel - hybrid'!O$33=\"ja\",'Benzin - diesel - hybrid'!O$34,'Benzin - diesel - hybrid'!O$35))*(1+'Benzin - diesel - hybrid'!O$48)^-$C192","v":0},{"$f":"IF('Benzin - diesel - hybrid'!O$13=\"benzin\",O147,IF('Benzin - diesel - hybrid'!O$13=\"diesel\",O170,0))","v":0},{"$f":"R192*IF('Benzin - diesel - hybrid'!Q$31=\"nej\",0,IF('Benzin - diesel - hybrid'!Q$33=\"ja\",'Benzin - diesel - hybrid'!Q$34,'Benzin - diesel - hybrid'!Q$35))*(1+'Benzin - diesel - hybrid'!Q$48)^-$C192","v":0},{"$f":"IF('Benzin - diesel - hybrid'!Q$13=\"benzin\",Q147,IF('Benzin - diesel - hybrid'!Q$13=\"diesel\",Q170,0))","v":0},{"$f":"T192*IF('Benzin - diesel - hybrid'!S$31=\"nej\",0,IF('Benzin - diesel - hybrid'!S$33=\"ja\",'Benzin - diesel - hybrid'!S$34,'Benzin - diesel - hybrid'!S$35))*(1+'Benzin - diesel - hybrid'!S$48)^-$C192","v":0},{"$f":"IF('Benzin - diesel - hybrid'!S$13=\"benzin\",S147,IF('Benzin - diesel - hybrid'!S$13=\"diesel\",S170,0))","v":0},{"$f":"V192*IF('Benzin - diesel - hybrid'!U$31=\"nej\",0,IF('Benzin - diesel - hybrid'!U$33=\"ja\",'Benzin - diesel - hybrid'!U$34,'Benzin - diesel - hybrid'!U$35))*(1+'Benzin - diesel - hybrid'!U$48)^-$C192","v":0},{"$f":"IF('Benzin - diesel - hybrid'!U$13=\"benzin\",U147,IF('Benzin - diesel - hybrid'!U$13=\"diesel\",U170,0))","v":0},{"$f":"X192*IF('Benzin - diesel - hybrid'!W$31=\"nej\",0,IF('Benzin - diesel - hybrid'!W$33=\"ja\",'Benzin - diesel - hybrid'!W$34,'Benzin - diesel - hybrid'!W$35))*(1+'Benzin - diesel - hybrid'!W$48)^-$C192","v":0},{"$f":"IF('Benzin - diesel - hybrid'!W$13=\"benzin\",W147,IF('Benzin - diesel - hybrid'!W$13=\"diesel\",W170,0))","v":0}]
[null,7,7,null,{"$f":"F193*IF('Benzin - diesel - hybrid'!E$31=\"nej\",0,IF('Benzin - diesel - hybrid'!E$33=\"ja\",'Benzin - diesel - hybrid'!E$34,'Benzin - diesel - hybrid'!E$35))*(1+'Benzin - diesel - hybrid'!E$48)^-$C193","v":0},{"$f":"IF('Benzin - diesel - hybrid'!E$13=\"benzin\",E148,IF('Benzin - diesel - hybrid'!E$13=\"diesel\",E171,0))","v":0},{"$f":"H193*IF('Benzin - diesel - hybrid'!G$31=\"nej\",0,IF('Benzin - diesel - hybrid'!G$33=\"ja\",'Benzin - diesel - hybrid'!G$34,'Benzin - diesel - hybrid'!G$35))*(1+'Benzin - diesel - hybrid'!G$48)^-$C193","v":0},{"$f":"IF('Benzin - diesel - hybrid'!G$13=\"benzin\",G148,IF('Benzin - diesel - hybrid'!G$13=\"diesel\",G171,0))","v":0},{"$f":"J193*IF('Benzin - diesel - hybrid'!I$31=\"nej\",0,IF('Benzin - diesel - hybrid'!I$33=\"ja\",'Benzin - diesel - hybrid'!I$34,'Benzin - diesel - hybrid'!I$35))*(1+'Benzin - diesel - hybrid'!I$48)^-$C193","v":0},{"$f":"IF('Benzin - diesel - hybrid'!I$13=\"benzin\",I148,IF('Benzin - diesel - hybrid'!I$13=\"diesel\",I171,0))","v":0},{"$f":"L193*IF('Benzin - diesel - hybrid'!K$31=\"nej\",0,IF('Benzin - diesel - hybrid'!K$33=\"ja\",'Benzin - diesel - hybrid'!K$34,'Benzin - diesel - hybrid'!K$35))*(1+'Benzin - diesel - hybrid'!K$48)^-$C193","v":0},{"$f":"IF('Benzin - diesel - hybrid'!K$13=\"benzin\",K148,IF('Benzin - diesel - hybrid'!K$13=\"diesel\",K171,0))","v":0},{"$f":"N193*IF('Benzin - diesel - hybrid'!M$31=\"nej\",0,IF('Benzin - diesel - hybrid'!M$33=\"ja\",'Benzin - diesel - hybrid'!M$34,'Benzin - diesel - hybrid'!M$35))*(1+'Benzin - diesel - hybrid'!M$48)^-$C193","v":0},{"$f":"IF('Benzin - diesel - hybrid'!M$13=\"benzin\",M148,IF('Benzin - diesel - hybrid'!M$13=\"diesel\",M171,0))","v":0},{"$f":"P193*IF('Benzin - diesel - hybrid'!O$31=\"nej\",0,IF('Benzin - diesel - hybrid'!O$33=\"ja\",'Benzin - diesel - hybrid'!O$34,'Benzin - diesel - hybrid'!O$35))*(1+'Benzin - diesel - hybrid'!O$48)^-$C193","v":0},{"$f":"IF('Benzin - diesel - hybrid'!O$13=\"benzin\",O148,IF('Benzin - diesel - hybrid'!O$13=\"diesel\",O171,0))","v":0},{"$f":"R193*IF('Benzin - diesel - hybrid'!Q$31=\"nej\",0,IF('Benzin - diesel - hybrid'!Q$33=\"ja\",'Benzin - diesel - hybrid'!Q$34,'Benzin - diesel - hybrid'!Q$35))*(1+'Benzin - diesel - hybrid'!Q$48)^-$C193","v":0},{"$f":"IF('Benzin - diesel - hybrid'!Q$13=\"benzin\",Q148,IF('Benzin - diesel - hybrid'!Q$13=\"diesel\",Q171,0))","v":0},{"$f":"T193*IF('Benzin - diesel - hybrid'!S$31=\"nej\",0,IF('Benzin - diesel - hybrid'!S$33=\"ja\",'Benzin - diesel - hybrid'!S$34,'Benzin - diesel - hybrid'!S$35))*(1+'Benzin - diesel - hybrid'!S$48)^-$C193","v":0},{"$f":"IF('Benzin - diesel - hybrid'!S$13=\"benzin\",S148,IF('Benzin - diesel - hybrid'!S$13=\"diesel\",S171,0))","v":0},{"$f":"V193*IF('Benzin - diesel - hybrid'!U$31=\"nej\",0,IF('Benzin - diesel - hybrid'!U$33=\"ja\",'Benzin - diesel - hybrid'!U$34,'Benzin - diesel - hybrid'!U$35))*(1+'Benzin - diesel - hybrid'!U$48)^-$C193","v":0},{"$f":"IF('Benzin - diesel - hybrid'!U$13=\"benzin\",U148,IF('Benzin - diesel - hybrid'!U$13=\"diesel\",U171,0))","v":0},{"$f":"X193*IF('Benzin - diesel - hybrid'!W$31=\"nej\",0,IF('Benzin - diesel - hybrid'!W$33=\"ja\",'Benzin - diesel - hybrid'!W$34,'Benzin - diesel - hybrid'!W$35))*(1+'Benzin - diesel - hybrid'!W$48)^-$C193","v":0},{"$f":"IF('Benzin - diesel - hybrid'!W$13=\"benzin\",W148,IF('Benzin - diesel - hybrid'!W$13=\"diesel\",W171,0))","v":0}]
[null,8,8,null,{"$f":"F194*IF('Benzin - diesel - hybrid'!E$31=\"nej\",0,IF('Benzin - diesel - hybrid'!E$33=\"ja\",'Benzin - diesel - hybrid'!E$34,'Benzin - diesel - hybrid'!E$35))*(1+'Benzin - diesel - hybrid'!E$48)^-$C194","v":0},{"$f":"IF('Benzin - diesel - hybrid'!E$13=\"benzin\",E149,IF('Benzin - diesel - hybrid'!E$13=\"diesel\",E172,0))","v":0},{"$f":"H194*IF('Benzin - diesel - hybrid'!G$31=\"nej\",0,IF('Benzin - diesel - hybrid'!G$33=\"ja\",'Benzin - diesel - hybrid'!G$34,'Benzin - diesel - hybrid'!G$35))*(1+'Benzin - diesel - hybrid'!G$48)^-$C194","v":0},{"$f":"IF('Benzin - diesel - hybrid'!G$13=\"benzin\",G149,IF('Benzin - diesel - hybrid'!G$13=\"diesel\",G172,0))","v":0},{"$f":"J194*IF('Benzin - diesel - hybrid'!I$31=\"nej\",0,IF('Benzin - diesel - hybrid'!I$33=\"ja\",'Benzin - diesel - hybrid'!I$34,'Benzin - diesel - hybrid'!I$35))*(1+'Benzin - diesel - hybrid'!I$48)^-$C194","v":0},{"$f":"IF('Benzin - diesel - hybrid'!I$13=\"benzin\",I149,IF('Benzin - diesel - hybrid'!I$13=\"diesel\",I172,0))","v":0},{"$f":"L194*IF('Benzin - diesel - hybrid'!K$31=\"nej\",0,IF('Benzin - diesel - hybrid'!K$33=\"ja\",'Benzin - diesel - hybrid'!K$34,'Benzin - diesel - hybrid'!K$35))*(1+'Benzin - diesel - hybrid'!K$48)^-$C194","v":0},{"$f":"IF('Benzin - diesel - hybrid'!K$13=\"benzin\",K149,IF('Benzin - diesel - hybrid'!K$13=\"diesel\",K172,0))","v":0},{"$f":"N194*IF('Benzin - diesel - hybrid'!M$31=\"nej\",0,IF('Benzin - diesel - hybrid'!M$33=\"ja\",'Benzin - diesel - hybrid'!M$34,'Benzin - diesel - hybrid'!M$35))*(1+'Benzin - diesel - hybrid'!M$48)^-$C194","v":0},{"$f":"IF('Benzin - diesel - hybrid'!M$13=\"benzin\",M149,IF('Benzin - diesel - hybrid'!M$13=\"diesel\",M172,0))","v":0},{"$f":"P194*IF('Benzin - diesel - hybrid'!O$31=\"nej\",0,IF('Benzin - diesel - hybrid'!O$33=\"ja\",'Benzin - diesel - hybrid'!O$34,'Benzin - diesel - hybrid'!O$35))*(1+'Benzin - diesel - hybrid'!O$48)^-$C194","v":0},{"$f":"IF('Benzin - diesel - hybrid'!O$13=\"benzin\",O149,IF('Benzin - diesel - hybrid'!O$13=\"diesel\",O172,0))","v":0},{"$f":"R194*IF('Benzin - diesel - hybrid'!Q$31=\"nej\",0,IF('Benzin - diesel - hybrid'!Q$33=\"ja\",'Benzin - diesel - hybrid'!Q$34,'Benzin - diesel - hybrid'!Q$35))*(1+'Benzin - diesel - hybrid'!Q$48)^-$C194","v":0},{"$f":"IF('Benzin - diesel - hybrid'!Q$13=\"benzin\",Q149,IF('Benzin - diesel - hybrid'!Q$13=\"diesel\",Q172,0))","v":0},{"$f":"T194*IF('Benzin - diesel - hybrid'!S$31=\"nej\",0,IF('Benzin - diesel - hybrid'!S$33=\"ja\",'Benzin - diesel - hybrid'!S$34,'Benzin - diesel - hybrid'!S$35))*(1+'Benzin - diesel - hybrid'!S$48)^-$C194","v":0},{"$f":"IF('Benzin - diesel - hybrid'!S$13=\"benzin\",S149,IF('Benzin - diesel - hybrid'!S$13=\"diesel\",S172,0))","v":0},{"$f":"V194*IF('Benzin - diesel - hybrid'!U$31=\"nej\",0,IF('Benzin - diesel - hybrid'!U$33=\"ja\",'Benzin - diesel - hybrid'!U$34,'Benzin - diesel - hybrid'!U$35))*(1+'Benzin - diesel - hybrid'!U$48)^-$C194","v":0},{"$f":"IF('Benzin - diesel - hybrid'!U$13=\"benzin\",U149,IF('Benzin - diesel - hybrid'!U$13=\"diesel\",U172,0))","v":0},{"$f":"X194*IF('Benzin - diesel - hybrid'!W$31=\"nej\",0,IF('Benzin - diesel - hybrid'!W$33=\"ja\",'Benzin - diesel - hybrid'!W$34,'Benzin - diesel - hybrid'!W$35))*(1+'Benzin - diesel - hybrid'!W$48)^-$C194","v":0},{"$f":"IF('Benzin - diesel - hybrid'!W$13=\"benzin\",W149,IF('Benzin - diesel - hybrid'!W$13=\"diesel\",W172,0))","v":0}]
[null,9,9,null,{"$f":"F195*IF('Benzin - diesel - hybrid'!E$31=\"nej\",0,IF('Benzin - diesel - hybrid'!E$33=\"ja\",'Benzin - diesel - hybrid'!E$34,'Benzin - diesel - hybrid'!E$35))*(1+'Benzin - diesel - hybrid'!E$48)^-$C195","v":0},{"$f":"IF('Benzin - diesel - hybrid'!E$13=\"benzin\",E150,IF('Benzin - diesel - hybrid'!E$13=\"diesel\",E173,0))","v":0},{"$f":"H195*IF('Benzin - diesel - hybrid'!G$31=\"nej\",0,IF('Benzin - diesel - hybrid'!G$33=\"ja\",'Benzin - diesel - hybrid'!G$34,'Benzin - diesel - hybrid'!G$35))*(1+'Benzin - diesel - hybrid'!G$48)^-$C195","v":0},{"$f":"IF('Benzin - diesel - hybrid'!G$13=\"benzin\",G150,IF('Benzin - diesel - hybrid'!G$13=\"diesel\",G173,0))","v":0},{"$f":"J195*IF('Benzin - diesel - hybrid'!I$31=\"nej\",0,IF('Benzin - diesel - hybrid'!I$33=\"ja\",'Benzin - diesel - hybrid'!I$34,'Benzin - diesel - hybrid'!I$35))*(1+'Benzin - diesel - hybrid'!I$48)^-$C195","v":0},{"$f":"IF('Benzin - diesel - hybrid'!I$13=\"benzin\",I150,IF('Benzin - diesel - hybrid'!I$13=\"diesel\",I173,0))","v":0},{"$f":"L195*IF('Benzin - diesel - hybrid'!K$31=\"nej\",0,IF('Benzin - diesel - hybrid'!K$33=\"ja\",'Benzin - diesel - hybrid'!K$34,'Benzin - diesel - hybrid'!K$35))*(1+'Benzin - diesel - hybrid'!K$48)^-$C195","v":0},{"$f":"IF('Benzin - diesel - hybrid'!K$13=\"benzin\",K150,IF('Benzin - diesel - hybrid'!K$13=\"diesel\",K173,0))","v":0},{"$f":"N195*IF('Benzin - diesel - hybrid'!M$31=\"nej\",0,IF('Benzin - diesel - hybrid'!M$33=\"ja\",'Benzin - diesel - hybrid'!M$34,'Benzin - diesel - hybrid'!M$35))*(1+'Benzin - diesel - hybrid'!M$48)^-$C195","v":0},{"$f":"IF('Benzin - diesel - hybrid'!M$13=\"benzin\",M150,IF('Benzin - diesel - hybrid'!M$13=\"diesel\",M173,0))","v":0},{"$f":"P195*IF('Benzin - diesel - hybrid'!O$31=\"nej\",0,IF('Benzin - diesel - hybrid'!O$33=\"ja\",'Benzin - diesel - hybrid'!O$34,'Benzin - diesel - hybrid'!O$35))*(1+'Benzin - diesel - hybrid'!O$48)^-$C195","v":0},{"$f":"IF('Benzin - diesel - hybrid'!O$13=\"benzin\",O150,IF('Benzin - diesel - hybrid'!O$13=\"diesel\",O173,0))","v":0},{"$f":"R195*IF('Benzin - diesel - hybrid'!Q$31=\"nej\",0,IF('Benzin - diesel - hybrid'!Q$33=\"ja\",'Benzin - diesel - hybrid'!Q$34,'Benzin - diesel - hybrid'!Q$35))*(1+'Benzin - diesel - hybrid'!Q$48)^-$C195","v":0},{"$f":"IF('Benzin - diesel - hybrid'!Q$13=\"benzin\",Q150,IF('Benzin - diesel - hybrid'!Q$13=\"diesel\",Q173,0))","v":0},{"$f":"T195*IF('Benzin - diesel - hybrid'!S$31=\"nej\",0,IF('Benzin - diesel - hybrid'!S$33=\"ja\",'Benzin - diesel - hybrid'!S$34,'Benzin - diesel - hybrid'!S$35))*(1+'Benzin - diesel - hybrid'!S$48)^-$C195","v":0},{"$f":"IF('Benzin - diesel - hybrid'!S$13=\"benzin\",S150,IF('Benzin - diesel - hybrid'!S$13=\"diesel\",S173,0))","v":0},{"$f":"V195*IF('Benzin - diesel - hybrid'!U$31=\"nej\",0,IF('Benzin - diesel - hybrid'!U$33=\"ja\",'Benzin - diesel - hybrid'!U$34,'Benzin - diesel - hybrid'!U$35))*(1+'Benzin - diesel - hybrid'!U$48)^-$C195","v":0},{"$f":"IF('Benzin - diesel - hybrid'!U$13=\"benzin\",U150,IF('Benzin - diesel - hybrid'!U$13=\"diesel\",U173,0))","v":0},{"$f":"X195*IF('Benzin - diesel - hybrid'!W$31=\"nej\",0,IF('Benzin - diesel - hybrid'!W$33=\"ja\",'Benzin - diesel - hybrid'!W$34,'Benzin - diesel - hybrid'!W$35))*(1+'Benzin - diesel - hybrid'!W$48)^-$C195","v":0},{"$f":"IF('Benzin - diesel - hybrid'!W$13=\"benzin\",W150,IF('Benzin - diesel - hybrid'!W$13=\"diesel\",W173,0))","v":0}]
[null,10,10,null,{"$f":"F196*IF('Benzin - diesel - hybrid'!E$31=\"nej\",0,IF('Benzin - diesel - hybrid'!E$33=\"ja\",'Benzin - diesel - hybrid'!E$34,'Benzin - diesel - hybrid'!E$35))*(1+'Benzin - diesel - hybrid'!E$48)^-$C196","v":0},{"$f":"IF('Benzin - diesel - hybrid'!E$13=\"benzin\",E151,IF('Benzin - diesel - hybrid'!E$13=\"diesel\",E174,0))","v":0},{"$f":"H196*IF('Benzin - diesel - hybrid'!G$31=\"nej\",0,IF('Benzin - diesel - hybrid'!G$33=\"ja\",'Benzin - diesel - hybrid'!G$34,'Benzin - diesel - hybrid'!G$35))*(1+'Benzin - diesel - hybrid'!G$48)^-$C196","v":0},{"$f":"IF('Benzin - diesel - hybrid'!G$13=\"benzin\",G151,IF('Benzin - diesel - hybrid'!G$13=\"diesel\",G174,0))","v":0},{"$f":"J196*IF('Benzin - diesel - hybrid'!I$31=\"nej\",0,IF('Benzin - diesel - hybrid'!I$33=\"ja\",'Benzin - diesel - hybrid'!I$34,'Benzin - diesel - hybrid'!I$35))*(1+'Benzin - diesel - hybrid'!I$48)^-$C196","v":0},{"$f":"IF('Benzin - diesel - hybrid'!I$13=\"benzin\",I151,IF('Benzin - diesel - hybrid'!I$13=\"diesel\",I174,0))","v":0},{"$f":"L196*IF('Benzin - diesel - hybrid'!K$31=\"nej\",0,IF('Benzin - diesel - hybrid'!K$33=\"ja\",'Benzin - diesel - hybrid'!K$34,'Benzin - diesel - hybrid'!K$35))*(1+'Benzin - diesel - hybrid'!K$48)^-$C196","v":0},{"$f":"IF('Benzin - diesel - hybrid'!K$13=\"benzin\",K151,IF('Benzin - diesel - hybrid'!K$13=\"diesel\",K174,0))","v":0},{"$f":"N196*IF('Benzin - diesel - hybrid'!M$31=\"nej\",0,IF('Benzin - diesel - hybrid'!M$33=\"ja\",'Benzin - diesel - hybrid'!M$34,'Benzin - diesel - hybrid'!M$35))*(1+'Benzin - diesel - hybrid'!M$48)^-$C196","v":0},{"$f":"IF('Benzin - diesel - hybrid'!M$13=\"benzin\",M151,IF('Benzin - diesel - hybrid'!M$13=\"diesel\",M174,0))","v":0},{"$f":"P196*IF('Benzin - diesel - hybrid'!O$31=\"nej\",0,IF('Benzin - diesel - hybrid'!O$33=\"ja\",'Benzin - diesel - hybrid'!O$34,'Benzin - diesel - hybrid'!O$35))*(1+'Benzin - diesel - hybrid'!O$48)^-$C196","v":0},{"$f":"IF('Benzin - diesel - hybrid'!O$13=\"benzin\",O151,IF('Benzin - diesel - hybrid'!O$13=\"diesel\",O174,0))","v":0},{"$f":"R196*IF('Benzin - diesel - hybrid'!Q$31=\"nej\",0,IF('Benzin - diesel - hybrid'!Q$33=\"ja\",'Benzin - diesel - hybrid'!Q$34,'Benzin - diesel - hybrid'!Q$35))*(1+'Benzin - diesel - hybrid'!Q$48)^-$C196","v":0},{"$f":"IF('Benzin - diesel - hybrid'!Q$13=\"benzin\",Q151,IF('Benzin - diesel - hybrid'!Q$13=\"diesel\",Q174,0))","v":0},{"$f":"T196*IF('Benzin - diesel - hybrid'!S$31=\"nej\",0,IF('Benzin - diesel - hybrid'!S$33=\"ja\",'Benzin - diesel - hybrid'!S$34,'Benzin - diesel - hybrid'!S$35))*(1+'Benzin - diesel - hybrid'!S$48)^-$C196","v":0},{"$f":"IF('Benzin - diesel - hybrid'!S$13=\"benzin\",S151,IF('Benzin - diesel - hybrid'!S$13=\"diesel\",S174,0))","v":0},{"$f":"V196*IF('Benzin - diesel - hybrid'!U$31=\"nej\",0,IF('Benzin - diesel - hybrid'!U$33=\"ja\",'Benzin - diesel - hybrid'!U$34,'Benzin - diesel - hybrid'!U$35))*(1+'Benzin - diesel - hybrid'!U$48)^-$C196","v":0},{"$f":"IF('Benzin - diesel - hybrid'!U$13=\"benzin\",U151,IF('Benzin - diesel - hybrid'!U$13=\"diesel\",U174,0))","v":0},{"$f":"X196*IF('Benzin - diesel - hybrid'!W$31=\"nej\",0,IF('Benzin - diesel - hybrid'!W$33=\"ja\",'Benzin - diesel - hybrid'!W$34,'Benzin - diesel - hybrid'!W$35))*(1+'Benzin - diesel - hybrid'!W$48)^-$C196","v":0},{"$f":"IF('Benzin - diesel - hybrid'!W$13=\"benzin\",W151,IF('Benzin - diesel - hybrid'!W$13=\"diesel\",W174,0))","v":0}]
[null,11,11,null,{"$f":"F197*IF('Benzin - diesel - hybrid'!E$31=\"nej\",0,IF('Benzin - diesel - hybrid'!E$33=\"ja\",'Benzin - diesel - hybrid'!E$34,'Benzin - diesel - hybrid'!E$35))*(1+'Benzin - diesel - hybrid'!E$48)^-$C197","v":0},{"$f":"IF('Benzin - diesel - hybrid'!E$13=\"benzin\",E152,IF('Benzin - diesel - hybrid'!E$13=\"diesel\",E175,0))","v":0},{"$f":"H197*IF('Benzin - diesel - hybrid'!G$31=\"nej\",0,IF('Benzin - diesel - hybrid'!G$33=\"ja\",'Benzin - diesel - hybrid'!G$34,'Benzin - diesel - hybrid'!G$35))*(1+'Benzin - diesel - hybrid'!G$48)^-$C197","v":0},{"$f":"IF('Benzin - diesel - hybrid'!G$13=\"benzin\",G152,IF('Benzin - diesel - hybrid'!G$13=\"diesel\",G175,0))","v":0},{"$f":"J197*IF('Benzin - diesel - hybrid'!I$31=\"nej\",0,IF('Benzin - diesel - hybrid'!I$33=\"ja\",'Benzin - diesel - hybrid'!I$34,'Benzin - diesel - hybrid'!I$35))*(1+'Benzin - diesel - hybrid'!I$48)^-$C197","v":0},{"$f":"IF('Benzin - diesel - hybrid'!I$13=\"benzin\",I152,IF('Benzin - diesel - hybrid'!I$13=\"diesel\",I175,0))","v":0},{"$f":"L197*IF('Benzin - diesel - hybrid'!K$31=\"nej\",0,IF('Benzin - diesel - hybrid'!K$33=\"ja\",'Benzin - diesel - hybrid'!K$34,'Benzin - diesel - hybrid'!K$35))*(1+'Benzin - diesel - hybrid'!K$48)^-$C197","v":0},{"$f":"IF('Benzin - diesel - hybrid'!K$13=\"benzin\",K152,IF('Benzin - diesel - hybrid'!K$13=\"diesel\",K175,0))","v":0},{"$f":"N197*IF('Benzin - diesel - hybrid'!M$31=\"nej\",0,IF('Benzin - diesel - hybrid'!M$33=\"ja\",'Benzin - diesel - hybrid'!M$34,'Benzin - diesel - hybrid'!M$35))*(1+'Benzin - diesel - hybrid'!M$48)^-$C197","v":0},{"$f":"IF('Benzin - diesel - hybrid'!M$13=\"benzin\",M152,IF('Benzin - diesel - hybrid'!M$13=\"diesel\",M175,0))","v":0},{"$f":"P197*IF('Benzin - diesel - hybrid'!O$31=\"nej\",0,IF('Benzin - diesel - hybrid'!O$33=\"ja\",'Benzin - diesel - hybrid'!O$34,'Benzin - diesel - hybrid'!O$35))*(1+'Benzin - diesel - hybrid'!O$48)^-$C197","v":0},{"$f":"IF('Benzin - diesel - hybrid'!O$13=\"benzin\",O152,IF('Benzin - diesel - hybrid'!O$13=\"diesel\",O175,0))","v":0},{"$f":"R197*IF('Benzin - diesel - hybrid'!Q$31=\"nej\",0,IF('Benzin - diesel - hybrid'!Q$33=\"ja\",'Benzin - diesel - hybrid'!Q$34,'Benzin - diesel - hybrid'!Q$35))*(1+'Benzin - diesel - hybrid'!Q$48)^-$C197","v":0},{"$f":"IF('Benzin - diesel - hybrid'!Q$13=\"benzin\",Q152,IF('Benzin - diesel - hybrid'!Q$13=\"diesel\",Q175,0))","v":0},{"$f":"T197*IF('Benzin - diesel - hybrid'!S$31=\"nej\",0,IF('Benzin - diesel - hybrid'!S$33=\"ja\",'Benzin - diesel - hybrid'!S$34,'Benzin - diesel - hybrid'!S$35))*(1+'Benzin - diesel - hybrid'!S$48)^-$C197","v":0},{"$f":"IF('Benzin - diesel - hybrid'!S$13=\"benzin\",S152,IF('Benzin - diesel - hybrid'!S$13=\"diesel\",S175,0))","v":0},{"$f":"V197*IF('Benzin - diesel - hybrid'!U$31=\"nej\",0,IF('Benzin - diesel - hybrid'!U$33=\"ja\",'Benzin - diesel - hybrid'!U$34,'Benzin - diesel - hybrid'!U$35))*(1+'Benzin - diesel - hybrid'!U$48)^-$C197","v":0},{"$f":"IF('Benzin - diesel - hybrid'!U$13=\"benzin\",U152,IF('Benzin - diesel - hybrid'!U$13=\"diesel\",U175,0))","v":0},{"$f":"X197*IF('Benzin - diesel - hybrid'!W$31=\"nej\",0,IF('Benzin - diesel - hybrid'!W$33=\"ja\",'Benzin - diesel - hybrid'!W$34,'Benzin - diesel - hybrid'!W$35))*(1+'Benzin - diesel - hybrid'!W$48)^-$C197","v":0},{"$f":"IF('Benzin - diesel - hybrid'!W$13=\"benzin\",W152,IF('Benzin - diesel - hybrid'!W$13=\"diesel\",W175,0))","v":0}]
[null,12,12,null,{"$f":"F198*IF('Benzin - diesel - hybrid'!E$31=\"nej\",0,IF('Benzin - diesel - hybrid'!E$33=\"ja\",'Benzin - diesel - hybrid'!E$34,'Benzin - diesel - hybrid'!E$35))*(1+'Benzin - diesel - hybrid'!E$48)^-$C198","v":0},{"$f":"IF('Benzin - diesel - hybrid'!E$13=\"benzin\",E153,IF('Benzin - diesel - hybrid'!E$13=\"diesel\",E176,0))","v":0},{"$f":"H198*IF('Benzin - diesel - hybrid'!G$31=\"nej\",0,IF('Benzin - diesel - hybrid'!G$33=\"ja\",'Benzin - diesel - hybrid'!G$34,'Benzin - diesel - hybrid'!G$35))*(1+'Benzin - diesel - hybrid'!G$48)^-$C198","v":0},{"$f":"IF('Benzin - diesel - hybrid'!G$13=\"benzin\",G153,IF('Benzin - diesel - hybrid'!G$13=\"diesel\",G176,0))","v":0},{"$f":"J198*IF('Benzin - diesel - hybrid'!I$31=\"nej\",0,IF('Benzin - diesel - hybrid'!I$33=\"ja\",'Benzin - diesel - hybrid'!I$34,'Benzin - diesel - hybrid'!I$35))*(1+'Benzin - diesel - hybrid'!I$48)^-$C198","v":0},{"$f":"IF('Benzin - diesel - hybrid'!I$13=\"benzin\",I153,IF('Benzin - diesel - hybrid'!I$13=\"diesel\",I176,0))","v":0},{"$f":"L198*IF('Benzin - diesel - hybrid'!K$31=\"nej\",0,IF('Benzin - diesel - hybrid'!K$33=\"ja\",'Benzin - diesel - hybrid'!K$34,'Benzin - diesel - hybrid'!K$35))*(1+'Benzin - diesel - hybrid'!K$48)^-$C198","v":0},{"$f":"IF('Benzin - diesel - hybrid'!K$13=\"benzin\",K153,IF('Benzin - diesel - hybrid'!K$13=\"diesel\",K176,0))","v":0},{"$f":"N198*IF('Benzin - diesel - hybrid'!M$31=\"nej\",0,IF('Benzin - diesel - hybrid'!M$33=\"ja\",'Benzin - diesel - hybrid'!M$34,'Benzin - diesel - hybrid'!M$35))*(1+'Benzin - diesel - hybrid'!M$48)^-$C198","v":0},{"$f":"IF('Benzin - diesel - hybrid'!M$13=\"benzin\",M153,IF('Benzin - diesel - hybrid'!M$13=\"diesel\",M176,0))","v":0},{"$f":"P198*IF('Benzin - diesel - hybrid'!O$31=\"nej\",0,IF('Benzin - diesel - hybrid'!O$33=\"ja\",'Benzin - diesel - hybrid'!O$34,'Benzin - diesel - hybrid'!O$35))*(1+'Benzin - diesel - hybrid'!O$48)^-$C198","v":0},{"$f":"IF('Benzin - diesel - hybrid'!O$13=\"benzin\",O153,IF('Benzin - diesel - hybrid'!O$13=\"diesel\",O176,0))","v":0},{"$f":"R198*IF('Benzin - diesel - hybrid'!Q$31=\"nej\",0,IF('Benzin - diesel - hybrid'!Q$33=\"ja\",'Benzin - diesel - hybrid'!Q$34,'Benzin - diesel - hybrid'!Q$35))*(1+'Benzin - diesel - hybrid'!Q$48)^-$C198","v":0},{"$f":"IF('Benzin - diesel - hybrid'!Q$13=\"benzin\",Q153,IF('Benzin - diesel - hybrid'!Q$13=\"diesel\",Q176,0))","v":0},{"$f":"T198*IF('Benzin - diesel - hybrid'!S$31=\"nej\",0,IF('Benzin - diesel - hybrid'!S$33=\"ja\",'Benzin - diesel - hybrid'!S$34,'Benzin - diesel - hybrid'!S$35))*(1+'Benzin - diesel - hybrid'!S$48)^-$C198","v":0},{"$f":"IF('Benzin - diesel - hybrid'!S$13=\"benzin\",S153,IF('Benzin - diesel - hybrid'!S$13=\"diesel\",S176,0))","v":0},{"$f":"V198*IF('Benzin - diesel - hybrid'!U$31=\"nej\",0,IF('Benzin - diesel - hybrid'!U$33=\"ja\",'Benzin - diesel - hybrid'!U$34,'Benzin - diesel - hybrid'!U$35))*(1+'Benzin - diesel - hybrid'!U$48)^-$C198","v":0},{"$f":"IF('Benzin - diesel - hybrid'!U$13=\"benzin\",U153,IF('Benzin - diesel - hybrid'!U$13=\"diesel\",U176,0))","v":0},{"$f":"X198*IF('Benzin - diesel - hybrid'!W$31=\"nej\",0,IF('Benzin - diesel - hybrid'!W$33=\"ja\",'Benzin - diesel - hybrid'!W$34,'Benzin - diesel - hybrid'!W$35))*(1+'Benzin - diesel - hybrid'!W$48)^-$C198","v":0},{"$f":"IF('Benzin - diesel - hybrid'!W$13=\"benzin\",W153,IF('Benzin - diesel - hybrid'!W$13=\"diesel\",W176,0))","v":0}]
[null,13,13,null,{"$f":"F199*IF('Benzin - diesel - hybrid'!E$31=\"nej\",0,IF('Benzin - diesel - hybrid'!E$33=\"ja\",'Benzin - diesel - hybrid'!E$34,'Benzin - diesel - hybrid'!E$35))*(1+'Benzin - diesel - hybrid'!E$48)^-$C199","v":0},{"$f":"IF('Benzin - diesel - hybrid'!E$13=\"benzin\",E154,IF('Benzin - diesel - hybrid'!E$13=\"diesel\",E177,0))","v":0},{"$f":"H199*IF('Benzin - diesel - hybrid'!G$31=\"nej\",0,IF('Benzin - diesel - hybrid'!G$33=\"ja\",'Benzin - diesel - hybrid'!G$34,'Benzin - diesel - hybrid'!G$35))*(1+'Benzin - diesel - hybrid'!G$48)^-$C199","v":0},{"$f":"IF('Benzin - diesel - hybrid'!G$13=\"benzin\",G154,IF('Benzin - diesel - hybrid'!G$13=\"diesel\",G177,0))","v":0},{"$f":"J199*IF('Benzin - diesel - hybrid'!I$31=\"nej\",0,IF('Benzin - diesel - hybrid'!I$33=\"ja\",'Benzin - diesel - hybrid'!I$34,'Benzin - diesel - hybrid'!I$35))*(1+'Benzin - diesel - hybrid'!I$48)^-$C199","v":0},{"$f":"IF('Benzin - diesel - hybrid'!I$13=\"benzin\",I154,IF('Benzin - diesel - hybrid'!I$13=\"diesel\",I177,0))","v":0},{"$f":"L199*IF('Benzin - diesel - hybrid'!K$31=\"nej\",0,IF('Benzin - diesel - hybrid'!K$33=\"ja\",'Benzin - diesel - hybrid'!K$34,'Benzin - diesel - hybrid'!K$35))*(1+'Benzin - diesel - hybrid'!K$48)^-$C199","v":0},{"$f":"IF('Benzin - diesel - hybrid'!K$13=\"benzin\",K154,IF('Benzin - diesel - hybrid'!K$13=\"diesel\",K177,0))","v":0},{"$f":"N199*IF('Benzin - diesel - hybrid'!M$31=\"nej\",0,IF('Benzin - diesel - hybrid'!M$33=\"ja\",'Benzin - diesel - hybrid'!M$34,'Benzin - diesel - hybrid'!M$35))*(1+'Benzin - diesel - hybrid'!M$48)^-$C199","v":0},{"$f":"IF('Benzin - diesel - hybrid'!M$13=\"benzin\",M154,IF('Benzin - diesel - hybrid'!M$13=\"diesel\",M177,0))","v":0},{"$f":"P199*IF('Benzin - diesel - hybrid'!O$31=\"nej\",0,IF('Benzin - diesel - hybrid'!O$33=\"ja\",'Benzin - diesel - hybrid'!O$34,'Benzin - diesel - hybrid'!O$35))*(1+'Benzin - diesel - hybrid'!O$48)^-$C199","v":0},{"$f":"IF('Benzin - diesel - hybrid'!O$13=\"benzin\",O154,IF('Benzin - diesel - hybrid'!O$13=\"diesel\",O177,0))","v":0},{"$f":"R199*IF('Benzin - diesel - hybrid'!Q$31=\"nej\",0,IF('Benzin - diesel - hybrid'!Q$33=\"ja\",'Benzin - diesel - hybrid'!Q$34,'Benzin - diesel - hybrid'!Q$35))*(1+'Benzin - diesel - hybrid'!Q$48)^-$C199","v":0},{"$f":"IF('Benzin - diesel - hybrid'!Q$13=\"benzin\",Q154,IF('Benzin - diesel - hybrid'!Q$13=\"diesel\",Q177,0))","v":0},{"$f":"T199*IF('Benzin - diesel - hybrid'!S$31=\"nej\",0,IF('Benzin - diesel - hybrid'!S$33=\"ja\",'Benzin - diesel - hybrid'!S$34,'Benzin - diesel - hybrid'!S$35))*(1+'Benzin - diesel - hybrid'!S$48)^-$C199","v":0},{"$f":"IF('Benzin - diesel - hybrid'!S$13=\"benzin\",S154,IF('Benzin - diesel - hybrid'!S$13=\"diesel\",S177,0))","v":0},{"$f":"V199*IF('Benzin - diesel - hybrid'!U$31=\"nej\",0,IF('Benzin - diesel - hybrid'!U$33=\"ja\",'Benzin - diesel - hybrid'!U$34,'Benzin - diesel - hybrid'!U$35))*(1+'Benzin - diesel - hybrid'!U$48)^-$C199","v":0},{"$f":"IF('Benzin - diesel - hybrid'!U$13=\"benzin\",U154,IF('Benzin - diesel - hybrid'!U$13=\"diesel\",U177,0))","v":0},{"$f":"X199*IF('Benzin - diesel - hybrid'!W$31=\"nej\",0,IF('Benzin - diesel - hybrid'!W$33=\"ja\",'Benzin - diesel - hybrid'!W$34,'Benzin - diesel - hybrid'!W$35))*(1+'Benzin - diesel - hybrid'!W$48)^-$C199","v":0},{"$f":"IF('Benzin - diesel - hybrid'!W$13=\"benzin\",W154,IF('Benzin - diesel - hybrid'!W$13=\"diesel\",W177,0))","v":0}]
[null,14,14,null,{"$f":"F200*IF('Benzin - diesel - hybrid'!E$31=\"nej\",0,IF('Benzin - diesel - hybrid'!E$33=\"ja\",'Benzin - diesel - hybrid'!E$34,'Benzin - diesel - hybrid'!E$35))*(1+'Benzin - diesel - hybrid'!E$48)^-$C200","v":0},{"$f":"IF('Benzin - diesel - hybrid'!E$13=\"benzin\",E155,IF('Benzin - diesel - hybrid'!E$13=\"diesel\",E178,0))","v":0},{"$f":"H200*IF('Benzin - diesel - hybrid'!G$31=\"nej\",0,IF('Benzin - diesel - hybrid'!G$33=\"ja\",'Benzin - diesel - hybrid'!G$34,'Benzin - diesel - hybrid'!G$35))*(1+'Benzin - diesel - hybrid'!G$48)^-$C200","v":0},{"$f":"IF('Benzin - diesel - hybrid'!G$13=\"benzin\",G155,IF('Benzin - diesel - hybrid'!G$13=\"diesel\",G178,0))","v":0},{"$f":"J200*IF('Benzin - diesel - hybrid'!I$31=\"nej\",0,IF('Benzin - diesel - hybrid'!I$33=\"ja\",'Benzin - diesel - hybrid'!I$34,'Benzin - diesel - hybrid'!I$35))*(1+'Benzin - diesel - hybrid'!I$48)^-$C200","v":0},{"$f":"IF('Benzin - diesel - hybrid'!I$13=\"benzin\",I155,IF('Benzin - diesel - hybrid'!I$13=\"diesel\",I178,0))","v":0},{"$f":"L200*IF('Benzin - diesel - hybrid'!K$31=\"nej\",0,IF('Benzin - diesel - hybrid'!K$33=\"ja\",'Benzin - diesel - hybrid'!K$34,'Benzin - diesel - hybrid'!K$35))*(1+'Benzin - diesel - hybrid'!K$48)^-$C200","v":0},{"$f":"IF('Benzin - diesel - hybrid'!K$13=\"benzin\",K155,IF('Benzin - diesel - hybrid'!K$13=\"diesel\",K178,0))","v":0},{"$f":"N200*IF('Benzin - diesel - hybrid'!M$31=\"nej\",0,IF('Benzin - diesel - hybrid'!M$33=\"ja\",'Benzin - diesel - hybrid'!M$34,'Benzin - diesel - hybrid'!M$35))*(1+'Benzin - diesel - hybrid'!M$48)^-$C200","v":0},{"$f":"IF('Benzin - diesel - hybrid'!M$13=\"benzin\",M155,IF('Benzin - diesel - hybrid'!M$13=\"diesel\",M178,0))","v":0},{"$f":"P200*IF('Benzin - diesel - hybrid'!O$31=\"nej\",0,IF('Benzin - diesel - hybrid'!O$33=\"ja\",'Benzin - diesel - hybrid'!O$34,'Benzin - diesel - hybrid'!O$35))*(1+'Benzin - diesel - hybrid'!O$48)^-$C200","v":0},{"$f":"IF('Benzin - diesel - hybrid'!O$13=\"benzin\",O155,IF('Benzin - diesel - hybrid'!O$13=\"diesel\",O178,0))","v":0},{"$f":"R200*IF('Benzin - diesel - hybrid'!Q$31=\"nej\",0,IF('Benzin - diesel - hybrid'!Q$33=\"ja\",'Benzin - diesel - hybrid'!Q$34,'Benzin - diesel - hybrid'!Q$35))*(1+'Benzin - diesel - hybrid'!Q$48)^-$C200","v":0},{"$f":"IF('Benzin - diesel - hybrid'!Q$13=\"benzin\",Q155,IF('Benzin - diesel - hybrid'!Q$13=\"diesel\",Q178,0))","v":0},{"$f":"T200*IF('Benzin - diesel - hybrid'!S$31=\"nej\",0,IF('Benzin - diesel - hybrid'!S$33=\"ja\",'Benzin - diesel - hybrid'!S$34,'Benzin - diesel - hybrid'!S$35))*(1+'Benzin - diesel - hybrid'!S$48)^-$C200","v":0},{"$f":"IF('Benzin - diesel - hybrid'!S$13=\"benzin\",S155,IF('Benzin - diesel - hybrid'!S$13=\"diesel\",S178,0))","v":0},{"$f":"V200*IF('Benzin - diesel - hybrid'!U$31=\"nej\",0,IF('Benzin - diesel - hybrid'!U$33=\"ja\",'Benzin - diesel - hybrid'!U$34,'Benzin - diesel - hybrid'!U$35))*(1+'Benzin - diesel - hybrid'!U$48)^-$C200","v":0},{"$f":"IF('Benzin - diesel - hybrid'!U$13=\"benzin\",U155,IF('Benzin - diesel - hybrid'!U$13=\"diesel\",U178,0))","v":0},{"$f":"X200*IF('Benzin - diesel - hybrid'!W$31=\"nej\",0,IF('Benzin - diesel - hybrid'!W$33=\"ja\",'Benzin - diesel - hybrid'!W$34,'Benzin - diesel - hybrid'!W$35))*(1+'Benzin - diesel - hybrid'!W$48)^-$C200","v":0},{"$f":"IF('Benzin - diesel - hybrid'!W$13=\"benzin\",W155,IF('Benzin - diesel - hybrid'!W$13=\"diesel\",W178,0))","v":0}]
[null,15,15,null,{"$f":"F201*IF('Benzin - diesel - hybrid'!E$31=\"nej\",0,IF('Benzin - diesel - hybrid'!E$33=\"ja\",'Benzin - diesel - hybrid'!E$34,'Benzin - diesel - hybrid'!E$35))*(1+'Benzin - diesel - hybrid'!E$48)^-$C201","v":0},{"$f":"IF('Benzin - diesel - hybrid'!E$13=\"benzin\",E156,IF('Benzin - diesel - hybrid'!E$13=\"diesel\",E179,0))","v":0},{"$f":"H201*IF('Benzin - diesel - hybrid'!G$31=\"nej\",0,IF('Benzin - diesel - hybrid'!G$33=\"ja\",'Benzin - diesel - hybrid'!G$34,'Benzin - diesel - hybrid'!G$35))*(1+'Benzin - diesel - hybrid'!G$48)^-$C201","v":0},{"$f":"IF('Benzin - diesel - hybrid'!G$13=\"benzin\",G156,IF('Benzin - diesel - hybrid'!G$13=\"diesel\",G179,0))","v":0},{"$f":"J201*IF('Benzin - diesel - hybrid'!I$31=\"nej\",0,IF('Benzin - diesel - hybrid'!I$33=\"ja\",'Benzin - diesel - hybrid'!I$34,'Benzin - diesel - hybrid'!I$35))*(1+'Benzin - diesel - hybrid'!I$48)^-$C201","v":0},{"$f":"IF('Benzin - diesel - hybrid'!I$13=\"benzin\",I156,IF('Benzin - diesel - hybrid'!I$13=\"diesel\",I179,0))","v":0},{"$f":"L201*IF('Benzin - diesel - hybrid'!K$31=\"nej\",0,IF('Benzin - diesel - hybrid'!K$33=\"ja\",'Benzin - diesel - hybrid'!K$34,'Benzin - diesel - hybrid'!K$35))*(1+'Benzin - diesel - hybrid'!K$48)^-$C201","v":0},{"$f":"IF('Benzin - diesel - hybrid'!K$13=\"benzin\",K156,IF('Benzin - diesel - hybrid'!K$13=\"diesel\",K179,0))","v":0},{"$f":"N201*IF('Benzin - diesel - hybrid'!M$31=\"nej\",0,IF('Benzin - diesel - hybrid'!M$33=\"ja\",'Benzin - diesel - hybrid'!M$34,'Benzin - diesel - hybrid'!M$35))*(1+'Benzin - diesel - hybrid'!M$48)^-$C201","v":0},{"$f":"IF('Benzin - diesel - hybrid'!M$13=\"benzin\",M156,IF('Benzin - diesel - hybrid'!M$13=\"diesel\",M179,0))","v":0},{"$f":"P201*IF('Benzin - diesel - hybrid'!O$31=\"nej\",0,IF('Benzin - diesel - hybrid'!O$33=\"ja\",'Benzin - diesel - hybrid'!O$34,'Benzin - diesel - hybrid'!O$35))*(1+'Benzin - diesel - hybrid'!O$48)^-$C201","v":0},{"$f":"IF('Benzin - diesel - hybrid'!O$13=\"benzin\",O156,IF('Benzin - diesel - hybrid'!O$13=\"diesel\",O179,0))","v":0},{"$f":"R201*IF('Benzin - diesel - hybrid'!Q$31=\"nej\",0,IF('Benzin - diesel - hybrid'!Q$33=\"ja\",'Benzin - diesel - hybrid'!Q$34,'Benzin - diesel - hybrid'!Q$35))*(1+'Benzin - diesel - hybrid'!Q$48)^-$C201","v":0},{"$f":"IF('Benzin - diesel - hybrid'!Q$13=\"benzin\",Q156,IF('Benzin - diesel - hybrid'!Q$13=\"diesel\",Q179,0))","v":0},{"$f":"T201*IF('Benzin - diesel - hybrid'!S$31=\"nej\",0,IF('Benzin - diesel - hybrid'!S$33=\"ja\",'Benzin - diesel - hybrid'!S$34,'Benzin - diesel - hybrid'!S$35))*(1+'Benzin - diesel - hybrid'!S$48)^-$C201","v":0},{"$f":"IF('Benzin - diesel - hybrid'!S$13=\"benzin\",S156,IF('Benzin - diesel - hybrid'!S$13=\"diesel\",S179,0))","v":0},{"$f":"V201*IF('Benzin - diesel - hybrid'!U$31=\"nej\",0,IF('Benzin - diesel - hybrid'!U$33=\"ja\",'Benzin - diesel - hybrid'!U$34,'Benzin - diesel - hybrid'!U$35))*(1+'Benzin - diesel - hybrid'!U$48)^-$C201","v":0},{"$f":"IF('Benzin - diesel - hybrid'!U$13=\"benzin\",U156,IF('Benzin - diesel - hybrid'!U$13=\"diesel\",U179,0))","v":0},{"$f":"X201*IF('Benzin - diesel - hybrid'!W$31=\"nej\",0,IF('Benzin - diesel - hybrid'!W$33=\"ja\",'Benzin - diesel - hybrid'!W$34,'Benzin - diesel - hybrid'!W$35))*(1+'Benzin - diesel - hybrid'!W$48)^-$C201","v":0},{"$f":"IF('Benzin - diesel - hybrid'!W$13=\"benzin\",W156,IF('Benzin - diesel - hybrid'!W$13=\"diesel\",W179,0))","v":0}]
[null,16,16,null,{"$f":"F202*IF('Benzin - diesel - hybrid'!E$31=\"nej\",0,IF('Benzin - diesel - hybrid'!E$33=\"ja\",'Benzin - diesel - hybrid'!E$34,'Benzin - diesel - hybrid'!E$35))*(1+'Benzin - diesel - hybrid'!E$48)^-$C202","v":0},{"$f":"IF('Benzin - diesel - hybrid'!E$13=\"benzin\",E157,IF('Benzin - diesel - hybrid'!E$13=\"diesel\",E180,0))","v":0},{"$f":"H202*IF('Benzin - diesel - hybrid'!G$31=\"nej\",0,IF('Benzin - diesel - hybrid'!G$33=\"ja\",'Benzin - diesel - hybrid'!G$34,'Benzin - diesel - hybrid'!G$35))*(1+'Benzin - diesel - hybrid'!G$48)^-$C202","v":0},{"$f":"IF('Benzin - diesel - hybrid'!G$13=\"benzin\",G157,IF('Benzin - diesel - hybrid'!G$13=\"diesel\",G180,0))","v":0},{"$f":"J202*IF('Benzin - diesel - hybrid'!I$31=\"nej\",0,IF('Benzin - diesel - hybrid'!I$33=\"ja\",'Benzin - diesel - hybrid'!I$34,'Benzin - diesel - hybrid'!I$35))*(1+'Benzin - diesel - hybrid'!I$48)^-$C202","v":0},{"$f":"IF('Benzin - diesel - hybrid'!I$13=\"benzin\",I157,IF('Benzin - diesel - hybrid'!I$13=\"diesel\",I180,0))","v":0},{"$f":"L202*IF('Benzin - diesel - hybrid'!K$31=\"nej\",0,IF('Benzin - diesel - hybrid'!K$33=\"ja\",'Benzin - diesel - hybrid'!K$34,'Benzin - diesel - hybrid'!K$35))*(1+'Benzin - diesel - hybrid'!K$48)^-$C202","v":0},{"$f":"IF('Benzin - diesel - hybrid'!K$13=\"benzin\",K157,IF('Benzin - diesel - hybrid'!K$13=\"diesel\",K180,0))","v":0},{"$f":"N202*IF('Benzin - diesel - hybrid'!M$31=\"nej\",0,IF('Benzin - diesel - hybrid'!M$33=\"ja\",'Benzin - diesel - hybrid'!M$34,'Benzin - diesel - hybrid'!M$35))*(1+'Benzin - diesel - hybrid'!M$48)^-$C202","v":0},{"$f":"IF('Benzin - diesel - hybrid'!M$13=\"benzin\",M157,IF('Benzin - diesel - hybrid'!M$13=\"diesel\",M180,0))","v":0},{"$f":"P202*IF('Benzin - diesel - hybrid'!O$31=\"nej\",0,IF('Benzin - diesel - hybrid'!O$33=\"ja\",'Benzin - diesel - hybrid'!O$34,'Benzin - diesel - hybrid'!O$35))*(1+'Benzin - diesel - hybrid'!O$48)^-$C202","v":0},{"$f":"IF('Benzin - diesel - hybrid'!O$13=\"benzin\",O157,IF('Benzin - diesel - hybrid'!O$13=\"diesel\",O180,0))","v":0},{"$f":"R202*IF('Benzin - diesel - hybrid'!Q$31=\"nej\",0,IF('Benzin - diesel - hybrid'!Q$33=\"ja\",'Benzin - diesel - hybrid'!Q$34,'Benzin - diesel - hybrid'!Q$35))*(1+'Benzin - diesel - hybrid'!Q$48)^-$C202","v":0},{"$f":"IF('Benzin - diesel - hybrid'!Q$13=\"benzin\",Q157,IF('Benzin - diesel - hybrid'!Q$13=\"diesel\",Q180,0))","v":0},{"$f":"T202*IF('Benzin - diesel - hybrid'!S$31=\"nej\",0,IF('Benzin - diesel - hybrid'!S$33=\"ja\",'Benzin - diesel - hybrid'!S$34,'Benzin - diesel - hybrid'!S$35))*(1+'Benzin - diesel - hybrid'!S$48)^-$C202","v":0},{"$f":"IF('Benzin - diesel - hybrid'!S$13=\"benzin\",S157,IF('Benzin - diesel - hybrid'!S$13=\"diesel\",S180,0))","v":0},{"$f":"V202*IF('Benzin - diesel - hybrid'!U$31=\"nej\",0,IF('Benzin - diesel - hybrid'!U$33=\"ja\",'Benzin - diesel - hybrid'!U$34,'Benzin - diesel - hybrid'!U$35))*(1+'Benzin - diesel - hybrid'!U$48)^-$C202","v":0},{"$f":"IF('Benzin - diesel - hybrid'!U$13=\"benzin\",U157,IF('Benzin - diesel - hybrid'!U$13=\"diesel\",U180,0))","v":0},{"$f":"X202*IF('Benzin - diesel - hybrid'!W$31=\"nej\",0,IF('Benzin - diesel - hybrid'!W$33=\"ja\",'Benzin - diesel - hybrid'!W$34,'Benzin - diesel - hybrid'!W$35))*(1+'Benzin - diesel - hybrid'!W$48)^-$C202","v":0},{"$f":"IF('Benzin - diesel - hybrid'!W$13=\"benzin\",W157,IF('Benzin - diesel - hybrid'!W$13=\"diesel\",W180,0))","v":0}]
[null,17,17,null,{"$f":"F203*IF('Benzin - diesel - hybrid'!E$31=\"nej\",0,IF('Benzin - diesel - hybrid'!E$33=\"ja\",'Benzin - diesel - hybrid'!E$34,'Benzin - diesel - hybrid'!E$35))*(1+'Benzin - diesel - hybrid'!E$48)^-$C203","v":0},{"$f":"IF('Benzin - diesel - hybrid'!E$13=\"benzin\",E158,IF('Benzin - diesel - hybrid'!E$13=\"diesel\",E181,0))","v":0},{"$f":"H203*IF('Benzin - diesel - hybrid'!G$31=\"nej\",0,IF('Benzin - diesel - hybrid'!G$33=\"ja\",'Benzin - diesel - hybrid'!G$34,'Benzin - diesel - hybrid'!G$35))*(1+'Benzin - diesel - hybrid'!G$48)^-$C203","v":0},{"$f":"IF('Benzin - diesel - hybrid'!G$13=\"benzin\",G158,IF('Benzin - diesel - hybrid'!G$13=\"diesel\",G181,0))","v":0},{"$f":"J203*IF('Benzin - diesel - hybrid'!I$31=\"nej\",0,IF('Benzin - diesel - hybrid'!I$33=\"ja\",'Benzin - diesel - hybrid'!I$34,'Benzin - diesel - hybrid'!I$35))*(1+'Benzin - diesel - hybrid'!I$48)^-$C203","v":0},{"$f":"IF('Benzin - diesel - hybrid'!I$13=\"benzin\",I158,IF('Benzin - diesel - hybrid'!I$13=\"diesel\",I181,0))","v":0},{"$f":"L203*IF('Benzin - diesel - hybrid'!K$31=\"nej\",0,IF('Benzin - diesel - hybrid'!K$33=\"ja\",'Benzin - diesel - hybrid'!K$34,'Benzin - diesel - hybrid'!K$35))*(1+'Benzin - diesel - hybrid'!K$48)^-$C203","v":0},{"$f":"IF('Benzin - diesel - hybrid'!K$13=\"benzin\",K158,IF('Benzin - diesel - hybrid'!K$13=\"diesel\",K181,0))","v":0},{"$f":"N203*IF('Benzin - diesel - hybrid'!M$31=\"nej\",0,IF('Benzin - diesel - hybrid'!M$33=\"ja\",'Benzin - diesel - hybrid'!M$34,'Benzin - diesel - hybrid'!M$35))*(1+'Benzin - diesel - hybrid'!M$48)^-$C203","v":0},{"$f":"IF('Benzin - diesel - hybrid'!M$13=\"benzin\",M158,IF('Benzin - diesel - hybrid'!M$13=\"diesel\",M181,0))","v":0},{"$f":"P203*IF('Benzin - diesel - hybrid'!O$31=\"nej\",0,IF('Benzin - diesel - hybrid'!O$33=\"ja\",'Benzin - diesel - hybrid'!O$34,'Benzin - diesel - hybrid'!O$35))*(1+'Benzin - diesel - hybrid'!O$48)^-$C203","v":0},{"$f":"IF('Benzin - diesel - hybrid'!O$13=\"benzin\",O158,IF('Benzin - diesel - hybrid'!O$13=\"diesel\",O181,0))","v":0},{"$f":"R203*IF('Benzin - diesel - hybrid'!Q$31=\"nej\",0,IF('Benzin - diesel - hybrid'!Q$33=\"ja\",'Benzin - diesel - hybrid'!Q$34,'Benzin - diesel - hybrid'!Q$35))*(1+'Benzin - diesel - hybrid'!Q$48)^-$C203","v":0},{"$f":"IF('Benzin - diesel - hybrid'!Q$13=\"benzin\",Q158,IF('Benzin - diesel - hybrid'!Q$13=\"diesel\",Q181,0))","v":0},{"$f":"T203*IF('Benzin - diesel - hybrid'!S$31=\"nej\",0,IF('Benzin - diesel - hybrid'!S$33=\"ja\",'Benzin - diesel - hybrid'!S$34,'Benzin - diesel - hybrid'!S$35))*(1+'Benzin - diesel - hybrid'!S$48)^-$C203","v":0},{"$f":"IF('Benzin - diesel - hybrid'!S$13=\"benzin\",S158,IF('Benzin - diesel - hybrid'!S$13=\"diesel\",S181,0))","v":0},{"$f":"V203*IF('Benzin - diesel - hybrid'!U$31=\"nej\",0,IF('Benzin - diesel - hybrid'!U$33=\"ja\",'Benzin - diesel - hybrid'!U$34,'Benzin - diesel - hybrid'!U$35))*(1+'Benzin - diesel - hybrid'!U$48)^-$C203","v":0},{"$f":"IF('Benzin - diesel - hybrid'!U$13=\"benzin\",U158,IF('Benzin - diesel - hybrid'!U$13=\"diesel\",U181,0))","v":0},{"$f":"X203*IF('Benzin - diesel - hybrid'!W$31=\"nej\",0,IF('Benzin - diesel - hybrid'!W$33=\"ja\",'Benzin - diesel - hybrid'!W$34,'Benzin - diesel - hybrid'!W$35))*(1+'Benzin - diesel - hybrid'!W$48)^-$C203","v":0},{"$f":"IF('Benzin - diesel - hybrid'!W$13=\"benzin\",W158,IF('Benzin - diesel - hybrid'!W$13=\"diesel\",W181,0))","v":0}]
[null,18,18,null,{"$f":"F204*IF('Benzin - diesel - hybrid'!E$31=\"nej\",0,IF('Benzin - diesel - hybrid'!E$33=\"ja\",'Benzin - diesel - hybrid'!E$34,'Benzin - diesel - hybrid'!E$35))*(1+'Benzin - diesel - hybrid'!E$48)^-$C204","v":0},{"$f":"IF('Benzin - diesel - hybrid'!E$13=\"benzin\",E159,IF('Benzin - diesel - hybrid'!E$13=\"diesel\",E182,0))","v":0},{"$f":"H204*IF('Benzin - diesel - hybrid'!G$31=\"nej\",0,IF('Benzin - diesel - hybrid'!G$33=\"ja\",'Benzin - diesel - hybrid'!G$34,'Benzin - diesel - hybrid'!G$35))*(1+'Benzin - diesel - hybrid'!G$48)^-$C204","v":0},{"$f":"IF('Benzin - diesel - hybrid'!G$13=\"benzin\",G159,IF('Benzin - diesel - hybrid'!G$13=\"diesel\",G182,0))","v":0},{"$f":"J204*IF('Benzin - diesel - hybrid'!I$31=\"nej\",0,IF('Benzin - diesel - hybrid'!I$33=\"ja\",'Benzin - diesel - hybrid'!I$34,'Benzin - diesel - hybrid'!I$35))*(1+'Benzin - diesel - hybrid'!I$48)^-$C204","v":0},{"$f":"IF('Benzin - diesel - hybrid'!I$13=\"benzin\",I159,IF('Benzin - diesel - hybrid'!I$13=\"diesel\",I182,0))","v":0},{"$f":"L204*IF('Benzin - diesel - hybrid'!K$31=\"nej\",0,IF('Benzin - diesel - hybrid'!K$33=\"ja\",'Benzin - diesel - hybrid'!K$34,'Benzin - diesel - hybrid'!K$35))*(1+'Benzin - diesel - hybrid'!K$48)^-$C204","v":0},{"$f":"IF('Benzin - diesel - hybrid'!K$13=\"benzin\",K159,IF('Benzin - diesel - hybrid'!K$13=\"diesel\",K182,0))","v":0},{"$f":"N204*IF('Benzin - diesel - hybrid'!M$31=\"nej\",0,IF('Benzin - diesel - hybrid'!M$33=\"ja\",'Benzin - diesel - hybrid'!M$34,'Benzin - diesel - hybrid'!M$35))*(1+'Benzin - diesel - hybrid'!M$48)^-$C204","v":0},{"$f":"IF('Benzin - diesel - hybrid'!M$13=\"benzin\",M159,IF('Benzin - diesel - hybrid'!M$13=\"diesel\",M182,0))","v":0},{"$f":"P204*IF('Benzin - diesel - hybrid'!O$31=\"nej\",0,IF('Benzin - diesel - hybrid'!O$33=\"ja\",'Benzin - diesel - hybrid'!O$34,'Benzin - diesel - hybrid'!O$35))*(1+'Benzin - diesel - hybrid'!O$48)^-$C204","v":0},{"$f":"IF('Benzin - diesel - hybrid'!O$13=\"benzin\",O159,IF('Benzin - diesel - hybrid'!O$13=\"diesel\",O182,0))","v":0},{"$f":"R204*IF('Benzin - diesel - hybrid'!Q$31=\"nej\",0,IF('Benzin - diesel - hybrid'!Q$33=\"ja\",'Benzin - diesel - hybrid'!Q$34,'Benzin - diesel - hybrid'!Q$35))*(1+'Benzin - diesel - hybrid'!Q$48)^-$C204","v":0},{"$f":"IF('Benzin - diesel - hybrid'!Q$13=\"benzin\",Q159,IF('Benzin - diesel - hybrid'!Q$13=\"diesel\",Q182,0))","v":0},{"$f":"T204*IF('Benzin - diesel - hybrid'!S$31=\"nej\",0,IF('Benzin - diesel - hybrid'!S$33=\"ja\",'Benzin - diesel - hybrid'!S$34,'Benzin - diesel - hybrid'!S$35))*(1+'Benzin - diesel - hybrid'!S$48)^-$C204","v":0},{"$f":"IF('Benzin - diesel - hybrid'!S$13=\"benzin\",S159,IF('Benzin - diesel - hybrid'!S$13=\"diesel\",S182,0))","v":0},{"$f":"V204*IF('Benzin - diesel - hybrid'!U$31=\"nej\",0,IF('Benzin - diesel - hybrid'!U$33=\"ja\",'Benzin - diesel - hybrid'!U$34,'Benzin - diesel - hybrid'!U$35))*(1+'Benzin - diesel - hybrid'!U$48)^-$C204","v":0},{"$f":"IF('Benzin - diesel - hybrid'!U$13=\"benzin\",U159,IF('Benzin - diesel - hybrid'!U$13=\"diesel\",U182,0))","v":0},{"$f":"X204*IF('Benzin - diesel - hybrid'!W$31=\"nej\",0,IF('Benzin - diesel - hybrid'!W$33=\"ja\",'Benzin - diesel - hybrid'!W$34,'Benzin - diesel - hybrid'!W$35))*(1+'Benzin - diesel - hybrid'!W$48)^-$C204","v":0},{"$f":"IF('Benzin - diesel - hybrid'!W$13=\"benzin\",W159,IF('Benzin - diesel - hybrid'!W$13=\"diesel\",W182,0))","v":0}]
[null,19,19,null,{"$f":"F205*IF('Benzin - diesel - hybrid'!E$31=\"nej\",0,IF('Benzin - diesel - hybrid'!E$33=\"ja\",'Benzin - diesel - hybrid'!E$34,'Benzin - diesel - hybrid'!E$35))*(1+'Benzin - diesel - hybrid'!E$48)^-$C205","v":0},{"$f":"IF('Benzin - diesel - hybrid'!E$13=\"benzin\",E160,IF('Benzin - diesel - hybrid'!E$13=\"diesel\",E183,0))","v":0},{"$f":"H205*IF('Benzin - diesel - hybrid'!G$31=\"nej\",0,IF('Benzin - diesel - hybrid'!G$33=\"ja\",'Benzin - diesel - hybrid'!G$34,'Benzin - diesel - hybrid'!G$35))*(1+'Benzin - diesel - hybrid'!G$48)^-$C205","v":0},{"$f":"IF('Benzin - diesel - hybrid'!G$13=\"benzin\",G160,IF('Benzin - diesel - hybrid'!G$13=\"diesel\",G183,0))","v":0},{"$f":"J205*IF('Benzin - diesel - hybrid'!I$31=\"nej\",0,IF('Benzin - diesel - hybrid'!I$33=\"ja\",'Benzin - diesel - hybrid'!I$34,'Benzin - diesel - hybrid'!I$35))*(1+'Benzin - diesel - hybrid'!I$48)^-$C205","v":0},{"$f":"IF('Benzin - diesel - hybrid'!I$13=\"benzin\",I160,IF('Benzin - diesel - hybrid'!I$13=\"diesel\",I183,0))","v":0},{"$f":"L205*IF('Benzin - diesel - hybrid'!K$31=\"nej\",0,IF('Benzin - diesel - hybrid'!K$33=\"ja\",'Benzin - diesel - hybrid'!K$34,'Benzin - diesel - hybrid'!K$35))*(1+'Benzin - diesel - hybrid'!K$48)^-$C205","v":0},{"$f":"IF('Benzin - diesel - hybrid'!K$13=\"benzin\",K160,IF('Benzin - diesel - hybrid'!K$13=\"diesel\",K183,0))","v":0},{"$f":"N205*IF('Benzin - diesel - hybrid'!M$31=\"nej\",0,IF('Benzin - diesel - hybrid'!M$33=\"ja\",'Benzin - diesel - hybrid'!M$34,'Benzin - diesel - hybrid'!M$35))*(1+'Benzin - diesel - hybrid'!M$48)^-$C205","v":0},{"$f":"IF('Benzin - diesel - hybrid'!M$13=\"benzin\",M160,IF('Benzin - diesel - hybrid'!M$13=\"diesel\",M183,0))","v":0},{"$f":"P205*IF('Benzin - diesel - hybrid'!O$31=\"nej\",0,IF('Benzin - diesel - hybrid'!O$33=\"ja\",'Benzin - diesel - hybrid'!O$34,'Benzin - diesel - hybrid'!O$35))*(1+'Benzin - diesel - hybrid'!O$48)^-$C205","v":0},{"$f":"IF('Benzin - diesel - hybrid'!O$13=\"benzin\",O160,IF('Benzin - diesel - hybrid'!O$13=\"diesel\",O183,0))","v":0},{"$f":"R205*IF('Benzin - diesel - hybrid'!Q$31=\"nej\",0,IF('Benzin - diesel - hybrid'!Q$33=\"ja\",'Benzin - diesel - hybrid'!Q$34,'Benzin - diesel - hybrid'!Q$35))*(1+'Benzin - diesel - hybrid'!Q$48)^-$C205","v":0},{"$f":"IF('Benzin - diesel - hybrid'!Q$13=\"benzin\",Q160,IF('Benzin - diesel - hybrid'!Q$13=\"diesel\",Q183,0))","v":0},{"$f":"T205*IF('Benzin - diesel - hybrid'!S$31=\"nej\",0,IF('Benzin - diesel - hybrid'!S$33=\"ja\",'Benzin - diesel - hybrid'!S$34,'Benzin - diesel - hybrid'!S$35))*(1+'Benzin - diesel - hybrid'!S$48)^-$C205","v":0},{"$f":"IF('Benzin - diesel - hybrid'!S$13=\"benzin\",S160,IF('Benzin - diesel - hybrid'!S$13=\"diesel\",S183,0))","v":0},{"$f":"V205*IF('Benzin - diesel - hybrid'!U$31=\"nej\",0,IF('Benzin - diesel - hybrid'!U$33=\"ja\",'Benzin - diesel - hybrid'!U$34,'Benzin - diesel - hybrid'!U$35))*(1+'Benzin - diesel - hybrid'!U$48)^-$C205","v":0},{"$f":"IF('Benzin - diesel - hybrid'!U$13=\"benzin\",U160,IF('Benzin - diesel - hybrid'!U$13=\"diesel\",U183,0))","v":0},{"$f":"X205*IF('Benzin - diesel - hybrid'!W$31=\"nej\",0,IF('Benzin - diesel - hybrid'!W$33=\"ja\",'Benzin - diesel - hybrid'!W$34,'Benzin - diesel - hybrid'!W$35))*(1+'Benzin - diesel - hybrid'!W$48)^-$C205","v":0},{"$f":"IF('Benzin - diesel - hybrid'!W$13=\"benzin\",W160,IF('Benzin - diesel - hybrid'!W$13=\"diesel\",W183,0))","v":0}]
[null,20,20,null,{"$f":"F206*IF('Benzin - diesel - hybrid'!E$31=\"nej\",0,IF('Benzin - diesel - hybrid'!E$33=\"ja\",'Benzin - diesel - hybrid'!E$34,'Benzin - diesel - hybrid'!E$35))*(1+'Benzin - diesel - hybrid'!E$48)^-$C206","v":0},{"$f":"IF('Benzin - diesel - hybrid'!E$13=\"benzin\",E161,IF('Benzin - diesel - hybrid'!E$13=\"diesel\",E184,0))","v":0},{"$f":"H206*IF('Benzin - diesel - hybrid'!G$31=\"nej\",0,IF('Benzin - diesel - hybrid'!G$33=\"ja\",'Benzin - diesel - hybrid'!G$34,'Benzin - diesel - hybrid'!G$35))*(1+'Benzin - diesel - hybrid'!G$48)^-$C206","v":0},{"$f":"IF('Benzin - diesel - hybrid'!G$13=\"benzin\",G161,IF('Benzin - diesel - hybrid'!G$13=\"diesel\",G184,0))","v":0},{"$f":"J206*IF('Benzin - diesel - hybrid'!I$31=\"nej\",0,IF('Benzin - diesel - hybrid'!I$33=\"ja\",'Benzin - diesel - hybrid'!I$34,'Benzin - diesel - hybrid'!I$35))*(1+'Benzin - diesel - hybrid'!I$48)^-$C206","v":0},{"$f":"IF('Benzin - diesel - hybrid'!I$13=\"benzin\",I161,IF('Benzin - diesel - hybrid'!I$13=\"diesel\",I184,0))","v":0},{"$f":"L206*IF('Benzin - diesel - hybrid'!K$31=\"nej\",0,IF('Benzin - diesel - hybrid'!K$33=\"ja\",'Benzin - diesel - hybrid'!K$34,'Benzin - diesel - hybrid'!K$35))*(1+'Benzin - diesel - hybrid'!K$48)^-$C206","v":0},{"$f":"IF('Benzin - diesel - hybrid'!K$13=\"benzin\",K161,IF('Benzin - diesel - hybrid'!K$13=\"diesel\",K184,0))","v":0},{"$f":"N206*IF('Benzin - diesel - hybrid'!M$31=\"nej\",0,IF('Benzin - diesel - hybrid'!M$33=\"ja\",'Benzin - diesel - hybrid'!M$34,'Benzin - diesel - hybrid'!M$35))*(1+'Benzin - diesel - hybrid'!M$48)^-$C206","v":0},{"$f":"IF('Benzin - diesel - hybrid'!M$13=\"benzin\",M161,IF('Benzin - diesel - hybrid'!M$13=\"diesel\",M184,0))","v":0},{"$f":"P206*IF('Benzin - diesel - hybrid'!O$31=\"nej\",0,IF('Benzin - diesel - hybrid'!O$33=\"ja\",'Benzin - diesel - hybrid'!O$34,'Benzin - diesel - hybrid'!O$35))*(1+'Benzin - diesel - hybrid'!O$48)^-$C206","v":0},{"$f":"IF('Benzin - diesel - hybrid'!O$13=\"benzin\",O161,IF('Benzin - diesel - hybrid'!O$13=\"diesel\",O184,0))","v":0},{"$f":"R206*IF('Benzin - diesel - hybrid'!Q$31=\"nej\",0,IF('Benzin - diesel - hybrid'!Q$33=\"ja\",'Benzin - diesel - hybrid'!Q$34,'Benzin - diesel - hybrid'!Q$35))*(1+'Benzin - diesel - hybrid'!Q$48)^-$C206","v":0},{"$f":"IF('Benzin - diesel - hybrid'!Q$13=\"benzin\",Q161,IF('Benzin - diesel - hybrid'!Q$13=\"diesel\",Q184,0))","v":0},{"$f":"T206*IF('Benzin - diesel - hybrid'!S$31=\"nej\",0,IF('Benzin - diesel - hybrid'!S$33=\"ja\",'Benzin - diesel - hybrid'!S$34,'Benzin - diesel - hybrid'!S$35))*(1+'Benzin - diesel - hybrid'!S$48)^-$C206","v":0},{"$f":"IF('Benzin - diesel - hybrid'!S$13=\"benzin\",S161,IF('Benzin - diesel - hybrid'!S$13=\"diesel\",S184,0))","v":0},{"$f":"V206*IF('Benzin - diesel - hybrid'!U$31=\"nej\",0,IF('Benzin - diesel - hybrid'!U$33=\"ja\",'Benzin - diesel - hybrid'!U$34,'Benzin - diesel - hybrid'!U$35))*(1+'Benzin - diesel - hybrid'!U$48)^-$C206","v":0},{"$f":"IF('Benzin - diesel - hybrid'!U$13=\"benzin\",U161,IF('Benzin - diesel - hybrid'!U$13=\"diesel\",U184,0))","v":0},{"$f":"X206*IF('Benzin - diesel - hybrid'!W$31=\"nej\",0,IF('Benzin - diesel - hybrid'!W$33=\"ja\",'Benzin - diesel - hybrid'!W$34,'Benzin - diesel - hybrid'!W$35))*(1+'Benzin - diesel - hybrid'!W$48)^-$C206","v":0},{"$f":"IF('Benzin - diesel - hybrid'!W$13=\"benzin\",W161,IF('Benzin - diesel - hybrid'!W$13=\"diesel\",W184,0))","v":0}]
[]
["Eksternalitetsmodul - Samfundsøkonomiske omkostninger (kr.)",null,null,null,"Udregninger NOx"]
[null,"År indeks",null,"TCO-evalueringsperiode",{"$f":"'Benzin - diesel - hybrid'!E8&\" - Samfundsøkonomiske omkostninger (kr.)\"","v":"PRODUKT 1 - Samfundsøkonomiske omkostninger (kr.)"},{"$f":"'Benzin - diesel - hybrid'!E8&\" - Samlet udledning i kg NOx\"","v":"PRODUKT 1 - Samlet udledning i kg NOx"},{"$f":"'Benzin - diesel - hybrid'!G8&\" - Samfundsøkonomiske omkostninger (kr.)\"","v":"PRODUKT 2 - Samfundsøkonomiske omkostninger (kr.)"},{"$f":"'Benzin - diesel - hybrid'!G8&\" - Samlet udledning i kg NOx\"","v":"PRODUKT 2 - Samlet udledning i kg NOx"},{"$f":"'Benzin - diesel - hybrid'!I8&\" - Samfundsøkonomiske omkostninger (kr.)\"","v":"PRODUKT 3 - Samfundsøkonomiske omkostninger (kr.)"},{"$f":"'Benzin - diesel - hybrid'!I8&\" - Samlet udledning i kg NOx\"","v":"PRODUKT 3 - Samlet udledning i kg NOx"},{"$f":"'Benzin - diesel - hybrid'!K8&\" - Samfundsøkonomiske omkostninger (kr.)\"","v":"PRODUKT 4 - Samfundsøkonomiske omkostninger (kr.)"},{"$f":"'Benzin - diesel - hybrid'!K8&\" - Samlet udledning i kg NOx\"","v":"PRODUKT 4 - Samlet udledning i kg NOx"},{"$f":"'Benzin - diesel - hybrid'!M8&\" - Samfundsøkonomiske omkostninger (kr.)\"","v":"PRODUKT 5 - Samfundsøkonomiske omkostninger (kr.)"},{"$f":"'Benzin - diesel - hybrid'!M8&\" - Samlet udledning i kg NOx\"","v":"PRODUKT 5 - Samlet udledning i kg NOx"},{"$f":"'Benzin - diesel - hybrid'!O8&\" - Samfundsøkonomiske omkostninger (kr.)\"","v":"PRODUKT 6 - Samfundsøkonomiske omkostninger (kr.)"},{"$f":"'Benzin - diesel - hybrid'!O8&\" - Samlet udledning i kg NOx\"","v":"PRODUKT 6 - Samlet udledning i kg NOx"},{"$f":"'Benzin - diesel - hybrid'!Q8&\" - Samfundsøkonomiske omkostninger (kr.)\"","v":"PRODUKT 7 - Samfundsøkonomiske omkostninger (kr.)"},{"$f":"'Benzin - diesel - hybrid'!Q8&\" - Samlet udledning i kg NOx\"","v":"PRODUKT 7 - Samlet udledning i kg NOx"},{"$f":"'Benzin - diesel - hybrid'!S8&\" - Samfundsøkonomiske omkostninger (kr.)\"","v":"PRODUKT 8 - Samfundsøkonomiske omkostninger (kr.)"},{"$f":"'Benzin - diesel - hybrid'!S8&\" - Samlet udledning i kg NOx\"","v":"PRODUKT 8 - Samlet udledning i kg NOx"},{"$f":"'Benzin - diesel - hybrid'!U8&\" - Samfundsøkonomiske omkostninger (kr.)\"","v":"PRODUKT 9 - Samfundsøkonomiske omkostninger (kr.)"},{"$f":"'Benzin - diesel - hybrid'!U8&\" - Samlet udledning i kg NOx\"","v":"PRODUKT 9 - Samlet udledning i kg NOx"},{"$f":"'Benzin - diesel - hybrid'!W8&\" - Samfundsøkonomiske omkostninger (kr.)\"","v":"PRODUKT 10 - Samfundsøkonomiske omkostninger (kr.)"},{"$f":"'Benzin - diesel - hybrid'!W8&\" - Samlet udledning i kg NOx\"","v":"PRODUKT 10 - Samlet udledning i kg NOx"}]
[null,1,{"$f":"B210","v":1},null,{"$f":"F210*IF('Benzin - diesel - hybrid'!E$31=\"nej\",0,'Benzin - diesel - hybrid'!E$39)*(1+'Benzin - diesel - hybrid'!E$48)^-$C210","v":0},{"$f":"IFERROR(IF('Benzin - diesel - hybrid'!E$22=\"Nej\",'Benzin - diesel - hybrid'!E$25,'Benzin - diesel - hybrid'!E$23)*'Benzin - diesel - hybrid'!E$14*'Benzin - diesel - hybrid'!E$11/1000000,0)","v":0},{"$f":"H210*IF('Benzin - diesel - hybrid'!G$31=\"nej\",0,'Benzin - diesel - hybrid'!G$39)*(1+'Benzin - diesel - hybrid'!G$48)^-$C210","v":0},{"$f":"IFERROR(IF('Benzin - diesel - hybrid'!G$22=\"Nej\",'Benzin - diesel - hybrid'!G$25,'Benzin - diesel - hybrid'!G$23)*'Benzin - diesel - hybrid'!G$14*'Benzin - diesel - hybrid'!G$11/1000000,0)","v":0},{"$f":"J210*IF('Benzin - diesel - hybrid'!I$31=\"nej\",0,'Benzin - diesel - hybrid'!I$39)*(1+'Benzin - diesel - hybrid'!I$48)^-$C210","v":0},{"$f":"IFERROR(IF('Benzin - diesel - hybrid'!I$22=\"Nej\",'Benzin - diesel - hybrid'!I$25,'Benzin - diesel - hybrid'!I$23)*'Benzin - diesel - hybrid'!I$14*'Benzin - diesel - hybrid'!I$11/1000000,0)","v":0},{"$f":"L210*IF('Benzin - diesel - hybrid'!K$31=\"nej\",0,'Benzin - diesel - hybrid'!K$39)*(1+'Benzin - diesel - hybrid'!K$48)^-$C210","v":0},{"$f":"IFERROR(IF('Benzin - diesel - hybrid'!K$22=\"Nej\",'Benzin - diesel - hybrid'!K$25,'Benzin - diesel - hybrid'!K$23)*'Benzin - diesel - hybrid'!K$14*'Benzin - diesel - hybrid'!K$11/1000000,0)","v":0},{"$f":"N210*IF('Benzin - diesel - hybrid'!M$31=\"nej\",0,'Benzin - diesel - hybrid'!M$39)*(1+'Benzin - diesel - hybrid'!M$48)^-$C210","v":0},{"$f":"IFERROR(IF('Benzin - diesel - hybrid'!M$22=\"Nej\",'Benzin - diesel - hybrid'!M$25,'Benzin - diesel - hybrid'!M$23)*'Benzin - diesel - hybrid'!M$14*'Benzin - diesel - hybrid'!M$11/1000000,0)","v":0},{"$f":"P210*IF('Benzin - diesel - hybrid'!O$31=\"nej\",0,'Benzin - diesel - hybrid'!O$39)*(1+'Benzin - diesel - hybrid'!O$48)^-$C210","v":0},{"$f":"IFERROR(IF('Benzin - diesel - hybrid'!O$22=\"Nej\",'Benzin - diesel - hybrid'!O$25,'Benzin - diesel - hybrid'!O$23)*'Benzin - diesel - hybrid'!O$14*'Benzin - diesel - hybrid'!O$11/1000000,0)","v":0},{"$f":"R210*IF('Benzin - diesel - hybrid'!Q$31=\"nej\",0,'Benzin - diesel - hybrid'!Q$39)*(1+'Benzin - diesel - hybrid'!Q$48)^-$C210","v":0},{"$f":"IFERROR(IF('Benzin - diesel - hybrid'!Q$22=\"Nej\",'Benzin - diesel - hybrid'!Q$25,'Benzin - diesel - hybrid'!Q$23)*'Benzin - diesel - hybrid'!Q$14*'Benzin - diesel - hybrid'!Q$11/1000000,0)","v":0},{"$f":"T210*IF('Benzin - diesel - hybrid'!S$31=\"nej\",0,'Benzin - diesel - hybrid'!S$39)*(1+'Benzin - diesel - hybrid'!S$48)^-$C210","v":0},{"$f":"IFERROR(IF('Benzin - diesel - hybrid'!S$22=\"Nej\",'Benzin - diesel - hybrid'!S$25,'Benzin - diesel - hybrid'!S$23)*'Benzin - diesel - hybrid'!S$14*'Benzin - diesel - hybrid'!S$11/1000000,0)","v":0},{"$f":"V210*IF('Benzin - diesel - hybrid'!U$31=\"nej\",0,'Benzin - diesel - hybrid'!U$39)*(1+'Benzin - diesel - hybrid'!U$48)^-$C210","v":0},{"$f":"IFERROR(IF('Benzin - diesel - hybrid'!U$22=\"Nej\",'Benzin - diesel - hybrid'!U$25,'Benzin - diesel - hybrid'!U$23)*'Benzin - diesel - hybrid'!U$14*'Benzin - diesel - hybrid'!U$11/1000000,0)","v":0},{"$f":"X210*IF('Benzin - diesel - hybrid'!W$31=\"nej\",0,'Benzin - diesel - hybrid'!W$39)*(1+'Benzin - diesel - hybrid'!W$48)^-$C210","v":0},{"$f":"IFERROR(IF('Benzin - diesel - hybrid'!W$22=\"Nej\",'Benzin - diesel - hybrid'!W$25,'Benzin - diesel - hybrid'!W$23)*'Benzin - diesel - hybrid'!W$14*'Benzin - diesel - hybrid'!W$11/1000000,0)","v":0}]
[null,2,{"$f":"B211","v":2},null,{"$f":"F211*IF('Benzin - diesel - hybrid'!E$31=\"nej\",0,'Benzin - diesel - hybrid'!E$39)*(1+'Benzin - diesel - hybrid'!E$48)^-$C211","v":0},{"$f":"IFERROR(IF('Benzin - diesel - hybrid'!E$22=\"Nej\",'Benzin - diesel - hybrid'!E$25,'Benzin - diesel - hybrid'!E$23)*'Benzin - diesel - hybrid'!E$14*'Benzin - diesel - hybrid'!E$11/1000000,0)","v":0},{"$f":"H211*IF('Benzin - diesel - hybrid'!G$31=\"nej\",0,'Benzin - diesel - hybrid'!G$39)*(1+'Benzin - diesel - hybrid'!G$48)^-$C211","v":0},{"$f":"IFERROR(IF('Benzin - diesel - hybrid'!G$22=\"Nej\",'Benzin - diesel - hybrid'!G$25,'Benzin - diesel - hybrid'!G$23)*'Benzin - diesel - hybrid'!G$14*'Benzin - diesel - hybrid'!G$11/1000000,0)","v":0},{"$f":"J211*IF('Benzin - diesel - hybrid'!I$31=\"nej\",0,'Benzin - diesel - hybrid'!I$39)*(1+'Benzin - diesel - hybrid'!I$48)^-$C211","v":0},{"$f":"IFERROR(IF('Benzin - diesel - hybrid'!I$22=\"Nej\",'Benzin - diesel - hybrid'!I$25,'Benzin - diesel - hybrid'!I$23)*'Benzin - diesel - hybrid'!I$14*'Benzin - diesel - hybrid'!I$11/1000000,0)","v":0},{"$f":"L211*IF('Benzin - diesel - hybrid'!K$31=\"nej\",0,'Benzin - diesel - hybrid'!K$39)*(1+'Benzin - diesel - hybrid'!K$48)^-$C211","v":0},{"$f":"IFERROR(IF('Benzin - diesel - hybrid'!K$22=\"Nej\",'Benzin - diesel - hybrid'!K$25,'Benzin - diesel - hybrid'!K$23)*'Benzin - diesel - hybrid'!K$14*'Benzin - diesel - hybrid'!K$11/1000000,0)","v":0},{"$f":"N211*IF('Benzin - diesel - hybrid'!M$31=\"nej\",0,'Benzin - diesel - hybrid'!M$39)*(1+'Benzin - diesel - hybrid'!M$48)^-$C211","v":0},{"$f":"IFERROR(IF('Benzin - diesel - hybrid'!M$22=\"Nej\",'Benzin - diesel - hybrid'!M$25,'Benzin - diesel - hybrid'!M$23)*'Benzin - diesel - hybrid'!M$14*'Benzin - diesel - hybrid'!M$11/1000000,0)","v":0},{"$f":"P211*IF('Benzin - diesel - hybrid'!O$31=\"nej\",0,'Benzin - diesel - hybrid'!O$39)*(1+'Benzin - diesel - hybrid'!O$48)^-$C211","v":0},{"$f":"IFERROR(IF('Benzin - diesel - hybrid'!O$22=\"Nej\",'Benzin - diesel - hybrid'!O$25,'Benzin - diesel - hybrid'!O$23)*'Benzin - diesel - hybrid'!O$14*'Benzin - diesel - hybrid'!O$11/1000000,0)","v":0},{"$f":"R211*IF('Benzin - diesel - hybrid'!Q$31=\"nej\",0,'Benzin - diesel - hybrid'!Q$39)*(1+'Benzin - diesel - hybrid'!Q$48)^-$C211","v":0},{"$f":"IFERROR(IF('Benzin - diesel - hybrid'!Q$22=\"Nej\",'Benzin - diesel - hybrid'!Q$25,'Benzin - diesel - hybrid'!Q$23)*'Benzin - diesel - hybrid'!Q$14*'Benzin - diesel - hybrid'!Q$11/1000000,0)","v":0},{"$f":"T211*IF('Benzin - diesel - hybrid'!S$31=\"nej\",0,'Benzin - diesel - hybrid'!S$39)*(1+'Benzin - diesel - hybrid'!S$48)^-$C211","v":0},{"$f":"IFERROR(IF('Benzin - diesel - hybrid'!S$22=\"Nej\",'Benzin - diesel - hybrid'!S$25,'Benzin - diesel - hybrid'!S$23)*'Benzin - diesel - hybrid'!S$14*'Benzin - diesel - hybrid'!S$11/1000000,0)","v":0},{"$f":"V211*IF('Benzin - diesel - hybrid'!U$31=\"nej\",0,'Benzin - diesel - hybrid'!U$39)*(1+'Benzin - diesel - hybrid'!U$48)^-$C211","v":0},{"$f":"IFERROR(IF('Benzin - diesel - hybrid'!U$22=\"Nej\",'Benzin - diesel - hybrid'!U$25,'Benzin - diesel - hybrid'!U$23)*'Benzin - diesel - hybrid'!U$14*'Benzin - diesel - hybrid'!U$11/1000000,0)","v":0},{"$f":"X211*IF('Benzin - diesel - hybrid'!W$31=\"nej\",0,'Benzin - diesel - hybrid'!W$39)*(1+'Benzin - diesel - hybrid'!W$48)^-$C211","v":0},{"$f":"IFERROR(IF('Benzin - diesel - hybrid'!W$22=\"Nej\",'Benzin - diesel - hybrid'!W$25,'Benzin - diesel - hybrid'!W$23)*'Benzin - diesel - hybrid'!W$14*'Benzin - diesel - hybrid'!W$11/1000000,0)","v":0}]
[null,3,3,null,{"$f":"F212*IF('Benzin - diesel - hybrid'!E$31=\"nej\",0,'Benzin - diesel - hybrid'!E$39)*(1+'Benzin - diesel - hybrid'!E$48)^-$C212","v":0},{"$f":"IFERROR(IF('Benzin - diesel - hybrid'!E$22=\"Nej\",'Benzin - diesel - hybrid'!E$25,'Benzin - diesel - hybrid'!E$23)*'Benzin - diesel - hybrid'!E$14*'Benzin - diesel - hybrid'!E$11/1000000,0)","v":0},{"$f":"H212*IF('Benzin - diesel - hybrid'!G$31=\"nej\",0,'Benzin - diesel - hybrid'!G$39)*(1+'Benzin - diesel - hybrid'!G$48)^-$C212","v":0},{"$f":"IFERROR(IF('Benzin - diesel - hybrid'!G$22=\"Nej\",'Benzin - diesel - hybrid'!G$25,'Benzin - diesel - hybrid'!G$23)*'Benzin - diesel - hybrid'!G$14*'Benzin - diesel - hybrid'!G$11/1000000,0)","v":0},{"$f":"J212*IF('Benzin - diesel - hybrid'!I$31=\"nej\",0,'Benzin - diesel - hybrid'!I$39)*(1+'Benzin - diesel - hybrid'!I$48)^-$C212","v":0},{"$f":"IFERROR(IF('Benzin - diesel - hybrid'!I$22=\"Nej\",'Benzin - diesel - hybrid'!I$25,'Benzin - diesel - hybrid'!I$23)*'Benzin - diesel - hybrid'!I$14*'Benzin - diesel - hybrid'!I$11/1000000,0)","v":0},{"$f":"L212*IF('Benzin - diesel - hybrid'!K$31=\"nej\",0,'Benzin - diesel - hybrid'!K$39)*(1+'Benzin - diesel - hybrid'!K$48)^-$C212","v":0},{"$f":"IFERROR(IF('Benzin - diesel - hybrid'!K$22=\"Nej\",'Benzin - diesel - hybrid'!K$25,'Benzin - diesel - hybrid'!K$23)*'Benzin - diesel - hybrid'!K$14*'Benzin - diesel - hybrid'!K$11/1000000,0)","v":0},{"$f":"N212*IF('Benzin - diesel - hybrid'!M$31=\"nej\",0,'Benzin - diesel - hybrid'!M$39)*(1+'Benzin - diesel - hybrid'!M$48)^-$C212","v":0},{"$f":"IFERROR(IF('Benzin - diesel - hybrid'!M$22=\"Nej\",'Benzin - diesel - hybrid'!M$25,'Benzin - diesel - hybrid'!M$23)*'Benzin - diesel - hybrid'!M$14*'Benzin - diesel - hybrid'!M$11/1000000,0)","v":0},{"$f":"P212*IF('Benzin - diesel - hybrid'!O$31=\"nej\",0,'Benzin - diesel - hybrid'!O$39)*(1+'Benzin - diesel - hybrid'!O$48)^-$C212","v":0},{"$f":"IFERROR(IF('Benzin - diesel - hybrid'!O$22=\"Nej\",'Benzin - diesel - hybrid'!O$25,'Benzin - diesel - hybrid'!O$23)*'Benzin - diesel - hybrid'!O$14*'Benzin - diesel - hybrid'!O$11/1000000,0)","v":0},{"$f":"R212*IF('Benzin - diesel - hybrid'!Q$31=\"nej\",0,'Benzin - diesel - hybrid'!Q$39)*(1+'Benzin - diesel - hybrid'!Q$48)^-$C212","v":0},{"$f":"IFERROR(IF('Benzin - diesel - hybrid'!Q$22=\"Nej\",'Benzin - diesel - hybrid'!Q$25,'Benzin - diesel - hybrid'!Q$23)*'Benzin - diesel - hybrid'!Q$14*'Benzin - diesel - hybrid'!Q$11/1000000,0)","v":0},{"$f":"T212*IF('Benzin - diesel - hybrid'!S$31=\"nej\",0,'Benzin - diesel - hybrid'!S$39)*(1+'Benzin - diesel - hybrid'!S$48)^-$C212","v":0},{"$f":"IFERROR(IF('Benzin - diesel - hybrid'!S$22=\"Nej\",'Benzin - diesel - hybrid'!S$25,'Benzin - diesel - hybrid'!S$23)*'Benzin - diesel - hybrid'!S$14*'Benzin - diesel - hybrid'!S$11/1000000,0)","v":0},{"$f":"V212*IF('Benzin - diesel - hybrid'!U$31=\"nej\",0,'Benzin - diesel - hybrid'!U$39)*(1+'Benzin - diesel - hybrid'!U$48)^-$C212","v":0},{"$f":"IFERROR(IF('Benzin - diesel - hybrid'!U$22=\"Nej\",'Benzin - diesel - hybrid'!U$25,'Benzin - diesel - hybrid'!U$23)*'Benzin - diesel - hybrid'!U$14*'Benzin - diesel - hybrid'!U$11/1000000,0)","v":0},{"$f":"X212*IF('Benzin - diesel - hybrid'!W$31=\"nej\",0,'Benzin - diesel - hybrid'!W$39)*(1+'Benzin - diesel - hybrid'!W$48)^-$C212","v":0},{"$f":"IFERROR(IF('Benzin - diesel - hybrid'!W$22=\"Nej\",'Benzin - diesel - hybrid'!W$25,'Benzin - diesel - hybrid'!W$23)*'Benzin - diesel - hybrid'!W$14*'Benzin - diesel - hybrid'!W$11/1000000,0)","v":0}]
[null,4,4,null,{"$f":"F213*IF('Benzin - diesel - hybrid'!E$31=\"nej\",0,'Benzin - diesel - hybrid'!E$39)*(1+'Benzin - diesel - hybrid'!E$48)^-$C213","v":0},{"$f":"IFERROR(IF('Benzin - diesel - hybrid'!E$22=\"Nej\",'Benzin - diesel - hybrid'!E$25,'Benzin - diesel - hybrid'!E$23)*'Benzin - diesel - hybrid'!E$14*'Benzin - diesel - hybrid'!E$11/1000000,0)","v":0},{"$f":"H213*IF('Benzin - diesel - hybrid'!G$31=\"nej\",0,'Benzin - diesel - hybrid'!G$39)*(1+'Benzin - diesel - hybrid'!G$48)^-$C213","v":0},{"$f":"IFERROR(IF('Benzin - diesel - hybrid'!G$22=\"Nej\",'Benzin - diesel - hybrid'!G$25,'Benzin - diesel - hybrid'!G$23)*'Benzin - diesel - hybrid'!G$14*'Benzin - diesel - hybrid'!G$11/1000000,0)","v":0},{"$f":"J213*IF('Benzin - diesel - hybrid'!I$31=\"nej\",0,'Benzin - diesel - hybrid'!I$39)*(1+'Benzin - diesel - hybrid'!I$48)^-$C213","v":0},{"$f":"IFERROR(IF('Benzin - diesel - hybrid'!I$22=\"Nej\",'Benzin - diesel - hybrid'!I$25,'Benzin - diesel - hybrid'!I$23)*'Benzin - diesel - hybrid'!I$14*'Benzin - diesel - hybrid'!I$11/1000000,0)","v":0},{"$f":"L213*IF('Benzin - diesel - hybrid'!K$31=\"nej\",0,'Benzin - diesel - hybrid'!K$39)*(1+'Benzin - diesel - hybrid'!K$48)^-$C213","v":0},{"$f":"IFERROR(IF('Benzin - diesel - hybrid'!K$22=\"Nej\",'Benzin - diesel - hybrid'!K$25,'Benzin - diesel - hybrid'!K$23)*'Benzin - diesel - hybrid'!K$14*'Benzin - diesel - hybrid'!K$11/1000000,0)","v":0},{"$f":"N213*IF('Benzin - diesel - hybrid'!M$31=\"nej\",0,'Benzin - diesel - hybrid'!M$39)*(1+'Benzin - diesel - hybrid'!M$48)^-$C213","v":0},{"$f":"IFERROR(IF('Benzin - diesel - hybrid'!M$22=\"Nej\",'Benzin - diesel - hybrid'!M$25,'Benzin - diesel - hybrid'!M$23)*'Benzin - diesel - hybrid'!M$14*'Benzin - diesel - hybrid'!M$11/1000000,0)","v":0},{"$f":"P213*IF('Benzin - diesel - hybrid'!O$31=\"nej\",0,'Benzin - diesel - hybrid'!O$39)*(1+'Benzin - diesel - hybrid'!O$48)^-$C213","v":0},{"$f":"IFERROR(IF('Benzin - diesel - hybrid'!O$22=\"Nej\",'Benzin - diesel - hybrid'!O$25,'Benzin - diesel - hybrid'!O$23)*'Benzin - diesel - hybrid'!O$14*'Benzin - diesel - hybrid'!O$11/1000000,0)","v":0},{"$f":"R213*IF('Benzin - diesel - hybrid'!Q$31=\"nej\",0,'Benzin - diesel - hybrid'!Q$39)*(1+'Benzin - diesel - hybrid'!Q$48)^-$C213","v":0},{"$f":"IFERROR(IF('Benzin - diesel - hybrid'!Q$22=\"Nej\",'Benzin - diesel - hybrid'!Q$25,'Benzin - diesel - hybrid'!Q$23)*'Benzin - diesel - hybrid'!Q$14*'Benzin - diesel - hybrid'!Q$11/1000000,0)","v":0},{"$f":"T213*IF('Benzin - diesel - hybrid'!S$31=\"nej\",0,'Benzin - diesel - hybrid'!S$39)*(1+'Benzin - diesel - hybrid'!S$48)^-$C213","v":0},{"$f":"IFERROR(IF('Benzin - diesel - hybrid'!S$22=\"Nej\",'Benzin - diesel - hybrid'!S$25,'Benzin - diesel - hybrid'!S$23)*'Benzin - diesel - hybrid'!S$14*'Benzin - diesel - hybrid'!S$11/1000000,0)","v":0},{"$f":"V213*IF('Benzin - diesel - hybrid'!U$31=\"nej\",0,'Benzin - diesel - hybrid'!U$39)*(1+'Benzin - diesel - hybrid'!U$48)^-$C213","v":0},{"$f":"IFERROR(IF('Benzin - diesel - hybrid'!U$22=\"Nej\",'Benzin - diesel - hybrid'!U$25,'Benzin - diesel - hybrid'!U$23)*'Benzin - diesel - hybrid'!U$14*'Benzin - diesel - hybrid'!U$11/1000000,0)","v":0},{"$f":"X213*IF('Benzin - diesel - hybrid'!W$31=\"nej\",0,'Benzin - diesel - hybrid'!W$39)*(1+'Benzin - diesel - hybrid'!W$48)^-$C213","v":0},{"$f":"IFERROR(IF('Benzin - diesel - hybrid'!W$22=\"Nej\",'Benzin - diesel - hybrid'!W$25,'Benzin - diesel - hybrid'!W$23)*'Benzin - diesel - hybrid'!W$14*'Benzin - diesel - hybrid'!W$11/1000000,0)","v":0}]
[null,5,5,null,{"$f":"F214*IF('Benzin - diesel - hybrid'!E$31=\"nej\",0,'Benzin - diesel - hybrid'!E$39)*(1+'Benzin - diesel - hybrid'!E$48)^-$C214","v":0},{"$f":"IFERROR(IF('Benzin - diesel - hybrid'!E$22=\"Nej\",'Benzin - diesel - hybrid'!E$25,'Benzin - diesel - hybrid'!E$23)*'Benzin - diesel - hybrid'!E$14*'Benzin - diesel - hybrid'!E$11/1000000,0)","v":0},{"$f":"H214*IF('Benzin - diesel - hybrid'!G$31=\"nej\",0,'Benzin - diesel - hybrid'!G$39)*(1+'Benzin - diesel - hybrid'!G$48)^-$C214","v":0},{"$f":"IFERROR(IF('Benzin - diesel - hybrid'!G$22=\"Nej\",'Benzin - diesel - hybrid'!G$25,'Benzin - diesel - hybrid'!G$23)*'Benzin - diesel - hybrid'!G$14*'Benzin - diesel - hybrid'!G$11/1000000,0)","v":0},{"$f":"J214*IF('Benzin - diesel - hybrid'!I$31=\"nej\",0,'Benzin - diesel - hybrid'!I$39)*(1+'Benzin - diesel - hybrid'!I$48)^-$C214","v":0},{"$f":"IFERROR(IF('Benzin - diesel - hybrid'!I$22=\"Nej\",'Benzin - diesel - hybrid'!I$25,'Benzin - diesel - hybrid'!I$23)*'Benzin - diesel - hybrid'!I$14*'Benzin - diesel - hybrid'!I$11/1000000,0)","v":0},{"$f":"L214*IF('Benzin - diesel - hybrid'!K$31=\"nej\",0,'Benzin - diesel - hybrid'!K$39)*(1+'Benzin - diesel - hybrid'!K$48)^-$C214","v":0},{"$f":"IFERROR(IF('Benzin - diesel - hybrid'!K$22=\"Nej\",'Benzin - diesel - hybrid'!K$25,'Benzin - diesel - hybrid'!K$23)*'Benzin - diesel - hybrid'!K$14*'Benzin - diesel - hybrid'!K$11/1000000,0)","v":0},{"$f":"N214*IF('Benzin - diesel - hybrid'!M$31=\"nej\",0,'Benzin - diesel - hybrid'!M$39)*(1+'Benzin - diesel - hybrid'!M$48)^-$C214","v":0},{"$f":"IFERROR(IF('Benzin - diesel - hybrid'!M$22=\"Nej\",'Benzin - diesel - hybrid'!M$25,'Benzin - diesel - hybrid'!M$23)*'Benzin - diesel - hybrid'!M$14*'Benzin - diesel - hybrid'!M$11/1000000,0)","v":0},{"$f":"P214*IF('Benzin - diesel - hybrid'!O$31=\"nej\",0,'Benzin - diesel - hybrid'!O$39)*(1+'Benzin - diesel - hybrid'!O$48)^-$C214","v":0},{"$f":"IFERROR(IF('Benzin - diesel - hybrid'!O$22=\"Nej\",'Benzin - diesel - hybrid'!O$25,'Benzin - diesel - hybrid'!O$23)*'Benzin - diesel - hybrid'!O$14*'Benzin - diesel - hybrid'!O$11/1000000,0)","v":0},{"$f":"R214*IF('Benzin - diesel - hybrid'!Q$31=\"nej\",0,'Benzin - diesel - hybrid'!Q$39)*(1+'Benzin - diesel - hybrid'!Q$48)^-$C214","v":0},{"$f":"IFERROR(IF('Benzin - diesel - hybrid'!Q$22=\"Nej\",'Benzin - diesel - hybrid'!Q$25,'Benzin - diesel - hybrid'!Q$23)*'Benzin - diesel - hybrid'!Q$14*'Benzin - diesel - hybrid'!Q$11/1000000,0)","v":0},{"$f":"T214*IF('Benzin - diesel - hybrid'!S$31=\"nej\",0,'Benzin - diesel - hybrid'!S$39)*(1+'Benzin - diesel - hybrid'!S$48)^-$C214","v":0},{"$f":"IFERROR(IF('Benzin - diesel - hybrid'!S$22=\"Nej\",'Benzin - diesel - hybrid'!S$25,'Benzin - diesel - hybrid'!S$23)*'Benzin - diesel - hybrid'!S$14*'Benzin - diesel - hybrid'!S$11/1000000,0)","v":0},{"$f":"V214*IF('Benzin - diesel - hybrid'!U$31=\"nej\",0,'Benzin - diesel - hybrid'!U$39)*(1+'Benzin - diesel - hybrid'!U$48)^-$C214","v":0},{"$f":"IFERROR(IF('Benzin - diesel - hybrid'!U$22=\"Nej\",'Benzin - diesel - hybrid'!U$25,'Benzin - diesel - hybrid'!U$23)*'Benzin - diesel - hybrid'!U$14*'Benzin - diesel - hybrid'!U$11/1000000,0)","v":0},{"$f":"X214*IF('Benzin - diesel - hybrid'!W$31=\"nej\",0,'Benzin - diesel - hybrid'!W$39)*(1+'Benzin - diesel - hybrid'!W$48)^-$C214","v":0},{"$f":"IFERROR(IF('Benzin - diesel - hybrid'!W$22=\"Nej\",'Benzin - diesel - hybrid'!W$25,'Benzin - diesel - hybrid'!W$23)*'Benzin - diesel - hybrid'!W$14*'Benzin - diesel - hybrid'!W$11/1000000,0)","v":0}]
[null,6,6,null,{"$f":"F215*IF('Benzin - diesel - hybrid'!E$31=\"nej\",0,'Benzin - diesel - hybrid'!E$39)*(1+'Benzin - diesel - hybrid'!E$48)^-$C215","v":0},{"$f":"IFERROR(IF('Benzin - diesel - hybrid'!E$22=\"Nej\",'Benzin - diesel - hybrid'!E$25,'Benzin - diesel - hybrid'!E$23)*'Benzin - diesel - hybrid'!E$14*'Benzin - diesel - hybrid'!E$11/1000000,0)","v":0},{"$f":"H215*IF('Benzin - diesel - hybrid'!G$31=\"nej\",0,'Benzin - diesel - hybrid'!G$39)*(1+'Benzin - diesel - hybrid'!G$48)^-$C215","v":0},{"$f":"IFERROR(IF('Benzin - diesel - hybrid'!G$22=\"Nej\",'Benzin - diesel - hybrid'!G$25,'Benzin - diesel - hybrid'!G$23)*'Benzin - diesel - hybrid'!G$14*'Benzin - diesel - hybrid'!G$11/1000000,0)","v":0},{"$f":"J215*IF('Benzin - diesel - hybrid'!I$31=\"nej\",0,'Benzin - diesel - hybrid'!I$39)*(1+'Benzin - diesel - hybrid'!I$48)^-$C215","v":0},{"$f":"IFERROR(IF('Benzin - diesel - hybrid'!I$22=\"Nej\",'Benzin - diesel - hybrid'!I$25,'Benzin - diesel - hybrid'!I$23)*'Benzin - diesel - hybrid'!I$14*'Benzin - diesel - hybrid'!I$11/1000000,0)","v":0},{"$f":"L215*IF('Benzin - diesel - hybrid'!K$31=\"nej\",0,'Benzin - diesel - hybrid'!K$39)*(1+'Benzin - diesel - hybrid'!K$48)^-$C215","v":0},{"$f":"IFERROR(IF('Benzin - diesel - hybrid'!K$22=\"Nej\",'Benzin - diesel - hybrid'!K$25,'Benzin - diesel - hybrid'!K$23)*'Benzin - diesel - hybrid'!K$14*'Benzin - diesel - hybrid'!K$11/1000000,0)","v":0},{"$f":"N215*IF('Benzin - diesel - hybrid'!M$31=\"nej\",0,'Benzin - diesel - hybrid'!M$39)*(1+'Benzin - diesel - hybrid'!M$48)^-$C215","v":0},{"$f":"IFERROR(IF('Benzin - diesel - hybrid'!M$22=\"Nej\",'Benzin - diesel - hybrid'!M$25,'Benzin - diesel - hybrid'!M$23)*'Benzin - diesel - hybrid'!M$14*'Benzin - diesel - hybrid'!M$11/1000000,0)","v":0},{"$f":"P215*IF('Benzin - diesel - hybrid'!O$31=\"nej\",0,'Benzin - diesel - hybrid'!O$39)*(1+'Benzin - diesel - hybrid'!O$48)^-$C215","v":0},{"$f":"IFERROR(IF('Benzin - diesel - hybrid'!O$22=\"Nej\",'Benzin - diesel - hybrid'!O$25,'Benzin - diesel - hybrid'!O$23)*'Benzin - diesel - hybrid'!O$14*'Benzin - diesel - hybrid'!O$11/1000000,0)","v":0},{"$f":"R215*IF('Benzin - diesel - hybrid'!Q$31=\"nej\",0,'Benzin - diesel - hybrid'!Q$39)*(1+'Benzin - diesel - hybrid'!Q$48)^-$C215","v":0},{"$f":"IFERROR(IF('Benzin - diesel - hybrid'!Q$22=\"Nej\",'Benzin - diesel - hybrid'!Q$25,'Benzin - diesel - hybrid'!Q$23)*'Benzin - diesel - hybrid'!Q$14*'Benzin - diesel - hybrid'!Q$11/1000000,0)","v":0},{"$f":"T215*IF('Benzin - diesel - hybrid'!S$31=\"nej\",0,'Benzin - diesel - hybrid'!S$39)*(1+'Benzin - diesel - hybrid'!S$48)^-$C215","v":0},{"$f":"IFERROR(IF('Benzin - diesel - hybrid'!S$22=\"Nej\",'Benzin - diesel - hybrid'!S$25,'Benzin - diesel - hybrid'!S$23)*'Benzin - diesel - hybrid'!S$14*'Benzin - diesel - hybrid'!S$11/1000000,0)","v":0},{"$f":"V215*IF('Benzin - diesel - hybrid'!U$31=\"nej\",0,'Benzin - diesel - hybrid'!U$39)*(1+'Benzin - diesel - hybrid'!U$48)^-$C215","v":0},{"$f":"IFERROR(IF('Benzin - diesel - hybrid'!U$22=\"Nej\",'Benzin - diesel - hybrid'!U$25,'Benzin - diesel - hybrid'!U$23)*'Benzin - diesel - hybrid'!U$14*'Benzin - diesel - hybrid'!U$11/1000000,0)","v":0},{"$f":"X215*IF('Benzin - diesel - hybrid'!W$31=\"nej\",0,'Benzin - diesel - hybrid'!W$39)*(1+'Benzin - diesel - hybrid'!W$48)^-$C215","v":0},{"$f":"IFERROR(IF('Benzin - diesel - hybrid'!W$22=\"Nej\",'Benzin - diesel - hybrid'!W$25,'Benzin - diesel - hybrid'!W$23)*'Benzin - diesel - hybrid'!W$14*'Benzin - diesel - hybrid'!W$11/1000000,0)","v":0}]
[null,7,7,null,{"$f":"F216*IF('Benzin - diesel - hybrid'!E$31=\"nej\",0,'Benzin - diesel - hybrid'!E$39)*(1+'Benzin - diesel - hybrid'!E$48)^-$C216","v":0},{"$f":"IFERROR(IF('Benzin - diesel - hybrid'!E$22=\"Nej\",'Benzin - diesel - hybrid'!E$25,'Benzin - diesel - hybrid'!E$23)*'Benzin - diesel - hybrid'!E$14*'Benzin - diesel - hybrid'!E$11/1000000,0)","v":0},{"$f":"H216*IF('Benzin - diesel - hybrid'!G$31=\"nej\",0,'Benzin - diesel - hybrid'!G$39)*(1+'Benzin - diesel - hybrid'!G$48)^-$C216","v":0},{"$f":"IFERROR(IF('Benzin - diesel - hybrid'!G$22=\"Nej\",'Benzin - diesel - hybrid'!G$25,'Benzin - diesel - hybrid'!G$23)*'Benzin - diesel - hybrid'!G$14*'Benzin - diesel - hybrid'!G$11/1000000,0)","v":0},{"$f":"J216*IF('Benzin - diesel - hybrid'!I$31=\"nej\",0,'Benzin - diesel - hybrid'!I$39)*(1+'Benzin - diesel - hybrid'!I$48)^-$C216","v":0},{"$f":"IFERROR(IF('Benzin - diesel - hybrid'!I$22=\"Nej\",'Benzin - diesel - hybrid'!I$25,'Benzin - diesel - hybrid'!I$23)*'Benzin - diesel - hybrid'!I$14*'Benzin - diesel - hybrid'!I$11/1000000,0)","v":0},{"$f":"L216*IF('Benzin - diesel - hybrid'!K$31=\"nej\",0,'Benzin - diesel - hybrid'!K$39)*(1+'Benzin - diesel - hybrid'!K$48)^-$C216","v":0},{"$f":"IFERROR(IF('Benzin - diesel - hybrid'!K$22=\"Nej\",'Benzin - diesel - hybrid'!K$25,'Benzin - diesel - hybrid'!K$23)*'Benzin - diesel - hybrid'!K$14*'Benzin - diesel - hybrid'!K$11/1000000,0)","v":0},{"$f":"N216*IF('Benzin - diesel - hybrid'!M$31=\"nej\",0,'Benzin - diesel - hybrid'!M$39)*(1+'Benzin - diesel - hybrid'!M$48)^-$C216","v":0},{"$f":"IFERROR(IF('Benzin - diesel - hybrid'!M$22=\"Nej\",'Benzin - diesel - hybrid'!M$25,'Benzin - diesel - hybrid'!M$23)*'Benzin - diesel - hybrid'!M$14*'Benzin - diesel - hybrid'!M$11/1000000,0)","v":0},{"$f":"P216*IF('Benzin - diesel - hybrid'!O$31=\"nej\",0,'Benzin - diesel - hybrid'!O$39)*(1+'Benzin - diesel - hybrid'!O$48)^-$C216","v":0},{"$f":"IFERROR(IF('Benzin - diesel - hybrid'!O$22=\"Nej\",'Benzin - diesel - hybrid'!O$25,'Benzin - diesel - hybrid'!O$23)*'Benzin - diesel - hybrid'!O$14*'Benzin - diesel - hybrid'!O$11/1000000,0)","v":0},{"$f":"R216*IF('Benzin - diesel - hybrid'!Q$31=\"nej\",0,'Benzin - diesel - hybrid'!Q$39)*(1+'Benzin - diesel - hybrid'!Q$48)^-$C216","v":0},{"$f":"IFERROR(IF('Benzin - diesel - hybrid'!Q$22=\"Nej\",'Benzin - diesel - hybrid'!Q$25,'Benzin - diesel - hybrid'!Q$23)*'Benzin - diesel - hybrid'!Q$14*'Benzin - diesel - hybrid'!Q$11/1000000,0)","v":0},{"$f":"T216*IF('Benzin - diesel - hybrid'!S$31=\"nej\",0,'Benzin - diesel - hybrid'!S$39)*(1+'Benzin - diesel - hybrid'!S$48)^-$C216","v":0},{"$f":"IFERROR(IF('Benzin - diesel - hybrid'!S$22=\"Nej\",'Benzin - diesel - hybrid'!S$25,'Benzin - diesel - hybrid'!S$23)*'Benzin - diesel - hybrid'!S$14*'Benzin - diesel - hybrid'!S$11/1000000,0)","v":0},{"$f":"V216*IF('Benzin - diesel - hybrid'!U$31=\"nej\",0,'Benzin - diesel - hybrid'!U$39)*(1+'Benzin - diesel - hybrid'!U$48)^-$C216","v":0},{"$f":"IFERROR(IF('Benzin - diesel - hybrid'!U$22=\"Nej\",'Benzin - diesel - hybrid'!U$25,'Benzin - diesel - hybrid'!U$23)*'Benzin - diesel - hybrid'!U$14*'Benzin - diesel - hybrid'!U$11/1000000,0)","v":0},{"$f":"X216*IF('Benzin - diesel - hybrid'!W$31=\"nej\",0,'Benzin - diesel - hybrid'!W$39)*(1+'Benzin - diesel - hybrid'!W$48)^-$C216","v":0},{"$f":"IFERROR(IF('Benzin - diesel - hybrid'!W$22=\"Nej\",'Benzin - diesel - hybrid'!W$25,'Benzin - diesel - hybrid'!W$23)*'Benzin - diesel - hybrid'!W$14*'Benzin - diesel - hybrid'!W$11/1000000,0)","v":0}]
[null,8,8,null,{"$f":"F217*IF('Benzin - diesel - hybrid'!E$31=\"nej\",0,'Benzin - diesel - hybrid'!E$39)*(1+'Benzin - diesel - hybrid'!E$48)^-$C217","v":0},{"$f":"IFERROR(IF('Benzin - diesel - hybrid'!E$22=\"Nej\",'Benzin - diesel - hybrid'!E$25,'Benzin - diesel - hybrid'!E$23)*'Benzin - diesel - hybrid'!E$14*'Benzin - diesel - hybrid'!E$11/1000000,0)","v":0},{"$f":"H217*IF('Benzin - diesel - hybrid'!G$31=\"nej\",0,'Benzin - diesel - hybrid'!G$39)*(1+'Benzin - diesel - hybrid'!G$48)^-$C217","v":0},{"$f":"IFERROR(IF('Benzin - diesel - hybrid'!G$22=\"Nej\",'Benzin - diesel - hybrid'!G$25,'Benzin - diesel - hybrid'!G$23)*'Benzin - diesel - hybrid'!G$14*'Benzin - diesel - hybrid'!G$11/1000000,0)","v":0},{"$f":"J217*IF('Benzin - diesel - hybrid'!I$31=\"nej\",0,'Benzin - diesel - hybrid'!I$39)*(1+'Benzin - diesel - hybrid'!I$48)^-$C217","v":0},{"$f":"IFERROR(IF('Benzin - diesel - hybrid'!I$22=\"Nej\",'Benzin - diesel - hybrid'!I$25,'Benzin - diesel - hybrid'!I$23)*'Benzin - diesel - hybrid'!I$14*'Benzin - diesel - hybrid'!I$11/1000000,0)","v":0},{"$f":"L217*IF('Benzin - diesel - hybrid'!K$31=\"nej\",0,'Benzin - diesel - hybrid'!K$39)*(1+'Benzin - diesel - hybrid'!K$48)^-$C217","v":0},{"$f":"IFERROR(IF('Benzin - diesel - hybrid'!K$22=\"Nej\",'Benzin - diesel - hybrid'!K$25,'Benzin - diesel - hybrid'!K$23)*'Benzin - diesel - hybrid'!K$14*'Benzin - diesel - hybrid'!K$11/1000000,0)","v":0},{"$f":"N217*IF('Benzin - diesel - hybrid'!M$31=\"nej\",0,'Benzin - diesel - hybrid'!M$39)*(1+'Benzin - diesel - hybrid'!M$48)^-$C217","v":0},{"$f":"IFERROR(IF('Benzin - diesel - hybrid'!M$22=\"Nej\",'Benzin - diesel - hybrid'!M$25,'Benzin - diesel - hybrid'!M$23)*'Benzin - diesel - hybrid'!M$14*'Benzin - diesel - hybrid'!M$11/1000000,0)","v":0},{"$f":"P217*IF('Benzin - diesel - hybrid'!O$31=\"nej\",0,'Benzin - diesel - hybrid'!O$39)*(1+'Benzin - diesel - hybrid'!O$48)^-$C217","v":0},{"$f":"IFERROR(IF('Benzin - diesel - hybrid'!O$22=\"Nej\",'Benzin - diesel - hybrid'!O$25,'Benzin - diesel - hybrid'!O$23)*'Benzin - diesel - hybrid'!O$14*'Benzin - diesel - hybrid'!O$11/1000000,0)","v":0},{"$f":"R217*IF('Benzin - diesel - hybrid'!Q$31=\"nej\",0,'Benzin - diesel - hybrid'!Q$39)*(1+'Benzin - diesel - hybrid'!Q$48)^-$C217","v":0},{"$f":"IFERROR(IF('Benzin - diesel - hybrid'!Q$22=\"Nej\",'Benzin - diesel - hybrid'!Q$25,'Benzin - diesel - hybrid'!Q$23)*'Benzin - diesel - hybrid'!Q$14*'Benzin - diesel - hybrid'!Q$11/1000000,0)","v":0},{"$f":"T217*IF('Benzin - diesel - hybrid'!S$31=\"nej\",0,'Benzin - diesel - hybrid'!S$39)*(1+'Benzin - diesel - hybrid'!S$48)^-$C217","v":0},{"$f":"IFERROR(IF('Benzin - diesel - hybrid'!S$22=\"Nej\",'Benzin - diesel - hybrid'!S$25,'Benzin - diesel - hybrid'!S$23)*'Benzin - diesel - hybrid'!S$14*'Benzin - diesel - hybrid'!S$11/1000000,0)","v":0},{"$f":"V217*IF('Benzin - diesel - hybrid'!U$31=\"nej\",0,'Benzin - diesel - hybrid'!U$39)*(1+'Benzin - diesel - hybrid'!U$48)^-$C217","v":0},{"$f":"IFERROR(IF('Benzin - diesel - hybrid'!U$22=\"Nej\",'Benzin - diesel - hybrid'!U$25,'Benzin - diesel - hybrid'!U$23)*'Benzin - diesel - hybrid'!U$14*'Benzin - diesel - hybrid'!U$11/1000000,0)","v":0},{"$f":"X217*IF('Benzin - diesel - hybrid'!W$31=\"nej\",0,'Benzin - diesel - hybrid'!W$39)*(1+'Benzin - diesel - hybrid'!W$48)^-$C217","v":0},{"$f":"IFERROR(IF('Benzin - diesel - hybrid'!W$22=\"Nej\",'Benzin - diesel - hybrid'!W$25,'Benzin - diesel - hybrid'!W$23)*'Benzin - diesel - hybrid'!W$14*'Benzin - diesel - hybrid'!W$11/1000000,0)","v":0}]
[null,9,9,null,{"$f":"F218*IF('Benzin - diesel - hybrid'!E$31=\"nej\",0,'Benzin - diesel - hybrid'!E$39)*(1+'Benzin - diesel - hybrid'!E$48)^-$C218","v":0},{"$f":"IFERROR(IF('Benzin - diesel - hybrid'!E$22=\"Nej\",'Benzin - diesel - hybrid'!E$25,'Benzin - diesel - hybrid'!E$23)*'Benzin - diesel - hybrid'!E$14*'Benzin - diesel - hybrid'!E$11/1000000,0)","v":0},{"$f":"H218*IF('Benzin - diesel - hybrid'!G$31=\"nej\",0,'Benzin - diesel - hybrid'!G$39)*(1+'Benzin - diesel - hybrid'!G$48)^-$C218","v":0},{"$f":"IFERROR(IF('Benzin - diesel - hybrid'!G$22=\"Nej\",'Benzin - diesel - hybrid'!G$25,'Benzin - diesel - hybrid'!G$23)*'Benzin - diesel - hybrid'!G$14*'Benzin - diesel - hybrid'!G$11/1000000,0)","v":0},{"$f":"J218*IF('Benzin - diesel - hybrid'!I$31=\"nej\",0,'Benzin - diesel - hybrid'!I$39)*(1+'Benzin - diesel - hybrid'!I$48)^-$C218","v":0},{"$f":"IFERROR(IF('Benzin - diesel - hybrid'!I$22=\"Nej\",'Benzin - diesel - hybrid'!I$25,'Benzin - diesel - hybrid'!I$23)*'Benzin - diesel - hybrid'!I$14*'Benzin - diesel - hybrid'!I$11/1000000,0)","v":0},{"$f":"L218*IF('Benzin - diesel - hybrid'!K$31=\"nej\",0,'Benzin - diesel - hybrid'!K$39)*(1+'Benzin - diesel - hybrid'!K$48)^-$C218","v":0},{"$f":"IFERROR(IF('Benzin - diesel - hybrid'!K$22=\"Nej\",'Benzin - diesel - hybrid'!K$25,'Benzin - diesel - hybrid'!K$23)*'Benzin - diesel - hybrid'!K$14*'Benzin - diesel - hybrid'!K$11/1000000,0)","v":0},{"$f":"N218*IF('Benzin - diesel - hybrid'!M$31=\"nej\",0,'Benzin - diesel - hybrid'!M$39)*(1+'Benzin - diesel - hybrid'!M$48)^-$C218","v":0},{"$f":"IFERROR(IF('Benzin - diesel - hybrid'!M$22=\"Nej\",'Benzin - diesel - hybrid'!M$25,'Benzin - diesel - hybrid'!M$23)*'Benzin - diesel - hybrid'!M$14*'Benzin - diesel - hybrid'!M$11/1000000,0)","v":0},{"$f":"P218*IF('Benzin - diesel - hybrid'!O$31=\"nej\",0,'Benzin - diesel - hybrid'!O$39)*(1+'Benzin - diesel - hybrid'!O$48)^-$C218","v":0},{"$f":"IFERROR(IF('Benzin - diesel - hybrid'!O$22=\"Nej\",'Benzin - diesel - hybrid'!O$25,'Benzin - diesel - hybrid'!O$23)*'Benzin - diesel - hybrid'!O$14*'Benzin - diesel - hybrid'!O$11/1000000,0)","v":0},{"$f":"R218*IF('Benzin - diesel - hybrid'!Q$31=\"nej\",0,'Benzin - diesel - hybrid'!Q$39)*(1+'Benzin - diesel - hybrid'!Q$48)^-$C218","v":0},{"$f":"IFERROR(IF('Benzin - diesel - hybrid'!Q$22=\"Nej\",'Benzin - diesel - hybrid'!Q$25,'Benzin - diesel - hybrid'!Q$23)*'Benzin - diesel - hybrid'!Q$14*'Benzin - diesel - hybrid'!Q$11/1000000,0)","v":0},{"$f":"T218*IF('Benzin - diesel - hybrid'!S$31=\"nej\",0,'Benzin - diesel - hybrid'!S$39)*(1+'Benzin - diesel - hybrid'!S$48)^-$C218","v":0},{"$f":"IFERROR(IF('Benzin - diesel - hybrid'!S$22=\"Nej\",'Benzin - diesel - hybrid'!S$25,'Benzin - diesel - hybrid'!S$23)*'Benzin - diesel - hybrid'!S$14*'Benzin - diesel - hybrid'!S$11/1000000,0)","v":0},{"$f":"V218*IF('Benzin - diesel - hybrid'!U$31=\"nej\",0,'Benzin - diesel - hybrid'!U$39)*(1+'Benzin - diesel - hybrid'!U$48)^-$C218","v":0},{"$f":"IFERROR(IF('Benzin - diesel - hybrid'!U$22=\"Nej\",'Benzin - diesel - hybrid'!U$25,'Benzin - diesel - hybrid'!U$23)*'Benzin - diesel - hybrid'!U$14*'Benzin - diesel - hybrid'!U$11/1000000,0)","v":0},{"$f":"X218*IF('Benzin - diesel - hybrid'!W$31=\"nej\",0,'Benzin - diesel - hybrid'!W$39)*(1+'Benzin - diesel - hybrid'!W$48)^-$C218","v":0},{"$f":"IFERROR(IF('Benzin - diesel - hybrid'!W$22=\"Nej\",'Benzin - diesel - hybrid'!W$25,'Benzin - diesel - hybrid'!W$23)*'Benzin - diesel - hybrid'!W$14*'Benzin - diesel - hybrid'!W$11/1000000,0)","v":0}]
[null,10,10,null,{"$f":"F219*IF('Benzin - diesel - hybrid'!E$31=\"nej\",0,'Benzin - diesel - hybrid'!E$39)*(1+'Benzin - diesel - hybrid'!E$48)^-$C219","v":0},{"$f":"IFERROR(IF('Benzin - diesel - hybrid'!E$22=\"Nej\",'Benzin - diesel - hybrid'!E$25,'Benzin - diesel - hybrid'!E$23)*'Benzin - diesel - hybrid'!E$14*'Benzin - diesel - hybrid'!E$11/1000000,0)","v":0},{"$f":"H219*IF('Benzin - diesel - hybrid'!G$31=\"nej\",0,'Benzin - diesel - hybrid'!G$39)*(1+'Benzin - diesel - hybrid'!G$48)^-$C219","v":0},{"$f":"IFERROR(IF('Benzin - diesel - hybrid'!G$22=\"Nej\",'Benzin - diesel - hybrid'!G$25,'Benzin - diesel - hybrid'!G$23)*'Benzin - diesel - hybrid'!G$14*'Benzin - diesel - hybrid'!G$11/1000000,0)","v":0},{"$f":"J219*IF('Benzin - diesel - hybrid'!I$31=\"nej\",0,'Benzin - diesel - hybrid'!I$39)*(1+'Benzin - diesel - hybrid'!I$48)^-$C219","v":0},{"$f":"IFERROR(IF('Benzin - diesel - hybrid'!I$22=\"Nej\",'Benzin - diesel - hybrid'!I$25,'Benzin - diesel - hybrid'!I$23)*'Benzin - diesel - hybrid'!I$14*'Benzin - diesel - hybrid'!I$11/1000000,0)","v":0},{"$f":"L219*IF('Benzin - diesel - hybrid'!K$31=\"nej\",0,'Benzin - diesel - hybrid'!K$39)*(1+'Benzin - diesel - hybrid'!K$48)^-$C219","v":0},{"$f":"IFERROR(IF('Benzin - diesel - hybrid'!K$22=\"Nej\",'Benzin - diesel - hybrid'!K$25,'Benzin - diesel - hybrid'!K$23)*'Benzin - diesel - hybrid'!K$14*'Benzin - diesel - hybrid'!K$11/1000000,0)","v":0},{"$f":"N219*IF('Benzin - diesel - hybrid'!M$31=\"nej\",0,'Benzin - diesel - hybrid'!M$39)*(1+'Benzin - diesel - hybrid'!M$48)^-$C219","v":0},{"$f":"IFERROR(IF('Benzin - diesel - hybrid'!M$22=\"Nej\",'Benzin - diesel - hybrid'!M$25,'Benzin - diesel - hybrid'!M$23)*'Benzin - diesel - hybrid'!M$14*'Benzin - diesel - hybrid'!M$11/1000000,0)","v":0},{"$f":"P219*IF('Benzin - diesel - hybrid'!O$31=\"nej\",0,'Benzin - diesel - hybrid'!O$39)*(1+'Benzin - diesel - hybrid'!O$48)^-$C219","v":0},{"$f":"IFERROR(IF('Benzin - diesel - hybrid'!O$22=\"Nej\",'Benzin - diesel - hybrid'!O$25,'Benzin - diesel - hybrid'!O$23)*'Benzin - diesel - hybrid'!O$14*'Benzin - diesel - hybrid'!O$11/1000000,0)","v":0},{"$f":"R219*IF('Benzin - diesel - hybrid'!Q$31=\"nej\",0,'Benzin - diesel - hybrid'!Q$39)*(1+'Benzin - diesel - hybrid'!Q$48)^-$C219","v":0},{"$f":"IFERROR(IF('Benzin - diesel - hybrid'!Q$22=\"Nej\",'Benzin - diesel - hybrid'!Q$25,'Benzin - diesel - hybrid'!Q$23)*'Benzin - diesel - hybrid'!Q$14*'Benzin - diesel - hybrid'!Q$11/1000000,0)","v":0},{"$f":"T219*IF('Benzin - diesel - hybrid'!S$31=\"nej\",0,'Benzin - diesel - hybrid'!S$39)*(1+'Benzin - diesel - hybrid'!S$48)^-$C219","v":0},{"$f":"IFERROR(IF('Benzin - diesel - hybrid'!S$22=\"Nej\",'Benzin - diesel - hybrid'!S$25,'Benzin - diesel - hybrid'!S$23)*'Benzin - diesel - hybrid'!S$14*'Benzin - diesel - hybrid'!S$11/1000000,0)","v":0},{"$f":"V219*IF('Benzin - diesel - hybrid'!U$31=\"nej\",0,'Benzin - diesel - hybrid'!U$39)*(1+'Benzin - diesel - hybrid'!U$48)^-$C219","v":0},{"$f":"IFERROR(IF('Benzin - diesel - hybrid'!U$22=\"Nej\",'Benzin - diesel - hybrid'!U$25,'Benzin - diesel - hybrid'!U$23)*'Benzin - diesel - hybrid'!U$14*'Benzin - diesel - hybrid'!U$11/1000000,0)","v":0},{"$f":"X219*IF('Benzin - diesel - hybrid'!W$31=\"nej\",0,'Benzin - diesel - hybrid'!W$39)*(1+'Benzin - diesel - hybrid'!W$48)^-$C219","v":0},{"$f":"IFERROR(IF('Benzin - diesel - hybrid'!W$22=\"Nej\",'Benzin - diesel - hybrid'!W$25,'Benzin - diesel - hybrid'!W$23)*'Benzin - diesel - hybrid'!W$14*'Benzin - diesel - hybrid'!W$11/1000000,0)","v":0}]
[null,11,11,null,{"$f":"F220*IF('Benzin - diesel - hybrid'!E$31=\"nej\",0,'Benzin - diesel - hybrid'!E$39)*(1+'Benzin - diesel - hybrid'!E$48)^-$C220","v":0},{"$f":"IFERROR(IF('Benzin - diesel - hybrid'!E$22=\"Nej\",'Benzin - diesel - hybrid'!E$25,'Benzin - diesel - hybrid'!E$23)*'Benzin - diesel - hybrid'!E$14*'Benzin - diesel - hybrid'!E$11/1000000,0)","v":0},{"$f":"H220*IF('Benzin - diesel - hybrid'!G$31=\"nej\",0,'Benzin - diesel - hybrid'!G$39)*(1+'Benzin - diesel - hybrid'!G$48)^-$C220","v":0},{"$f":"IFERROR(IF('Benzin - diesel - hybrid'!G$22=\"Nej\",'Benzin - diesel - hybrid'!G$25,'Benzin - diesel - hybrid'!G$23)*'Benzin - diesel - hybrid'!G$14*'Benzin - diesel - hybrid'!G$11/1000000,0)","v":0},{"$f":"J220*IF('Benzin - diesel - hybrid'!I$31=\"nej\",0,'Benzin - diesel - hybrid'!I$39)*(1+'Benzin - diesel - hybrid'!I$48)^-$C220","v":0},{"$f":"IFERROR(IF('Benzin - diesel - hybrid'!I$22=\"Nej\",'Benzin - diesel - hybrid'!I$25,'Benzin - diesel - hybrid'!I$23)*'Benzin - diesel - hybrid'!I$14*'Benzin - diesel - hybrid'!I$11/1000000,0)","v":0},{"$f":"L220*IF('Benzin - diesel - hybrid'!K$31=\"nej\",0,'Benzin - diesel - hybrid'!K$39)*(1+'Benzin - diesel - hybrid'!K$48)^-$C220","v":0},{"$f":"IFERROR(IF('Benzin - diesel - hybrid'!K$22=\"Nej\",'Benzin - diesel - hybrid'!K$25,'Benzin - diesel - hybrid'!K$23)*'Benzin - diesel - hybrid'!K$14*'Benzin - diesel - hybrid'!K$11/1000000,0)","v":0},{"$f":"N220*IF('Benzin - diesel - hybrid'!M$31=\"nej\",0,'Benzin - diesel - hybrid'!M$39)*(1+'Benzin - diesel - hybrid'!M$48)^-$C220","v":0},{"$f":"IFERROR(IF('Benzin - diesel - hybrid'!M$22=\"Nej\",'Benzin - diesel - hybrid'!M$25,'Benzin - diesel - hybrid'!M$23)*'Benzin - diesel - hybrid'!M$14*'Benzin - diesel - hybrid'!M$11/1000000,0)","v":0},{"$f":"P220*IF('Benzin - diesel - hybrid'!O$31=\"nej\",0,'Benzin - diesel - hybrid'!O$39)*(1+'Benzin - diesel - hybrid'!O$48)^-$C220","v":0},{"$f":"IFERROR(IF('Benzin - diesel - hybrid'!O$22=\"Nej\",'Benzin - diesel - hybrid'!O$25,'Benzin - diesel - hybrid'!O$23)*'Benzin - diesel - hybrid'!O$14*'Benzin - diesel - hybrid'!O$11/1000000,0)","v":0},{"$f":"R220*IF('Benzin - diesel - hybrid'!Q$31=\"nej\",0,'Benzin - diesel - hybrid'!Q$39)*(1+'Benzin - diesel - hybrid'!Q$48)^-$C220","v":0},{"$f":"IFERROR(IF('Benzin - diesel - hybrid'!Q$22=\"Nej\",'Benzin - diesel - hybrid'!Q$25,'Benzin - diesel - hybrid'!Q$23)*'Benzin - diesel - hybrid'!Q$14*'Benzin - diesel - hybrid'!Q$11/1000000,0)","v":0},{"$f":"T220*IF('Benzin - diesel - hybrid'!S$31=\"nej\",0,'Benzin - diesel - hybrid'!S$39)*(1+'Benzin - diesel - hybrid'!S$48)^-$C220","v":0},{"$f":"IFERROR(IF('Benzin - diesel - hybrid'!S$22=\"Nej\",'Benzin - diesel - hybrid'!S$25,'Benzin - diesel - hybrid'!S$23)*'Benzin - diesel - hybrid'!S$14*'Benzin - diesel - hybrid'!S$11/1000000,0)","v":0},{"$f":"V220*IF('Benzin - diesel - hybrid'!U$31=\"nej\",0,'Benzin - diesel - hybrid'!U$39)*(1+'Benzin - diesel - hybrid'!U$48)^-$C220","v":0},{"$f":"IFERROR(IF('Benzin - diesel - hybrid'!U$22=\"Nej\",'Benzin - diesel - hybrid'!U$25,'Benzin - diesel - hybrid'!U$23)*'Benzin - diesel - hybrid'!U$14*'Benzin - diesel - hybrid'!U$11/1000000,0)","v":0},{"$f":"X220*IF('Benzin - diesel - hybrid'!W$31=\"nej\",0,'Benzin - diesel - hybrid'!W$39)*(1+'Benzin - diesel - hybrid'!W$48)^-$C220","v":0},{"$f":"IFERROR(IF('Benzin - diesel - hybrid'!W$22=\"Nej\",'Benzin - diesel - hybrid'!W$25,'Benzin - diesel - hybrid'!W$23)*'Benzin - diesel - hybrid'!W$14*'Benzin - diesel - hybrid'!W$11/1000000,0)","v":0}]
[null,12,12,null,{"$f":"F221*IF('Benzin - diesel - hybrid'!E$31=\"nej\",0,'Benzin - diesel - hybrid'!E$39)*(1+'Benzin - diesel - hybrid'!E$48)^-$C221","v":0},{"$f":"IFERROR(IF('Benzin - diesel - hybrid'!E$22=\"Nej\",'Benzin - diesel - hybrid'!E$25,'Benzin - diesel - hybrid'!E$23)*'Benzin - diesel - hybrid'!E$14*'Benzin - diesel - hybrid'!E$11/1000000,0)","v":0},{"$f":"H221*IF('Benzin - diesel - hybrid'!G$31=\"nej\",0,'Benzin - diesel - hybrid'!G$39)*(1+'Benzin - diesel - hybrid'!G$48)^-$C221","v":0},{"$f":"IFERROR(IF('Benzin - diesel - hybrid'!G$22=\"Nej\",'Benzin - diesel - hybrid'!G$25,'Benzin - diesel - hybrid'!G$23)*'Benzin - diesel - hybrid'!G$14*'Benzin - diesel - hybrid'!G$11/1000000,0)","v":0},{"$f":"J221*IF('Benzin - diesel - hybrid'!I$31=\"nej\",0,'Benzin - diesel - hybrid'!I$39)*(1+'Benzin - diesel - hybrid'!I$48)^-$C221","v":0},{"$f":"IFERROR(IF('Benzin - diesel - hybrid'!I$22=\"Nej\",'Benzin - diesel - hybrid'!I$25,'Benzin - diesel - hybrid'!I$23)*'Benzin - diesel - hybrid'!I$14*'Benzin - diesel - hybrid'!I$11/1000000,0)","v":0},{"$f":"L221*IF('Benzin - diesel - hybrid'!K$31=\"nej\",0,'Benzin - diesel - hybrid'!K$39)*(1+'Benzin - diesel - hybrid'!K$48)^-$C221","v":0},{"$f":"IFERROR(IF('Benzin - diesel - hybrid'!K$22=\"Nej\",'Benzin - diesel - hybrid'!K$25,'Benzin - diesel - hybrid'!K$23)*'Benzin - diesel - hybrid'!K$14*'Benzin - diesel - hybrid'!K$11/1000000,0)","v":0},{"$f":"N221*IF('Benzin - diesel - hybrid'!M$31=\"nej\",0,'Benzin - diesel - hybrid'!M$39)*(1+'Benzin - diesel - hybrid'!M$48)^-$C221","v":0},{"$f":"IFERROR(IF('Benzin - diesel - hybrid'!M$22=\"Nej\",'Benzin - diesel - hybrid'!M$25,'Benzin - diesel - hybrid'!M$23)*'Benzin - diesel - hybrid'!M$14*'Benzin - diesel - hybrid'!M$11/1000000,0)","v":0},{"$f":"P221*IF('Benzin - diesel - hybrid'!O$31=\"nej\",0,'Benzin - diesel - hybrid'!O$39)*(1+'Benzin - diesel - hybrid'!O$48)^-$C221","v":0},{"$f":"IFERROR(IF('Benzin - diesel - hybrid'!O$22=\"Nej\",'Benzin - diesel - hybrid'!O$25,'Benzin - diesel - hybrid'!O$23)*'Benzin - diesel - hybrid'!O$14*'Benzin - diesel - hybrid'!O$11/1000000,0)","v":0},{"$f":"R221*IF('Benzin - diesel - hybrid'!Q$31=\"nej\",0,'Benzin - diesel - hybrid'!Q$39)*(1+'Benzin - diesel - hybrid'!Q$48)^-$C221","v":0},{"$f":"IFERROR(IF('Benzin - diesel - hybrid'!Q$22=\"Nej\",'Benzin - diesel - hybrid'!Q$25,'Benzin - diesel - hybrid'!Q$23)*'Benzin - diesel - hybrid'!Q$14*'Benzin - diesel - hybrid'!Q$11/1000000,0)","v":0},{"$f":"T221*IF('Benzin - diesel - hybrid'!S$31=\"nej\",0,'Benzin - diesel - hybrid'!S$39)*(1+'Benzin - diesel - hybrid'!S$48)^-$C221","v":0},{"$f":"IFERROR(IF('Benzin - diesel - hybrid'!S$22=\"Nej\",'Benzin - diesel - hybrid'!S$25,'Benzin - diesel - hybrid'!S$23)*'Benzin - diesel - hybrid'!S$14*'Benzin - diesel - hybrid'!S$11/1000000,0)","v":0},{"$f":"V221*IF('Benzin - diesel - hybrid'!U$31=\"nej\",0,'Benzin - diesel - hybrid'!U$39)*(1+'Benzin - diesel - hybrid'!U$48)^-$C221","v":0},{"$f":"IFERROR(IF('Benzin - diesel - hybrid'!U$22=\"Nej\",'Benzin - diesel - hybrid'!U$25,'Benzin - diesel - hybrid'!U$23)*'Benzin - diesel - hybrid'!U$14*'Benzin - diesel - hybrid'!U$11/1000000,0)","v":0},{"$f":"X221*IF('Benzin - diesel - hybrid'!W$31=\"nej\",0,'Benzin - diesel - hybrid'!W$39)*(1+'Benzin - diesel - hybrid'!W$48)^-$C221","v":0},{"$f":"IFERROR(IF('Benzin - diesel - hybrid'!W$22=\"Nej\",'Benzin - diesel - hybrid'!W$25,'Benzin - diesel - hybrid'!W$23)*'Benzin - diesel - hybrid'!W$14*'Benzin - diesel - hybrid'!W$11/1000000,0)","v":0}]
[null,13,13,null,{"$f":"F222*IF('Benzin - diesel - hybrid'!E$31=\"nej\",0,'Benzin - diesel - hybrid'!E$39)*(1+'Benzin - diesel - hybrid'!E$48)^-$C222","v":0},{"$f":"IFERROR(IF('Benzin - diesel - hybrid'!E$22=\"Nej\",'Benzin - diesel - hybrid'!E$25,'Benzin - diesel - hybrid'!E$23)*'Benzin - diesel - hybrid'!E$14*'Benzin - diesel - hybrid'!E$11/1000000,0)","v":0},{"$f":"H222*IF('Benzin - diesel - hybrid'!G$31=\"nej\",0,'Benzin - diesel - hybrid'!G$39)*(1+'Benzin - diesel - hybrid'!G$48)^-$C222","v":0},{"$f":"IFERROR(IF('Benzin - diesel - hybrid'!G$22=\"Nej\",'Benzin - diesel - hybrid'!G$25,'Benzin - diesel - hybrid'!G$23)*'Benzin - diesel - hybrid'!G$14*'Benzin - diesel - hybrid'!G$11/1000000,0)","v":0},{"$f":"J222*IF('Benzin - diesel - hybrid'!I$31=\"nej\",0,'Benzin - diesel - hybrid'!I$39)*(1+'Benzin - diesel - hybrid'!I$48)^-$C222","v":0},{"$f":"IFERROR(IF('Benzin - diesel - hybrid'!I$22=\"Nej\",'Benzin - diesel - hybrid'!I$25,'Benzin - diesel - hybrid'!I$23)*'Benzin - diesel - hybrid'!I$14*'Benzin - diesel - hybrid'!I$11/1000000,0)","v":0},{"$f":"L222*IF('Benzin - diesel - hybrid'!K$31=\"nej\",0,'Benzin - diesel - hybrid'!K$39)*(1+'Benzin - diesel - hybrid'!K$48)^-$C222","v":0},{"$f":"IFERROR(IF('Benzin - diesel - hybrid'!K$22=\"Nej\",'Benzin - diesel - hybrid'!K$25,'Benzin - diesel - hybrid'!K$23)*'Benzin - diesel - hybrid'!K$14*'Benzin - diesel - hybrid'!K$11/1000000,0)","v":0},{"$f":"N222*IF('Benzin - diesel - hybrid'!M$31=\"nej\",0,'Benzin - diesel - hybrid'!M$39)*(1+'Benzin - diesel - hybrid'!M$48)^-$C222","v":0},{"$f":"IFERROR(IF('Benzin - diesel - hybrid'!M$22=\"Nej\",'Benzin - diesel - hybrid'!M$25,'Benzin - diesel - hybrid'!M$23)*'Benzin - diesel - hybrid'!M$14*'Benzin - diesel - hybrid'!M$11/1000000,0)","v":0},{"$f":"P222*IF('Benzin - diesel - hybrid'!O$31=\"nej\",0,'Benzin - diesel - hybrid'!O$39)*(1+'Benzin - diesel - hybrid'!O$48)^-$C222","v":0},{"$f":"IFERROR(IF('Benzin - diesel - hybrid'!O$22=\"Nej\",'Benzin - diesel - hybrid'!O$25,'Benzin - diesel - hybrid'!O$23)*'Benzin - diesel - hybrid'!O$14*'Benzin - diesel - hybrid'!O$11/1000000,0)","v":0},{"$f":"R222*IF('Benzin - diesel - hybrid'!Q$31=\"nej\",0,'Benzin - diesel - hybrid'!Q$39)*(1+'Benzin - diesel - hybrid'!Q$48)^-$C222","v":0},{"$f":"IFERROR(IF('Benzin - diesel - hybrid'!Q$22=\"Nej\",'Benzin - diesel - hybrid'!Q$25,'Benzin - diesel - hybrid'!Q$23)*'Benzin - diesel - hybrid'!Q$14*'Benzin - diesel - hybrid'!Q$11/1000000,0)","v":0},{"$f":"T222*IF('Benzin - diesel - hybrid'!S$31=\"nej\",0,'Benzin - diesel - hybrid'!S$39)*(1+'Benzin - diesel - hybrid'!S$48)^-$C222","v":0},{"$f":"IFERROR(IF('Benzin - diesel - hybrid'!S$22=\"Nej\",'Benzin - diesel - hybrid'!S$25,'Benzin - diesel - hybrid'!S$23)*'Benzin - diesel - hybrid'!S$14*'Benzin - diesel - hybrid'!S$11/1000000,0)","v":0},{"$f":"V222*IF('Benzin - diesel - hybrid'!U$31=\"nej\",0,'Benzin - diesel - hybrid'!U$39)*(1+'Benzin - diesel - hybrid'!U$48)^-$C222","v":0},{"$f":"IFERROR(IF('Benzin - diesel - hybrid'!U$22=\"Nej\",'Benzin - diesel - hybrid'!U$25,'Benzin - diesel - hybrid'!U$23)*'Benzin - diesel - hybrid'!U$14*'Benzin - diesel - hybrid'!U$11/1000000,0)","v":0},{"$f":"X222*IF('Benzin - diesel - hybrid'!W$31=\"nej\",0,'Benzin - diesel - hybrid'!W$39)*(1+'Benzin - diesel - hybrid'!W$48)^-$C222","v":0},{"$f":"IFERROR(IF('Benzin - diesel - hybrid'!W$22=\"Nej\",'Benzin - diesel - hybrid'!W$25,'Benzin - diesel - hybrid'!W$23)*'Benzin - diesel - hybrid'!W$14*'Benzin - diesel - hybrid'!W$11/1000000,0)","v":0}]
[null,14,14,null,{"$f":"F223*IF('Benzin - diesel - hybrid'!E$31=\"nej\",0,'Benzin - diesel - hybrid'!E$39)*(1+'Benzin - diesel - hybrid'!E$48)^-$C223","v":0},{"$f":"IFERROR(IF('Benzin - diesel - hybrid'!E$22=\"Nej\",'Benzin - diesel - hybrid'!E$25,'Benzin - diesel - hybrid'!E$23)*'Benzin - diesel - hybrid'!E$14*'Benzin - diesel - hybrid'!E$11/1000000,0)","v":0},{"$f":"H223*IF('Benzin - diesel - hybrid'!G$31=\"nej\",0,'Benzin - diesel - hybrid'!G$39)*(1+'Benzin - diesel - hybrid'!G$48)^-$C223","v":0},{"$f":"IFERROR(IF('Benzin - diesel - hybrid'!G$22=\"Nej\",'Benzin - diesel - hybrid'!G$25,'Benzin - diesel - hybrid'!G$23)*'Benzin - diesel - hybrid'!G$14*'Benzin - diesel - hybrid'!G$11/1000000,0)","v":0},{"$f":"J223*IF('Benzin - diesel - hybrid'!I$31=\"nej\",0,'Benzin - diesel - hybrid'!I$39)*(1+'Benzin - diesel - hybrid'!I$48)^-$C223","v":0},{"$f":"IFERROR(IF('Benzin - diesel - hybrid'!I$22=\"Nej\",'Benzin - diesel - hybrid'!I$25,'Benzin - diesel - hybrid'!I$23)*'Benzin - diesel - hybrid'!I$14*'Benzin - diesel - hybrid'!I$11/1000000,0)","v":0},{"$f":"L223*IF('Benzin - diesel - hybrid'!K$31=\"nej\",0,'Benzin - diesel - hybrid'!K$39)*(1+'Benzin - diesel - hybrid'!K$48)^-$C223","v":0},{"$f":"IFERROR(IF('Benzin - diesel - hybrid'!K$22=\"Nej\",'Benzin - diesel - hybrid'!K$25,'Benzin - diesel - hybrid'!K$23)*'Benzin - diesel - hybrid'!K$14*'Benzin - diesel - hybrid'!K$11/1000000,0)","v":0},{"$f":"N223*IF('Benzin - diesel - hybrid'!M$31=\"nej\",0,'Benzin - diesel - hybrid'!M$39)*(1+'Benzin - diesel - hybrid'!M$48)^-$C223","v":0},{"$f":"IFERROR(IF('Benzin - diesel - hybrid'!M$22=\"Nej\",'Benzin - diesel - hybrid'!M$25,'Benzin - diesel - hybrid'!M$23)*'Benzin - diesel - hybrid'!M$14*'Benzin - diesel - hybrid'!M$11/1000000,0)","v":0},{"$f":"P223*IF('Benzin - diesel - hybrid'!O$31=\"nej\",0,'Benzin - diesel - hybrid'!O$39)*(1+'Benzin - diesel - hybrid'!O$48)^-$C223","v":0},{"$f":"IFERROR(IF('Benzin - diesel - hybrid'!O$22=\"Nej\",'Benzin - diesel - hybrid'!O$25,'Benzin - diesel - hybrid'!O$23)*'Benzin - diesel - hybrid'!O$14*'Benzin - diesel - hybrid'!O$11/1000000,0)","v":0},{"$f":"R223*IF('Benzin - diesel - hybrid'!Q$31=\"nej\",0,'Benzin - diesel - hybrid'!Q$39)*(1+'Benzin - diesel - hybrid'!Q$48)^-$C223","v":0},{"$f":"IFERROR(IF('Benzin - diesel - hybrid'!Q$22=\"Nej\",'Benzin - diesel - hybrid'!Q$25,'Benzin - diesel - hybrid'!Q$23)*'Benzin - diesel - hybrid'!Q$14*'Benzin - diesel - hybrid'!Q$11/1000000,0)","v":0},{"$f":"T223*IF('Benzin - diesel - hybrid'!S$31=\"nej\",0,'Benzin - diesel - hybrid'!S$39)*(1+'Benzin - diesel - hybrid'!S$48)^-$C223","v":0},{"$f":"IFERROR(IF('Benzin - diesel - hybrid'!S$22=\"Nej\",'Benzin - diesel - hybrid'!S$25,'Benzin - diesel - hybrid'!S$23)*'Benzin - diesel - hybrid'!S$14*'Benzin - diesel - hybrid'!S$11/1000000,0)","v":0},{"$f":"V223*IF('Benzin - diesel - hybrid'!U$31=\"nej\",0,'Benzin - diesel - hybrid'!U$39)*(1+'Benzin - diesel - hybrid'!U$48)^-$C223","v":0},{"$f":"IFERROR(IF('Benzin - diesel - hybrid'!U$22=\"Nej\",'Benzin - diesel - hybrid'!U$25,'Benzin - diesel - hybrid'!U$23)*'Benzin - diesel - hybrid'!U$14*'Benzin - diesel - hybrid'!U$11/1000000,0)","v":0},{"$f":"X223*IF('Benzin - diesel - hybrid'!W$31=\"nej\",0,'Benzin - diesel - hybrid'!W$39)*(1+'Benzin - diesel - hybrid'!W$48)^-$C223","v":0},{"$f":"IFERROR(IF('Benzin - diesel - hybrid'!W$22=\"Nej\",'Benzin - diesel - hybrid'!W$25,'Benzin - diesel - hybrid'!W$23)*'Benzin - diesel - hybrid'!W$14*'Benzin - diesel - hybrid'!W$11/1000000,0)","v":0}]
[null,15,15,null,{"$f":"F224*IF('Benzin - diesel - hybrid'!E$31=\"nej\",0,'Benzin - diesel - hybrid'!E$39)*(1+'Benzin - diesel - hybrid'!E$48)^-$C224","v":0},{"$f":"IFERROR(IF('Benzin - diesel - hybrid'!E$22=\"Nej\",'Benzin - diesel - hybrid'!E$25,'Benzin - diesel - hybrid'!E$23)*'Benzin - diesel - hybrid'!E$14*'Benzin - diesel - hybrid'!E$11/1000000,0)","v":0},{"$f":"H224*IF('Benzin - diesel - hybrid'!G$31=\"nej\",0,'Benzin - diesel - hybrid'!G$39)*(1+'Benzin - diesel - hybrid'!G$48)^-$C224","v":0},{"$f":"IFERROR(IF('Benzin - diesel - hybrid'!G$22=\"Nej\",'Benzin - diesel - hybrid'!G$25,'Benzin - diesel - hybrid'!G$23)*'Benzin - diesel - hybrid'!G$14*'Benzin - diesel - hybrid'!G$11/1000000,0)","v":0},{"$f":"J224*IF('Benzin - diesel - hybrid'!I$31=\"nej\",0,'Benzin - diesel - hybrid'!I$39)*(1+'Benzin - diesel - hybrid'!I$48)^-$C224","v":0},{"$f":"IFERROR(IF('Benzin - diesel - hybrid'!I$22=\"Nej\",'Benzin - diesel - hybrid'!I$25,'Benzin - diesel - hybrid'!I$23)*'Benzin - diesel - hybrid'!I$14*'Benzin - diesel - hybrid'!I$11/1000000,0)","v":0},{"$f":"L224*IF('Benzin - diesel - hybrid'!K$31=\"nej\",0,'Benzin - diesel - hybrid'!K$39)*(1+'Benzin - diesel - hybrid'!K$48)^-$C224","v":0},{"$f":"IFERROR(IF('Benzin - diesel - hybrid'!K$22=\"Nej\",'Benzin - diesel - hybrid'!K$25,'Benzin - diesel - hybrid'!K$23)*'Benzin - diesel - hybrid'!K$14*'Benzin - diesel - hybrid'!K$11/1000000,0)","v":0},{"$f":"N224*IF('Benzin - diesel - hybrid'!M$31=\"nej\",0,'Benzin - diesel - hybrid'!M$39)*(1+'Benzin - diesel - hybrid'!M$48)^-$C224","v":0},{"$f":"IFERROR(IF('Benzin - diesel - hybrid'!M$22=\"Nej\",'Benzin - diesel - hybrid'!M$25,'Benzin - diesel - hybrid'!M$23)*'Benzin - diesel - hybrid'!M$14*'Benzin - diesel - hybrid'!M$11/1000000,0)","v":0},{"$f":"P224*IF('Benzin - diesel - hybrid'!O$31=\"nej\",0,'Benzin - diesel - hybrid'!O$39)*(1+'Benzin - diesel - hybrid'!O$48)^-$C224","v":0},{"$f":"IFERROR(IF('Benzin - diesel - hybrid'!O$22=\"Nej\",'Benzin - diesel - hybrid'!O$25,'Benzin - diesel - hybrid'!O$23)*'Benzin - diesel - hybrid'!O$14*'Benzin - diesel - hybrid'!O$11/1000000,0)","v":0},{"$f":"R224*IF('Benzin - diesel - hybrid'!Q$31=\"nej\",0,'Benzin - diesel - hybrid'!Q$39)*(1+'Benzin - diesel - hybrid'!Q$48)^-$C224","v":0},{"$f":"IFERROR(IF('Benzin - diesel - hybrid'!Q$22=\"Nej\",'Benzin - diesel - hybrid'!Q$25,'Benzin - diesel - hybrid'!Q$23)*'Benzin - diesel - hybrid'!Q$14*'Benzin - diesel - hybrid'!Q$11/1000000,0)","v":0},{"$f":"T224*IF('Benzin - diesel - hybrid'!S$31=\"nej\",0,'Benzin - diesel - hybrid'!S$39)*(1+'Benzin - diesel - hybrid'!S$48)^-$C224","v":0},{"$f":"IFERROR(IF('Benzin - diesel - hybrid'!S$22=\"Nej\",'Benzin - diesel - hybrid'!S$25,'Benzin - diesel - hybrid'!S$23)*'Benzin - diesel - hybrid'!S$14*'Benzin - diesel - hybrid'!S$11/1000000,0)","v":0},{"$f":"V224*IF('Benzin - diesel - hybrid'!U$31=\"nej\",0,'Benzin - diesel - hybrid'!U$39)*(1+'Benzin - diesel - hybrid'!U$48)^-$C224","v":0},{"$f":"IFERROR(IF('Benzin - diesel - hybrid'!U$22=\"Nej\",'Benzin - diesel - hybrid'!U$25,'Benzin - diesel - hybrid'!U$23)*'Benzin - diesel - hybrid'!U$14*'Benzin - diesel - hybrid'!U$11/1000000,0)","v":0},{"$f":"X224*IF('Benzin - diesel - hybrid'!W$31=\"nej\",0,'Benzin - diesel - hybrid'!W$39)*(1+'Benzin - diesel - hybrid'!W$48)^-$C224","v":0},{"$f":"IFERROR(IF('Benzin - diesel - hybrid'!W$22=\"Nej\",'Benzin - diesel - hybrid'!W$25,'Benzin - diesel - hybrid'!W$23)*'Benzin - diesel - hybrid'!W$14*'Benzin - diesel - hybrid'!W$11/1000000,0)","v":0}]
[null,16,16,null,{"$f":"F225*IF('Benzin - diesel - hybrid'!E$31=\"nej\",0,'Benzin - diesel - hybrid'!E$39)*(1+'Benzin - diesel - hybrid'!E$48)^-$C225","v":0},{"$f":"IFERROR(IF('Benzin - diesel - hybrid'!E$22=\"Nej\",'Benzin - diesel - hybrid'!E$25,'Benzin - diesel - hybrid'!E$23)*'Benzin - diesel - hybrid'!E$14*'Benzin - diesel - hybrid'!E$11/1000000,0)","v":0},{"$f":"H225*IF('Benzin - diesel - hybrid'!G$31=\"nej\",0,'Benzin - diesel - hybrid'!G$39)*(1+'Benzin - diesel - hybrid'!G$48)^-$C225","v":0},{"$f":"IFERROR(IF('Benzin - diesel - hybrid'!G$22=\"Nej\",'Benzin - diesel - hybrid'!G$25,'Benzin - diesel - hybrid'!G$23)*'Benzin - diesel - hybrid'!G$14*'Benzin - diesel - hybrid'!G$11/1000000,0)","v":0},{"$f":"J225*IF('Benzin - diesel - hybrid'!I$31=\"nej\",0,'Benzin - diesel - hybrid'!I$39)*(1+'Benzin - diesel - hybrid'!I$48)^-$C225","v":0},{"$f":"IFERROR(IF('Benzin - diesel - hybrid'!I$22=\"Nej\",'Benzin - diesel - hybrid'!I$25,'Benzin - diesel - hybrid'!I$23)*'Benzin - diesel - hybrid'!I$14*'Benzin - diesel - hybrid'!I$11/1000000,0)","v":0},{"$f":"L225*IF('Benzin - diesel - hybrid'!K$31=\"nej\",0,'Benzin - diesel - hybrid'!K$39)*(1+'Benzin - diesel - hybrid'!K$48)^-$C225","v":0},{"$f":"IFERROR(IF('Benzin - diesel - hybrid'!K$22=\"Nej\",'Benzin - diesel - hybrid'!K$25,'Benzin - diesel - hybrid'!K$23)*'Benzin - diesel - hybrid'!K$14*'Benzin - diesel - hybrid'!K$11/1000000,0)","v":0},{"$f":"N225*IF('Benzin - diesel - hybrid'!M$31=\"nej\",0,'Benzin - diesel - hybrid'!M$39)*(1+'Benzin - diesel - hybrid'!M$48)^-$C225","v":0},{"$f":"IFERROR(IF('Benzin - diesel - hybrid'!M$22=\"Nej\",'Benzin - diesel - hybrid'!M$25,'Benzin - diesel - hybrid'!M$23)*'Benzin - diesel - hybrid'!M$14*'Benzin - diesel - hybrid'!M$11/1000000,0)","v":0},{"$f":"P225*IF('Benzin - diesel - hybrid'!O$31=\"nej\",0,'Benzin - diesel - hybrid'!O$39)*(1+'Benzin - diesel - hybrid'!O$48)^-$C225","v":0},{"$f":"IFERROR(IF('Benzin - diesel - hybrid'!O$22=\"Nej\",'Benzin - diesel - hybrid'!O$25,'Benzin - diesel - hybrid'!O$23)*'Benzin - diesel - hybrid'!O$14*'Benzin - diesel - hybrid'!O$11/1000000,0)","v":0},{"$f":"R225*IF('Benzin - diesel - hybrid'!Q$31=\"nej\",0,'Benzin - diesel - hybrid'!Q$39)*(1+'Benzin - diesel - hybrid'!Q$48)^-$C225","v":0},{"$f":"IFERROR(IF('Benzin - diesel - hybrid'!Q$22=\"Nej\",'Benzin - diesel - hybrid'!Q$25,'Benzin - diesel - hybrid'!Q$23)*'Benzin - diesel - hybrid'!Q$14*'Benzin - diesel - hybrid'!Q$11/1000000,0)","v":0},{"$f":"T225*IF('Benzin - diesel - hybrid'!S$31=\"nej\",0,'Benzin - diesel - hybrid'!S$39)*(1+'Benzin - diesel - hybrid'!S$48)^-$C225","v":0},{"$f":"IFERROR(IF('Benzin - diesel - hybrid'!S$22=\"Nej\",'Benzin - diesel - hybrid'!S$25,'Benzin - diesel - hybrid'!S$23)*'Benzin - diesel - hybrid'!S$14*'Benzin - diesel - hybrid'!S$11/1000000,0)","v":0},{"$f":"V225*IF('Benzin - diesel - hybrid'!U$31=\"nej\",0,'Benzin - diesel - hybrid'!U$39)*(1+'Benzin - diesel - hybrid'!U$48)^-$C225","v":0},{"$f":"IFERROR(IF('Benzin - diesel - hybrid'!U$22=\"Nej\",'Benzin - diesel - hybrid'!U$25,'Benzin - diesel - hybrid'!U$23)*'Benzin - diesel - hybrid'!U$14*'Benzin - diesel - hybrid'!U$11/1000000,0)","v":0},{"$f":"X225*IF('Benzin - diesel - hybrid'!W$31=\"nej\",0,'Benzin - diesel - hybrid'!W$39)*(1+'Benzin - diesel - hybrid'!W$48)^-$C225","v":0},{"$f":"IFERROR(IF('Benzin - diesel - hybrid'!W$22=\"Nej\",'Benzin - diesel - hybrid'!W$25,'Benzin - diesel - hybrid'!W$23)*'Benzin - diesel - hybrid'!W$14*'Benzin - diesel - hybrid'!W$11/1000000,0)","v":0}]
[null,17,17,null,{"$f":"F226*IF('Benzin - diesel - hybrid'!E$31=\"nej\",0,'Benzin - diesel - hybrid'!E$39)*(1+'Benzin - diesel - hybrid'!E$48)^-$C226","v":0},{"$f":"IFERROR(IF('Benzin - diesel - hybrid'!E$22=\"Nej\",'Benzin - diesel - hybrid'!E$25,'Benzin - diesel - hybrid'!E$23)*'Benzin - diesel - hybrid'!E$14*'Benzin - diesel - hybrid'!E$11/1000000,0)","v":0},{"$f":"H226*IF('Benzin - diesel - hybrid'!G$31=\"nej\",0,'Benzin - diesel - hybrid'!G$39)*(1+'Benzin - diesel - hybrid'!G$48)^-$C226","v":0},{"$f":"IFERROR(IF('Benzin - diesel - hybrid'!G$22=\"Nej\",'Benzin - diesel - hybrid'!G$25,'Benzin - diesel - hybrid'!G$23)*'Benzin - diesel - hybrid'!G$14*'Benzin - diesel - hybrid'!G$11/1000000,0)","v":0},{"$f":"J226*IF('Benzin - diesel - hybrid'!I$31=\"nej\",0,'Benzin - diesel - hybrid'!I$39)*(1+'Benzin - diesel - hybrid'!I$48)^-$C226","v":0},{"$f":"IFERROR(IF('Benzin - diesel - hybrid'!I$22=\"Nej\",'Benzin - diesel - hybrid'!I$25,'Benzin - diesel - hybrid'!I$23)*'Benzin - diesel - hybrid'!I$14*'Benzin - diesel - hybrid'!I$11/1000000,0)","v":0},{"$f":"L226*IF('Benzin - diesel - hybrid'!K$31=\"nej\",0,'Benzin - diesel - hybrid'!K$39)*(1+'Benzin - diesel - hybrid'!K$48)^-$C226","v":0},{"$f":"IFERROR(IF('Benzin - diesel - hybrid'!K$22=\"Nej\",'Benzin - diesel - hybrid'!K$25,'Benzin - diesel - hybrid'!K$23)*'Benzin - diesel - hybrid'!K$14*'Benzin - diesel - hybrid'!K$11/1000000,0)","v":0},{"$f":"N226*IF('Benzin - diesel - hybrid'!M$31=\"nej\",0,'Benzin - diesel - hybrid'!M$39)*(1+'Benzin - diesel - hybrid'!M$48)^-$C226","v":0},{"$f":"IFERROR(IF('Benzin - diesel - hybrid'!M$22=\"Nej\",'Benzin - diesel - hybrid'!M$25,'Benzin - diesel - hybrid'!M$23)*'Benzin - diesel - hybrid'!M$14*'Benzin - diesel - hybrid'!M$11/1000000,0)","v":0},{"$f":"P226*IF('Benzin - diesel - hybrid'!O$31=\"nej\",0,'Benzin - diesel - hybrid'!O$39)*(1+'Benzin - diesel - hybrid'!O$48)^-$C226","v":0},{"$f":"IFERROR(IF('Benzin - diesel - hybrid'!O$22=\"Nej\",'Benzin - diesel - hybrid'!O$25,'Benzin - diesel - hybrid'!O$23)*'Benzin - diesel - hybrid'!O$14*'Benzin - diesel - hybrid'!O$11/1000000,0)","v":0},{"$f":"R226*IF('Benzin - diesel - hybrid'!Q$31=\"nej\",0,'Benzin - diesel - hybrid'!Q$39)*(1+'Benzin - diesel - hybrid'!Q$48)^-$C226","v":0},{"$f":"IFERROR(IF('Benzin - diesel - hybrid'!Q$22=\"Nej\",'Benzin - diesel - hybrid'!Q$25,'Benzin - diesel - hybrid'!Q$23)*'Benzin - diesel - hybrid'!Q$14*'Benzin - diesel - hybrid'!Q$11/1000000,0)","v":0},{"$f":"T226*IF('Benzin - diesel - hybrid'!S$31=\"nej\",0,'Benzin - diesel - hybrid'!S$39)*(1+'Benzin - diesel - hybrid'!S$48)^-$C226","v":0},{"$f":"IFERROR(IF('Benzin - diesel - hybrid'!S$22=\"Nej\",'Benzin - diesel - hybrid'!S$25,'Benzin - diesel - hybrid'!S$23)*'Benzin - diesel - hybrid'!S$14*'Benzin - diesel - hybrid'!S$11/1000000,0)","v":0},{"$f":"V226*IF('Benzin - diesel - hybrid'!U$31=\"nej\",0,'Benzin - diesel - hybrid'!U$39)*(1+'Benzin - diesel - hybrid'!U$48)^-$C226","v":0},{"$f":"IFERROR(IF('Benzin - diesel - hybrid'!U$22=\"Nej\",'Benzin - diesel - hybrid'!U$25,'Benzin - diesel - hybrid'!U$23)*'Benzin - diesel - hybrid'!U$14*'Benzin - diesel - hybrid'!U$11/1000000,0)","v":0},{"$f":"X226*IF('Benzin - diesel - hybrid'!W$31=\"nej\",0,'Benzin - diesel - hybrid'!W$39)*(1+'Benzin - diesel - hybrid'!W$48)^-$C226","v":0},{"$f":"IFERROR(IF('Benzin - diesel - hybrid'!W$22=\"Nej\",'Benzin - diesel - hybrid'!W$25,'Benzin - diesel - hybrid'!W$23)*'Benzin - diesel - hybrid'!W$14*'Benzin - diesel - hybrid'!W$11/1000000,0)","v":0}]
[null,18,18,null,{"$f":"F227*IF('Benzin - diesel - hybrid'!E$31=\"nej\",0,'Benzin - diesel - hybrid'!E$39)*(1+'Benzin - diesel - hybrid'!E$48)^-$C227","v":0},{"$f":"IFERROR(IF('Benzin - diesel - hybrid'!E$22=\"Nej\",'Benzin - diesel - hybrid'!E$25,'Benzin - diesel - hybrid'!E$23)*'Benzin - diesel - hybrid'!E$14*'Benzin - diesel - hybrid'!E$11/1000000,0)","v":0},{"$f":"H227*IF('Benzin - diesel - hybrid'!G$31=\"nej\",0,'Benzin - diesel - hybrid'!G$39)*(1+'Benzin - diesel - hybrid'!G$48)^-$C227","v":0},{"$f":"IFERROR(IF('Benzin - diesel - hybrid'!G$22=\"Nej\",'Benzin - diesel - hybrid'!G$25,'Benzin - diesel - hybrid'!G$23)*'Benzin - diesel - hybrid'!G$14*'Benzin - diesel - hybrid'!G$11/1000000,0)","v":0},{"$f":"J227*IF('Benzin - diesel - hybrid'!I$31=\"nej\",0,'Benzin - diesel - hybrid'!I$39)*(1+'Benzin - diesel - hybrid'!I$48)^-$C227","v":0},{"$f":"IFERROR(IF('Benzin - diesel - hybrid'!I$22=\"Nej\",'Benzin - diesel - hybrid'!I$25,'Benzin - diesel - hybrid'!I$23)*'Benzin - diesel - hybrid'!I$14*'Benzin - diesel - hybrid'!I$11/1000000,0)","v":0},{"$f":"L227*IF('Benzin - diesel - hybrid'!K$31=\"nej\",0,'Benzin - diesel - hybrid'!K$39)*(1+'Benzin - diesel - hybrid'!K$48)^-$C227","v":0},{"$f":"IFERROR(IF('Benzin - diesel - hybrid'!K$22=\"Nej\",'Benzin - diesel - hybrid'!K$25,'Benzin - diesel - hybrid'!K$23)*'Benzin - diesel - hybrid'!K$14*'Benzin - diesel - hybrid'!K$11/1000000,0)","v":0},{"$f":"N227*IF('Benzin - diesel - hybrid'!M$31=\"nej\",0,'Benzin - diesel - hybrid'!M$39)*(1+'Benzin - diesel - hybrid'!M$48)^-$C227","v":0},{"$f":"IFERROR(IF('Benzin - diesel - hybrid'!M$22=\"Nej\",'Benzin - diesel - hybrid'!M$25,'Benzin - diesel - hybrid'!M$23)*'Benzin - diesel - hybrid'!M$14*'Benzin - diesel - hybrid'!M$11/1000000,0)","v":0},{"$f":"P227*IF('Benzin - diesel - hybrid'!O$31=\"nej\",0,'Benzin - diesel - hybrid'!O$39)*(1+'Benzin - diesel - hybrid'!O$48)^-$C227","v":0},{"$f":"IFERROR(IF('Benzin - diesel - hybrid'!O$22=\"Nej\",'Benzin - diesel - hybrid'!O$25,'Benzin - diesel - hybrid'!O$23)*'Benzin - diesel - hybrid'!O$14*'Benzin - diesel - hybrid'!O$11/1000000,0)","v":0},{"$f":"R227*IF('Benzin - diesel - hybrid'!Q$31=\"nej\",0,'Benzin - diesel - hybrid'!Q$39)*(1+'Benzin - diesel - hybrid'!Q$48)^-$C227","v":0},{"$f":"IFERROR(IF('Benzin - diesel - hybrid'!Q$22=\"Nej\",'Benzin - diesel - hybrid'!Q$25,'Benzin - diesel - hybrid'!Q$23)*'Benzin - diesel - hybrid'!Q$14*'Benzin - diesel - hybrid'!Q$11/1000000,0)","v":0},{"$f":"T227*IF('Benzin - diesel - hybrid'!S$31=\"nej\",0,'Benzin - diesel - hybrid'!S$39)*(1+'Benzin - diesel - hybrid'!S$48)^-$C227","v":0},{"$f":"IFERROR(IF('Benzin - diesel - hybrid'!S$22=\"Nej\",'Benzin - diesel - hybrid'!S$25,'Benzin - diesel - hybrid'!S$23)*'Benzin - diesel - hybrid'!S$14*'Benzin - diesel - hybrid'!S$11/1000000,0)","v":0},{"$f":"V227*IF('Benzin - diesel - hybrid'!U$31=\"nej\",0,'Benzin - diesel - hybrid'!U$39)*(1+'Benzin - diesel - hybrid'!U$48)^-$C227","v":0},{"$f":"IFERROR(IF('Benzin - diesel - hybrid'!U$22=\"Nej\",'Benzin - diesel - hybrid'!U$25,'Benzin - diesel - hybrid'!U$23)*'Benzin - diesel - hybrid'!U$14*'Benzin - diesel - hybrid'!U$11/1000000,0)","v":0},{"$f":"X227*IF('Benzin - diesel - hybrid'!W$31=\"nej\",0,'Benzin - diesel - hybrid'!W$39)*(1+'Benzin - diesel - hybrid'!W$48)^-$C227","v":0},{"$f":"IFERROR(IF('Benzin - diesel - hybrid'!W$22=\"Nej\",'Benzin - diesel - hybrid'!W$25,'Benzin - diesel - hybrid'!W$23)*'Benzin - diesel - hybrid'!W$14*'Benzin - diesel - hybrid'!W$11/1000000,0)","v":0}]
[null,19,19,null,{"$f":"F228*IF('Benzin - diesel - hybrid'!E$31=\"nej\",0,'Benzin - diesel - hybrid'!E$39)*(1+'Benzin - diesel - hybrid'!E$48)^-$C228","v":0},{"$f":"IFERROR(IF('Benzin - diesel - hybrid'!E$22=\"Nej\",'Benzin - diesel - hybrid'!E$25,'Benzin - diesel - hybrid'!E$23)*'Benzin - diesel - hybrid'!E$14*'Benzin - diesel - hybrid'!E$11/1000000,0)","v":0},{"$f":"H228*IF('Benzin - diesel - hybrid'!G$31=\"nej\",0,'Benzin - diesel - hybrid'!G$39)*(1+'Benzin - diesel - hybrid'!G$48)^-$C228","v":0},{"$f":"IFERROR(IF('Benzin - diesel - hybrid'!G$22=\"Nej\",'Benzin - diesel - hybrid'!G$25,'Benzin - diesel - hybrid'!G$23)*'Benzin - diesel - hybrid'!G$14*'Benzin - diesel - hybrid'!G$11/1000000,0)","v":0},{"$f":"J228*IF('Benzin - diesel - hybrid'!I$31=\"nej\",0,'Benzin - diesel - hybrid'!I$39)*(1+'Benzin - diesel - hybrid'!I$48)^-$C228","v":0},{"$f":"IFERROR(IF('Benzin - diesel - hybrid'!I$22=\"Nej\",'Benzin - diesel - hybrid'!I$25,'Benzin - diesel - hybrid'!I$23)*'Benzin - diesel - hybrid'!I$14*'Benzin - diesel - hybrid'!I$11/1000000,0)","v":0},{"$f":"L228*IF('Benzin - diesel - hybrid'!K$31=\"nej\",0,'Benzin - diesel - hybrid'!K$39)*(1+'Benzin - diesel - hybrid'!K$48)^-$C228","v":0},{"$f":"IFERROR(IF('Benzin - diesel - hybrid'!K$22=\"Nej\",'Benzin - diesel - hybrid'!K$25,'Benzin - diesel - hybrid'!K$23)*'Benzin - diesel - hybrid'!K$14*'Benzin - diesel - hybrid'!K$11/1000000,0)","v":0},{"$f":"N228*IF('Benzin - diesel - hybrid'!M$31=\"nej\",0,'Benzin - diesel - hybrid'!M$39)*(1+'Benzin - diesel - hybrid'!M$48)^-$C228","v":0},{"$f":"IFERROR(IF('Benzin - diesel - hybrid'!M$22=\"Nej\",'Benzin - diesel - hybrid'!M$25,'Benzin - diesel - hybrid'!M$23)*'Benzin - diesel - hybrid'!M$14*'Benzin - diesel - hybrid'!M$11/1000000,0)","v":0},{"$f":"P228*IF('Benzin - diesel - hybrid'!O$31=\"nej\",0,'Benzin - diesel - hybrid'!O$39)*(1+'Benzin - diesel - hybrid'!O$48)^-$C228","v":0},{"$f":"IFERROR(IF('Benzin - diesel - hybrid'!O$22=\"Nej\",'Benzin - diesel - hybrid'!O$25,'Benzin - diesel - hybrid'!O$23)*'Benzin - diesel - hybrid'!O$14*'Benzin - diesel - hybrid'!O$11/1000000,0)","v":0},{"$f":"R228*IF('Benzin - diesel - hybrid'!Q$31=\"nej\",0,'Benzin - diesel - hybrid'!Q$39)*(1+'Benzin - diesel - hybrid'!Q$48)^-$C228","v":0},{"$f":"IFERROR(IF('Benzin - diesel - hybrid'!Q$22=\"Nej\",'Benzin - diesel - hybrid'!Q$25,'Benzin - diesel - hybrid'!Q$23)*'Benzin - diesel - hybrid'!Q$14*'Benzin - diesel - hybrid'!Q$11/1000000,0)","v":0},{"$f":"T228*IF('Benzin - diesel - hybrid'!S$31=\"nej\",0,'Benzin - diesel - hybrid'!S$39)*(1+'Benzin - diesel - hybrid'!S$48)^-$C228","v":0},{"$f":"IFERROR(IF('Benzin - diesel - hybrid'!S$22=\"Nej\",'Benzin - diesel - hybrid'!S$25,'Benzin - diesel - hybrid'!S$23)*'Benzin - diesel - hybrid'!S$14*'Benzin - diesel - hybrid'!S$11/1000000,0)","v":0},{"$f":"V228*IF('Benzin - diesel - hybrid'!U$31=\"nej\",0,'Benzin - diesel - hybrid'!U$39)*(1+'Benzin - diesel - hybrid'!U$48)^-$C228","v":0},{"$f":"IFERROR(IF('Benzin - diesel - hybrid'!U$22=\"Nej\",'Benzin - diesel - hybrid'!U$25,'Benzin - diesel - hybrid'!U$23)*'Benzin - diesel - hybrid'!U$14*'Benzin - diesel - hybrid'!U$11/1000000,0)","v":0},{"$f":"X228*IF('Benzin - diesel - hybrid'!W$31=\"nej\",0,'Benzin - diesel - hybrid'!W$39)*(1+'Benzin - diesel - hybrid'!W$48)^-$C228","v":0},{"$f":"IFERROR(IF('Benzin - diesel - hybrid'!W$22=\"Nej\",'Benzin - diesel - hybrid'!W$25,'Benzin - diesel - hybrid'!W$23)*'Benzin - diesel - hybrid'!W$14*'Benzin - diesel - hybrid'!W$11/1000000,0)","v":0}]
[null,20,20,null,{"$f":"F229*IF('Benzin - diesel - hybrid'!E$31=\"nej\",0,'Benzin - diesel - hybrid'!E$39)*(1+'Benzin - diesel - hybrid'!E$48)^-$C229","v":0},{"$f":"IFERROR(IF('Benzin - diesel - hybrid'!E$22=\"Nej\",'Benzin - diesel - hybrid'!E$25,'Benzin - diesel - hybrid'!E$23)*'Benzin - diesel - hybrid'!E$14*'Benzin - diesel - hybrid'!E$11/1000000,0)","v":0},{"$f":"H229*IF('Benzin - diesel - hybrid'!G$31=\"nej\",0,'Benzin - diesel - hybrid'!G$39)*(1+'Benzin - diesel - hybrid'!G$48)^-$C229","v":0},{"$f":"IFERROR(IF('Benzin - diesel - hybrid'!G$22=\"Nej\",'Benzin - diesel - hybrid'!G$25,'Benzin - diesel - hybrid'!G$23)*'Benzin - diesel - hybrid'!G$14*'Benzin - diesel - hybrid'!G$11/1000000,0)","v":0},{"$f":"J229*IF('Benzin - diesel - hybrid'!I$31=\"nej\",0,'Benzin - diesel - hybrid'!I$39)*(1+'Benzin - diesel - hybrid'!I$48)^-$C229","v":0},{"$f":"IFERROR(IF('Benzin - diesel - hybrid'!I$22=\"Nej\",'Benzin - diesel - hybrid'!I$25,'Benzin - diesel - hybrid'!I$23)*'Benzin - diesel - hybrid'!I$14*'Benzin - diesel - hybrid'!I$11/1000000,0)","v":0},{"$f":"L229*IF('Benzin - diesel - hybrid'!K$31=\"nej\",0,'Benzin - diesel - hybrid'!K$39)*(1+'Benzin - diesel - hybrid'!K$48)^-$C229","v":0},{"$f":"IFERROR(IF('Benzin - diesel - hybrid'!K$22=\"Nej\",'Benzin - diesel - hybrid'!K$25,'Benzin - diesel - hybrid'!K$23)*'Benzin - diesel - hybrid'!K$14*'Benzin - diesel - hybrid'!K$11/1000000,0)","v":0},{"$f":"N229*IF('Benzin - diesel - hybrid'!M$31=\"nej\",0,'Benzin - diesel - hybrid'!M$39)*(1+'Benzin - diesel - hybrid'!M$48)^-$C229","v":0},{"$f":"IFERROR(IF('Benzin - diesel - hybrid'!M$22=\"Nej\",'Benzin - diesel - hybrid'!M$25,'Benzin - diesel - hybrid'!M$23)*'Benzin - diesel - hybrid'!M$14*'Benzin - diesel - hybrid'!M$11/1000000,0)","v":0},{"$f":"P229*IF('Benzin - diesel - hybrid'!O$31=\"nej\",0,'Benzin - diesel - hybrid'!O$39)*(1+'Benzin - diesel - hybrid'!O$48)^-$C229","v":0},{"$f":"IFERROR(IF('Benzin - diesel - hybrid'!O$22=\"Nej\",'Benzin - diesel - hybrid'!O$25,'Benzin - diesel - hybrid'!O$23)*'Benzin - diesel - hybrid'!O$14*'Benzin - diesel - hybrid'!O$11/1000000,0)","v":0},{"$f":"R229*IF('Benzin - diesel - hybrid'!Q$31=\"nej\",0,'Benzin - diesel - hybrid'!Q$39)*(1+'Benzin - diesel - hybrid'!Q$48)^-$C229","v":0},{"$f":"IFERROR(IF('Benzin - diesel - hybrid'!Q$22=\"Nej\",'Benzin - diesel - hybrid'!Q$25,'Benzin - diesel - hybrid'!Q$23)*'Benzin - diesel - hybrid'!Q$14*'Benzin - diesel - hybrid'!Q$11/1000000,0)","v":0},{"$f":"T229*IF('Benzin - diesel - hybrid'!S$31=\"nej\",0,'Benzin - diesel - hybrid'!S$39)*(1+'Benzin - diesel - hybrid'!S$48)^-$C229","v":0},{"$f":"IFERROR(IF('Benzin - diesel - hybrid'!S$22=\"Nej\",'Benzin - diesel - hybrid'!S$25,'Benzin - diesel - hybrid'!S$23)*'Benzin - diesel - hybrid'!S$14*'Benzin - diesel - hybrid'!S$11/1000000,0)","v":0},{"$f":"V229*IF('Benzin - diesel - hybrid'!U$31=\"nej\",0,'Benzin - diesel - hybrid'!U$39)*(1+'Benzin - diesel - hybrid'!U$48)^-$C229","v":0},{"$f":"IFERROR(IF('Benzin - diesel - hybrid'!U$22=\"Nej\",'Benzin - diesel - hybrid'!U$25,'Benzin - diesel - hybrid'!U$23)*'Benzin - diesel - hybrid'!U$14*'Benzin - diesel - hybrid'!U$11/1000000,0)","v":0},{"$f":"X229*IF('Benzin - diesel - hybrid'!W$31=\"nej\",0,'Benzin - diesel - hybrid'!W$39)*(1+'Benzin - diesel - hybrid'!W$48)^-$C229","v":0},{"$f":"IFERROR(IF('Benzin - diesel - hybrid'!W$22=\"Nej\",'Benzin - diesel - hybrid'!W$25,'Benzin - diesel - hybrid'!W$23)*'Benzin - diesel - hybrid'!W$14*'Benzin - diesel - hybrid'!W$11/1000000,0)","v":0}]
[]
[]
["Eksternalitetsmodul - Samfundsøkonomiske omkostninger (kr.)",null,null,null,"Udregninger partikler (PM)"]
[null,"År indeks",null,"TCO-evalueringsperiode",{"$f":"'Benzin - diesel - hybrid'!E8&\" - Samfundsøkonomiske omkostninger (kr.)\"","v":"PRODUKT 1 - Samfundsøkonomiske omkostninger (kr.)"},{"$f":"'Benzin - diesel - hybrid'!E8&\" - Samlet udledning i kg PM\"","v":"PRODUKT 1 - Samlet udledning i kg PM"},{"$f":"'Benzin - diesel - hybrid'!G8&\" - Samfundsøkonomiske omkostninger (kr.)\"","v":"PRODUKT 2 - Samfundsøkonomiske omkostninger (kr.)"},{"$f":"'Benzin - diesel - hybrid'!G8&\" - Samlet udledning i kg PM\"","v":"PRODUKT 2 - Samlet udledning i kg PM"},{"$f":"'Benzin - diesel - hybrid'!I8&\" - Samfundsøkonomiske omkostninger (kr.)\"","v":"PRODUKT 3 - Samfundsøkonomiske omkostninger (kr.)"},{"$f":"'Benzin - diesel - hybrid'!I8&\" - Samlet udledning i kg PM\"","v":"PRODUKT 3 - Samlet udledning i kg PM"},{"$f":"'Benzin - diesel - hybrid'!K8&\" - Samfundsøkonomiske omkostninger (kr.)\"","v":"PRODUKT 4 - Samfundsøkonomiske omkostninger (kr.)"},{"$f":"'Benzin - diesel - hybrid'!K8&\" - Samlet udledning i kg PM\"","v":"PRODUKT 4 - Samlet udledning i kg PM"},{"$f":"'Benzin - diesel - hybrid'!M8&\" - Samfundsøkonomiske omkostninger (kr.)\"","v":"PRODUKT 5 - Samfundsøkonomiske omkostninger (kr.)"},{"$f":"'Benzin - diesel - hybrid'!M8&\" - Samlet udledning i kg PM\"","v":"PRODUKT 5 - Samlet udledning i kg PM"},{"$f":"'Benzin - diesel - hybrid'!O8&\" - Samfundsøkonomiske omkostninger (kr.)\"","v":"PRODUKT 6 - Samfundsøkonomiske omkostninger (kr.)"},{"$f":"'Benzin - diesel - hybrid'!O8&\" - Samlet udledning i kg PM\"","v":"PRODUKT 6 - Samlet udledning i kg PM"},{"$f":"'Benzin - diesel - hybrid'!Q8&\" - Samfundsøkonomiske omkostninger (kr.)\"","v":"PRODUKT 7 - Samfundsøkonomiske omkostninger (kr.)"},{"$f":"'Benzin - diesel - hybrid'!Q8&\" - Samlet udledning i kg PM\"","v":"PRODUKT 7 - Samlet udledning i kg PM"},{"$f":"'Benzin - diesel - hybrid'!S8&\" - Samfundsøkonomiske omkostninger (kr.)\"","v":"PRODUKT 8 - Samfundsøkonomiske omkostninger (kr.)"},{"$f":"'Benzin - diesel - hybrid'!S8&\" - Samlet udledning i kg PM\"","v":"PRODUKT 8 - Samlet udledning i kg PM"},{"$f":"'Benzin - diesel - hybrid'!U8&\" - Samfundsøkonomiske omkostninger (kr.)\"","v":"PRODUKT 9 - Samfundsøkonomiske omkostninger (kr.)"},{"$f":"'Benzin - diesel - hybrid'!U8&\" - Samlet udledning i kg PM\"","v":"PRODUKT 9 - Samlet udledning i kg PM"},{"$f":"'Benzin - diesel - hybrid'!W8&\" - Samfundsøkonomiske omkostninger (kr.)\"","v":"PRODUKT 10 - Samfundsøkonomiske omkostninger (kr.)"},{"$f":"'Benzin - diesel - hybrid'!W8&\" - Samlet udledning i kg PM\"","v":"PRODUKT 10 - Samlet udledning i kg PM"}]
[null,1,{"$f":"B234","v":1},null,{"$f":"F234*IF('Benzin - diesel - hybrid'!E$31=\"nej\",0,'Benzin - diesel - hybrid'!E$40)*(1+'Benzin - diesel - hybrid'!E$48)^-$C234","v":0},{"$f":"IFERROR(IF('Benzin - diesel - hybrid'!E$22=\"Nej\",'Benzin - diesel - hybrid'!E$26,'Benzin - diesel - hybrid'!E$24)*'Benzin - diesel - hybrid'!E$14*'Benzin - diesel - hybrid'!E$11/1000000,0)","v":0},{"$f":"H234*IF('Benzin - diesel - hybrid'!G$31=\"nej\",0,'Benzin - diesel - hybrid'!G$40)*(1+'Benzin - diesel - hybrid'!G$48)^-$C234","v":0},{"$f":"IFERROR(IF('Benzin - diesel - hybrid'!G$22=\"Nej\",'Benzin - diesel - hybrid'!G$26,'Benzin - diesel - hybrid'!G$24)*'Benzin - diesel - hybrid'!G$14*'Benzin - diesel - hybrid'!G$11/1000000,0)","v":0},{"$f":"J234*IF('Benzin - diesel - hybrid'!I$31=\"nej\",0,'Benzin - diesel - hybrid'!I$40)*(1+'Benzin - diesel - hybrid'!I$48)^-$C234","v":0},{"$f":"IFERROR(IF('Benzin - diesel - hybrid'!I$22=\"Nej\",'Benzin - diesel - hybrid'!I$26,'Benzin - diesel - hybrid'!I$24)*'Benzin - diesel - hybrid'!I$14*'Benzin - diesel - hybrid'!I$11/1000000,0)","v":0},{"$f":"L234*IF('Benzin - diesel - hybrid'!K$31=\"nej\",0,'Benzin - diesel - hybrid'!K$40)*(1+'Benzin - diesel - hybrid'!K$48)^-$C234","v":0},{"$f":"IFERROR(IF('Benzin - diesel - hybrid'!K$22=\"Nej\",'Benzin - diesel - hybrid'!K$26,'Benzin - diesel - hybrid'!K$24)*'Benzin - diesel - hybrid'!K$14*'Benzin - diesel - hybrid'!K$11/1000000,0)","v":0},{"$f":"N234*IF('Benzin - diesel - hybrid'!M$31=\"nej\",0,'Benzin - diesel - hybrid'!M$40)*(1+'Benzin - diesel - hybrid'!M$48)^-$C234","v":0},{"$f":"IFERROR(IF('Benzin - diesel - hybrid'!M$22=\"Nej\",'Benzin - diesel - hybrid'!M$26,'Benzin - diesel - hybrid'!M$24)*'Benzin - diesel - hybrid'!M$14*'Benzin - diesel - hybrid'!M$11/1000000,0)","v":0},{"$f":"P234*IF('Benzin - diesel - hybrid'!O$31=\"nej\",0,'Benzin - diesel - hybrid'!O$40)*(1+'Benzin - diesel - hybrid'!O$48)^-$C234","v":0},{"$f":"IFERROR(IF('Benzin - diesel - hybrid'!O$22=\"Nej\",'Benzin - diesel - hybrid'!O$26,'Benzin - diesel - hybrid'!O$24)*'Benzin - diesel - hybrid'!O$14*'Benzin - diesel - hybrid'!O$11/1000000,0)","v":0},{"$f":"R234*IF('Benzin - diesel - hybrid'!Q$31=\"nej\",0,'Benzin - diesel - hybrid'!Q$40)*(1+'Benzin - diesel - hybrid'!Q$48)^-$C234","v":0},{"$f":"IFERROR(IF('Benzin - diesel - hybrid'!Q$22=\"Nej\",'Benzin - diesel - hybrid'!Q$26,'Benzin - diesel - hybrid'!Q$24)*'Benzin - diesel - hybrid'!Q$14*'Benzin - diesel - hybrid'!Q$11/1000000,0)","v":0},{"$f":"T234*IF('Benzin - diesel - hybrid'!S$31=\"nej\",0,'Benzin - diesel - hybrid'!S$40)*(1+'Benzin - diesel - hybrid'!S$48)^-$C234","v":0},{"$f":"IFERROR(IF('Benzin - diesel - hybrid'!S$22=\"Nej\",'Benzin - diesel - hybrid'!S$26,'Benzin - diesel - hybrid'!S$24)*'Benzin - diesel - hybrid'!S$14*'Benzin - diesel - hybrid'!S$11/1000000,0)","v":0},{"$f":"V234*IF('Benzin - diesel - hybrid'!U$31=\"nej\",0,'Benzin - diesel - hybrid'!U$40)*(1+'Benzin - diesel - hybrid'!U$48)^-$C234","v":0},{"$f":"IFERROR(IF('Benzin - diesel - hybrid'!U$22=\"Nej\",'Benzin - diesel - hybrid'!U$26,'Benzin - diesel - hybrid'!U$24)*'Benzin - diesel - hybrid'!U$14*'Benzin - diesel - hybrid'!U$11/1000000,0)","v":0},{"$f":"X234*IF('Benzin - diesel - hybrid'!W$31=\"nej\",0,'Benzin - diesel - hybrid'!W$40)*(1+'Benzin - diesel - hybrid'!W$48)^-$C234","v":0},{"$f":"IFERROR(IF('Benzin - diesel - hybrid'!W$22=\"Nej\",'Benzin - diesel - hybrid'!W$26,'Benzin - diesel - hybrid'!W$24)*'Benzin - diesel - hybrid'!W$14*'Benzin - diesel - hybrid'!W$11/1000000,0)","v":0}]
[null,2,{"$f":"B235","v":2},null,{"$f":"F235*IF('Benzin - diesel - hybrid'!E$31=\"nej\",0,'Benzin - diesel - hybrid'!E$40)*(1+'Benzin - diesel - hybrid'!E$48)^-$C235","v":0},{"$f":"IFERROR(IF('Benzin - diesel - hybrid'!E$22=\"Nej\",'Benzin - diesel - hybrid'!E$26,'Benzin - diesel - hybrid'!E$24)*'Benzin - diesel - hybrid'!E$14*'Benzin - diesel - hybrid'!E$11/1000000,0)","v":0},{"$f":"H235*IF('Benzin - diesel - hybrid'!G$31=\"nej\",0,'Benzin - diesel - hybrid'!G$40)*(1+'Benzin - diesel - hybrid'!G$48)^-$C235","v":0},{"$f":"IFERROR(IF('Benzin - diesel - hybrid'!G$22=\"Nej\",'Benzin - diesel - hybrid'!G$26,'Benzin - diesel - hybrid'!G$24)*'Benzin - diesel - hybrid'!G$14*'Benzin - diesel - hybrid'!G$11/1000000,0)","v":0},{"$f":"J235*IF('Benzin - diesel - hybrid'!I$31=\"nej\",0,'Benzin - diesel - hybrid'!I$40)*(1+'Benzin - diesel - hybrid'!I$48)^-$C235","v":0},{"$f":"IFERROR(IF('Benzin - diesel - hybrid'!I$22=\"Nej\",'Benzin - diesel - hybrid'!I$26,'Benzin - diesel - hybrid'!I$24)*'Benzin - diesel - hybrid'!I$14*'Benzin - diesel - hybrid'!I$11/1000000,0)","v":0},{"$f":"L235*IF('Benzin - diesel - hybrid'!K$31=\"nej\",0,'Benzin - diesel - hybrid'!K$40)*(1+'Benzin - diesel - hybrid'!K$48)^-$C235","v":0},{"$f":"IFERROR(IF('Benzin - diesel - hybrid'!K$22=\"Nej\",'Benzin - diesel - hybrid'!K$26,'Benzin - diesel - hybrid'!K$24)*'Benzin - diesel - hybrid'!K$14*'Benzin - diesel - hybrid'!K$11/1000000,0)","v":0},{"$f":"N235*IF('Benzin - diesel - hybrid'!M$31=\"nej\",0,'Benzin - diesel - hybrid'!M$40)*(1+'Benzin - diesel - hybrid'!M$48)^-$C235","v":0},{"$f":"IFERROR(IF('Benzin - diesel - hybrid'!M$22=\"Nej\",'Benzin - diesel - hybrid'!M$26,'Benzin - diesel - hybrid'!M$24)*'Benzin - diesel - hybrid'!M$14*'Benzin - diesel - hybrid'!M$11/1000000,0)","v":0},{"$f":"P235*IF('Benzin - diesel - hybrid'!O$31=\"nej\",0,'Benzin - diesel - hybrid'!O$40)*(1+'Benzin - diesel - hybrid'!O$48)^-$C235","v":0},{"$f":"IFERROR(IF('Benzin - diesel - hybrid'!O$22=\"Nej\",'Benzin - diesel - hybrid'!O$26,'Benzin - diesel - hybrid'!O$24)*'Benzin - diesel - hybrid'!O$14*'Benzin - diesel - hybrid'!O$11/1000000,0)","v":0},{"$f":"R235*IF('Benzin - diesel - hybrid'!Q$31=\"nej\",0,'Benzin - diesel - hybrid'!Q$40)*(1+'Benzin - diesel - hybrid'!Q$48)^-$C235","v":0},{"$f":"IFERROR(IF('Benzin - diesel - hybrid'!Q$22=\"Nej\",'Benzin - diesel - hybrid'!Q$26,'Benzin - diesel - hybrid'!Q$24)*'Benzin - diesel - hybrid'!Q$14*'Benzin - diesel - hybrid'!Q$11/1000000,0)","v":0},{"$f":"T235*IF('Benzin - diesel - hybrid'!S$31=\"nej\",0,'Benzin - diesel - hybrid'!S$40)*(1+'Benzin - diesel - hybrid'!S$48)^-$C235","v":0},{"$f":"IFERROR(IF('Benzin - diesel - hybrid'!S$22=\"Nej\",'Benzin - diesel - hybrid'!S$26,'Benzin - diesel - hybrid'!S$24)*'Benzin - diesel - hybrid'!S$14*'Benzin - diesel - hybrid'!S$11/1000000,0)","v":0},{"$f":"V235*IF('Benzin - diesel - hybrid'!U$31=\"nej\",0,'Benzin - diesel - hybrid'!U$40)*(1+'Benzin - diesel - hybrid'!U$48)^-$C235","v":0},{"$f":"IFERROR(IF('Benzin - diesel - hybrid'!U$22=\"Nej\",'Benzin - diesel - hybrid'!U$26,'Benzin - diesel - hybrid'!U$24)*'Benzin - diesel - hybrid'!U$14*'Benzin - diesel - hybrid'!U$11/1000000,0)","v":0},{"$f":"X235*IF('Benzin - diesel - hybrid'!W$31=\"nej\",0,'Benzin - diesel - hybrid'!W$40)*(1+'Benzin - diesel - hybrid'!W$48)^-$C235","v":0},{"$f":"IFERROR(IF('Benzin - diesel - hybrid'!W$22=\"Nej\",'Benzin - diesel - hybrid'!W$26,'Benzin - diesel - hybrid'!W$24)*'Benzin - diesel - hybrid'!W$14*'Benzin - diesel - hybrid'!W$11/1000000,0)","v":0}]
[null,3,3,null,{"$f":"F236*IF('Benzin - diesel - hybrid'!E$31=\"nej\",0,'Benzin - diesel - hybrid'!E$40)*(1+'Benzin - diesel - hybrid'!E$48)^-$C236","v":0},{"$f":"IFERROR(IF('Benzin - diesel - hybrid'!E$22=\"Nej\",'Benzin - diesel - hybrid'!E$26,'Benzin - diesel - hybrid'!E$24)*'Benzin - diesel - hybrid'!E$14*'Benzin - diesel - hybrid'!E$11/1000000,0)","v":0},{"$f":"H236*IF('Benzin - diesel - hybrid'!G$31=\"nej\",0,'Benzin - diesel - hybrid'!G$40)*(1+'Benzin - diesel - hybrid'!G$48)^-$C236","v":0},{"$f":"IFERROR(IF('Benzin - diesel - hybrid'!G$22=\"Nej\",'Benzin - diesel - hybrid'!G$26,'Benzin - diesel - hybrid'!G$24)*'Benzin - diesel - hybrid'!G$14*'Benzin - diesel - hybrid'!G$11/1000000,0)","v":0},{"$f":"J236*IF('Benzin - diesel - hybrid'!I$31=\"nej\",0,'Benzin - diesel - hybrid'!I$40)*(1+'Benzin - diesel - hybrid'!I$48)^-$C236","v":0},{"$f":"IFERROR(IF('Benzin - diesel - hybrid'!I$22=\"Nej\",'Benzin - diesel - hybrid'!I$26,'Benzin - diesel - hybrid'!I$24)*'Benzin - diesel - hybrid'!I$14*'Benzin - diesel - hybrid'!I$11/1000000,0)","v":0},{"$f":"L236*IF('Benzin - diesel - hybrid'!K$31=\"nej\",0,'Benzin - diesel - hybrid'!K$40)*(1+'Benzin - diesel - hybrid'!K$48)^-$C236","v":0},{"$f":"IFERROR(IF('Benzin - diesel - hybrid'!K$22=\"Nej\",'Benzin - diesel - hybrid'!K$26,'Benzin - diesel - hybrid'!K$24)*'Benzin - diesel - hybrid'!K$14*'Benzin - diesel - hybrid'!K$11/1000000,0)","v":0},{"$f":"N236*IF('Benzin - diesel - hybrid'!M$31=\"nej\",0,'Benzin - diesel - hybrid'!M$40)*(1+'Benzin - diesel - hybrid'!M$48)^-$C236","v":0},{"$f":"IFERROR(IF('Benzin - diesel - hybrid'!M$22=\"Nej\",'Benzin - diesel - hybrid'!M$26,'Benzin - diesel - hybrid'!M$24)*'Benzin - diesel - hybrid'!M$14*'Benzin - diesel - hybrid'!M$11/1000000,0)","v":0},{"$f":"P236*IF('Benzin - diesel - hybrid'!O$31=\"nej\",0,'Benzin - diesel - hybrid'!O$40)*(1+'Benzin - diesel - hybrid'!O$48)^-$C236","v":0},{"$f":"IFERROR(IF('Benzin - diesel - hybrid'!O$22=\"Nej\",'Benzin - diesel - hybrid'!O$26,'Benzin - diesel - hybrid'!O$24)*'Benzin - diesel - hybrid'!O$14*'Benzin - diesel - hybrid'!O$11/1000000,0)","v":0},{"$f":"R236*IF('Benzin - diesel - hybrid'!Q$31=\"nej\",0,'Benzin - diesel - hybrid'!Q$40)*(1+'Benzin - diesel - hybrid'!Q$48)^-$C236","v":0},{"$f":"IFERROR(IF('Benzin - diesel - hybrid'!Q$22=\"Nej\",'Benzin - diesel - hybrid'!Q$26,'Benzin - diesel - hybrid'!Q$24)*'Benzin - diesel - hybrid'!Q$14*'Benzin - diesel - hybrid'!Q$11/1000000,0)","v":0},{"$f":"T236*IF('Benzin - diesel - hybrid'!S$31=\"nej\",0,'Benzin - diesel - hybrid'!S$40)*(1+'Benzin - diesel - hybrid'!S$48)^-$C236","v":0},{"$f":"IFERROR(IF('Benzin - diesel - hybrid'!S$22=\"Nej\",'Benzin - diesel - hybrid'!S$26,'Benzin - diesel - hybrid'!S$24)*'Benzin - diesel - hybrid'!S$14*'Benzin - diesel - hybrid'!S$11/1000000,0)","v":0},{"$f":"V236*IF('Benzin - diesel - hybrid'!U$31=\"nej\",0,'Benzin - diesel - hybrid'!U$40)*(1+'Benzin - diesel - hybrid'!U$48)^-$C236","v":0},{"$f":"IFERROR(IF('Benzin - diesel - hybrid'!U$22=\"Nej\",'Benzin - diesel - hybrid'!U$26,'Benzin - diesel - hybrid'!U$24)*'Benzin - diesel - hybrid'!U$14*'Benzin - diesel - hybrid'!U$11/1000000,0)","v":0},{"$f":"X236*IF('Benzin - diesel - hybrid'!W$31=\"nej\",0,'Benzin - diesel - hybrid'!W$40)*(1+'Benzin - diesel - hybrid'!W$48)^-$C236","v":0},{"$f":"IFERROR(IF('Benzin - diesel - hybrid'!W$22=\"Nej\",'Benzin - diesel - hybrid'!W$26,'Benzin - diesel - hybrid'!W$24)*'Benzin - diesel - hybrid'!W$14*'Benzin - diesel - hybrid'!W$11/1000000,0)","v":0}]
[null,4,4,null,{"$f":"F237*IF('Benzin - diesel - hybrid'!E$31=\"nej\",0,'Benzin - diesel - hybrid'!E$40)*(1+'Benzin - diesel - hybrid'!E$48)^-$C237","v":0},{"$f":"IFERROR(IF('Benzin - diesel - hybrid'!E$22=\"Nej\",'Benzin - diesel - hybrid'!E$26,'Benzin - diesel - hybrid'!E$24)*'Benzin - diesel - hybrid'!E$14*'Benzin - diesel - hybrid'!E$11/1000000,0)","v":0},{"$f":"H237*IF('Benzin - diesel - hybrid'!G$31=\"nej\",0,'Benzin - diesel - hybrid'!G$40)*(1+'Benzin - diesel - hybrid'!G$48)^-$C237","v":0},{"$f":"IFERROR(IF('Benzin - diesel - hybrid'!G$22=\"Nej\",'Benzin - diesel - hybrid'!G$26,'Benzin - diesel - hybrid'!G$24)*'Benzin - diesel - hybrid'!G$14*'Benzin - diesel - hybrid'!G$11/1000000,0)","v":0},{"$f":"J237*IF('Benzin - diesel - hybrid'!I$31=\"nej\",0,'Benzin - diesel - hybrid'!I$40)*(1+'Benzin - diesel - hybrid'!I$48)^-$C237","v":0},{"$f":"IFERROR(IF('Benzin - diesel - hybrid'!I$22=\"Nej\",'Benzin - diesel - hybrid'!I$26,'Benzin - diesel - hybrid'!I$24)*'Benzin - diesel - hybrid'!I$14*'Benzin - diesel - hybrid'!I$11/1000000,0)","v":0},{"$f":"L237*IF('Benzin - diesel - hybrid'!K$31=\"nej\",0,'Benzin - diesel - hybrid'!K$40)*(1+'Benzin - diesel - hybrid'!K$48)^-$C237","v":0},{"$f":"IFERROR(IF('Benzin - diesel - hybrid'!K$22=\"Nej\",'Benzin - diesel - hybrid'!K$26,'Benzin - diesel - hybrid'!K$24)*'Benzin - diesel - hybrid'!K$14*'Benzin - diesel - hybrid'!K$11/1000000,0)","v":0},{"$f":"N237*IF('Benzin - diesel - hybrid'!M$31=\"nej\",0,'Benzin - diesel - hybrid'!M$40)*(1+'Benzin - diesel - hybrid'!M$48)^-$C237","v":0},{"$f":"IFERROR(IF('Benzin - diesel - hybrid'!M$22=\"Nej\",'Benzin - diesel - hybrid'!M$26,'Benzin - diesel - hybrid'!M$24)*'Benzin - diesel - hybrid'!M$14*'Benzin - diesel - hybrid'!M$11/1000000,0)","v":0},{"$f":"P237*IF('Benzin - diesel - hybrid'!O$31=\"nej\",0,'Benzin - diesel - hybrid'!O$40)*(1+'Benzin - diesel - hybrid'!O$48)^-$C237","v":0},{"$f":"IFERROR(IF('Benzin - diesel - hybrid'!O$22=\"Nej\",'Benzin - diesel - hybrid'!O$26,'Benzin - diesel - hybrid'!O$24)*'Benzin - diesel - hybrid'!O$14*'Benzin - diesel - hybrid'!O$11/1000000,0)","v":0},{"$f":"R237*IF('Benzin - diesel - hybrid'!Q$31=\"nej\",0,'Benzin - diesel - hybrid'!Q$40)*(1+'Benzin - diesel - hybrid'!Q$48)^-$C237","v":0},{"$f":"IFERROR(IF('Benzin - diesel - hybrid'!Q$22=\"Nej\",'Benzin - diesel - hybrid'!Q$26,'Benzin - diesel - hybrid'!Q$24)*'Benzin - diesel - hybrid'!Q$14*'Benzin - diesel - hybrid'!Q$11/1000000,0)","v":0},{"$f":"T237*IF('Benzin - diesel - hybrid'!S$31=\"nej\",0,'Benzin - diesel - hybrid'!S$40)*(1+'Benzin - diesel - hybrid'!S$48)^-$C237","v":0},{"$f":"IFERROR(IF('Benzin - diesel - hybrid'!S$22=\"Nej\",'Benzin - diesel - hybrid'!S$26,'Benzin - diesel - hybrid'!S$24)*'Benzin - diesel - hybrid'!S$14*'Benzin - diesel - hybrid'!S$11/1000000,0)","v":0},{"$f":"V237*IF('Benzin - diesel - hybrid'!U$31=\"nej\",0,'Benzin - diesel - hybrid'!U$40)*(1+'Benzin - diesel - hybrid'!U$48)^-$C237","v":0},{"$f":"IFERROR(IF('Benzin - diesel - hybrid'!U$22=\"Nej\",'Benzin - diesel - hybrid'!U$26,'Benzin - diesel - hybrid'!U$24)*'Benzin - diesel - hybrid'!U$14*'Benzin - diesel - hybrid'!U$11/1000000,0)","v":0},{"$f":"X237*IF('Benzin - diesel - hybrid'!W$31=\"nej\",0,'Benzin - diesel - hybrid'!W$40)*(1+'Benzin - diesel - hybrid'!W$48)^-$C237","v":0},{"$f":"IFERROR(IF('Benzin - diesel - hybrid'!W$22=\"Nej\",'Benzin - diesel - hybrid'!W$26,'Benzin - diesel - hybrid'!W$24)*'Benzin - diesel - hybrid'!W$14*'Benzin - diesel - hybrid'!W$11/1000000,0)","v":0}]
[null,5,5,null,{"$f":"F238*IF('Benzin - diesel - hybrid'!E$31=\"nej\",0,'Benzin - diesel - hybrid'!E$40)*(1+'Benzin - diesel - hybrid'!E$48)^-$C238","v":0},{"$f":"IFERROR(IF('Benzin - diesel - hybrid'!E$22=\"Nej\",'Benzin - diesel - hybrid'!E$26,'Benzin - diesel - hybrid'!E$24)*'Benzin - diesel - hybrid'!E$14*'Benzin - diesel - hybrid'!E$11/1000000,0)","v":0},{"$f":"H238*IF('Benzin - diesel - hybrid'!G$31=\"nej\",0,'Benzin - diesel - hybrid'!G$40)*(1+'Benzin - diesel - hybrid'!G$48)^-$C238","v":0},{"$f":"IFERROR(IF('Benzin - diesel - hybrid'!G$22=\"Nej\",'Benzin - diesel - hybrid'!G$26,'Benzin - diesel - hybrid'!G$24)*'Benzin - diesel - hybrid'!G$14*'Benzin - diesel - hybrid'!G$11/1000000,0)","v":0},{"$f":"J238*IF('Benzin - diesel - hybrid'!I$31=\"nej\",0,'Benzin - diesel - hybrid'!I$40)*(1+'Benzin - diesel - hybrid'!I$48)^-$C238","v":0},{"$f":"IFERROR(IF('Benzin - diesel - hybrid'!I$22=\"Nej\",'Benzin - diesel - hybrid'!I$26,'Benzin - diesel - hybrid'!I$24)*'Benzin - diesel - hybrid'!I$14*'Benzin - diesel - hybrid'!I$11/1000000,0)","v":0},{"$f":"L238*IF('Benzin - diesel - hybrid'!K$31=\"nej\",0,'Benzin - diesel - hybrid'!K$40)*(1+'Benzin - diesel - hybrid'!K$48)^-$C238","v":0},{"$f":"IFERROR(IF('Benzin - diesel - hybrid'!K$22=\"Nej\",'Benzin - diesel - hybrid'!K$26,'Benzin - diesel - hybrid'!K$24)*'Benzin - diesel - hybrid'!K$14*'Benzin - diesel - hybrid'!K$11/1000000,0)","v":0},{"$f":"N238*IF('Benzin - diesel - hybrid'!M$31=\"nej\",0,'Benzin - diesel - hybrid'!M$40)*(1+'Benzin - diesel - hybrid'!M$48)^-$C238","v":0},{"$f":"IFERROR(IF('Benzin - diesel - hybrid'!M$22=\"Nej\",'Benzin - diesel - hybrid'!M$26,'Benzin - diesel - hybrid'!M$24)*'Benzin - diesel - hybrid'!M$14*'Benzin - diesel - hybrid'!M$11/1000000,0)","v":0},{"$f":"P238*IF('Benzin - diesel - hybrid'!O$31=\"nej\",0,'Benzin - diesel - hybrid'!O$40)*(1+'Benzin - diesel - hybrid'!O$48)^-$C238","v":0},{"$f":"IFERROR(IF('Benzin - diesel - hybrid'!O$22=\"Nej\",'Benzin - diesel - hybrid'!O$26,'Benzin - diesel - hybrid'!O$24)*'Benzin - diesel - hybrid'!O$14*'Benzin - diesel - hybrid'!O$11/1000000,0)","v":0},{"$f":"R238*IF('Benzin - diesel - hybrid'!Q$31=\"nej\",0,'Benzin - diesel - hybrid'!Q$40)*(1+'Benzin - diesel - hybrid'!Q$48)^-$C238","v":0},{"$f":"IFERROR(IF('Benzin - diesel - hybrid'!Q$22=\"Nej\",'Benzin - diesel - hybrid'!Q$26,'Benzin - diesel - hybrid'!Q$24)*'Benzin - diesel - hybrid'!Q$14*'Benzin - diesel - hybrid'!Q$11/1000000,0)","v":0},{"$f":"T238*IF('Benzin - diesel - hybrid'!S$31=\"nej\",0,'Benzin - diesel - hybrid'!S$40)*(1+'Benzin - diesel - hybrid'!S$48)^-$C238","v":0},{"$f":"IFERROR(IF('Benzin - diesel - hybrid'!S$22=\"Nej\",'Benzin - diesel - hybrid'!S$26,'Benzin - diesel - hybrid'!S$24)*'Benzin - diesel - hybrid'!S$14*'Benzin - diesel - hybrid'!S$11/1000000,0)","v":0},{"$f":"V238*IF('Benzin - diesel - hybrid'!U$31=\"nej\",0,'Benzin - diesel - hybrid'!U$40)*(1+'Benzin - diesel - hybrid'!U$48)^-$C238","v":0},{"$f":"IFERROR(IF('Benzin - diesel - hybrid'!U$22=\"Nej\",'Benzin - diesel - hybrid'!U$26,'Benzin - diesel - hybrid'!U$24)*'Benzin - diesel - hybrid'!U$14*'Benzin - diesel - hybrid'!U$11/1000000,0)","v":0},{"$f":"X238*IF('Benzin - diesel - hybrid'!W$31=\"nej\",0,'Benzin - diesel - hybrid'!W$40)*(1+'Benzin - diesel - hybrid'!W$48)^-$C238","v":0},{"$f":"IFERROR(IF('Benzin - diesel - hybrid'!W$22=\"Nej\",'Benzin - diesel - hybrid'!W$26,'Benzin - diesel - hybrid'!W$24)*'Benzin - diesel - hybrid'!W$14*'Benzin - diesel - hybrid'!W$11/1000000,0)","v":0}]
[null,6,6,null,{"$f":"F239*IF('Benzin - diesel - hybrid'!E$31=\"nej\",0,'Benzin - diesel - hybrid'!E$40)*(1+'Benzin - diesel - hybrid'!E$48)^-$C239","v":0},{"$f":"IFERROR(IF('Benzin - diesel - hybrid'!E$22=\"Nej\",'Benzin - diesel - hybrid'!E$26,'Benzin - diesel - hybrid'!E$24)*'Benzin - diesel - hybrid'!E$14*'Benzin - diesel - hybrid'!E$11/1000000,0)","v":0},{"$f":"H239*IF('Benzin - diesel - hybrid'!G$31=\"nej\",0,'Benzin - diesel - hybrid'!G$40)*(1+'Benzin - diesel - hybrid'!G$48)^-$C239","v":0},{"$f":"IFERROR(IF('Benzin - diesel - hybrid'!G$22=\"Nej\",'Benzin - diesel - hybrid'!G$26,'Benzin - diesel - hybrid'!G$24)*'Benzin - diesel - hybrid'!G$14*'Benzin - diesel - hybrid'!G$11/1000000,0)","v":0},{"$f":"J239*IF('Benzin - diesel - hybrid'!I$31=\"nej\",0,'Benzin - diesel - hybrid'!I$40)*(1+'Benzin - diesel - hybrid'!I$48)^-$C239","v":0},{"$f":"IFERROR(IF('Benzin - diesel - hybrid'!I$22=\"Nej\",'Benzin - diesel - hybrid'!I$26,'Benzin - diesel - hybrid'!I$24)*'Benzin - diesel - hybrid'!I$14*'Benzin - diesel - hybrid'!I$11/1000000,0)","v":0},{"$f":"L239*IF('Benzin - diesel - hybrid'!K$31=\"nej\",0,'Benzin - diesel - hybrid'!K$40)*(1+'Benzin - diesel - hybrid'!K$48)^-$C239","v":0},{"$f":"IFERROR(IF('Benzin - diesel - hybrid'!K$22=\"Nej\",'Benzin - diesel - hybrid'!K$26,'Benzin - diesel - hybrid'!K$24)*'Benzin - diesel - hybrid'!K$14*'Benzin - diesel - hybrid'!K$11/1000000,0)","v":0},{"$f":"N239*IF('Benzin - diesel - hybrid'!M$31=\"nej\",0,'Benzin - diesel - hybrid'!M$40)*(1+'Benzin - diesel - hybrid'!M$48)^-$C239","v":0},{"$f":"IFERROR(IF('Benzin - diesel - hybrid'!M$22=\"Nej\",'Benzin - diesel - hybrid'!M$26,'Benzin - diesel - hybrid'!M$24)*'Benzin - diesel - hybrid'!M$14*'Benzin - diesel - hybrid'!M$11/1000000,0)","v":0},{"$f":"P239*IF('Benzin - diesel - hybrid'!O$31=\"nej\",0,'Benzin - diesel - hybrid'!O$40)*(1+'Benzin - diesel - hybrid'!O$48)^-$C239","v":0},{"$f":"IFERROR(IF('Benzin - diesel - hybrid'!O$22=\"Nej\",'Benzin - diesel - hybrid'!O$26,'Benzin - diesel - hybrid'!O$24)*'Benzin - diesel - hybrid'!O$14*'Benzin - diesel - hybrid'!O$11/1000000,0)","v":0},{"$f":"R239*IF('Benzin - diesel - hybrid'!Q$31=\"nej\",0,'Benzin - diesel - hybrid'!Q$40)*(1+'Benzin - diesel - hybrid'!Q$48)^-$C239","v":0},{"$f":"IFERROR(IF('Benzin - diesel - hybrid'!Q$22=\"Nej\",'Benzin - diesel - hybrid'!Q$26,'Benzin - diesel - hybrid'!Q$24)*'Benzin - diesel - hybrid'!Q$14*'Benzin - diesel - hybrid'!Q$11/1000000,0)","v":0},{"$f":"T239*IF('Benzin - diesel - hybrid'!S$31=\"nej\",0,'Benzin - diesel - hybrid'!S$40)*(1+'Benzin - diesel - hybrid'!S$48)^-$C239","v":0},{"$f":"IFERROR(IF('Benzin - diesel - hybrid'!S$22=\"Nej\",'Benzin - diesel - hybrid'!S$26,'Benzin - diesel - hybrid'!S$24)*'Benzin - diesel - hybrid'!S$14*'Benzin - diesel - hybrid'!S$11/1000000,0)","v":0},{"$f":"V239*IF('Benzin - diesel - hybrid'!U$31=\"nej\",0,'Benzin - diesel - hybrid'!U$40)*(1+'Benzin - diesel - hybrid'!U$48)^-$C239","v":0},{"$f":"IFERROR(IF('Benzin - diesel - hybrid'!U$22=\"Nej\",'Benzin - diesel - hybrid'!U$26,'Benzin - diesel - hybrid'!U$24)*'Benzin - diesel - hybrid'!U$14*'Benzin - diesel - hybrid'!U$11/1000000,0)","v":0},{"$f":"X239*IF('Benzin - diesel - hybrid'!W$31=\"nej\",0,'Benzin - diesel - hybrid'!W$40)*(1+'Benzin - diesel - hybrid'!W$48)^-$C239","v":0},{"$f":"IFERROR(IF('Benzin - diesel - hybrid'!W$22=\"Nej\",'Benzin - diesel - hybrid'!W$26,'Benzin - diesel - hybrid'!W$24)*'Benzin - diesel - hybrid'!W$14*'Benzin - diesel - hybrid'!W$11/1000000,0)","v":0}]
[null,7,7,null,{"$f":"F240*IF('Benzin - diesel - hybrid'!E$31=\"nej\",0,'Benzin - diesel - hybrid'!E$40)*(1+'Benzin - diesel - hybrid'!E$48)^-$C240","v":0},{"$f":"IFERROR(IF('Benzin - diesel - hybrid'!E$22=\"Nej\",'Benzin - diesel - hybrid'!E$26,'Benzin - diesel - hybrid'!E$24)*'Benzin - diesel - hybrid'!E$14*'Benzin - diesel - hybrid'!E$11/1000000,0)","v":0},{"$f":"H240*IF('Benzin - diesel - hybrid'!G$31=\"nej\",0,'Benzin - diesel - hybrid'!G$40)*(1+'Benzin - diesel - hybrid'!G$48)^-$C240","v":0},{"$f":"IFERROR(IF('Benzin - diesel - hybrid'!G$22=\"Nej\",'Benzin - diesel - hybrid'!G$26,'Benzin - diesel - hybrid'!G$24)*'Benzin - diesel - hybrid'!G$14*'Benzin - diesel - hybrid'!G$11/1000000,0)","v":0},{"$f":"J240*IF('Benzin - diesel - hybrid'!I$31=\"nej\",0,'Benzin - diesel - hybrid'!I$40)*(1+'Benzin - diesel - hybrid'!I$48)^-$C240","v":0},{"$f":"IFERROR(IF('Benzin - diesel - hybrid'!I$22=\"Nej\",'Benzin - diesel - hybrid'!I$26,'Benzin - diesel - hybrid'!I$24)*'Benzin - diesel - hybrid'!I$14*'Benzin - diesel - hybrid'!I$11/1000000,0)","v":0},{"$f":"L240*IF('Benzin - diesel - hybrid'!K$31=\"nej\",0,'Benzin - diesel - hybrid'!K$40)*(1+'Benzin - diesel - hybrid'!K$48)^-$C240","v":0},{"$f":"IFERROR(IF('Benzin - diesel - hybrid'!K$22=\"Nej\",'Benzin - diesel - hybrid'!K$26,'Benzin - diesel - hybrid'!K$24)*'Benzin - diesel - hybrid'!K$14*'Benzin - diesel - hybrid'!K$11/1000000,0)","v":0},{"$f":"N240*IF('Benzin - diesel - hybrid'!M$31=\"nej\",0,'Benzin - diesel - hybrid'!M$40)*(1+'Benzin - diesel - hybrid'!M$48)^-$C240","v":0},{"$f":"IFERROR(IF('Benzin - diesel - hybrid'!M$22=\"Nej\",'Benzin - diesel - hybrid'!M$26,'Benzin - diesel - hybrid'!M$24)*'Benzin - diesel - hybrid'!M$14*'Benzin - diesel - hybrid'!M$11/1000000,0)","v":0},{"$f":"P240*IF('Benzin - diesel - hybrid'!O$31=\"nej\",0,'Benzin - diesel - hybrid'!O$40)*(1+'Benzin - diesel - hybrid'!O$48)^-$C240","v":0},{"$f":"IFERROR(IF('Benzin - diesel - hybrid'!O$22=\"Nej\",'Benzin - diesel - hybrid'!O$26,'Benzin - diesel - hybrid'!O$24)*'Benzin - diesel - hybrid'!O$14*'Benzin - diesel - hybrid'!O$11/1000000,0)","v":0},{"$f":"R240*IF('Benzin - diesel - hybrid'!Q$31=\"nej\",0,'Benzin - diesel - hybrid'!Q$40)*(1+'Benzin - diesel - hybrid'!Q$48)^-$C240","v":0},{"$f":"IFERROR(IF('Benzin - diesel - hybrid'!Q$22=\"Nej\",'Benzin - diesel - hybrid'!Q$26,'Benzin - diesel - hybrid'!Q$24)*'Benzin - diesel - hybrid'!Q$14*'Benzin - diesel - hybrid'!Q$11/1000000,0)","v":0},{"$f":"T240*IF('Benzin - diesel - hybrid'!S$31=\"nej\",0,'Benzin - diesel - hybrid'!S$40)*(1+'Benzin - diesel - hybrid'!S$48)^-$C240","v":0},{"$f":"IFERROR(IF('Benzin - diesel - hybrid'!S$22=\"Nej\",'Benzin - diesel - hybrid'!S$26,'Benzin - diesel - hybrid'!S$24)*'Benzin - diesel - hybrid'!S$14*'Benzin - diesel - hybrid'!S$11/1000000,0)","v":0},{"$f":"V240*IF('Benzin - diesel - hybrid'!U$31=\"nej\",0,'Benzin - diesel - hybrid'!U$40)*(1+'Benzin - diesel - hybrid'!U$48)^-$C240","v":0},{"$f":"IFERROR(IF('Benzin - diesel - hybrid'!U$22=\"Nej\",'Benzin - diesel - hybrid'!U$26,'Benzin - diesel - hybrid'!U$24)*'Benzin - diesel - hybrid'!U$14*'Benzin - diesel - hybrid'!U$11/1000000,0)","v":0},{"$f":"X240*IF('Benzin - diesel - hybrid'!W$31=\"nej\",0,'Benzin - diesel - hybrid'!W$40)*(1+'Benzin - diesel - hybrid'!W$48)^-$C240","v":0},{"$f":"IFERROR(IF('Benzin - diesel - hybrid'!W$22=\"Nej\",'Benzin - diesel - hybrid'!W$26,'Benzin - diesel - hybrid'!W$24)*'Benzin - diesel - hybrid'!W$14*'Benzin - diesel - hybrid'!W$11/1000000,0)","v":0}]
[null,8,8,null,{"$f":"F241*IF('Benzin - diesel - hybrid'!E$31=\"nej\",0,'Benzin - diesel - hybrid'!E$40)*(1+'Benzin - diesel - hybrid'!E$48)^-$C241","v":0},{"$f":"IFERROR(IF('Benzin - diesel - hybrid'!E$22=\"Nej\",'Benzin - diesel - hybrid'!E$26,'Benzin - diesel - hybrid'!E$24)*'Benzin - diesel - hybrid'!E$14*'Benzin - diesel - hybrid'!E$11/1000000,0)","v":0},{"$f":"H241*IF('Benzin - diesel - hybrid'!G$31=\"nej\",0,'Benzin - diesel - hybrid'!G$40)*(1+'Benzin - diesel - hybrid'!G$48)^-$C241","v":0},{"$f":"IFERROR(IF('Benzin - diesel - hybrid'!G$22=\"Nej\",'Benzin - diesel - hybrid'!G$26,'Benzin - diesel - hybrid'!G$24)*'Benzin - diesel - hybrid'!G$14*'Benzin - diesel - hybrid'!G$11/1000000,0)","v":0},{"$f":"J241*IF('Benzin - diesel - hybrid'!I$31=\"nej\",0,'Benzin - diesel - hybrid'!I$40)*(1+'Benzin - diesel - hybrid'!I$48)^-$C241","v":0},{"$f":"IFERROR(IF('Benzin - diesel - hybrid'!I$22=\"Nej\",'Benzin - diesel - hybrid'!I$26,'Benzin - diesel - hybrid'!I$24)*'Benzin - diesel - hybrid'!I$14*'Benzin - diesel - hybrid'!I$11/1000000,0)","v":0},{"$f":"L241*IF('Benzin - diesel - hybrid'!K$31=\"nej\",0,'Benzin - diesel - hybrid'!K$40)*(1+'Benzin - diesel - hybrid'!K$48)^-$C241","v":0},{"$f":"IFERROR(IF('Benzin - diesel - hybrid'!K$22=\"Nej\",'Benzin - diesel - hybrid'!K$26,'Benzin - diesel - hybrid'!K$24)*'Benzin - diesel - hybrid'!K$14*'Benzin - diesel - hybrid'!K$11/1000000,0)","v":0},{"$f":"N241*IF('Benzin - diesel - hybrid'!M$31=\"nej\",0,'Benzin - diesel - hybrid'!M$40)*(1+'Benzin - diesel - hybrid'!M$48)^-$C241","v":0},{"$f":"IFERROR(IF('Benzin - diesel - hybrid'!M$22=\"Nej\",'Benzin - diesel - hybrid'!M$26,'Benzin - diesel - hybrid'!M$24)*'Benzin - diesel - hybrid'!M$14*'Benzin - diesel - hybrid'!M$11/1000000,0)","v":0},{"$f":"P241*IF('Benzin - diesel - hybrid'!O$31=\"nej\",0,'Benzin - diesel - hybrid'!O$40)*(1+'Benzin - diesel - hybrid'!O$48)^-$C241","v":0},{"$f":"IFERROR(IF('Benzin - diesel - hybrid'!O$22=\"Nej\",'Benzin - diesel - hybrid'!O$26,'Benzin - diesel - hybrid'!O$24)*'Benzin - diesel - hybrid'!O$14*'Benzin - diesel - hybrid'!O$11/1000000,0)","v":0},{"$f":"R241*IF('Benzin - diesel - hybrid'!Q$31=\"nej\",0,'Benzin - diesel - hybrid'!Q$40)*(1+'Benzin - diesel - hybrid'!Q$48)^-$C241","v":0},{"$f":"IFERROR(IF('Benzin - diesel - hybrid'!Q$22=\"Nej\",'Benzin - diesel - hybrid'!Q$26,'Benzin - diesel - hybrid'!Q$24)*'Benzin - diesel - hybrid'!Q$14*'Benzin - diesel - hybrid'!Q$11/1000000,0)","v":0},{"$f":"T241*IF('Benzin - diesel - hybrid'!S$31=\"nej\",0,'Benzin - diesel - hybrid'!S$40)*(1+'Benzin - diesel - hybrid'!S$48)^-$C241","v":0},{"$f":"IFERROR(IF('Benzin - diesel - hybrid'!S$22=\"Nej\",'Benzin - diesel - hybrid'!S$26,'Benzin - diesel - hybrid'!S$24)*'Benzin - diesel - hybrid'!S$14*'Benzin - diesel - hybrid'!S$11/1000000,0)","v":0},{"$f":"V241*IF('Benzin - diesel - hybrid'!U$31=\"nej\",0,'Benzin - diesel - hybrid'!U$40)*(1+'Benzin - diesel - hybrid'!U$48)^-$C241","v":0},{"$f":"IFERROR(IF('Benzin - diesel - hybrid'!U$22=\"Nej\",'Benzin - diesel - hybrid'!U$26,'Benzin - diesel - hybrid'!U$24)*'Benzin - diesel - hybrid'!U$14*'Benzin - diesel - hybrid'!U$11/1000000,0)","v":0},{"$f":"X241*IF('Benzin - diesel - hybrid'!W$31=\"nej\",0,'Benzin - diesel - hybrid'!W$40)*(1+'Benzin - diesel - hybrid'!W$48)^-$C241","v":0},{"$f":"IFERROR(IF('Benzin - diesel - hybrid'!W$22=\"Nej\",'Benzin - diesel - hybrid'!W$26,'Benzin - diesel - hybrid'!W$24)*'Benzin - diesel - hybrid'!W$14*'Benzin - diesel - hybrid'!W$11/1000000,0)","v":0}]
[null,9,9,null,{"$f":"F242*IF('Benzin - diesel - hybrid'!E$31=\"nej\",0,'Benzin - diesel - hybrid'!E$40)*(1+'Benzin - diesel - hybrid'!E$48)^-$C242","v":0},{"$f":"IFERROR(IF('Benzin - diesel - hybrid'!E$22=\"Nej\",'Benzin - diesel - hybrid'!E$26,'Benzin - diesel - hybrid'!E$24)*'Benzin - diesel - hybrid'!E$14*'Benzin - diesel - hybrid'!E$11/1000000,0)","v":0},{"$f":"H242*IF('Benzin - diesel - hybrid'!G$31=\"nej\",0,'Benzin - diesel - hybrid'!G$40)*(1+'Benzin - diesel - hybrid'!G$48)^-$C242","v":0},{"$f":"IFERROR(IF('Benzin - diesel - hybrid'!G$22=\"Nej\",'Benzin - diesel - hybrid'!G$26,'Benzin - diesel - hybrid'!G$24)*'Benzin - diesel - hybrid'!G$14*'Benzin - diesel - hybrid'!G$11/1000000,0)","v":0},{"$f":"J242*IF('Benzin - diesel - hybrid'!I$31=\"nej\",0,'Benzin - diesel - hybrid'!I$40)*(1+'Benzin - diesel - hybrid'!I$48)^-$C242","v":0},{"$f":"IFERROR(IF('Benzin - diesel - hybrid'!I$22=\"Nej\",'Benzin - diesel - hybrid'!I$26,'Benzin - diesel - hybrid'!I$24)*'Benzin - diesel - hybrid'!I$14*'Benzin - diesel - hybrid'!I$11/1000000,0)","v":0},{"$f":"L242*IF('Benzin - diesel - hybrid'!K$31=\"nej\",0,'Benzin - diesel - hybrid'!K$40)*(1+'Benzin - diesel - hybrid'!K$48)^-$C242","v":0},{"$f":"IFERROR(IF('Benzin - diesel - hybrid'!K$22=\"Nej\",'Benzin - diesel - hybrid'!K$26,'Benzin - diesel - hybrid'!K$24)*'Benzin - diesel - hybrid'!K$14*'Benzin - diesel - hybrid'!K$11/1000000,0)","v":0},{"$f":"N242*IF('Benzin - diesel - hybrid'!M$31=\"nej\",0,'Benzin - diesel - hybrid'!M$40)*(1+'Benzin - diesel - hybrid'!M$48)^-$C242","v":0},{"$f":"IFERROR(IF('Benzin - diesel - hybrid'!M$22=\"Nej\",'Benzin - diesel - hybrid'!M$26,'Benzin - diesel - hybrid'!M$24)*'Benzin - diesel - hybrid'!M$14*'Benzin - diesel - hybrid'!M$11/1000000,0)","v":0},{"$f":"P242*IF('Benzin - diesel - hybrid'!O$31=\"nej\",0,'Benzin - diesel - hybrid'!O$40)*(1+'Benzin - diesel - hybrid'!O$48)^-$C242","v":0},{"$f":"IFERROR(IF('Benzin - diesel - hybrid'!O$22=\"Nej\",'Benzin - diesel - hybrid'!O$26,'Benzin - diesel - hybrid'!O$24)*'Benzin - diesel - hybrid'!O$14*'Benzin - diesel - hybrid'!O$11/1000000,0)","v":0},{"$f":"R242*IF('Benzin - diesel - hybrid'!Q$31=\"nej\",0,'Benzin - diesel - hybrid'!Q$40)*(1+'Benzin - diesel - hybrid'!Q$48)^-$C242","v":0},{"$f":"IFERROR(IF('Benzin - diesel - hybrid'!Q$22=\"Nej\",'Benzin - diesel - hybrid'!Q$26,'Benzin - diesel - hybrid'!Q$24)*'Benzin - diesel - hybrid'!Q$14*'Benzin - diesel - hybrid'!Q$11/1000000,0)","v":0},{"$f":"T242*IF('Benzin - diesel - hybrid'!S$31=\"nej\",0,'Benzin - diesel - hybrid'!S$40)*(1+'Benzin - diesel - hybrid'!S$48)^-$C242","v":0},{"$f":"IFERROR(IF('Benzin - diesel - hybrid'!S$22=\"Nej\",'Benzin - diesel - hybrid'!S$26,'Benzin - diesel - hybrid'!S$24)*'Benzin - diesel - hybrid'!S$14*'Benzin - diesel - hybrid'!S$11/1000000,0)","v":0},{"$f":"V242*IF('Benzin - diesel - hybrid'!U$31=\"nej\",0,'Benzin - diesel - hybrid'!U$40)*(1+'Benzin - diesel - hybrid'!U$48)^-$C242","v":0},{"$f":"IFERROR(IF('Benzin - diesel - hybrid'!U$22=\"Nej\",'Benzin - diesel - hybrid'!U$26,'Benzin - diesel - hybrid'!U$24)*'Benzin - diesel - hybrid'!U$14*'Benzin - diesel - hybrid'!U$11/1000000,0)","v":0},{"$f":"X242*IF('Benzin - diesel - hybrid'!W$31=\"nej\",0,'Benzin - diesel - hybrid'!W$40)*(1+'Benzin - diesel - hybrid'!W$48)^-$C242","v":0},{"$f":"IFERROR(IF('Benzin - diesel - hybrid'!W$22=\"Nej\",'Benzin - diesel - hybrid'!W$26,'Benzin - diesel - hybrid'!W$24)*'Benzin - diesel - hybrid'!W$14*'Benzin - diesel - hybrid'!W$11/1000000,0)","v":0}]
[null,10,10,null,{"$f":"F243*IF('Benzin - diesel - hybrid'!E$31=\"nej\",0,'Benzin - diesel - hybrid'!E$40)*(1+'Benzin - diesel - hybrid'!E$48)^-$C243","v":0},{"$f":"IFERROR(IF('Benzin - diesel - hybrid'!E$22=\"Nej\",'Benzin - diesel - hybrid'!E$26,'Benzin - diesel - hybrid'!E$24)*'Benzin - diesel - hybrid'!E$14*'Benzin - diesel - hybrid'!E$11/1000000,0)","v":0},{"$f":"H243*IF('Benzin - diesel - hybrid'!G$31=\"nej\",0,'Benzin - diesel - hybrid'!G$40)*(1+'Benzin - diesel - hybrid'!G$48)^-$C243","v":0},{"$f":"IFERROR(IF('Benzin - diesel - hybrid'!G$22=\"Nej\",'Benzin - diesel - hybrid'!G$26,'Benzin - diesel - hybrid'!G$24)*'Benzin - diesel - hybrid'!G$14*'Benzin - diesel - hybrid'!G$11/1000000,0)","v":0},{"$f":"J243*IF('Benzin - diesel - hybrid'!I$31=\"nej\",0,'Benzin - diesel - hybrid'!I$40)*(1+'Benzin - diesel - hybrid'!I$48)^-$C243","v":0},{"$f":"IFERROR(IF('Benzin - diesel - hybrid'!I$22=\"Nej\",'Benzin - diesel - hybrid'!I$26,'Benzin - diesel - hybrid'!I$24)*'Benzin - diesel - hybrid'!I$14*'Benzin - diesel - hybrid'!I$11/1000000,0)","v":0},{"$f":"L243*IF('Benzin - diesel - hybrid'!K$31=\"nej\",0,'Benzin - diesel - hybrid'!K$40)*(1+'Benzin - diesel - hybrid'!K$48)^-$C243","v":0},{"$f":"IFERROR(IF('Benzin - diesel - hybrid'!K$22=\"Nej\",'Benzin - diesel - hybrid'!K$26,'Benzin - diesel - hybrid'!K$24)*'Benzin - diesel - hybrid'!K$14*'Benzin - diesel - hybrid'!K$11/1000000,0)","v":0},{"$f":"N243*IF('Benzin - diesel - hybrid'!M$31=\"nej\",0,'Benzin - diesel - hybrid'!M$40)*(1+'Benzin - diesel - hybrid'!M$48)^-$C243","v":0},{"$f":"IFERROR(IF('Benzin - diesel - hybrid'!M$22=\"Nej\",'Benzin - diesel - hybrid'!M$26,'Benzin - diesel - hybrid'!M$24)*'Benzin - diesel - hybrid'!M$14*'Benzin - diesel - hybrid'!M$11/1000000,0)","v":0},{"$f":"P243*IF('Benzin - diesel - hybrid'!O$31=\"nej\",0,'Benzin - diesel - hybrid'!O$40)*(1+'Benzin - diesel - hybrid'!O$48)^-$C243","v":0},{"$f":"IFERROR(IF('Benzin - diesel - hybrid'!O$22=\"Nej\",'Benzin - diesel - hybrid'!O$26,'Benzin - diesel - hybrid'!O$24)*'Benzin - diesel - hybrid'!O$14*'Benzin - diesel - hybrid'!O$11/1000000,0)","v":0},{"$f":"R243*IF('Benzin - diesel - hybrid'!Q$31=\"nej\",0,'Benzin - diesel - hybrid'!Q$40)*(1+'Benzin - diesel - hybrid'!Q$48)^-$C243","v":0},{"$f":"IFERROR(IF('Benzin - diesel - hybrid'!Q$22=\"Nej\",'Benzin - diesel - hybrid'!Q$26,'Benzin - diesel - hybrid'!Q$24)*'Benzin - diesel - hybrid'!Q$14*'Benzin - diesel - hybrid'!Q$11/1000000,0)","v":0},{"$f":"T243*IF('Benzin - diesel - hybrid'!S$31=\"nej\",0,'Benzin - diesel - hybrid'!S$40)*(1+'Benzin - diesel - hybrid'!S$48)^-$C243","v":0},{"$f":"IFERROR(IF('Benzin - diesel - hybrid'!S$22=\"Nej\",'Benzin - diesel - hybrid'!S$26,'Benzin - diesel - hybrid'!S$24)*'Benzin - diesel - hybrid'!S$14*'Benzin - diesel - hybrid'!S$11/1000000,0)","v":0},{"$f":"V243*IF('Benzin - diesel - hybrid'!U$31=\"nej\",0,'Benzin - diesel - hybrid'!U$40)*(1+'Benzin - diesel - hybrid'!U$48)^-$C243","v":0},{"$f":"IFERROR(IF('Benzin - diesel - hybrid'!U$22=\"Nej\",'Benzin - diesel - hybrid'!U$26,'Benzin - diesel - hybrid'!U$24)*'Benzin - diesel - hybrid'!U$14*'Benzin - diesel - hybrid'!U$11/1000000,0)","v":0},{"$f":"X243*IF('Benzin - diesel - hybrid'!W$31=\"nej\",0,'Benzin - diesel - hybrid'!W$40)*(1+'Benzin - diesel - hybrid'!W$48)^-$C243","v":0},{"$f":"IFERROR(IF('Benzin - diesel - hybrid'!W$22=\"Nej\",'Benzin - diesel - hybrid'!W$26,'Benzin - diesel - hybrid'!W$24)*'Benzin - diesel - hybrid'!W$14*'Benzin - diesel - hybrid'!W$11/1000000,0)","v":0}]
[null,11,11,null,{"$f":"F244*IF('Benzin - diesel - hybrid'!E$31=\"nej\",0,'Benzin - diesel - hybrid'!E$40)*(1+'Benzin - diesel - hybrid'!E$48)^-$C244","v":0},{"$f":"IFERROR(IF('Benzin - diesel - hybrid'!E$22=\"Nej\",'Benzin - diesel - hybrid'!E$26,'Benzin - diesel - hybrid'!E$24)*'Benzin - diesel - hybrid'!E$14*'Benzin - diesel - hybrid'!E$11/1000000,0)","v":0},{"$f":"H244*IF('Benzin - diesel - hybrid'!G$31=\"nej\",0,'Benzin - diesel - hybrid'!G$40)*(1+'Benzin - diesel - hybrid'!G$48)^-$C244","v":0},{"$f":"IFERROR(IF('Benzin - diesel - hybrid'!G$22=\"Nej\",'Benzin - diesel - hybrid'!G$26,'Benzin - diesel - hybrid'!G$24)*'Benzin - diesel - hybrid'!G$14*'Benzin - diesel - hybrid'!G$11/1000000,0)","v":0},{"$f":"J244*IF('Benzin - diesel - hybrid'!I$31=\"nej\",0,'Benzin - diesel - hybrid'!I$40)*(1+'Benzin - diesel - hybrid'!I$48)^-$C244","v":0},{"$f":"IFERROR(IF('Benzin - diesel - hybrid'!I$22=\"Nej\",'Benzin - diesel - hybrid'!I$26,'Benzin - diesel - hybrid'!I$24)*'Benzin - diesel - hybrid'!I$14*'Benzin - diesel - hybrid'!I$11/1000000,0)","v":0},{"$f":"L244*IF('Benzin - diesel - hybrid'!K$31=\"nej\",0,'Benzin - diesel - hybrid'!K$40)*(1+'Benzin - diesel - hybrid'!K$48)^-$C244","v":0},{"$f":"IFERROR(IF('Benzin - diesel - hybrid'!K$22=\"Nej\",'Benzin - diesel - hybrid'!K$26,'Benzin - diesel - hybrid'!K$24)*'Benzin - diesel - hybrid'!K$14*'Benzin - diesel - hybrid'!K$11/1000000,0)","v":0},{"$f":"N244*IF('Benzin - diesel - hybrid'!M$31=\"nej\",0,'Benzin - diesel - hybrid'!M$40)*(1+'Benzin - diesel - hybrid'!M$48)^-$C244","v":0},{"$f":"IFERROR(IF('Benzin - diesel - hybrid'!M$22=\"Nej\",'Benzin - diesel - hybrid'!M$26,'Benzin - diesel - hybrid'!M$24)*'Benzin - diesel - hybrid'!M$14*'Benzin - diesel - hybrid'!M$11/1000000,0)","v":0},{"$f":"P244*IF('Benzin - diesel - hybrid'!O$31=\"nej\",0,'Benzin - diesel - hybrid'!O$40)*(1+'Benzin - diesel - hybrid'!O$48)^-$C244","v":0},{"$f":"IFERROR(IF('Benzin - diesel - hybrid'!O$22=\"Nej\",'Benzin - diesel - hybrid'!O$26,'Benzin - diesel - hybrid'!O$24)*'Benzin - diesel - hybrid'!O$14*'Benzin - diesel - hybrid'!O$11/1000000,0)","v":0},{"$f":"R244*IF('Benzin - diesel - hybrid'!Q$31=\"nej\",0,'Benzin - diesel - hybrid'!Q$40)*(1+'Benzin - diesel - hybrid'!Q$48)^-$C244","v":0},{"$f":"IFERROR(IF('Benzin - diesel - hybrid'!Q$22=\"Nej\",'Benzin - diesel - hybrid'!Q$26,'Benzin - diesel - hybrid'!Q$24)*'Benzin - diesel - hybrid'!Q$14*'Benzin - diesel - hybrid'!Q$11/1000000,0)","v":0},{"$f":"T244*IF('Benzin - diesel - hybrid'!S$31=\"nej\",0,'Benzin - diesel - hybrid'!S$40)*(1+'Benzin - diesel - hybrid'!S$48)^-$C244","v":0},{"$f":"IFERROR(IF('Benzin - diesel - hybrid'!S$22=\"Nej\",'Benzin - diesel - hybrid'!S$26,'Benzin - diesel - hybrid'!S$24)*'Benzin - diesel - hybrid'!S$14*'Benzin - diesel - hybrid'!S$11/1000000,0)","v":0},{"$f":"V244*IF('Benzin - diesel - hybrid'!U$31=\"nej\",0,'Benzin - diesel - hybrid'!U$40)*(1+'Benzin - diesel - hybrid'!U$48)^-$C244","v":0},{"$f":"IFERROR(IF('Benzin - diesel - hybrid'!U$22=\"Nej\",'Benzin - diesel - hybrid'!U$26,'Benzin - diesel - hybrid'!U$24)*'Benzin - diesel - hybrid'!U$14*'Benzin - diesel - hybrid'!U$11/1000000,0)","v":0},{"$f":"X244*IF('Benzin - diesel - hybrid'!W$31=\"nej\",0,'Benzin - diesel - hybrid'!W$40)*(1+'Benzin - diesel - hybrid'!W$48)^-$C244","v":0},{"$f":"IFERROR(IF('Benzin - diesel - hybrid'!W$22=\"Nej\",'Benzin - diesel - hybrid'!W$26,'Benzin - diesel - hybrid'!W$24)*'Benzin - diesel - hybrid'!W$14*'Benzin - diesel - hybrid'!W$11/1000000,0)","v":0}]
[null,12,12,null,{"$f":"F245*IF('Benzin - diesel - hybrid'!E$31=\"nej\",0,'Benzin - diesel - hybrid'!E$40)*(1+'Benzin - diesel - hybrid'!E$48)^-$C245","v":0},{"$f":"IFERROR(IF('Benzin - diesel - hybrid'!E$22=\"Nej\",'Benzin - diesel - hybrid'!E$26,'Benzin - diesel - hybrid'!E$24)*'Benzin - diesel - hybrid'!E$14*'Benzin - diesel - hybrid'!E$11/1000000,0)","v":0},{"$f":"H245*IF('Benzin - diesel - hybrid'!G$31=\"nej\",0,'Benzin - diesel - hybrid'!G$40)*(1+'Benzin - diesel - hybrid'!G$48)^-$C245","v":0},{"$f":"IFERROR(IF('Benzin - diesel - hybrid'!G$22=\"Nej\",'Benzin - diesel - hybrid'!G$26,'Benzin - diesel - hybrid'!G$24)*'Benzin - diesel - hybrid'!G$14*'Benzin - diesel - hybrid'!G$11/1000000,0)","v":0},{"$f":"J245*IF('Benzin - diesel - hybrid'!I$31=\"nej\",0,'Benzin - diesel - hybrid'!I$40)*(1+'Benzin - diesel - hybrid'!I$48)^-$C245","v":0},{"$f":"IFERROR(IF('Benzin - diesel - hybrid'!I$22=\"Nej\",'Benzin - diesel - hybrid'!I$26,'Benzin - diesel - hybrid'!I$24)*'Benzin - diesel - hybrid'!I$14*'Benzin - diesel - hybrid'!I$11/1000000,0)","v":0},{"$f":"L245*IF('Benzin - diesel - hybrid'!K$31=\"nej\",0,'Benzin - diesel - hybrid'!K$40)*(1+'Benzin - diesel - hybrid'!K$48)^-$C245","v":0},{"$f":"IFERROR(IF('Benzin - diesel - hybrid'!K$22=\"Nej\",'Benzin - diesel - hybrid'!K$26,'Benzin - diesel - hybrid'!K$24)*'Benzin - diesel - hybrid'!K$14*'Benzin - diesel - hybrid'!K$11/1000000,0)","v":0},{"$f":"N245*IF('Benzin - diesel - hybrid'!M$31=\"nej\",0,'Benzin - diesel - hybrid'!M$40)*(1+'Benzin - diesel - hybrid'!M$48)^-$C245","v":0},{"$f":"IFERROR(IF('Benzin - diesel - hybrid'!M$22=\"Nej\",'Benzin - diesel - hybrid'!M$26,'Benzin - diesel - hybrid'!M$24)*'Benzin - diesel - hybrid'!M$14*'Benzin - diesel - hybrid'!M$11/1000000,0)","v":0},{"$f":"P245*IF('Benzin - diesel - hybrid'!O$31=\"nej\",0,'Benzin - diesel - hybrid'!O$40)*(1+'Benzin - diesel - hybrid'!O$48)^-$C245","v":0},{"$f":"IFERROR(IF('Benzin - diesel - hybrid'!O$22=\"Nej\",'Benzin - diesel - hybrid'!O$26,'Benzin - diesel - hybrid'!O$24)*'Benzin - diesel - hybrid'!O$14*'Benzin - diesel - hybrid'!O$11/1000000,0)","v":0},{"$f":"R245*IF('Benzin - diesel - hybrid'!Q$31=\"nej\",0,'Benzin - diesel - hybrid'!Q$40)*(1+'Benzin - diesel - hybrid'!Q$48)^-$C245","v":0},{"$f":"IFERROR(IF('Benzin - diesel - hybrid'!Q$22=\"Nej\",'Benzin - diesel - hybrid'!Q$26,'Benzin - diesel - hybrid'!Q$24)*'Benzin - diesel - hybrid'!Q$14*'Benzin - diesel - hybrid'!Q$11/1000000,0)","v":0},{"$f":"T245*IF('Benzin - diesel - hybrid'!S$31=\"nej\",0,'Benzin - diesel - hybrid'!S$40)*(1+'Benzin - diesel - hybrid'!S$48)^-$C245","v":0},{"$f":"IFERROR(IF('Benzin - diesel - hybrid'!S$22=\"Nej\",'Benzin - diesel - hybrid'!S$26,'Benzin - diesel - hybrid'!S$24)*'Benzin - diesel - hybrid'!S$14*'Benzin - diesel - hybrid'!S$11/1000000,0)","v":0},{"$f":"V245*IF('Benzin - diesel - hybrid'!U$31=\"nej\",0,'Benzin - diesel - hybrid'!U$40)*(1+'Benzin - diesel - hybrid'!U$48)^-$C245","v":0},{"$f":"IFERROR(IF('Benzin - diesel - hybrid'!U$22=\"Nej\",'Benzin - diesel - hybrid'!U$26,'Benzin - diesel - hybrid'!U$24)*'Benzin - diesel - hybrid'!U$14*'Benzin - diesel - hybrid'!U$11/1000000,0)","v":0},{"$f":"X245*IF('Benzin - diesel - hybrid'!W$31=\"nej\",0,'Benzin - diesel - hybrid'!W$40)*(1+'Benzin - diesel - hybrid'!W$48)^-$C245","v":0},{"$f":"IFERROR(IF('Benzin - diesel - hybrid'!W$22=\"Nej\",'Benzin - diesel - hybrid'!W$26,'Benzin - diesel - hybrid'!W$24)*'Benzin - diesel - hybrid'!W$14*'Benzin - diesel - hybrid'!W$11/1000000,0)","v":0}]
[null,13,13,null,{"$f":"F246*IF('Benzin - diesel - hybrid'!E$31=\"nej\",0,'Benzin - diesel - hybrid'!E$40)*(1+'Benzin - diesel - hybrid'!E$48)^-$C246","v":0},{"$f":"IFERROR(IF('Benzin - diesel - hybrid'!E$22=\"Nej\",'Benzin - diesel - hybrid'!E$26,'Benzin - diesel - hybrid'!E$24)*'Benzin - diesel - hybrid'!E$14*'Benzin - diesel - hybrid'!E$11/1000000,0)","v":0},{"$f":"H246*IF('Benzin - diesel - hybrid'!G$31=\"nej\",0,'Benzin - diesel - hybrid'!G$40)*(1+'Benzin - diesel - hybrid'!G$48)^-$C246","v":0},{"$f":"IFERROR(IF('Benzin - diesel - hybrid'!G$22=\"Nej\",'Benzin - diesel - hybrid'!G$26,'Benzin - diesel - hybrid'!G$24)*'Benzin - diesel - hybrid'!G$14*'Benzin - diesel - hybrid'!G$11/1000000,0)","v":0},{"$f":"J246*IF('Benzin - diesel - hybrid'!I$31=\"nej\",0,'Benzin - diesel - hybrid'!I$40)*(1+'Benzin - diesel - hybrid'!I$48)^-$C246","v":0},{"$f":"IFERROR(IF('Benzin - diesel - hybrid'!I$22=\"Nej\",'Benzin - diesel - hybrid'!I$26,'Benzin - diesel - hybrid'!I$24)*'Benzin - diesel - hybrid'!I$14*'Benzin - diesel - hybrid'!I$11/1000000,0)","v":0},{"$f":"L246*IF('Benzin - diesel - hybrid'!K$31=\"nej\",0,'Benzin - diesel - hybrid'!K$40)*(1+'Benzin - diesel - hybrid'!K$48)^-$C246","v":0},{"$f":"IFERROR(IF('Benzin - diesel - hybrid'!K$22=\"Nej\",'Benzin - diesel - hybrid'!K$26,'Benzin - diesel - hybrid'!K$24)*'Benzin - diesel - hybrid'!K$14*'Benzin - diesel - hybrid'!K$11/1000000,0)","v":0},{"$f":"N246*IF('Benzin - diesel - hybrid'!M$31=\"nej\",0,'Benzin - diesel - hybrid'!M$40)*(1+'Benzin - diesel - hybrid'!M$48)^-$C246","v":0},{"$f":"IFERROR(IF('Benzin - diesel - hybrid'!M$22=\"Nej\",'Benzin - diesel - hybrid'!M$26,'Benzin - diesel - hybrid'!M$24)*'Benzin - diesel - hybrid'!M$14*'Benzin - diesel - hybrid'!M$11/1000000,0)","v":0},{"$f":"P246*IF('Benzin - diesel - hybrid'!O$31=\"nej\",0,'Benzin - diesel - hybrid'!O$40)*(1+'Benzin - diesel - hybrid'!O$48)^-$C246","v":0},{"$f":"IFERROR(IF('Benzin - diesel - hybrid'!O$22=\"Nej\",'Benzin - diesel - hybrid'!O$26,'Benzin - diesel - hybrid'!O$24)*'Benzin - diesel - hybrid'!O$14*'Benzin - diesel - hybrid'!O$11/1000000,0)","v":0},{"$f":"R246*IF('Benzin - diesel - hybrid'!Q$31=\"nej\",0,'Benzin - diesel - hybrid'!Q$40)*(1+'Benzin - diesel - hybrid'!Q$48)^-$C246","v":0},{"$f":"IFERROR(IF('Benzin - diesel - hybrid'!Q$22=\"Nej\",'Benzin - diesel - hybrid'!Q$26,'Benzin - diesel - hybrid'!Q$24)*'Benzin - diesel - hybrid'!Q$14*'Benzin - diesel - hybrid'!Q$11/1000000,0)","v":0},{"$f":"T246*IF('Benzin - diesel - hybrid'!S$31=\"nej\",0,'Benzin - diesel - hybrid'!S$40)*(1+'Benzin - diesel - hybrid'!S$48)^-$C246","v":0},{"$f":"IFERROR(IF('Benzin - diesel - hybrid'!S$22=\"Nej\",'Benzin - diesel - hybrid'!S$26,'Benzin - diesel - hybrid'!S$24)*'Benzin - diesel - hybrid'!S$14*'Benzin - diesel - hybrid'!S$11/1000000,0)","v":0},{"$f":"V246*IF('Benzin - diesel - hybrid'!U$31=\"nej\",0,'Benzin - diesel - hybrid'!U$40)*(1+'Benzin - diesel - hybrid'!U$48)^-$C246","v":0},{"$f":"IFERROR(IF('Benzin - diesel - hybrid'!U$22=\"Nej\",'Benzin - diesel - hybrid'!U$26,'Benzin - diesel - hybrid'!U$24)*'Benzin - diesel - hybrid'!U$14*'Benzin - diesel - hybrid'!U$11/1000000,0)","v":0},{"$f":"X246*IF('Benzin - diesel - hybrid'!W$31=\"nej\",0,'Benzin - diesel - hybrid'!W$40)*(1+'Benzin - diesel - hybrid'!W$48)^-$C246","v":0},{"$f":"IFERROR(IF('Benzin - diesel - hybrid'!W$22=\"Nej\",'Benzin - diesel - hybrid'!W$26,'Benzin - diesel - hybrid'!W$24)*'Benzin - diesel - hybrid'!W$14*'Benzin - diesel - hybrid'!W$11/1000000,0)","v":0}]
[null,14,14,null,{"$f":"F247*IF('Benzin - diesel - hybrid'!E$31=\"nej\",0,'Benzin - diesel - hybrid'!E$40)*(1+'Benzin - diesel - hybrid'!E$48)^-$C247","v":0},{"$f":"IFERROR(IF('Benzin - diesel - hybrid'!E$22=\"Nej\",'Benzin - diesel - hybrid'!E$26,'Benzin - diesel - hybrid'!E$24)*'Benzin - diesel - hybrid'!E$14*'Benzin - diesel - hybrid'!E$11/1000000,0)","v":0},{"$f":"H247*IF('Benzin - diesel - hybrid'!G$31=\"nej\",0,'Benzin - diesel - hybrid'!G$40)*(1+'Benzin - diesel - hybrid'!G$48)^-$C247","v":0},{"$f":"IFERROR(IF('Benzin - diesel - hybrid'!G$22=\"Nej\",'Benzin - diesel - hybrid'!G$26,'Benzin - diesel - hybrid'!G$24)*'Benzin - diesel - hybrid'!G$14*'Benzin - diesel - hybrid'!G$11/1000000,0)","v":0},{"$f":"J247*IF('Benzin - diesel - hybrid'!I$31=\"nej\",0,'Benzin - diesel - hybrid'!I$40)*(1+'Benzin - diesel - hybrid'!I$48)^-$C247","v":0},{"$f":"IFERROR(IF('Benzin - diesel - hybrid'!I$22=\"Nej\",'Benzin - diesel - hybrid'!I$26,'Benzin - diesel - hybrid'!I$24)*'Benzin - diesel - hybrid'!I$14*'Benzin - diesel - hybrid'!I$11/1000000,0)","v":0},{"$f":"L247*IF('Benzin - diesel - hybrid'!K$31=\"nej\",0,'Benzin - diesel - hybrid'!K$40)*(1+'Benzin - diesel - hybrid'!K$48)^-$C247","v":0},{"$f":"IFERROR(IF('Benzin - diesel - hybrid'!K$22=\"Nej\",'Benzin - diesel - hybrid'!K$26,'Benzin - diesel - hybrid'!K$24)*'Benzin - diesel - hybrid'!K$14*'Benzin - diesel - hybrid'!K$11/1000000,0)","v":0},{"$f":"N247*IF('Benzin - diesel - hybrid'!M$31=\"nej\",0,'Benzin - diesel - hybrid'!M$40)*(1+'Benzin - diesel - hybrid'!M$48)^-$C247","v":0},{"$f":"IFERROR(IF('Benzin - diesel - hybrid'!M$22=\"Nej\",'Benzin - diesel - hybrid'!M$26,'Benzin - diesel - hybrid'!M$24)*'Benzin - diesel - hybrid'!M$14*'Benzin - diesel - hybrid'!M$11/1000000,0)","v":0},{"$f":"P247*IF('Benzin - diesel - hybrid'!O$31=\"nej\",0,'Benzin - diesel - hybrid'!O$40)*(1+'Benzin - diesel - hybrid'!O$48)^-$C247","v":0},{"$f":"IFERROR(IF('Benzin - diesel - hybrid'!O$22=\"Nej\",'Benzin - diesel - hybrid'!O$26,'Benzin - diesel - hybrid'!O$24)*'Benzin - diesel - hybrid'!O$14*'Benzin - diesel - hybrid'!O$11/1000000,0)","v":0},{"$f":"R247*IF('Benzin - diesel - hybrid'!Q$31=\"nej\",0,'Benzin - diesel - hybrid'!Q$40)*(1+'Benzin - diesel - hybrid'!Q$48)^-$C247","v":0},{"$f":"IFERROR(IF('Benzin - diesel - hybrid'!Q$22=\"Nej\",'Benzin - diesel - hybrid'!Q$26,'Benzin - diesel - hybrid'!Q$24)*'Benzin - diesel - hybrid'!Q$14*'Benzin - diesel - hybrid'!Q$11/1000000,0)","v":0},{"$f":"T247*IF('Benzin - diesel - hybrid'!S$31=\"nej\",0,'Benzin - diesel - hybrid'!S$40)*(1+'Benzin - diesel - hybrid'!S$48)^-$C247","v":0},{"$f":"IFERROR(IF('Benzin - diesel - hybrid'!S$22=\"Nej\",'Benzin - diesel - hybrid'!S$26,'Benzin - diesel - hybrid'!S$24)*'Benzin - diesel - hybrid'!S$14*'Benzin - diesel - hybrid'!S$11/1000000,0)","v":0},{"$f":"V247*IF('Benzin - diesel - hybrid'!U$31=\"nej\",0,'Benzin - diesel - hybrid'!U$40)*(1+'Benzin - diesel - hybrid'!U$48)^-$C247","v":0},{"$f":"IFERROR(IF('Benzin - diesel - hybrid'!U$22=\"Nej\",'Benzin - diesel - hybrid'!U$26,'Benzin - diesel - hybrid'!U$24)*'Benzin - diesel - hybrid'!U$14*'Benzin - diesel - hybrid'!U$11/1000000,0)","v":0},{"$f":"X247*IF('Benzin - diesel - hybrid'!W$31=\"nej\",0,'Benzin - diesel - hybrid'!W$40)*(1+'Benzin - diesel - hybrid'!W$48)^-$C247","v":0},{"$f":"IFERROR(IF('Benzin - diesel - hybrid'!W$22=\"Nej\",'Benzin - diesel - hybrid'!W$26,'Benzin - diesel - hybrid'!W$24)*'Benzin - diesel - hybrid'!W$14*'Benzin - diesel - hybrid'!W$11/1000000,0)","v":0}]
[null,15,15,null,{"$f":"F248*IF('Benzin - diesel - hybrid'!E$31=\"nej\",0,'Benzin - diesel - hybrid'!E$40)*(1+'Benzin - diesel - hybrid'!E$48)^-$C248","v":0},{"$f":"IFERROR(IF('Benzin - diesel - hybrid'!E$22=\"Nej\",'Benzin - diesel - hybrid'!E$26,'Benzin - diesel - hybrid'!E$24)*'Benzin - diesel - hybrid'!E$14*'Benzin - diesel - hybrid'!E$11/1000000,0)","v":0},{"$f":"H248*IF('Benzin - diesel - hybrid'!G$31=\"nej\",0,'Benzin - diesel - hybrid'!G$40)*(1+'Benzin - diesel - hybrid'!G$48)^-$C248","v":0},{"$f":"IFERROR(IF('Benzin - diesel - hybrid'!G$22=\"Nej\",'Benzin - diesel - hybrid'!G$26,'Benzin - diesel - hybrid'!G$24)*'Benzin - diesel - hybrid'!G$14*'Benzin - diesel - hybrid'!G$11/1000000,0)","v":0},{"$f":"J248*IF('Benzin - diesel - hybrid'!I$31=\"nej\",0,'Benzin - diesel - hybrid'!I$40)*(1+'Benzin - diesel - hybrid'!I$48)^-$C248","v":0},{"$f":"IFERROR(IF('Benzin - diesel - hybrid'!I$22=\"Nej\",'Benzin - diesel - hybrid'!I$26,'Benzin - diesel - hybrid'!I$24)*'Benzin - diesel - hybrid'!I$14*'Benzin - diesel - hybrid'!I$11/1000000,0)","v":0},{"$f":"L248*IF('Benzin - diesel - hybrid'!K$31=\"nej\",0,'Benzin - diesel - hybrid'!K$40)*(1+'Benzin - diesel - hybrid'!K$48)^-$C248","v":0},{"$f":"IFERROR(IF('Benzin - diesel - hybrid'!K$22=\"Nej\",'Benzin - diesel - hybrid'!K$26,'Benzin - diesel - hybrid'!K$24)*'Benzin - diesel - hybrid'!K$14*'Benzin - diesel - hybrid'!K$11/1000000,0)","v":0},{"$f":"N248*IF('Benzin - diesel - hybrid'!M$31=\"nej\",0,'Benzin - diesel - hybrid'!M$40)*(1+'Benzin - diesel - hybrid'!M$48)^-$C248","v":0},{"$f":"IFERROR(IF('Benzin - diesel - hybrid'!M$22=\"Nej\",'Benzin - diesel - hybrid'!M$26,'Benzin - diesel - hybrid'!M$24)*'Benzin - diesel - hybrid'!M$14*'Benzin - diesel - hybrid'!M$11/1000000,0)","v":0},{"$f":"P248*IF('Benzin - diesel - hybrid'!O$31=\"nej\",0,'Benzin - diesel - hybrid'!O$40)*(1+'Benzin - diesel - hybrid'!O$48)^-$C248","v":0},{"$f":"IFERROR(IF('Benzin - diesel - hybrid'!O$22=\"Nej\",'Benzin - diesel - hybrid'!O$26,'Benzin - diesel - hybrid'!O$24)*'Benzin - diesel - hybrid'!O$14*'Benzin - diesel - hybrid'!O$11/1000000,0)","v":0},{"$f":"R248*IF('Benzin - diesel - hybrid'!Q$31=\"nej\",0,'Benzin - diesel - hybrid'!Q$40)*(1+'Benzin - diesel - hybrid'!Q$48)^-$C248","v":0},{"$f":"IFERROR(IF('Benzin - diesel - hybrid'!Q$22=\"Nej\",'Benzin - diesel - hybrid'!Q$26,'Benzin - diesel - hybrid'!Q$24)*'Benzin - diesel - hybrid'!Q$14*'Benzin - diesel - hybrid'!Q$11/1000000,0)","v":0},{"$f":"T248*IF('Benzin - diesel - hybrid'!S$31=\"nej\",0,'Benzin - diesel - hybrid'!S$40)*(1+'Benzin - diesel - hybrid'!S$48)^-$C248","v":0},{"$f":"IFERROR(IF('Benzin - diesel - hybrid'!S$22=\"Nej\",'Benzin - diesel - hybrid'!S$26,'Benzin - diesel - hybrid'!S$24)*'Benzin - diesel - hybrid'!S$14*'Benzin - diesel - hybrid'!S$11/1000000,0)","v":0},{"$f":"V248*IF('Benzin - diesel - hybrid'!U$31=\"nej\",0,'Benzin - diesel - hybrid'!U$40)*(1+'Benzin - diesel - hybrid'!U$48)^-$C248","v":0},{"$f":"IFERROR(IF('Benzin - diesel - hybrid'!U$22=\"Nej\",'Benzin - diesel - hybrid'!U$26,'Benzin - diesel - hybrid'!U$24)*'Benzin - diesel - hybrid'!U$14*'Benzin - diesel - hybrid'!U$11/1000000,0)","v":0},{"$f":"X248*IF('Benzin - diesel - hybrid'!W$31=\"nej\",0,'Benzin - diesel - hybrid'!W$40)*(1+'Benzin - diesel - hybrid'!W$48)^-$C248","v":0},{"$f":"IFERROR(IF('Benzin - diesel - hybrid'!W$22=\"Nej\",'Benzin - diesel - hybrid'!W$26,'Benzin - diesel - hybrid'!W$24)*'Benzin - diesel - hybrid'!W$14*'Benzin - diesel - hybrid'!W$11/1000000,0)","v":0}]
[null,16,16,null,{"$f":"F249*IF('Benzin - diesel - hybrid'!E$31=\"nej\",0,'Benzin - diesel - hybrid'!E$40)*(1+'Benzin - diesel - hybrid'!E$48)^-$C249","v":0},{"$f":"IFERROR(IF('Benzin - diesel - hybrid'!E$22=\"Nej\",'Benzin - diesel - hybrid'!E$26,'Benzin - diesel - hybrid'!E$24)*'Benzin - diesel - hybrid'!E$14*'Benzin - diesel - hybrid'!E$11/1000000,0)","v":0},{"$f":"H249*IF('Benzin - diesel - hybrid'!G$31=\"nej\",0,'Benzin - diesel - hybrid'!G$40)*(1+'Benzin - diesel - hybrid'!G$48)^-$C249","v":0},{"$f":"IFERROR(IF('Benzin - diesel - hybrid'!G$22=\"Nej\",'Benzin - diesel - hybrid'!G$26,'Benzin - diesel - hybrid'!G$24)*'Benzin - diesel - hybrid'!G$14*'Benzin - diesel - hybrid'!G$11/1000000,0)","v":0},{"$f":"J249*IF('Benzin - diesel - hybrid'!I$31=\"nej\",0,'Benzin - diesel - hybrid'!I$40)*(1+'Benzin - diesel - hybrid'!I$48)^-$C249","v":0},{"$f":"IFERROR(IF('Benzin - diesel - hybrid'!I$22=\"Nej\",'Benzin - diesel - hybrid'!I$26,'Benzin - diesel - hybrid'!I$24)*'Benzin - diesel - hybrid'!I$14*'Benzin - diesel - hybrid'!I$11/1000000,0)","v":0},{"$f":"L249*IF('Benzin - diesel - hybrid'!K$31=\"nej\",0,'Benzin - diesel - hybrid'!K$40)*(1+'Benzin - diesel - hybrid'!K$48)^-$C249","v":0},{"$f":"IFERROR(IF('Benzin - diesel - hybrid'!K$22=\"Nej\",'Benzin - diesel - hybrid'!K$26,'Benzin - diesel - hybrid'!K$24)*'Benzin - diesel - hybrid'!K$14*'Benzin - diesel - hybrid'!K$11/1000000,0)","v":0},{"$f":"N249*IF('Benzin - diesel - hybrid'!M$31=\"nej\",0,'Benzin - diesel - hybrid'!M$40)*(1+'Benzin - diesel - hybrid'!M$48)^-$C249","v":0},{"$f":"IFERROR(IF('Benzin - diesel - hybrid'!M$22=\"Nej\",'Benzin - diesel - hybrid'!M$26,'Benzin - diesel - hybrid'!M$24)*'Benzin - diesel - hybrid'!M$14*'Benzin - diesel - hybrid'!M$11/1000000,0)","v":0},{"$f":"P249*IF('Benzin - diesel - hybrid'!O$31=\"nej\",0,'Benzin - diesel - hybrid'!O$40)*(1+'Benzin - diesel - hybrid'!O$48)^-$C249","v":0},{"$f":"IFERROR(IF('Benzin - diesel - hybrid'!O$22=\"Nej\",'Benzin - diesel - hybrid'!O$26,'Benzin - diesel - hybrid'!O$24)*'Benzin - diesel - hybrid'!O$14*'Benzin - diesel - hybrid'!O$11/1000000,0)","v":0},{"$f":"R249*IF('Benzin - diesel - hybrid'!Q$31=\"nej\",0,'Benzin - diesel - hybrid'!Q$40)*(1+'Benzin - diesel - hybrid'!Q$48)^-$C249","v":0},{"$f":"IFERROR(IF('Benzin - diesel - hybrid'!Q$22=\"Nej\",'Benzin - diesel - hybrid'!Q$26,'Benzin - diesel - hybrid'!Q$24)*'Benzin - diesel - hybrid'!Q$14*'Benzin - diesel - hybrid'!Q$11/1000000,0)","v":0},{"$f":"T249*IF('Benzin - diesel - hybrid'!S$31=\"nej\",0,'Benzin - diesel - hybrid'!S$40)*(1+'Benzin - diesel - hybrid'!S$48)^-$C249","v":0},{"$f":"IFERROR(IF('Benzin - diesel - hybrid'!S$22=\"Nej\",'Benzin - diesel - hybrid'!S$26,'Benzin - diesel - hybrid'!S$24)*'Benzin - diesel - hybrid'!S$14*'Benzin - diesel - hybrid'!S$11/1000000,0)","v":0},{"$f":"V249*IF('Benzin - diesel - hybrid'!U$31=\"nej\",0,'Benzin - diesel - hybrid'!U$40)*(1+'Benzin - diesel - hybrid'!U$48)^-$C249","v":0},{"$f":"IFERROR(IF('Benzin - diesel - hybrid'!U$22=\"Nej\",'Benzin - diesel - hybrid'!U$26,'Benzin - diesel - hybrid'!U$24)*'Benzin - diesel - hybrid'!U$14*'Benzin - diesel - hybrid'!U$11/1000000,0)","v":0},{"$f":"X249*IF('Benzin - diesel - hybrid'!W$31=\"nej\",0,'Benzin - diesel - hybrid'!W$40)*(1+'Benzin - diesel - hybrid'!W$48)^-$C249","v":0},{"$f":"IFERROR(IF('Benzin - diesel - hybrid'!W$22=\"Nej\",'Benzin - diesel - hybrid'!W$26,'Benzin - diesel - hybrid'!W$24)*'Benzin - diesel - hybrid'!W$14*'Benzin - diesel - hybrid'!W$11/1000000,0)","v":0}]
[null,17,17,null,{"$f":"F250*IF('Benzin - diesel - hybrid'!E$31=\"nej\",0,'Benzin - diesel - hybrid'!E$40)*(1+'Benzin - diesel - hybrid'!E$48)^-$C250","v":0},{"$f":"IFERROR(IF('Benzin - diesel - hybrid'!E$22=\"Nej\",'Benzin - diesel - hybrid'!E$26,'Benzin - diesel - hybrid'!E$24)*'Benzin - diesel - hybrid'!E$14*'Benzin - diesel - hybrid'!E$11/1000000,0)","v":0},{"$f":"H250*IF('Benzin - diesel - hybrid'!G$31=\"nej\",0,'Benzin - diesel - hybrid'!G$40)*(1+'Benzin - diesel - hybrid'!G$48)^-$C250","v":0},{"$f":"IFERROR(IF('Benzin - diesel - hybrid'!G$22=\"Nej\",'Benzin - diesel - hybrid'!G$26,'Benzin - diesel - hybrid'!G$24)*'Benzin - diesel - hybrid'!G$14*'Benzin - diesel - hybrid'!G$11/1000000,0)","v":0},{"$f":"J250*IF('Benzin - diesel - hybrid'!I$31=\"nej\",0,'Benzin - diesel - hybrid'!I$40)*(1+'Benzin - diesel - hybrid'!I$48)^-$C250","v":0},{"$f":"IFERROR(IF('Benzin - diesel - hybrid'!I$22=\"Nej\",'Benzin - diesel - hybrid'!I$26,'Benzin - diesel - hybrid'!I$24)*'Benzin - diesel - hybrid'!I$14*'Benzin - diesel - hybrid'!I$11/1000000,0)","v":0},{"$f":"L250*IF('Benzin - diesel - hybrid'!K$31=\"nej\",0,'Benzin - diesel - hybrid'!K$40)*(1+'Benzin - diesel - hybrid'!K$48)^-$C250","v":0},{"$f":"IFERROR(IF('Benzin - diesel - hybrid'!K$22=\"Nej\",'Benzin - diesel - hybrid'!K$26,'Benzin - diesel - hybrid'!K$24)*'Benzin - diesel - hybrid'!K$14*'Benzin - diesel - hybrid'!K$11/1000000,0)","v":0},{"$f":"N250*IF('Benzin - diesel - hybrid'!M$31=\"nej\",0,'Benzin - diesel - hybrid'!M$40)*(1+'Benzin - diesel - hybrid'!M$48)^-$C250","v":0},{"$f":"IFERROR(IF('Benzin - diesel - hybrid'!M$22=\"Nej\",'Benzin - diesel - hybrid'!M$26,'Benzin - diesel - hybrid'!M$24)*'Benzin - diesel - hybrid'!M$14*'Benzin - diesel - hybrid'!M$11/1000000,0)","v":0},{"$f":"P250*IF('Benzin - diesel - hybrid'!O$31=\"nej\",0,'Benzin - diesel - hybrid'!O$40)*(1+'Benzin - diesel - hybrid'!O$48)^-$C250","v":0},{"$f":"IFERROR(IF('Benzin - diesel - hybrid'!O$22=\"Nej\",'Benzin - diesel - hybrid'!O$26,'Benzin - diesel - hybrid'!O$24)*'Benzin - diesel - hybrid'!O$14*'Benzin - diesel - hybrid'!O$11/1000000,0)","v":0},{"$f":"R250*IF('Benzin - diesel - hybrid'!Q$31=\"nej\",0,'Benzin - diesel - hybrid'!Q$40)*(1+'Benzin - diesel - hybrid'!Q$48)^-$C250","v":0},{"$f":"IFERROR(IF('Benzin - diesel - hybrid'!Q$22=\"Nej\",'Benzin - diesel - hybrid'!Q$26,'Benzin - diesel - hybrid'!Q$24)*'Benzin - diesel - hybrid'!Q$14*'Benzin - diesel - hybrid'!Q$11/1000000,0)","v":0},{"$f":"T250*IF('Benzin - diesel - hybrid'!S$31=\"nej\",0,'Benzin - diesel - hybrid'!S$40)*(1+'Benzin - diesel - hybrid'!S$48)^-$C250","v":0},{"$f":"IFERROR(IF('Benzin - diesel - hybrid'!S$22=\"Nej\",'Benzin - diesel - hybrid'!S$26,'Benzin - diesel - hybrid'!S$24)*'Benzin - diesel - hybrid'!S$14*'Benzin - diesel - hybrid'!S$11/1000000,0)","v":0},{"$f":"V250*IF('Benzin - diesel - hybrid'!U$31=\"nej\",0,'Benzin - diesel - hybrid'!U$40)*(1+'Benzin - diesel - hybrid'!U$48)^-$C250","v":0},{"$f":"IFERROR(IF('Benzin - diesel - hybrid'!U$22=\"Nej\",'Benzin - diesel - hybrid'!U$26,'Benzin - diesel - hybrid'!U$24)*'Benzin - diesel - hybrid'!U$14*'Benzin - diesel - hybrid'!U$11/1000000,0)","v":0},{"$f":"X250*IF('Benzin - diesel - hybrid'!W$31=\"nej\",0,'Benzin - diesel - hybrid'!W$40)*(1+'Benzin - diesel - hybrid'!W$48)^-$C250","v":0},{"$f":"IFERROR(IF('Benzin - diesel - hybrid'!W$22=\"Nej\",'Benzin - diesel - hybrid'!W$26,'Benzin - diesel - hybrid'!W$24)*'Benzin - diesel - hybrid'!W$14*'Benzin - diesel - hybrid'!W$11/1000000,0)","v":0}]
[null,18,18,null,{"$f":"F251*IF('Benzin - diesel - hybrid'!E$31=\"nej\",0,'Benzin - diesel - hybrid'!E$40)*(1+'Benzin - diesel - hybrid'!E$48)^-$C251","v":0},{"$f":"IFERROR(IF('Benzin - diesel - hybrid'!E$22=\"Nej\",'Benzin - diesel - hybrid'!E$26,'Benzin - diesel - hybrid'!E$24)*'Benzin - diesel - hybrid'!E$14*'Benzin - diesel - hybrid'!E$11/1000000,0)","v":0},{"$f":"H251*IF('Benzin - diesel - hybrid'!G$31=\"nej\",0,'Benzin - diesel - hybrid'!G$40)*(1+'Benzin - diesel - hybrid'!G$48)^-$C251","v":0},{"$f":"IFERROR(IF('Benzin - diesel - hybrid'!G$22=\"Nej\",'Benzin - diesel - hybrid'!G$26,'Benzin - diesel - hybrid'!G$24)*'Benzin - diesel - hybrid'!G$14*'Benzin - diesel - hybrid'!G$11/1000000,0)","v":0},{"$f":"J251*IF('Benzin - diesel - hybrid'!I$31=\"nej\",0,'Benzin - diesel - hybrid'!I$40)*(1+'Benzin - diesel - hybrid'!I$48)^-$C251","v":0},{"$f":"IFERROR(IF('Benzin - diesel - hybrid'!I$22=\"Nej\",'Benzin - diesel - hybrid'!I$26,'Benzin - diesel - hybrid'!I$24)*'Benzin - diesel - hybrid'!I$14*'Benzin - diesel - hybrid'!I$11/1000000,0)","v":0},{"$f":"L251*IF('Benzin - diesel - hybrid'!K$31=\"nej\",0,'Benzin - diesel - hybrid'!K$40)*(1+'Benzin - diesel - hybrid'!K$48)^-$C251","v":0},{"$f":"IFERROR(IF('Benzin - diesel - hybrid'!K$22=\"Nej\",'Benzin - diesel - hybrid'!K$26,'Benzin - diesel - hybrid'!K$24)*'Benzin - diesel - hybrid'!K$14*'Benzin - diesel - hybrid'!K$11/1000000,0)","v":0},{"$f":"N251*IF('Benzin - diesel - hybrid'!M$31=\"nej\",0,'Benzin - diesel - hybrid'!M$40)*(1+'Benzin - diesel - hybrid'!M$48)^-$C251","v":0},{"$f":"IFERROR(IF('Benzin - diesel - hybrid'!M$22=\"Nej\",'Benzin - diesel - hybrid'!M$26,'Benzin - diesel - hybrid'!M$24)*'Benzin - diesel - hybrid'!M$14*'Benzin - diesel - hybrid'!M$11/1000000,0)","v":0},{"$f":"P251*IF('Benzin - diesel - hybrid'!O$31=\"nej\",0,'Benzin - diesel - hybrid'!O$40)*(1+'Benzin - diesel - hybrid'!O$48)^-$C251","v":0},{"$f":"IFERROR(IF('Benzin - diesel - hybrid'!O$22=\"Nej\",'Benzin - diesel - hybrid'!O$26,'Benzin - diesel - hybrid'!O$24)*'Benzin - diesel - hybrid'!O$14*'Benzin - diesel - hybrid'!O$11/1000000,0)","v":0},{"$f":"R251*IF('Benzin - diesel - hybrid'!Q$31=\"nej\",0,'Benzin - diesel - hybrid'!Q$40)*(1+'Benzin - diesel - hybrid'!Q$48)^-$C251","v":0},{"$f":"IFERROR(IF('Benzin - diesel - hybrid'!Q$22=\"Nej\",'Benzin - diesel - hybrid'!Q$26,'Benzin - diesel - hybrid'!Q$24)*'Benzin - diesel - hybrid'!Q$14*'Benzin - diesel - hybrid'!Q$11/1000000,0)","v":0},{"$f":"T251*IF('Benzin - diesel - hybrid'!S$31=\"nej\",0,'Benzin - diesel - hybrid'!S$40)*(1+'Benzin - diesel - hybrid'!S$48)^-$C251","v":0},{"$f":"IFERROR(IF('Benzin - diesel - hybrid'!S$22=\"Nej\",'Benzin - diesel - hybrid'!S$26,'Benzin - diesel - hybrid'!S$24)*'Benzin - diesel - hybrid'!S$14*'Benzin - diesel - hybrid'!S$11/1000000,0)","v":0},{"$f":"V251*IF('Benzin - diesel - hybrid'!U$31=\"nej\",0,'Benzin - diesel - hybrid'!U$40)*(1+'Benzin - diesel - hybrid'!U$48)^-$C251","v":0},{"$f":"IFERROR(IF('Benzin - diesel - hybrid'!U$22=\"Nej\",'Benzin - diesel - hybrid'!U$26,'Benzin - diesel - hybrid'!U$24)*'Benzin - diesel - hybrid'!U$14*'Benzin - diesel - hybrid'!U$11/1000000,0)","v":0},{"$f":"X251*IF('Benzin - diesel - hybrid'!W$31=\"nej\",0,'Benzin - diesel - hybrid'!W$40)*(1+'Benzin - diesel - hybrid'!W$48)^-$C251","v":0},{"$f":"IFERROR(IF('Benzin - diesel - hybrid'!W$22=\"Nej\",'Benzin - diesel - hybrid'!W$26,'Benzin - diesel - hybrid'!W$24)*'Benzin - diesel - hybrid'!W$14*'Benzin - diesel - hybrid'!W$11/1000000,0)","v":0}]
[null,19,19,null,{"$f":"F252*IF('Benzin - diesel - hybrid'!E$31=\"nej\",0,'Benzin - diesel - hybrid'!E$40)*(1+'Benzin - diesel - hybrid'!E$48)^-$C252","v":0},{"$f":"IFERROR(IF('Benzin - diesel - hybrid'!E$22=\"Nej\",'Benzin - diesel - hybrid'!E$26,'Benzin - diesel - hybrid'!E$24)*'Benzin - diesel - hybrid'!E$14*'Benzin - diesel - hybrid'!E$11/1000000,0)","v":0},{"$f":"H252*IF('Benzin - diesel - hybrid'!G$31=\"nej\",0,'Benzin - diesel - hybrid'!G$40)*(1+'Benzin - diesel - hybrid'!G$48)^-$C252","v":0},{"$f":"IFERROR(IF('Benzin - diesel - hybrid'!G$22=\"Nej\",'Benzin - diesel - hybrid'!G$26,'Benzin - diesel - hybrid'!G$24)*'Benzin - diesel - hybrid'!G$14*'Benzin - diesel - hybrid'!G$11/1000000,0)","v":0},{"$f":"J252*IF('Benzin - diesel - hybrid'!I$31=\"nej\",0,'Benzin - diesel - hybrid'!I$40)*(1+'Benzin - diesel - hybrid'!I$48)^-$C252","v":0},{"$f":"IFERROR(IF('Benzin - diesel - hybrid'!I$22=\"Nej\",'Benzin - diesel - hybrid'!I$26,'Benzin - diesel - hybrid'!I$24)*'Benzin - diesel - hybrid'!I$14*'Benzin - diesel - hybrid'!I$11/1000000,0)","v":0},{"$f":"L252*IF('Benzin - diesel - hybrid'!K$31=\"nej\",0,'Benzin - diesel - hybrid'!K$40)*(1+'Benzin - diesel - hybrid'!K$48)^-$C252","v":0},{"$f":"IFERROR(IF('Benzin - diesel - hybrid'!K$22=\"Nej\",'Benzin - diesel - hybrid'!K$26,'Benzin - diesel - hybrid'!K$24)*'Benzin - diesel - hybrid'!K$14*'Benzin - diesel - hybrid'!K$11/1000000,0)","v":0},{"$f":"N252*IF('Benzin - diesel - hybrid'!M$31=\"nej\",0,'Benzin - diesel - hybrid'!M$40)*(1+'Benzin - diesel - hybrid'!M$48)^-$C252","v":0},{"$f":"IFERROR(IF('Benzin - diesel - hybrid'!M$22=\"Nej\",'Benzin - diesel - hybrid'!M$26,'Benzin - diesel - hybrid'!M$24)*'Benzin - diesel - hybrid'!M$14*'Benzin - diesel - hybrid'!M$11/1000000,0)","v":0},{"$f":"P252*IF('Benzin - diesel - hybrid'!O$31=\"nej\",0,'Benzin - diesel - hybrid'!O$40)*(1+'Benzin - diesel - hybrid'!O$48)^-$C252","v":0},{"$f":"IFERROR(IF('Benzin - diesel - hybrid'!O$22=\"Nej\",'Benzin - diesel - hybrid'!O$26,'Benzin - diesel - hybrid'!O$24)*'Benzin - diesel - hybrid'!O$14*'Benzin - diesel - hybrid'!O$11/1000000,0)","v":0},{"$f":"R252*IF('Benzin - diesel - hybrid'!Q$31=\"nej\",0,'Benzin - diesel - hybrid'!Q$40)*(1+'Benzin - diesel - hybrid'!Q$48)^-$C252","v":0},{"$f":"IFERROR(IF('Benzin - diesel - hybrid'!Q$22=\"Nej\",'Benzin - diesel - hybrid'!Q$26,'Benzin - diesel - hybrid'!Q$24)*'Benzin - diesel - hybrid'!Q$14*'Benzin - diesel - hybrid'!Q$11/1000000,0)","v":0},{"$f":"T252*IF('Benzin - diesel - hybrid'!S$31=\"nej\",0,'Benzin - diesel - hybrid'!S$40)*(1+'Benzin - diesel - hybrid'!S$48)^-$C252","v":0},{"$f":"IFERROR(IF('Benzin - diesel - hybrid'!S$22=\"Nej\",'Benzin - diesel - hybrid'!S$26,'Benzin - diesel - hybrid'!S$24)*'Benzin - diesel - hybrid'!S$14*'Benzin - diesel - hybrid'!S$11/1000000,0)","v":0},{"$f":"V252*IF('Benzin - diesel - hybrid'!U$31=\"nej\",0,'Benzin - diesel - hybrid'!U$40)*(1+'Benzin - diesel - hybrid'!U$48)^-$C252","v":0},{"$f":"IFERROR(IF('Benzin - diesel - hybrid'!U$22=\"Nej\",'Benzin - diesel - hybrid'!U$26,'Benzin - diesel - hybrid'!U$24)*'Benzin - diesel - hybrid'!U$14*'Benzin - diesel - hybrid'!U$11/1000000,0)","v":0},{"$f":"X252*IF('Benzin - diesel - hybrid'!W$31=\"nej\",0,'Benzin - diesel - hybrid'!W$40)*(1+'Benzin - diesel - hybrid'!W$48)^-$C252","v":0},{"$f":"IFERROR(IF('Benzin - diesel - hybrid'!W$22=\"Nej\",'Benzin - diesel - hybrid'!W$26,'Benzin - diesel - hybrid'!W$24)*'Benzin - diesel - hybrid'!W$14*'Benzin - diesel - hybrid'!W$11/1000000,0)","v":0}]
[null,20,20,null,{"$f":"F253*IF('Benzin - diesel - hybrid'!E$31=\"nej\",0,'Benzin - diesel - hybrid'!E$40)*(1+'Benzin - diesel - hybrid'!E$48)^-$C253","v":0},{"$f":"IFERROR(IF('Benzin - diesel - hybrid'!E$22=\"Nej\",'Benzin - diesel - hybrid'!E$26,'Benzin - diesel - hybrid'!E$24)*'Benzin - diesel - hybrid'!E$14*'Benzin - diesel - hybrid'!E$11/1000000,0)","v":0},{"$f":"H253*IF('Benzin - diesel - hybrid'!G$31=\"nej\",0,'Benzin - diesel - hybrid'!G$40)*(1+'Benzin - diesel - hybrid'!G$48)^-$C253","v":0},{"$f":"IFERROR(IF('Benzin - diesel - hybrid'!G$22=\"Nej\",'Benzin - diesel - hybrid'!G$26,'Benzin - diesel - hybrid'!G$24)*'Benzin - diesel - hybrid'!G$14*'Benzin - diesel - hybrid'!G$11/1000000,0)","v":0},{"$f":"J253*IF('Benzin - diesel - hybrid'!I$31=\"nej\",0,'Benzin - diesel - hybrid'!I$40)*(1+'Benzin - diesel - hybrid'!I$48)^-$C253","v":0},{"$f":"IFERROR(IF('Benzin - diesel - hybrid'!I$22=\"Nej\",'Benzin - diesel - hybrid'!I$26,'Benzin - diesel - hybrid'!I$24)*'Benzin - diesel - hybrid'!I$14*'Benzin - diesel - hybrid'!I$11/1000000,0)","v":0},{"$f":"L253*IF('Benzin - diesel - hybrid'!K$31=\"nej\",0,'Benzin - diesel - hybrid'!K$40)*(1+'Benzin - diesel - hybrid'!K$48)^-$C253","v":0},{"$f":"IFERROR(IF('Benzin - diesel - hybrid'!K$22=\"Nej\",'Benzin - diesel - hybrid'!K$26,'Benzin - diesel - hybrid'!K$24)*'Benzin - diesel - hybrid'!K$14*'Benzin - diesel - hybrid'!K$11/1000000,0)","v":0},{"$f":"N253*IF('Benzin - diesel - hybrid'!M$31=\"nej\",0,'Benzin - diesel - hybrid'!M$40)*(1+'Benzin - diesel - hybrid'!M$48)^-$C253","v":0},{"$f":"IFERROR(IF('Benzin - diesel - hybrid'!M$22=\"Nej\",'Benzin - diesel - hybrid'!M$26,'Benzin - diesel - hybrid'!M$24)*'Benzin - diesel - hybrid'!M$14*'Benzin - diesel - hybrid'!M$11/1000000,0)","v":0},{"$f":"P253*IF('Benzin - diesel - hybrid'!O$31=\"nej\",0,'Benzin - diesel - hybrid'!O$40)*(1+'Benzin - diesel - hybrid'!O$48)^-$C253","v":0},{"$f":"IFERROR(IF('Benzin - diesel - hybrid'!O$22=\"Nej\",'Benzin - diesel - hybrid'!O$26,'Benzin - diesel - hybrid'!O$24)*'Benzin - diesel - hybrid'!O$14*'Benzin - diesel - hybrid'!O$11/1000000,0)","v":0},{"$f":"R253*IF('Benzin - diesel - hybrid'!Q$31=\"nej\",0,'Benzin - diesel - hybrid'!Q$40)*(1+'Benzin - diesel - hybrid'!Q$48)^-$C253","v":0},{"$f":"IFERROR(IF('Benzin - diesel - hybrid'!Q$22=\"Nej\",'Benzin - diesel - hybrid'!Q$26,'Benzin - diesel - hybrid'!Q$24)*'Benzin - diesel - hybrid'!Q$14*'Benzin - diesel - hybrid'!Q$11/1000000,0)","v":0},{"$f":"T253*IF('Benzin - diesel - hybrid'!S$31=\"nej\",0,'Benzin - diesel - hybrid'!S$40)*(1+'Benzin - diesel - hybrid'!S$48)^-$C253","v":0},{"$f":"IFERROR(IF('Benzin - diesel - hybrid'!S$22=\"Nej\",'Benzin - diesel - hybrid'!S$26,'Benzin - diesel - hybrid'!S$24)*'Benzin - diesel - hybrid'!S$14*'Benzin - diesel - hybrid'!S$11/1000000,0)","v":0},{"$f":"V253*IF('Benzin - diesel - hybrid'!U$31=\"nej\",0,'Benzin - diesel - hybrid'!U$40)*(1+'Benzin - diesel - hybrid'!U$48)^-$C253","v":0},{"$f":"IFERROR(IF('Benzin - diesel - hybrid'!U$22=\"Nej\",'Benzin - diesel - hybrid'!U$26,'Benzin - diesel - hybrid'!U$24)*'Benzin - diesel - hybrid'!U$14*'Benzin - diesel - hybrid'!U$11/1000000,0)","v":0},{"$f":"X253*IF('Benzin - diesel - hybrid'!W$31=\"nej\",0,'Benzin - diesel - hybrid'!W$40)*(1+'Benzin - diesel - hybrid'!W$48)^-$C253","v":0},{"$f":"IFERROR(IF('Benzin - diesel - hybrid'!W$22=\"Nej\",'Benzin - diesel - hybrid'!W$26,'Benzin - diesel - hybrid'!W$24)*'Benzin - diesel - hybrid'!W$14*'Benzin - diesel - hybrid'!W$11/1000000,0)","v":0}]

{"sheet":"El og plugin hybrid","index":5,"n_rows":113,"n_cols":23,"rows_kept":113,"cut":false,"hidden":false,"merged":[[53,16,53,17],[53,18,53,23],[2,1,2,2],[5,1,5,4],[47,1,47,3],[48,1,48,3],[53,2,53,3],[53,4,53,5],[55,1,55,3],[53,6,53,7],[53,10,53,11],[53,12,53,13],[53,14,53,15]]}
[]
[null,"TCO-værktøj til tilbudsevaluering"]
[null,"El og plugin-hybrid\nTransportydelser"]
[]
[]
[null,"          "]
[null,"4    Tilbudsgiver: Oplysninger om produktet"]
[null,null,"Produktets navn","Egen reference","PRODUKT 1 EL",null,"PRODUKT 2 EL",null,"PRODUKT 3 EL",null,"PRODUKT 4 EL",null,"PRODUKT 5 EL",null,"PRODUKT 6 EL",null,"PRODUKT 7 EL",null,"PRODUKT 8 EL",null,"PRODUKT 9 EL",null,"PRODUKT 10 EL"]
[null,null,"Type af køretøj","Personbil / minibus / bus","Klik for valg",null,"Klik for valg",null,"Klik for valg",null,"Klik for valg",null,"Minibus",null,"Klik for valg",null,"Klik for valg",null,"Klik for valg",null,"Klik for valg",null,"Klik for valg"]
[]
[null,null,"Hvilken type køretøj er der tale om?","El / plugin hybrid benzin \n/ plugin hybrid diesel","Klik for valg",null,"Klik for valg",null,"Klik for valg",null,"Klik for valg",null,"Klik for valg",null,"Klik for valg",null,"Klik for valg",null,"Klik for valg",null,"Klik for valg",null,"Klik for valg"]
[null,null,"Antal køretøjer","stk."]
[null,null,"Årligt kørselsforbrug pr. motorkøretøj","km/år/køretøj"]
[]
[null,null,"Elforbrug (jf. WLTP eller VECTO)","Wh/km"]
[]
[]
[null,"4A","Kun for plugin hybridkøretøjer"]
[]
[null,null,"Miljøudledninger"]
[null,null,"Anvend CO2-værdier ifølge WLTP/VECTO?",null,"Klik for valg",null,"Klik for valg",null,"Klik for valg",null,"Klik for valg",null,"Klik for valg",null,"Klik for valg",null,"Klik for valg",null,"Klik for valg",null,"Klik for valg",null,"Klik for valg"]
[null,null,"CO2-emission ifølge WLTP/VECTO","g CO2/km"]
[null,null,"CO2-emission - målt emission","g CO2/km"]
[]
[null,null,"NOx-emission i brugsfasen","mg NOx/km"]
[null,null,"Partikelemission i brugsfasen","mg partikler/km"]
[]
[]
[]
[null,"3   Ordregiver: Værdisætning af samfundsøkonomiske omkostninger ved eksterne virkninger på miljøet"]
[null,null,"Skal de eksterne virkninger på miljøet inkluderes i denne TCO-beregning?",null,"Ja",null,{"$f":"$E$31","v":"Ja"},null,{"$f":"$E$31","v":"Ja"},null,{"$f":"$E$31","v":"Ja"},null,{"$f":"$E$31","v":"Ja"},null,{"$f":"$E$31","v":"Ja"},null,{"$f":"$E$31","v":"Ja"},null,{"$f":"$E$31","v":"Ja"},null,{"$f":"$E$31","v":"Ja"},null,{"$f":"$E$31","v":"Ja"}]
[]
[null,null,"Medtag emissioner fra elforbrug?","Ja/nej","Nej",null,{"$f":"$E$33","v":"Nej"},null,{"$f":"$E$33","v":"Nej"},null,{"$f":"$E$33","v":"Nej"},null,{"$f":"$E$33","v":"Nej"},null,{"$f":"$E$33","v":"Nej"},null,{"$f":"$E$33","v":"Nej"},null,{"$f":"$E$33","v":"Nej"},null,{"$f":"$E$33","v":"Nej"},null,{"$f":"$E$33","v":"Nej"}]
[]
[null,null,"Anvendelse af standard-CO2-emissionsfaktor for elforbrug?","Ja/nej","Ja",null,{"$f":"$E35","v":"Ja"},null,{"$f":"$E35","v":"Ja"},null,{"$f":"$E35","v":"Ja"},null,{"$f":"$E35","v":"Ja"},null,{"$f":"$E35","v":"Ja"},null,{"$f":"$E35","v":"Ja"},null,{"$f":"$E35","v":"Ja"},null,{"$f":"$E35","v":"Ja"},null,{"$f":"$E35","v":"Ja"}]
[null,null,"Standard-CO2-emissionsfaktor for elforbrug","kg CO2e/kWh",{"$f":"VLOOKUP(E50,Fremskrivninger!$A$9:$L$38,12)","v":7.0000000000000007E-2},null,{"$f":"$E36","v":7.0000000000000007E-2},null,{"$f":"$E36","v":7.0000000000000007E-2},null,{"$f":"$E36","v":7.0000000000000007E-2},null,{"$f":"$E36","v":7.0000000000000007E-2},null,{"$f":"$E36","v":7.0000000000000007E-2},null,{"$f":"$E36","v":7.0000000000000007E-2},null,{"$f":"$E36","v":7.0000000000000007E-2},null,{"$f":"$E36","v":7.0000000000000007E-2},null,{"$f":"$E36","v":7.0000000000000007E-2}]
[null,null,"Egen CO2-emissionsfaktor for elforbrug","kg CO2e/kWh",null,null,{"$f":"$E37","v":0},null,{"$f":"$E37","v":0},null,{"$f":"$E37","v":0},null,{"$f":"$E37","v":0},null,{"$f":"$E37","v":0},null,{"$f":"$E37","v":0},null,{"$f":"$E37","v":0},null,{"$f":"$E37","v":0},null,{"$f":"$E37","v":0}]
[]
[null,null,"Anvendelse af standard-værdisætning af samfundsøkonomiske omkostninger?",null,"Ja",null,{"$f":"$E$39","v":"Ja"},null,{"$f":"$E$39","v":"Ja"},null,{"$f":"$E$39","v":"Ja"},null,{"$f":"$E$39","v":"Ja"},null,{"$f":"$E$39","v":"Ja"},null,{"$f":"$E$39","v":"Ja"},null,{"$f":"$E$39","v":"Ja"},null,{"$f":"$E$39","v":"Ja"},null,{"$f":"$E$39","v":"Ja"}]
[null,null,"Standard-værdisætning","kr./tons CO2e",1500,null,{"$f":"$E$40","v":1500},null,{"$f":"$E$40","v":1500},null,{"$f":"$E$40","v":1500},null,{"$f":"$E$40","v":1500},null,{"$f":"$E$40","v":1500},null,{"$f":"$E$40","v":1500},null,{"$f":"$E$40","v":1500},null,{"$f":"$E$40","v":1500},null,{"$f":"$E$40","v":1500}]
[null,null,"Egen værdisætning","kr./tons CO2e",0,null,{"$f":"$E$41","v":0},null,{"$f":"$E$41","v":0},null,{"$f":"$E$41","v":0},null,{"$f":"$E$41","v":0},null,{"$f":"$E$41","v":0},null,{"$f":"$E$41","v":0},null,{"$f":"$E$41","v":0},null,{"$f":"$E$41","v":0},null,{"$f":"$E$41","v":0}]
[]
[null,null,"Standard-værdisætning af samfundsøkonomiske omkostninger for NOx og partikler"]
[null,null,"Standard-værdisætning for NOx","kr./kg NOx",{"$f":"'Samfundsøkonomiske priser'!B6","v":378},null,{"$f":"$E$44","v":378},null,{"$f":"$E$44","v":378},null,{"$f":"$E$44","v":378},null,{"$f":"$E$44","v":378},null,{"$f":"$E$44","v":378},null,{"$f":"$E$44","v":378},null,{"$f":"$E$44","v":378},null,{"$f":"$E$44","v":378},null,{"$f":"$E$44","v":378}]
[null,null,"Standard-værdisætning for partikler","kr./kg partikler",{"$f":"'Samfundsøkonomiske priser'!C6","v":1336},null,{"$f":"$E$45","v":1336},null,{"$f":"$E$45","v":1336},null,{"$f":"$E$45","v":1336},null,{"$f":"$E$45","v":1336},null,{"$f":"$E$45","v":1336},null,{"$f":"$E$45","v":1336},null,{"$f":"$E$45","v":1336},null,{"$f":"$E$45","v":1336},null,{"$f":"$E$45","v":1336}]
[]
[]
[null,"          "]
[null,"1   Ordregiver: Baggrundsdata"]
[null,null,"1. år for brugsperiode","årstal",2022,null,{"$f":"$E$50","v":2022},null,{"$f":"$E$50","v":2022},null,{"$f":"$E$50","v":2022},null,{"$f":"$E$50","v":2022},null,{"$f":"$E$50","v":2022},null,{"$f":"$E$50","v":2022},null,{"$f":"$E$50","v":2022},null,{"$f":"$E$50","v":2022},null,{"$f":"$E$50","v":2022}]
[null,null,"TCO-evalueringsperiode","år",4,null,{"$f":"$E$51","v":4},null,{"$f":"$E$51","v":4},null,{"$f":"$E$51","v":4},null,{"$f":"$E$51","v":4},null,{"$f":"$E$51","v":4},null,{"$f":"$E$51","v":4},null,{"$f":"$E$51","v":4},null,{"$f":"$E$51","v":4},null,{"$f":"$E$51","v":4}]
[null,null,"Diskonteringsrente","%/år",3.5000000000000003E-2,null,{"$f":"$E$52","v":3.5000000000000003E-2},null,{"$f":"$E$52","v":3.5000000000000003E-2},null,{"$f":"$E$52","v":3.5000000000000003E-2},null,{"$f":"$E$52","v":3.5000000000000003E-2},null,{"$f":"$E$52","v":3.5000000000000003E-2},null,{"$f":"$E$52","v":3.5000000000000003E-2},null,{"$f":"$E$52","v":3.5000000000000003E-2},null,{"$f":"$E$52","v":3.5000000000000003E-2},null,{"$f":"$E$52","v":3.5000000000000003E-2}]
[]
[]
[]
[null,"5   Resultat for hele TCO-perioden"]
[]
[null,null,{"$f":"IF(E31=\"nej\",\"\",\"Samfundsøkonomiske omkostninger af eksterne virkninger på miljøet\")","v":"Samfundsøkonomiske omkostninger af eksterne virkninger på miljøet"},{"$f":"IF(C58=\"\",\"\",\"kr.\")","v":"kr."},{"$f":"IF($D$58=\"\",\"\",SUMIFS('IB - E&PH'!E$187:E$206,'IB - E&PH'!$C$187:$C$206,\"<=\"&E51)+SUMIFS('IB - E&PH'!E$211:E$230,'IB - E&PH'!$C$211:$C$230,\"<=\"&E51)+SUMIFS('IB - E&PH'!E$235:E$254,'IB - E&PH'!$C$235:$C$254,\"<=\"&E51)+SUMIFS('IB - E&PH'!E$260:E$279,'IB - E&PH'!$C$260:$C$279,\"<=\"&E51)+SUMIFS('IB - E&PH'!E$284:E$303,'IB - E&PH'!$C$284:$C$303,\"<=\"&E51))","v":0},null,{"$f":"IF($D$58=\"\",\"\",SUMIFS('IB - E&PH'!G$187:G$206,'IB - E&PH'!$C$187:$C$206,\"<=\"&G51)+SUMIFS('IB - E&PH'!G$211:G$230,'IB - E&PH'!$C$211:$C$230,\"<=\"&G51)+SUMIFS('IB - E&PH'!G$235:G$254,'IB - E&PH'!$C$235:$C$254,\"<=\"&G51)+SUMIFS('IB - E&PH'!G$260:G$279,'IB - E&PH'!$C$260:$C$279,\"<=\"&G51)+SUMIFS('IB - E&PH'!G$284:G$303,'IB - E&PH'!$C$284:$C$303,\"<=\"&G51))","v":0},null,{"$f":"IF($D$58=\"\",\"\",SUMIFS('IB - E&PH'!I$187:I$206,'IB - E&PH'!$C$187:$C$206,\"<=\"&I51)+SUMIFS('IB - E&PH'!I$211:I$230,'IB - E&PH'!$C$211:$C$230,\"<=\"&I51)+SUMIFS('IB - E&PH'!I$235:I$254,'IB - E&PH'!$C$235:$C$254,\"<=\"&I51)+SUMIFS('IB - E&PH'!I$260:I$279,'IB - E&PH'!$C$260:$C$279,\"<=\"&I51)+SUMIFS('IB - E&PH'!I$284:I$303,'IB - E&PH'!$C$284:$C$303,\"<=\"&I51))","v":0},null,{"$f":"IF($D$58=\"\",\"\",SUMIFS('IB - E&PH'!K$187:K$206,'IB - E&PH'!$C$187:$C$206,\"<=\"&K51)+SUMIFS('IB - E&PH'!K$211:K$230,'IB - E&PH'!$C$211:$C$230,\"<=\"&K51)+SUMIFS('IB - E&PH'!K$235:K$254,'IB - E&PH'!$C$235:$C$254,\"<=\"&K51)+SUMIFS('IB - E&PH'!K$260:K$279,'IB - E&PH'!$C$260:$C$279,\"<=\"&K51)+SUMIFS('IB - E&PH'!K$284:K$303,'IB - E&PH'!$C$284:$C$303,\"<=\"&K51))","v":0},null,{"$f":"IF($D$58=\"\",\"\",SUMIFS('IB - E&PH'!M$187:M$206,'IB - E&PH'!$C$187:$C$206,\"<=\"&M51)+SUMIFS('IB - E&PH'!M$211:M$230,'IB - E&PH'!$C$211:$C$230,\"<=\"&M51)+SUMIFS('IB - E&PH'!M$235:M$254,'IB - E&PH'!$C$235:$C$254,\"<=\"&M51)+SUMIFS('IB - E&PH'!M$260:M$279,'IB - E&PH'!$C$260:$C$279,\"<=\"&M51)+SUMIFS('IB - E&PH'!M$284:M$303,'IB - E&PH'!$C$284:$C$303,\"<=\"&M51))","v":0},null,{"$f":"IF($D$58=\"\",\"\",SUMIFS('IB - E&PH'!O$187:O$206,'IB - E&PH'!$C$187:$C$206,\"<=\"&O51)+SUMIFS('IB - E&PH'!O$211:O$230,'IB - E&PH'!$C$211:$C$230,\"<=\"&O51)+SUMIFS('IB - E&PH'!O$235:O$254,'IB - E&PH'!$C$235:$C$254,\"<=\"&O51)+SUMIFS('IB - E&PH'!O$260:O$279,'IB - E&PH'!$C$260:$C$279,\"<=\"&O51)+SUMIFS('IB - E&PH'!O$284:O$303,'IB - E&PH'!$C$284:$C$303,\"<=\"&O51))","v":0},null,{"$f":"IF($D$58=\"\",\"\",SUMIFS('IB - E&PH'!Q$187:Q$206,'IB - E&PH'!$C$187:$C$206,\"<=\"&Q51)+SUMIFS('IB - E&PH'!Q$211:Q$230,'IB - E&PH'!$C$211:$C$230,\"<=\"&Q51)+SUMIFS('IB - E&PH'!Q$235:Q$254,'IB - E&PH'!$C$235:$C$254,\"<=\"&Q51)+SUMIFS('IB - E&PH'!Q$260:Q$279,'IB - E&PH'!$C$260:$C$279,\"<=\"&Q51)+SUMIFS('IB - E&PH'!Q$284:Q$303,'IB - E&PH'!$C$284:$C$303,\"<=\"&Q51))","v":0},null,{"$f":"IF($D$58=\"\",\"\",SUMIFS('IB - E&PH'!S$187:S$206,'IB - E&PH'!$C$187:$C$206,\"<=\"&S51)+SUMIFS('IB - E&PH'!S$211:S$230,'IB - E&PH'!$C$211:$C$230,\"<=\"&S51)+SUMIFS('IB - E&PH'!S$235:S$254,'IB - E&PH'!$C$235:$C$254,\"<=\"&S51)+SUMIFS('IB - E&PH'!S$260:S$279,'IB - E&PH'!$C$260:$C$279,\"<=\"&S51)+SUMIFS('IB - E&PH'!S$284:S$303,'IB - E&PH'!$C$284:$C$303,\"<=\"&S51))","v":0},null,{"$f":"IF($D$58=\"\",\"\",SUMIFS('IB - E&PH'!U$187:U$206,'IB - E&PH'!$C$187:$C$206,\"<=\"&U51)+SUMIFS('IB - E&PH'!U$211:U$230,'IB - E&PH'!$C$211:$C$230,\"<=\"&U51)+SUMIFS('IB - E&PH'!U$235:U$254,'IB - E&PH'!$C$235:$C$254,\"<=\"&U51)+SUMIFS('IB - E&PH'!U$260:U$279,'IB - E&PH'!$C$260:$C$279,\"<=\"&U51)+SUMIFS('IB - E&PH'!U$284:U$303,'IB - E&PH'!$C$284:$C$303,\"<=\"&U51))","v":0},null,{"$f":"IF($D$58=\"\",\"\",SUMIFS('IB - E&PH'!W$187:W$206,'IB - E&PH'!$C$187:$C$206,\"<=\"&W51)+SUMIFS('IB - E&PH'!W$211:W$230,'IB - E&PH'!$C$211:$C$230,\"<=\"&W51)+SUMIFS('IB - E&PH'!W$235:W$254,'IB - E&PH'!$C$235:$C$254,\"<=\"&W51)+SUMIFS('IB - E&PH'!W$260:W$279,'IB - E&PH'!$C$260:$C$279,\"<=\"&W51)+SUMIFS('IB - E&PH'!W$284:W$303,'IB - E&PH'!$C$284:$C$303,\"<=\"&W51))","v":0}]
[]
[null,null,{"$f":"IF(E31=\"ja\",\"Samlede CO2e udledninger\",\"\")","v":"Samlede CO2e udledninger"},{"$f":"IF(C60=\"\",\"\",\"tons CO2e\")","v":"tons CO2e"},{"$f":"IF(E31=\"ja\",SUMIFS('IB - E&PH'!F$187:F$206,'IB - E&PH'!$B187:$B206,\"<=\"&'El og plugin hybrid'!E51),\"\")","v":0},null,{"$f":"IF(G31=\"ja\",SUMIFS('IB - E&PH'!H$187:H$206,'IB - E&PH'!$B187:$B206,\"<=\"&'El og plugin hybrid'!G51),\"\")","v":0},null,{"$f":"IF(I31=\"ja\",SUMIFS('IB - E&PH'!J$187:J$206,'IB - E&PH'!$B187:$B206,\"<=\"&'El og plugin hybrid'!I51),\"\")","v":0},null,{"$f":"IF(K31=\"ja\",SUMIFS('IB - E&PH'!L$187:L$206,'IB - E&PH'!$B187:$B206,\"<=\"&'El og plugin hybrid'!K51),\"\")","v":0},null,{"$f":"IF(M31=\"ja\",SUMIFS('IB - E&PH'!N$187:N$206,'IB - E&PH'!$B187:$B206,\"<=\"&'El og plugin hybrid'!M51),\"\")","v":0},null,{"$f":"IF(O31=\"ja\",SUMIFS('IB - E&PH'!P$187:P$206,'IB - E&PH'!$B187:$B206,\"<=\"&'El og plugin hybrid'!O51),\"\")","v":0},null,{"$f":"IF(Q31=\"ja\",SUMIFS('IB - E&PH'!R$187:R$206,'IB - E&PH'!$B187:$B206,\"<=\"&'El og plugin hybrid'!Q51),\"\")","v":0},null,{"$f":"IF(S31=\"ja\",SUMIFS('IB - E&PH'!T$187:T$206,'IB - E&PH'!$B187:$B206,\"<=\"&'El og plugin hybrid'!S51),\"\")","v":0},null,{"$f":"IF(U31=\"ja\",SUMIFS('IB - E&PH'!V$187:V$206,'IB - E&PH'!$B187:$B206,\"<=\"&'El og plugin hybrid'!U51),\"\")","v":0},null,{"$f":"IF(W31=\"ja\",SUMIFS('IB - E&PH'!X$187:X$206,'IB - E&PH'!$B187:$B206,\"<=\"&'El og plugin hybrid'!W51),\"\")","v":0}]
[null,null,{"$f":"IF(E31=\"ja\",\"Samlede NOx udledninger\",\"\")","v":"Samlede NOx udledninger"},{"$f":"IF(C61=\"\",\"\",\"kg NOx\")","v":"kg NOx"},{"$f":"IF(E31=\"ja\",_xlfn.IFS(E11=\"El\",SUMIFS('IB - E&PH'!F$211:F$230,'IB - E&PH'!$B211:$B230,\"<=\"&'El og plugin hybrid'!E51), OR(E11=\"Plugin hybrid diesel\", E11=\"Plugin hybrid benzin\"), SUMIFS('IB - E&PH'!F$211:F$230,'IB - E&PH'!$B211:$B230,\"<=\"&'El og plugin hybrid'!E51)+ SUMIFS('IB - E&PH'!F$260:F$279,'IB - E&PH'!$B260:$B279,\"<=\"&'El og plugin hybrid'!E51),OR(E11=\"\",E11=\"Klik for valg\"),\"0,00\"),\"\")","v":"0,00"},null,{"$f":"IF(G31=\"ja\",_xlfn.IFS(G11=\"El\",SUMIFS('IB - E&PH'!H$211:H$230,'IB - E&PH'!$B211:$B230,\"<=\"&'El og plugin hybrid'!G51), OR(G11=\"Plugin hybrid diesel\", G11=\"Plugin hybrid benzin\"), SUMIFS('IB - E&PH'!H$211:H$230,'IB - E&PH'!$B211:$B230,\"<=\"&'El og plugin hybrid'!G51)+ SUMIFS('IB - E&PH'!H$260:H$279,'IB - E&PH'!$B260:$B279,\"<=\"&'El og plugin hybrid'!G51),OR(G11=\"\",G11=\"Klik for valg\"),\"0,00\"),\"\")","v":"0,00"},null,{"$f":"IF(I31=\"ja\",_xlfn.IFS(I11=\"El\",SUMIFS('IB - E&PH'!J$211:J$230,'IB - E&PH'!$B211:$B230,\"<=\"&'El og plugin hybrid'!I51), OR(I11=\"Plugin hybrid diesel\", I11=\"Plugin hybrid benzin\"), SUMIFS('IB - E&PH'!J$211:J$230,'IB - E&PH'!$B211:$B230,\"<=\"&'El og plugin hybrid'!I51)+ SUMIFS('IB - E&PH'!J$260:J$279,'IB - E&PH'!$B260:$B279,\"<=\"&'El og plugin hybrid'!I51),OR(I11=\"\",I11=\"Klik for valg\"),\"0,00\"),\"\")","v":"0,00"},null,{"$f":"IF(K31=\"ja\",_xlfn.IFS(K11=\"El\",SUMIFS('IB - E&PH'!L$211:L$230,'IB - E&PH'!$B211:$B230,\"<=\"&'El og plugin hybrid'!K51), OR(K11=\"Plugin hybrid diesel\", K11=\"Plugin hybrid benzin\"), SUMIFS('IB - E&PH'!L$211:L$230,'IB - E&PH'!$B211:$B230,\"<=\"&'El og plugin hybrid'!K51)+ SUMIFS('IB - E&PH'!L$260:L$279,'IB - E&PH'!$B260:$B279,\"<=\"&'El og plugin hybrid'!K51),OR(K11=\"\",K11=\"Klik for valg\"),\"0,00\"),\"\")","v":"0,00"},null,{"$f":"IF(M31=\"ja\",_xlfn.IFS(M11=\"El\",SUMIFS('IB - E&PH'!N$211:N$230,'IB - E&PH'!$B211:$B230,\"<=\"&'El og plugin hybrid'!M51), OR(M11=\"Plugin hybrid diesel\", M11=\"Plugin hybrid benzin\"), SUMIFS('IB - E&PH'!N$211:N$230,'IB - E&PH'!$B211:$B230,\"<=\"&'El og plugin hybrid'!M51)+ SUMIFS('IB - E&PH'!N$260:N$279,'IB - E&PH'!$B260:$B279,\"<=\"&'El og plugin hybrid'!M51),OR(M11=\"\",M11=\"Klik for valg\"),\"0,00\"),\"\")","v":"0,00"},null,{"$f":"IF(O31=\"ja\",_xlfn.IFS(O11=\"El\",SUMIFS('IB - E&PH'!P$211:P$230,'IB - E&PH'!$B211:$B230,\"<=\"&'El og plugin hybrid'!O51), OR(O11=\"Plugin hybrid diesel\", O11=\"Plugin hybrid benzin\"), SUMIFS('IB - E&PH'!P$211:P$230,'IB - E&PH'!$B211:$B230,\"<=\"&'El og plugin hybrid'!O51)+ SUMIFS('IB - E&PH'!P$260:P$279,'IB - E&PH'!$B260:$B279,\"<=\"&'El og plugin hybrid'!O51),OR(O11=\"\",O11=\"Klik for valg\"),\"0,00\"),\"\")","v":"0,00"},null,{"$f":"IF(Q31=\"ja\",_xlfn.IFS(Q11=\"El\",SUMIFS('IB - E&PH'!R$211:R$230,'IB - E&PH'!$B211:$B230,\"<=\"&'El og plugin hybrid'!Q51), OR(Q11=\"Plugin hybrid diesel\", Q11=\"Plugin hybrid benzin\"), SUMIFS('IB - E&PH'!R$211:R$230,'IB - E&PH'!$B211:$B230,\"<=\"&'El og plugin hybrid'!Q51)+ SUMIFS('IB - E&PH'!R$260:R$279,'IB - E&PH'!$B260:$B279,\"<=\"&'El og plugin hybrid'!Q51),OR(Q11=\"\",Q11=\"Klik for valg\"),\"0,00\"),\"\")","v":"0,00"},null,{"$f":"IF(S31=\"ja\",_xlfn.IFS(S11=\"El\",SUMIFS('IB - E&PH'!T$211:T$230,'IB - E&PH'!$B211:$B230,\"<=\"&'El og plugin hybrid'!S51), OR(S11=\"Plugin hybrid diesel\", S11=\"Plugin hybrid benzin\"), SUMIFS('IB - E&PH'!T$211:T$230,'IB - E&PH'!$B211:$B230,\"<=\"&'El og plugin hybrid'!S51)+ SUMIFS('IB - E&PH'!T$260:T$279,'IB - E&PH'!$B260:$B279,\"<=\"&'El og plugin hybrid'!S51),OR(S11=\"\",S11=\"Klik for valg\"),\"0,00\"),\"\")","v":"0,00"},null,{"$f":"IF(U31=\"ja\",_xlfn.IFS(U11=\"El\",SUMIFS('IB - E&PH'!V$211:V$230,'IB - E&PH'!$B211:$B230,\"<=\"&'El og plugin hybrid'!U51), OR(U11=\"Plugin hybrid diesel\", U11=\"Plugin hybrid benzin\"), SUMIFS('IB - E&PH'!V$211:V$230,'IB - E&PH'!$B211:$B230,\"<=\"&'El og plugin hybrid'!U51)+ SUMIFS('IB - E&PH'!V$260:V$279,'IB - E&PH'!$B260:$B279,\"<=\"&'El og plugin hybrid'!U51),OR(U11=\"\",U11=\"Klik for valg\"),\"0,00\"),\"\")","v":"0,00"},null,{"$f":"IF(W31=\"ja\",_xlfn.IFS(W11=\"El\",SUMIFS('IB - E&PH'!X$211:X$230,'IB - E&PH'!$B211:$B230,\"<=\"&'El og plugin hybrid'!W51), OR(W11=\"Plugin hybrid diesel\", W11=\"Plugin hybrid benzin\"), SUMIFS('IB - E&PH'!X$211:X$230,'IB - E&PH'!$B211:$B230,\"<=\"&'El og plugin hybrid'!W51)+ SUMIFS('IB - E&PH'!X$260:X$279,'IB - E&PH'!$B260:$B279,\"<=\"&'El og plugin hybrid'!W51),OR(W11=\"\",W11=\"Klik for valg\"),\"0,00\"),\"\")","v":"0,00"}]
[null,null,{"$f":"IF(E31=\"ja\",\"Samlede partikeludledninger\",\"\")","v":"Samlede partikeludledninger"},{"$f":"IF(C62=\"\",\"\",\"kg partikler\")","v":"kg partikler"},{"$f":"IF(E31=\"ja\",_xlfn.IFS(E11=\"El\",SUMIFS('IB - E&PH'!F$235:F$254,'IB - E&PH'!$B235:$B254,\"<=\"&'El og plugin hybrid'!E51), OR(E11=\"Plugin hybrid diesel\", E11=\"Plugin hybrid benzin\"), SUMIFS('IB - E&PH'!F$235:F$254,'IB - E&PH'!$B235:$B254,\"<=\"&'El og plugin hybrid'!E51)+ SUMIFS('IB - E&PH'!F$284:F$303,'IB - E&PH'!$B284:$B303,\"<=\"&'El og plugin hybrid'!E51),OR(E11=\"\",E11=\"Klik for valg\"),\"0,00\"),\"\")","v":"0,00"},null,{"$f":"IF(G31=\"ja\",_xlfn.IFS(G11=\"El\",SUMIFS('IB - E&PH'!H$235:H$254,'IB - E&PH'!$B235:$B254,\"<=\"&'El og plugin hybrid'!G51), OR(G11=\"Plugin hybrid diesel\", G11=\"Plugin hybrid benzin\"), SUMIFS('IB - E&PH'!H$235:H$254,'IB - E&PH'!$B235:$B254,\"<=\"&'El og plugin hybrid'!G51)+ SUMIFS('IB - E&PH'!H$284:H$303,'IB - E&PH'!$B284:$B303,\"<=\"&'El og plugin hybrid'!G51),OR(G11=\"\",G11=\"Klik for valg\"),\"0,00\"),\"\")","v":"0,00"},null,{"$f":"IF(I31=\"ja\",_xlfn.IFS(I11=\"El\",SUMIFS('IB - E&PH'!J$235:J$254,'IB - E&PH'!$B235:$B254,\"<=\"&'El og plugin hybrid'!I51), OR(I11=\"Plugin hybrid diesel\", I11=\"Plugin hybrid benzin\"), SUMIFS('IB - E&PH'!J$235:J$254,'IB - E&PH'!$B235:$B254,\"<=\"&'El og plugin hybrid'!I51)+ SUMIFS('IB - E&PH'!J$284:J$303,'IB - E&PH'!$B284:$B303,\"<=\"&'El og plugin hybrid'!I51),OR(I11=\"\",I11=\"Klik for valg\"),\"0,00\"),\"\")","v":"0,00"},null,{"$f":"IF(K31=\"ja\",_xlfn.IFS(K11=\"El\",SUMIFS('IB - E&PH'!L$235:L$254,'IB - E&PH'!$B235:$B254,\"<=\"&'El og plugin hybrid'!K51), OR(K11=\"Plugin hybrid diesel\", K11=\"Plugin hybrid benzin\"), SUMIFS('IB - E&PH'!L$235:L$254,'IB - E&PH'!$B235:$B254,\"<=\"&'El og plugin hybrid'!K51)+ SUMIFS('IB - E&PH'!L$284:L$303,'IB - E&PH'!$B284:$B303,\"<=\"&'El og plugin hybrid'!K51),OR(K11=\"\",K11=\"Klik for valg\"),\"0,00\"),\"\")","v":"0,00"},null,{"$f":"IF(M31=\"ja\",_xlfn.IFS(M11=\"El\",SUMIFS('IB - E&PH'!N$235:N$254,'IB - E&PH'!$B235:$B254,\"<=\"&'El og plugin hybrid'!M51), OR(M11=\"Plugin hybrid diesel\", M11=\"Plugin hybrid benzin\"), SUMIFS('IB - E&PH'!N$235:N$254,'IB - E&PH'!$B235:$B254,\"<=\"&'El og plugin hybrid'!M51)+ SUMIFS('IB - E&PH'!N$284:N$303,'IB - E&PH'!$B284:$B303,\"<=\"&'El og plugin hybrid'!M51),OR(M11=\"\",M11=\"Klik for valg\"),\"0,00\"),\"\")","v":"0,00"},null,{"$f":"IF(O31=\"ja\",_xlfn.IFS(O11=\"El\",SUMIFS('IB - E&PH'!P$235:P$254,'IB - E&PH'!$B235:$B254,\"<=\"&'El og plugin hybrid'!O51), OR(O11=\"Plugin hybrid diesel\", O11=\"Plugin hybrid benzin\"), SUMIFS('IB - E&PH'!P$235:P$254,'IB - E&PH'!$B235:$B254,\"<=\"&'El og plugin hybrid'!O51)+ SUMIFS('IB - E&PH'!P$284:P$303,'IB - E&PH'!$B284:$B303,\"<=\"&'El og plugin hybrid'!O51),OR(O11=\"\",O11=\"Klik for valg\"),\"0,00\"),\"\")","v":"0,00"},null,{"$f":"IF(Q31=\"ja\",_xlfn.IFS(Q11=\"El\",SUMIFS('IB - E&PH'!R$235:R$254,'IB - E&PH'!$B235:$B254,\"<=\"&'El og plugin hybrid'!Q51), OR(Q11=\"Plugin hybrid diesel\", Q11=\"Plugin hybrid benzin\"), SUMIFS('IB - E&PH'!R$235:R$254,'IB - E&PH'!$B235:$B254,\"<=\"&'El og plugin hybrid'!Q51)+ SUMIFS('IB - E&PH'!R$284:R$303,'IB - E&PH'!$B284:$B303,\"<=\"&'El og plugin hybrid'!Q51),OR(Q11=\"\",Q11=\"Klik for valg\"),\"0,00\"),\"\")","v":"0,00"},null,{"$f":"IF(S31=\"ja\",_xlfn.IFS(S11=\"El\",SUMIFS('IB - E&PH'!T$235:T$254,'IB - E&PH'!$B235:$B254,\"<=\"&'El og plugin hybrid'!S51), OR(S11=\"Plugin hybrid diesel\", S11=\"Plugin hybrid benzin\"), SUMIFS('IB - E&PH'!T$235:T$254,'IB - E&PH'!$B235:$B254,\"<=\"&'El og plugin hybrid'!S51)+ SUMIFS('IB - E&PH'!T$284:T$303,'IB - E&PH'!$B284:$B303,\"<=\"&'El og plugin hybrid'!S51),OR(S11=\"\",S11=\"Klik for valg\"),\"0,00\"),\"\")","v":"0,00"},null,{"$f":"IF(U31=\"ja\",_xlfn.IFS(U11=\"El\",SUMIFS('IB - E&PH'!V$235:V$254,'IB - E&PH'!$B235:$B254,\"<=\"&'El og plugin hybrid'!U51), OR(U11=\"Plugin hybrid diesel\", U11=\"Plugin hybrid benzin\"), SUMIFS('IB - E&PH'!V$235:V$254,'IB - E&PH'!$B235:$B254,\"<=\"&'El og plugin hybrid'!U51)+ SUMIFS('IB - E&PH'!V$284:V$303,'IB - E&PH'!$B284:$B303,\"<=\"&'El og plugin hybrid'!U51),OR(U11=\"\",U11=\"Klik for valg\"),\"0,00\"),\"\")","v":"0,00"},null,{"$f":"IF(W31=\"ja\",_xlfn.IFS(W11=\"El\",SUMIFS('IB - E&PH'!X$235:X$254,'IB - E&PH'!$B235:$B254,\"<=\"&'El og plugin hybrid'!W51), OR(W11=\"Plugin hybrid diesel\", W11=\"Plugin hybrid benzin\"), SUMIFS('IB - E&PH'!X$235:X$254,'IB - E&PH'!$B235:$B254,\"<=\"&'El og plugin hybrid'!W51)+ SUMIFS('IB - E&PH'!X$284:X$303,'IB - E&PH'!$B284:$B303,\"<=\"&'El og plugin hybrid'!W51),OR(W11=\"\",W11=\"Klik for valg\"),\"0,00\"),\"\")","v":"0,00"}]
[]
[]
[]
[]
[]
[]
[]
[]
[null,null,{"$f":"'IB - E&PH'!B25","v":0},null,{"$f":"'IB - E&PH'!E25","v":0},null,{"$f":"'IB - E&PH'!G25","v":0},null,{"$f":"'IB - E&PH'!I25","v":0},null,{"$f":"'IB - E&PH'!K25","v":0},null,{"$f":"'IB - E&PH'!M25","v":0},null,{"$f":"'IB - E&PH'!O25","v":0},null,{"$f":"'IB - E&PH'!Q25","v":0},null,{"$f":"'IB - E&PH'!S25","v":0}]
[null,null,null,null,{"$f":"'IB - E&PH'!E26","v":0},null,{"$f":"'IB - E&PH'!G26","v":0},null,{"$f":"'IB - E&PH'!I26","v":0},null,{"$f":"'IB - E&PH'!K26","v":0},null,{"$f":"'IB - E&PH'!M26","v":0},null,{"$f":"'IB - E&PH'!O26","v":0},null,{"$f":"'IB - E&PH'!Q26","v":0},null,{"$f":"'IB - E&PH'!S26","v":0}]
[null,null,null,null,{"$f":"'IB - E&PH'!E27","v":0},null,{"$f":"'IB - E&PH'!G27","v":0},null,{"$f":"'IB - E&PH'!I27","v":0},null,{"$f":"'IB - E&PH'!K27","v":0},null,{"$f":"'IB - E&PH'!M27","v":0},null,{"$f":"'IB - E&PH'!O27","v":0},null,{"$f":"'IB - E&PH'!Q27","v":0},null,{"$f":"'IB - E&PH'!S27","v":0}]
[null,null,null,null,{"$f":"'IB - E&PH'!E28","v":0},null,{"$f":"'IB - E&PH'!G28","v":0},null,{"$f":"'IB - E&PH'!I28","v":0},null,{"$f":"'IB - E&PH'!K28","v":0},null,{"$f":"'IB - E&PH'!M28","v":0},null,{"$f":"'IB - E&PH'!O28","v":0},null,{"$f":"'IB - E&PH'!Q28","v":0},null,{"$f":"'IB - E&PH'!S28","v":0}]
[null,null,null,null,{"$f":"'IB - E&PH'!E29","v":0},null,{"$f":"'IB - E&PH'!G29","v":0},null,{"$f":"'IB - E&PH'!I29","v":0},null,{"$f":"'IB - E&PH'!K29","v":0},null,{"$f":"'IB - E&PH'!M29","v":0},null,{"$f":"'IB - E&PH'!O29","v":0},null,{"$f":"'IB - E&PH'!Q29","v":0},null,{"$f":"'IB - E&PH'!S29","v":0}]
[null,null,null,null,{"$f":"'IB - E&PH'!E30","v":0},null,{"$f":"'IB - E&PH'!G30","v":0},null,{"$f":"'IB - E&PH'!I30","v":0},null,{"$f":"'IB - E&PH'!K30","v":0},null,{"$f":"'IB - E&PH'!M30","v":0},null,{"$f":"'IB - E&PH'!O30","v":0},null,{"$f":"'IB - E&PH'!Q30","v":0},null,{"$f":"'IB - E&PH'!S30","v":0}]
[null,null,null,null,{"$f":"'IB - E&PH'!E31","v":0},null,{"$f":"'IB - E&PH'!G31","v":0},null,{"$f":"'IB - E&PH'!I31","v":0},null,{"$f":"'IB - E&PH'!K31","v":0},null,{"$f":"'IB - E&PH'!M31","v":0},null,{"$f":"'IB - E&PH'!O31","v":0},null,{"$f":"'IB - E&PH'!Q31","v":0},null,{"$f":"'IB - E&PH'!S31","v":0}]
[null,null,null,null,{"$f":"'IB - E&PH'!E32","v":0},null,{"$f":"'IB - E&PH'!G32","v":0},null,{"$f":"'IB - E&PH'!I32","v":0},null,{"$f":"'IB - E&PH'!K32","v":0},null,{"$f":"'IB - E&PH'!M32","v":0},null,{"$f":"'IB - E&PH'!O32","v":0},null,{"$f":"'IB - E&PH'!Q32","v":0},null,{"$f":"'IB - E&PH'!S32","v":0}]
[null,null,null,null,{"$f":"'IB - E&PH'!E33","v":0},null,{"$f":"'IB - E&PH'!G33","v":0},null,{"$f":"'IB - E&PH'!I33","v":0},null,{"$f":"'IB - E&PH'!K33","v":0},null,{"$f":"'IB - E&PH'!M33","v":0},null,{"$f":"'IB - E&PH'!O33","v":0},null,{"$f":"'IB - E&PH'!Q33","v":0},null,{"$f":"'IB - E&PH'!S33","v":0}]
[null,null,null,null,{"$f":"'IB - E&PH'!E34","v":0},null,{"$f":"'IB - E&PH'!G34","v":0},null,{"$f":"'IB - E&PH'!I34","v":0},null,{"$f":"'IB - E&PH'!K34","v":0},null,{"$f":"'IB - E&PH'!M34","v":0},null,{"$f":"'IB - E&PH'!O34","v":0},null,{"$f":"'IB - E&PH'!Q34","v":0},null,{"$f":"'IB - E&PH'!S34","v":0}]
[null,null,null,null,{"$f":"'IB - E&PH'!E35","v":0},null,{"$f":"'IB - E&PH'!G35","v":0},null,{"$f":"'IB - E&PH'!I35","v":0},null,{"$f":"'IB - E&PH'!K35","v":0},null,{"$f":"'IB - E&PH'!M35","v":0},null,{"$f":"'IB - E&PH'!O35","v":0},null,{"$f":"'IB - E&PH'!Q35","v":0},null,{"$f":"'IB - E&PH'!S35","v":0}]
[null,null,null,null,{"$f":"'IB - E&PH'!E36","v":0},null,{"$f":"'IB - E&PH'!G36","v":0},null,{"$f":"'IB - E&PH'!I36","v":0},null,{"$f":"'IB - E&PH'!K36","v":0},null,{"$f":"'IB - E&PH'!M36","v":0},null,{"$f":"'IB - E&PH'!O36","v":0},null,{"$f":"'IB - E&PH'!Q36","v":0},null,{"$f":"'IB - E&PH'!S36","v":0}]
[null,null,null,null,{"$f":"'IB - E&PH'!E37","v":0},null,{"$f":"'IB - E&PH'!G37","v":0},null,{"$f":"'IB - E&PH'!I37","v":0},null,{"$f":"'IB - E&PH'!K37","v":0},null,{"$f":"'IB - E&PH'!M37","v":0},null,{"$f":"'IB - E&PH'!O37","v":0},null,{"$f":"'IB - E&PH'!Q37","v":0},null,{"$f":"'IB - E&PH'!S37","v":0}]
[null,null,null,null,{"$f":"'IB - E&PH'!E38","v":0},null,{"$f":"'IB - E&PH'!G38","v":0},null,{"$f":"'IB - E&PH'!I38","v":0},null,{"$f":"'IB - E&PH'!K38","v":0},null,{"$f":"'IB - E&PH'!M38","v":0},null,{"$f":"'IB - E&PH'!O38","v":0},null,{"$f":"'IB - E&PH'!Q38","v":0},null,{"$f":"'IB - E&PH'!S38","v":0}]
[null,null,null,null,{"$f":"'IB - E&PH'!E39","v":0},null,{"$f":"'IB - E&PH'!G39","v":0},null,{"$f":"'IB - E&PH'!I39","v":0},null,{"$f":"'IB - E&PH'!K39","v":0},null,{"$f":"'IB - E&PH'!M39","v":0},null,{"$f":"'IB - E&PH'!O39","v":0},null,{"$f":"'IB - E&PH'!Q39","v":0},null,{"$f":"'IB - E&PH'!S39","v":0}]
[null,null,null,null,{"$f":"'IB - E&PH'!E40","v":0},null,{"$f":"'IB - E&PH'!G40","v":0},null,{"$f":"'IB - E&PH'!I40","v":0},null,{"$f":"'IB - E&PH'!K40","v":0},null,{"$f":"'IB - E&PH'!M40","v":0},null,{"$f":"'IB - E&PH'!O40","v":0},null,{"$f":"'IB - E&PH'!Q40","v":0},null,{"$f":"'IB - E&PH'!S40","v":0}]
[null,null,null,null,{"$f":"'IB - E&PH'!E41","v":0},null,{"$f":"'IB - E&PH'!G41","v":0},null,{"$f":"'IB - E&PH'!I41","v":0},null,{"$f":"'IB - E&PH'!K41","v":0},null,{"$f":"'IB - E&PH'!M41","v":0},null,{"$f":"'IB - E&PH'!O41","v":0},null,{"$f":"'IB - E&PH'!Q41","v":0},null,{"$f":"'IB - E&PH'!S41","v":0}]
[null,null,null,null,{"$f":"'IB - E&PH'!E42","v":0},null,{"$f":"'IB - E&PH'!G42","v":0},null,{"$f":"'IB - E&PH'!I42","v":0},null,{"$f":"'IB - E&PH'!K42","v":0},null,{"$f":"'IB - E&PH'!M42","v":0},null,{"$f":"'IB - E&PH'!O42","v":0},null,{"$f":"'IB - E&PH'!Q42","v":0},null,{"$f":"'IB - E&PH'!S42","v":0}]
[null,null,null,null,{"$f":"'IB - E&PH'!E43","v":0},null,{"$f":"'IB - E&PH'!G43","v":0},null,{"$f":"'IB - E&PH'!I43","v":0},null,{"$f":"'IB - E&PH'!K43","v":0},null,{"$f":"'IB - E&PH'!M43","v":0},null,{"$f":"'IB - E&PH'!O43","v":0},null,{"$f":"'IB - E&PH'!Q43","v":0},null,{"$f":"'IB - E&PH'!S43","v":0}]
[null,null,null,null,{"$f":"'IB - E&PH'!E44","v":0},null,{"$f":"'IB - E&PH'!G44","v":0},null,{"$f":"'IB - E&PH'!I44","v":0},null,{"$f":"'IB - E&PH'!K44","v":0},null,{"$f":"'IB - E&PH'!M44","v":0},null,{"$f":"'IB - E&PH'!O44","v":0},null,{"$f":"'IB - E&PH'!Q44","v":0},null,{"$f":"'IB - E&PH'!S44","v":0}]
[null,null,null,null,{"$f":"'IB - E&PH'!E45","v":0},null,{"$f":"'IB - E&PH'!G45","v":0},null,{"$f":"'IB - E&PH'!I45","v":0},null,{"$f":"'IB - E&PH'!K45","v":0},null,{"$f":"'IB - E&PH'!M45","v":0},null,{"$f":"'IB - E&PH'!O45","v":0},null,{"$f":"'IB - E&PH'!Q45","v":0},null,{"$f":"'IB - E&PH'!S45","v":0}]
[]
[null,null,{"$f":"'IB - E&PH'!A94","v":0},null,{"$f":"'IB - E&PH'!E95","v":0},null,{"$f":"'IB - E&PH'!G95","v":0},null,{"$f":"'IB - E&PH'!I95","v":0},null,{"$f":"'IB - E&PH'!K95","v":0},null,{"$f":"'IB - E&PH'!M95","v":0},null,{"$f":"'IB - E&PH'!O95","v":0},null,{"$f":"'IB - E&PH'!Q95","v":0},null,{"$f":"'IB - E&PH'!S95","v":0},null,{"$f":"'IB - E&PH'!U95","v":0},null,{"$f":"'IB - E&PH'!W95","v":0}]
[null,null,null,null,{"$f":"'IB - E&PH'!E96","v":0},null,{"$f":"'IB - E&PH'!G96","v":0},null,{"$f":"'IB - E&PH'!I96","v":0},null,{"$f":"'IB - E&PH'!K96","v":0},null,{"$f":"'IB - E&PH'!M96","v":0},null,{"$f":"'IB - E&PH'!O96","v":0},null,{"$f":"'IB - E&PH'!Q96","v":0},null,{"$f":"'IB - E&PH'!S96","v":0},null,{"$f":"'IB - E&PH'!U96","v":0},null,{"$f":"'IB - E&PH'!W96","v":0}]
[null,null,null,null,{"$f":"'IB - E&PH'!E97","v":0},null,{"$f":"'IB - E&PH'!G97","v":0},null,{"$f":"'IB - E&PH'!I97","v":0},null,{"$f":"'IB - E&PH'!K97","v":0},null,{"$f":"'IB - E&PH'!M97","v":0},null,{"$f":"'IB - E&PH'!O97","v":0},null,{"$f":"'IB - E&PH'!Q97","v":0},null,{"$f":"'IB - E&PH'!S97","v":0},null,{"$f":"'IB - E&PH'!U97","v":0},null,{"$f":"'IB - E&PH'!W97","v":0}]
[null,null,null,null,{"$f":"'IB - E&PH'!E98","v":0},null,{"$f":"'IB - E&PH'!G98","v":0},null,{"$f":"'IB - E&PH'!I98","v":0},null,{"$f":"'IB - E&PH'!K98","v":0},null,{"$f":"'IB - E&PH'!M98","v":0},null,{"$f":"'IB - E&PH'!O98","v":0},null,{"$f":"'IB - E&PH'!Q98","v":0},null,{"$f":"'IB - E&PH'!S98","v":0},null,{"$f":"'IB - E&PH'!U98","v":0},null,{"$f":"'IB - E&PH'!W98","v":0}]
[null,null,null,null,{"$f":"'IB - E&PH'!E99","v":0},null,{"$f":"'IB - E&PH'!G99","v":0},null,{"$f":"'IB - E&PH'!I99","v":0},null,{"$f":"'IB - E&PH'!K99","v":0},null,{"$f":"'IB - E&PH'!M99","v":0},null,{"$f":"'IB - E&PH'!O99","v":0},null,{"$f":"'IB - E&PH'!Q99","v":0},null,{"$f":"'IB - E&PH'!S99","v":0},null,{"$f":"'IB - E&PH'!U99","v":0},null,{"$f":"'IB - E&PH'!W99","v":0}]
[null,null,null,null,{"$f":"'IB - E&PH'!E100","v":0},null,{"$f":"'IB - E&PH'!G100","v":0},null,{"$f":"'IB - E&PH'!I100","v":0},null,{"$f":"'IB - E&PH'!K100","v":0},null,{"$f":"'IB - E&PH'!M100","v":0},null,{"$f":"'IB - E&PH'!O100","v":0},null,{"$f":"'IB - E&PH'!Q100","v":0},null,{"$f":"'IB - E&PH'!S100","v":0},null,{"$f":"'IB - E&PH'!U100","v":0},null,{"$f":"'IB - E&PH'!W100","v":0}]
[null,null,null,null,{"$f":"'IB - E&PH'!E101","v":0},null,{"$f":"'IB - E&PH'!G101","v":0},null,{"$f":"'IB - E&PH'!I101","v":0},null,{"$f":"'IB - E&PH'!K101","v":0},null,{"$f":"'IB - E&PH'!M101","v":0},null,{"$f":"'IB - E&PH'!O101","v":0},null,{"$f":"'IB - E&PH'!Q101","v":0},null,{"$f":"'IB - E&PH'!S101","v":0},null,{"$f":"'IB - E&PH'!U101","v":0},null,{"$f":"'IB - E&PH'!W101","v":0}]
[null,null,null,null,{"$f":"'IB - E&PH'!E102","v":0},null,{"$f":"'IB - E&PH'!G102","v":0},null,{"$f":"'IB - E&PH'!I102","v":0},null,{"$f":"'IB - E&PH'!K102","v":0},null,{"$f":"'IB - E&PH'!M102","v":0},null,{"$f":"'IB - E&PH'!O102","v":0},null,{"$f":"'IB - E&PH'!Q102","v":0},null,{"$f":"'IB - E&PH'!S102","v":0},null,{"$f":"'IB - E&PH'!U102","v":0},null,{"$f":"'IB - E&PH'!W102","v":0}]
[null,null,null,null,{"$f":"'IB - E&PH'!E103","v":0},null,{"$f":"'IB - E&PH'!G103","v":0},null,{"$f":"'IB - E&PH'!I103","v":0},null,{"$f":"'IB - E&PH'!K103","v":0},null,{"$f":"'IB - E&PH'!M103","v":0},null,{"$f":"'IB - E&PH'!O103","v":0},null,{"$f":"'IB - E&PH'!Q103","v":0},null,{"$f":"'IB - E&PH'!S103","v":0},null,{"$f":"'IB - E&PH'!U103","v":0},null,{"$f":"'IB - E&PH'!W103","v":0}]
[null,null,null,null,{"$f":"'IB - E&PH'!E104","v":0},null,{"$f":"'IB - E&PH'!G104","v":0},null,{"$f":"'IB - E&PH'!I104","v":0},null,{"$f":"'IB - E&PH'!K104","v":0},null,{"$f":"'IB - E&PH'!M104","v":0},null,{"$f":"'IB - E&PH'!O104","v":0},null,{"$f":"'IB - E&PH'!Q104","v":0},null,{"$f":"'IB - E&PH'!S104","v":0},null,{"$f":"'IB - E&PH'!U104","v":0},null,{"$f":"'IB - E&PH'!W104","v":0}]
[null,null,null,null,{"$f":"'IB - E&PH'!E105","v":0},null,{"$f":"'IB - E&PH'!G105","v":0},null,{"$f":"'IB - E&PH'!I105","v":0},null,{"$f":"'IB - E&PH'!K105","v":0},null,{"$f":"'IB - E&PH'!M105","v":0},null,{"$f":"'IB - E&PH'!O105","v":0},null,{"$f":"'IB - E&PH'!Q105","v":0},null,{"$f":"'IB - E&PH'!S105","v":0},null,{"$f":"'IB - E&PH'!U105","v":0},null,{"$f":"'IB - E&PH'!W105","v":0}]
[null,null,null,null,{"$f":"'IB - E&PH'!E106","v":0},null,{"$f":"'IB - E&PH'!G106","v":0},null,{"$f":"'IB - E&PH'!I106","v":0},null,{"$f":"'IB - E&PH'!K106","v":0},null,{"$f":"'IB - E&PH'!M106","v":0},null,{"$f":"'IB - E&PH'!O106","v":0},null,{"$f":"'IB - E&PH'!Q106","v":0},null,{"$f":"'IB - E&PH'!S106","v":0},null,{"$f":"'IB - E&PH'!U106","v":0},null,{"$f":"'IB - E&PH'!W106","v":0}]
[null,null,null,null,{"$f":"'IB - E&PH'!E107","v":0},null,{"$f":"'IB - E&PH'!G107","v":0},null,{"$f":"'IB - E&PH'!I107","v":0},null,{"$f":"'IB - E&PH'!K107","v":0},null,{"$f":"'IB - E&PH'!M107","v":0},null,{"$f":"'IB - E&PH'!O107","v":0},null,{"$f":"'IB - E&PH'!Q107","v":0},null,{"$f":"'IB - E&PH'!S107","v":0},null,{"$f":"'IB - E&PH'!U107","v":0},null,{"$f":"'IB - E&PH'!W107","v":0}]
[null,null,null,null,{"$f":"'IB - E&PH'!E108","v":0},null,{"$f":"'IB - E&PH'!G108","v":0},null,{"$f":"'IB - E&PH'!I108","v":0},null,{"$f":"'IB - E&PH'!K108","v":0},null,{"$f":"'IB - E&PH'!M108","v":0},null,{"$f":"'IB - E&PH'!O108","v":0},null,{"$f":"'IB - E&PH'!Q108","v":0},null,{"$f":"'IB - E&PH'!S108","v":0},null,{"$f":"'IB - E&PH'!U108","v":0},null,{"$f":"'IB - E&PH'!W108","v":0}]
[null,null,null,null,{"$f":"'IB - E&PH'!E109","v":0},null,{"$f":"'IB - E&PH'!G109","v":0},null,{"$f":"'IB - E&PH'!I109","v":0},null,{"$f":"'IB - E&PH'!K109","v":0},null,{"$f":"'IB - E&PH'!M109","v":0},null,{"$f":"'IB - E&PH'!O109","v":0},null,{"$f":"'IB - E&PH'!Q109","v":0},null,{"$f":"'IB - E&PH'!S109","v":0},null,{"$f":"'IB - E&PH'!U109","v":0},null,{"$f":"'IB - E&PH'!W109","v":0}]
[null,null,null,null,{"$f":"'IB - E&PH'!E110","v":0},null,{"$f":"'IB - E&PH'!G110","v":0},null,{"$f":"'IB - E&PH'!I110","v":0},null,{"$f":"'IB - E&PH'!K110","v":0},null,{"$f":"'IB - E&PH'!M110","v":0},null,{"$f":"'IB - E&PH'!O110","v":0},null,{"$f":"'IB - E&PH'!Q110","v":0},null,{"$f":"'IB - E&PH'!S110","v":0},null,{"$f":"'IB - E&PH'!U110","v":0},null,{"$f":"'IB - E&PH'!W110","v":0}]
[null,null,null,null,{"$f":"'IB - E&PH'!E111","v":0},null,{"$f":"'IB - E&PH'!G111","v":0},null,{"$f":"'IB - E&PH'!I111","v":0},null,{"$f":"'IB - E&PH'!K111","v":0},null,{"$f":"'IB - E&PH'!M111","v":0},null,{"$f":"'IB - E&PH'!O111","v":0},null,{"$f":"'IB - E&PH'!Q111","v":0},null,{"$f":"'IB - E&PH'!S111","v":0},null,{"$f":"'IB - E&PH'!U111","v":0},null,{"$f":"'IB - E&PH'!W111","v":0}]
[null,null,null,null,{"$f":"'IB - E&PH'!E112","v":0},null,{"$f":"'IB - E&PH'!G112","v":0},null,{"$f":"'IB - E&PH'!I112","v":0},null,{"$f":"'IB - E&PH'!K112","v":0},null,{"$f":"'IB - E&PH'!M112","v":0},null,{"$f":"'IB - E&PH'!O112","v":0},null,{"$f":"'IB - E&PH'!Q112","v":0},null,{"$f":"'IB - E&PH'!S112","v":0},null,{"$f":"'IB - E&PH'!U112","v":0},null,{"$f":"'IB - E&PH'!W112","v":0}]
[null,null,null,null,{"$f":"'IB - E&PH'!E113","v":0},null,{"$f":"'IB - E&PH'!G113","v":0},null,{"$f":"'IB - E&PH'!I113","v":0},null,{"$f":"'IB - E&PH'!K113","v":0},null,{"$f":"'IB - E&PH'!M113","v":0},null,{"$f":"'IB - E&PH'!O113","v":0},null,{"$f":"'IB - E&PH'!Q113","v":0},null,{"$f":"'IB - E&PH'!S113","v":0},null,{"$f":"'IB - E&PH'!U113","v":0},null,{"$f":"'IB - E&PH'!W113","v":0}]
[null,null,null,null,{"$f":"'IB - E&PH'!E114","v":0},null,{"$f":"'IB - E&PH'!G114","v":0},null,{"$f":"'IB - E&PH'!I114","v":0},null,{"$f":"'IB - E&PH'!K114","v":0},null,{"$f":"'IB - E&PH'!M114","v":0},null,{"$f":"'IB - E&PH'!O114","v":0},null,{"$f":"'IB - E&PH'!Q114","v":0},null,{"$f":"'IB - E&PH'!S114","v":0},null,{"$f":"'IB - E&PH'!U114","v":0},null,{"$f":"'IB - E&PH'!W114","v":0}]
[null,null,null,null,{"$f":"'IB - E&PH'!E115","v":0},null,{"$f":"'IB - E&PH'!G115","v":0},null,{"$f":"'IB - E&PH'!I115","v":0},null,{"$f":"'IB - E&PH'!K115","v":0},null,{"$f":"'IB - E&PH'!M115","v":0},null,{"$f":"'IB - E&PH'!O115","v":0},null,{"$f":"'IB - E&PH'!Q115","v":0},null,{"$f":"'IB - E&PH'!S115","v":0},null,{"$f":"'IB - E&PH'!U115","v":0},null,{"$f":"'IB - E&PH'!W115","v":0}]

{"sheet":"IB - E&PH","index":6,"n_rows":303,"n_cols":27,"rows_kept":303,"cut":false,"hidden":true,"merged":[]}
[null,null,null,null,null,null,null,null,null,null,null,null,null,null,null,null,null,null,null,null,null,null,null,null,null,null,"Klik for valg"]
[null,null,null,null,null,null,null,null,null,null,null,null,null,null,null,null,null,null,null,null,null,null,null,null,null,null,"El"]
[null,null,null,null,null,null,null,null,null,null,null,null,null,null,null,null,null,null,null,null,null,null,null,null,null,null,"Plugin hybrid benzin"]
[null,null,null,null,null,null,null,null,null,null,null,null,null,null,null,null,null,null,null,null,null,null,null,null,null,null,"Plugin hybrid diesel"]
[]
[]
[]
[]
[]
[]
[]
[]
[]
[]
[]
[]
[]
[]
[]
[]
[]
[]
[]
[]
[]
[null,null,null,null,null,null,null,null,null,null,null,null,null,null,null,null,null,null,null,null,null,null,null,null,null,"X-akse til akkummulerede omkostninger"]
[null,null,null,null,null,null,null,null,null,null,null,null,null,null,null,null,null,null,null,null,null,null,null,null,null,1]
[null,null,null,null,null,null,null,null,null,null,null,null,null,null,null,null,null,null,null,null,null,null,null,null,null,{"$f":"IF('El og plugin hybrid'!$E$51>=B27,B27,\"\")","v":0}]
[null,null,null,null,null,null,null,null,null,null,null,null,null,null,null,null,null,null,null,null,null,null,null,null,null,{"$f":"IF('El og plugin hybrid'!$E$51>=B28,B28,\"\")","v":0}]
[null,null,null,null,null,null,null,null,null,null,null,null,null,null,null,null,null,null,null,null,null,null,null,null,null,{"$f":"IF('El og plugin hybrid'!$E$51>=B29,B29,\"\")","v":0}]
[null,null,null,null,null,null,null,null,null,null,null,null,null,null,null,null,null,null,null,null,null,null,null,null,null,{"$f":"IF('El og plugin hybrid'!$E$51>=B30,B30,\"\")","v":0}]
[null,null,null,null,null,null,null,null,null,null,null,null,null,null,null,null,null,null,null,null,null,null,null,null,null,{"$f":"IF('El og plugin hybrid'!$E$51>=B31,B31,\"\")","v":0}]
[null,null,null,null,null,null,null,null,null,null,null,null,null,null,null,null,null,null,null,null,null,null,null,null,null,{"$f":"IF('El og plugin hybrid'!$E$51>=B32,B32,\"\")","v":0}]
[null,null,null,null,null,null,null,null,null,null,null,null,null,null,null,null,null,null,null,null,null,null,null,null,null,{"$f":"IF('El og plugin hybrid'!$E$51>=B33,B33,\"\")","v":0}]
[null,null,null,null,null,null,null,null,null,null,null,null,null,null,null,null,null,null,null,null,null,null,null,null,null,{"$f":"IF('El og plugin hybrid'!$E$51>=B34,B34,\"\")","v":0}]
[null,null,null,null,null,null,null,null,null,null,null,null,null,null,null,null,null,null,null,null,null,null,null,null,null,{"$f":"IF('El og plugin hybrid'!$E$51>=B35,B35,\"\")","v":0}]
[null,null,null,null,null,null,null,null,null,null,null,null,null,null,null,null,null,null,null,null,null,null,null,null,null,{"$f":"IF('El og plugin hybrid'!$E$51>=B36,B36,\"\")","v":0}]
[null,null,null,null,null,null,null,null,null,null,null,null,null,null,null,null,null,null,null,null,null,null,null,null,null,{"$f":"IF('El og plugin hybrid'!$E$51>=B37,B37,\"\")","v":0}]
[null,null,null,null,null,null,null,null,null,null,null,null,null,null,null,null,null,null,null,null,null,null,null,null,null,{"$f":"IF('El og plugin hybrid'!$E$51>=B38,B38,\"\")","v":0}]
[null,null,null,null,null,null,null,null,null,null,null,null,null,null,null,null,null,null,null,null,null,null,null,null,null,{"$f":"IF('El og plugin hybrid'!$E$51>=B39,B39,\"\")","v":0}]
[null,null,null,null,null,null,null,null,null,null,null,null,null,null,null,null,null,null,null,null,null,null,null,null,null,{"$f":"IF('El og plugin hybrid'!$E$51>=B40,B40,\"\")","v":0}]
[null,null,null,null,null,null,null,null,null,null,null,null,null,null,null,null,null,null,null,null,null,null,null,null,null,{"$f":"IF('El og plugin hybrid'!$E$51>=B41,B41,\"\")","v":0}]
[null,null,null,null,null,null,null,null,null,null,null,null,null,null,null,null,null,null,null,null,null,null,null,null,null,{"$f":"IF('El og plugin hybrid'!$E$51>=B42,B42,\"\")","v":0}]
[null,null,null,null,null,null,null,null,null,null,null,null,null,null,null,null,null,null,null,null,null,null,null,null,null,{"$f":"IF('El og plugin hybrid'!$E$51>=B43,B43,\"\")","v":0}]
[null,null,null,null,null,null,null,null,null,null,null,null,null,null,null,null,null,null,null,null,null,null,null,null,null,{"$f":"IF('El og plugin hybrid'!$E$51>=B44,B44,\"\")","v":0}]
[null,null,null,null,null,null,null,null,null,null,null,null,null,null,null,null,null,null,null,null,null,null,null,null,null,{"$f":"IF('El og plugin hybrid'!$E$51>=B45,B45,\"\")","v":0}]
[]
[]
[]
[]
[]
[]
[]
[]
[]
[]
[]
[]
[]
[]
[]
[]
[]
[]
[]
[]
[]
[]
[]
[]
[]
[]
[]
[]
[]
[]
[]
[]
[]
[]
[]
[]
[]
[]
[]
[]
[]
[]
[]
[]
[]
[]
[]
[]
[]
[]
[]
[]
[]
[]
[]
[]
[]
[]
[]
[]
[]
[]
[]
[]
[]
[]
[]
[]
[]
[]
["Eksternalitetsmodul - Udledning forbundet med elforbrug I brugsfasen (tons CO2e) -  Udledningerne er multipleret med antallet af produkter I det givne tilbud"]
[null,"År indeks",null,"TCO-evalueringsperiode",{"$f":"'El og plugin hybrid'!E8&\" - (ton CO2e/år)\"","v":"PRODUKT 1 EL - (ton CO2e/år)"},{"$f":"'El og plugin hybrid'!E8&\" - Årligt strømforbrug (kWh/år/produkt)\"","v":"PRODUKT 1 EL - Årligt strømforbrug (kWh/år/produkt)"},{"$f":"'El og plugin hybrid'!G8&\" - (ton CO2e/år)\"","v":"PRODUKT 2 EL - (ton CO2e/år)"},{"$f":"'El og plugin hybrid'!G8&\" - Årligt strømforbrug (kWh/år/produkt)\"","v":"PRODUKT 2 EL - Årligt strømforbrug (kWh/år/produkt)"},{"$f":"'El og plugin hybrid'!I8&\" - (ton CO2e/år)\"","v":"PRODUKT 3 EL - (ton CO2e/år)"},{"$f":"'El og plugin hybrid'!I8&\" - Årligt strømforbrug (kWh/år/produkt)\"","v":"PRODUKT 3 EL - Årligt strømforbrug (kWh/år/produkt)"},{"$f":"'El og plugin hybrid'!K8&\" - (ton CO2e/år)\"","v":"PRODUKT 4 EL - (ton CO2e/år)"},{"$f":"'El og plugin hybrid'!K8&\" - Årligt strømforbrug (kWh/år/produkt)\"","v":"PRODUKT 4 EL - Årligt strømforbrug (kWh/år/produkt)"},{"$f":"'El og plugin hybrid'!M8&\" - (ton CO2e/år)\"","v":"PRODUKT 5 EL - (ton CO2e/år)"},{"$f":"'El og plugin hybrid'!M8&\" - Årligt strømforbrug (kWh/år/produkt)\"","v":"PRODUKT 5 EL - Årligt strømforbrug (kWh/år/produkt)"},{"$f":"'El og plugin hybrid'!O8&\" - (ton CO2e/år)\"","v":"PRODUKT 6 EL - (ton CO2e/år)"},{"$f":"'El og plugin hybrid'!O8&\" - Årligt strømforbrug (kWh/år/produkt)\"","v":"PRODUKT 6 EL - Årligt strømforbrug (kWh/år/produkt)"},{"$f":"'El og plugin hybrid'!Q8&\" - (ton CO2e/år)\"","v":"PRODUKT 7 EL - (ton CO2e/år)"},{"$f":"'El og plugin hybrid'!Q8&\" - Årligt strømforbrug (kWh/år/produkt)\"","v":"PRODUKT 7 EL - Årligt strømforbrug (kWh/år/produkt)"},{"$f":"'El og plugin hybrid'!S8&\" - (ton CO2e/år)\"","v":"PRODUKT 8 EL - (ton CO2e/år)"},{"$f":"'El og plugin hybrid'!S8&\" - Årligt strømforbrug (kWh/år/produkt)\"","v":"PRODUKT 8 EL - Årligt strømforbrug (kWh/år/produkt)"},{"$f":"'El og plugin hybrid'!U8&\" - (ton CO2e/år)\"","v":"PRODUKT 9 EL - (ton CO2e/år)"},{"$f":"'El og plugin hybrid'!U8&\" - Årligt strømforbrug (kWh/år/produkt)\"","v":"PRODUKT 9 EL - Årligt strømforbrug (kWh/år/produkt)"},{"$f":"'El og plugin hybrid'!W8&\" - (ton CO2e/år)\"","v":"PRODUKT 10 EL - (ton CO2e/år)"},{"$f":"'El og plugin hybrid'!W8&\" - Årligt strømforbrug (kWh/år/produkt)\"","v":"PRODUKT 10 EL - Årligt strømforbrug (kWh/år/produkt)"}]
[null,1,{"$f":"B119","v":1},null,{"$f":"'El og plugin hybrid'!E$12*F119*IF('El og plugin hybrid'!E$31=\"nej\",\"\",IF('El og plugin hybrid'!E$35=\"ja\",VLOOKUP('El og plugin hybrid'!E$50+($C119-1),Fremskrivninger!$A$9:$L$38,12),'El og plugin hybrid'!E$37))/1000","v":0},{"$f":"'El og plugin hybrid'!E$15/1000*'El og plugin hybrid'!E$13","v":0},{"$f":"'El og plugin hybrid'!G$12*H119*IF('El og plugin hybrid'!G$31=\"nej\",\"\",IF('El og plugin hybrid'!G$35=\"ja\",VLOOKUP('El og plugin hybrid'!G$50+($C119-1),Fremskrivninger!$A$9:$L$38,12),'El og plugin hybrid'!G$37))/1000","v":0},{"$f":"'El og plugin hybrid'!G$15/1000*'El og plugin hybrid'!G$13","v":0},{"$f":"'El og plugin hybrid'!I$12*J119*IF('El og plugin hybrid'!I$31=\"nej\",\"\",IF('El og plugin hybrid'!I$35=\"ja\",VLOOKUP('El og plugin hybrid'!I$50+($C119-1),Fremskrivninger!$A$9:$L$38,12),'El og plugin hybrid'!I$37))/1000","v":0},{"$f":"'El og plugin hybrid'!I$15/1000*'El og plugin hybrid'!I$13","v":0},{"$f":"'El og plugin hybrid'!K$12*L119*IF('El og plugin hybrid'!K$31=\"nej\",\"\",IF('El og plugin hybrid'!K$35=\"ja\",VLOOKUP('El og plugin hybrid'!K$50+($C119-1),Fremskrivninger!$A$9:$L$38,12),'El og plugin hybrid'!K$37))/1000","v":0},{"$f":"'El og plugin hybrid'!K$15/1000*'El og plugin hybrid'!K$13","v":0},{"$f":"'El og plugin hybrid'!M$12*N119*IF('El og plugin hybrid'!M$31=\"nej\",\"\",IF('El og plugin hybrid'!M$35=\"ja\",VLOOKUP('El og plugin hybrid'!M$50+($C119-1),Fremskrivninger!$A$9:$L$38,12),'El og plugin hybrid'!M$37))/1000","v":0},{"$f":"'El og plugin hybrid'!M$15/1000*'El og plugin hybrid'!M$13","v":0},{"$f":"'El og plugin hybrid'!O$12*P119*IF('El og plugin hybrid'!O$31=\"nej\",\"\",IF('El og plugin hybrid'!O$35=\"ja\",VLOOKUP('El og plugin hybrid'!O$50+($C119-1),Fremskrivninger!$A$9:$L$38,12),'El og plugin hybrid'!O$37))/1000","v":0},{"$f":"'El og plugin hybrid'!O$15/1000*'El og plugin hybrid'!O$13","v":0},{"$f":"'El og plugin hybrid'!Q$12*R119*IF('El og plugin hybrid'!Q$31=\"nej\",\"\",IF('El og plugin hybrid'!Q$35=\"ja\",VLOOKUP('El og plugin hybrid'!Q$50+($C119-1),Fremskrivninger!$A$9:$L$38,12),'El og plugin hybrid'!Q$37))/1000","v":0},{"$f":"'El og plugin hybrid'!Q$15/1000*'El og plugin hybrid'!Q$13","v":0},{"$f":"'El og plugin hybrid'!S$12*T119*IF('El og plugin hybrid'!S$31=\"nej\",\"\",IF('El og plugin hybrid'!S$35=\"ja\",VLOOKUP('El og plugin hybrid'!S$50+($C119-1),Fremskrivninger!$A$9:$L$38,12),'El og plugin hybrid'!S$37))/1000","v":0},{"$f":"'El og plugin hybrid'!S$15/1000*'El og plugin hybrid'!S$13","v":0},{"$f":"'El og plugin hybrid'!U$12*V119*IF('El og plugin hybrid'!U$31=\"nej\",\"\",IF('El og plugin hybrid'!U$35=\"ja\",VLOOKUP('El og plugin hybrid'!U$50+($C119-1),Fremskrivninger!$A$9:$L$38,12),'El og plugin hybrid'!U$37))/1000","v":0},{"$f":"'El og plugin hybrid'!U$15/1000*'El og plugin hybrid'!U$13","v":0},{"$f":"'El og plugin hybrid'!W$12*X119*IF('El og plugin hybrid'!W$31=\"nej\",\"\",IF('El og plugin hybrid'!W$35=\"ja\",VLOOKUP('El og plugin hybrid'!W$50+($C119-1),Fremskrivninger!$A$9:$L$38,12),'El og plugin hybrid'!W$37))/1000","v":0},{"$f":"'El og plugin hybrid'!W$15/1000*'El og plugin hybrid'!W$13","v":0}]
[null,2,{"$f":"B120","v":2},null,{"$f":"'El og plugin hybrid'!E$12*F120*IF('El og plugin hybrid'!E$31=\"nej\",\"\",IF('El og plugin hybrid'!E$35=\"ja\",VLOOKUP('El og plugin hybrid'!E$50+($C120-1),Fremskrivninger!$A$9:$L$38,12),'El og plugin hybrid'!E$37))/1000","v":0},{"$f":"'El og plugin hybrid'!E$15/1000*'El og plugin hybrid'!E$13","v":0},{"$f":"'El og plugin hybrid'!G$12*H120*IF('El og plugin hybrid'!G$31=\"nej\",\"\",IF('El og plugin hybrid'!G$35=\"ja\",VLOOKUP('El og plugin hybrid'!G$50+($C120-1),Fremskrivninger!$A$9:$L$38,12),'El og plugin hybrid'!G$37))/1000","v":0},{"$f":"'El og plugin hybrid'!G$15/1000*'El og plugin hybrid'!G$13","v":0},{"$f":"'El og plugin hybrid'!I$12*J120*IF('El og plugin hybrid'!I$31=\"nej\",\"\",IF('El og plugin hybrid'!I$35=\"ja\",VLOOKUP('El og plugin hybrid'!I$50+($C120-1),Fremskrivninger!$A$9:$L$38,12),'El og plugin hybrid'!I$37))/1000","v":0},{"$f":"'El og plugin hybrid'!I$15/1000*'El og plugin hybrid'!I$13","v":0},{"$f":"'El og plugin hybrid'!K$12*L120*IF('El og plugin hybrid'!K$31=\"nej\",\"\",IF('El og plugin hybrid'!K$35=\"ja\",VLOOKUP('El og plugin hybrid'!K$50+($C120-1),Fremskrivninger!$A$9:$L$38,12),'El og plugin hybrid'!K$37))/1000","v":0},{"$f":"'El og plugin hybrid'!K$15/1000*'El og plugin hybrid'!K$13","v":0},{"$f":"'El og plugin hybrid'!M$12*N120*IF('El og plugin hybrid'!M$31=\"nej\",\"\",IF('El og plugin hybrid'!M$35=\"ja\",VLOOKUP('El og plugin hybrid'!M$50+($C120-1),Fremskrivninger!$A$9:$L$38,12),'El og plugin hybrid'!M$37))/1000","v":0},{"$f":"'El og plugin hybrid'!M$15/1000*'El og plugin hybrid'!M$13","v":0},{"$f":"'El og plugin hybrid'!O$12*P120*IF('El og plugin hybrid'!O$31=\"nej\",\"\",IF('El og plugin hybrid'!O$35=\"ja\",VLOOKUP('El og plugin hybrid'!O$50+($C120-1),Fremskrivninger!$A$9:$L$38,12),'El og plugin hybrid'!O$37))/1000","v":0},{"$f":"'El og plugin hybrid'!O$15/1000*'El og plugin hybrid'!O$13","v":0},{"$f":"'El og plugin hybrid'!Q$12*R120*IF('El og plugin hybrid'!Q$31=\"nej\",\"\",IF('El og plugin hybrid'!Q$35=\"ja\",VLOOKUP('El og plugin hybrid'!Q$50+($C120-1),Fremskrivninger!$A$9:$L$38,12),'El og plugin hybrid'!Q$37))/1000","v":0},{"$f":"'El og plugin hybrid'!Q$15/1000*'El og plugin hybrid'!Q$13","v":0},{"$f":"'El og plugin hybrid'!S$12*T120*IF('El og plugin hybrid'!S$31=\"nej\",\"\",IF('El og plugin hybrid'!S$35=\"ja\",VLOOKUP('El og plugin hybrid'!S$50+($C120-1),Fremskrivninger!$A$9:$L$38,12),'El og plugin hybrid'!S$37))/1000","v":0},{"$f":"'El og plugin hybrid'!S$15/1000*'El og plugin hybrid'!S$13","v":0},{"$f":"'El og plugin hybrid'!U$12*V120*IF('El og plugin hybrid'!U$31=\"nej\",\"\",IF('El og plugin hybrid'!U$35=\"ja\",VLOOKUP('El og plugin hybrid'!U$50+($C120-1),Fremskrivninger!$A$9:$L$38,12),'El og plugin hybrid'!U$37))/1000","v":0},{"$f":"'El og plugin hybrid'!U$15/1000*'El og plugin hybrid'!U$13","v":0},{"$f":"'El og plugin hybrid'!W$12*X120*IF('El og plugin hybrid'!W$31=\"nej\",\"\",IF('El og plugin hybrid'!W$35=\"ja\",VLOOKUP('El og plugin hybrid'!W$50+($C120-1),Fremskrivninger!$A$9:$L$38,12),'El og plugin hybrid'!W$37))/1000","v":0},{"$f":"'El og plugin hybrid'!W$15/1000*'El og plugin hybrid'!W$13","v":0}]
[null,3,3,null,{"$f":"'El og plugin hybrid'!E$12*F121*IF('El og plugin hybrid'!E$31=\"nej\",\"\",IF('El og plugin hybrid'!E$35=\"ja\",VLOOKUP('El og plugin hybrid'!E$50+($C121-1),Fremskrivninger!$A$9:$L$38,12),'El og plugin hybrid'!E$37))/1000","v":0},{"$f":"'El og plugin hybrid'!E$15/1000*'El og plugin hybrid'!E$13","v":0},{"$f":"'El og plugin hybrid'!G$12*H121*IF('El og plugin hybrid'!G$31=\"nej\",\"\",IF('El og plugin hybrid'!G$35=\"ja\",VLOOKUP('El og plugin hybrid'!G$50+($C121-1),Fremskrivninger!$A$9:$L$38,12),'El og plugin hybrid'!G$37))/1000","v":0},{"$f":"'El og plugin hybrid'!G$15/1000*'El og plugin hybrid'!G$13","v":0},{"$f":"'El og plugin hybrid'!I$12*J121*IF('El og plugin hybrid'!I$31=\"nej\",\"\",IF('El og plugin hybrid'!I$35=\"ja\",VLOOKUP('El og plugin hybrid'!I$50+($C121-1),Fremskrivninger!$A$9:$L$38,12),'El og plugin hybrid'!I$37))/1000","v":0},{"$f":"'El og plugin hybrid'!I$15/1000*'El og plugin hybrid'!I$13","v":0},{"$f":"'El og plugin hybrid'!K$12*L121*IF('El og plugin hybrid'!K$31=\"nej\",\"\",IF('El og plugin hybrid'!K$35=\"ja\",VLOOKUP('El og plugin hybrid'!K$50+($C121-1),Fremskrivninger!$A$9:$L$38,12),'El og plugin hybrid'!K$37))/1000","v":0},{"$f":"'El og plugin hybrid'!K$15/1000*'El og plugin hybrid'!K$13","v":0},{"$f":"'El og plugin hybrid'!M$12*N121*IF('El og plugin hybrid'!M$31=\"nej\",\"\",IF('El og plugin hybrid'!M$35=\"ja\",VLOOKUP('El og plugin hybrid'!M$50+($C121-1),Fremskrivninger!$A$9:$L$38,12),'El og plugin hybrid'!M$37))/1000","v":0},{"$f":"'El og plugin hybrid'!M$15/1000*'El og plugin hybrid'!M$13","v":0},{"$f":"'El og plugin hybrid'!O$12*P121*IF('El og plugin hybrid'!O$31=\"nej\",\"\",IF('El og plugin hybrid'!O$35=\"ja\",VLOOKUP('El og plugin hybrid'!O$50+($C121-1),Fremskrivninger!$A$9:$L$38,12),'El og plugin hybrid'!O$37))/1000","v":0},{"$f":"'El og plugin hybrid'!O$15/1000*'El og plugin hybrid'!O$13","v":0},{"$f":"'El og plugin hybrid'!Q$12*R121*IF('El og plugin hybrid'!Q$31=\"nej\",\"\",IF('El og plugin hybrid'!Q$35=\"ja\",VLOOKUP('El og plugin hybrid'!Q$50+($C121-1),Fremskrivninger!$A$9:$L$38,12),'El og plugin hybrid'!Q$37))/1000","v":0},{"$f":"'El og plugin hybrid'!Q$15/1000*'El og plugin hybrid'!Q$13","v":0},{"$f":"'El og plugin hybrid'!S$12*T121*IF('El og plugin hybrid'!S$31=\"nej\",\"\",IF('El og plugin hybrid'!S$35=\"ja\",VLOOKUP('El og plugin hybrid'!S$50+($C121-1),Fremskrivninger!$A$9:$L$38,12),'El og plugin hybrid'!S$37))/1000","v":0},{"$f":"'El og plugin hybrid'!S$15/1000*'El og plugin hybrid'!S$13","v":0},{"$f":"'El og plugin hybrid'!U$12*V121*IF('El og plugin hybrid'!U$31=\"nej\",\"\",IF('El og plugin hybrid'!U$35=\"ja\",VLOOKUP('El og plugin hybrid'!U$50+($C121-1),Fremskrivninger!$A$9:$L$38,12),'El og plugin hybrid'!U$37))/1000","v":0},{"$f":"'El og plugin hybrid'!U$15/1000*'El og plugin hybrid'!U$13","v":0},{"$f":"'El og plugin hybrid'!W$12*X121*IF('El og plugin hybrid'!W$31=\"nej\",\"\",IF('El og plugin hybrid'!W$35=\"ja\",VLOOKUP('El og plugin hybrid'!W$50+($C121-1),Fremskrivninger!$A$9:$L$38,12),'El og plugin hybrid'!W$37))/1000","v":0},{"$f":"'El og plugin hybrid'!W$15/1000*'El og plugin hybrid'!W$13","v":0}]
[null,4,4,null,{"$f":"'El og plugin hybrid'!E$12*F122*IF('El og plugin hybrid'!E$31=\"nej\",\"\",IF('El og plugin hybrid'!E$35=\"ja\",VLOOKUP('El og plugin hybrid'!E$50+($C122-1),Fremskrivninger!$A$9:$L$38,12),'El og plugin hybrid'!E$37))/1000","v":0},{"$f":"'El og plugin hybrid'!E$15/1000*'El og plugin hybrid'!E$13","v":0},{"$f":"'El og plugin hybrid'!G$12*H122*IF('El og plugin hybrid'!G$31=\"nej\",\"\",IF('El og plugin hybrid'!G$35=\"ja\",VLOOKUP('El og plugin hybrid'!G$50+($C122-1),Fremskrivninger!$A$9:$L$38,12),'El og plugin hybrid'!G$37))/1000","v":0},{"$f":"'El og plugin hybrid'!G$15/1000*'El og plugin hybrid'!G$13","v":0},{"$f":"'El og plugin hybrid'!I$12*J122*IF('El og plugin hybrid'!I$31=\"nej\",\"\",IF('El og plugin hybrid'!I$35=\"ja\",VLOOKUP('El og plugin hybrid'!I$50+($C122-1),Fremskrivninger!$A$9:$L$38,12),'El og plugin hybrid'!I$37))/1000","v":0},{"$f":"'El og plugin hybrid'!I$15/1000*'El og plugin hybrid'!I$13","v":0},{"$f":"'El og plugin hybrid'!K$12*L122*IF('El og plugin hybrid'!K$31=\"nej\",\"\",IF('El og plugin hybrid'!K$35=\"ja\",VLOOKUP('El og plugin hybrid'!K$50+($C122-1),Fremskrivninger!$A$9:$L$38,12),'El og plugin hybrid'!K$37))/1000","v":0},{"$f":"'El og plugin hybrid'!K$15/1000*'El og plugin hybrid'!K$13","v":0},{"$f":"'El og plugin hybrid'!M$12*N122*IF('El og plugin hybrid'!M$31=\"nej\",\"\",IF('El og plugin hybrid'!M$35=\"ja\",VLOOKUP('El og plugin hybrid'!M$50+($C122-1),Fremskrivninger!$A$9:$L$38,12),'El og plugin hybrid'!M$37))/1000","v":0},{"$f":"'El og plugin hybrid'!M$15/1000*'El og plugin hybrid'!M$13","v":0},{"$f":"'El og plugin hybrid'!O$12*P122*IF('El og plugin hybrid'!O$31=\"nej\",\"\",IF('El og plugin hybrid'!O$35=\"ja\",VLOOKUP('El og plugin hybrid'!O$50+($C122-1),Fremskrivninger!$A$9:$L$38,12),'El og plugin hybrid'!O$37))/1000","v":0},{"$f":"'El og plugin hybrid'!O$15/1000*'El og plugin hybrid'!O$13","v":0},{"$f":"'El og plugin hybrid'!Q$12*R122*IF('El og plugin hybrid'!Q$31=\"nej\",\"\",IF('El og plugin hybrid'!Q$35=\"ja\",VLOOKUP('El og plugin hybrid'!Q$50+($C122-1),Fremskrivninger!$A$9:$L$38,12),'El og plugin hybrid'!Q$37))/1000","v":0},{"$f":"'El og plugin hybrid'!Q$15/1000*'El og plugin hybrid'!Q$13","v":0},{"$f":"'El og plugin hybrid'!S$12*T122*IF('El og plugin hybrid'!S$31=\"nej\",\"\",IF('El og plugin hybrid'!S$35=\"ja\",VLOOKUP('El og plugin hybrid'!S$50+($C122-1),Fremskrivninger!$A$9:$L$38,12),'El og plugin hybrid'!S$37))/1000","v":0},{"$f":"'El og plugin hybrid'!S$15/1000*'El og plugin hybrid'!S$13","v":0},{"$f":"'El og plugin hybrid'!U$12*V122*IF('El og plugin hybrid'!U$31=\"nej\",\"\",IF('El og plugin hybrid'!U$35=\"ja\",VLOOKUP('El og plugin hybrid'!U$50+($C122-1),Fremskrivninger!$A$9:$L$38,12),'El og plugin hybrid'!U$37))/1000","v":0},{"$f":"'El og plugin hybrid'!U$15/1000*'El og plugin hybrid'!U$13","v":0},{"$f":"'El og plugin hybrid'!W$12*X122*IF('El og plugin hybrid'!W$31=\"nej\",\"\",IF('El og plugin hybrid'!W$35=\"ja\",VLOOKUP('El og plugin hybrid'!W$50+($C122-1),Fremskrivninger!$A$9:$L$38,12),'El og plugin hybrid'!W$37))/1000","v":0},{"$f":"'El og plugin hybrid'!W$15/1000*'El og plugin hybrid'!W$13","v":0}]
[null,5,5,null,{"$f":"'El og plugin hybrid'!E$12*F123*IF('El og plugin hybrid'!E$31=\"nej\",\"\",IF('El og plugin hybrid'!E$35=\"ja\",VLOOKUP('El og plugin hybrid'!E$50+($C123-1),Fremskrivninger!$A$9:$L$38,12),'El og plugin hybrid'!E$37))/1000","v":0},{"$f":"'El og plugin hybrid'!E$15/1000*'El og plugin hybrid'!E$13","v":0},{"$f":"'El og plugin hybrid'!G$12*H123*IF('El og plugin hybrid'!G$31=\"nej\",\"\",IF('El og plugin hybrid'!G$35=\"ja\",VLOOKUP('El og plugin hybrid'!G$50+($C123-1),Fremskrivninger!$A$9:$L$38,12),'El og plugin hybrid'!G$37))/1000","v":0},{"$f":"'El og plugin hybrid'!G$15/1000*'El og plugin hybrid'!G$13","v":0},{"$f":"'El og plugin hybrid'!I$12*J123*IF('El og plugin hybrid'!I$31=\"nej\",\"\",IF('El og plugin hybrid'!I$35=\"ja\",VLOOKUP('El og plugin hybrid'!I$50+($C123-1),Fremskrivninger!$A$9:$L$38,12),'El og plugin hybrid'!I$37))/1000","v":0},{"$f":"'El og plugin hybrid'!I$15/1000*'El og plugin hybrid'!I$13","v":0},{"$f":"'El og plugin hybrid'!K$12*L123*IF('El og plugin hybrid'!K$31=\"nej\",\"\",IF('El og plugin hybrid'!K$35=\"ja\",VLOOKUP('El og plugin hybrid'!K$50+($C123-1),Fremskrivninger!$A$9:$L$38,12),'El og plugin hybrid'!K$37))/1000","v":0},{"$f":"'El og plugin hybrid'!K$15/1000*'El og plugin hybrid'!K$13","v":0},{"$f":"'El og plugin hybrid'!M$12*N123*IF('El og plugin hybrid'!M$31=\"nej\",\"\",IF('El og plugin hybrid'!M$35=\"ja\",VLOOKUP('El og plugin hybrid'!M$50+($C123-1),Fremskrivninger!$A$9:$L$38,12),'El og plugin hybrid'!M$37))/1000","v":0},{"$f":"'El og plugin hybrid'!M$15/1000*'El og plugin hybrid'!M$13","v":0},{"$f":"'El og plugin hybrid'!O$12*P123*IF('El og plugin hybrid'!O$31=\"nej\",\"\",IF('El og plugin hybrid'!O$35=\"ja\",VLOOKUP('El og plugin hybrid'!O$50+($C123-1),Fremskrivninger!$A$9:$L$38,12),'El og plugin hybrid'!O$37))/1000","v":0},{"$f":"'El og plugin hybrid'!O$15/1000*'El og plugin hybrid'!O$13","v":0},{"$f":"'El og plugin hybrid'!Q$12*R123*IF('El og plugin hybrid'!Q$31=\"nej\",\"\",IF('El og plugin hybrid'!Q$35=\"ja\",VLOOKUP('El og plugin hybrid'!Q$50+($C123-1),Fremskrivninger!$A$9:$L$38,12),'El og plugin hybrid'!Q$37))/1000","v":0},{"$f":"'El og plugin hybrid'!Q$15/1000*'El og plugin hybrid'!Q$13","v":0},{"$f":"'El og plugin hybrid'!S$12*T123*IF('El og plugin hybrid'!S$31=\"nej\",\"\",IF('El og plugin hybrid'!S$35=\"ja\",VLOOKUP('El og plugin hybrid'!S$50+($C123-1),Fremskrivninger!$A$9:$L$38,12),'El og plugin hybrid'!S$37))/1000","v":0},{"$f":"'El og plugin hybrid'!S$15/1000*'El og plugin hybrid'!S$13","v":0},{"$f":"'El og plugin hybrid'!U$12*V123*IF('El og plugin hybrid'!U$31=\"nej\",\"\",IF('El og plugin hybrid'!U$35=\"ja\",VLOOKUP('El og plugin hybrid'!U$50+($C123-1),Fremskrivninger!$A$9:$L$38,12),'El og plugin hybrid'!U$37))/1000","v":0},{"$f":"'El og plugin hybrid'!U$15/1000*'El og plugin hybrid'!U$13","v":0},{"$f":"'El og plugin hybrid'!W$12*X123*IF('El og plugin hybrid'!W$31=\"nej\",\"\",IF('El og plugin hybrid'!W$35=\"ja\",VLOOKUP('El og plugin hybrid'!W$50+($C123-1),Fremskrivninger!$A$9:$L$38,12),'El og plugin hybrid'!W$37))/1000","v":0},{"$f":"'El og plugin hybrid'!W$15/1000*'El og plugin hybrid'!W$13","v":0}]
[null,6,6,null,{"$f":"'El og plugin hybrid'!E$12*F124*IF('El og plugin hybrid'!E$31=\"nej\",\"\",IF('El og plugin hybrid'!E$35=\"ja\",VLOOKUP('El og plugin hybrid'!E$50+($C124-1),Fremskrivninger!$A$9:$L$38,12),'El og plugin hybrid'!E$37))/1000","v":0},{"$f":"'El og plugin hybrid'!E$15/1000*'El og plugin hybrid'!E$13","v":0},{"$f":"'El og plugin hybrid'!G$12*H124*IF('El og plugin hybrid'!G$31=\"nej\",\"\",IF('El og plugin hybrid'!G$35=\"ja\",VLOOKUP('El og plugin hybrid'!G$50+($C124-1),Fremskrivninger!$A$9:$L$38,12),'El og plugin hybrid'!G$37))/1000","v":0},{"$f":"'El og plugin hybrid'!G$15/1000*'El og plugin hybrid'!G$13","v":0},{"$f":"'El og plugin hybrid'!I$12*J124*IF('El og plugin hybrid'!I$31=\"nej\",\"\",IF('El og plugin hybrid'!I$35=\"ja\",VLOOKUP('El og plugin hybrid'!I$50+($C124-1),Fremskrivninger!$A$9:$L$38,12),'El og plugin hybrid'!I$37))/1000","v":0},{"$f":"'El og plugin hybrid'!I$15/1000*'El og plugin hybrid'!I$13","v":0},{"$f":"'El og plugin hybrid'!K$12*L124*IF('El og plugin hybrid'!K$31=\"nej\",\"\",IF('El og plugin hybrid'!K$35=\"ja\",VLOOKUP('El og plugin hybrid'!K$50+($C124-1),Fremskrivninger!$A$9:$L$38,12),'El og plugin hybrid'!K$37))/1000","v":0},{"$f":"'El og plugin hybrid'!K$15/1000*'El og plugin hybrid'!K$13","v":0},{"$f":"'El og plugin hybrid'!M$12*N124*IF('El og plugin hybrid'!M$31=\"nej\",\"\",IF('El og plugin hybrid'!M$35=\"ja\",VLOOKUP('El og plugin hybrid'!M$50+($C124-1),Fremskrivninger!$A$9:$L$38,12),'El og plugin hybrid'!M$37))/1000","v":0},{"$f":"'El og plugin hybrid'!M$15/1000*'El og plugin hybrid'!M$13","v":0},{"$f":"'El og plugin hybrid'!O$12*P124*IF('El og plugin hybrid'!O$31=\"nej\",\"\",IF('El og plugin hybrid'!O$35=\"ja\",VLOOKUP('El og plugin hybrid'!O$50+($C124-1),Fremskrivninger!$A$9:$L$38,12),'El og plugin hybrid'!O$37))/1000","v":0},{"$f":"'El og plugin hybrid'!O$15/1000*'El og plugin hybrid'!O$13","v":0},{"$f":"'El og plugin hybrid'!Q$12*R124*IF('El og plugin hybrid'!Q$31=\"nej\",\"\",IF('El og plugin hybrid'!Q$35=\"ja\",VLOOKUP('El og plugin hybrid'!Q$50+($C124-1),Fremskrivninger!$A$9:$L$38,12),'El og plugin hybrid'!Q$37))/1000","v":0},{"$f":"'El og plugin hybrid'!Q$15/1000*'El og plugin hybrid'!Q$13","v":0},{"$f":"'El og plugin hybrid'!S$12*T124*IF('El og plugin hybrid'!S$31=\"nej\",\"\",IF('El og plugin hybrid'!S$35=\"ja\",VLOOKUP('El og plugin hybrid'!S$50+($C124-1),Fremskrivninger!$A$9:$L$38,12),'El og plugin hybrid'!S$37))/1000","v":0},{"$f":"'El og plugin hybrid'!S$15/1000*'El og plugin hybrid'!S$13","v":0},{"$f":"'El og plugin hybrid'!U$12*V124*IF('El og plugin hybrid'!U$31=\"nej\",\"\",IF('El og plugin hybrid'!U$35=\"ja\",VLOOKUP('El og plugin hybrid'!U$50+($C124-1),Fremskrivninger!$A$9:$L$38,12),'El og plugin hybrid'!U$37))/1000","v":0},{"$f":"'El og plugin hybrid'!U$15/1000*'El og plugin hybrid'!U$13","v":0},{"$f":"'El og plugin hybrid'!W$12*X124*IF('El og plugin hybrid'!W$31=\"nej\",\"\",IF('El og plugin hybrid'!W$35=\"ja\",VLOOKUP('El og plugin hybrid'!W$50+($C124-1),Fremskrivninger!$A$9:$L$38,12),'El og plugin hybrid'!W$37))/1000","v":0},{"$f":"'El og plugin hybrid'!W$15/1000*'El og plugin hybrid'!W$13","v":0}]
[null,7,7,null,{"$f":"'El og plugin hybrid'!E$12*F125*IF('El og plugin hybrid'!E$31=\"nej\",\"\",IF('El og plugin hybrid'!E$35=\"ja\",VLOOKUP('El og plugin hybrid'!E$50+($C125-1),Fremskrivninger!$A$9:$L$38,12),'El og plugin hybrid'!E$37))/1000","v":0},{"$f":"'El og plugin hybrid'!E$15/1000*'El og plugin hybrid'!E$13","v":0},{"$f":"'El og plugin hybrid'!G$12*H125*IF('El og plugin hybrid'!G$31=\"nej\",\"\",IF('El og plugin hybrid'!G$35=\"ja\",VLOOKUP('El og plugin hybrid'!G$50+($C125-1),Fremskrivninger!$A$9:$L$38,12),'El og plugin hybrid'!G$37))/1000","v":0},{"$f":"'El og plugin hybrid'!G$15/1000*'El og plugin hybrid'!G$13","v":0},{"$f":"'El og plugin hybrid'!I$12*J125*IF('El og plugin hybrid'!I$31=\"nej\",\"\",IF('El og plugin hybrid'!I$35=\"ja\",VLOOKUP('El og plugin hybrid'!I$50+($C125-1),Fremskrivninger!$A$9:$L$38,12),'El og plugin hybrid'!I$37))/1000","v":0},{"$f":"'El og plugin hybrid'!I$15/1000*'El og plugin hybrid'!I$13","v":0},{"$f":"'El og plugin hybrid'!K$12*L125*IF('El og plugin hybrid'!K$31=\"nej\",\"\",IF('El og plugin hybrid'!K$35=\"ja\",VLOOKUP('El og plugin hybrid'!K$50+($C125-1),Fremskrivninger!$A$9:$L$38,12),'El og plugin hybrid'!K$37))/1000","v":0},{"$f":"'El og plugin hybrid'!K$15/1000*'El og plugin hybrid'!K$13","v":0},{"$f":"'El og plugin hybrid'!M$12*N125*IF('El og plugin hybrid'!M$31=\"nej\",\"\",IF('El og plugin hybrid'!M$35=\"ja\",VLOOKUP('El og plugin hybrid'!M$50+($C125-1),Fremskrivninger!$A$9:$L$38,12),'El og plugin hybrid'!M$37))/1000","v":0},{"$f":"'El og plugin hybrid'!M$15/1000*'El og plugin hybrid'!M$13","v":0},{"$f":"'El og plugin hybrid'!O$12*P125*IF('El og plugin hybrid'!O$31=\"nej\",\"\",IF('El og plugin hybrid'!O$35=\"ja\",VLOOKUP('El og plugin hybrid'!O$50+($C125-1),Fremskrivninger!$A$9:$L$38,12),'El og plugin hybrid'!O$37))/1000","v":0},{"$f":"'El og plugin hybrid'!O$15/1000*'El og plugin hybrid'!O$13","v":0},{"$f":"'El og plugin hybrid'!Q$12*R125*IF('El og plugin hybrid'!Q$31=\"nej\",\"\",IF('El og plugin hybrid'!Q$35=\"ja\",VLOOKUP('El og plugin hybrid'!Q$50+($C125-1),Fremskrivninger!$A$9:$L$38,12),'El og plugin hybrid'!Q$37))/1000","v":0},{"$f":"'El og plugin hybrid'!Q$15/1000*'El og plugin hybrid'!Q$13","v":0},{"$f":"'El og plugin hybrid'!S$12*T125*IF('El og plugin hybrid'!S$31=\"nej\",\"\",IF('El og plugin hybrid'!S$35=\"ja\",VLOOKUP('El og plugin hybrid'!S$50+($C125-1),Fremskrivninger!$A$9:$L$38,12),'El og plugin hybrid'!S$37))/1000","v":0},{"$f":"'El og plugin hybrid'!S$15/1000*'El og plugin hybrid'!S$13","v":0},{"$f":"'El og plugin hybrid'!U$12*V125*IF('El og plugin hybrid'!U$31=\"nej\",\"\",IF('El og plugin hybrid'!U$35=\"ja\",VLOOKUP('El og plugin hybrid'!U$50+($C125-1),Fremskrivninger!$A$9:$L$38,12),'El og plugin hybrid'!U$37))/1000","v":0},{"$f":"'El og plugin hybrid'!U$15/1000*'El og plugin hybrid'!U$13","v":0},{"$f":"'El og plugin hybrid'!W$12*X125*IF('El og plugin hybrid'!W$31=\"nej\",\"\",IF('El og plugin hybrid'!W$35=\"ja\",VLOOKUP('El og plugin hybrid'!W$50+($C125-1),Fremskrivninger!$A$9:$L$38,12),'El og plugin hybrid'!W$37))/1000","v":0},{"$f":"'El og plugin hybrid'!W$15/1000*'El og plugin hybrid'!W$13","v":0}]
[null,8,8,null,{"$f":"'El og plugin hybrid'!E$12*F126*IF('El og plugin hybrid'!E$31=\"nej\",\"\",IF('El og plugin hybrid'!E$35=\"ja\",VLOOKUP('El og plugin hybrid'!E$50+($C126-1),Fremskrivninger!$A$9:$L$38,12),'El og plugin hybrid'!E$37))/1000","v":0},{"$f":"'El og plugin hybrid'!E$15/1000*'El og plugin hybrid'!E$13","v":0},{"$f":"'El og plugin hybrid'!G$12*H126*IF('El og plugin hybrid'!G$31=\"nej\",\"\",IF('El og plugin hybrid'!G$35=\"ja\",VLOOKUP('El og plugin hybrid'!G$50+($C126-1),Fremskrivninger!$A$9:$L$38,12),'El og plugin hybrid'!G$37))/1000","v":0},{"$f":"'El og plugin hybrid'!G$15/1000*'El og plugin hybrid'!G$13","v":0},{"$f":"'El og plugin hybrid'!I$12*J126*IF('El og plugin hybrid'!I$31=\"nej\",\"\",IF('El og plugin hybrid'!I$35=\"ja\",VLOOKUP('El og plugin hybrid'!I$50+($C126-1),Fremskrivninger!$A$9:$L$38,12),'El og plugin hybrid'!I$37))/1000","v":0},{"$f":"'El og plugin hybrid'!I$15/1000*'El og plugin hybrid'!I$13","v":0},{"$f":"'El og plugin hybrid'!K$12*L126*IF('El og plugin hybrid'!K$31=\"nej\",\"\",IF('El og plugin hybrid'!K$35=\"ja\",VLOOKUP('El og plugin hybrid'!K$50+($C126-1),Fremskrivninger!$A$9:$L$38,12),'El og plugin hybrid'!K$37))/1000","v":0},{"$f":"'El og plugin hybrid'!K$15/1000*'El og plugin hybrid'!K$13","v":0},{"$f":"'El og plugin hybrid'!M$12*N126*IF('El og plugin hybrid'!M$31=\"nej\",\"\",IF('El og plugin hybrid'!M$35=\"ja\",VLOOKUP('El og plugin hybrid'!M$50+($C126-1),Fremskrivninger!$A$9:$L$38,12),'El og plugin hybrid'!M$37))/1000","v":0},{"$f":"'El og plugin hybrid'!M$15/1000*'El og plugin hybrid'!M$13","v":0},{"$f":"'El og plugin hybrid'!O$12*P126*IF('El og plugin hybrid'!O$31=\"nej\",\"\",IF('El og plugin hybrid'!O$35=\"ja\",VLOOKUP('El og plugin hybrid'!O$50+($C126-1),Fremskrivninger!$A$9:$L$38,12),'El og plugin hybrid'!O$37))/1000","v":0},{"$f":"'El og plugin hybrid'!O$15/1000*'El og plugin hybrid'!O$13","v":0},{"$f":"'El og plugin hybrid'!Q$12*R126*IF('El og plugin hybrid'!Q$31=\"nej\",\"\",IF('El og plugin hybrid'!Q$35=\"ja\",VLOOKUP('El og plugin hybrid'!Q$50+($C126-1),Fremskrivninger!$A$9:$L$38,12),'El og plugin hybrid'!Q$37))/1000","v":0},{"$f":"'El og plugin hybrid'!Q$15/1000*'El og plugin hybrid'!Q$13","v":0},{"$f":"'El og plugin hybrid'!S$12*T126*IF('El og plugin hybrid'!S$31=\"nej\",\"\",IF('El og plugin hybrid'!S$35=\"ja\",VLOOKUP('El og plugin hybrid'!S$50+($C126-1),Fremskrivninger!$A$9:$L$38,12),'El og plugin hybrid'!S$37))/1000","v":0},{"$f":"'El og plugin hybrid'!S$15/1000*'El og plugin hybrid'!S$13","v":0},{"$f":"'El og plugin hybrid'!U$12*V126*IF('El og plugin hybrid'!U$31=\"nej\",\"\",IF('El og plugin hybrid'!U$35=\"ja\",VLOOKUP('El og plugin hybrid'!U$50+($C126-1),Fremskrivninger!$A$9:$L$38,12),'El og plugin hybrid'!U$37))/1000","v":0},{"$f":"'El og plugin hybrid'!U$15/1000*'El og plugin hybrid'!U$13","v":0},{"$f":"'El og plugin hybrid'!W$12*X126*IF('El og plugin hybrid'!W$31=\"nej\",\"\",IF('El og plugin hybrid'!W$35=\"ja\",VLOOKUP('El og plugin hybrid'!W$50+($C126-1),Fremskrivninger!$A$9:$L$38,12),'El og plugin hybrid'!W$37))/1000","v":0},{"$f":"'El og plugin hybrid'!W$15/1000*'El og plugin hybrid'!W$13","v":0}]
[null,9,9,null,{"$f":"'El og plugin hybrid'!E$12*F127*IF('El og plugin hybrid'!E$31=\"nej\",\"\",IF('El og plugin hybrid'!E$35=\"ja\",VLOOKUP('El og plugin hybrid'!E$50+($C127-1),Fremskrivninger!$A$9:$L$38,12),'El og plugin hybrid'!E$37))/1000","v":0},{"$f":"'El og plugin hybrid'!E$15/1000*'El og plugin hybrid'!E$13","v":0},{"$f":"'El og plugin hybrid'!G$12*H127*IF('El og plugin hybrid'!G$31=\"nej\",\"\",IF('El og plugin hybrid'!G$35=\"ja\",VLOOKUP('El og plugin hybrid'!G$50+($C127-1),Fremskrivninger!$A$9:$L$38,12),'El og plugin hybrid'!G$37))/1000","v":0},{"$f":"'El og plugin hybrid'!G$15/1000*'El og plugin hybrid'!G$13","v":0},{"$f":"'El og plugin hybrid'!I$12*J127*IF('El og plugin hybrid'!I$31=\"nej\",\"\",IF('El og plugin hybrid'!I$35=\"ja\",VLOOKUP('El og plugin hybrid'!I$50+($C127-1),Fremskrivninger!$A$9:$L$38,12),'El og plugin hybrid'!I$37))/1000","v":0},{"$f":"'El og plugin hybrid'!I$15/1000*'El og plugin hybrid'!I$13","v":0},{"$f":"'El og plugin hybrid'!K$12*L127*IF('El og plugin hybrid'!K$31=\"nej\",\"\",IF('El og plugin hybrid'!K$35=\"ja\",VLOOKUP('El og plugin hybrid'!K$50+($C127-1),Fremskrivninger!$A$9:$L$38,12),'El og plugin hybrid'!K$37))/1000","v":0},{"$f":"'El og plugin hybrid'!K$15/1000*'El og plugin hybrid'!K$13","v":0},{"$f":"'El og plugin hybrid'!M$12*N127*IF('El og plugin hybrid'!M$31=\"nej\",\"\",IF('El og plugin hybrid'!M$35=\"ja\",VLOOKUP('El og plugin hybrid'!M$50+($C127-1),Fremskrivninger!$A$9:$L$38,12),'El og plugin hybrid'!M$37))/1000","v":0},{"$f":"'El og plugin hybrid'!M$15/1000*'El og plugin hybrid'!M$13","v":0},{"$f":"'El og plugin hybrid'!O$12*P127*IF('El og plugin hybrid'!O$31=\"nej\",\"\",IF('El og plugin hybrid'!O$35=\"ja\",VLOOKUP('El og plugin hybrid'!O$50+($C127-1),Fremskrivninger!$A$9:$L$38,12),'El og plugin hybrid'!O$37))/1000","v":0},{"$f":"'El og plugin hybrid'!O$15/1000*'El og plugin hybrid'!O$13","v":0},{"$f":"'El og plugin hybrid'!Q$12*R127*IF('El og plugin hybrid'!Q$31=\"nej\",\"\",IF('El og plugin hybrid'!Q$35=\"ja\",VLOOKUP('El og plugin hybrid'!Q$50+($C127-1),Fremskrivninger!$A$9:$L$38,12),'El og plugin hybrid'!Q$37))/1000","v":0},{"$f":"'El og plugin hybrid'!Q$15/1000*'El og plugin hybrid'!Q$13","v":0},{"$f":"'El og plugin hybrid'!S$12*T127*IF('El og plugin hybrid'!S$31=\"nej\",\"\",IF('El og plugin hybrid'!S$35=\"ja\",VLOOKUP('El og plugin hybrid'!S$50+($C127-1),Fremskrivninger!$A$9:$L$38,12),'El og plugin hybrid'!S$37))/1000","v":0},{"$f":"'El og plugin hybrid'!S$15/1000*'El og plugin hybrid'!S$13","v":0},{"$f":"'El og plugin hybrid'!U$12*V127*IF('El og plugin hybrid'!U$31=\"nej\",\"\",IF('El og plugin hybrid'!U$35=\"ja\",VLOOKUP('El og plugin hybrid'!U$50+($C127-1),Fremskrivninger!$A$9:$L$38,12),'El og plugin hybrid'!U$37))/1000","v":0},{"$f":"'El og plugin hybrid'!U$15/1000*'El og plugin hybrid'!U$13","v":0},{"$f":"'El og plugin hybrid'!W$12*X127*IF('El og plugin hybrid'!W$31=\"nej\",\"\",IF('El og plugin hybrid'!W$35=\"ja\",VLOOKUP('El og plugin hybrid'!W$50+($C127-1),Fremskrivninger!$A$9:$L$38,12),'El og plugin hybrid'!W$37))/1000","v":0},{"$f":"'El og plugin hybrid'!W$15/1000*'El og plugin hybrid'!W$13","v":0}]
[null,10,10,null,{"$f":"'El og plugin hybrid'!E$12*F128*IF('El og plugin hybrid'!E$31=\"nej\",\"\",IF('El og plugin hybrid'!E$35=\"ja\",VLOOKUP('El og plugin hybrid'!E$50+($C128-1),Fremskrivninger!$A$9:$L$38,12),'El og plugin hybrid'!E$37))/1000","v":0},{"$f":"'El og plugin hybrid'!E$15/1000*'El og plugin hybrid'!E$13","v":0},{"$f":"'El og plugin hybrid'!G$12*H128*IF('El og plugin hybrid'!G$31=\"nej\",\"\",IF('El og plugin hybrid'!G$35=\"ja\",VLOOKUP('El og plugin hybrid'!G$50+($C128-1),Fremskrivninger!$A$9:$L$38,12),'El og plugin hybrid'!G$37))/1000","v":0},{"$f":"'El og plugin hybrid'!G$15/1000*'El og plugin hybrid'!G$13","v":0},{"$f":"'El og plugin hybrid'!I$12*J128*IF('El og plugin hybrid'!I$31=\"nej\",\"\",IF('El og plugin hybrid'!I$35=\"ja\",VLOOKUP('El og plugin hybrid'!I$50+($C128-1),Fremskrivninger!$A$9:$L$38,12),'El og plugin hybrid'!I$37))/1000","v":0},{"$f":"'El og plugin hybrid'!I$15/1000*'El og plugin hybrid'!I$13","v":0},{"$f":"'El og plugin hybrid'!K$12*L128*IF('El og plugin hybrid'!K$31=\"nej\",\"\",IF('El og plugin hybrid'!K$35=\"ja\",VLOOKUP('El og plugin hybrid'!K$50+($C128-1),Fremskrivninger!$A$9:$L$38,12),'El og plugin hybrid'!K$37))/1000","v":0},{"$f":"'El og plugin hybrid'!K$15/1000*'El og plugin hybrid'!K$13","v":0},{"$f":"'El og plugin hybrid'!M$12*N128*IF('El og plugin hybrid'!M$31=\"nej\",\"\",IF('El og plugin hybrid'!M$35=\"ja\",VLOOKUP('El og plugin hybrid'!M$50+($C128-1),Fremskrivninger!$A$9:$L$38,12),'El og plugin hybrid'!M$37))/1000","v":0},{"$f":"'El og plugin hybrid'!M$15/1000*'El og plugin hybrid'!M$13","v":0},{"$f":"'El og plugin hybrid'!O$12*P128*IF('El og plugin hybrid'!O$31=\"nej\",\"\",IF('El og plugin hybrid'!O$35=\"ja\",VLOOKUP('El og plugin hybrid'!O$50+($C128-1),Fremskrivninger!$A$9:$L$38,12),'El og plugin hybrid'!O$37))/1000","v":0},{"$f":"'El og plugin hybrid'!O$15/1000*'El og plugin hybrid'!O$13","v":0},{"$f":"'El og plugin hybrid'!Q$12*R128*IF('El og plugin hybrid'!Q$31=\"nej\",\"\",IF('El og plugin hybrid'!Q$35=\"ja\",VLOOKUP('El og plugin hybrid'!Q$50+($C128-1),Fremskrivninger!$A$9:$L$38,12),'El og plugin hybrid'!Q$37))/1000","v":0},{"$f":"'El og plugin hybrid'!Q$15/1000*'El og plugin hybrid'!Q$13","v":0},{"$f":"'El og plugin hybrid'!S$12*T128*IF('El og plugin hybrid'!S$31=\"nej\",\"\",IF('El og plugin hybrid'!S$35=\"ja\",VLOOKUP('El og plugin hybrid'!S$50+($C128-1),Fremskrivninger!$A$9:$L$38,12),'El og plugin hybrid'!S$37))/1000","v":0},{"$f":"'El og plugin hybrid'!S$15/1000*'El og plugin hybrid'!S$13","v":0},{"$f":"'El og plugin hybrid'!U$12*V128*IF('El og plugin hybrid'!U$31=\"nej\",\"\",IF('El og plugin hybrid'!U$35=\"ja\",VLOOKUP('El og plugin hybrid'!U$50+($C128-1),Fremskrivninger!$A$9:$L$38,12),'El og plugin hybrid'!U$37))/1000","v":0},{"$f":"'El og plugin hybrid'!U$15/1000*'El og plugin hybrid'!U$13","v":0},{"$f":"'El og plugin hybrid'!W$12*X128*IF('El og plugin hybrid'!W$31=\"nej\",\"\",IF('El og plugin hybrid'!W$35=\"ja\",VLOOKUP('El og plugin hybrid'!W$50+($C128-1),Fremskrivninger!$A$9:$L$38,12),'El og plugin hybrid'!W$37))/1000","v":0},{"$f":"'El og plugin hybrid'!W$15/1000*'El og plugin hybrid'!W$13","v":0}]
[null,11,11,null,{"$f":"'El og plugin hybrid'!E$12*F129*IF('El og plugin hybrid'!E$31=\"nej\",\"\",IF('El og plugin hybrid'!E$35=\"ja\",VLOOKUP('El og plugin hybrid'!E$50+($C129-1),Fremskrivninger!$A$9:$L$38,12),'El og plugin hybrid'!E$37))/1000","v":0},{"$f":"'El og plugin hybrid'!E$15/1000*'El og plugin hybrid'!E$13","v":0},{"$f":"'El og plugin hybrid'!G$12*H129*IF('El og plugin hybrid'!G$31=\"nej\",\"\",IF('El og plugin hybrid'!G$35=\"ja\",VLOOKUP('El og plugin hybrid'!G$50+($C129-1),Fremskrivninger!$A$9:$L$38,12),'El og plugin hybrid'!G$37))/1000","v":0},{"$f":"'El og plugin hybrid'!G$15/1000*'El og plugin hybrid'!G$13","v":0},{"$f":"'El og plugin hybrid'!I$12*J129*IF('El og plugin hybrid'!I$31=\"nej\",\"\",IF('El og plugin hybrid'!I$35=\"ja\",VLOOKUP('El og plugin hybrid'!I$50+($C129-1),Fremskrivninger!$A$9:$L$38,12),'El og plugin hybrid'!I$37))/1000","v":0},{"$f":"'El og plugin hybrid'!I$15/1000*'El og plugin hybrid'!I$13","v":0},{"$f":"'El og plugin hybrid'!K$12*L129*IF('El og plugin hybrid'!K$31=\"nej\",\"\",IF('El og plugin hybrid'!K$35=\"ja\",VLOOKUP('El og plugin hybrid'!K$50+($C129-1),Fremskrivninger!$A$9:$L$38,12),'El og plugin hybrid'!K$37))/1000","v":0},{"$f":"'El og plugin hybrid'!K$15/1000*'El og plugin hybrid'!K$13","v":0},{"$f":"'El og plugin hybrid'!M$12*N129*IF('El og plugin hybrid'!M$31=\"nej\",\"\",IF('El og plugin hybrid'!M$35=\"ja\",VLOOKUP('El og plugin hybrid'!M$50+($C129-1),Fremskrivninger!$A$9:$L$38,12),'El og plugin hybrid'!M$37))/1000","v":0},{"$f":"'El og plugin hybrid'!M$15/1000*'El og plugin hybrid'!M$13","v":0},{"$f":"'El og plugin hybrid'!O$12*P129*IF('El og plugin hybrid'!O$31=\"nej\",\"\",IF('El og plugin hybrid'!O$35=\"ja\",VLOOKUP('El og plugin hybrid'!O$50+($C129-1),Fremskrivninger!$A$9:$L$38,12),'El og plugin hybrid'!O$37))/1000","v":0},{"$f":"'El og plugin hybrid'!O$15/1000*'El og plugin hybrid'!O$13","v":0},{"$f":"'El og plugin hybrid'!Q$12*R129*IF('El og plugin hybrid'!Q$31=\"nej\",\"\",IF('El og plugin hybrid'!Q$35=\"ja\",VLOOKUP('El og plugin hybrid'!Q$50+($C129-1),Fremskrivninger!$A$9:$L$38,12),'El og plugin hybrid'!Q$37))/1000","v":0},{"$f":"'El og plugin hybrid'!Q$15/1000*'El og plugin hybrid'!Q$13","v":0},{"$f":"'El og plugin hybrid'!S$12*T129*IF('El og plugin hybrid'!S$31=\"nej\",\"\",IF('El og plugin hybrid'!S$35=\"ja\",VLOOKUP('El og plugin hybrid'!S$50+($C129-1),Fremskrivninger!$A$9:$L$38,12),'El og plugin hybrid'!S$37))/1000","v":0},{"$f":"'El og plugin hybrid'!S$15/1000*'El og plugin hybrid'!S$13","v":0},{"$f":"'El og plugin hybrid'!U$12*V129*IF('El og plugin hybrid'!U$31=\"nej\",\"\",IF('El og plugin hybrid'!U$35=\"ja\",VLOOKUP('El og plugin hybrid'!U$50+($C129-1),Fremskrivninger!$A$9:$L$38,12),'El og plugin hybrid'!U$37))/1000","v":0},{"$f":"'El og plugin hybrid'!U$15/1000*'El og plugin hybrid'!U$13","v":0},{"$f":"'El og plugin hybrid'!W$12*X129*IF('El og plugin hybrid'!W$31=\"nej\",\"\",IF('El og plugin hybrid'!W$35=\"ja\",VLOOKUP('El og plugin hybrid'!W$50+($C129-1),Fremskrivninger!$A$9:$L$38,12),'El og plugin hybrid'!W$37))/1000","v":0},{"$f":"'El og plugin hybrid'!W$15/1000*'El og plugin hybrid'!W$13","v":0}]
[null,12,12,null,{"$f":"'El og plugin hybrid'!E$12*F130*IF('El og plugin hybrid'!E$31=\"nej\",\"\",IF('El og plugin hybrid'!E$35=\"ja\",VLOOKUP('El og plugin hybrid'!E$50+($C130-1),Fremskrivninger!$A$9:$L$38,12),'El og plugin hybrid'!E$37))/1000","v":0},{"$f":"'El og plugin hybrid'!E$15/1000*'El og plugin hybrid'!E$13","v":0},{"$f":"'El og plugin hybrid'!G$12*H130*IF('El og plugin hybrid'!G$31=\"nej\",\"\",IF('El og plugin hybrid'!G$35=\"ja\",VLOOKUP('El og plugin hybrid'!G$50+($C130-1),Fremskrivninger!$A$9:$L$38,12),'El og plugin hybrid'!G$37))/1000","v":0},{"$f":"'El og plugin hybrid'!G$15/1000*'El og plugin hybrid'!G$13","v":0},{"$f":"'El og plugin hybrid'!I$12*J130*IF('El og plugin hybrid'!I$31=\"nej\",\"\",IF('El og plugin hybrid'!I$35=\"ja\",VLOOKUP('El og plugin hybrid'!I$50+($C130-1),Fremskrivninger!$A$9:$L$38,12),'El og plugin hybrid'!I$37))/1000","v":0},{"$f":"'El og plugin hybrid'!I$15/1000*'El og plugin hybrid'!I$13","v":0},{"$f":"'El og plugin hybrid'!K$12*L130*IF('El og plugin hybrid'!K$31=\"nej\",\"\",IF('El og plugin hybrid'!K$35=\"ja\",VLOOKUP('El og plugin hybrid'!K$50+($C130-1),Fremskrivninger!$A$9:$L$38,12),'El og plugin hybrid'!K$37))/1000","v":0},{"$f":"'El og plugin hybrid'!K$15/1000*'El og plugin hybrid'!K$13","v":0},{"$f":"'El og plugin hybrid'!M$12*N130*IF('El og plugin hybrid'!M$31=\"nej\",\"\",IF('El og plugin hybrid'!M$35=\"ja\",VLOOKUP('El og plugin hybrid'!M$50+($C130-1),Fremskrivninger!$A$9:$L$38,12),'El og plugin hybrid'!M$37))/1000","v":0},{"$f":"'El og plugin hybrid'!M$15/1000*'El og plugin hybrid'!M$13","v":0},{"$f":"'El og plugin hybrid'!O$12*P130*IF('El og plugin hybrid'!O$31=\"nej\",\"\",IF('El og plugin hybrid'!O$35=\"ja\",VLOOKUP('El og plugin hybrid'!O$50+($C130-1),Fremskrivninger!$A$9:$L$38,12),'El og plugin hybrid'!O$37))/1000","v":0},{"$f":"'El og plugin hybrid'!O$15/1000*'El og plugin hybrid'!O$13","v":0},{"$f":"'El og plugin hybrid'!Q$12*R130*IF('El og plugin hybrid'!Q$31=\"nej\",\"\",IF('El og plugin hybrid'!Q$35=\"ja\",VLOOKUP('El og plugin hybrid'!Q$50+($C130-1),Fremskrivninger!$A$9:$L$38,12),'El og plugin hybrid'!Q$37))/1000","v":0},{"$f":"'El og plugin hybrid'!Q$15/1000*'El og plugin hybrid'!Q$13","v":0},{"$f":"'El og plugin hybrid'!S$12*T130*IF('El og plugin hybrid'!S$31=\"nej\",\"\",IF('El og plugin hybrid'!S$35=\"ja\",VLOOKUP('El og plugin hybrid'!S$50+($C130-1),Fremskrivninger!$A$9:$L$38,12),'El og plugin hybrid'!S$37))/1000","v":0},{"$f":"'El og plugin hybrid'!S$15/1000*'El og plugin hybrid'!S$13","v":0},{"$f":"'El og plugin hybrid'!U$12*V130*IF('El og plugin hybrid'!U$31=\"nej\",\"\",IF('El og plugin hybrid'!U$35=\"ja\",VLOOKUP('El og plugin hybrid'!U$50+($C130-1),Fremskrivninger!$A$9:$L$38,12),'El og plugin hybrid'!U$37))/1000","v":0},{"$f":"'El og plugin hybrid'!U$15/1000*'El og plugin hybrid'!U$13","v":0},{"$f":"'El og plugin hybrid'!W$12*X130*IF('El og plugin hybrid'!W$31=\"nej\",\"\",IF('El og plugin hybrid'!W$35=\"ja\",VLOOKUP('El og plugin hybrid'!W$50+($C130-1),Fremskrivninger!$A$9:$L$38,12),'El og plugin hybrid'!W$37))/1000","v":0},{"$f":"'El og plugin hybrid'!W$15/1000*'El og plugin hybrid'!W$13","v":0}]
[null,13,13,null,{"$f":"'El og plugin hybrid'!E$12*F131*IF('El og plugin hybrid'!E$31=\"nej\",\"\",IF('El og plugin hybrid'!E$35=\"ja\",VLOOKUP('El og plugin hybrid'!E$50+($C131-1),Fremskrivninger!$A$9:$L$38,12),'El og plugin hybrid'!E$37))/1000","v":0},{"$f":"'El og plugin hybrid'!E$15/1000*'El og plugin hybrid'!E$13","v":0},{"$f":"'El og plugin hybrid'!G$12*H131*IF('El og plugin hybrid'!G$31=\"nej\",\"\",IF('El og plugin hybrid'!G$35=\"ja\",VLOOKUP('El og plugin hybrid'!G$50+($C131-1),Fremskrivninger!$A$9:$L$38,12),'El og plugin hybrid'!G$37))/1000","v":0},{"$f":"'El og plugin hybrid'!G$15/1000*'El og plugin hybrid'!G$13","v":0},{"$f":"'El og plugin hybrid'!I$12*J131*IF('El og plugin hybrid'!I$31=\"nej\",\"\",IF('El og plugin hybrid'!I$35=\"ja\",VLOOKUP('El og plugin hybrid'!I$50+($C131-1),Fremskrivninger!$A$9:$L$38,12),'El og plugin hybrid'!I$37))/1000","v":0},{"$f":"'El og plugin hybrid'!I$15/1000*'El og plugin hybrid'!I$13","v":0},{"$f":"'El og plugin hybrid'!K$12*L131*IF('El og plugin hybrid'!K$31=\"nej\",\"\",IF('El og plugin hybrid'!K$35=\"ja\",VLOOKUP('El og plugin hybrid'!K$50+($C131-1),Fremskrivninger!$A$9:$L$38,12),'El og plugin hybrid'!K$37))/1000","v":0},{"$f":"'El og plugin hybrid'!K$15/1000*'El og plugin hybrid'!K$13","v":0},{"$f":"'El og plugin hybrid'!M$12*N131*IF('El og plugin hybrid'!M$31=\"nej\",\"\",IF('El og plugin hybrid'!M$35=\"ja\",VLOOKUP('El og plugin hybrid'!M$50+($C131-1),Fremskrivninger!$A$9:$L$38,12),'El og plugin hybrid'!M$37))/1000","v":0},{"$f":"'El og plugin hybrid'!M$15/1000*'El og plugin hybrid'!M$13","v":0},{"$f":"'El og plugin hybrid'!O$12*P131*IF('El og plugin hybrid'!O$31=\"nej\",\"\",IF('El og plugin hybrid'!O$35=\"ja\",VLOOKUP('El og plugin hybrid'!O$50+($C131-1),Fremskrivninger!$A$9:$L$38,12),'El og plugin hybrid'!O$37))/1000","v":0},{"$f":"'El og plugin hybrid'!O$15/1000*'El og plugin hybrid'!O$13","v":0},{"$f":"'El og plugin hybrid'!Q$12*R131*IF('El og plugin hybrid'!Q$31=\"nej\",\"\",IF('El og plugin hybrid'!Q$35=\"ja\",VLOOKUP('El og plugin hybrid'!Q$50+($C131-1),Fremskrivninger!$A$9:$L$38,12),'El og plugin hybrid'!Q$37))/1000","v":0},{"$f":"'El og plugin hybrid'!Q$15/1000*'El og plugin hybrid'!Q$13","v":0},{"$f":"'El og plugin hybrid'!S$12*T131*IF('El og plugin hybrid'!S$31=\"nej\",\"\",IF('El og plugin hybrid'!S$35=\"ja\",VLOOKUP('El og plugin hybrid'!S$50+($C131-1),Fremskrivninger!$A$9:$L$38,12),'El og plugin hybrid'!S$37))/1000","v":0},{"$f":"'El og plugin hybrid'!S$15/1000*'El og plugin hybrid'!S$13","v":0},{"$f":"'El og plugin hybrid'!U$12*V131*IF('El og plugin hybrid'!U$31=\"nej\",\"\",IF('El og plugin hybrid'!U$35=\"ja\",VLOOKUP('El og plugin hybrid'!U$50+($C131-1),Fremskrivninger!$A$9:$L$38,12),'El og plugin hybrid'!U$37))/1000","v":0},{"$f":"'El og plugin hybrid'!U$15/1000*'El og plugin hybrid'!U$13","v":0},{"$f":"'El og plugin hybrid'!W$12*X131*IF('El og plugin hybrid'!W$31=\"nej\",\"\",IF('El og plugin hybrid'!W$35=\"ja\",VLOOKUP('El og plugin hybrid'!W$50+($C131-1),Fremskrivninger!$A$9:$L$38,12),'El og plugin hybrid'!W$37))/1000","v":0},{"$f":"'El og plugin hybrid'!W$15/1000*'El og plugin hybrid'!W$13","v":0}]
[null,14,14,null,{"$f":"'El og plugin hybrid'!E$12*F132*IF('El og plugin hybrid'!E$31=\"nej\",\"\",IF('El og plugin hybrid'!E$35=\"ja\",VLOOKUP('El og plugin hybrid'!E$50+($C132-1),Fremskrivninger!$A$9:$L$38,12),'El og plugin hybrid'!E$37))/1000","v":0},{"$f":"'El og plugin hybrid'!E$15/1000*'El og plugin hybrid'!E$13","v":0},{"$f":"'El og plugin hybrid'!G$12*H132*IF('El og plugin hybrid'!G$31=\"nej\",\"\",IF('El og plugin hybrid'!G$35=\"ja\",VLOOKUP('El og plugin hybrid'!G$50+($C132-1),Fremskrivninger!$A$9:$L$38,12),'El og plugin hybrid'!G$37))/1000","v":0},{"$f":"'El og plugin hybrid'!G$15/1000*'El og plugin hybrid'!G$13","v":0},{"$f":"'El og plugin hybrid'!I$12*J132*IF('El og plugin hybrid'!I$31=\"nej\",\"\",IF('El og plugin hybrid'!I$35=\"ja\",VLOOKUP('El og plugin hybrid'!I$50+($C132-1),Fremskrivninger!$A$9:$L$38,12),'El og plugin hybrid'!I$37))/1000","v":0},{"$f":"'El og plugin hybrid'!I$15/1000*'El og plugin hybrid'!I$13","v":0},{"$f":"'El og plugin hybrid'!K$12*L132*IF('El og plugin hybrid'!K$31=\"nej\",\"\",IF('El og plugin hybrid'!K$35=\"ja\",VLOOKUP('El og plugin hybrid'!K$50+($C132-1),Fremskrivninger!$A$9:$L$38,12),'El og plugin hybrid'!K$37))/1000","v":0},{"$f":"'El og plugin hybrid'!K$15/1000*'El og plugin hybrid'!K$13","v":0},{"$f":"'El og plugin hybrid'!M$12*N132*IF('El og plugin hybrid'!M$31=\"nej\",\"\",IF('El og plugin hybrid'!M$35=\"ja\",VLOOKUP('El og plugin hybrid'!M$50+($C132-1),Fremskrivninger!$A$9:$L$38,12),'El og plugin hybrid'!M$37))/1000","v":0},{"$f":"'El og plugin hybrid'!M$15/1000*'El og plugin hybrid'!M$13","v":0},{"$f":"'El og plugin hybrid'!O$12*P132*IF('El og plugin hybrid'!O$31=\"nej\",\"\",IF('El og plugin hybrid'!O$35=\"ja\",VLOOKUP('El og plugin hybrid'!O$50+($C132-1),Fremskrivninger!$A$9:$L$38,12),'El og plugin hybrid'!O$37))/1000","v":0},{"$f":"'El og plugin hybrid'!O$15/1000*'El og plugin hybrid'!O$13","v":0},{"$f":"'El og plugin hybrid'!Q$12*R132*IF('El og plugin hybrid'!Q$31=\"nej\",\"\",IF('El og plugin hybrid'!Q$35=\"ja\",VLOOKUP('El og plugin hybrid'!Q$50+($C132-1),Fremskrivninger!$A$9:$L$38,12),'El og plugin hybrid'!Q$37))/1000","v":0},{"$f":"'El og plugin hybrid'!Q$15/1000*'El og plugin hybrid'!Q$13","v":0},{"$f":"'El og plugin hybrid'!S$12*T132*IF('El og plugin hybrid'!S$31=\"nej\",\"\",IF('El og plugin hybrid'!S$35=\"ja\",VLOOKUP('El og plugin hybrid'!S$50+($C132-1),Fremskrivninger!$A$9:$L$38,12),'El og plugin hybrid'!S$37))/1000","v":0},{"$f":"'El og plugin hybrid'!S$15/1000*'El og plugin hybrid'!S$13","v":0},{"$f":"'El og plugin hybrid'!U$12*V132*IF('El og plugin hybrid'!U$31=\"nej\",\"\",IF('El og plugin hybrid'!U$35=\"ja\",VLOOKUP('El og plugin hybrid'!U$50+($C132-1),Fremskrivninger!$A$9:$L$38,12),'El og plugin hybrid'!U$37))/1000","v":0},{"$f":"'El og plugin hybrid'!U$15/1000*'El og plugin hybrid'!U$13","v":0},{"$f":"'El og plugin hybrid'!W$12*X132*IF('El og plugin hybrid'!W$31=\"nej\",\"\",IF('El og plugin hybrid'!W$35=\"ja\",VLOOKUP('El og plugin hybrid'!W$50+($C132-1),Fremskrivninger!$A$9:$L$38,12),'El og plugin hybrid'!W$37))/1000","v":0},{"$f":"'El og plugin hybrid'!W$15/1000*'El og plugin hybrid'!W$13","v":0}]
[null,15,15,null,{"$f":"'El og plugin hybrid'!E$12*F133*IF('El og plugin hybrid'!E$31=\"nej\",\"\",IF('El og plugin hybrid'!E$35=\"ja\",VLOOKUP('El og plugin hybrid'!E$50+($C133-1),Fremskrivninger!$A$9:$L$38,12),'El og plugin hybrid'!E$37))/1000","v":0},{"$f":"'El og plugin hybrid'!E$15/1000*'El og plugin hybrid'!E$13","v":0},{"$f":"'El og plugin hybrid'!G$12*H133*IF('El og plugin hybrid'!G$31=\"nej\",\"\",IF('El og plugin hybrid'!G$35=\"ja\",VLOOKUP('El og plugin hybrid'!G$50+($C133-1),Fremskrivninger!$A$9:$L$38,12),'El og plugin hybrid'!G$37))/1000","v":0},{"$f":"'El og plugin hybrid'!G$15/1000*'El og plugin hybrid'!G$13","v":0},{"$f":"'El og plugin hybrid'!I$12*J133*IF('El og plugin hybrid'!I$31=\"nej\",\"\",IF('El og plugin hybrid'!I$35=\"ja\",VLOOKUP('El og plugin hybrid'!I$50+($C133-1),Fremskrivninger!$A$9:$L$38,12),'El og plugin hybrid'!I$37))/1000","v":0},{"$f":"'El og plugin hybrid'!I$15/1000*'El og plugin hybrid'!I$13","v":0},{"$f":"'El og plugin hybrid'!K$12*L133*IF('El og plugin hybrid'!K$31=\"nej\",\"\",IF('El og plugin hybrid'!K$35=\"ja\",VLOOKUP('El og plugin hybrid'!K$50+($C133-1),Fremskrivninger!$A$9:$L$38,12),'El og plugin hybrid'!K$37))/1000","v":0},{"$f":"'El og plugin hybrid'!K$15/1000*'El og plugin hybrid'!K$13","v":0},{"$f":"'El og plugin hybrid'!M$12*N133*IF('El og plugin hybrid'!M$31=\"nej\",\"\",IF('El og plugin hybrid'!M$35=\"ja\",VLOOKUP('El og plugin hybrid'!M$50+($C133-1),Fremskrivninger!$A$9:$L$38,12),'El og plugin hybrid'!M$37))/1000","v":0},{"$f":"'El og plugin hybrid'!M$15/1000*'El og plugin hybrid'!M$13","v":0},{"$f":"'El og plugin hybrid'!O$12*P133*IF('El og plugin hybrid'!O$31=\"nej\",\"\",IF('El og plugin hybrid'!O$35=\"ja\",VLOOKUP('El og plugin hybrid'!O$50+($C133-1),Fremskrivninger!$A$9:$L$38,12),'El og plugin hybrid'!O$37))/1000","v":0},{"$f":"'El og plugin hybrid'!O$15/1000*'El og plugin hybrid'!O$13","v":0},{"$f":"'El og plugin hybrid'!Q$12*R133*IF('El og plugin hybrid'!Q$31=\"nej\",\"\",IF('El og plugin hybrid'!Q$35=\"ja\",VLOOKUP('El og plugin hybrid'!Q$50+($C133-1),Fremskrivninger!$A$9:$L$38,12),'El og plugin hybrid'!Q$37))/1000","v":0},{"$f":"'El og plugin hybrid'!Q$15/1000*'El og plugin hybrid'!Q$13","v":0},{"$f":"'El og plugin hybrid'!S$12*T133*IF('El og plugin hybrid'!S$31=\"nej\",\"\",IF('El og plugin hybrid'!S$35=\"ja\",VLOOKUP('El og plugin hybrid'!S$50+($C133-1),Fremskrivninger!$A$9:$L$38,12),'El og plugin hybrid'!S$37))/1000","v":0},{"$f":"'El og plugin hybrid'!S$15/1000*'El og plugin hybrid'!S$13","v":0},{"$f":"'El og plugin hybrid'!U$12*V133*IF('El og plugin hybrid'!U$31=\"nej\",\"\",IF('El og plugin hybrid'!U$35=\"ja\",VLOOKUP('El og plugin hybrid'!U$50+($C133-1),Fremskrivninger!$A$9:$L$38,12),'El og plugin hybrid'!U$37))/1000","v":0},{"$f":"'El og plugin hybrid'!U$15/1000*'El og plugin hybrid'!U$13","v":0},{"$f":"'El og plugin hybrid'!W$12*X133*IF('El og plugin hybrid'!W$31=\"nej\",\"\",IF('El og plugin hybrid'!W$35=\"ja\",VLOOKUP('El og plugin hybrid'!W$50+($C133-1),Fremskrivninger!$A$9:$L$38,12),'El og plugin hybrid'!W$37))/1000","v":0},{"$f":"'El og plugin hybrid'!W$15/1000*'El og plugin hybrid'!W$13","v":0}]
[null,16,16,null,{"$f":"'El og plugin hybrid'!E$12*F134*IF('El og plugin hybrid'!E$31=\"nej\",\"\",IF('El og plugin hybrid'!E$35=\"ja\",VLOOKUP('El og plugin hybrid'!E$50+($C134-1),Fremskrivninger!$A$9:$L$38,12),'El og plugin hybrid'!E$37))/1000","v":0},{"$f":"'El og plugin hybrid'!E$15/1000*'El og plugin hybrid'!E$13","v":0},{"$f":"'El og plugin hybrid'!G$12*H134*IF('El og plugin hybrid'!G$31=\"nej\",\"\",IF('El og plugin hybrid'!G$35=\"ja\",VLOOKUP('El og plugin hybrid'!G$50+($C134-1),Fremskrivninger!$A$9:$L$38,12),'El og plugin hybrid'!G$37))/1000","v":0},{"$f":"'El og plugin hybrid'!G$15/1000*'El og plugin hybrid'!G$13","v":0},{"$f":"'El og plugin hybrid'!I$12*J134*IF('El og plugin hybrid'!I$31=\"nej\",\"\",IF('El og plugin hybrid'!I$35=\"ja\",VLOOKUP('El og plugin hybrid'!I$50+($C134-1),Fremskrivninger!$A$9:$L$38,12),'El og plugin hybrid'!I$37))/1000","v":0},{"$f":"'El og plugin hybrid'!I$15/1000*'El og plugin hybrid'!I$13","v":0},{"$f":"'El og plugin hybrid'!K$12*L134*IF('El og plugin hybrid'!K$31=\"nej\",\"\",IF('El og plugin hybrid'!K$35=\"ja\",VLOOKUP('El og plugin hybrid'!K$50+($C134-1),Fremskrivninger!$A$9:$L$38,12),'El og plugin hybrid'!K$37))/1000","v":0},{"$f":"'El og plugin hybrid'!K$15/1000*'El og plugin hybrid'!K$13","v":0},{"$f":"'El og plugin hybrid'!M$12*N134*IF('El og plugin hybrid'!M$31=\"nej\",\"\",IF('El og plugin hybrid'!M$35=\"ja\",VLOOKUP('El og plugin hybrid'!M$50+($C134-1),Fremskrivninger!$A$9:$L$38,12),'El og plugin hybrid'!M$37))/1000","v":0},{"$f":"'El og plugin hybrid'!M$15/1000*'El og plugin hybrid'!M$13","v":0},{"$f":"'El og plugin hybrid'!O$12*P134*IF('El og plugin hybrid'!O$31=\"nej\",\"\",IF('El og plugin hybrid'!O$35=\"ja\",VLOOKUP('El og plugin hybrid'!O$50+($C134-1),Fremskrivninger!$A$9:$L$38,12),'El og plugin hybrid'!O$37))/1000","v":0},{"$f":"'El og plugin hybrid'!O$15/1000*'El og plugin hybrid'!O$13","v":0},{"$f":"'El og plugin hybrid'!Q$12*R134*IF('El og plugin hybrid'!Q$31=\"nej\",\"\",IF('El og plugin hybrid'!Q$35=\"ja\",VLOOKUP('El og plugin hybrid'!Q$50+($C134-1),Fremskrivninger!$A$9:$L$38,12),'El og plugin hybrid'!Q$37))/1000","v":0},{"$f":"'El og plugin hybrid'!Q$15/1000*'El og plugin hybrid'!Q$13","v":0},{"$f":"'El og plugin hybrid'!S$12*T134*IF('El og plugin hybrid'!S$31=\"nej\",\"\",IF('El og plugin hybrid'!S$35=\"ja\",VLOOKUP('El og plugin hybrid'!S$50+($C134-1),Fremskrivninger!$A$9:$L$38,12),'El og plugin hybrid'!S$37))/1000","v":0},{"$f":"'El og plugin hybrid'!S$15/1000*'El og plugin hybrid'!S$13","v":0},{"$f":"'El og plugin hybrid'!U$12*V134*IF('El og plugin hybrid'!U$31=\"nej\",\"\",IF('El og plugin hybrid'!U$35=\"ja\",VLOOKUP('El og plugin hybrid'!U$50+($C134-1),Fremskrivninger!$A$9:$L$38,12),'El og plugin hybrid'!U$37))/1000","v":0},{"$f":"'El og plugin hybrid'!U$15/1000*'El og plugin hybrid'!U$13","v":0},{"$f":"'El og plugin hybrid'!W$12*X134*IF('El og plugin hybrid'!W$31=\"nej\",\"\",IF('El og plugin hybrid'!W$35=\"ja\",VLOOKUP('El og plugin hybrid'!W$50+($C134-1),Fremskrivninger!$A$9:$L$38,12),'El og plugin hybrid'!W$37))/1000","v":0},{"$f":"'El og plugin hybrid'!W$15/1000*'El og plugin hybrid'!W$13","v":0}]
[null,17,17,null,{"$f":"'El og plugin hybrid'!E$12*F135*IF('El og plugin hybrid'!E$31=\"nej\",\"\",IF('El og plugin hybrid'!E$35=\"ja\",VLOOKUP('El og plugin hybrid'!E$50+($C135-1),Fremskrivninger!$A$9:$L$38,12),'El og plugin hybrid'!E$37))/1000","v":0},{"$f":"'El og plugin hybrid'!E$15/1000*'El og plugin hybrid'!E$13","v":0},{"$f":"'El og plugin hybrid'!G$12*H135*IF('El og plugin hybrid'!G$31=\"nej\",\"\",IF('El og plugin hybrid'!G$35=\"ja\",VLOOKUP('El og plugin hybrid'!G$50+($C135-1),Fremskrivninger!$A$9:$L$38,12),'El og plugin hybrid'!G$37))/1000","v":0},{"$f":"'El og plugin hybrid'!G$15/1000*'El og plugin hybrid'!G$13","v":0},{"$f":"'El og plugin hybrid'!I$12*J135*IF('El og plugin hybrid'!I$31=\"nej\",\"\",IF('El og plugin hybrid'!I$35=\"ja\",VLOOKUP('El og plugin hybrid'!I$50+($C135-1),Fremskrivninger!$A$9:$L$38,12),'El og plugin hybrid'!I$37))/1000","v":0},{"$f":"'El og plugin hybrid'!I$15/1000*'El og plugin hybrid'!I$13","v":0},{"$f":"'El og plugin hybrid'!K$12*L135*IF('El og plugin hybrid'!K$31=\"nej\",\"\",IF('El og plugin hybrid'!K$35=\"ja\",VLOOKUP('El og plugin hybrid'!K$50+($C135-1),Fremskrivninger!$A$9:$L$38,12),'El og plugin hybrid'!K$37))/1000","v":0},{"$f":"'El og plugin hybrid'!K$15/1000*'El og plugin hybrid'!K$13","v":0},{"$f":"'El og plugin hybrid'!M$12*N135*IF('El og plugin hybrid'!M$31=\"nej\",\"\",IF('El og plugin hybrid'!M$35=\"ja\",VLOOKUP('El og plugin hybrid'!M$50+($C135-1),Fremskrivninger!$A$9:$L$38,12),'El og plugin hybrid'!M$37))/1000","v":0},{"$f":"'El og plugin hybrid'!M$15/1000*'El og plugin hybrid'!M$13","v":0},{"$f":"'El og plugin hybrid'!O$12*P135*IF('El og plugin hybrid'!O$31=\"nej\",\"\",IF('El og plugin hybrid'!O$35=\"ja\",VLOOKUP('El og plugin hybrid'!O$50+($C135-1),Fremskrivninger!$A$9:$L$38,12),'El og plugin hybrid'!O$37))/1000","v":0},{"$f":"'El og plugin hybrid'!O$15/1000*'El og plugin hybrid'!O$13","v":0},{"$f":"'El og plugin hybrid'!Q$12*R135*IF('El og plugin hybrid'!Q$31=\"nej\",\"\",IF('El og plugin hybrid'!Q$35=\"ja\",VLOOKUP('El og plugin hybrid'!Q$50+($C135-1),Fremskrivninger!$A$9:$L$38,12),'El og plugin hybrid'!Q$37))/1000","v":0},{"$f":"'El og plugin hybrid'!Q$15/1000*'El og plugin hybrid'!Q$13","v":0},{"$f":"'El og plugin hybrid'!S$12*T135*IF('El og plugin hybrid'!S$31=\"nej\",\"\",IF('El og plugin hybrid'!S$35=\"ja\",VLOOKUP('El og plugin hybrid'!S$50+($C135-1),Fremskrivninger!$A$9:$L$38,12),'El og plugin hybrid'!S$37))/1000","v":0},{"$f":"'El og plugin hybrid'!S$15/1000*'El og plugin hybrid'!S$13","v":0},{"$f":"'El og plugin hybrid'!U$12*V135*IF('El og plugin hybrid'!U$31=\"nej\",\"\",IF('El og plugin hybrid'!U$35=\"ja\",VLOOKUP('El og plugin hybrid'!U$50+($C135-1),Fremskrivninger!$A$9:$L$38,12),'El og plugin hybrid'!U$37))/1000","v":0},{"$f":"'El og plugin hybrid'!U$15/1000*'El og plugin hybrid'!U$13","v":0},{"$f":"'El og plugin hybrid'!W$12*X135*IF('El og plugin hybrid'!W$31=\"nej\",\"\",IF('El og plugin hybrid'!W$35=\"ja\",VLOOKUP('El og plugin hybrid'!W$50+($C135-1),Fremskrivninger!$A$9:$L$38,12),'El og plugin hybrid'!W$37))/1000","v":0},{"$f":"'El og plugin hybrid'!W$15/1000*'El og plugin hybrid'!W$13","v":0}]
[null,18,18,null,{"$f":"'El og plugin hybrid'!E$12*F136*IF('El og plugin hybrid'!E$31=\"nej\",\"\",IF('El og plugin hybrid'!E$35=\"ja\",VLOOKUP('El og plugin hybrid'!E$50+($C136-1),Fremskrivninger!$A$9:$L$38,12),'El og plugin hybrid'!E$37))/1000","v":0},{"$f":"'El og plugin hybrid'!E$15/1000*'El og plugin hybrid'!E$13","v":0},{"$f":"'El og plugin hybrid'!G$12*H136*IF('El og plugin hybrid'!G$31=\"nej\",\"\",IF('El og plugin hybrid'!G$35=\"ja\",VLOOKUP('El og plugin hybrid'!G$50+($C136-1),Fremskrivninger!$A$9:$L$38,12),'El og plugin hybrid'!G$37))/1000","v":0},{"$f":"'El og plugin hybrid'!G$15/1000*'El og plugin hybrid'!G$13","v":0},{"$f":"'El og plugin hybrid'!I$12*J136*IF('El og plugin hybrid'!I$31=\"nej\",\"\",IF('El og plugin hybrid'!I$35=\"ja\",VLOOKUP('El og plugin hybrid'!I$50+($C136-1),Fremskrivninger!$A$9:$L$38,12),'El og plugin hybrid'!I$37))/1000","v":0},{"$f":"'El og plugin hybrid'!I$15/1000*'El og plugin hybrid'!I$13","v":0},{"$f":"'El og plugin hybrid'!K$12*L136*IF('El og plugin hybrid'!K$31=\"nej\",\"\",IF('El og plugin hybrid'!K$35=\"ja\",VLOOKUP('El og plugin hybrid'!K$50+($C136-1),Fremskrivninger!$A$9:$L$38,12),'El og plugin hybrid'!K$37))/1000","v":0},{"$f":"'El og plugin hybrid'!K$15/1000*'El og plugin hybrid'!K$13","v":0},{"$f":"'El og plugin hybrid'!M$12*N136*IF('El og plugin hybrid'!M$31=\"nej\",\"\",IF('El og plugin hybrid'!M$35=\"ja\",VLOOKUP('El og plugin hybrid'!M$50+($C136-1),Fremskrivninger!$A$9:$L$38,12),'El og plugin hybrid'!M$37))/1000","v":0},{"$f":"'El og plugin hybrid'!M$15/1000*'El og plugin hybrid'!M$13","v":0},{"$f":"'El og plugin hybrid'!O$12*P136*IF('El og plugin hybrid'!O$31=\"nej\",\"\",IF('El og plugin hybrid'!O$35=\"ja\",VLOOKUP('El og plugin hybrid'!O$50+($C136-1),Fremskrivninger!$A$9:$L$38,12),'El og plugin hybrid'!O$37))/1000","v":0},{"$f":"'El og plugin hybrid'!O$15/1000*'El og plugin hybrid'!O$13","v":0},{"$f":"'El og plugin hybrid'!Q$12*R136*IF('El og plugin hybrid'!Q$31=\"nej\",\"\",IF('El og plugin hybrid'!Q$35=\"ja\",VLOOKUP('El og plugin hybrid'!Q$50+($C136-1),Fremskrivninger!$A$9:$L$38,12),'El og plugin hybrid'!Q$37))/1000","v":0},{"$f":"'El og plugin hybrid'!Q$15/1000*'El og plugin hybrid'!Q$13","v":0},{"$f":"'El og plugin hybrid'!S$12*T136*IF('El og plugin hybrid'!S$31=\"nej\",\"\",IF('El og plugin hybrid'!S$35=\"ja\",VLOOKUP('El og plugin hybrid'!S$50+($C136-1),Fremskrivninger!$A$9:$L$38,12),'El og plugin hybrid'!S$37))/1000","v":0},{"$f":"'El og plugin hybrid'!S$15/1000*'El og plugin hybrid'!S$13","v":0},{"$f":"'El og plugin hybrid'!U$12*V136*IF('El og plugin hybrid'!U$31=\"nej\",\"\",IF('El og plugin hybrid'!U$35=\"ja\",VLOOKUP('El og plugin hybrid'!U$50+($C136-1),Fremskrivninger!$A$9:$L$38,12),'El og plugin hybrid'!U$37))/1000","v":0},{"$f":"'El og plugin hybrid'!U$15/1000*'El og plugin hybrid'!U$13","v":0},{"$f":"'El og plugin hybrid'!W$12*X136*IF('El og plugin hybrid'!W$31=\"nej\",\"\",IF('El og plugin hybrid'!W$35=\"ja\",VLOOKUP('El og plugin hybrid'!W$50+($C136-1),Fremskrivninger!$A$9:$L$38,12),'El og plugin hybrid'!W$37))/1000","v":0},{"$f":"'El og plugin hybrid'!W$15/1000*'El og plugin hybrid'!W$13","v":0}]
[null,19,19,null,{"$f":"'El og plugin hybrid'!E$12*F137*IF('El og plugin hybrid'!E$31=\"nej\",\"\",IF('El og plugin hybrid'!E$35=\"ja\",VLOOKUP('El og plugin hybrid'!E$50+($C137-1),Fremskrivninger!$A$9:$L$38,12),'El og plugin hybrid'!E$37))/1000","v":0},{"$f":"'El og plugin hybrid'!E$15/1000*'El og plugin hybrid'!E$13","v":0},{"$f":"'El og plugin hybrid'!G$12*H137*IF('El og plugin hybrid'!G$31=\"nej\",\"\",IF('El og plugin hybrid'!G$35=\"ja\",VLOOKUP('El og plugin hybrid'!G$50+($C137-1),Fremskrivninger!$A$9:$L$38,12),'El og plugin hybrid'!G$37))/1000","v":0},{"$f":"'El og plugin hybrid'!G$15/1000*'El og plugin hybrid'!G$13","v":0},{"$f":"'El og plugin hybrid'!I$12*J137*IF('El og plugin hybrid'!I$31=\"nej\",\"\",IF('El og plugin hybrid'!I$35=\"ja\",VLOOKUP('El og plugin hybrid'!I$50+($C137-1),Fremskrivninger!$A$9:$L$38,12),'El og plugin hybrid'!I$37))/1000","v":0},{"$f":"'El og plugin hybrid'!I$15/1000*'El og plugin hybrid'!I$13","v":0},{"$f":"'El og plugin hybrid'!K$12*L137*IF('El og plugin hybrid'!K$31=\"nej\",\"\",IF('El og plugin hybrid'!K$35=\"ja\",VLOOKUP('El og plugin hybrid'!K$50+($C137-1),Fremskrivninger!$A$9:$L$38,12),'El og plugin hybrid'!K$37))/1000","v":0},{"$f":"'El og plugin hybrid'!K$15/1000*'El og plugin hybrid'!K$13","v":0},{"$f":"'El og plugin hybrid'!M$12*N137*IF('El og plugin hybrid'!M$31=\"nej\",\"\",IF('El og plugin hybrid'!M$35=\"ja\",VLOOKUP('El og plugin hybrid'!M$50+($C137-1),Fremskrivninger!$A$9:$L$38,12),'El og plugin hybrid'!M$37))/1000","v":0},{"$f":"'El og plugin hybrid'!M$15/1000*'El og plugin hybrid'!M$13","v":0},{"$f":"'El og plugin hybrid'!O$12*P137*IF('El og plugin hybrid'!O$31=\"nej\",\"\",IF('El og plugin hybrid'!O$35=\"ja\",VLOOKUP('El og plugin hybrid'!O$50+($C137-1),Fremskrivninger!$A$9:$L$38,12),'El og plugin hybrid'!O$37))/1000","v":0},{"$f":"'El og plugin hybrid'!O$15/1000*'El og plugin hybrid'!O$13","v":0},{"$f":"'El og plugin hybrid'!Q$12*R137*IF('El og plugin hybrid'!Q$31=\"nej\",\"\",IF('El og plugin hybrid'!Q$35=\"ja\",VLOOKUP('El og plugin hybrid'!Q$50+($C137-1),Fremskrivninger!$A$9:$L$38,12),'El og plugin hybrid'!Q$37))/1000","v":0},{"$f":"'El og plugin hybrid'!Q$15/1000*'El og plugin hybrid'!Q$13","v":0},{"$f":"'El og plugin hybrid'!S$12*T137*IF('El og plugin hybrid'!S$31=\"nej\",\"\",IF('El og plugin hybrid'!S$35=\"ja\",VLOOKUP('El og plugin hybrid'!S$50+($C137-1),Fremskrivninger!$A$9:$L$38,12),'El og plugin hybrid'!S$37))/1000","v":0},{"$f":"'El og plugin hybrid'!S$15/1000*'El og plugin hybrid'!S$13","v":0},{"$f":"'El og plugin hybrid'!U$12*V137*IF('El og plugin hybrid'!U$31=\"nej\",\"\",IF('El og plugin hybrid'!U$35=\"ja\",VLOOKUP('El og plugin hybrid'!U$50+($C137-1),Fremskrivninger!$A$9:$L$38,12),'El og plugin hybrid'!U$37))/1000","v":0},{"$f":"'El og plugin hybrid'!U$15/1000*'El og plugin hybrid'!U$13","v":0},{"$f":"'El og plugin hybrid'!W$12*X137*IF('El og plugin hybrid'!W$31=\"nej\",\"\",IF('El og plugin hybrid'!W$35=\"ja\",VLOOKUP('El og plugin hybrid'!W$50+($C137-1),Fremskrivninger!$A$9:$L$38,12),'El og plugin hybrid'!W$37))/1000","v":0},{"$f":"'El og plugin hybrid'!W$15/1000*'El og plugin hybrid'!W$13","v":0}]
[null,20,20,null,{"$f":"'El og plugin hybrid'!E$12*F138*IF('El og plugin hybrid'!E$31=\"nej\",\"\",IF('El og plugin hybrid'!E$35=\"ja\",VLOOKUP('El og plugin hybrid'!E$50+($C138-1),Fremskrivninger!$A$9:$L$38,12),'El og plugin hybrid'!E$37))/1000","v":0},{"$f":"'El og plugin hybrid'!E$15/1000*'El og plugin hybrid'!E$13","v":0},{"$f":"'El og plugin hybrid'!G$12*H138*IF('El og plugin hybrid'!G$31=\"nej\",\"\",IF('El og plugin hybrid'!G$35=\"ja\",VLOOKUP('El og plugin hybrid'!G$50+($C138-1),Fremskrivninger!$A$9:$L$38,12),'El og plugin hybrid'!G$37))/1000","v":0},{"$f":"'El og plugin hybrid'!G$15/1000*'El og plugin hybrid'!G$13","v":0},{"$f":"'El og plugin hybrid'!I$12*J138*IF('El og plugin hybrid'!I$31=\"nej\",\"\",IF('El og plugin hybrid'!I$35=\"ja\",VLOOKUP('El og plugin hybrid'!I$50+($C138-1),Fremskrivninger!$A$9:$L$38,12),'El og plugin hybrid'!I$37))/1000","v":0},{"$f":"'El og plugin hybrid'!I$15/1000*'El og plugin hybrid'!I$13","v":0},{"$f":"'El og plugin hybrid'!K$12*L138*IF('El og plugin hybrid'!K$31=\"nej\",\"\",IF('El og plugin hybrid'!K$35=\"ja\",VLOOKUP('El og plugin hybrid'!K$50+($C138-1),Fremskrivninger!$A$9:$L$38,12),'El og plugin hybrid'!K$37))/1000","v":0},{"$f":"'El og plugin hybrid'!K$15/1000*'El og plugin hybrid'!K$13","v":0},{"$f":"'El og plugin hybrid'!M$12*N138*IF('El og plugin hybrid'!M$31=\"nej\",\"\",IF('El og plugin hybrid'!M$35=\"ja\",VLOOKUP('El og plugin hybrid'!M$50+($C138-1),Fremskrivninger!$A$9:$L$38,12),'El og plugin hybrid'!M$37))/1000","v":0},{"$f":"'El og plugin hybrid'!M$15/1000*'El og plugin hybrid'!M$13","v":0},{"$f":"'El og plugin hybrid'!O$12*P138*IF('El og plugin hybrid'!O$31=\"nej\",\"\",IF('El og plugin hybrid'!O$35=\"ja\",VLOOKUP('El og plugin hybrid'!O$50+($C138-1),Fremskrivninger!$A$9:$L$38,12),'El og plugin hybrid'!O$37))/1000","v":0},{"$f":"'El og plugin hybrid'!O$15/1000*'El og plugin hybrid'!O$13","v":0},{"$f":"'El og plugin hybrid'!Q$12*R138*IF('El og plugin hybrid'!Q$31=\"nej\",\"\",IF('El og plugin hybrid'!Q$35=\"ja\",VLOOKUP('El og plugin hybrid'!Q$50+($C138-1),Fremskrivninger!$A$9:$L$38,12),'El og plugin hybrid'!Q$37))/1000","v":0},{"$f":"'El og plugin hybrid'!Q$15/1000*'El og plugin hybrid'!Q$13","v":0},{"$f":"'El og plugin hybrid'!S$12*T138*IF('El og plugin hybrid'!S$31=\"nej\",\"\",IF('El og plugin hybrid'!S$35=\"ja\",VLOOKUP('El og plugin hybrid'!S$50+($C138-1),Fremskrivninger!$A$9:$L$38,12),'El og plugin hybrid'!S$37))/1000","v":0},{"$f":"'El og plugin hybrid'!S$15/1000*'El og plugin hybrid'!S$13","v":0},{"$f":"'El og plugin hybrid'!U$12*V138*IF('El og plugin hybrid'!U$31=\"nej\",\"\",IF('El og plugin hybrid'!U$35=\"ja\",VLOOKUP('El og plugin hybrid'!U$50+($C138-1),Fremskrivninger!$A$9:$L$38,12),'El og plugin hybrid'!U$37))/1000","v":0},{"$f":"'El og plugin hybrid'!U$15/1000*'El og plugin hybrid'!U$13","v":0},{"$f":"'El og plugin hybrid'!W$12*X138*IF('El og plugin hybrid'!W$31=\"nej\",\"\",IF('El og plugin hybrid'!W$35=\"ja\",VLOOKUP('El og plugin hybrid'!W$50+($C138-1),Fremskrivninger!$A$9:$L$38,12),'El og plugin hybrid'!W$37))/1000","v":0},{"$f":"'El og plugin hybrid'!W$15/1000*'El og plugin hybrid'!W$13","v":0}]
[]
["Eksternalitetsmodul - Udledninger forbundet med benzinforbrug i brugsfasen (tons CO2e) - Udledningerne er multipleret med antallet af produkter I det givne tilbud"]
[null,"År indeks",null,"TCO-evalueringsperiode",{"$f":"'El og plugin hybrid'!E8&\" - (ton CO2e/år)\"","v":"PRODUKT 1 EL - (ton CO2e/år)"},{"$f":"'El og plugin hybrid'!E8&\" - Årligt benzinforbrug (liter/år/produkt)\"","v":"PRODUKT 1 EL - Årligt benzinforbrug (liter/år/produkt)"},{"$f":"'El og plugin hybrid'!G8&\" - (ton CO2e/år)\"","v":"PRODUKT 2 EL - (ton CO2e/år)"},{"$f":"'El og plugin hybrid'!G8&\" - Årligt benzinforbrug (liter/år/produkt)\"","v":"PRODUKT 2 EL - Årligt benzinforbrug (liter/år/produkt)"},{"$f":"'El og plugin hybrid'!I8&\" - (ton CO2e/år)\"","v":"PRODUKT 3 EL - (ton CO2e/år)"},{"$f":"'El og plugin hybrid'!I8&\" - Årligt benzinforbrug (liter/år/produkt)\"","v":"PRODUKT 3 EL - Årligt benzinforbrug (liter/år/produkt)"},{"$f":"'El og plugin hybrid'!K8&\" - (ton CO2e/år)\"","v":"PRODUKT 4 EL - (ton CO2e/år)"},{"$f":"'El og plugin hybrid'!K8&\" - Årligt benzinforbrug (liter/år/produkt)\"","v":"PRODUKT 4 EL - Årligt benzinforbrug (liter/år/produkt)"},{"$f":"'El og plugin hybrid'!M8&\" - (ton CO2e/år)\"","v":"PRODUKT 5 EL - (ton CO2e/år)"},{"$f":"'El og plugin hybrid'!M8&\" - Årligt benzinforbrug (liter/år/produkt)\"","v":"PRODUKT 5 EL - Årligt benzinforbrug (liter/år/produkt)"},{"$f":"'El og plugin hybrid'!O8&\" - (ton CO2e/år)\"","v":"PRODUKT 6 EL - (ton CO2e/år)"},{"$f":"'El og plugin hybrid'!O8&\" - Årligt benzinforbrug (liter/år/produkt)\"","v":"PRODUKT 6 EL - Årligt benzinforbrug (liter/år/produkt)"},{"$f":"'El og plugin hybrid'!Q8&\" - (ton CO2e/år)\"","v":"PRODUKT 7 EL - (ton CO2e/år)"},{"$f":"'El og plugin hybrid'!Q8&\" - Årligt benzinforbrug (liter/år/produkt)\"","v":"PRODUKT 7 EL - Årligt benzinforbrug (liter/år/produkt)"},{"$f":"'El og plugin hybrid'!S8&\" - (ton CO2e/år)\"","v":"PRODUKT 8 EL - (ton CO2e/år)"},{"$f":"'El og plugin hybrid'!S8&\" - Årligt benzinforbrug (liter/år/produkt)\"","v":"PRODUKT 8 EL - Årligt benzinforbrug (liter/år/produkt)"},{"$f":"'El og plugin hybrid'!U8&\" - (ton CO2e/år)\"","v":"PRODUKT 9 EL - (ton CO2e/år)"},{"$f":"'El og plugin hybrid'!U8&\" - Årligt benzinforbrug (liter/år/produkt)\"","v":"PRODUKT 9 EL - Årligt benzinforbrug (liter/år/produkt)"},{"$f":"'El og plugin hybrid'!W8&\" - (ton CO2e/år)\"","v":"PRODUKT 10 EL - (ton CO2e/år)"},{"$f":"'El og plugin hybrid'!W8&\" - Årligt benzinforbrug (liter/år/produkt)\"","v":"PRODUKT 10 EL - Årligt benzinforbrug (liter/år/produkt)"}]
[null,1,{"$f":"B142","v":1},null,{"$f":"VLOOKUP('El og plugin hybrid'!E$50+($B142-1),'Fremskrivninger CO2e egne data'!$B$41:$M$71,3)/1000*'El og plugin hybrid'!E$12","v":0},{"$f":"IFERROR('El og plugin hybrid'!E$13/'El og plugin hybrid'!#REF!,0)","v":0},{"$f":"VLOOKUP('El og plugin hybrid'!G$50+($B142-1),'Fremskrivninger CO2e egne data'!$B$41:$M$71,4)/1000*'El og plugin hybrid'!G$12","v":0},{"$f":"IFERROR('El og plugin hybrid'!G$13/'El og plugin hybrid'!#REF!,0)","v":0},{"$f":"VLOOKUP('El og plugin hybrid'!I$50+($B142-1),'Fremskrivninger CO2e egne data'!$B$41:$M$71,5)/1000*'El og plugin hybrid'!I$12","v":0},{"$f":"IFERROR('El og plugin hybrid'!I$13/'El og plugin hybrid'!#REF!,0)","v":0},{"$f":"VLOOKUP('El og plugin hybrid'!K$50+($B142-1),'Fremskrivninger CO2e egne data'!$B$41:$M$71,6)/1000*'El og plugin hybrid'!K$12","v":0},{"$f":"IFERROR('El og plugin hybrid'!K$13/'El og plugin hybrid'!#REF!,0)","v":0},{"$f":"VLOOKUP('El og plugin hybrid'!M$50+($B142-1),'Fremskrivninger CO2e egne data'!$B$41:$M$71,7)/1000*'El og plugin hybrid'!M$12","v":0},{"$f":"IFERROR('El og plugin hybrid'!M$13/'El og plugin hybrid'!#REF!,0)","v":0},{"$f":"VLOOKUP('El og plugin hybrid'!O$50+($B142-1),'Fremskrivninger CO2e egne data'!$B$41:$M$71,8)/1000*'El og plugin hybrid'!O$12","v":0},{"$f":"IFERROR('El og plugin hybrid'!O$13/'El og plugin hybrid'!#REF!,0)","v":0},{"$f":"VLOOKUP('El og plugin hybrid'!Q$50+($B142-1),'Fremskrivninger CO2e egne data'!$B$41:$M$71,9)/1000*'El og plugin hybrid'!Q$12","v":0},{"$f":"IFERROR('El og plugin hybrid'!Q$13/'El og plugin hybrid'!#REF!,0)","v":0},{"$f":"VLOOKUP('El og plugin hybrid'!S$50+($B142-1),'Fremskrivninger CO2e egne data'!$B$41:$M$71,10)/1000*'El og plugin hybrid'!S$12","v":0},{"$f":"IFERROR('El og plugin hybrid'!S$13/'El og plugin hybrid'!#REF!,0)","v":0},{"$f":"VLOOKUP('El og plugin hybrid'!U$50+($B142-1),'Fremskrivninger CO2e egne data'!$B$41:$M$71,11)/1000*'El og plugin hybrid'!U$12","v":0},{"$f":"IFERROR('El og plugin hybrid'!U$13/'El og plugin hybrid'!#REF!,0)","v":0},{"$f":"VLOOKUP('El og plugin hybrid'!W$50+($B142-1),'Fremskrivninger CO2e egne data'!$B$41:$M$71,12)/1000*'El og plugin hybrid'!W$12","v":0},{"$f":"IFERROR('El og plugin hybrid'!W$13/'El og plugin hybrid'!#REF!,0)","v":0}]
[null,2,{"$f":"B143","v":2},null,{"$f":"VLOOKUP('El og plugin hybrid'!E$50+($B143-1),'Fremskrivninger CO2e egne data'!$B$41:$M$71,3)/1000*'El og plugin hybrid'!E$12","v":0},{"$f":"IFERROR('El og plugin hybrid'!E$13/'El og plugin hybrid'!#REF!,0)","v":0},{"$f":"VLOOKUP('El og plugin hybrid'!G$50+($B143-1),'Fremskrivninger CO2e egne data'!$B$41:$M$71,4)/1000*'El og plugin hybrid'!G$12","v":0},{"$f":"IFERROR('El og plugin hybrid'!G$13/'El og plugin hybrid'!#REF!,0)","v":0},{"$f":"VLOOKUP('El og plugin hybrid'!I$50+($B143-1),'Fremskrivninger CO2e egne data'!$B$41:$M$71,5)/1000*'El og plugin hybrid'!I$12","v":0},{"$f":"IFERROR('El og plugin hybrid'!I$13/'El og plugin hybrid'!#REF!,0)","v":0},{"$f":"VLOOKUP('El og plugin hybrid'!K$50+($B143-1),'Fremskrivninger CO2e egne data'!$B$41:$M$71,6)/1000*'El og plugin hybrid'!K$12","v":0},{"$f":"IFERROR('El og plugin hybrid'!K$13/'El og plugin hybrid'!#REF!,0)","v":0},{"$f":"VLOOKUP('El og plugin hybrid'!M$50+($B143-1),'Fremskrivninger CO2e egne data'!$B$41:$M$71,7)/1000*'El og plugin hybrid'!M$12","v":0},{"$f":"IFERROR('El og plugin hybrid'!M$13/'El og plugin hybrid'!#REF!,0)","v":0},{"$f":"VLOOKUP('El og plugin hybrid'!O$50+($B143-1),'Fremskrivninger CO2e egne data'!$B$41:$M$71,8)/1000*'El og plugin hybrid'!O$12","v":0},{"$f":"IFERROR('El og plugin hybrid'!O$13/'El og plugin hybrid'!#REF!,0)","v":0},{"$f":"VLOOKUP('El og plugin hybrid'!Q$50+($B143-1),'Fremskrivninger CO2e egne data'!$B$41:$M$71,9)/1000*'El og plugin hybrid'!Q$12","v":0},{"$f":"IFERROR('El og plugin hybrid'!Q$13/'El og plugin hybrid'!#REF!,0)","v":0},{"$f":"VLOOKUP('El og plugin hybrid'!S$50+($B143-1),'Fremskrivninger CO2e egne data'!$B$41:$M$71,10)/1000*'El og plugin hybrid'!S$12","v":0},{"$f":"IFERROR('El og plugin hybrid'!S$13/'El og plugin hybrid'!#REF!,0)","v":0},{"$f":"VLOOKUP('El og plugin hybrid'!U$50+($B143-1),'Fremskrivninger CO2e egne data'!$B$41:$M$71,11)/1000*'El og plugin hybrid'!U$12","v":0},{"$f":"IFERROR('El og plugin hybrid'!U$13/'El og plugin hybrid'!#REF!,0)","v":0},{"$f":"VLOOKUP('El og plugin hybrid'!W$50+($B143-1),'Fremskrivninger CO2e egne data'!$B$41:$M$71,12)/1000*'El og plugin hybrid'!W$12","v":0},{"$f":"IFERROR('El og plugin hybrid'!W$13/'El og plugin hybrid'!#REF!,0)","v":0}]
[null,3,3,null,{"$f":"VLOOKUP('El og plugin hybrid'!E$50+($B144-1),'Fremskrivninger CO2e egne data'!$B$41:$M$71,3)/1000*'El og plugin hybrid'!E$12","v":0},{"$f":"IFERROR('El og plugin hybrid'!E$13/'El og plugin hybrid'!#REF!,0)","v":0},{"$f":"VLOOKUP('El og plugin hybrid'!G$50+($B144-1),'Fremskrivninger CO2e egne data'!$B$41:$M$71,4)/1000*'El og plugin hybrid'!G$12","v":0},{"$f":"IFERROR('El og plugin hybrid'!G$13/'El og plugin hybrid'!#REF!,0)","v":0},{"$f":"VLOOKUP('El og plugin hybrid'!I$50+($B144-1),'Fremskrivninger CO2e egne data'!$B$41:$M$71,5)/1000*'El og plugin hybrid'!I$12","v":0},{"$f":"IFERROR('El og plugin hybrid'!I$13/'El og plugin hybrid'!#REF!,0)","v":0},{"$f":"VLOOKUP('El og plugin hybrid'!K$50+($B144-1),'Fremskrivninger CO2e egne data'!$B$41:$M$71,6)/1000*'El og plugin hybrid'!K$12","v":0},{"$f":"IFERROR('El og plugin hybrid'!K$13/'El og plugin hybrid'!#REF!,0)","v":0},{"$f":"VLOOKUP('El og plugin hybrid'!M$50+($B144-1),'Fremskrivninger CO2e egne data'!$B$41:$M$71,7)/1000*'El og plugin hybrid'!M$12","v":0},{"$f":"IFERROR('El og plugin hybrid'!M$13/'El og plugin hybrid'!#REF!,0)","v":0},{"$f":"VLOOKUP('El og plugin hybrid'!O$50+($B144-1),'Fremskrivninger CO2e egne data'!$B$41:$M$71,8)/1000*'El og plugin hybrid'!O$12","v":0},{"$f":"IFERROR('El og plugin hybrid'!O$13/'El og plugin hybrid'!#REF!,0)","v":0},{"$f":"VLOOKUP('El og plugin hybrid'!Q$50+($B144-1),'Fremskrivninger CO2e egne data'!$B$41:$M$71,9)/1000*'El og plugin hybrid'!Q$12","v":0},{"$f":"IFERROR('El og plugin hybrid'!Q$13/'El og plugin hybrid'!#REF!,0)","v":0},{"$f":"VLOOKUP('El og plugin hybrid'!S$50+($B144-1),'Fremskrivninger CO2e egne data'!$B$41:$M$71,10)/1000*'El og plugin hybrid'!S$12","v":0},{"$f":"IFERROR('El og plugin hybrid'!S$13/'El og plugin hybrid'!#REF!,0)","v":0},{"$f":"VLOOKUP('El og plugin hybrid'!U$50+($B144-1),'Fremskrivninger CO2e egne data'!$B$41:$M$71,11)/1000*'El og plugin hybrid'!U$12","v":0},{"$f":"IFERROR('El og plugin hybrid'!U$13/'El og plugin hybrid'!#REF!,0)","v":0},{"$f":"VLOOKUP('El og plugin hybrid'!W$50+($B144-1),'Fremskrivninger CO2e egne data'!$B$41:$M$71,12)/1000*'El og plugin hybrid'!W$12","v":0},{"$f":"IFERROR('El og plugin hybrid'!W$13/'El og plugin hybrid'!#REF!,0)","v":0}]
[null,4,4,null,{"$f":"VLOOKUP('El og plugin hybrid'!E$50+($B145-1),'Fremskrivninger CO2e egne data'!$B$41:$M$71,3)/1000*'El og plugin hybrid'!E$12","v":0},{"$f":"IFERROR('El og plugin hybrid'!E$13/'El og plugin hybrid'!#REF!,0)","v":0},{"$f":"VLOOKUP('El og plugin hybrid'!G$50+($B145-1),'Fremskrivninger CO2e egne data'!$B$41:$M$71,4)/1000*'El og plugin hybrid'!G$12","v":0},{"$f":"IFERROR('El og plugin hybrid'!G$13/'El og plugin hybrid'!#REF!,0)","v":0},{"$f":"VLOOKUP('El og plugin hybrid'!I$50+($B145-1),'Fremskrivninger CO2e egne data'!$B$41:$M$71,5)/1000*'El og plugin hybrid'!I$12","v":0},{"$f":"IFERROR('El og plugin hybrid'!I$13/'El og plugin hybrid'!#REF!,0)","v":0},{"$f":"VLOOKUP('El og plugin hybrid'!K$50+($B145-1),'Fremskrivninger CO2e egne data'!$B$41:$M$71,6)/1000*'El og plugin hybrid'!K$12","v":0},{"$f":"IFERROR('El og plugin hybrid'!K$13/'El og plugin hybrid'!#REF!,0)","v":0},{"$f":"VLOOKUP('El og plugin hybrid'!M$50+($B145-1),'Fremskrivninger CO2e egne data'!$B$41:$M$71,7)/1000*'El og plugin hybrid'!M$12","v":0},{"$f":"IFERROR('El og plugin hybrid'!M$13/'El og plugin hybrid'!#REF!,0)","v":0},{"$f":"VLOOKUP('El og plugin hybrid'!O$50+($B145-1),'Fremskrivninger CO2e egne data'!$B$41:$M$71,8)/1000*'El og plugin hybrid'!O$12","v":0},{"$f":"IFERROR('El og plugin hybrid'!O$13/'El og plugin hybrid'!#REF!,0)","v":0},{"$f":"VLOOKUP('El og plugin hybrid'!Q$50+($B145-1),'Fremskrivninger CO2e egne data'!$B$41:$M$71,9)/1000*'El og plugin hybrid'!Q$12","v":0},{"$f":"IFERROR('El og plugin hybrid'!Q$13/'El og plugin hybrid'!#REF!,0)","v":0},{"$f":"VLOOKUP('El og plugin hybrid'!S$50+($B145-1),'Fremskrivninger CO2e egne data'!$B$41:$M$71,10)/1000*'El og plugin hybrid'!S$12","v":0},{"$f":"IFERROR('El og plugin hybrid'!S$13/'El og plugin hybrid'!#REF!,0)","v":0},{"$f":"VLOOKUP('El og plugin hybrid'!U$50+($B145-1),'Fremskrivninger CO2e egne data'!$B$41:$M$71,11)/1000*'El og plugin hybrid'!U$12","v":0},{"$f":"IFERROR('El og plugin hybrid'!U$13/'El og plugin hybrid'!#REF!,0)","v":0},{"$f":"VLOOKUP('El og plugin hybrid'!W$50+($B145-1),'Fremskrivninger CO2e egne data'!$B$41:$M$71,12)/1000*'El og plugin hybrid'!W$12","v":0},{"$f":"IFERROR('El og plugin hybrid'!W$13/'El og plugin hybrid'!#REF!,0)","v":0}]
[null,5,5,null,{"$f":"VLOOKUP('El og plugin hybrid'!E$50+($B146-1),'Fremskrivninger CO2e egne data'!$B$41:$M$71,3)/1000*'El og plugin hybrid'!E$12","v":0},{"$f":"IFERROR('El og plugin hybrid'!E$13/'El og plugin hybrid'!#REF!,0)","v":0},{"$f":"VLOOKUP('El og plugin hybrid'!G$50+($B146-1),'Fremskrivninger CO2e egne data'!$B$41:$M$71,4)/1000*'El og plugin hybrid'!G$12","v":0},{"$f":"IFERROR('El og plugin hybrid'!G$13/'El og plugin hybrid'!#REF!,0)","v":0},{"$f":"VLOOKUP('El og plugin hybrid'!I$50+($B146-1),'Fremskrivninger CO2e egne data'!$B$41:$M$71,5)/1000*'El og plugin hybrid'!I$12","v":0},{"$f":"IFERROR('El og plugin hybrid'!I$13/'El og plugin hybrid'!#REF!,0)","v":0},{"$f":"VLOOKUP('El og plugin hybrid'!K$50+($B146-1),'Fremskrivninger CO2e egne data'!$B$41:$M$71,6)/1000*'El og plugin hybrid'!K$12","v":0},{"$f":"IFERROR('El og plugin hybrid'!K$13/'El og plugin hybrid'!#REF!,0)","v":0},{"$f":"VLOOKUP('El og plugin hybrid'!M$50+($B146-1),'Fremskrivninger CO2e egne data'!$B$41:$M$71,7)/1000*'El og plugin hybrid'!M$12","v":0},{"$f":"IFERROR('El og plugin hybrid'!M$13/'El og plugin hybrid'!#REF!,0)","v":0},{"$f":"VLOOKUP('El og plugin hybrid'!O$50+($B146-1),'Fremskrivninger CO2e egne data'!$B$41:$M$71,8)/1000*'El og plugin hybrid'!O$12","v":0},{"$f":"IFERROR('El og plugin hybrid'!O$13/'El og plugin hybrid'!#REF!,0)","v":0},{"$f":"VLOOKUP('El og plugin hybrid'!Q$50+($B146-1),'Fremskrivninger CO2e egne data'!$B$41:$M$71,9)/1000*'El og plugin hybrid'!Q$12","v":0},{"$f":"IFERROR('El og plugin hybrid'!Q$13/'El og plugin hybrid'!#REF!,0)","v":0},{"$f":"VLOOKUP('El og plugin hybrid'!S$50+($B146-1),'Fremskrivninger CO2e egne data'!$B$41:$M$71,10)/1000*'El og plugin hybrid'!S$12","v":0},{"$f":"IFERROR('El og plugin hybrid'!S$13/'El og plugin hybrid'!#REF!,0)","v":0},{"$f":"VLOOKUP('El og plugin hybrid'!U$50+($B146-1),'Fremskrivninger CO2e egne data'!$B$41:$M$71,11)/1000*'El og plugin hybrid'!U$12","v":0},{"$f":"IFERROR('El og plugin hybrid'!U$13/'El og plugin hybrid'!#REF!,0)","v":0},{"$f":"VLOOKUP('El og plugin hybrid'!W$50+($B146-1),'Fremskrivninger CO2e egne data'!$B$41:$M$71,12)/1000*'El og plugin hybrid'!W$12","v":0},{"$f":"IFERROR('El og plugin hybrid'!W$13/'El og plugin hybrid'!#REF!,0)","v":0}]
[null,6,6,null,{"$f":"VLOOKUP('El og plugin hybrid'!E$50+($B147-1),'Fremskrivninger CO2e egne data'!$B$41:$M$71,3)/1000*'El og plugin hybrid'!E$12","v":0},{"$f":"IFERROR('El og plugin hybrid'!E$13/'El og plugin hybrid'!#REF!,0)","v":0},{"$f":"VLOOKUP('El og plugin hybrid'!G$50+($B147-1),'Fremskrivninger CO2e egne data'!$B$41:$M$71,4)/1000*'El og plugin hybrid'!G$12","v":0},{"$f":"IFERROR('El og plugin hybrid'!G$13/'El og plugin hybrid'!#REF!,0)","v":0},{"$f":"VLOOKUP('El og plugin hybrid'!I$50+($B147-1),'Fremskrivninger CO2e egne data'!$B$41:$M$71,5)/1000*'El og plugin hybrid'!I$12","v":0},{"$f":"IFERROR('El og plugin hybrid'!I$13/'El og plugin hybrid'!#REF!,0)","v":0},{"$f":"VLOOKUP('El og plugin hybrid'!K$50+($B147-1),'Fremskrivninger CO2e egne data'!$B$41:$M$71,6)/1000*'El og plugin hybrid'!K$12","v":0},{"$f":"IFERROR('El og plugin hybrid'!K$13/'El og plugin hybrid'!#REF!,0)","v":0},{"$f":"VLOOKUP('El og plugin hybrid'!M$50+($B147-1),'Fremskrivninger CO2e egne data'!$B$41:$M$71,7)/1000*'El og plugin hybrid'!M$12","v":0},{"$f":"IFERROR('El og plugin hybrid'!M$13/'El og plugin hybrid'!#REF!,0)","v":0},{"$f":"VLOOKUP('El og plugin hybrid'!O$50+($B147-1),'Fremskrivninger CO2e egne data'!$B$41:$M$71,8)/1000*'El og plugin hybrid'!O$12","v":0},{"$f":"IFERROR('El og plugin hybrid'!O$13/'El og plugin hybrid'!#REF!,0)","v":0},{"$f":"VLOOKUP('El og plugin hybrid'!Q$50+($B147-1),'Fremskrivninger CO2e egne data'!$B$41:$M$71,9)/1000*'El og plugin hybrid'!Q$12","v":0},{"$f":"IFERROR('El og plugin hybrid'!Q$13/'El og plugin hybrid'!#REF!,0)","v":0},{"$f":"VLOOKUP('El og plugin hybrid'!S$50+($B147-1),'Fremskrivninger CO2e egne data'!$B$41:$M$71,10)/1000*'El og plugin hybrid'!S$12","v":0},{"$f":"IFERROR('El og plugin hybrid'!S$13/'El og plugin hybrid'!#REF!,0)","v":0},{"$f":"VLOOKUP('El og plugin hybrid'!U$50+($B147-1),'Fremskrivninger CO2e egne data'!$B$41:$M$71,11)/1000*'El og plugin hybrid'!U$12","v":0},{"$f":"IFERROR('El og plugin hybrid'!U$13/'El og plugin hybrid'!#REF!,0)","v":0},{"$f":"VLOOKUP('El og plugin hybrid'!W$50+($B147-1),'Fremskrivninger CO2e egne data'!$B$41:$M$71,12)/1000*'El og plugin hybrid'!W$12","v":0},{"$f":"IFERROR('El og plugin hybrid'!W$13/'El og plugin hybrid'!#REF!,0)","v":0}]
[null,7,7,null,{"$f":"VLOOKUP('El og plugin hybrid'!E$50+($B148-1),'Fremskrivninger CO2e egne data'!$B$41:$M$71,3)/1000*'El og plugin hybrid'!E$12","v":0},{"$f":"IFERROR('El og plugin hybrid'!E$13/'El og plugin hybrid'!#REF!,0)","v":0},{"$f":"VLOOKUP('El og plugin hybrid'!G$50+($B148-1),'Fremskrivninger CO2e egne data'!$B$41:$M$71,4)/1000*'El og plugin hybrid'!G$12","v":0},{"$f":"IFERROR('El og plugin hybrid'!G$13/'El og plugin hybrid'!#REF!,0)","v":0},{"$f":"VLOOKUP('El og plugin hybrid'!I$50+($B148-1),'Fremskrivninger CO2e egne data'!$B$41:$M$71,5)/1000*'El og plugin hybrid'!I$12","v":0},{"$f":"IFERROR('El og plugin hybrid'!I$13/'El og plugin hybrid'!#REF!,0)","v":0},{"$f":"VLOOKUP('El og plugin hybrid'!K$50+($B148-1),'Fremskrivninger CO2e egne data'!$B$41:$M$71,6)/1000*'El og plugin hybrid'!K$12","v":0},{"$f":"IFERROR('El og plugin hybrid'!K$13/'El og plugin hybrid'!#REF!,0)","v":0},{"$f":"VLOOKUP('El og plugin hybrid'!M$50+($B148-1),'Fremskrivninger CO2e egne data'!$B$41:$M$71,7)/1000*'El og plugin hybrid'!M$12","v":0},{"$f":"IFERROR('El og plugin hybrid'!M$13/'El og plugin hybrid'!#REF!,0)","v":0},{"$f":"VLOOKUP('El og plugin hybrid'!O$50+($B148-1),'Fremskrivninger CO2e egne data'!$B$41:$M$71,8)/1000*'El og plugin hybrid'!O$12","v":0},{"$f":"IFERROR('El og plugin hybrid'!O$13/'El og plugin hybrid'!#REF!,0)","v":0},{"$f":"VLOOKUP('El og plugin hybrid'!Q$50+($B148-1),'Fremskrivninger CO2e egne data'!$B$41:$M$71,9)/1000*'El og plugin hybrid'!Q$12","v":0},{"$f":"IFERROR('El og plugin hybrid'!Q$13/'El og plugin hybrid'!#REF!,0)","v":0},{"$f":"VLOOKUP('El og plugin hybrid'!S$50+($B148-1),'Fremskrivninger CO2e egne data'!$B$41:$M$71,10)/1000*'El og plugin hybrid'!S$12","v":0},{"$f":"IFERROR('El og plugin hybrid'!S$13/'El og plugin hybrid'!#REF!,0)","v":0},{"$f":"VLOOKUP('El og plugin hybrid'!U$50+($B148-1),'Fremskrivninger CO2e egne data'!$B$41:$M$71,11)/1000*'El og plugin hybrid'!U$12","v":0},{"$f":"IFERROR('El og plugin hybrid'!U$13/'El og plugin hybrid'!#REF!,0)","v":0},{"$f":"VLOOKUP('El og plugin hybrid'!W$50+($B148-1),'Fremskrivninger CO2e egne data'!$B$41:$M$71,12)/1000*'El og plugin hybrid'!W$12","v":0},{"$f":"IFERROR('El og plugin hybrid'!W$13/'El og plugin hybrid'!#REF!,0)","v":0}]
[null,8,8,null,{"$f":"VLOOKUP('El og plugin hybrid'!E$50+($B149-1),'Fremskrivninger CO2e egne data'!$B$41:$M$71,3)/1000*'El og plugin hybrid'!E$12","v":0},{"$f":"IFERROR('El og plugin hybrid'!E$13/'El og plugin hybrid'!#REF!,0)","v":0},{"$f":"VLOOKUP('El og plugin hybrid'!G$50+($B149-1),'Fremskrivninger CO2e egne data'!$B$41:$M$71,4)/1000*'El og plugin hybrid'!G$12","v":0},{"$f":"IFERROR('El og plugin hybrid'!G$13/'El og plugin hybrid'!#REF!,0)","v":0},{"$f":"VLOOKUP('El og plugin hybrid'!I$50+($B149-1),'Fremskrivninger CO2e egne data'!$B$41:$M$71,5)/1000*'El og plugin hybrid'!I$12","v":0},{"$f":"IFERROR('El og plugin hybrid'!I$13/'El og plugin hybrid'!#REF!,0)","v":0},{"$f":"VLOOKUP('El og plugin hybrid'!K$50+($B149-1),'Fremskrivninger CO2e egne data'!$B$41:$M$71,6)/1000*'El og plugin hybrid'!K$12","v":0},{"$f":"IFERROR('El og plugin hybrid'!K$13/'El og plugin hybrid'!#REF!,0)","v":0},{"$f":"VLOOKUP('El og plugin hybrid'!M$50+($B149-1),'Fremskrivninger CO2e egne data'!$B$41:$M$71,7)/1000*'El og plugin hybrid'!M$12","v":0},{"$f":"IFERROR('El og plugin hybrid'!M$13/'El og plugin hybrid'!#REF!,0)","v":0},{"$f":"VLOOKUP('El og plugin hybrid'!O$50+($B149-1),'Fremskrivninger CO2e egne data'!$B$41:$M$71,8)/1000*'El og plugin hybrid'!O$12","v":0},{"$f":"IFERROR('El og plugin hybrid'!O$13/'El og plugin hybrid'!#REF!,0)","v":0},{"$f":"VLOOKUP('El og plugin hybrid'!Q$50+($B149-1),'Fremskrivninger CO2e egne data'!$B$41:$M$71,9)/1000*'El og plugin hybrid'!Q$12","v":0},{"$f":"IFERROR('El og plugin hybrid'!Q$13/'El og plugin hybrid'!#REF!,0)","v":0},{"$f":"VLOOKUP('El og plugin hybrid'!S$50+($B149-1),'Fremskrivninger CO2e egne data'!$B$41:$M$71,10)/1000*'El og plugin hybrid'!S$12","v":0},{"$f":"IFERROR('El og plugin hybrid'!S$13/'El og plugin hybrid'!#REF!,0)","v":0},{"$f":"VLOOKUP('El og plugin hybrid'!U$50+($B149-1),'Fremskrivninger CO2e egne data'!$B$41:$M$71,11)/1000*'El og plugin hybrid'!U$12","v":0},{"$f":"IFERROR('El og plugin hybrid'!U$13/'El og plugin hybrid'!#REF!,0)","v":0},{"$f":"VLOOKUP('El og plugin hybrid'!W$50+($B149-1),'Fremskrivninger CO2e egne data'!$B$41:$M$71,12)/1000*'El og plugin hybrid'!W$12","v":0},{"$f":"IFERROR('El og plugin hybrid'!W$13/'El og plugin hybrid'!#REF!,0)","v":0}]
[null,9,9,null,{"$f":"VLOOKUP('El og plugin hybrid'!E$50+($B150-1),'Fremskrivninger CO2e egne data'!$B$41:$M$71,3)/1000*'El og plugin hybrid'!E$12","v":0},{"$f":"IFERROR('El og plugin hybrid'!E$13/'El og plugin hybrid'!#REF!,0)","v":0},{"$f":"VLOOKUP('El og plugin hybrid'!G$50+($B150-1),'Fremskrivninger CO2e egne data'!$B$41:$M$71,4)/1000*'El og plugin hybrid'!G$12","v":0},{"$f":"IFERROR('El og plugin hybrid'!G$13/'El og plugin hybrid'!#REF!,0)","v":0},{"$f":"VLOOKUP('El og plugin hybrid'!I$50+($B150-1),'Fremskrivninger CO2e egne data'!$B$41:$M$71,5)/1000*'El og plugin hybrid'!I$12","v":0},{"$f":"IFERROR('El og plugin hybrid'!I$13/'El og plugin hybrid'!#REF!,0)","v":0},{"$f":"VLOOKUP('El og plugin hybrid'!K$50+($B150-1),'Fremskrivninger CO2e egne data'!$B$41:$M$71,6)/1000*'El og plugin hybrid'!K$12","v":0},{"$f":"IFERROR('El og plugin hybrid'!K$13/'El og plugin hybrid'!#REF!,0)","v":0},{"$f":"VLOOKUP('El og plugin hybrid'!M$50+($B150-1),'Fremskrivninger CO2e egne data'!$B$41:$M$71,7)/1000*'El og plugin hybrid'!M$12","v":0},{"$f":"IFERROR('El og plugin hybrid'!M$13/'El og plugin hybrid'!#REF!,0)","v":0},{"$f":"VLOOKUP('El og plugin hybrid'!O$50+($B150-1),'Fremskrivninger CO2e egne data'!$B$41:$M$71,8)/1000*'El og plugin hybrid'!O$12","v":0},{"$f":"IFERROR('El og plugin hybrid'!O$13/'El og plugin hybrid'!#REF!,0)","v":0},{"$f":"VLOOKUP('El og plugin hybrid'!Q$50+($B150-1),'Fremskrivninger CO2e egne data'!$B$41:$M$71,9)/1000*'El og plugin hybrid'!Q$12","v":0},{"$f":"IFERROR('El og plugin hybrid'!Q$13/'El og plugin hybrid'!#REF!,0)","v":0},{"$f":"VLOOKUP('El og plugin hybrid'!S$50+($B150-1),'Fremskrivninger CO2e egne data'!$B$41:$M$71,10)/1000*'El og plugin hybrid'!S$12","v":0},{"$f":"IFERROR('El og plugin hybrid'!S$13/'El og plugin hybrid'!#REF!,0)","v":0},{"$f":"VLOOKUP('El og plugin hybrid'!U$50+($B150-1),'Fremskrivninger CO2e egne data'!$B$41:$M$71,11)/1000*'El og plugin hybrid'!U$12","v":0},{"$f":"IFERROR('El og plugin hybrid'!U$13/'El og plugin hybrid'!#REF!,0)","v":0},{"$f":"VLOOKUP('El og plugin hybrid'!W$50+($B150-1),'Fremskrivninger CO2e egne data'!$B$41:$M$71,12)/1000*'El og plugin hybrid'!W$12","v":0},{"$f":"IFERROR('El og plugin hybrid'!W$13/'El og plugin hybrid'!#REF!,0)","v":0}]
[null,10,10,null,{"$f":"VLOOKUP('El og plugin hybrid'!E$50+($B151-1),'Fremskrivninger CO2e egne data'!$B$41:$M$71,3)/1000*'El og plugin hybrid'!E$12","v":0},{"$f":"IFERROR('El og plugin hybrid'!E$13/'El og plugin hybrid'!#REF!,0)","v":0},{"$f":"VLOOKUP('El og plugin hybrid'!G$50+($B151-1),'Fremskrivninger CO2e egne data'!$B$41:$M$71,4)/1000*'El og plugin hybrid'!G$12","v":0},{"$f":"IFERROR('El og plugin hybrid'!G$13/'El og plugin hybrid'!#REF!,0)","v":0},{"$f":"VLOOKUP('El og plugin hybrid'!I$50+($B151-1),'Fremskrivninger CO2e egne data'!$B$41:$M$71,5)/1000*'El og plugin hybrid'!I$12","v":0},{"$f":"IFERROR('El og plugin hybrid'!I$13/'El og plugin hybrid'!#REF!,0)","v":0},{"$f":"VLOOKUP('El og plugin hybrid'!K$50+($B151-1),'Fremskrivninger CO2e egne data'!$B$41:$M$71,6)/1000*'El og plugin hybrid'!K$12","v":0},{"$f":"IFERROR('El og plugin hybrid'!K$13/'El og plugin hybrid'!#REF!,0)","v":0},{"$f":"VLOOKUP('El og plugin hybrid'!M$50+($B151-1),'Fremskrivninger CO2e egne data'!$B$41:$M$71,7)/1000*'El og plugin hybrid'!M$12","v":0},{"$f":"IFERROR('El og plugin hybrid'!M$13/'El og plugin hybrid'!#REF!,0)","v":0},{"$f":"VLOOKUP('El og plugin hybrid'!O$50+($B151-1),'Fremskrivninger CO2e egne data'!$B$41:$M$71,8)/1000*'El og plugin hybrid'!O$12","v":0},{"$f":"IFERROR('El og plugin hybrid'!O$13/'El og plugin hybrid'!#REF!,0)","v":0},{"$f":"VLOOKUP('El og plugin hybrid'!Q$50+($B151-1),'Fremskrivninger CO2e egne data'!$B$41:$M$71,9)/1000*'El og plugin hybrid'!Q$12","v":0},{"$f":"IFERROR('El og plugin hybrid'!Q$13/'El og plugin hybrid'!#REF!,0)","v":0},{"$f":"VLOOKUP('El og plugin hybrid'!S$50+($B151-1),'Fremskrivninger CO2e egne data'!$B$41:$M$71,10)/1000*'El og plugin hybrid'!S$12","v":0},{"$f":"IFERROR('El og plugin hybrid'!S$13/'El og plugin hybrid'!#REF!,0)","v":0},{"$f":"VLOOKUP('El og plugin hybrid'!U$50+($B151-1),'Fremskrivninger CO2e egne data'!$B$41:$M$71,11)/1000*'El og plugin hybrid'!U$12","v":0},{"$f":"IFERROR('El og plugin hybrid'!U$13/'El og plugin hybrid'!#REF!,0)","v":0},{"$f":"VLOOKUP('El og plugin hybrid'!W$50+($B151-1),'Fremskrivninger CO2e egne data'!$B$41:$M$71,12)/1000*'El og plugin hybrid'!W$12","v":0},{"$f":"IFERROR('El og plugin hybrid'!W$13/'El og plugin hybrid'!#REF!,0)","v":0}]
[null,11,11,null,{"$f":"VLOOKUP('El og plugin hybrid'!E$50+($B152-1),'Fremskrivninger CO2e egne data'!$B$41:$M$71,3)/1000*'El og plugin hybrid'!E$12","v":0},{"$f":"IFERROR('El og plugin hybrid'!E$13/'El og plugin hybrid'!#REF!,0)","v":0},{"$f":"VLOOKUP('El og plugin hybrid'!G$50+($B152-1),'Fremskrivninger CO2e egne data'!$B$41:$M$71,4)/1000*'El og plugin hybrid'!G$12","v":0},{"$f":"IFERROR('El og plugin hybrid'!G$13/'El og plugin hybrid'!#REF!,0)","v":0},{"$f":"VLOOKUP('El og plugin hybrid'!I$50+($B152-1),'Fremskrivninger CO2e egne data'!$B$41:$M$71,5)/1000*'El og plugin hybrid'!I$12","v":0},{"$f":"IFERROR('El og plugin hybrid'!I$13/'El og plugin hybrid'!#REF!,0)","v":0},{"$f":"VLOOKUP('El og plugin hybrid'!K$50+($B152-1),'Fremskrivninger CO2e egne data'!$B$41:$M$71,6)/1000*'El og plugin hybrid'!K$12","v":0},{"$f":"IFERROR('El og plugin hybrid'!K$13/'El og plugin hybrid'!#REF!,0)","v":0},{"$f":"VLOOKUP('El og plugin hybrid'!M$50+($B152-1),'Fremskrivninger CO2e egne data'!$B$41:$M$71,7)/1000*'El og plugin hybrid'!M$12","v":0},{"$f":"IFERROR('El og plugin hybrid'!M$13/'El og plugin hybrid'!#REF!,0)","v":0},{"$f":"VLOOKUP('El og plugin hybrid'!O$50+($B152-1),'Fremskrivninger CO2e egne data'!$B$41:$M$71,8)/1000*'El og plugin hybrid'!O$12","v":0},{"$f":"IFERROR('El og plugin hybrid'!O$13/'El og plugin hybrid'!#REF!,0)","v":0},{"$f":"VLOOKUP('El og plugin hybrid'!Q$50+($B152-1),'Fremskrivninger CO2e egne data'!$B$41:$M$71,9)/1000*'El og plugin hybrid'!Q$12","v":0},{"$f":"IFERROR('El og plugin hybrid'!Q$13/'El og plugin hybrid'!#REF!,0)","v":0},{"$f":"VLOOKUP('El og plugin hybrid'!S$50+($B152-1),'Fremskrivninger CO2e egne data'!$B$41:$M$71,10)/1000*'El og plugin hybrid'!S$12","v":0},{"$f":"IFERROR('El og plugin hybrid'!S$13/'El og plugin hybrid'!#REF!,0)","v":0},{"$f":"VLOOKUP('El og plugin hybrid'!U$50+($B152-1),'Fremskrivninger CO2e egne data'!$B$41:$M$71,11)/1000*'El og plugin hybrid'!U$12","v":0},{"$f":"IFERROR('El og plugin hybrid'!U$13/'El og plugin hybrid'!#REF!,0)","v":0},{"$f":"VLOOKUP('El og plugin hybrid'!W$50+($B152-1),'Fremskrivninger CO2e egne data'!$B$41:$M$71,12)/1000*'El og plugin hybrid'!W$12","v":0},{"$f":"IFERROR('El og plugin hybrid'!W$13/'El og plugin hybrid'!#REF!,0)","v":0}]
[null,12,12,null,{"$f":"VLOOKUP('El og plugin hybrid'!E$50+($B153-1),'Fremskrivninger CO2e egne data'!$B$41:$M$71,3)/1000*'El og plugin hybrid'!E$12","v":0},{"$f":"IFERROR('El og plugin hybrid'!E$13/'El og plugin hybrid'!#REF!,0)","v":0},{"$f":"VLOOKUP('El og plugin hybrid'!G$50+($B153-1),'Fremskrivninger CO2e egne data'!$B$41:$M$71,4)/1000*'El og plugin hybrid'!G$12","v":0},{"$f":"IFERROR('El og plugin hybrid'!G$13/'El og plugin hybrid'!#REF!,0)","v":0},{"$f":"VLOOKUP('El og plugin hybrid'!I$50+($B153-1),'Fremskrivninger CO2e egne data'!$B$41:$M$71,5)/1000*'El og plugin hybrid'!I$12","v":0},{"$f":"IFERROR('El og plugin hybrid'!I$13/'El og plugin hybrid'!#REF!,0)","v":0},{"$f":"VLOOKUP('El og plugin hybrid'!K$50+($B153-1),'Fremskrivninger CO2e egne data'!$B$41:$M$71,6)/1000*'El og plugin hybrid'!K$12","v":0},{"$f":"IFERROR('El og plugin hybrid'!K$13/'El og plugin hybrid'!#REF!,0)","v":0},{"$f":"VLOOKUP('El og plugin hybrid'!M$50+($B153-1),'Fremskrivninger CO2e egne data'!$B$41:$M$71,7)/1000*'El og plugin hybrid'!M$12","v":0},{"$f":"IFERROR('El og plugin hybrid'!M$13/'El og plugin hybrid'!#REF!,0)","v":0},{"$f":"VLOOKUP('El og plugin hybrid'!O$50+($B153-1),'Fremskrivninger CO2e egne data'!$B$41:$M$71,8)/1000*'El og plugin hybrid'!O$12","v":0},{"$f":"IFERROR('El og plugin hybrid'!O$13/'El og plugin hybrid'!#REF!,0)","v":0},{"$f":"VLOOKUP('El og plugin hybrid'!Q$50+($B153-1),'Fremskrivninger CO2e egne data'!$B$41:$M$71,9)/1000*'El og plugin hybrid'!Q$12","v":0},{"$f":"IFERROR('El og plugin hybrid'!Q$13/'El og plugin hybrid'!#REF!,0)","v":0},{"$f":"VLOOKUP('El og plugin hybrid'!S$50+($B153-1),'Fremskrivninger CO2e egne data'!$B$41:$M$71,10)/1000*'El og plugin hybrid'!S$12","v":0},{"$f":"IFERROR('El og plugin hybrid'!S$13/'El og plugin hybrid'!#REF!,0)","v":0},{"$f":"VLOOKUP('El og plugin hybrid'!U$50+($B153-1),'Fremskrivninger CO2e egne data'!$B$41:$M$71,11)/1000*'El og plugin hybrid'!U$12","v":0},{"$f":"IFERROR('El og plugin hybrid'!U$13/'El og plugin hybrid'!#REF!,0)","v":0},{"$f":"VLOOKUP('El og plugin hybrid'!W$50+($B153-1),'Fremskrivninger CO2e egne data'!$B$41:$M$71,12)/1000*'El og plugin hybrid'!W$12","v":0},{"$f":"IFERROR('El og plugin hybrid'!W$13/'El og plugin hybrid'!#REF!,0)","v":0}]
[null,13,13,null,{"$f":"VLOOKUP('El og plugin hybrid'!E$50+($B154-1),'Fremskrivninger CO2e egne data'!$B$41:$M$71,3)/1000*'El og plugin hybrid'!E$12","v":0},{"$f":"IFERROR('El og plugin hybrid'!E$13/'El og plugin hybrid'!#REF!,0)","v":0},{"$f":"VLOOKUP('El og plugin hybrid'!G$50+($B154-1),'Fremskrivninger CO2e egne data'!$B$41:$M$71,4)/1000*'El og plugin hybrid'!G$12","v":0},{"$f":"IFERROR('El og plugin hybrid'!G$13/'El og plugin hybrid'!#REF!,0)","v":0},{"$f":"VLOOKUP('El og plugin hybrid'!I$50+($B154-1),'Fremskrivninger CO2e egne data'!$B$41:$M$71,5)/1000*'El og plugin hybrid'!I$12","v":0},{"$f":"IFERROR('El og plugin hybrid'!I$13/'El og plugin hybrid'!#REF!,0)","v":0},{"$f":"VLOOKUP('El og plugin hybrid'!K$50+($B154-1),'Fremskrivninger CO2e egne data'!$B$41:$M$71,6)/1000*'El og plugin hybrid'!K$12","v":0},{"$f":"IFERROR('El og plugin hybrid'!K$13/'El og plugin hybrid'!#REF!,0)","v":0},{"$f":"VLOOKUP('El og plugin hybrid'!M$50+($B154-1),'Fremskrivninger CO2e egne data'!$B$41:$M$71,7)/1000*'El og plugin hybrid'!M$12","v":0},{"$f":"IFERROR('El og plugin hybrid'!M$13/'El og plugin hybrid'!#REF!,0)","v":0},{"$f":"VLOOKUP('El og plugin hybrid'!O$50+($B154-1),'Fremskrivninger CO2e egne data'!$B$41:$M$71,8)/1000*'El og plugin hybrid'!O$12","v":0},{"$f":"IFERROR('El og plugin hybrid'!O$13/'El og plugin hybrid'!#REF!,0)","v":0},{"$f":"VLOOKUP('El og plugin hybrid'!Q$50+($B154-1),'Fremskrivninger CO2e egne data'!$B$41:$M$71,9)/1000*'El og plugin hybrid'!Q$12","v":0},{"$f":"IFERROR('El og plugin hybrid'!Q$13/'El og plugin hybrid'!#REF!,0)","v":0},{"$f":"VLOOKUP('El og plugin hybrid'!S$50+($B154-1),'Fremskrivninger CO2e egne data'!$B$41:$M$71,10)/1000*'El og plugin hybrid'!S$12","v":0},{"$f":"IFERROR('El og plugin hybrid'!S$13/'El og plugin hybrid'!#REF!,0)","v":0},{"$f":"VLOOKUP('El og plugin hybrid'!U$50+($B154-1),'Fremskrivninger CO2e egne data'!$B$41:$M$71,11)/1000*'El og plugin hybrid'!U$12","v":0},{"$f":"IFERROR('El og plugin hybrid'!U$13/'El og plugin hybrid'!#REF!,0)","v":0},{"$f":"VLOOKUP('El og plugin hybrid'!W$50+($B154-1),'Fremskrivninger CO2e egne data'!$B$41:$M$71,12)/1000*'El og plugin hybrid'!W$12","v":0},{"$f":"IFERROR('El og plugin hybrid'!W$13/'El og plugin hybrid'!#REF!,0)","v":0}]
[null,14,14,null,{"$f":"VLOOKUP('El og plugin hybrid'!E$50+($B155-1),'Fremskrivninger CO2e egne data'!$B$41:$M$71,3)/1000*'El og plugin hybrid'!E$12","v":0},{"$f":"IFERROR('El og plugin hybrid'!E$13/'El og plugin hybrid'!#REF!,0)","v":0},{"$f":"VLOOKUP('El og plugin hybrid'!G$50+($B155-1),'Fremskrivninger CO2e egne data'!$B$41:$M$71,4)/1000*'El og plugin hybrid'!G$12","v":0},{"$f":"IFERROR('El og plugin hybrid'!G$13/'El og plugin hybrid'!#REF!,0)","v":0},{"$f":"VLOOKUP('El og plugin hybrid'!I$50+($B155-1),'Fremskrivninger CO2e egne data'!$B$41:$M$71,5)/1000*'El og plugin hybrid'!I$12","v":0},{"$f":"IFERROR('El og plugin hybrid'!I$13/'El og plugin hybrid'!#REF!,0)","v":0},{"$f":"VLOOKUP('El og plugin hybrid'!K$50+($B155-1),'Fremskrivninger CO2e egne data'!$B$41:$M$71,6)/1000*'El og plugin hybrid'!K$12","v":0},{"$f":"IFERROR('El og plugin hybrid'!K$13/'El og plugin hybrid'!#REF!,0)","v":0},{"$f":"VLOOKUP('El og plugin hybrid'!M$50+($B155-1),'Fremskrivninger CO2e egne data'!$B$41:$M$71,7)/1000*'El og plugin hybrid'!M$12","v":0},{"$f":"IFERROR('El og plugin hybrid'!M$13/'El og plugin hybrid'!#REF!,0)","v":0},{"$f":"VLOOKUP('El og plugin hybrid'!O$50+($B155-1),'Fremskrivninger CO2e egne data'!$B$41:$M$71,8)/1000*'El og plugin hybrid'!O$12","v":0},{"$f":"IFERROR('El og plugin hybrid'!O$13/'El og plugin hybrid'!#REF!,0)","v":0},{"$f":"VLOOKUP('El og plugin hybrid'!Q$50+($B155-1),'Fremskrivninger CO2e egne data'!$B$41:$M$71,9)/1000*'El og plugin hybrid'!Q$12","v":0},{"$f":"IFERROR('El og plugin hybrid'!Q$13/'El og plugin hybrid'!#REF!,0)","v":0},{"$f":"VLOOKUP('El og plugin hybrid'!S$50+($B155-1),'Fremskrivninger CO2e egne data'!$B$41:$M$71,10)/1000*'El og plugin hybrid'!S$12","v":0},{"$f":"IFERROR('El og plugin hybrid'!S$13/'El og plugin hybrid'!#REF!,0)","v":0},{"$f":"VLOOKUP('El og plugin hybrid'!U$50+($B155-1),'Fremskrivninger CO2e egne data'!$B$41:$M$71,11)/1000*'El og plugin hybrid'!U$12","v":0},{"$f":"IFERROR('El og plugin hybrid'!U$13/'El og plugin hybrid'!#REF!,0)","v":0},{"$f":"VLOOKUP('El og plugin hybrid'!W$50+($B155-1),'Fremskrivninger CO2e egne data'!$B$41:$M$71,12)/1000*'El og plugin hybrid'!W$12","v":0},{"$f":"IFERROR('El og plugin hybrid'!W$13/'El og plugin hybrid'!#REF!,0)","v":0}]
[null,15,15,null,{"$f":"VLOOKUP('El og plugin hybrid'!E$50+($B156-1),'Fremskrivninger CO2e egne data'!$B$41:$M$71,3)/1000*'El og plugin hybrid'!E$12","v":0},{"$f":"IFERROR('El og plugin hybrid'!E$13/'El og plugin hybrid'!#REF!,0)","v":0},{"$f":"VLOOKUP('El og plugin hybrid'!G$50+($B156-1),'Fremskrivninger CO2e egne data'!$B$41:$M$71,4)/1000*'El og plugin hybrid'!G$12","v":0},{"$f":"IFERROR('El og plugin hybrid'!G$13/'El og plugin hybrid'!#REF!,0)","v":0},{"$f":"VLOOKUP('El og plugin hybrid'!I$50+($B156-1),'Fremskrivninger CO2e egne data'!$B$41:$M$71,5)/1000*'El og plugin hybrid'!I$12","v":0},{"$f":"IFERROR('El og plugin hybrid'!I$13/'El og plugin hybrid'!#REF!,0)","v":0},{"$f":"VLOOKUP('El og plugin hybrid'!K$50+($B156-1),'Fremskrivninger CO2e egne data'!$B$41:$M$71,6)/1000*'El og plugin hybrid'!K$12","v":0},{"$f":"IFERROR('El og plugin hybrid'!K$13/'El og plugin hybrid'!#REF!,0)","v":0},{"$f":"VLOOKUP('El og plugin hybrid'!M$50+($B156-1),'Fremskrivninger CO2e egne data'!$B$41:$M$71,7)/1000*'El og plugin hybrid'!M$12","v":0},{"$f":"IFERROR('El og plugin hybrid'!M$13/'El og plugin hybrid'!#REF!,0)","v":0},{"$f":"VLOOKUP('El og plugin hybrid'!O$50+($B156-1),'Fremskrivninger CO2e egne data'!$B$41:$M$71,8)/1000*'El og plugin hybrid'!O$12","v":0},{"$f":"IFERROR('El og plugin hybrid'!O$13/'El og plugin hybrid'!#REF!,0)","v":0},{"$f":"VLOOKUP('El og plugin hybrid'!Q$50+($B156-1),'Fremskrivninger CO2e egne data'!$B$41:$M$71,9)/1000*'El og plugin hybrid'!Q$12","v":0},{"$f":"IFERROR('El og plugin hybrid'!Q$13/'El og plugin hybrid'!#REF!,0)","v":0},{"$f":"VLOOKUP('El og plugin hybrid'!S$50+($B156-1),'Fremskrivninger CO2e egne data'!$B$41:$M$71,10)/1000*'El og plugin hybrid'!S$12","v":0},{"$f":"IFERROR('El og plugin hybrid'!S$13/'El og plugin hybrid'!#REF!,0)","v":0},{"$f":"VLOOKUP('El og plugin hybrid'!U$50+($B156-1),'Fremskrivninger CO2e egne data'!$B$41:$M$71,11)/1000*'El og plugin hybrid'!U$12","v":0},{"$f":"IFERROR('El og plugin hybrid'!U$13/'El og plugin hybrid'!#REF!,0)","v":0},{"$f":"VLOOKUP('El og plugin hybrid'!W$50+($B156-1),'Fremskrivninger CO2e egne data'!$B$41:$M$71,12)/1000*'El og plugin hybrid'!W$12","v":0},{"$f":"IFERROR('El og plugin hybrid'!W$13/'El og plugin hybrid'!#REF!,0)","v":0}]
[null,16,16,null,{"$f":"VLOOKUP('El og plugin hybrid'!E$50+($B157-1),'Fremskrivninger CO2e egne data'!$B$41:$M$71,3)/1000*'El og plugin hybrid'!E$12","v":0},{"$f":"IFERROR('El og plugin hybrid'!E$13/'El og plugin hybrid'!#REF!,0)","v":0},{"$f":"VLOOKUP('El og plugin hybrid'!G$50+($B157-1),'Fremskrivninger CO2e egne data'!$B$41:$M$71,4)/1000*'El og plugin hybrid'!G$12","v":0},{"$f":"IFERROR('El og plugin hybrid'!G$13/'El og plugin hybrid'!#REF!,0)","v":0},{"$f":"VLOOKUP('El og plugin hybrid'!I$50+($B157-1),'Fremskrivninger CO2e egne data'!$B$41:$M$71,5)/1000*'El og plugin hybrid'!I$12","v":0},{"$f":"IFERROR('El og plugin hybrid'!I$13/'El og plugin hybrid'!#REF!,0)","v":0},{"$f":"VLOOKUP('El og plugin hybrid'!K$50+($B157-1),'Fremskrivninger CO2e egne data'!$B$41:$M$71,6)/1000*'El og plugin hybrid'!K$12","v":0},{"$f":"IFERROR('El og plugin hybrid'!K$13/'El og plugin hybrid'!#REF!,0)","v":0},{"$f":"VLOOKUP('El og plugin hybrid'!M$50+($B157-1),'Fremskrivninger CO2e egne data'!$B$41:$M$71,7)/1000*'El og plugin hybrid'!M$12","v":0},{"$f":"IFERROR('El og plugin hybrid'!M$13/'El og plugin hybrid'!#REF!,0)","v":0},{"$f":"VLOOKUP('El og plugin hybrid'!O$50+($B157-1),'Fremskrivninger CO2e egne data'!$B$41:$M$71,8)/1000*'El og plugin hybrid'!O$12","v":0},{"$f":"IFERROR('El og plugin hybrid'!O$13/'El og plugin hybrid'!#REF!,0)","v":0},{"$f":"VLOOKUP('El og plugin hybrid'!Q$50+($B157-1),'Fremskrivninger CO2e egne data'!$B$41:$M$71,9)/1000*'El og plugin hybrid'!Q$12","v":0},{"$f":"IFERROR('El og plugin hybrid'!Q$13/'El og plugin hybrid'!#REF!,0)","v":0},{"$f":"VLOOKUP('El og plugin hybrid'!S$50+($B157-1),'Fremskrivninger CO2e egne data'!$B$41:$M$71,10)/1000*'El og plugin hybrid'!S$12","v":0},{"$f":"IFERROR('El og plugin hybrid'!S$13/'El og plugin hybrid'!#REF!,0)","v":0},{"$f":"VLOOKUP('El og plugin hybrid'!U$50+($B157-1),'Fremskrivninger CO2e egne data'!$B$41:$M$71,11)/1000*'El og plugin hybrid'!U$12","v":0},{"$f":"IFERROR('El og plugin hybrid'!U$13/'El og plugin hybrid'!#REF!,0)","v":0},{"$f":"VLOOKUP('El og plugin hybrid'!W$50+($B157-1),'Fremskrivninger CO2e egne data'!$B$41:$M$71,12)/1000*'El og plugin hybrid'!W$12","v":0},{"$f":"IFERROR('El og plugin hybrid'!W$13/'El og plugin hybrid'!#REF!,0)","v":0}]
[null,17,17,null,{"$f":"VLOOKUP('El og plugin hybrid'!E$50+($B158-1),'Fremskrivninger CO2e egne data'!$B$41:$M$71,3)/1000*'El og plugin hybrid'!E$12","v":0},{"$f":"IFERROR('El og plugin hybrid'!E$13/'El og plugin hybrid'!#REF!,0)","v":0},{"$f":"VLOOKUP('El og plugin hybrid'!G$50+($B158-1),'Fremskrivninger CO2e egne data'!$B$41:$M$71,4)/1000*'El og plugin hybrid'!G$12","v":0},{"$f":"IFERROR('El og plugin hybrid'!G$13/'El og plugin hybrid'!#REF!,0)","v":0},{"$f":"VLOOKUP('El og plugin hybrid'!I$50+($B158-1),'Fremskrivninger CO2e egne data'!$B$41:$M$71,5)/1000*'El og plugin hybrid'!I$12","v":0},{"$f":"IFERROR('El og plugin hybrid'!I$13/'El og plugin hybrid'!#REF!,0)","v":0},{"$f":"VLOOKUP('El og plugin hybrid'!K$50+($B158-1),'Fremskrivninger CO2e egne data'!$B$41:$M$71,6)/1000*'El og plugin hybrid'!K$12","v":0},{"$f":"IFERROR('El og plugin hybrid'!K$13/'El og plugin hybrid'!#REF!,0)","v":0},{"$f":"VLOOKUP('El og plugin hybrid'!M$50+($B158-1),'Fremskrivninger CO2e egne data'!$B$41:$M$71,7)/1000*'El og plugin hybrid'!M$12","v":0},{"$f":"IFERROR('El og plugin hybrid'!M$13/'El og plugin hybrid'!#REF!,0)","v":0},{"$f":"VLOOKUP('El og plugin hybrid'!O$50+($B158-1),'Fremskrivninger CO2e egne data'!$B$41:$M$71,8)/1000*'El og plugin hybrid'!O$12","v":0},{"$f":"IFERROR('El og plugin hybrid'!O$13/'El og plugin hybrid'!#REF!,0)","v":0},{"$f":"VLOOKUP('El og plugin hybrid'!Q$50+($B158-1),'Fremskrivninger CO2e egne data'!$B$41:$M$71,9)/1000*'El og plugin hybrid'!Q$12","v":0},{"$f":"IFERROR('El og plugin hybrid'!Q$13/'El og plugin hybrid'!#REF!,0)","v":0},{"$f":"VLOOKUP('El og plugin hybrid'!S$50+($B158-1),'Fremskrivninger CO2e egne data'!$B$41:$M$71,10)/1000*'El og plugin hybrid'!S$12","v":0},{"$f":"IFERROR('El og plugin hybrid'!S$13/'El og plugin hybrid'!#REF!,0)","v":0},{"$f":"VLOOKUP('El og plugin hybrid'!U$50+($B158-1),'Fremskrivninger CO2e egne data'!$B$41:$M$71,11)/1000*'El og plugin hybrid'!U$12","v":0},{"$f":"IFERROR('El og plugin hybrid'!U$13/'El og plugin hybrid'!#REF!,0)","v":0},{"$f":"VLOOKUP('El og plugin hybrid'!W$50+($B158-1),'Fremskrivninger CO2e egne data'!$B$41:$M$71,12)/1000*'El og plugin hybrid'!W$12","v":0},{"$f":"IFERROR('El og plugin hybrid'!W$13/'El og plugin hybrid'!#REF!,0)","v":0}]
[null,18,18,null,{"$f":"VLOOKUP('El og plugin hybrid'!E$50+($B159-1),'Fremskrivninger CO2e egne data'!$B$41:$M$71,3)/1000*'El og plugin hybrid'!E$12","v":0},{"$f":"IFERROR('El og plugin hybrid'!E$13/'El og plugin hybrid'!#REF!,0)","v":0},{"$f":"VLOOKUP('El og plugin hybrid'!G$50+($B159-1),'Fremskrivninger CO2e egne data'!$B$41:$M$71,4)/1000*'El og plugin hybrid'!G$12","v":0},{"$f":"IFERROR('El og plugin hybrid'!G$13/'El og plugin hybrid'!#REF!,0)","v":0},{"$f":"VLOOKUP('El og plugin hybrid'!I$50+($B159-1),'Fremskrivninger CO2e egne data'!$B$41:$M$71,5)/1000*'El og plugin hybrid'!I$12","v":0},{"$f":"IFERROR('El og plugin hybrid'!I$13/'El og plugin hybrid'!#REF!,0)","v":0},{"$f":"VLOOKUP('El og plugin hybrid'!K$50+($B159-1),'Fremskrivninger CO2e egne data'!$B$41:$M$71,6)/1000*'El og plugin hybrid'!K$12","v":0},{"$f":"IFERROR('El og plugin hybrid'!K$13/'El og plugin hybrid'!#REF!,0)","v":0},{"$f":"VLOOKUP('El og plugin hybrid'!M$50+($B159-1),'Fremskrivninger CO2e egne data'!$B$41:$M$71,7)/1000*'El og plugin hybrid'!M$12","v":0},{"$f":"IFERROR('El og plugin hybrid'!M$13/'El og plugin hybrid'!#REF!,0)","v":0},{"$f":"VLOOKUP('El og plugin hybrid'!O$50+($B159-1),'Fremskrivninger CO2e egne data'!$B$41:$M$71,8)/1000*'El og plugin hybrid'!O$12","v":0},{"$f":"IFERROR('El og plugin hybrid'!O$13/'El og plugin hybrid'!#REF!,0)","v":0},{"$f":"VLOOKUP('El og plugin hybrid'!Q$50+($B159-1),'Fremskrivninger CO2e egne data'!$B$41:$M$71,9)/1000*'El og plugin hybrid'!Q$12","v":0},{"$f":"IFERROR('El og plugin hybrid'!Q$13/'El og plugin hybrid'!#REF!,0)","v":0},{"$f":"VLOOKUP('El og plugin hybrid'!S$50+($B159-1),'Fremskrivninger CO2e egne data'!$B$41:$M$71,10)/1000*'El og plugin hybrid'!S$12","v":0},{"$f":"IFERROR('El og plugin hybrid'!S$13/'El og plugin hybrid'!#REF!,0)","v":0},{"$f":"VLOOKUP('El og plugin hybrid'!U$50+($B159-1),'Fremskrivninger CO2e egne data'!$B$41:$M$71,11)/1000*'El og plugin hybrid'!U$12","v":0},{"$f":"IFERROR('El og plugin hybrid'!U$13/'El og plugin hybrid'!#REF!,0)","v":0},{"$f":"VLOOKUP('El og plugin hybrid'!W$50+($B159-1),'Fremskrivninger CO2e egne data'!$B$41:$M$71,12)/1000*'El og plugin hybrid'!W$12","v":0},{"$f":"IFERROR('El og plugin hybrid'!W$13/'El og plugin hybrid'!#REF!,0)","v":0}]
[null,19,19,null,{"$f":"VLOOKUP('El og plugin hybrid'!E$50+($B160-1),'Fremskrivninger CO2e egne data'!$B$41:$M$71,3)/1000*'El og plugin hybrid'!E$12","v":0},{"$f":"IFERROR('El og plugin hybrid'!E$13/'El og plugin hybrid'!#REF!,0)","v":0},{"$f":"VLOOKUP('El og plugin hybrid'!G$50+($B160-1),'Fremskrivninger CO2e egne data'!$B$41:$M$71,4)/1000*'El og plugin hybrid'!G$12","v":0},{"$f":"IFERROR('El og plugin hybrid'!G$13/'El og plugin hybrid'!#REF!,0)","v":0},{"$f":"VLOOKUP('El og plugin hybrid'!I$50+($B160-1),'Fremskrivninger CO2e egne data'!$B$41:$M$71,5)/1000*'El og plugin hybrid'!I$12","v":0},{"$f":"IFERROR('El og plugin hybrid'!I$13/'El og plugin hybrid'!#REF!,0)","v":0},{"$f":"VLOOKUP('El og plugin hybrid'!K$50+($B160-1),'Fremskrivninger CO2e egne data'!$B$41:$M$71,6)/1000*'El og plugin hybrid'!K$12","v":0},{"$f":"IFERROR('El og plugin hybrid'!K$13/'El og plugin hybrid'!#REF!,0)","v":0},{"$f":"VLOOKUP('El og plugin hybrid'!M$50+($B160-1),'Fremskrivninger CO2e egne data'!$B$41:$M$71,7)/1000*'El og plugin hybrid'!M$12","v":0},{"$f":"IFERROR('El og plugin hybrid'!M$13/'El og plugin hybrid'!#REF!,0)","v":0},{"$f":"VLOOKUP('El og plugin hybrid'!O$50+($B160-1),'Fremskrivninger CO2e egne data'!$B$41:$M$71,8)/1000*'El og plugin hybrid'!O$12","v":0},{"$f":"IFERROR('El og plugin hybrid'!O$13/'El og plugin hybrid'!#REF!,0)","v":0},{"$f":"VLOOKUP('El og plugin hybrid'!Q$50+($B160-1),'Fremskrivninger CO2e egne data'!$B$41:$M$71,9)/1000*'El og plugin hybrid'!Q$12","v":0},{"$f":"IFERROR('El og plugin hybrid'!Q$13/'El og plugin hybrid'!#REF!,0)","v":0},{"$f":"VLOOKUP('El og plugin hybrid'!S$50+($B160-1),'Fremskrivninger CO2e egne data'!$B$41:$M$71,10)/1000*'El og plugin hybrid'!S$12","v":0},{"$f":"IFERROR('El og plugin hybrid'!S$13/'El og plugin hybrid'!#REF!,0)","v":0},{"$f":"VLOOKUP('El og plugin hybrid'!U$50+($B160-1),'Fremskrivninger CO2e egne data'!$B$41:$M$71,11)/1000*'El og plugin hybrid'!U$12","v":0},{"$f":"IFERROR('El og plugin hybrid'!U$13/'El og plugin hybrid'!#REF!,0)","v":0},{"$f":"VLOOKUP('El og plugin hybrid'!W$50+($B160-1),'Fremskrivninger CO2e egne data'!$B$41:$M$71,12)/1000*'El og plugin hybrid'!W$12","v":0},{"$f":"IFERROR('El og plugin hybrid'!W$13/'El og plugin hybrid'!#REF!,0)","v":0}]
[null,20,20,null,{"$f":"VLOOKUP('El og plugin hybrid'!E$50+($B161-1),'Fremskrivninger CO2e egne data'!$B$41:$M$71,3)/1000*'El og plugin hybrid'!E$12","v":0},{"$f":"IFERROR('El og plugin hybrid'!E$13/'El og plugin hybrid'!#REF!,0)","v":0},{"$f":"VLOOKUP('El og plugin hybrid'!G$50+($B161-1),'Fremskrivninger CO2e egne data'!$B$41:$M$71,4)/1000*'El og plugin hybrid'!G$12","v":0},{"$f":"IFERROR('El og plugin hybrid'!G$13/'El og plugin hybrid'!#REF!,0)","v":0},{"$f":"VLOOKUP('El og plugin hybrid'!I$50+($B161-1),'Fremskrivninger CO2e egne data'!$B$41:$M$71,5)/1000*'El og plugin hybrid'!I$12","v":0},{"$f":"IFERROR('El og plugin hybrid'!I$13/'El og plugin hybrid'!#REF!,0)","v":0},{"$f":"VLOOKUP('El og plugin hybrid'!K$50+($B161-1),'Fremskrivninger CO2e egne data'!$B$41:$M$71,6)/1000*'El og plugin hybrid'!K$12","v":0},{"$f":"IFERROR('El og plugin hybrid'!K$13/'El og plugin hybrid'!#REF!,0)","v":0},{"$f":"VLOOKUP('El og plugin hybrid'!M$50+($B161-1),'Fremskrivninger CO2e egne data'!$B$41:$M$71,7)/1000*'El og plugin hybrid'!M$12","v":0},{"$f":"IFERROR('El og plugin hybrid'!M$13/'El og plugin hybrid'!#REF!,0)","v":0},{"$f":"VLOOKUP('El og plugin hybrid'!O$50+($B161-1),'Fremskrivninger CO2e egne data'!$B$41:$M$71,8)/1000*'El og plugin hybrid'!O$12","v":0},{"$f":"IFERROR('El og plugin hybrid'!O$13/'El og plugin hybrid'!#REF!,0)","v":0},{"$f":"VLOOKUP('El og plugin hybrid'!Q$50+($B161-1),'Fremskrivninger CO2e egne data'!$B$41:$M$71,9)/1000*'El og plugin hybrid'!Q$12","v":0},{"$f":"IFERROR('El og plugin hybrid'!Q$13/'El og plugin hybrid'!#REF!,0)","v":0},{"$f":"VLOOKUP('El og plugin hybrid'!S$50+($B161-1),'Fremskrivninger CO2e egne data'!$B$41:$M$71,10)/1000*'El og plugin hybrid'!S$12","v":0},{"$f":"IFERROR('El og plugin hybrid'!S$13/'El og plugin hybrid'!#REF!,0)","v":0},{"$f":"VLOOKUP('El og plugin hybrid'!U$50+($B161-1),'Fremskrivninger CO2e egne data'!$B$41:$M$71,11)/1000*'El og plugin hybrid'!U$12","v":0},{"$f":"IFERROR('El og plugin hybrid'!U$13/'El og plugin hybrid'!#REF!,0)","v":0},{"$f":"VLOOKUP('El og plugin hybrid'!W$50+($B161-1),'Fremskrivninger CO2e egne data'!$B$41:$M$71,12)/1000*'El og plugin hybrid'!W$12","v":0},{"$f":"IFERROR('El og plugin hybrid'!W$13/'El og plugin hybrid'!#REF!,0)","v":0}]
[]
["Eksternalitetsmodul - Udledninger forbundet med dieselforbruget i brugsfasen (tons CO2e) - Udledningerne er multipleret med antallet af produkter I det givne tilbud"]
[null,"År indeks",null,"TCO-evalueringsperiode",{"$f":"'El og plugin hybrid'!E8&\" - (ton CO2e/år)\"","v":"PRODUKT 1 EL - (ton CO2e/år)"},{"$f":"'El og plugin hybrid'!E8&\" - Årligt dieselforbrug (liter/år/produkt)\"","v":"PRODUKT 1 EL - Årligt dieselforbrug (liter/år/produkt)"},{"$f":"'El og plugin hybrid'!G8&\" - (ton CO2e/år)\"","v":"PRODUKT 2 EL - (ton CO2e/år)"},{"$f":"'El og plugin hybrid'!G8&\" - Årligt dieselforbrug (liter/år/produkt)\"","v":"PRODUKT 2 EL - Årligt dieselforbrug (liter/år/produkt)"},{"$f":"'El og plugin hybrid'!I8&\" - (ton CO2e/år)\"","v":"PRODUKT 3 EL - (ton CO2e/år)"},{"$f":"'El og plugin hybrid'!I8&\" - Årligt dieselforbrug (liter/år/produkt)\"","v":"PRODUKT 3 EL - Årligt dieselforbrug (liter/år/produkt)"},{"$f":"'El og plugin hybrid'!K8&\" - (ton CO2e/år)\"","v":"PRODUKT 4 EL - (ton CO2e/år)"},{"$f":"'El og plugin hybrid'!K8&\" - Årligt dieselforbrug (liter/år/produkt)\"","v":"PRODUKT 4 EL - Årligt dieselforbrug (liter/år/produkt)"},{"$f":"'El og plugin hybrid'!M8&\" - (ton CO2e/år)\"","v":"PRODUKT 5 EL - (ton CO2e/år)"},{"$f":"'El og plugin hybrid'!M8&\" - Årligt dieselforbrug (liter/år/produkt)\"","v":"PRODUKT 5 EL - Årligt dieselforbrug (liter/år/produkt)"},{"$f":"'El og plugin hybrid'!O8&\" - (ton CO2e/år)\"","v":"PRODUKT 6 EL - (ton CO2e/år)"},{"$f":"'El og plugin hybrid'!O8&\" - Årligt dieselforbrug (liter/år/produkt)\"","v":"PRODUKT 6 EL - Årligt dieselforbrug (liter/år/produkt)"},{"$f":"'El og plugin hybrid'!Q8&\" - (ton CO2e/år)\"","v":"PRODUKT 7 EL - (ton CO2e/år)"},{"$f":"'El og plugin hybrid'!Q8&\" - Årligt dieselforbrug (liter/år/produkt)\"","v":"PRODUKT 7 EL - Årligt dieselforbrug (liter/år/produkt)"},{"$f":"'El og plugin hybrid'!S8&\" - (ton CO2e/år)\"","v":"PRODUKT 8 EL - (ton CO2e/år)"},{"$f":"'El og plugin hybrid'!S8&\" - Årligt dieselforbrug (liter/år/produkt)\"","v":"PRODUKT 8 EL - Årligt dieselforbrug (liter/år/produkt)"},{"$f":"'El og plugin hybrid'!U8&\" - (ton CO2e/år)\"","v":"PRODUKT 9 EL - (ton CO2e/år)"},{"$f":"'El og plugin hybrid'!U8&\" - Årligt dieselforbrug (liter/år/produkt)\"","v":"PRODUKT 9 EL - Årligt dieselforbrug (liter/år/produkt)"},{"$f":"'El og plugin hybrid'!W8&\" - (ton CO2e/år)\"","v":"PRODUKT 10 EL - (ton CO2e/år)"},{"$f":"'El og plugin hybrid'!W8&\" - Årligt dieselforbrug (liter/år/produkt)\"","v":"PRODUKT 10 EL - Årligt dieselforbrug (liter/år/produkt)"}]
[null,1,{"$f":"B165","v":1},null,{"$f":"VLOOKUP('El og plugin hybrid'!E$50+($B165-1),'Fremskrivninger CO2e egne data'!$B$41:$M$71,3)/1000*'El og plugin hybrid'!E$12","v":0},{"$f":"IFERROR('El og plugin hybrid'!E$13/'El og plugin hybrid'!#REF!,0)","v":0},{"$f":"VLOOKUP('El og plugin hybrid'!G$50+($B165-1),'Fremskrivninger CO2e egne data'!$B$41:$M$71,4)/1000*'El og plugin hybrid'!G$12","v":0},{"$f":"IFERROR('El og plugin hybrid'!G$13/'El og plugin hybrid'!#REF!,0)","v":0},{"$f":"VLOOKUP('El og plugin hybrid'!I$50+($B165-1),'Fremskrivninger CO2e egne data'!$B$41:$M$71,5)/1000*'El og plugin hybrid'!I$12","v":0},{"$f":"IFERROR('El og plugin hybrid'!I$13/'El og plugin hybrid'!#REF!,0)","v":0},{"$f":"VLOOKUP('El og plugin hybrid'!K$50+($B165-1),'Fremskrivninger CO2e egne data'!$B$41:$M$71,6)/1000*'El og plugin hybrid'!K$12","v":0},{"$f":"IFERROR('El og plugin hybrid'!K$13/'El og plugin hybrid'!#REF!,0)","v":0},{"$f":"VLOOKUP('El og plugin hybrid'!M$50+($B165-1),'Fremskrivninger CO2e egne data'!$B$41:$M$71,7)/1000*'El og plugin hybrid'!M$12","v":0},{"$f":"IFERROR('El og plugin hybrid'!M$13/'El og plugin hybrid'!#REF!,0)","v":0},{"$f":"VLOOKUP('El og plugin hybrid'!O$50+($B165-1),'Fremskrivninger CO2e egne data'!$B$41:$M$71,8)/1000*'El og plugin hybrid'!O$12","v":0},{"$f":"IFERROR('El og plugin hybrid'!O$13/'El og plugin hybrid'!#REF!,0)","v":0},{"$f":"VLOOKUP('El og plugin hybrid'!Q$50+($B165-1),'Fremskrivninger CO2e egne data'!$B$41:$M$71,9)/1000*'El og plugin hybrid'!Q$12","v":0},{"$f":"IFERROR('El og plugin hybrid'!Q$13/'El og plugin hybrid'!#REF!,0)","v":0},{"$f":"VLOOKUP('El og plugin hybrid'!S$50+($B165-1),'Fremskrivninger CO2e egne data'!$B$41:$M$71,10)/1000*'El og plugin hybrid'!S$12","v":0},{"$f":"IFERROR('El og plugin hybrid'!S$13/'El og plugin hybrid'!#REF!,0)","v":0},{"$f":"VLOOKUP('El og plugin hybrid'!U$50+($B165-1),'Fremskrivninger CO2e egne data'!$B$41:$M$71,11)/1000*'El og plugin hybrid'!U$12","v":0},{"$f":"IFERROR('El og plugin hybrid'!U$13/'El og plugin hybrid'!#REF!,0)","v":0},{"$f":"VLOOKUP('El og plugin hybrid'!W$50+($B165-1),'Fremskrivninger CO2e egne data'!$B$41:$M$71,12)/1000*'El og plugin hybrid'!W$12","v":0},{"$f":"IFERROR('El og plugin hybrid'!W$13/'El og plugin hybrid'!#REF!,0)","v":0}]
[null,2,{"$f":"B166","v":2},null,{"$f":"VLOOKUP('El og plugin hybrid'!E$50+($B166-1),'Fremskrivninger CO2e egne data'!$B$41:$M$71,3)/1000*'El og plugin hybrid'!E$12","v":0},{"$f":"IFERROR('El og plugin hybrid'!E$13/'El og plugin hybrid'!#REF!,0)","v":0},{"$f":"VLOOKUP('El og plugin hybrid'!G$50+($B166-1),'Fremskrivninger CO2e egne data'!$B$41:$M$71,4)/1000*'El og plugin hybrid'!G$12","v":0},{"$f":"IFERROR('El og plugin hybrid'!G$13/'El og plugin hybrid'!#REF!,0)","v":0},{"$f":"VLOOKUP('El og plugin hybrid'!I$50+($B166-1),'Fremskrivninger CO2e egne data'!$B$41:$M$71,5)/1000*'El og plugin hybrid'!I$12","v":0},{"$f":"IFERROR('El og plugin hybrid'!I$13/'El og plugin hybrid'!#REF!,0)","v":0},{"$f":"VLOOKUP('El og plugin hybrid'!K$50+($B166-1),'Fremskrivninger CO2e egne data'!$B$41:$M$71,6)/1000*'El og plugin hybrid'!K$12","v":0},{"$f":"IFERROR('El og plugin hybrid'!K$13/'El og plugin hybrid'!#REF!,0)","v":0},{"$f":"VLOOKUP('El og plugin hybrid'!M$50+($B166-1),'Fremskrivninger CO2e egne data'!$B$41:$M$71,7)/1000*'El og plugin hybrid'!M$12","v":0},{"$f":"IFERROR('El og plugin hybrid'!M$13/'El og plugin hybrid'!#REF!,0)","v":0},{"$f":"VLOOKUP('El og plugin hybrid'!O$50+($B166-1),'Fremskrivninger CO2e egne data'!$B$41:$M$71,8)/1000*'El og plugin hybrid'!O$12","v":0},{"$f":"IFERROR('El og plugin hybrid'!O$13/'El og plugin hybrid'!#REF!,0)","v":0},{"$f":"VLOOKUP('El og plugin hybrid'!Q$50+($B166-1),'Fremskrivninger CO2e egne data'!$B$41:$M$71,9)/1000*'El og plugin hybrid'!Q$12","v":0},{"$f":"IFERROR('El og plugin hybrid'!Q$13/'El og plugin hybrid'!#REF!,0)","v":0},{"$f":"VLOOKUP('El og plugin hybrid'!S$50+($B166-1),'Fremskrivninger CO2e egne data'!$B$41:$M$71,10)/1000*'El og plugin hybrid'!S$12","v":0},{"$f":"IFERROR('El og plugin hybrid'!S$13/'El og plugin hybrid'!#REF!,0)","v":0},{"$f":"VLOOKUP('El og plugin hybrid'!U$50+($B166-1),'Fremskrivninger CO2e egne data'!$B$41:$M$71,11)/1000*'El og plugin hybrid'!U$12","v":0},{"$f":"IFERROR('El og plugin hybrid'!U$13/'El og plugin hybrid'!#REF!,0)","v":0},{"$f":"VLOOKUP('El og plugin hybrid'!W$50+($B166-1),'Fremskrivninger CO2e egne data'!$B$41:$M$71,12)/1000*'El og plugin hybrid'!W$12","v":0},{"$f":"IFERROR('El og plugin hybrid'!W$13/'El og plugin hybrid'!#REF!,0)","v":0}]
[null,3,3,null,{"$f":"VLOOKUP('El og plugin hybrid'!E$50+($B167-1),'Fremskrivninger CO2e egne data'!$B$41:$M$71,3)/1000*'El og plugin hybrid'!E$12","v":0},{"$f":"IFERROR('El og plugin hybrid'!E$13/'El og plugin hybrid'!#REF!,0)","v":0},{"$f":"VLOOKUP('El og plugin hybrid'!G$50+($B167-1),'Fremskrivninger CO2e egne data'!$B$41:$M$71,4)/1000*'El og plugin hybrid'!G$12","v":0},{"$f":"IFERROR('El og plugin hybrid'!G$13/'El og plugin hybrid'!#REF!,0)","v":0},{"$f":"VLOOKUP('El og plugin hybrid'!I$50+($B167-1),'Fremskrivninger CO2e egne data'!$B$41:$M$71,5)/1000*'El og plugin hybrid'!I$12","v":0},{"$f":"IFERROR('El og plugin hybrid'!I$13/'El og plugin hybrid'!#REF!,0)","v":0},{"$f":"VLOOKUP('El og plugin hybrid'!K$50+($B167-1),'Fremskrivninger CO2e egne data'!$B$41:$M$71,6)/1000*'El og plugin hybrid'!K$12","v":0},{"$f":"IFERROR('El og plugin hybrid'!K$13/'El og plugin hybrid'!#REF!,0)","v":0},{"$f":"VLOOKUP('El og plugin hybrid'!M$50+($B167-1),'Fremskrivninger CO2e egne data'!$B$41:$M$71,7)/1000*'El og plugin hybrid'!M$12","v":0},{"$f":"IFERROR('El og plugin hybrid'!M$13/'El og plugin hybrid'!#REF!,0)","v":0},{"$f":"VLOOKUP('El og plugin hybrid'!O$50+($B167-1),'Fremskrivninger CO2e egne data'!$B$41:$M$71,8)/1000*'El og plugin hybrid'!O$12","v":0},{"$f":"IFERROR('El og plugin hybrid'!O$13/'El og plugin hybrid'!#REF!,0)","v":0},{"$f":"VLOOKUP('El og plugin hybrid'!Q$50+($B167-1),'Fremskrivninger CO2e egne data'!$B$41:$M$71,9)/1000*'El og plugin hybrid'!Q$12","v":0},{"$f":"IFERROR('El og plugin hybrid'!Q$13/'El og plugin hybrid'!#REF!,0)","v":0},{"$f":"VLOOKUP('El og plugin hybrid'!S$50+($B167-1),'Fremskrivninger CO2e egne data'!$B$41:$M$71,10)/1000*'El og plugin hybrid'!S$12","v":0},{"$f":"IFERROR('El og plugin hybrid'!S$13/'El og plugin hybrid'!#REF!,0)","v":0},{"$f":"VLOOKUP('El og plugin hybrid'!U$50+($B167-1),'Fremskrivninger CO2e egne data'!$B$41:$M$71,11)/1000*'El og plugin hybrid'!U$12","v":0},{"$f":"IFERROR('El og plugin hybrid'!U$13/'El og plugin hybrid'!#REF!,0)","v":0},{"$f":"VLOOKUP('El og plugin hybrid'!W$50+($B167-1),'Fremskrivninger CO2e egne data'!$B$41:$M$71,12)/1000*'El og plugin hybrid'!W$12","v":0},{"$f":"IFERROR('El og plugin hybrid'!W$13/'El og plugin hybrid'!#REF!,0)","v":0}]
[null,4,4,null,{"$f":"VLOOKUP('El og plugin hybrid'!E$50+($B168-1),'Fremskrivninger CO2e egne data'!$B$41:$M$71,3)/1000*'El og plugin hybrid'!E$12","v":0},{"$f":"IFERROR('El og plugin hybrid'!E$13/'El og plugin hybrid'!#REF!,0)","v":0},{"$f":"VLOOKUP('El og plugin hybrid'!G$50+($B168-1),'Fremskrivninger CO2e egne data'!$B$41:$M$71,4)/1000*'El og plugin hybrid'!G$12","v":0},{"$f":"IFERROR('El og plugin hybrid'!G$13/'El og plugin hybrid'!#REF!,0)","v":0},{"$f":"VLOOKUP('El og plugin hybrid'!I$50+($B168-1),'Fremskrivninger CO2e egne data'!$B$41:$M$71,5)/1000*'El og plugin hybrid'!I$12","v":0},{"$f":"IFERROR('El og plugin hybrid'!I$13/'El og plugin hybrid'!#REF!,0)","v":0},{"$f":"VLOOKUP('El og plugin hybrid'!K$50+($B168-1),'Fremskrivninger CO2e egne data'!$B$41:$M$71,6)/1000*'El og plugin hybrid'!K$12","v":0},{"$f":"IFERROR('El og plugin hybrid'!K$13/'El og plugin hybrid'!#REF!,0)","v":0},{"$f":"VLOOKUP('El og plugin hybrid'!M$50+($B168-1),'Fremskrivninger CO2e egne data'!$B$41:$M$71,7)/1000*'El og plugin hybrid'!M$12","v":0},{"$f":"IFERROR('El og plugin hybrid'!M$13/'El og plugin hybrid'!#REF!,0)","v":0},{"$f":"VLOOKUP('El og plugin hybrid'!O$50+($B168-1),'Fremskrivninger CO2e egne data'!$B$41:$M$71,8)/1000*'El og plugin hybrid'!O$12","v":0},{"$f":"IFERROR('El og plugin hybrid'!O$13/'El og plugin hybrid'!#REF!,0)","v":0},{"$f":"VLOOKUP('El og plugin hybrid'!Q$50+($B168-1),'Fremskrivninger CO2e egne data'!$B$41:$M$71,9)/1000*'El og plugin hybrid'!Q$12","v":0},{"$f":"IFERROR('El og plugin hybrid'!Q$13/'El og plugin hybrid'!#REF!,0)","v":0},{"$f":"VLOOKUP('El og plugin hybrid'!S$50+($B168-1),'Fremskrivninger CO2e egne data'!$B$41:$M$71,10)/1000*'El og plugin hybrid'!S$12","v":0},{"$f":"IFERROR('El og plugin hybrid'!S$13/'El og plugin hybrid'!#REF!,0)","v":0},{"$f":"VLOOKUP('El og plugin hybrid'!U$50+($B168-1),'Fremskrivninger CO2e egne data'!$B$41:$M$71,11)/1000*'El og plugin hybrid'!U$12","v":0},{"$f":"IFERROR('El og plugin hybrid'!U$13/'El og plugin hybrid'!#REF!,0)","v":0},{"$f":"VLOOKUP('El og plugin hybrid'!W$50+($B168-1),'Fremskrivninger CO2e egne data'!$B$41:$M$71,12)/1000*'El og plugin hybrid'!W$12","v":0},{"$f":"IFERROR('El og plugin hybrid'!W$13/'El og plugin hybrid'!#REF!,0)","v":0}]
[null,5,5,null,{"$f":"VLOOKUP('El og plugin hybrid'!E$50+($B169-1),'Fremskrivninger CO2e egne data'!$B$41:$M$71,3)/1000*'El og plugin hybrid'!E$12","v":0},{"$f":"IFERROR('El og plugin hybrid'!E$13/'El og plugin hybrid'!#REF!,0)","v":0},{"$f":"VLOOKUP('El og plugin hybrid'!G$50+($B169-1),'Fremskrivninger CO2e egne data'!$B$41:$M$71,4)/1000*'El og plugin hybrid'!G$12","v":0},{"$f":"IFERROR('El og plugin hybrid'!G$13/'El og plugin hybrid'!#REF!,0)","v":0},{"$f":"VLOOKUP('El og plugin hybrid'!I$50+($B169-1),'Fremskrivninger CO2e egne data'!$B$41:$M$71,5)/1000*'El og plugin hybrid'!I$12","v":0},{"$f":"IFERROR('El og plugin hybrid'!I$13/'El og plugin hybrid'!#REF!,0)","v":0},{"$f":"VLOOKUP('El og plugin hybrid'!K$50+($B169-1),'Fremskrivninger CO2e egne data'!$B$41:$M$71,6)/1000*'El og plugin hybrid'!K$12","v":0},{"$f":"IFERROR('El og plugin hybrid'!K$13/'El og plugin hybrid'!#REF!,0)","v":0},{"$f":"VLOOKUP('El og plugin hybrid'!M$50+($B169-1),'Fremskrivninger CO2e egne data'!$B$41:$M$71,7)/1000*'El og plugin hybrid'!M$12","v":0},{"$f":"IFERROR('El og plugin hybrid'!M$13/'El og plugin hybrid'!#REF!,0)","v":0},{"$f":"VLOOKUP('El og plugin hybrid'!O$50+($B169-1),'Fremskrivninger CO2e egne data'!$B$41:$M$71,8)/1000*'El og plugin hybrid'!O$12","v":0},{"$f":"IFERROR('El og plugin hybrid'!O$13/'El og plugin hybrid'!#REF!,0)","v":0},{"$f":"VLOOKUP('El og plugin hybrid'!Q$50+($B169-1),'Fremskrivninger CO2e egne data'!$B$41:$M$71,9)/1000*'El og plugin hybrid'!Q$12","v":0},{"$f":"IFERROR('El og plugin hybrid'!Q$13/'El og plugin hybrid'!#REF!,0)","v":0},{"$f":"VLOOKUP('El og plugin hybrid'!S$50+($B169-1),'Fremskrivninger CO2e egne data'!$B$41:$M$71,10)/1000*'El og plugin hybrid'!S$12","v":0},{"$f":"IFERROR('El og plugin hybrid'!S$13/'El og plugin hybrid'!#REF!,0)","v":0},{"$f":"VLOOKUP('El og plugin hybrid'!U$50+($B169-1),'Fremskrivninger CO2e egne data'!$B$41:$M$71,11)/1000*'El og plugin hybrid'!U$12","v":0},{"$f":"IFERROR('El og plugin hybrid'!U$13/'El og plugin hybrid'!#REF!,0)","v":0},{"$f":"VLOOKUP('El og plugin hybrid'!W$50+($B169-1),'Fremskrivninger CO2e egne data'!$B$41:$M$71,12)/1000*'El og plugin hybrid'!W$12","v":0},{"$f":"IFERROR('El og plugin hybrid'!W$13/'El og plugin hybrid'!#REF!,0)","v":0}]
[null,6,6,null,{"$f":"VLOOKUP('El og plugin hybrid'!E$50+($B170-1),'Fremskrivninger CO2e egne data'!$B$41:$M$71,3)/1000*'El og plugin hybrid'!E$12","v":0},{"$f":"IFERROR('El og plugin hybrid'!E$13/'El og plugin hybrid'!#REF!,0)","v":0},{"$f":"VLOOKUP('El og plugin hybrid'!G$50+($B170-1),'Fremskrivninger CO2e egne data'!$B$41:$M$71,4)/1000*'El og plugin hybrid'!G$12","v":0},{"$f":"IFERROR('El og plugin hybrid'!G$13/'El og plugin hybrid'!#REF!,0)","v":0},{"$f":"VLOOKUP('El og plugin hybrid'!I$50+($B170-1),'Fremskrivninger CO2e egne data'!$B$41:$M$71,5)/1000*'El og plugin hybrid'!I$12","v":0},{"$f":"IFERROR('El og plugin hybrid'!I$13/'El og plugin hybrid'!#REF!,0)","v":0},{"$f":"VLOOKUP('El og plugin hybrid'!K$50+($B170-1),'Fremskrivninger CO2e egne data'!$B$41:$M$71,6)/1000*'El og plugin hybrid'!K$12","v":0},{"$f":"IFERROR('El og plugin hybrid'!K$13/'El og plugin hybrid'!#REF!,0)","v":0},{"$f":"VLOOKUP('El og plugin hybrid'!M$50+($B170-1),'Fremskrivninger CO2e egne data'!$B$41:$M$71,7)/1000*'El og plugin hybrid'!M$12","v":0},{"$f":"IFERROR('El og plugin hybrid'!M$13/'El og plugin hybrid'!#REF!,0)","v":0},{"$f":"VLOOKUP('El og plugin hybrid'!O$50+($B170-1),'Fremskrivninger CO2e egne data'!$B$41:$M$71,8)/1000*'El og plugin hybrid'!O$12","v":0},{"$f":"IFERROR('El og plugin hybrid'!O$13/'El og plugin hybrid'!#REF!,0)","v":0},{"$f":"VLOOKUP('El og plugin hybrid'!Q$50+($B170-1),'Fremskrivninger CO2e egne data'!$B$41:$M$71,9)/1000*'El og plugin hybrid'!Q$12","v":0},{"$f":"IFERROR('El og plugin hybrid'!Q$13/'El og plugin hybrid'!#REF!,0)","v":0},{"$f":"VLOOKUP('El og plugin hybrid'!S$50+($B170-1),'Fremskrivninger CO2e egne data'!$B$41:$M$71,10)/1000*'El og plugin hybrid'!S$12","v":0},{"$f":"IFERROR('El og plugin hybrid'!S$13/'El og plugin hybrid'!#REF!,0)","v":0},{"$f":"VLOOKUP('El og plugin hybrid'!U$50+($B170-1),'Fremskrivninger CO2e egne data'!$B$41:$M$71,11)/1000*'El og plugin hybrid'!U$12","v":0},{"$f":"IFERROR('El og plugin hybrid'!U$13/'El og plugin hybrid'!#REF!,0)","v":0},{"$f":"VLOOKUP('El og plugin hybrid'!W$50+($B170-1),'Fremskrivninger CO2e egne data'!$B$41:$M$71,12)/1000*'El og plugin hybrid'!W$12","v":0},{"$f":"IFERROR('El og plugin hybrid'!W$13/'El og plugin hybrid'!#REF!,0)","v":0}]
[null,7,7,null,{"$f":"VLOOKUP('El og plugin hybrid'!E$50+($B171-1),'Fremskrivninger CO2e egne data'!$B$41:$M$71,3)/1000*'El og plugin hybrid'!E$12","v":0},{"$f":"IFERROR('El og plugin hybrid'!E$13/'El og plugin hybrid'!#REF!,0)","v":0},{"$f":"VLOOKUP('El og plugin hybrid'!G$50+($B171-1),'Fremskrivninger CO2e egne data'!$B$41:$M$71,4)/1000*'El og plugin hybrid'!G$12","v":0},{"$f":"IFERROR('El og plugin hybrid'!G$13/'El og plugin hybrid'!#REF!,0)","v":0},{"$f":"VLOOKUP('El og plugin hybrid'!I$50+($B171-1),'Fremskrivninger CO2e egne data'!$B$41:$M$71,5)/1000*'El og plugin hybrid'!I$12","v":0},{"$f":"IFERROR('El og plugin hybrid'!I$13/'El og plugin hybrid'!#REF!,0)","v":0},{"$f":"VLOOKUP('El og plugin hybrid'!K$50+($B171-1),'Fremskrivninger CO2e egne data'!$B$41:$M$71,6)/1000*'El og plugin hybrid'!K$12","v":0},{"$f":"IFERROR('El og plugin hybrid'!K$13/'El og plugin hybrid'!#REF!,0)","v":0},{"$f":"VLOOKUP('El og plugin hybrid'!M$50+($B171-1),'Fremskrivninger CO2e egne data'!$B$41:$M$71,7)/1000*'El og plugin hybrid'!M$12","v":0},{"$f":"IFERROR('El og plugin hybrid'!M$13/'El og plugin hybrid'!#REF!,0)","v":0},{"$f":"VLOOKUP('El og plugin hybrid'!O$50+($B171-1),'Fremskrivninger CO2e egne data'!$B$41:$M$71,8)/1000*'El og plugin hybrid'!O$12","v":0},{"$f":"IFERROR('El og plugin hybrid'!O$13/'El og plugin hybrid'!#REF!,0)","v":0},{"$f":"VLOOKUP('El og plugin hybrid'!Q$50+($B171-1),'Fremskrivninger CO2e egne data'!$B$41:$M$71,9)/1000*'El og plugin hybrid'!Q$12","v":0},{"$f":"IFERROR('El og plugin hybrid'!Q$13/'El og plugin hybrid'!#REF!,0)","v":0},{"$f":"VLOOKUP('El og plugin hybrid'!S$50+($B171-1),'Fremskrivninger CO2e egne data'!$B$41:$M$71,10)/1000*'El og plugin hybrid'!S$12","v":0},{"$f":"IFERROR('El og plugin hybrid'!S$13/'El og plugin hybrid'!#REF!,0)","v":0},{"$f":"VLOOKUP('El og plugin hybrid'!U$50+($B171-1),'Fremskrivninger CO2e egne data'!$B$41:$M$71,11)/1000*'El og plugin hybrid'!U$12","v":0},{"$f":"IFERROR('El og plugin hybrid'!U$13/'El og plugin hybrid'!#REF!,0)","v":0},{"$f":"VLOOKUP('El og plugin hybrid'!W$50+($B171-1),'Fremskrivninger CO2e egne data'!$B$41:$M$71,12)/1000*'El og plugin hybrid'!W$12","v":0},{"$f":"IFERROR('El og plugin hybrid'!W$13/'El og plugin hybrid'!#REF!,0)","v":0}]
[null,8,8,null,{"$f":"VLOOKUP('El og plugin hybrid'!E$50+($B172-1),'Fremskrivninger CO2e egne data'!$B$41:$M$71,3)/1000*'El og plugin hybrid'!E$12","v":0},{"$f":"IFERROR('El og plugin hybrid'!E$13/'El og plugin hybrid'!#REF!,0)","v":0},{"$f":"VLOOKUP('El og plugin hybrid'!G$50+($B172-1),'Fremskrivninger CO2e egne data'!$B$41:$M$71,4)/1000*'El og plugin hybrid'!G$12","v":0},{"$f":"IFERROR('El og plugin hybrid'!G$13/'El og plugin hybrid'!#REF!,0)","v":0},{"$f":"VLOOKUP('El og plugin hybrid'!I$50+($B172-1),'Fremskrivninger CO2e egne data'!$B$41:$M$71,5)/1000*'El og plugin hybrid'!I$12","v":0},{"$f":"IFERROR('El og plugin hybrid'!I$13/'El og plugin hybrid'!#REF!,0)","v":0},{"$f":"VLOOKUP('El og plugin hybrid'!K$50+($B172-1),'Fremskrivninger CO2e egne data'!$B$41:$M$71,6)/1000*'El og plugin hybrid'!K$12","v":0},{"$f":"IFERROR('El og plugin hybrid'!K$13/'El og plugin hybrid'!#REF!,0)","v":0},{"$f":"VLOOKUP('El og plugin hybrid'!M$50+($B172-1),'Fremskrivninger CO2e egne data'!$B$41:$M$71,7)/1000*'El og plugin hybrid'!M$12","v":0},{"$f":"IFERROR('El og plugin hybrid'!M$13/'El og plugin hybrid'!#REF!,0)","v":0},{"$f":"VLOOKUP('El og plugin hybrid'!O$50+($B172-1),'Fremskrivninger CO2e egne data'!$B$41:$M$71,8)/1000*'El og plugin hybrid'!O$12","v":0},{"$f":"IFERROR('El og plugin hybrid'!O$13/'El og plugin hybrid'!#REF!,0)","v":0},{"$f":"VLOOKUP('El og plugin hybrid'!Q$50+($B172-1),'Fremskrivninger CO2e egne data'!$B$41:$M$71,9)/1000*'El og plugin hybrid'!Q$12","v":0},{"$f":"IFERROR('El og plugin hybrid'!Q$13/'El og plugin hybrid'!#REF!,0)","v":0},{"$f":"VLOOKUP('El og plugin hybrid'!S$50+($B172-1),'Fremskrivninger CO2e egne data'!$B$41:$M$71,10)/1000*'El og plugin hybrid'!S$12","v":0},{"$f":"IFERROR('El og plugin hybrid'!S$13/'El og plugin hybrid'!#REF!,0)","v":0},{"$f":"VLOOKUP('El og plugin hybrid'!U$50+($B172-1),'Fremskrivninger CO2e egne data'!$B$41:$M$71,11)/1000*'El og plugin hybrid'!U$12","v":0},{"$f":"IFERROR('El og plugin hybrid'!U$13/'El og plugin hybrid'!#REF!,0)","v":0},{"$f":"VLOOKUP('El og plugin hybrid'!W$50+($B172-1),'Fremskrivninger CO2e egne data'!$B$41:$M$71,12)/1000*'El og plugin hybrid'!W$12","v":0},{"$f":"IFERROR('El og plugin hybrid'!W$13/'El og plugin hybrid'!#REF!,0)","v":0}]
[null,9,9,null,{"$f":"VLOOKUP('El og plugin hybrid'!E$50+($B173-1),'Fremskrivninger CO2e egne data'!$B$41:$M$71,3)/1000*'El og plugin hybrid'!E$12","v":0},{"$f":"IFERROR('El og plugin hybrid'!E$13/'El og plugin hybrid'!#REF!,0)","v":0},{"$f":"VLOOKUP('El og plugin hybrid'!G$50+($B173-1),'Fremskrivninger CO2e egne data'!$B$41:$M$71,4)/1000*'El og plugin hybrid'!G$12","v":0},{"$f":"IFERROR('El og plugin hybrid'!G$13/'El og plugin hybrid'!#REF!,0)","v":0},{"$f":"VLOOKUP('El og plugin hybrid'!I$50+($B173-1),'Fremskrivninger CO2e egne data'!$B$41:$M$71,5)/1000*'El og plugin hybrid'!I$12","v":0},{"$f":"IFERROR('El og plugin hybrid'!I$13/'El og plugin hybrid'!#REF!,0)","v":0},{"$f":"VLOOKUP('El og plugin hybrid'!K$50+($B173-1),'Fremskrivninger CO2e egne data'!$B$41:$M$71,6)/1000*'El og plugin hybrid'!K$12","v":0},{"$f":"IFERROR('El og plugin hybrid'!K$13/'El og plugin hybrid'!#REF!,0)","v":0},{"$f":"VLOOKUP('El og plugin hybrid'!M$50+($B173-1),'Fremskrivninger CO2e egne data'!$B$41:$M$71,7)/1000*'El og plugin hybrid'!M$12","v":0},{"$f":"IFERROR('El og plugin hybrid'!M$13/'El og plugin hybrid'!#REF!,0)","v":0},{"$f":"VLOOKUP('El og plugin hybrid'!O$50+($B173-1),'Fremskrivninger CO2e egne data'!$B$41:$M$71,8)/1000*'El og plugin hybrid'!O$12","v":0},{"$f":"IFERROR('El og plugin hybrid'!O$13/'El og plugin hybrid'!#REF!,0)","v":0},{"$f":"VLOOKUP('El og plugin hybrid'!Q$50+($B173-1),'Fremskrivninger CO2e egne data'!$B$41:$M$71,9)/1000*'El og plugin hybrid'!Q$12","v":0},{"$f":"IFERROR('El og plugin hybrid'!Q$13/'El og plugin hybrid'!#REF!,0)","v":0},{"$f":"VLOOKUP('El og plugin hybrid'!S$50+($B173-1),'Fremskrivninger CO2e egne data'!$B$41:$M$71,10)/1000*'El og plugin hybrid'!S$12","v":0},{"$f":"IFERROR('El og plugin hybrid'!S$13/'El og plugin hybrid'!#REF!,0)","v":0},{"$f":"VLOOKUP('El og plugin hybrid'!U$50+($B173-1),'Fremskrivninger CO2e egne data'!$B$41:$M$71,11)/1000*'El og plugin hybrid'!U$12","v":0},{"$f":"IFERROR('El og plugin hybrid'!U$13/'El og plugin hybrid'!#REF!,0)","v":0},{"$f":"VLOOKUP('El og plugin hybrid'!W$50+($B173-1),'Fremskrivninger CO2e egne data'!$B$41:$M$71,12)/1000*'El og plugin hybrid'!W$12","v":0},{"$f":"IFERROR('El og plugin hybrid'!W$13/'El og plugin hybrid'!#REF!,0)","v":0}]
[null,10,10,null,{"$f":"VLOOKUP('El og plugin hybrid'!E$50+($B174-1),'Fremskrivninger CO2e egne data'!$B$41:$M$71,3)/1000*'El og plugin hybrid'!E$12","v":0},{"$f":"IFERROR('El og plugin hybrid'!E$13/'El og plugin hybrid'!#REF!,0)","v":0},{"$f":"VLOOKUP('El og plugin hybrid'!G$50+($B174-1),'Fremskrivninger CO2e egne data'!$B$41:$M$71,4)/1000*'El og plugin hybrid'!G$12","v":0},{"$f":"IFERROR('El og plugin hybrid'!G$13/'El og plugin hybrid'!#REF!,0)","v":0},{"$f":"VLOOKUP('El og plugin hybrid'!I$50+($B174-1),'Fremskrivninger CO2e egne data'!$B$41:$M$71,5)/1000*'El og plugin hybrid'!I$12","v":0},{"$f":"IFERROR('El og plugin hybrid'!I$13/'El og plugin hybrid'!#REF!,0)","v":0},{"$f":"VLOOKUP('El og plugin hybrid'!K$50+($B174-1),'Fremskrivninger CO2e egne data'!$B$41:$M$71,6)/1000*'El og plugin hybrid'!K$12","v":0},{"$f":"IFERROR('El og plugin hybrid'!K$13/'El og plugin hybrid'!#REF!,0)","v":0},{"$f":"VLOOKUP('El og plugin hybrid'!M$50+($B174-1),'Fremskrivninger CO2e egne data'!$B$41:$M$71,7)/1000*'El og plugin hybrid'!M$12","v":0},{"$f":"IFERROR('El og plugin hybrid'!M$13/'El og plugin hybrid'!#REF!,0)","v":0},{"$f":"VLOOKUP('El og plugin hybrid'!O$50+($B174-1),'Fremskrivninger CO2e egne data'!$B$41:$M$71,8)/1000*'El og plugin hybrid'!O$12","v":0},{"$f":"IFERROR('El og plugin hybrid'!O$13/'El og plugin hybrid'!#REF!,0)","v":0},{"$f":"VLOOKUP('El og plugin hybrid'!Q$50+($B174-1),'Fremskrivninger CO2e egne data'!$B$41:$M$71,9)/1000*'El og plugin hybrid'!Q$12","v":0},{"$f":"IFERROR('El og plugin hybrid'!Q$13/'El og plugin hybrid'!#REF!,0)","v":0},{"$f":"VLOOKUP('El og plugin hybrid'!S$50+($B174-1),'Fremskrivninger CO2e egne data'!$B$41:$M$71,10)/1000*'El og plugin hybrid'!S$12","v":0},{"$f":"IFERROR('El og plugin hybrid'!S$13/'El og plugin hybrid'!#REF!,0)","v":0},{"$f":"VLOOKUP('El og plugin hybrid'!U$50+($B174-1),'Fremskrivninger CO2e egne data'!$B$41:$M$71,11)/1000*'El og plugin hybrid'!U$12","v":0},{"$f":"IFERROR('El og plugin hybrid'!U$13/'El og plugin hybrid'!#REF!,0)","v":0},{"$f":"VLOOKUP('El og plugin hybrid'!W$50+($B174-1),'Fremskrivninger CO2e egne data'!$B$41:$M$71,12)/1000*'El og plugin hybrid'!W$12","v":0},{"$f":"IFERROR('El og plugin hybrid'!W$13/'El og plugin hybrid'!#REF!,0)","v":0}]
[null,11,11,null,{"$f":"VLOOKUP('El og plugin hybrid'!E$50+($B175-1),'Fremskrivninger CO2e egne data'!$B$41:$M$71,3)/1000*'El og plugin hybrid'!E$12","v":0},{"$f":"IFERROR('El og plugin hybrid'!E$13/'El og plugin hybrid'!#REF!,0)","v":0},{"$f":"VLOOKUP('El og plugin hybrid'!G$50+($B175-1),'Fremskrivninger CO2e egne data'!$B$41:$M$71,4)/1000*'El og plugin hybrid'!G$12","v":0},{"$f":"IFERROR('El og plugin hybrid'!G$13/'El og plugin hybrid'!#REF!,0)","v":0},{"$f":"VLOOKUP('El og plugin hybrid'!I$50+($B175-1),'Fremskrivninger CO2e egne data'!$B$41:$M$71,5)/1000*'El og plugin hybrid'!I$12","v":0},{"$f":"IFERROR('El og plugin hybrid'!I$13/'El og plugin hybrid'!#REF!,0)","v":0},{"$f":"VLOOKUP('El og plugin hybrid'!K$50+($B175-1),'Fremskrivninger CO2e egne data'!$B$41:$M$71,6)/1000*'El og plugin hybrid'!K$12","v":0},{"$f":"IFERROR('El og plugin hybrid'!K$13/'El og plugin hybrid'!#REF!,0)","v":0},{"$f":"VLOOKUP('El og plugin hybrid'!M$50+($B175-1),'Fremskrivninger CO2e egne data'!$B$41:$M$71,7)/1000*'El og plugin hybrid'!M$12","v":0},{"$f":"IFERROR('El og plugin hybrid'!M$13/'El og plugin hybrid'!#REF!,0)","v":0},{"$f":"VLOOKUP('El og plugin hybrid'!O$50+($B175-1),'Fremskrivninger CO2e egne data'!$B$41:$M$71,8)/1000*'El og plugin hybrid'!O$12","v":0},{"$f":"IFERROR('El og plugin hybrid'!O$13/'El og plugin hybrid'!#REF!,0)","v":0},{"$f":"VLOOKUP('El og plugin hybrid'!Q$50+($B175-1),'Fremskrivninger CO2e egne data'!$B$41:$M$71,9)/1000*'El og plugin hybrid'!Q$12","v":0},{"$f":"IFERROR('El og plugin hybrid'!Q$13/'El og plugin hybrid'!#REF!,0)","v":0},{"$f":"VLOOKUP('El og plugin hybrid'!S$50+($B175-1),'Fremskrivninger CO2e egne data'!$B$41:$M$71,10)/1000*'El og plugin hybrid'!S$12","v":0},{"$f":"IFERROR('El og plugin hybrid'!S$13/'El og plugin hybrid'!#REF!,0)","v":0},{"$f":"VLOOKUP('El og plugin hybrid'!U$50+($B175-1),'Fremskrivninger CO2e egne data'!$B$41:$M$71,11)/1000*'El og plugin hybrid'!U$12","v":0},{"$f":"IFERROR('El og plugin hybrid'!U$13/'El og plugin hybrid'!#REF!,0)","v":0},{"$f":"VLOOKUP('El og plugin hybrid'!W$50+($B175-1),'Fremskrivninger CO2e egne data'!$B$41:$M$71,12)/1000*'El og plugin hybrid'!W$12","v":0},{"$f":"IFERROR('El og plugin hybrid'!W$13/'El og plugin hybrid'!#REF!,0)","v":0}]
[null,12,12,null,{"$f":"VLOOKUP('El og plugin hybrid'!E$50+($B176-1),'Fremskrivninger CO2e egne data'!$B$41:$M$71,3)/1000*'El og plugin hybrid'!E$12","v":0},{"$f":"IFERROR('El og plugin hybrid'!E$13/'El og plugin hybrid'!#REF!,0)","v":0},{"$f":"VLOOKUP('El og plugin hybrid'!G$50+($B176-1),'Fremskrivninger CO2e egne data'!$B$41:$M$71,4)/1000*'El og plugin hybrid'!G$12","v":0},{"$f":"IFERROR('El og plugin hybrid'!G$13/'El og plugin hybrid'!#REF!,0)","v":0},{"$f":"VLOOKUP('El og plugin hybrid'!I$50+($B176-1),'Fremskrivninger CO2e egne data'!$B$41:$M$71,5)/1000*'El og plugin hybrid'!I$12","v":0},{"$f":"IFERROR('El og plugin hybrid'!I$13/'El og plugin hybrid'!#REF!,0)","v":0},{"$f":"VLOOKUP('El og plugin hybrid'!K$50+($B176-1),'Fremskrivninger CO2e egne data'!$B$41:$M$71,6)/1000*'El og plugin hybrid'!K$12","v":0},{"$f":"IFERROR('El og plugin hybrid'!K$13/'El og plugin hybrid'!#REF!,0)","v":0},{"$f":"VLOOKUP('El og plugin hybrid'!M$50+($B176-1),'Fremskrivninger CO2e egne data'!$B$41:$M$71,7)/1000*'El og plugin hybrid'!M$12","v":0},{"$f":"IFERROR('El og plugin hybrid'!M$13/'El og plugin hybrid'!#REF!,0)","v":0},{"$f":"VLOOKUP('El og plugin hybrid'!O$50+($B176-1),'Fremskrivninger CO2e egne data'!$B$41:$M$71,8)/1000*'El og plugin hybrid'!O$12","v":0},{"$f":"IFERROR('El og plugin hybrid'!O$13/'El og plugin hybrid'!#REF!,0)","v":0},{"$f":"VLOOKUP('El og plugin hybrid'!Q$50+($B176-1),'Fremskrivninger CO2e egne data'!$B$41:$M$71,9)/1000*'El og plugin hybrid'!Q$12","v":0},{"$f":"IFERROR('El og plugin hybrid'!Q$13/'El og plugin hybrid'!#REF!,0)","v":0},{"$f":"VLOOKUP('El og plugin hybrid'!S$50+($B176-1),'Fremskrivninger CO2e egne data'!$B$41:$M$71,10)/1000*'El og plugin hybrid'!S$12","v":0},{"$f":"IFERROR('El og plugin hybrid'!S$13/'El og plugin hybrid'!#REF!,0)","v":0},{"$f":"VLOOKUP('El og plugin hybrid'!U$50+($B176-1),'Fremskrivninger CO2e egne data'!$B$41:$M$71,11)/1000*'El og plugin hybrid'!U$12","v":0},{"$f":"IFERROR('El og plugin hybrid'!U$13/'El og plugin hybrid'!#REF!,0)","v":0},{"$f":"VLOOKUP('El og plugin hybrid'!W$50+($B176-1),'Fremskrivninger CO2e egne data'!$B$41:$M$71,12)/1000*'El og plugin hybrid'!W$12","v":0},{"$f":"IFERROR('El og plugin hybrid'!W$13/'El og plugin hybrid'!#REF!,0)","v":0}]
[null,13,13,null,{"$f":"VLOOKUP('El og plugin hybrid'!E$50+($B177-1),'Fremskrivninger CO2e egne data'!$B$41:$M$71,3)/1000*'El og plugin hybrid'!E$12","v":0},{"$f":"IFERROR('El og plugin hybrid'!E$13/'El og plugin hybrid'!#REF!,0)","v":0},{"$f":"VLOOKUP('El og plugin hybrid'!G$50+($B177-1),'Fremskrivninger CO2e egne data'!$B$41:$M$71,4)/1000*'El og plugin hybrid'!G$12","v":0},{"$f":"IFERROR('El og plugin hybrid'!G$13/'El og plugin hybrid'!#REF!,0)","v":0},{"$f":"VLOOKUP('El og plugin hybrid'!I$50+($B177-1),'Fremskrivninger CO2e egne data'!$B$41:$M$71,5)/1000*'El og plugin hybrid'!I$12","v":0},{"$f":"IFERROR('El og plugin hybrid'!I$13/'El og plugin hybrid'!#REF!,0)","v":0},{"$f":"VLOOKUP('El og plugin hybrid'!K$50+($B177-1),'Fremskrivninger CO2e egne data'!$B$41:$M$71,6)/1000*'El og plugin hybrid'!K$12","v":0},{"$f":"IFERROR('El og plugin hybrid'!K$13/'El og plugin hybrid'!#REF!,0)","v":0},{"$f":"VLOOKUP('El og plugin hybrid'!M$50+($B177-1),'Fremskrivninger CO2e egne data'!$B$41:$M$71,7)/1000*'El og plugin hybrid'!M$12","v":0},{"$f":"IFERROR('El og plugin hybrid'!M$13/'El og plugin hybrid'!#REF!,0)","v":0},{"$f":"VLOOKUP('El og plugin hybrid'!O$50+($B177-1),'Fremskrivninger CO2e egne data'!$B$41:$M$71,8)/1000*'El og plugin hybrid'!O$12","v":0},{"$f":"IFERROR('El og plugin hybrid'!O$13/'El og plugin hybrid'!#REF!,0)","v":0},{"$f":"VLOOKUP('El og plugin hybrid'!Q$50+($B177-1),'Fremskrivninger CO2e egne data'!$B$41:$M$71,9)/1000*'El og plugin hybrid'!Q$12","v":0},{"$f":"IFERROR('El og plugin hybrid'!Q$13/'El og plugin hybrid'!#REF!,0)","v":0},{"$f":"VLOOKUP('El og plugin hybrid'!S$50+($B177-1),'Fremskrivninger CO2e egne data'!$B$41:$M$71,10)/1000*'El og plugin hybrid'!S$12","v":0},{"$f":"IFERROR('El og plugin hybrid'!S$13/'El og plugin hybrid'!#REF!,0)","v":0},{"$f":"VLOOKUP('El og plugin hybrid'!U$50+($B177-1),'Fremskrivninger CO2e egne data'!$B$41:$M$71,11)/1000*'El og plugin hybrid'!U$12","v":0},{"$f":"IFERROR('El og plugin hybrid'!U$13/'El og plugin hybrid'!#REF!,0)","v":0},{"$f":"VLOOKUP('El og plugin hybrid'!W$50+($B177-1),'Fremskrivninger CO2e egne data'!$B$41:$M$71,12)/1000*'El og plugin hybrid'!W$12","v":0},{"$f":"IFERROR('El og plugin hybrid'!W$13/'El og plugin hybrid'!#REF!,0)","v":0}]
[null,14,14,null,{"$f":"VLOOKUP('El og plugin hybrid'!E$50+($B178-1),'Fremskrivninger CO2e egne data'!$B$41:$M$71,3)/1000*'El og plugin hybrid'!E$12","v":0},{"$f":"IFERROR('El og plugin hybrid'!E$13/'El og plugin hybrid'!#REF!,0)","v":0},{"$f":"VLOOKUP('El og plugin hybrid'!G$50+($B178-1),'Fremskrivninger CO2e egne data'!$B$41:$M$71,4)/1000*'El og plugin hybrid'!G$12","v":0},{"$f":"IFERROR('El og plugin hybrid'!G$13/'El og plugin hybrid'!#REF!,0)","v":0},{"$f":"VLOOKUP('El og plugin hybrid'!I$50+($B178-1),'Fremskrivninger CO2e egne data'!$B$41:$M$71,5)/1000*'El og plugin hybrid'!I$12","v":0},{"$f":"IFERROR('El og plugin hybrid'!I$13/'El og plugin hybrid'!#REF!,0)","v":0},{"$f":"VLOOKUP('El og plugin hybrid'!K$50+($B178-1),'Fremskrivninger CO2e egne data'!$B$41:$M$71,6)/1000*'El og plugin hybrid'!K$12","v":0},{"$f":"IFERROR('El og plugin hybrid'!K$13/'El og plugin hybrid'!#REF!,0)","v":0},{"$f":"VLOOKUP('El og plugin hybrid'!M$50+($B178-1),'Fremskrivninger CO2e egne data'!$B$41:$M$71,7)/1000*'El og plugin hybrid'!M$12","v":0},{"$f":"IFERROR('El og plugin hybrid'!M$13/'El og plugin hybrid'!#REF!,0)","v":0},{"$f":"VLOOKUP('El og plugin hybrid'!O$50+($B178-1),'Fremskrivninger CO2e egne data'!$B$41:$M$71,8)/1000*'El og plugin hybrid'!O$12","v":0},{"$f":"IFERROR('El og plugin hybrid'!O$13/'El og plugin hybrid'!#REF!,0)","v":0},{"$f":"VLOOKUP('El og plugin hybrid'!Q$50+($B178-1),'Fremskrivninger CO2e egne data'!$B$41:$M$71,9)/1000*'El og plugin hybrid'!Q$12","v":0},{"$f":"IFERROR('El og plugin hybrid'!Q$13/'El og plugin hybrid'!#REF!,0)","v":0},{"$f":"VLOOKUP('El og plugin hybrid'!S$50+($B178-1),'Fremskrivninger CO2e egne data'!$B$41:$M$71,10)/1000*'El og plugin hybrid'!S$12","v":0},{"$f":"IFERROR('El og plugin hybrid'!S$13/'El og plugin hybrid'!#REF!,0)","v":0},{"$f":"VLOOKUP('El og plugin hybrid'!U$50+($B178-1),'Fremskrivninger CO2e egne data'!$B$41:$M$71,11)/1000*'El og plugin hybrid'!U$12","v":0},{"$f":"IFERROR('El og plugin hybrid'!U$13/'El og plugin hybrid'!#REF!,0)","v":0},{"$f":"VLOOKUP('El og plugin hybrid'!W$50+($B178-1),'Fremskrivninger CO2e egne data'!$B$41:$M$71,12)/1000*'El og plugin hybrid'!W$12","v":0},{"$f":"IFERROR('El og plugin hybrid'!W$13/'El og plugin hybrid'!#REF!,0)","v":0}]
[null,15,15,null,{"$f":"VLOOKUP('El og plugin hybrid'!E$50+($B179-1),'Fremskrivninger CO2e egne data'!$B$41:$M$71,3)/1000*'El og plugin hybrid'!E$12","v":0},{"$f":"IFERROR('El og plugin hybrid'!E$13/'El og plugin hybrid'!#REF!,0)","v":0},{"$f":"VLOOKUP('El og plugin hybrid'!G$50+($B179-1),'Fremskrivninger CO2e egne data'!$B$41:$M$71,4)/1000*'El og plugin hybrid'!G$12","v":0},{"$f":"IFERROR('El og plugin hybrid'!G$13/'El og plugin hybrid'!#REF!,0)","v":0},{"$f":"VLOOKUP('El og plugin hybrid'!I$50+($B179-1),'Fremskrivninger CO2e egne data'!$B$41:$M$71,5)/1000*'El og plugin hybrid'!I$12","v":0},{"$f":"IFERROR('El og plugin hybrid'!I$13/'El og plugin hybrid'!#REF!,0)","v":0},{"$f":"VLOOKUP('El og plugin hybrid'!K$50+($B179-1),'Fremskrivninger CO2e egne data'!$B$41:$M$71,6)/1000*'El og plugin hybrid'!K$12","v":0},{"$f":"IFERROR('El og plugin hybrid'!K$13/'El og plugin hybrid'!#REF!,0)","v":0},{"$f":"VLOOKUP('El og plugin hybrid'!M$50+($B179-1),'Fremskrivninger CO2e egne data'!$B$41:$M$71,7)/1000*'El og plugin hybrid'!M$12","v":0},{"$f":"IFERROR('El og plugin hybrid'!M$13/'El og plugin hybrid'!#REF!,0)","v":0},{"$f":"VLOOKUP('El og plugin hybrid'!O$50+($B179-1),'Fremskrivninger CO2e egne data'!$B$41:$M$71,8)/1000*'El og plugin hybrid'!O$12","v":0},{"$f":"IFERROR('El og plugin hybrid'!O$13/'El og plugin hybrid'!#REF!,0)","v":0},{"$f":"VLOOKUP('El og plugin hybrid'!Q$50+($B179-1),'Fremskrivninger CO2e egne data'!$B$41:$M$71,9)/1000*'El og plugin hybrid'!Q$12","v":0},{"$f":"IFERROR('El og plugin hybrid'!Q$13/'El og plugin hybrid'!#REF!,0)","v":0},{"$f":"VLOOKUP('El og plugin hybrid'!S$50+($B179-1),'Fremskrivninger CO2e egne data'!$B$41:$M$71,10)/1000*'El og plugin hybrid'!S$12","v":0},{"$f":"IFERROR('El og plugin hybrid'!S$13/'El og plugin hybrid'!#REF!,0)","v":0},{"$f":"VLOOKUP('El og plugin hybrid'!U$50+($B179-1),'Fremskrivninger CO2e egne data'!$B$41:$M$71,11)/1000*'El og plugin hybrid'!U$12","v":0},{"$f":"IFERROR('El og plugin hybrid'!U$13/'El og plugin hybrid'!#REF!,0)","v":0},{"$f":"VLOOKUP('El og plugin hybrid'!W$50+($B179-1),'Fremskrivninger CO2e egne data'!$B$41:$M$71,12)/1000*'El og plugin hybrid'!W$12","v":0},{"$f":"IFERROR('El og plugin hybrid'!W$13/'El og plugin hybrid'!#REF!,0)","v":0}]
[null,16,16,null,{"$f":"VLOOKUP('El og plugin hybrid'!E$50+($B180-1),'Fremskrivninger CO2e egne data'!$B$41:$M$71,3)/1000*'El og plugin hybrid'!E$12","v":0},{"$f":"IFERROR('El og plugin hybrid'!E$13/'El og plugin hybrid'!#REF!,0)","v":0},{"$f":"VLOOKUP('El og plugin hybrid'!G$50+($B180-1),'Fremskrivninger CO2e egne data'!$B$41:$M$71,4)/1000*'El og plugin hybrid'!G$12","v":0},{"$f":"IFERROR('El og plugin hybrid'!G$13/'El og plugin hybrid'!#REF!,0)","v":0},{"$f":"VLOOKUP('El og plugin hybrid'!I$50+($B180-1),'Fremskrivninger CO2e egne data'!$B$41:$M$71,5)/1000*'El og plugin hybrid'!I$12","v":0},{"$f":"IFERROR('El og plugin hybrid'!I$13/'El og plugin hybrid'!#REF!,0)","v":0},{"$f":"VLOOKUP('El og plugin hybrid'!K$50+($B180-1),'Fremskrivninger CO2e egne data'!$B$41:$M$71,6)/1000*'El og plugin hybrid'!K$12","v":0},{"$f":"IFERROR('El og plugin hybrid'!K$13/'El og plugin hybrid'!#REF!,0)","v":0},{"$f":"VLOOKUP('El og plugin hybrid'!M$50+($B180-1),'Fremskrivninger CO2e egne data'!$B$41:$M$71,7)/1000*'El og plugin hybrid'!M$12","v":0},{"$f":"IFERROR('El og plugin hybrid'!M$13/'El og plugin hybrid'!#REF!,0)","v":0},{"$f":"VLOOKUP('El og plugin hybrid'!O$50+($B180-1),'Fremskrivninger CO2e egne data'!$B$41:$M$71,8)/1000*'El og plugin hybrid'!O$12","v":0},{"$f":"IFERROR('El og plugin hybrid'!O$13/'El og plugin hybrid'!#REF!,0)","v":0},{"$f":"VLOOKUP('El og plugin hybrid'!Q$50+($B180-1),'Fremskrivninger CO2e egne data'!$B$41:$M$71,9)/1000*'El og plugin hybrid'!Q$12","v":0},{"$f":"IFERROR('El og plugin hybrid'!Q$13/'El og plugin hybrid'!#REF!,0)","v":0},{"$f":"VLOOKUP('El og plugin hybrid'!S$50+($B180-1),'Fremskrivninger CO2e egne data'!$B$41:$M$71,10)/1000*'El og plugin hybrid'!S$12","v":0},{"$f":"IFERROR('El og plugin hybrid'!S$13/'El og plugin hybrid'!#REF!,0)","v":0},{"$f":"VLOOKUP('El og plugin hybrid'!U$50+($B180-1),'Fremskrivninger CO2e egne data'!$B$41:$M$71,11)/1000*'El og plugin hybrid'!U$12","v":0},{"$f":"IFERROR('El og plugin hybrid'!U$13/'El og plugin hybrid'!#REF!,0)","v":0},{"$f":"VLOOKUP('El og plugin hybrid'!W$50+($B180-1),'Fremskrivninger CO2e egne data'!$B$41:$M$71,12)/1000*'El og plugin hybrid'!W$12","v":0},{"$f":"IFERROR('El og plugin hybrid'!W$13/'El og plugin hybrid'!#REF!,0)","v":0}]
[null,17,17,null,{"$f":"VLOOKUP('El og plugin hybrid'!E$50+($B181-1),'Fremskrivninger CO2e egne data'!$B$41:$M$71,3)/1000*'El og plugin hybrid'!E$12","v":0},{"$f":"IFERROR('El og plugin hybrid'!E$13/'El og plugin hybrid'!#REF!,0)","v":0},{"$f":"VLOOKUP('El og plugin hybrid'!G$50+($B181-1),'Fremskrivninger CO2e egne data'!$B$41:$M$71,4)/1000*'El og plugin hybrid'!G$12","v":0},{"$f":"IFERROR('El og plugin hybrid'!G$13/'El og plugin hybrid'!#REF!,0)","v":0},{"$f":"VLOOKUP('El og plugin hybrid'!I$50+($B181-1),'Fremskrivninger CO2e egne data'!$B$41:$M$71,5)/1000*'El og plugin hybrid'!I$12","v":0},{"$f":"IFERROR('El og plugin hybrid'!I$13/'El og plugin hybrid'!#REF!,0)","v":0},{"$f":"VLOOKUP('El og plugin hybrid'!K$50+($B181-1),'Fremskrivninger CO2e egne data'!$B$41:$M$71,6)/1000*'El og plugin hybrid'!K$12","v":0},{"$f":"IFERROR('El og plugin hybrid'!K$13/'El og plugin hybrid'!#REF!,0)","v":0},{"$f":"VLOOKUP('El og plugin hybrid'!M$50+($B181-1),'Fremskrivninger CO2e egne data'!$B$41:$M$71,7)/1000*'El og plugin hybrid'!M$12","v":0},{"$f":"IFERROR('El og plugin hybrid'!M$13/'El og plugin hybrid'!#REF!,0)","v":0},{"$f":"VLOOKUP('El og plugin hybrid'!O$50+($B181-1),'Fremskrivninger CO2e egne data'!$B$41:$M$71,8)/1000*'El og plugin hybrid'!O$12","v":0},{"$f":"IFERROR('El og plugin hybrid'!O$13/'El og plugin hybrid'!#REF!,0)","v":0},{"$f":"VLOOKUP('El og plugin hybrid'!Q$50+($B181-1),'Fremskrivninger CO2e egne data'!$B$41:$M$71,9)/1000*'El og plugin hybrid'!Q$12","v":0},{"$f":"IFERROR('El og plugin hybrid'!Q$13/'El og plugin hybrid'!#REF!,0)","v":0},{"$f":"VLOOKUP('El og plugin hybrid'!S$50+($B181-1),'Fremskrivninger CO2e egne data'!$B$41:$M$71,10)/1000*'El og plugin hybrid'!S$12","v":0},{"$f":"IFERROR('El og plugin hybrid'!S$13/'El og plugin hybrid'!#REF!,0)","v":0},{"$f":"VLOOKUP('El og plugin hybrid'!U$50+($B181-1),'Fremskrivninger CO2e egne data'!$B$41:$M$71,11)/1000*'El og plugin hybrid'!U$12","v":0},{"$f":"IFERROR('El og plugin hybrid'!U$13/'El og plugin hybrid'!#REF!,0)","v":0},{"$f":"VLOOKUP('El og plugin hybrid'!W$50+($B181-1),'Fremskrivninger CO2e egne data'!$B$41:$M$71,12)/1000*'El og plugin hybrid'!W$12","v":0},{"$f":"IFERROR('El og plugin hybrid'!W$13/'El og plugin hybrid'!#REF!,0)","v":0}]
[null,18,18,null,{"$f":"VLOOKUP('El og plugin hybrid'!E$50+($B182-1),'Fremskrivninger CO2e egne data'!$B$41:$M$71,3)/1000*'El og plugin hybrid'!E$12","v":0},{"$f":"IFERROR('El og plugin hybrid'!E$13/'El og plugin hybrid'!#REF!,0)","v":0},{"$f":"VLOOKUP('El og plugin hybrid'!G$50+($B182-1),'Fremskrivninger CO2e egne data'!$B$41:$M$71,4)/1000*'El og plugin hybrid'!G$12","v":0},{"$f":"IFERROR('El og plugin hybrid'!G$13/'El og plugin hybrid'!#REF!,0)","v":0},{"$f":"VLOOKUP('El og plugin hybrid'!I$50+($B182-1),'Fremskrivninger CO2e egne data'!$B$41:$M$71,5)/1000*'El og plugin hybrid'!I$12","v":0},{"$f":"IFERROR('El og plugin hybrid'!I$13/'El og plugin hybrid'!#REF!,0)","v":0},{"$f":"VLOOKUP('El og plugin hybrid'!K$50+($B182-1),'Fremskrivninger CO2e egne data'!$B$41:$M$71,6)/1000*'El og plugin hybrid'!K$12","v":0},{"$f":"IFERROR('El og plugin hybrid'!K$13/'El og plugin hybrid'!#REF!,0)","v":0},{"$f":"VLOOKUP('El og plugin hybrid'!M$50+($B182-1),'Fremskrivninger CO2e egne data'!$B$41:$M$71,7)/1000*'El og plugin hybrid'!M$12","v":0},{"$f":"IFERROR('El og plugin hybrid'!M$13/'El og plugin hybrid'!#REF!,0)","v":0},{"$f":"VLOOKUP('El og plugin hybrid'!O$50+($B182-1),'Fremskrivninger CO2e egne data'!$B$41:$M$71,8)/1000*'El og plugin hybrid'!O$12","v":0},{"$f":"IFERROR('El og plugin hybrid'!O$13/'El og plugin hybrid'!#REF!,0)","v":0},{"$f":"VLOOKUP('El og plugin hybrid'!Q$50+($B182-1),'Fremskrivninger CO2e egne data'!$B$41:$M$71,9)/1000*'El og plugin hybrid'!Q$12","v":0},{"$f":"IFERROR('El og plugin hybrid'!Q$13/'El og plugin hybrid'!#REF!,0)","v":0},{"$f":"VLOOKUP('El og plugin hybrid'!S$50+($B182-1),'Fremskrivninger CO2e egne data'!$B$41:$M$71,10)/1000*'El og plugin hybrid'!S$12","v":0},{"$f":"IFERROR('El og plugin hybrid'!S$13/'El og plugin hybrid'!#REF!,0)","v":0},{"$f":"VLOOKUP('El og plugin hybrid'!U$50+($B182-1),'Fremskrivninger CO2e egne data'!$B$41:$M$71,11)/1000*'El og plugin hybrid'!U$12","v":0},{"$f":"IFERROR('El og plugin hybrid'!U$13/'El og plugin hybrid'!#REF!,0)","v":0},{"$f":"VLOOKUP('El og plugin hybrid'!W$50+($B182-1),'Fremskrivninger CO2e egne data'!$B$41:$M$71,12)/1000*'El og plugin hybrid'!W$12","v":0},{"$f":"IFERROR('El og plugin hybrid'!W$13/'El og plugin hybrid'!#REF!,0)","v":0}]
[null,19,19,null,{"$f":"VLOOKUP('El og plugin hybrid'!E$50+($B183-1),'Fremskrivninger CO2e egne data'!$B$41:$M$71,3)/1000*'El og plugin hybrid'!E$12","v":0},{"$f":"IFERROR('El og plugin hybrid'!E$13/'El og plugin hybrid'!#REF!,0)","v":0},{"$f":"VLOOKUP('El og plugin hybrid'!G$50+($B183-1),'Fremskrivninger CO2e egne data'!$B$41:$M$71,4)/1000*'El og plugin hybrid'!G$12","v":0},{"$f":"IFERROR('El og plugin hybrid'!G$13/'El og plugin hybrid'!#REF!,0)","v":0},{"$f":"VLOOKUP('El og plugin hybrid'!I$50+($B183-1),'Fremskrivninger CO2e egne data'!$B$41:$M$71,5)/1000*'El og plugin hybrid'!I$12","v":0},{"$f":"IFERROR('El og plugin hybrid'!I$13/'El og plugin hybrid'!#REF!,0)","v":0},{"$f":"VLOOKUP('El og plugin hybrid'!K$50+($B183-1),'Fremskrivninger CO2e egne data'!$B$41:$M$71,6)/1000*'El og plugin hybrid'!K$12","v":0},{"$f":"IFERROR('El og plugin hybrid'!K$13/'El og plugin hybrid'!#REF!,0)","v":0},{"$f":"VLOOKUP('El og plugin hybrid'!M$50+($B183-1),'Fremskrivninger CO2e egne data'!$B$41:$M$71,7)/1000*'El og plugin hybrid'!M$12","v":0},{"$f":"IFERROR('El og plugin hybrid'!M$13/'El og plugin hybrid'!#REF!,0)","v":0},{"$f":"VLOOKUP('El og plugin hybrid'!O$50+($B183-1),'Fremskrivninger CO2e egne data'!$B$41:$M$71,8)/1000*'El og plugin hybrid'!O$12","v":0},{"$f":"IFERROR('El og plugin hybrid'!O$13/'El og plugin hybrid'!#REF!,0)","v":0},{"$f":"VLOOKUP('El og plugin hybrid'!Q$50+($B183-1),'Fremskrivninger CO2e egne data'!$B$41:$M$71,9)/1000*'El og plugin hybrid'!Q$12","v":0},{"$f":"IFERROR('El og plugin hybrid'!Q$13/'El og plugin hybrid'!#REF!,0)","v":0},{"$f":"VLOOKUP('El og plugin hybrid'!S$50+($B183-1),'Fremskrivninger CO2e egne data'!$B$41:$M$71,10)/1000*'El og plugin hybrid'!S$12","v":0},{"$f":"IFERROR('El og plugin hybrid'!S$13/'El og plugin hybrid'!#REF!,0)","v":0},{"$f":"VLOOKUP('El og plugin hybrid'!U$50+($B183-1),'Fremskrivninger CO2e egne data'!$B$41:$M$71,11)/1000*'El og plugin hybrid'!U$12","v":0},{"$f":"IFERROR('El og plugin hybrid'!U$13/'El og plugin hybrid'!#REF!,0)","v":0},{"$f":"VLOOKUP('El og plugin hybrid'!W$50+($B183-1),'Fremskrivninger CO2e egne data'!$B$41:$M$71,12)/1000*'El og plugin hybrid'!W$12","v":0},{"$f":"IFERROR('El og plugin hybrid'!W$13/'El og plugin hybrid'!#REF!,0)","v":0}]
[null,20,20,null,{"$f":"VLOOKUP('El og plugin hybrid'!E$50+($B184-1),'Fremskrivninger CO2e egne data'!$B$41:$M$71,3)/1000*'El og plugin hybrid'!E$12","v":0},{"$f":"IFERROR('El og plugin hybrid'!E$13/'El og plugin hybrid'!#REF!,0)","v":0},{"$f":"VLOOKUP('El og plugin hybrid'!G$50+($B184-1),'Fremskrivninger CO2e egne data'!$B$41:$M$71,4)/1000*'El og plugin hybrid'!G$12","v":0},{"$f":"IFERROR('El og plugin hybrid'!G$13/'El og plugin hybrid'!#REF!,0)","v":0},{"$f":"VLOOKUP('El og plugin hybrid'!I$50+($B184-1),'Fremskrivninger CO2e egne data'!$B$41:$M$71,5)/1000*'El og plugin hybrid'!I$12","v":0},{"$f":"IFERROR('El og plugin hybrid'!I$13/'El og plugin hybrid'!#REF!,0)","v":0},{"$f":"VLOOKUP('El og plugin hybrid'!K$50+($B184-1),'Fremskrivninger CO2e egne data'!$B$41:$M$71,6)/1000*'El og plugin hybrid'!K$12","v":0},{"$f":"IFERROR('El og plugin hybrid'!K$13/'El og plugin hybrid'!#REF!,0)","v":0},{"$f":"VLOOKUP('El og plugin hybrid'!M$50+($B184-1),'Fremskrivninger CO2e egne data'!$B$41:$M$71,7)/1000*'El og plugin hybrid'!M$12","v":0},{"$f":"IFERROR('El og plugin hybrid'!M$13/'El og plugin hybrid'!#REF!,0)","v":0},{"$f":"VLOOKUP('El og plugin hybrid'!O$50+($B184-1),'Fremskrivninger CO2e egne data'!$B$41:$M$71,8)/1000*'El og plugin hybrid'!O$12","v":0},{"$f":"IFERROR('El og plugin hybrid'!O$13/'El og plugin hybrid'!#REF!,0)","v":0},{"$f":"VLOOKUP('El og plugin hybrid'!Q$50+($B184-1),'Fremskrivninger CO2e egne data'!$B$41:$M$71,9)/1000*'El og plugin hybrid'!Q$12","v":0},{"$f":"IFERROR('El og plugin hybrid'!Q$13/'El og plugin hybrid'!#REF!,0)","v":0},{"$f":"VLOOKUP('El og plugin hybrid'!S$50+($B184-1),'Fremskrivninger CO2e egne data'!$B$41:$M$71,10)/1000*'El og plugin hybrid'!S$12","v":0},{"$f":"IFERROR('El og plugin hybrid'!S$13/'El og plugin hybrid'!#REF!,0)","v":0},{"$f":"VLOOKUP('El og plugin hybrid'!U$50+($B184-1),'Fremskrivninger CO2e egne data'!$B$41:$M$71,11)/1000*'El og plugin hybrid'!U$12","v":0},{"$f":"IFERROR('El og plugin hybrid'!U$13/'El og plugin hybrid'!#REF!,0)","v":0},{"$f":"VLOOKUP('El og plugin hybrid'!W$50+($B184-1),'Fremskrivninger CO2e egne data'!$B$41:$M$71,12)/1000*'El og plugin hybrid'!W$12","v":0},{"$f":"IFERROR('El og plugin hybrid'!W$13/'El og plugin hybrid'!#REF!,0)","v":0}]
["Eksternalitetsmodul - Samfundsøkonomiske omkostninger (kr.)",null,null,null,"Udregninger CO2e"]
[null,"År indeks",null,"TCO-evalueringsperiode",{"$f":"'El og plugin hybrid'!E8&\" - Samfundsøkonomiske omkostninger (kr.)\"","v":"PRODUKT 1 EL - Samfundsøkonomiske omkostninger (kr.)"},{"$f":"'El og plugin hybrid'!E8&\" - Samlet udledning i tons CO2e\"","v":"PRODUKT 1 EL - Samlet udledning i tons CO2e"},{"$f":"'El og plugin hybrid'!G8&\" - Samfundsøkonomiske omkostninger (kr.)\"","v":"PRODUKT 2 EL - Samfundsøkonomiske omkostninger (kr.)"},{"$f":"'El og plugin hybrid'!G8&\" - Samlet udledning i tons CO2e\"","v":"PRODUKT 2 EL - Samlet udledning i tons CO2e"},{"$f":"'El og plugin hybrid'!I8&\" - Samfundsøkonomiske omkostninger (kr.)\"","v":"PRODUKT 3 EL - Samfundsøkonomiske omkostninger (kr.)"},{"$f":"'El og plugin hybrid'!I8&\" - Samlet udledning i tons CO2e\"","v":"PRODUKT 3 EL - Samlet udledning i tons CO2e"},{"$f":"'El og plugin hybrid'!K8&\" - Samfundsøkonomiske omkostninger (kr.)\"","v":"PRODUKT 4 EL - Samfundsøkonomiske omkostninger (kr.)"},{"$f":"'El og plugin hybrid'!K8&\" - Samlet udledning i tons CO2e\"","v":"PRODUKT 4 EL - Samlet udledning i tons CO2e"},{"$f":"'El og plugin hybrid'!M8&\" - Samfundsøkonomiske omkostninger (kr.)\"","v":"PRODUKT 5 EL - Samfundsøkonomiske omkostninger (kr.)"},{"$f":"'El og plugin hybrid'!M8&\" - Samlet udledning i tons CO2e\"","v":"PRODUKT 5 EL - Samlet udledning i tons CO2e"},{"$f":"'El og plugin hybrid'!O8&\" - Samfundsøkonomiske omkostninger (kr.)\"","v":"PRODUKT 6 EL - Samfundsøkonomiske omkostninger (kr.)"},{"$f":"'El og plugin hybrid'!O8&\" - Samlet udledning i tons CO2e\"","v":"PRODUKT 6 EL - Samlet udledning i tons CO2e"},{"$f":"'El og plugin hybrid'!Q8&\" - Samfundsøkonomiske omkostninger (kr.)\"","v":"PRODUKT 7 EL - Samfundsøkonomiske omkostninger (kr.)"},{"$f":"'El og plugin hybrid'!Q8&\" - Samlet udledning i tons CO2e\"","v":"PRODUKT 7 EL - Samlet udledning i tons CO2e"},{"$f":"'El og plugin hybrid'!S8&\" - Samfundsøkonomiske omkostninger (kr.)\"","v":"PRODUKT 8 EL - Samfundsøkonomiske omkostninger (kr.)"},{"$f":"'El og plugin hybrid'!S8&\" - Samlet udledning i tons CO2e\"","v":"PRODUKT 8 EL - Samlet udledning i tons CO2e"},{"$f":"'El og plugin hybrid'!U8&\" - Samfundsøkonomiske omkostninger (kr.)\"","v":"PRODUKT 9 EL - Samfundsøkonomiske omkostninger (kr.)"},{"$f":"'El og plugin hybrid'!U8&\" - Samlet udledning i tons CO2e\"","v":"PRODUKT 9 EL - Samlet udledning i tons CO2e"},{"$f":"'El og plugin hybrid'!W8&\" - Samfundsøkonomiske omkostninger (kr.)\"","v":"PRODUKT 10 EL - Samfundsøkonomiske omkostninger (kr.)"},{"$f":"'El og plugin hybrid'!W8&\" - Samlet udledning i tons CO2e\"","v":"PRODUKT 10 EL - Samlet udledning i tons CO2e"}]
[null,1,{"$f":"B187","v":1},null,{"$f":"F187*IF('El og plugin hybrid'!E$31=\"nej\",0,IF('El og plugin hybrid'!E$39=\"ja\",'El og plugin hybrid'!E$40,'El og plugin hybrid'!E$41))*(1+'El og plugin hybrid'!E$52)^-$C187","v":0},{"$f":"IF('El og plugin hybrid'!E$11=\"el\",IF('El og plugin hybrid'!E$33=\"Nej\",0,E119),IF('El og plugin hybrid'!E$11=\"plugin hybrid benzin\",IF('El og plugin hybrid'!E$33=\"Nej\",0,E119)+E142,IF('El og plugin hybrid'!E$11=\"plugin hybrid diesel\",IF('El og plugin hybrid'!E$33=\"Nej\",0,E119)+E165,0)))","v":0},{"$f":"H187*IF('El og plugin hybrid'!G$31=\"nej\",0,IF('El og plugin hybrid'!G$39=\"ja\",'El og plugin hybrid'!G$40,'El og plugin hybrid'!G$41))*(1+'El og plugin hybrid'!G$52)^-$C187","v":0},{"$f":"IF('El og plugin hybrid'!G$11=\"el\",IF('El og plugin hybrid'!G$33=\"Nej\",0,G119),IF('El og plugin hybrid'!G$11=\"plugin hybrid benzin\",IF('El og plugin hybrid'!G$33=\"Nej\",0,G119)+G142,IF('El og plugin hybrid'!G$11=\"plugin hybrid diesel\",IF('El og plugin hybrid'!G$33=\"Nej\",0,G119)+G165,0)))","v":0},{"$f":"J187*IF('El og plugin hybrid'!I$31=\"nej\",0,IF('El og plugin hybrid'!I$39=\"ja\",'El og plugin hybrid'!I$40,'El og plugin hybrid'!I$41))*(1+'El og plugin hybrid'!I$52)^-$C187","v":0},{"$f":"IF('El og plugin hybrid'!I$11=\"el\",IF('El og plugin hybrid'!I$33=\"Nej\",0,I119),IF('El og plugin hybrid'!I$11=\"plugin hybrid benzin\",IF('El og plugin hybrid'!I$33=\"Nej\",0,I119)+I142,IF('El og plugin hybrid'!I$11=\"plugin hybrid diesel\",IF('El og plugin hybrid'!I$33=\"Nej\",0,I119)+I165,0)))","v":0},{"$f":"L187*IF('El og plugin hybrid'!K$31=\"nej\",0,IF('El og plugin hybrid'!K$39=\"ja\",'El og plugin hybrid'!K$40,'El og plugin hybrid'!K$41))*(1+'El og plugin hybrid'!K$52)^-$C187","v":0},{"$f":"IF('El og plugin hybrid'!K$11=\"el\",IF('El og plugin hybrid'!K$33=\"Nej\",0,K119),IF('El og plugin hybrid'!K$11=\"plugin hybrid benzin\",IF('El og plugin hybrid'!K$33=\"Nej\",0,K119)+K142,IF('El og plugin hybrid'!K$11=\"plugin hybrid diesel\",IF('El og plugin hybrid'!K$33=\"Nej\",0,K119)+K165,0)))","v":0},{"$f":"N187*IF('El og plugin hybrid'!M$31=\"nej\",0,IF('El og plugin hybrid'!M$39=\"ja\",'El og plugin hybrid'!M$40,'El og plugin hybrid'!M$41))*(1+'El og plugin hybrid'!M$52)^-$C187","v":0},{"$f":"IF('El og plugin hybrid'!M$11=\"el\",IF('El og plugin hybrid'!M$33=\"Nej\",0,M119),IF('El og plugin hybrid'!M$11=\"plugin hybrid benzin\",IF('El og plugin hybrid'!M$33=\"Nej\",0,M119)+M142,IF('El og plugin hybrid'!M$11=\"plugin hybrid diesel\",IF('El og plugin hybrid'!M$33=\"Nej\",0,M119)+M165,0)))","v":0},{"$f":"P187*IF('El og plugin hybrid'!O$31=\"nej\",0,IF('El og plugin hybrid'!O$39=\"ja\",'El og plugin hybrid'!O$40,'El og plugin hybrid'!O$41))*(1+'El og plugin hybrid'!O$52)^-$C187","v":0},{"$f":"IF('El og plugin hybrid'!O$11=\"el\",IF('El og plugin hybrid'!O$33=\"Nej\",0,O119),IF('El og plugin hybrid'!O$11=\"plugin hybrid benzin\",IF('El og plugin hybrid'!O$33=\"Nej\",0,O119)+O142,IF('El og plugin hybrid'!O$11=\"plugin hybrid diesel\",IF('El og plugin hybrid'!O$33=\"Nej\",0,O119)+O165,0)))","v":0},{"$f":"R187*IF('El og plugin hybrid'!Q$31=\"nej\",0,IF('El og plugin hybrid'!Q$39=\"ja\",'El og plugin hybrid'!Q$40,'El og plugin hybrid'!Q$41))*(1+'El og plugin hybrid'!Q$52)^-$C187","v":0},{"$f":"IF('El og plugin hybrid'!Q$11=\"el\",IF('El og plugin hybrid'!Q$33=\"Nej\",0,Q119),IF('El og plugin hybrid'!Q$11=\"plugin hybrid benzin\",IF('El og plugin hybrid'!Q$33=\"Nej\",0,Q119)+Q142,IF('El og plugin hybrid'!Q$11=\"plugin hybrid diesel\",IF('El og plugin hybrid'!Q$33=\"Nej\",0,Q119)+Q165,0)))","v":0},{"$f":"T187*IF('El og plugin hybrid'!S$31=\"nej\",0,IF('El og plugin hybrid'!S$39=\"ja\",'El og plugin hybrid'!S$40,'El og plugin hybrid'!S$41))*(1+'El og plugin hybrid'!S$52)^-$C187","v":0},{"$f":"IF('El og plugin hybrid'!S$11=\"el\",IF('El og plugin hybrid'!S$33=\"Nej\",0,S119),IF('El og plugin hybrid'!S$11=\"plugin hybrid benzin\",IF('El og plugin hybrid'!S$33=\"Nej\",0,S119)+S142,IF('El og plugin hybrid'!S$11=\"plugin hybrid diesel\",IF('El og plugin hybrid'!S$33=\"Nej\",0,S119)+S165,0)))","v":0},{"$f":"V187*IF('El og plugin hybrid'!U$31=\"nej\",0,IF('El og plugin hybrid'!U$39=\"ja\",'El og plugin hybrid'!U$40,'El og plugin hybrid'!U$41))*(1+'El og plugin hybrid'!U$52)^-$C187","v":0},{"$f":"IF('El og plugin hybrid'!U$11=\"el\",IF('El og plugin hybrid'!U$33=\"Nej\",0,U119),IF('El og plugin hybrid'!U$11=\"plugin hybrid benzin\",IF('El og plugin hybrid'!U$33=\"Nej\",0,U119)+U142,IF('El og plugin hybrid'!U$11=\"plugin hybrid diesel\",IF('El og plugin hybrid'!U$33=\"Nej\",0,U119)+U165,0)))","v":0},{"$f":"X187*IF('El og plugin hybrid'!W$31=\"nej\",0,IF('El og plugin hybrid'!W$39=\"ja\",'El og plugin hybrid'!W$40,'El og plugin hybrid'!W$41))*(1+'El og plugin hybrid'!W$52)^-$C187","v":0},{"$f":"IF('El og plugin hybrid'!W$11=\"el\",IF('El og plugin hybrid'!W$33=\"Nej\",0,W119),IF('El og plugin hybrid'!W$11=\"plugin hybrid benzin\",IF('El og plugin hybrid'!W$33=\"Nej\",0,W119)+W142,IF('El og plugin hybrid'!W$11=\"plugin hybrid diesel\",IF('El og plugin hybrid'!W$33=\"Nej\",0,W119)+W165,0)))","v":0}]
[null,2,{"$f":"B188","v":2},null,{"$f":"F188*IF('El og plugin hybrid'!E$31=\"nej\",0,IF('El og plugin hybrid'!E$39=\"ja\",'El og plugin hybrid'!E$40,'El og plugin hybrid'!E$41))*(1+'El og plugin hybrid'!E$52)^-$C188","v":0},{"$f":"IF('El og plugin hybrid'!E$11=\"el\",IF('El og plugin hybrid'!E$33=\"Nej\",0,E120),IF('El og plugin hybrid'!E$11=\"plugin hybrid benzin\",IF('El og plugin hybrid'!E$33=\"Nej\",0,E120)+E143,IF('El og plugin hybrid'!E$11=\"plugin hybrid diesel\",IF('El og plugin hybrid'!E$33=\"Nej\",0,E120)+E166,0)))","v":0},{"$f":"H188*IF('El og plugin hybrid'!G$31=\"nej\",0,IF('El og plugin hybrid'!G$39=\"ja\",'El og plugin hybrid'!G$40,'El og plugin hybrid'!G$41))*(1+'El og plugin hybrid'!G$52)^-$C188","v":0},{"$f":"IF('El og plugin hybrid'!G$11=\"el\",IF('El og plugin hybrid'!G$33=\"Nej\",0,G120),IF('El og plugin hybrid'!G$11=\"plugin hybrid benzin\",IF('El og plugin hybrid'!G$33=\"Nej\",0,G120)+G143,IF('El og plugin hybrid'!G$11=\"plugin hybrid diesel\",IF('El og plugin hybrid'!G$33=\"Nej\",0,G120)+G166,0)))","v":0},{"$f":"J188*IF('El og plugin hybrid'!I$31=\"nej\",0,IF('El og plugin hybrid'!I$39=\"ja\",'El og plugin hybrid'!I$40,'El og plugin hybrid'!I$41))*(1+'El og plugin hybrid'!I$52)^-$C188","v":0},{"$f":"IF('El og plugin hybrid'!I$11=\"el\",IF('El og plugin hybrid'!I$33=\"Nej\",0,I120),IF('El og plugin hybrid'!I$11=\"plugin hybrid benzin\",IF('El og plugin hybrid'!I$33=\"Nej\",0,I120)+I143,IF('El og plugin hybrid'!I$11=\"plugin hybrid diesel\",IF('El og plugin hybrid'!I$33=\"Nej\",0,I120)+I166,0)))","v":0},{"$f":"L188*IF('El og plugin hybrid'!K$31=\"nej\",0,IF('El og plugin hybrid'!K$39=\"ja\",'El og plugin hybrid'!K$40,'El og plugin hybrid'!K$41))*(1+'El og plugin hybrid'!K$52)^-$C188","v":0},{"$f":"IF('El og plugin hybrid'!K$11=\"el\",IF('El og plugin hybrid'!K$33=\"Nej\",0,K120),IF('El og plugin hybrid'!K$11=\"plugin hybrid benzin\",IF('El og plugin hybrid'!K$33=\"Nej\",0,K120)+K143,IF('El og plugin hybrid'!K$11=\"plugin hybrid diesel\",IF('El og plugin hybrid'!K$33=\"Nej\",0,K120)+K166,0)))","v":0},{"$f":"N188*IF('El og plugin hybrid'!M$31=\"nej\",0,IF('El og plugin hybrid'!M$39=\"ja\",'El og plugin hybrid'!M$40,'El og plugin hybrid'!M$41))*(1+'El og plugin hybrid'!M$52)^-$C188","v":0},{"$f":"IF('El og plugin hybrid'!M$11=\"el\",IF('El og plugin hybrid'!M$33=\"Nej\",0,M120),IF('El og plugin hybrid'!M$11=\"plugin hybrid benzin\",IF('El og plugin hybrid'!M$33=\"Nej\",0,M120)+M143,IF('El og plugin hybrid'!M$11=\"plugin hybrid diesel\",IF('El og plugin hybrid'!M$33=\"Nej\",0,M120)+M166,0)))","v":0},{"$f":"P188*IF('El og plugin hybrid'!O$31=\"nej\",0,IF('El og plugin hybrid'!O$39=\"ja\",'El og plugin hybrid'!O$40,'El og plugin hybrid'!O$41))*(1+'El og plugin hybrid'!O$52)^-$C188","v":0},{"$f":"IF('El og plugin hybrid'!O$11=\"el\",IF('El og plugin hybrid'!O$33=\"Nej\",0,O120),IF('El og plugin hybrid'!O$11=\"plugin hybrid benzin\",IF('El og plugin hybrid'!O$33=\"Nej\",0,O120)+O143,IF('El og plugin hybrid'!O$11=\"plugin hybrid diesel\",IF('El og plugin hybrid'!O$33=\"Nej\",0,O120)+O166,0)))","v":0},{"$f":"R188*IF('El og plugin hybrid'!Q$31=\"nej\",0,IF('El og plugin hybrid'!Q$39=\"ja\",'El og plugin hybrid'!Q$40,'El og plugin hybrid'!Q$41))*(1+'El og plugin hybrid'!Q$52)^-$C188","v":0},{"$f":"IF('El og plugin hybrid'!Q$11=\"el\",IF('El og plugin hybrid'!Q$33=\"Nej\",0,Q120),IF('El og plugin hybrid'!Q$11=\"plugin hybrid benzin\",IF('El og plugin hybrid'!Q$33=\"Nej\",0,Q120)+Q143,IF('El og plugin hybrid'!Q$11=\"plugin hybrid diesel\",IF('El og plugin hybrid'!Q$33=\"Nej\",0,Q120)+Q166,0)))","v":0},{"$f":"T188*IF('El og plugin hybrid'!S$31=\"nej\",0,IF('El og plugin hybrid'!S$39=\"ja\",'El og plugin hybrid'!S$40,'El og plugin hybrid'!S$41))*(1+'El og plugin hybrid'!S$52)^-$C188","v":0},{"$f":"IF('El og plugin hybrid'!S$11=\"el\",IF('El og plugin hybrid'!S$33=\"Nej\",0,S120),IF('El og plugin hybrid'!S$11=\"plugin hybrid benzin\",IF('El og plugin hybrid'!S$33=\"Nej\",0,S120)+S143,IF('El og plugin hybrid'!S$11=\"plugin hybrid diesel\",IF('El og plugin hybrid'!S$33=\"Nej\",0,S120)+S166,0)))","v":0},{"$f":"V188*IF('El og plugin hybrid'!U$31=\"nej\",0,IF('El og plugin hybrid'!U$39=\"ja\",'El og plugin hybrid'!U$40,'El og plugin hybrid'!U$41))*(1+'El og plugin hybrid'!U$52)^-$C188","v":0},{"$f":"IF('El og plugin hybrid'!U$11=\"el\",IF('El og plugin hybrid'!U$33=\"Nej\",0,U120),IF('El og plugin hybrid'!U$11=\"plugin hybrid benzin\",IF('El og plugin hybrid'!U$33=\"Nej\",0,U120)+U143,IF('El og plugin hybrid'!U$11=\"plugin hybrid diesel\",IF('El og plugin hybrid'!U$33=\"Nej\",0,U120)+U166,0)))","v":0},{"$f":"X188*IF('El og plugin hybrid'!W$31=\"nej\",0,IF('El og plugin hybrid'!W$39=\"ja\",'El og plugin hybrid'!W$40,'El og plugin hybrid'!W$41))*(1+'El og plugin hybrid'!W$52)^-$C188","v":0},{"$f":"IF('El og plugin hybrid'!W$11=\"el\",IF('El og plugin hybrid'!W$33=\"Nej\",0,W120),IF('El og plugin hybrid'!W$11=\"plugin hybrid benzin\",IF('El og plugin hybrid'!W$33=\"Nej\",0,W120)+W143,IF('El og plugin hybrid'!W$11=\"plugin hybrid diesel\",IF('El og plugin hybrid'!W$33=\"Nej\",0,W120)+W166,0)))","v":0}]
[null,3,3,null,{"$f":"F189*IF('El og plugin hybrid'!E$31=\"nej\",0,IF('El og plugin hybrid'!E$39=\"ja\",'El og plugin hybrid'!E$40,'El og plugin hybrid'!E$41))*(1+'El og plugin hybrid'!E$52)^-$C189","v":0},{"$f":"IF('El og plugin hybrid'!E$11=\"el\",IF('El og plugin hybrid'!E$33=\"Nej\",0,E121),IF('El og plugin hybrid'!E$11=\"plugin hybrid benzin\",IF('El og plugin hybrid'!E$33=\"Nej\",0,E121)+E144,IF('El og plugin hybrid'!E$11=\"plugin hybrid diesel\",IF('El og plugin hybrid'!E$33=\"Nej\",0,E121)+E167,0)))","v":0},{"$f":"H189*IF('El og plugin hybrid'!G$31=\"nej\",0,IF('El og plugin hybrid'!G$39=\"ja\",'El og plugin hybrid'!G$40,'El og plugin hybrid'!G$41))*(1+'El og plugin hybrid'!G$52)^-$C189","v":0},{"$f":"IF('El og plugin hybrid'!G$11=\"el\",IF('El og plugin hybrid'!G$33=\"Nej\",0,G121),IF('El og plugin hybrid'!G$11=\"plugin hybrid benzin\",IF('El og plugin hybrid'!G$33=\"Nej\",0,G121)+G144,IF('El og plugin hybrid'!G$11=\"plugin hybrid diesel\",IF('El og plugin hybrid'!G$33=\"Nej\",0,G121)+G167,0)))","v":0},{"$f":"J189*IF('El og plugin hybrid'!I$31=\"nej\",0,IF('El og plugin hybrid'!I$39=\"ja\",'El og plugin hybrid'!I$40,'El og plugin hybrid'!I$41))*(1+'El og plugin hybrid'!I$52)^-$C189","v":0},{"$f":"IF('El og plugin hybrid'!I$11=\"el\",IF('El og plugin hybrid'!I$33=\"Nej\",0,I121),IF('El og plugin hybrid'!I$11=\"plugin hybrid benzin\",IF('El og plugin hybrid'!I$33=\"Nej\",0,I121)+I144,IF('El og plugin hybrid'!I$11=\"plugin hybrid diesel\",IF('El og plugin hybrid'!I$33=\"Nej\",0,I121)+I167,0)))","v":0},{"$f":"L189*IF('El og plugin hybrid'!K$31=\"nej\",0,IF('El og plugin hybrid'!K$39=\"ja\",'El og plugin hybrid'!K$40,'El og plugin hybrid'!K$41))*(1+'El og plugin hybrid'!K$52)^-$C189","v":0},{"$f":"IF('El og plugin hybrid'!K$11=\"el\",IF('El og plugin hybrid'!K$33=\"Nej\",0,K121),IF('El og plugin hybrid'!K$11=\"plugin hybrid benzin\",IF('El og plugin hybrid'!K$33=\"Nej\",0,K121)+K144,IF('El og plugin hybrid'!K$11=\"plugin hybrid diesel\",IF('El og plugin hybrid'!K$33=\"Nej\",0,K121)+K167,0)))","v":0},{"$f":"N189*IF('El og plugin hybrid'!M$31=\"nej\",0,IF('El og plugin hybrid'!M$39=\"ja\",'El og plugin hybrid'!M$40,'El og plugin hybrid'!M$41))*(1+'El og plugin hybrid'!M$52)^-$C189","v":0},{"$f":"IF('El og plugin hybrid'!M$11=\"el\",IF('El og plugin hybrid'!M$33=\"Nej\",0,M121),IF('El og plugin hybrid'!M$11=\"plugin hybrid benzin\",IF('El og plugin hybrid'!M$33=\"Nej\",0,M121)+M144,IF('El og plugin hybrid'!M$11=\"plugin hybrid diesel\",IF('El og plugin hybrid'!M$33=\"Nej\",0,M121)+M167,0)))","v":0},{"$f":"P189*IF('El og plugin hybrid'!O$31=\"nej\",0,IF('El og plugin hybrid'!O$39=\"ja\",'El og plugin hybrid'!O$40,'El og plugin hybrid'!O$41))*(1+'El og plugin hybrid'!O$52)^-$C189","v":0},{"$f":"IF('El og plugin hybrid'!O$11=\"el\",IF('El og plugin hybrid'!O$33=\"Nej\",0,O121),IF('El og plugin hybrid'!O$11=\"plugin hybrid benzin\",IF('El og plugin hybrid'!O$33=\"Nej\",0,O121)+O144,IF('El og plugin hybrid'!O$11=\"plugin hybrid diesel\",IF('El og plugin hybrid'!O$33=\"Nej\",0,O121)+O167,0)))","v":0},{"$f":"R189*IF('El og plugin hybrid'!Q$31=\"nej\",0,IF('El og plugin hybrid'!Q$39=\"ja\",'El og plugin hybrid'!Q$40,'El og plugin hybrid'!Q$41))*(1+'El og plugin hybrid'!Q$52)^-$C189","v":0},{"$f":"IF('El og plugin hybrid'!Q$11=\"el\",IF('El og plugin hybrid'!Q$33=\"Nej\",0,Q121),IF('El og plugin hybrid'!Q$11=\"plugin hybrid benzin\",IF('El og plugin hybrid'!Q$33=\"Nej\",0,Q121)+Q144,IF('El og plugin hybrid'!Q$11=\"plugin hybrid diesel\",IF('El og plugin hybrid'!Q$33=\"Nej\",0,Q121)+Q167,0)))","v":0},{"$f":"T189*IF('El og plugin hybrid'!S$31=\"nej\",0,IF('El og plugin hybrid'!S$39=\"ja\",'El og plugin hybrid'!S$40,'El og plugin hybrid'!S$41))*(1+'El og plugin hybrid'!S$52)^-$C189","v":0},{"$f":"IF('El og plugin hybrid'!S$11=\"el\",IF('El og plugin hybrid'!S$33=\"Nej\",0,S121),IF('El og plugin hybrid'!S$11=\"plugin hybrid benzin\",IF('El og plugin hybrid'!S$33=\"Nej\",0,S121)+S144,IF('El og plugin hybrid'!S$11=\"plugin hybrid diesel\",IF('El og plugin hybrid'!S$33=\"Nej\",0,S121)+S167,0)))","v":0},{"$f":"V189*IF('El og plugin hybrid'!U$31=\"nej\",0,IF('El og plugin hybrid'!U$39=\"ja\",'El og plugin hybrid'!U$40,'El og plugin hybrid'!U$41))*(1+'El og plugin hybrid'!U$52)^-$C189","v":0},{"$f":"IF('El og plugin hybrid'!U$11=\"el\",IF('El og plugin hybrid'!U$33=\"Nej\",0,U121),IF('El og plugin hybrid'!U$11=\"plugin hybrid benzin\",IF('El og plugin hybrid'!U$33=\"Nej\",0,U121)+U144,IF('El og plugin hybrid'!U$11=\"plugin hybrid diesel\",IF('El og plugin hybrid'!U$33=\"Nej\",0,U121)+U167,0)))","v":0},{"$f":"X189*IF('El og plugin hybrid'!W$31=\"nej\",0,IF('El og plugin hybrid'!W$39=\"ja\",'El og plugin hybrid'!W$40,'El og plugin hybrid'!W$41))*(1+'El og plugin hybrid'!W$52)^-$C189","v":0},{"$f":"IF('El og plugin hybrid'!W$11=\"el\",IF('El og plugin hybrid'!W$33=\"Nej\",0,W121),IF('El og plugin hybrid'!W$11=\"plugin hybrid benzin\",IF('El og plugin hybrid'!W$33=\"Nej\",0,W121)+W144,IF('El og plugin hybrid'!W$11=\"plugin hybrid diesel\",IF('El og plugin hybrid'!W$33=\"Nej\",0,W121)+W167,0)))","v":0}]
[null,4,4,null,{"$f":"F190*IF('El og plugin hybrid'!E$31=\"nej\",0,IF('El og plugin hybrid'!E$39=\"ja\",'El og plugin hybrid'!E$40,'El og plugin hybrid'!E$41))*(1+'El og plugin hybrid'!E$52)^-$C190","v":0},{"$f":"IF('El og plugin hybrid'!E$11=\"el\",IF('El og plugin hybrid'!E$33=\"Nej\",0,E122),IF('El og plugin hybrid'!E$11=\"plugin hybrid benzin\",IF('El og plugin hybrid'!E$33=\"Nej\",0,E122)+E145,IF('El og plugin hybrid'!E$11=\"plugin hybrid diesel\",IF('El og plugin hybrid'!E$33=\"Nej\",0,E122)+E168,0)))","v":0},{"$f":"H190*IF('El og plugin hybrid'!G$31=\"nej\",0,IF('El og plugin hybrid'!G$39=\"ja\",'El og plugin hybrid'!G$40,'El og plugin hybrid'!G$41))*(1+'El og plugin hybrid'!G$52)^-$C190","v":0},{"$f":"IF('El og plugin hybrid'!G$11=\"el\",IF('El og plugin hybrid'!G$33=\"Nej\",0,G122),IF('El og plugin hybrid'!G$11=\"plugin hybrid benzin\",IF('El og plugin hybrid'!G$33=\"Nej\",0,G122)+G145,IF('El og plugin hybrid'!G$11=\"plugin hybrid diesel\",IF('El og plugin hybrid'!G$33=\"Nej\",0,G122)+G168,0)))","v":0},{"$f":"J190*IF('El og plugin hybrid'!I$31=\"nej\",0,IF('El og plugin hybrid'!I$39=\"ja\",'El og plugin hybrid'!I$40,'El og plugin hybrid'!I$41))*(1+'El og plugin hybrid'!I$52)^-$C190","v":0},{"$f":"IF('El og plugin hybrid'!I$11=\"el\",IF('El og plugin hybrid'!I$33=\"Nej\",0,I122),IF('El og plugin hybrid'!I$11=\"plugin hybrid benzin\",IF('El og plugin hybrid'!I$33=\"Nej\",0,I122)+I145,IF('El og plugin hybrid'!I$11=\"plugin hybrid diesel\",IF('El og plugin hybrid'!I$33=\"Nej\",0,I122)+I168,0)))","v":0},{"$f":"L190*IF('El og plugin hybrid'!K$31=\"nej\",0,IF('El og plugin hybrid'!K$39=\"ja\",'El og plugin hybrid'!K$40,'El og plugin hybrid'!K$41))*(1+'El og plugin hybrid'!K$52)^-$C190","v":0},{"$f":"IF('El og plugin hybrid'!K$11=\"el\",IF('El og plugin hybrid'!K$33=\"Nej\",0,K122),IF('El og plugin hybrid'!K$11=\"plugin hybrid benzin\",IF('El og plugin hybrid'!K$33=\"Nej\",0,K122)+K145,IF('El og plugin hybrid'!K$11=\"plugin hybrid diesel\",IF('El og plugin hybrid'!K$33=\"Nej\",0,K122)+K168,0)))","v":0},{"$f":"N190*IF('El og plugin hybrid'!M$31=\"nej\",0,IF('El og plugin hybrid'!M$39=\"ja\",'El og plugin hybrid'!M$40,'El og plugin hybrid'!M$41))*(1+'El og plugin hybrid'!M$52)^-$C190","v":0},{"$f":"IF('El og plugin hybrid'!M$11=\"el\",IF('El og plugin hybrid'!M$33=\"Nej\",0,M122),IF('El og plugin hybrid'!M$11=\"plugin hybrid benzin\",IF('El og plugin hybrid'!M$33=\"Nej\",0,M122)+M145,IF('El og plugin hybrid'!M$11=\"plugin hybrid diesel\",IF('El og plugin hybrid'!M$33=\"Nej\",0,M122)+M168,0)))","v":0},{"$f":"P190*IF('El og plugin hybrid'!O$31=\"nej\",0,IF('El og plugin hybrid'!O$39=\"ja\",'El og plugin hybrid'!O$40,'El og plugin hybrid'!O$41))*(1+'El og plugin hybrid'!O$52)^-$C190","v":0},{"$f":"IF('El og plugin hybrid'!O$11=\"el\",IF('El og plugin hybrid'!O$33=\"Nej\",0,O122),IF('El og plugin hybrid'!O$11=\"plugin hybrid benzin\",IF('El og plugin hybrid'!O$33=\"Nej\",0,O122)+O145,IF('El og plugin hybrid'!O$11=\"plugin hybrid diesel\",IF('El og plugin hybrid'!O$33=\"Nej\",0,O122)+O168,0)))","v":0},{"$f":"R190*IF('El og plugin hybrid'!Q$31=\"nej\",0,IF('El og plugin hybrid'!Q$39=\"ja\",'El og plugin hybrid'!Q$40,'El og plugin hybrid'!Q$41))*(1+'El og plugin hybrid'!Q$52)^-$C190","v":0},{"$f":"IF('El og plugin hybrid'!Q$11=\"el\",IF('El og plugin hybrid'!Q$33=\"Nej\",0,Q122),IF('El og plugin hybrid'!Q$11=\"plugin hybrid benzin\",IF('El og plugin hybrid'!Q$33=\"Nej\",0,Q122)+Q145,IF('El og plugin hybrid'!Q$11=\"plugin hybrid diesel\",IF('El og plugin hybrid'!Q$33=\"Nej\",0,Q122)+Q168,0)))","v":0},{"$f":"T190*IF('El og plugin hybrid'!S$31=\"nej\",0,IF('El og plugin hybrid'!S$39=\"ja\",'El og plugin hybrid'!S$40,'El og plugin hybrid'!S$41))*(1+'El og plugin hybrid'!S$52)^-$C190","v":0},{"$f":"IF('El og plugin hybrid'!S$11=\"el\",IF('El og plugin hybrid'!S$33=\"Nej\",0,S122),IF('El og plugin hybrid'!S$11=\"plugin hybrid benzin\",IF('El og plugin hybrid'!S$33=\"Nej\",0,S122)+S145,IF('El og plugin hybrid'!S$11=\"plugin hybrid diesel\",IF('El og plugin hybrid'!S$33=\"Nej\",0,S122)+S168,0)))","v":0},{"$f":"V190*IF('El og plugin hybrid'!U$31=\"nej\",0,IF('El og plugin hybrid'!U$39=\"ja\",'El og plugin hybrid'!U$40,'El og plugin hybrid'!U$41))*(1+'El og plugin hybrid'!U$52)^-$C190","v":0},{"$f":"IF('El og plugin hybrid'!U$11=\"el\",IF('El og plugin hybrid'!U$33=\"Nej\",0,U122),IF('El og plugin hybrid'!U$11=\"plugin hybrid benzin\",IF('El og plugin hybrid'!U$33=\"Nej\",0,U122)+U145,IF('El og plugin hybrid'!U$11=\"plugin hybrid diesel\",IF('El og plugin hybrid'!U$33=\"Nej\",0,U122)+U168,0)))","v":0},{"$f":"X190*IF('El og plugin hybrid'!W$31=\"nej\",0,IF('El og plugin hybrid'!W$39=\"ja\",'El og plugin hybrid'!W$40,'El og plugin hybrid'!W$41))*(1+'El og plugin hybrid'!W$52)^-$C190","v":0},{"$f":"IF('El og plugin hybrid'!W$11=\"el\",IF('El og plugin hybrid'!W$33=\"Nej\",0,W122),IF('El og plugin hybrid'!W$11=\"plugin hybrid benzin\",IF('El og plugin hybrid'!W$33=\"Nej\",0,W122)+W145,IF('El og plugin hybrid'!W$11=\"plugin hybrid diesel\",IF('El og plugin hybrid'!W$33=\"Nej\",0,W122)+W168,0)))","v":0}]
[null,5,5,null,{"$f":"F191*IF('El og plugin hybrid'!E$31=\"nej\",0,IF('El og plugin hybrid'!E$39=\"ja\",'El og plugin hybrid'!E$40,'El og plugin hybrid'!E$41))*(1+'El og plugin hybrid'!E$52)^-$C191","v":0},{"$f":"IF('El og plugin hybrid'!E$11=\"el\",IF('El og plugin hybrid'!E$33=\"Nej\",0,E123),IF('El og plugin hybrid'!E$11=\"plugin hybrid benzin\",IF('El og plugin hybrid'!E$33=\"Nej\",0,E123)+E146,IF('El og plugin hybrid'!E$11=\"plugin hybrid diesel\",IF('El og plugin hybrid'!E$33=\"Nej\",0,E123)+E169,0)))","v":0},{"$f":"H191*IF('El og plugin hybrid'!G$31=\"nej\",0,IF('El og plugin hybrid'!G$39=\"ja\",'El og plugin hybrid'!G$40,'El og plugin hybrid'!G$41))*(1+'El og plugin hybrid'!G$52)^-$C191","v":0},{"$f":"IF('El og plugin hybrid'!G$11=\"el\",IF('El og plugin hybrid'!G$33=\"Nej\",0,G123),IF('El og plugin hybrid'!G$11=\"plugin hybrid benzin\",IF('El og plugin hybrid'!G$33=\"Nej\",0,G123)+G146,IF('El og plugin hybrid'!G$11=\"plugin hybrid diesel\",IF('El og plugin hybrid'!G$33=\"Nej\",0,G123)+G169,0)))","v":0},{"$f":"J191*IF('El og plugin hybrid'!I$31=\"nej\",0,IF('El og plugin hybrid'!I$39=\"ja\",'El og plugin hybrid'!I$40,'El og plugin hybrid'!I$41))*(1+'El og plugin hybrid'!I$52)^-$C191","v":0},{"$f":"IF('El og plugin hybrid'!I$11=\"el\",IF('El og plugin hybrid'!I$33=\"Nej\",0,I123),IF('El og plugin hybrid'!I$11=\"plugin hybrid benzin\",IF('El og plugin hybrid'!I$33=\"Nej\",0,I123)+I146,IF('El og plugin hybrid'!I$11=\"plugin hybrid diesel\",IF('El og plugin hybrid'!I$33=\"Nej\",0,I123)+I169,0)))","v":0},{"$f":"L191*IF('El og plugin hybrid'!K$31=\"nej\",0,IF('El og plugin hybrid'!K$39=\"ja\",'El og plugin hybrid'!K$40,'El og plugin hybrid'!K$41))*(1+'El og plugin hybrid'!K$52)^-$C191","v":0},{"$f":"IF('El og plugin hybrid'!K$11=\"el\",IF('El og plugin hybrid'!K$33=\"Nej\",0,K123),IF('El og plugin hybrid'!K$11=\"plugin hybrid benzin\",IF('El og plugin hybrid'!K$33=\"Nej\",0,K123)+K146,IF('El og plugin hybrid'!K$11=\"plugin hybrid diesel\",IF('El og plugin hybrid'!K$33=\"Nej\",0,K123)+K169,0)))","v":0},{"$f":"N191*IF('El og plugin hybrid'!M$31=\"nej\",0,IF('El og plugin hybrid'!M$39=\"ja\",'El og plugin hybrid'!M$40,'El og plugin hybrid'!M$41))*(1+'El og plugin hybrid'!M$52)^-$C191","v":0},{"$f":"IF('El og plugin hybrid'!M$11=\"el\",IF('El og plugin hybrid'!M$33=\"Nej\",0,M123),IF('El og plugin hybrid'!M$11=\"plugin hybrid benzin\",IF('El og plugin hybrid'!M$33=\"Nej\",0,M123)+M146,IF('El og plugin hybrid'!M$11=\"plugin hybrid diesel\",IF('El og plugin hybrid'!M$33=\"Nej\",0,M123)+M169,0)))","v":0},{"$f":"P191*IF('El og plugin hybrid'!O$31=\"nej\",0,IF('El og plugin hybrid'!O$39=\"ja\",'El og plugin hybrid'!O$40,'El og plugin hybrid'!O$41))*(1+'El og plugin hybrid'!O$52)^-$C191","v":0},{"$f":"IF('El og plugin hybrid'!O$11=\"el\",IF('El og plugin hybrid'!O$33=\"Nej\",0,O123),IF('El og plugin hybrid'!O$11=\"plugin hybrid benzin\",IF('El og plugin hybrid'!O$33=\"Nej\",0,O123)+O146,IF('El og plugin hybrid'!O$11=\"plugin hybrid diesel\",IF('El og plugin hybrid'!O$33=\"Nej\",0,O123)+O169,0)))","v":0},{"$f":"R191*IF('El og plugin hybrid'!Q$31=\"nej\",0,IF('El og plugin hybrid'!Q$39=\"ja\",'El og plugin hybrid'!Q$40,'El og plugin hybrid'!Q$41))*(1+'El og plugin hybrid'!Q$52)^-$C191","v":0},{"$f":"IF('El og plugin hybrid'!Q$11=\"el\",IF('El og plugin hybrid'!Q$33=\"Nej\",0,Q123),IF('El og plugin hybrid'!Q$11=\"plugin hybrid benzin\",IF('El og plugin hybrid'!Q$33=\"Nej\",0,Q123)+Q146,IF('El og plugin hybrid'!Q$11=\"plugin hybrid diesel\",IF('El og plugin hybrid'!Q$33=\"Nej\",0,Q123)+Q169,0)))","v":0},{"$f":"T191*IF('El og plugin hybrid'!S$31=\"nej\",0,IF('El og plugin hybrid'!S$39=\"ja\",'El og plugin hybrid'!S$40,'El og plugin hybrid'!S$41))*(1+'El og plugin hybrid'!S$52)^-$C191","v":0},{"$f":"IF('El og plugin hybrid'!S$11=\"el\",IF('El og plugin hybrid'!S$33=\"Nej\",0,S123),IF('El og plugin hybrid'!S$11=\"plugin hybrid benzin\",IF('El og plugin hybrid'!S$33=\"Nej\",0,S123)+S146,IF('El og plugin hybrid'!S$11=\"plugin hybrid diesel\",IF('El og plugin hybrid'!S$33=\"Nej\",0,S123)+S169,0)))","v":0},{"$f":"V191*IF('El og plugin hybrid'!U$31=\"nej\",0,IF('El og plugin hybrid'!U$39=\"ja\",'El og plugin hybrid'!U$40,'El og plugin hybrid'!U$41))*(1+'El og plugin hybrid'!U$52)^-$C191","v":0},{"$f":"IF('El og plugin hybrid'!U$11=\"el\",IF('El og plugin hybrid'!U$33=\"Nej\",0,U123),IF('El og plugin hybrid'!U$11=\"plugin hybrid benzin\",IF('El og plugin hybrid'!U$33=\"Nej\",0,U123)+U146,IF('El og plugin hybrid'!U$11=\"plugin hybrid diesel\",IF('El og plugin hybrid'!U$33=\"Nej\",0,U123)+U169,0)))","v":0},{"$f":"X191*IF('El og plugin hybrid'!W$31=\"nej\",0,IF('El og plugin hybrid'!W$39=\"ja\",'El og plugin hybrid'!W$40,'El og plugin hybrid'!W$41))*(1+'El og plugin hybrid'!W$52)^-$C191","v":0},{"$f":"IF('El og plugin hybrid'!W$11=\"el\",IF('El og plugin hybrid'!W$33=\"Nej\",0,W123),IF('El og plugin hybrid'!W$11=\"plugin hybrid benzin\",IF('El og plugin hybrid'!W$33=\"Nej\",0,W123)+W146,IF('El og plugin hybrid'!W$11=\"plugin hybrid diesel\",IF('El og plugin hybrid'!W$33=\"Nej\",0,W123)+W169,0)))","v":0}]
[null,6,6,null,{"$f":"F192*IF('El og plugin hybrid'!E$31=\"nej\",0,IF('El og plugin hybrid'!E$39=\"ja\",'El og plugin hybrid'!E$40,'El og plugin hybrid'!E$41))*(1+'El og plugin hybrid'!E$52)^-$C192","v":0},{"$f":"IF('El og plugin hybrid'!E$11=\"el\",IF('El og plugin hybrid'!E$33=\"Nej\",0,E124),IF('El og plugin hybrid'!E$11=\"plugin hybrid benzin\",IF('El og plugin hybrid'!E$33=\"Nej\",0,E124)+E147,IF('El og plugin hybrid'!E$11=\"plugin hybrid diesel\",IF('El og plugin hybrid'!E$33=\"Nej\",0,E124)+E170,0)))","v":0},{"$f":"H192*IF('El og plugin hybrid'!G$31=\"nej\",0,IF('El og plugin hybrid'!G$39=\"ja\",'El og plugin hybrid'!G$40,'El og plugin hybrid'!G$41))*(1+'El og plugin hybrid'!G$52)^-$C192","v":0},{"$f":"IF('El og plugin hybrid'!G$11=\"el\",IF('El og plugin hybrid'!G$33=\"Nej\",0,G124),IF('El og plugin hybrid'!G$11=\"plugin hybrid benzin\",IF('El og plugin hybrid'!G$33=\"Nej\",0,G124)+G147,IF('El og plugin hybrid'!G$11=\"plugin hybrid diesel\",IF('El og plugin hybrid'!G$33=\"Nej\",0,G124)+G170,0)))","v":0},{"$f":"J192*IF('El og plugin hybrid'!I$31=\"nej\",0,IF('El og plugin hybrid'!I$39=\"ja\",'El og plugin hybrid'!I$40,'El og plugin hybrid'!I$41))*(1+'El og plugin hybrid'!I$52)^-$C192","v":0},{"$f":"IF('El og plugin hybrid'!I$11=\"el\",IF('El og plugin hybrid'!I$33=\"Nej\",0,I124),IF('El og plugin hybrid'!I$11=\"plugin hybrid benzin\",IF('El og plugin hybrid'!I$33=\"Nej\",0,I124)+I147,IF('El og plugin hybrid'!I$11=\"plugin hybrid diesel\",IF('El og plugin hybrid'!I$33=\"Nej\",0,I124)+I170,0)))","v":0},{"$f":"L192*IF('El og plugin hybrid'!K$31=\"nej\",0,IF('El og plugin hybrid'!K$39=\"ja\",'El og plugin hybrid'!K$40,'El og plugin hybrid'!K$41))*(1+'El og plugin hybrid'!K$52)^-$C192","v":0},{"$f":"IF('El og plugin hybrid'!K$11=\"el\",IF('El og plugin hybrid'!K$33=\"Nej\",0,K124),IF('El og plugin hybrid'!K$11=\"plugin hybrid benzin\",IF('El og plugin hybrid'!K$33=\"Nej\",0,K124)+K147,IF('El og plugin hybrid'!K$11=\"plugin hybrid diesel\",IF('El og plugin hybrid'!K$33=\"Nej\",0,K124)+K170,0)))","v":0},{"$f":"N192*IF('El og plugin hybrid'!M$31=\"nej\",0,IF('El og plugin hybrid'!M$39=\"ja\",'El og plugin hybrid'!M$40,'El og plugin hybrid'!M$41))*(1+'El og plugin hybrid'!M$52)^-$C192","v":0},{"$f":"IF('El og plugin hybrid'!M$11=\"el\",IF('El og plugin hybrid'!M$33=\"Nej\",0,M124),IF('El og plugin hybrid'!M$11=\"plugin hybrid benzin\",IF('El og plugin hybrid'!M$33=\"Nej\",0,M124)+M147,IF('El og plugin hybrid'!M$11=\"plugin hybrid diesel\",IF('El og plugin hybrid'!M$33=\"Nej\",0,M124)+M170,0)))","v":0},{"$f":"P192*IF('El og plugin hybrid'!O$31=\"nej\",0,IF('El og plugin hybrid'!O$39=\"ja\",'El og plugin hybrid'!O$40,'El og plugin hybrid'!O$41))*(1+'El og plugin hybrid'!O$52)^-$C192","v":0},{"$f":"IF('El og plugin hybrid'!O$11=\"el\",IF('El og plugin hybrid'!O$33=\"Nej\",0,O124),IF('El og plugin hybrid'!O$11=\"plugin hybrid benzin\",IF('El og plugin hybrid'!O$33=\"Nej\",0,O124)+O147,IF('El og plugin hybrid'!O$11=\"plugin hybrid diesel\",IF('El og plugin hybrid'!O$33=\"Nej\",0,O124)+O170,0)))","v":0},{"$f":"R192*IF('El og plugin hybrid'!Q$31=\"nej\",0,IF('El og plugin hybrid'!Q$39=\"ja\",'El og plugin hybrid'!Q$40,'El og plugin hybrid'!Q$41))*(1+'El og plugin hybrid'!Q$52)^-$C192","v":0},{"$f":"IF('El og plugin hybrid'!Q$11=\"el\",IF('El og plugin hybrid'!Q$33=\"Nej\",0,Q124),IF('El og plugin hybrid'!Q$11=\"plugin hybrid benzin\",IF('El og plugin hybrid'!Q$33=\"Nej\",0,Q124)+Q147,IF('El og plugin hybrid'!Q$11=\"plugin hybrid diesel\",IF('El og plugin hybrid'!Q$33=\"Nej\",0,Q124)+Q170,0)))","v":0},{"$f":"T192*IF('El og plugin hybrid'!S$31=\"nej\",0,IF('El og plugin hybrid'!S$39=\"ja\",'El og plugin hybrid'!S$40,'El og plugin hybrid'!S$41))*(1+'El og plugin hybrid'!S$52)^-$C192","v":0},{"$f":"IF('El og plugin hybrid'!S$11=\"el\",IF('El og plugin hybrid'!S$33=\"Nej\",0,S124),IF('El og plugin hybrid'!S$11=\"plugin hybrid benzin\",IF('El og plugin hybrid'!S$33=\"Nej\",0,S124)+S147,IF('El og plugin hybrid'!S$11=\"plugin hybrid diesel\",IF('El og plugin hybrid'!S$33=\"Nej\",0,S124)+S170,0)))","v":0},{"$f":"V192*IF('El og plugin hybrid'!U$31=\"nej\",0,IF('El og plugin hybrid'!U$39=\"ja\",'El og plugin hybrid'!U$40,'El og plugin hybrid'!U$41))*(1+'El og plugin hybrid'!U$52)^-$C192","v":0},{"$f":"IF('El og plugin hybrid'!U$11=\"el\",IF('El og plugin hybrid'!U$33=\"Nej\",0,U124),IF('El og plugin hybrid'!U$11=\"plugin hybrid benzin\",IF('El og plugin hybrid'!U$33=\"Nej\",0,U124)+U147,IF('El og plugin hybrid'!U$11=\"plugin hybrid diesel\",IF('El og plugin hybrid'!U$33=\"Nej\",0,U124)+U170,0)))","v":0},{"$f":"X192*IF('El og plugin hybrid'!W$31=\"nej\",0,IF('El og plugin hybrid'!W$39=\"ja\",'El og plugin hybrid'!W$40,'El og plugin hybrid'!W$41))*(1+'El og plugin hybrid'!W$52)^-$C192","v":0},{"$f":"IF('El og plugin hybrid'!W$11=\"el\",IF('El og plugin hybrid'!W$33=\"Nej\",0,W124),IF('El og plugin hybrid'!W$11=\"plugin hybrid benzin\",IF('El og plugin hybrid'!W$33=\"Nej\",0,W124)+W147,IF('El og plugin hybrid'!W$11=\"plugin hybrid diesel\",IF('El og plugin hybrid'!W$33=\"Nej\",0,W124)+W170,0)))","v":0}]
[null,7,7,null,{"$f":"F193*IF('El og plugin hybrid'!E$31=\"nej\",0,IF('El og plugin hybrid'!E$39=\"ja\",'El og plugin hybrid'!E$40,'El og plugin hybrid'!E$41))*(1+'El og plugin hybrid'!E$52)^-$C193","v":0},{"$f":"IF('El og plugin hybrid'!E$11=\"el\",IF('El og plugin hybrid'!E$33=\"Nej\",0,E125),IF('El og plugin hybrid'!E$11=\"plugin hybrid benzin\",IF('El og plugin hybrid'!E$33=\"Nej\",0,E125)+E148,IF('El og plugin hybrid'!E$11=\"plugin hybrid diesel\",IF('El og plugin hybrid'!E$33=\"Nej\",0,E125)+E171,0)))","v":0},{"$f":"H193*IF('El og plugin hybrid'!G$31=\"nej\",0,IF('El og plugin hybrid'!G$39=\"ja\",'El og plugin hybrid'!G$40,'El og plugin hybrid'!G$41))*(1+'El og plugin hybrid'!G$52)^-$C193","v":0},{"$f":"IF('El og plugin hybrid'!G$11=\"el\",IF('El og plugin hybrid'!G$33=\"Nej\",0,G125),IF('El og plugin hybrid'!G$11=\"plugin hybrid benzin\",IF('El og plugin hybrid'!G$33=\"Nej\",0,G125)+G148,IF('El og plugin hybrid'!G$11=\"plugin hybrid diesel\",IF('El og plugin hybrid'!G$33=\"Nej\",0,G125)+G171,0)))","v":0},{"$f":"J193*IF('El og plugin hybrid'!I$31=\"nej\",0,IF('El og plugin hybrid'!I$39=\"ja\",'El og plugin hybrid'!I$40,'El og plugin hybrid'!I$41))*(1+'El og plugin hybrid'!I$52)^-$C193","v":0},{"$f":"IF('El og plugin hybrid'!I$11=\"el\",IF('El og plugin hybrid'!I$33=\"Nej\",0,I125),IF('El og plugin hybrid'!I$11=\"plugin hybrid benzin\",IF('El og plugin hybrid'!I$33=\"Nej\",0,I125)+I148,IF('El og plugin hybrid'!I$11=\"plugin hybrid diesel\",IF('El og plugin hybrid'!I$33=\"Nej\",0,I125)+I171,0)))","v":0},{"$f":"L193*IF('El og plugin hybrid'!K$31=\"nej\",0,IF('El og plugin hybrid'!K$39=\"ja\",'El og plugin hybrid'!K$40,'El og plugin hybrid'!K$41))*(1+'El og plugin hybrid'!K$52)^-$C193","v":0},{"$f":"IF('El og plugin hybrid'!K$11=\"el\",IF('El og plugin hybrid'!K$33=\"Nej\",0,K125),IF('El og plugin hybrid'!K$11=\"plugin hybrid benzin\",IF('El og plugin hybrid'!K$33=\"Nej\",0,K125)+K148,IF('El og plugin hybrid'!K$11=\"plugin hybrid diesel\",IF('El og plugin hybrid'!K$33=\"Nej\",0,K125)+K171,0)))","v":0},{"$f":"N193*IF('El og plugin hybrid'!M$31=\"nej\",0,IF('El og plugin hybrid'!M$39=\"ja\",'El og plugin hybrid'!M$40,'El og plugin hybrid'!M$41))*(1+'El og plugin hybrid'!M$52)^-$C193","v":0},{"$f":"IF('El og plugin hybrid'!M$11=\"el\",IF('El og plugin hybrid'!M$33=\"Nej\",0,M125),IF('El og plugin hybrid'!M$11=\"plugin hybrid benzin\",IF('El og plugin hybrid'!M$33=\"Nej\",0,M125)+M148,IF('El og plugin hybrid'!M$11=\"plugin hybrid diesel\",IF('El og plugin hybrid'!M$33=\"Nej\",0,M125)+M171,0)))","v":0},{"$f":"P193*IF('El og plugin hybrid'!O$31=\"nej\",0,IF('El og plugin hybrid'!O$39=\"ja\",'El og plugin hybrid'!O$40,'El og plugin hybrid'!O$41))*(1+'El og plugin hybrid'!O$52)^-$C193","v":0},{"$f":"IF('El og plugin hybrid'!O$11=\"el\",IF('El og plugin hybrid'!O$33=\"Nej\",0,O125),IF('El og plugin hybrid'!O$11=\"plugin hybrid benzin\",IF('El og plugin hybrid'!O$33=\"Nej\",0,O125)+O148,IF('El og plugin hybrid'!O$11=\"plugin hybrid diesel\",IF('El og plugin hybrid'!O$33=\"Nej\",0,O125)+O171,0)))","v":0},{"$f":"R193*IF('El og plugin hybrid'!Q$31=\"nej\",0,IF('El og plugin hybrid'!Q$39=\"ja\",'El og plugin hybrid'!Q$40,'El og plugin hybrid'!Q$41))*(1+'El og plugin hybrid'!Q$52)^-$C193","v":0},{"$f":"IF('El og plugin hybrid'!Q$11=\"el\",IF('El og plugin hybrid'!Q$33=\"Nej\",0,Q125),IF('El og plugin hybrid'!Q$11=\"plugin hybrid benzin\",IF('El og plugin hybrid'!Q$33=\"Nej\",0,Q125)+Q148,IF('El og plugin hybrid'!Q$11=\"plugin hybrid diesel\",IF('El og plugin hybrid'!Q$33=\"Nej\",0,Q125)+Q171,0)))","v":0},{"$f":"T193*IF('El og plugin hybrid'!S$31=\"nej\",0,IF('El og plugin hybrid'!S$39=\"ja\",'El og plugin hybrid'!S$40,'El og plugin hybrid'!S$41))*(1+'El og plugin hybrid'!S$52)^-$C193","v":0},{"$f":"IF('El og plugin hybrid'!S$11=\"el\",IF('El og plugin hybrid'!S$33=\"Nej\",0,S125),IF('El og plugin hybrid'!S$11=\"plugin hybrid benzin\",IF('El og plugin hybrid'!S$33=\"Nej\",0,S125)+S148,IF('El og plugin hybrid'!S$11=\"plugin hybrid diesel\",IF('El og plugin hybrid'!S$33=\"Nej\",0,S125)+S171,0)))","v":0},{"$f":"V193*IF('El og plugin hybrid'!U$31=\"nej\",0,IF('El og plugin hybrid'!U$39=\"ja\",'El og plugin hybrid'!U$40,'El og plugin hybrid'!U$41))*(1+'El og plugin hybrid'!U$52)^-$C193","v":0},{"$f":"IF('El og plugin hybrid'!U$11=\"el\",IF('El og plugin hybrid'!U$33=\"Nej\",0,U125),IF('El og plugin hybrid'!U$11=\"plugin hybrid benzin\",IF('El og plugin hybrid'!U$33=\"Nej\",0,U125)+U148,IF('El og plugin hybrid'!U$11=\"plugin hybrid diesel\",IF('El og plugin hybrid'!U$33=\"Nej\",0,U125)+U171,0)))","v":0},{"$f":"X193*IF('El og plugin hybrid'!W$31=\"nej\",0,IF('El og plugin hybrid'!W$39=\"ja\",'El og plugin hybrid'!W$40,'El og plugin hybrid'!W$41))*(1+'El og plugin hybrid'!W$52)^-$C193","v":0},{"$f":"IF('El og plugin hybrid'!W$11=\"el\",IF('El og plugin hybrid'!W$33=\"Nej\",0,W125),IF('El og plugin hybrid'!W$11=\"plugin hybrid benzin\",IF('El og plugin hybrid'!W$33=\"Nej\",0,W125)+W148,IF('El og plugin hybrid'!W$11=\"plugin hybrid diesel\",IF('El og plugin hybrid'!W$33=\"Nej\",0,W125)+W171,0)))","v":0}]
[null,8,8,null,{"$f":"F194*IF('El og plugin hybrid'!E$31=\"nej\",0,IF('El og plugin hybrid'!E$39=\"ja\",'El og plugin hybrid'!E$40,'El og plugin hybrid'!E$41))*(1+'El og plugin hybrid'!E$52)^-$C194","v":0},{"$f":"IF('El og plugin hybrid'!E$11=\"el\",IF('El og plugin hybrid'!E$33=\"Nej\",0,E126),IF('El og plugin hybrid'!E$11=\"plugin hybrid benzin\",IF('El og plugin hybrid'!E$33=\"Nej\",0,E126)+E149,IF('El og plugin hybrid'!E$11=\"plugin hybrid diesel\",IF('El og plugin hybrid'!E$33=\"Nej\",0,E126)+E172,0)))","v":0},{"$f":"H194*IF('El og plugin hybrid'!G$31=\"nej\",0,IF('El og plugin hybrid'!G$39=\"ja\",'El og plugin hybrid'!G$40,'El og plugin hybrid'!G$41))*(1+'El og plugin hybrid'!G$52)^-$C194","v":0},{"$f":"IF('El og plugin hybrid'!G$11=\"el\",IF('El og plugin hybrid'!G$33=\"Nej\",0,G126),IF('El og plugin hybrid'!G$11=\"plugin hybrid benzin\",IF('El og plugin hybrid'!G$33=\"Nej\",0,G126)+G149,IF('El og plugin hybrid'!G$11=\"plugin hybrid diesel\",IF('El og plugin hybrid'!G$33=\"Nej\",0,G126)+G172,0)))","v":0},{"$f":"J194*IF('El og plugin hybrid'!I$31=\"nej\",0,IF('El og plugin hybrid'!I$39=\"ja\",'El og plugin hybrid'!I$40,'El og plugin hybrid'!I$41))*(1+'El og plugin hybrid'!I$52)^-$C194","v":0},{"$f":"IF('El og plugin hybrid'!I$11=\"el\",IF('El og plugin hybrid'!I$33=\"Nej\",0,I126),IF('El og plugin hybrid'!I$11=\"plugin hybrid benzin\",IF('El og plugin hybrid'!I$33=\"Nej\",0,I126)+I149,IF('El og plugin hybrid'!I$11=\"plugin hybrid diesel\",IF('El og plugin hybrid'!I$33=\"Nej\",0,I126)+I172,0)))","v":0},{"$f":"L194*IF('El og plugin hybrid'!K$31=\"nej\",0,IF('El og plugin hybrid'!K$39=\"ja\",'El og plugin hybrid'!K$40,'El og plugin hybrid'!K$41))*(1+'El og plugin hybrid'!K$52)^-$C194","v":0},{"$f":"IF('El og plugin hybrid'!K$11=\"el\",IF('El og plugin hybrid'!K$33=\"Nej\",0,K126),IF('El og plugin hybrid'!K$11=\"plugin hybrid benzin\",IF('El og plugin hybrid'!K$33=\"Nej\",0,K126)+K149,IF('El og plugin hybrid'!K$11=\"plugin hybrid diesel\",IF('El og plugin hybrid'!K$33=\"Nej\",0,K126)+K172,0)))","v":0},{"$f":"N194*IF('El og plugin hybrid'!M$31=\"nej\",0,IF('El og plugin hybrid'!M$39=\"ja\",'El og plugin hybrid'!M$40,'El og plugin hybrid'!M$41))*(1+'El og plugin hybrid'!M$52)^-$C194","v":0},{"$f":"IF('El og plugin hybrid'!M$11=\"el\",IF('El og plugin hybrid'!M$33=\"Nej\",0,M126),IF('El og plugin hybrid'!M$11=\"plugin hybrid benzin\",IF('El og plugin hybrid'!M$33=\"Nej\",0,M126)+M149,IF('El og plugin hybrid'!M$11=\"plugin hybrid diesel\",IF('El og plugin hybrid'!M$33=\"Nej\",0,M126)+M172,0)))","v":0},{"$f":"P194*IF('El og plugin hybrid'!O$31=\"nej\",0,IF('El og plugin hybrid'!O$39=\"ja\",'El og plugin hybrid'!O$40,'El og plugin hybrid'!O$41))*(1+'El og plugin hybrid'!O$52)^-$C194","v":0},{"$f":"IF('El og plugin hybrid'!O$11=\"el\",IF('El og plugin hybrid'!O$33=\"Nej\",0,O126),IF('El og plugin hybrid'!O$11=\"plugin hybrid benzin\",IF('El og plugin hybrid'!O$33=\"Nej\",0,O126)+O149,IF('El og plugin hybrid'!O$11=\"plugin hybrid diesel\",IF('El og plugin hybrid'!O$33=\"Nej\",0,O126)+O172,0)))","v":0},{"$f":"R194*IF('El og plugin hybrid'!Q$31=\"nej\",0,IF('El og plugin hybrid'!Q$39=\"ja\",'El og plugin hybrid'!Q$40,'El og plugin hybrid'!Q$41))*(1+'El og plugin hybrid'!Q$52)^-$C194","v":0},{"$f":"IF('El og plugin hybrid'!Q$11=\"el\",IF('El og plugin hybrid'!Q$33=\"Nej\",0,Q126),IF('El og plugin hybrid'!Q$11=\"plugin hybrid benzin\",IF('El og plugin hybrid'!Q$33=\"Nej\",0,Q126)+Q149,IF('El og plugin hybrid'!Q$11=\"plugin hybrid diesel\",IF('El og plugin hybrid'!Q$33=\"Nej\",0,Q126)+Q172,0)))","v":0},{"$f":"T194*IF('El og plugin hybrid'!S$31=\"nej\",0,IF('El og plugin hybrid'!S$39=\"ja\",'El og plugin hybrid'!S$40,'El og plugin hybrid'!S$41))*(1+'El og plugin hybrid'!S$52)^-$C194","v":0},{"$f":"IF('El og plugin hybrid'!S$11=\"el\",IF('El og plugin hybrid'!S$33=\"Nej\",0,S126),IF('El og plugin hybrid'!S$11=\"plugin hybrid benzin\",IF('El og plugin hybrid'!S$33=\"Nej\",0,S126)+S149,IF('El og plugin hybrid'!S$11=\"plugin hybrid diesel\",IF('El og plugin hybrid'!S$33=\"Nej\",0,S126)+S172,0)))","v":0},{"$f":"V194*IF('El og plugin hybrid'!U$31=\"nej\",0,IF('El og plugin hybrid'!U$39=\"ja\",'El og plugin hybrid'!U$40,'El og plugin hybrid'!U$41))*(1+'El og plugin hybrid'!U$52)^-$C194","v":0},{"$f":"IF('El og plugin hybrid'!U$11=\"el\",IF('El og plugin hybrid'!U$33=\"Nej\",0,U126),IF('El og plugin hybrid'!U$11=\"plugin hybrid benzin\",IF('El og plugin hybrid'!U$33=\"Nej\",0,U126)+U149,IF('El og plugin hybrid'!U$11=\"plugin hybrid diesel\",IF('El og plugin hybrid'!U$33=\"Nej\",0,U126)+U172,0)))","v":0},{"$f":"X194*IF('El og plugin hybrid'!W$31=\"nej\",0,IF('El og plugin hybrid'!W$39=\"ja\",'El og plugin hybrid'!W$40,'El og plugin hybrid'!W$41))*(1+'El og plugin hybrid'!W$52)^-$C194","v":0},{"$f":"IF('El og plugin hybrid'!W$11=\"el\",IF('El og plugin hybrid'!W$33=\"Nej\",0,W126),IF('El og plugin hybrid'!W$11=\"plugin hybrid benzin\",IF('El og plugin hybrid'!W$33=\"Nej\",0,W126)+W149,IF('El og plugin hybrid'!W$11=\"plugin hybrid diesel\",IF('El og plugin hybrid'!W$33=\"Nej\",0,W126)+W172,0)))","v":0}]
[null,9,9,null,{"$f":"F195*IF('El og plugin hybrid'!E$31=\"nej\",0,IF('El og plugin hybrid'!E$39=\"ja\",'El og plugin hybrid'!E$40,'El og plugin hybrid'!E$41))*(1+'El og plugin hybrid'!E$52)^-$C195","v":0},{"$f":"IF('El og plugin hybrid'!E$11=\"el\",IF('El og plugin hybrid'!E$33=\"Nej\",0,E127),IF('El og plugin hybrid'!E$11=\"plugin hybrid benzin\",IF('El og plugin hybrid'!E$33=\"Nej\",0,E127)+E150,IF('El og plugin hybrid'!E$11=\"plugin hybrid diesel\",IF('El og plugin hybrid'!E$33=\"Nej\",0,E127)+E173,0)))","v":0},{"$f":"H195*IF('El og plugin hybrid'!G$31=\"nej\",0,IF('El og plugin hybrid'!G$39=\"ja\",'El og plugin hybrid'!G$40,'El og plugin hybrid'!G$41))*(1+'El og plugin hybrid'!G$52)^-$C195","v":0},{"$f":"IF('El og plugin hybrid'!G$11=\"el\",IF('El og plugin hybrid'!G$33=\"Nej\",0,G127),IF('El og plugin hybrid'!G$11=\"plugin hybrid benzin\",IF('El og plugin hybrid'!G$33=\"Nej\",0,G127)+G150,IF('El og plugin hybrid'!G$11=\"plugin hybrid diesel\",IF('El og plugin hybrid'!G$33=\"Nej\",0,G127)+G173,0)))","v":0},{"$f":"J195*IF('El og plugin hybrid'!I$31=\"nej\",0,IF('El og plugin hybrid'!I$39=\"ja\",'El og plugin hybrid'!I$40,'El og plugin hybrid'!I$41))*(1+'El og plugin hybrid'!I$52)^-$C195","v":0},{"$f":"IF('El og plugin hybrid'!I$11=\"el\",IF('El og plugin hybrid'!I$33=\"Nej\",0,I127),IF('El og plugin hybrid'!I$11=\"plugin hybrid benzin\",IF('El og plugin hybrid'!I$33=\"Nej\",0,I127)+I150,IF('El og plugin hybrid'!I$11=\"plugin hybrid diesel\",IF('El og plugin hybrid'!I$33=\"Nej\",0,I127)+I173,0)))","v":0},{"$f":"L195*IF('El og plugin hybrid'!K$31=\"nej\",0,IF('El og plugin hybrid'!K$39=\"ja\",'El og plugin hybrid'!K$40,'El og plugin hybrid'!K$41))*(1+'El og plugin hybrid'!K$52)^-$C195","v":0},{"$f":"IF('El og plugin hybrid'!K$11=\"el\",IF('El og plugin hybrid'!K$33=\"Nej\",0,K127),IF('El og plugin hybrid'!K$11=\"plugin hybrid benzin\",IF('El og plugin hybrid'!K$33=\"Nej\",0,K127)+K150,IF('El og plugin hybrid'!K$11=\"plugin hybrid diesel\",IF('El og plugin hybrid'!K$33=\"Nej\",0,K127)+K173,0)))","v":0},{"$f":"N195*IF('El og plugin hybrid'!M$31=\"nej\",0,IF('El og plugin hybrid'!M$39=\"ja\",'El og plugin hybrid'!M$40,'El og plugin hybrid'!M$41))*(1+'El og plugin hybrid'!M$52)^-$C195","v":0},{"$f":"IF('El og plugin hybrid'!M$11=\"el\",IF('El og plugin hybrid'!M$33=\"Nej\",0,M127),IF('El og plugin hybrid'!M$11=\"plugin hybrid benzin\",IF('El og plugin hybrid'!M$33=\"Nej\",0,M127)+M150,IF('El og plugin hybrid'!M$11=\"plugin hybrid diesel\",IF('El og plugin hybrid'!M$33=\"Nej\",0,M127)+M173,0)))","v":0},{"$f":"P195*IF('El og plugin hybrid'!O$31=\"nej\",0,IF('El og plugin hybrid'!O$39=\"ja\",'El og plugin hybrid'!O$40,'El og plugin hybrid'!O$41))*(1+'El og plugin hybrid'!O$52)^-$C195","v":0},{"$f":"IF('El og plugin hybrid'!O$11=\"el\",IF('El og plugin hybrid'!O$33=\"Nej\",0,O127),IF('El og plugin hybrid'!O$11=\"plugin hybrid benzin\",IF('El og plugin hybrid'!O$33=\"Nej\",0,O127)+O150,IF('El og plugin hybrid'!O$11=\"plugin hybrid diesel\",IF('El og plugin hybrid'!O$33=\"Nej\",0,O127)+O173,0)))","v":0},{"$f":"R195*IF('El og plugin hybrid'!Q$31=\"nej\",0,IF('El og plugin hybrid'!Q$39=\"ja\",'El og plugin hybrid'!Q$40,'El og plugin hybrid'!Q$41))*(1+'El og plugin hybrid'!Q$52)^-$C195","v":0},{"$f":"IF('El og plugin hybrid'!Q$11=\"el\",IF('El og plugin hybrid'!Q$33=\"Nej\",0,Q127),IF('El og plugin hybrid'!Q$11=\"plugin hybrid benzin\",IF('El og plugin hybrid'!Q$33=\"Nej\",0,Q127)+Q150,IF('El og plugin hybrid'!Q$11=\"plugin hybrid diesel\",IF('El og plugin hybrid'!Q$33=\"Nej\",0,Q127)+Q173,0)))","v":0},{"$f":"T195*IF('El og plugin hybrid'!S$31=\"nej\",0,IF('El og plugin hybrid'!S$39=\"ja\",'El og plugin hybrid'!S$40,'El og plugin hybrid'!S$41))*(1+'El og plugin hybrid'!S$52)^-$C195","v":0},{"$f":"IF('El og plugin hybrid'!S$11=\"el\",IF('El og plugin hybrid'!S$33=\"Nej\",0,S127),IF('El og plugin hybrid'!S$11=\"plugin hybrid benzin\",IF('El og plugin hybrid'!S$33=\"Nej\",0,S127)+S150,IF('El og plugin hybrid'!S$11=\"plugin hybrid diesel\",IF('El og plugin hybrid'!S$33=\"Nej\",0,S127)+S173,0)))","v":0},{"$f":"V195*IF('El og plugin hybrid'!U$31=\"nej\",0,IF('El og plugin hybrid'!U$39=\"ja\",'El og plugin hybrid'!U$40,'El og plugin hybrid'!U$41))*(1+'El og plugin hybrid'!U$52)^-$C195","v":0},{"$f":"IF('El og plugin hybrid'!U$11=\"el\",IF('El og plugin hybrid'!U$33=\"Nej\",0,U127),IF('El og plugin hybrid'!U$11=\"plugin hybrid benzin\",IF('El og plugin hybrid'!U$33=\"Nej\",0,U127)+U150,IF('El og plugin hybrid'!U$11=\"plugin hybrid diesel\",IF('El og plugin hybrid'!U$33=\"Nej\",0,U127)+U173,0)))","v":0},{"$f":"X195*IF('El og plugin hybrid'!W$31=\"nej\",0,IF('El og plugin hybrid'!W$39=\"ja\",'El og plugin hybrid'!W$40,'El og plugin hybrid'!W$41))*(1+'El og plugin hybrid'!W$52)^-$C195","v":0},{"$f":"IF('El og plugin hybrid'!W$11=\"el\",IF('El og plugin hybrid'!W$33=\"Nej\",0,W127),IF('El og plugin hybrid'!W$11=\"plugin hybrid benzin\",IF('El og plugin hybrid'!W$33=\"Nej\",0,W127)+W150,IF('El og plugin hybrid'!W$11=\"plugin hybrid diesel\",IF('El og plugin hybrid'!W$33=\"Nej\",0,W127)+W173,0)))","v":0}]
[null,10,10,null,{"$f":"F196*IF('El og plugin hybrid'!E$31=\"nej\",0,IF('El og plugin hybrid'!E$39=\"ja\",'El og plugin hybrid'!E$40,'El og plugin hybrid'!E$41))*(1+'El og plugin hybrid'!E$52)^-$C196","v":0},{"$f":"IF('El og plugin hybrid'!E$11=\"el\",IF('El og plugin hybrid'!E$33=\"Nej\",0,E128),IF('El og plugin hybrid'!E$11=\"plugin hybrid benzin\",IF('El og plugin hybrid'!E$33=\"Nej\",0,E128)+E151,IF('El og plugin hybrid'!E$11=\"plugin hybrid diesel\",IF('El og plugin hybrid'!E$33=\"Nej\",0,E128)+E174,0)))","v":0},{"$f":"H196*IF('El og plugin hybrid'!G$31=\"nej\",0,IF('El og plugin hybrid'!G$39=\"ja\",'El og plugin hybrid'!G$40,'El og plugin hybrid'!G$41))*(1+'El og plugin hybrid'!G$52)^-$C196","v":0},{"$f":"IF('El og plugin hybrid'!G$11=\"el\",IF('El og plugin hybrid'!G$33=\"Nej\",0,G128),IF('El og plugin hybrid'!G$11=\"plugin hybrid benzin\",IF('El og plugin hybrid'!G$33=\"Nej\",0,G128)+G151,IF('El og plugin hybrid'!G$11=\"plugin hybrid diesel\",IF('El og plugin hybrid'!G$33=\"Nej\",0,G128)+G174,0)))","v":0},{"$f":"J196*IF('El og plugin hybrid'!I$31=\"nej\",0,IF('El og plugin hybrid'!I$39=\"ja\",'El og plugin hybrid'!I$40,'El og plugin hybrid'!I$41))*(1+'El og plugin hybrid'!I$52)^-$C196","v":0},{"$f":"IF('El og plugin hybrid'!I$11=\"el\",IF('El og plugin hybrid'!I$33=\"Nej\",0,I128),IF('El og plugin hybrid'!I$11=\"plugin hybrid benzin\",IF('El og plugin hybrid'!I$33=\"Nej\",0,I128)+I151,IF('El og plugin hybrid'!I$11=\"plugin hybrid diesel\",IF('El og plugin hybrid'!I$33=\"Nej\",0,I128)+I174,0)))","v":0},{"$f":"L196*IF('El og plugin hybrid'!K$31=\"nej\",0,IF('El og plugin hybrid'!K$39=\"ja\",'El og plugin hybrid'!K$40,'El og plugin hybrid'!K$41))*(1+'El og plugin hybrid'!K$52)^-$C196","v":0},{"$f":"IF('El og plugin hybrid'!K$11=\"el\",IF('El og plugin hybrid'!K$33=\"Nej\",0,K128),IF('El og plugin hybrid'!K$11=\"plugin hybrid benzin\",IF('El og plugin hybrid'!K$33=\"Nej\",0,K128)+K151,IF('El og plugin hybrid'!K$11=\"plugin hybrid diesel\",IF('El og plugin hybrid'!K$33=\"Nej\",0,K128)+K174,0)))","v":0},{"$f":"N196*IF('El og plugin hybrid'!M$31=\"nej\",0,IF('El og plugin hybrid'!M$39=\"ja\",'El og plugin hybrid'!M$40,'El og plugin hybrid'!M$41))*(1+'El og plugin hybrid'!M$52)^-$C196","v":0},{"$f":"IF('El og plugin hybrid'!M$11=\"el\",IF('El og plugin hybrid'!M$33=\"Nej\",0,M128),IF('El og plugin hybrid'!M$11=\"plugin hybrid benzin\",IF('El og plugin hybrid'!M$33=\"Nej\",0,M128)+M151,IF('El og plugin hybrid'!M$11=\"plugin hybrid diesel\",IF('El og plugin hybrid'!M$33=\"Nej\",0,M128)+M174,0)))","v":0},{"$f":"P196*IF('El og plugin hybrid'!O$31=\"nej\",0,IF('El og plugin hybrid'!O$39=\"ja\",'El og plugin hybrid'!O$40,'El og plugin hybrid'!O$41))*(1+'El og plugin hybrid'!O$52)^-$C196","v":0},{"$f":"IF('El og plugin hybrid'!O$11=\"el\",IF('El og plugin hybrid'!O$33=\"Nej\",0,O128),IF('El og plugin hybrid'!O$11=\"plugin hybrid benzin\",IF('El og plugin hybrid'!O$33=\"Nej\",0,O128)+O151,IF('El og plugin hybrid'!O$11=\"plugin hybrid diesel\",IF('El og plugin hybrid'!O$33=\"Nej\",0,O128)+O174,0)))","v":0},{"$f":"R196*IF('El og plugin hybrid'!Q$31=\"nej\",0,IF('El og plugin hybrid'!Q$39=\"ja\",'El og plugin hybrid'!Q$40,'El og plugin hybrid'!Q$41))*(1+'El og plugin hybrid'!Q$52)^-$C196","v":0},{"$f":"IF('El og plugin hybrid'!Q$11=\"el\",IF('El og plugin hybrid'!Q$33=\"Nej\",0,Q128),IF('El og plugin hybrid'!Q$11=\"plugin hybrid benzin\",IF('El og plugin hybrid'!Q$33=\"Nej\",0,Q128)+Q151,IF('El og plugin hybrid'!Q$11=\"plugin hybrid diesel\",IF('El og plugin hybrid'!Q$33=\"Nej\",0,Q128)+Q174,0)))","v":0},{"$f":"T196*IF('El og plugin hybrid'!S$31=\"nej\",0,IF('El og plugin hybrid'!S$39=\"ja\",'El og plugin hybrid'!S$40,'El og plugin hybrid'!S$41))*(1+'El og plugin hybrid'!S$52)^-$C196","v":0},{"$f":"IF('El og plugin hybrid'!S$11=\"el\",IF('El og plugin hybrid'!S$33=\"Nej\",0,S128),IF('El og plugin hybrid'!S$11=\"plugin hybrid benzin\",IF('El og plugin hybrid'!S$33=\"Nej\",0,S128)+S151,IF('El og plugin hybrid'!S$11=\"plugin hybrid diesel\",IF('El og plugin hybrid'!S$33=\"Nej\",0,S128)+S174,0)))","v":0},{"$f":"V196*IF('El og plugin hybrid'!U$31=\"nej\",0,IF('El og plugin hybrid'!U$39=\"ja\",'El og plugin hybrid'!U$40,'El og plugin hybrid'!U$41))*(1+'El og plugin hybrid'!U$52)^-$C196","v":0},{"$f":"IF('El og plugin hybrid'!U$11=\"el\",IF('El og plugin hybrid'!U$33=\"Nej\",0,U128),IF('El og plugin hybrid'!U$11=\"plugin hybrid benzin\",IF('El og plugin hybrid'!U$33=\"Nej\",0,U128)+U151,IF('El og plugin hybrid'!U$11=\"plugin hybrid diesel\",IF('El og plugin hybrid'!U$33=\"Nej\",0,U128)+U174,0)))","v":0},{"$f":"X196*IF('El og plugin hybrid'!W$31=\"nej\",0,IF('El og plugin hybrid'!W$39=\"ja\",'El og plugin hybrid'!W$40,'El og plugin hybrid'!W$41))*(1+'El og plugin hybrid'!W$52)^-$C196","v":0},{"$f":"IF('El og plugin hybrid'!W$11=\"el\",IF('El og plugin hybrid'!W$33=\"Nej\",0,W128),IF('El og plugin hybrid'!W$11=\"plugin hybrid benzin\",IF('El og plugin hybrid'!W$33=\"Nej\",0,W128)+W151,IF('El og plugin hybrid'!W$11=\"plugin hybrid diesel\",IF('El og plugin hybrid'!W$33=\"Nej\",0,W128)+W174,0)))","v":0}]
[null,11,11,null,{"$f":"F197*IF('El og plugin hybrid'!E$31=\"nej\",0,IF('El og plugin hybrid'!E$39=\"ja\",'El og plugin hybrid'!E$40,'El og plugin hybrid'!E$41))*(1+'El og plugin hybrid'!E$52)^-$C197","v":0},{"$f":"IF('El og plugin hybrid'!E$11=\"el\",IF('El og plugin hybrid'!E$33=\"Nej\",0,E129),IF('El og plugin hybrid'!E$11=\"plugin hybrid benzin\",IF('El og plugin hybrid'!E$33=\"Nej\",0,E129)+E152,IF('El og plugin hybrid'!E$11=\"plugin hybrid diesel\",IF('El og plugin hybrid'!E$33=\"Nej\",0,E129)+E175,0)))","v":0},{"$f":"H197*IF('El og plugin hybrid'!G$31=\"nej\",0,IF('El og plugin hybrid'!G$39=\"ja\",'El og plugin hybrid'!G$40,'El og plugin hybrid'!G$41))*(1+'El og plugin hybrid'!G$52)^-$C197","v":0},{"$f":"IF('El og plugin hybrid'!G$11=\"el\",IF('El og plugin hybrid'!G$33=\"Nej\",0,G129),IF('El og plugin hybrid'!G$11=\"plugin hybrid benzin\",IF('El og plugin hybrid'!G$33=\"Nej\",0,G129)+G152,IF('El og plugin hybrid'!G$11=\"plugin hybrid diesel\",IF('El og plugin hybrid'!G$33=\"Nej\",0,G129)+G175,0)))","v":0},{"$f":"J197*IF('El og plugin hybrid'!I$31=\"nej\",0,IF('El og plugin hybrid'!I$39=\"ja\",'El og plugin hybrid'!I$40,'El og plugin hybrid'!I$41))*(1+'El og plugin hybrid'!I$52)^-$C197","v":0},{"$f":"IF('El og plugin hybrid'!I$11=\"el\",IF('El og plugin hybrid'!I$33=\"Nej\",0,I129),IF('El og plugin hybrid'!I$11=\"plugin hybrid benzin\",IF('El og plugin hybrid'!I$33=\"Nej\",0,I129)+I152,IF('El og plugin hybrid'!I$11=\"plugin hybrid diesel\",IF('El og plugin hybrid'!I$33=\"Nej\",0,I129)+I175,0)))","v":0},{"$f":"L197*IF('El og plugin hybrid'!K$31=\"nej\",0,IF('El og plugin hybrid'!K$39=\"ja\",'El og plugin hybrid'!K$40,'El og plugin hybrid'!K$41))*(1+'El og plugin hybrid'!K$52)^-$C197","v":0},{"$f":"IF('El og plugin hybrid'!K$11=\"el\",IF('El og plugin hybrid'!K$33=\"Nej\",0,K129),IF('El og plugin hybrid'!K$11=\"plugin hybrid benzin\",IF('El og plugin hybrid'!K$33=\"Nej\",0,K129)+K152,IF('El og plugin hybrid'!K$11=\"plugin hybrid diesel\",IF('El og plugin hybrid'!K$33=\"Nej\",0,K129)+K175,0)))","v":0},{"$f":"N197*IF('El og plugin hybrid'!M$31=\"nej\",0,IF('El og plugin hybrid'!M$39=\"ja\",'El og plugin hybrid'!M$40,'El og plugin hybrid'!M$41))*(1+'El og plugin hybrid'!M$52)^-$C197","v":0},{"$f":"IF('El og plugin hybrid'!M$11=\"el\",IF('El og plugin hybrid'!M$33=\"Nej\",0,M129),IF('El og plugin hybrid'!M$11=\"plugin hybrid benzin\",IF('El og plugin hybrid'!M$33=\"Nej\",0,M129)+M152,IF('El og plugin hybrid'!M$11=\"plugin hybrid diesel\",IF('El og plugin hybrid'!M$33=\"Nej\",0,M129)+M175,0)))","v":0},{"$f":"P197*IF('El og plugin hybrid'!O$31=\"nej\",0,IF('El og plugin hybrid'!O$39=\"ja\",'El og plugin hybrid'!O$40,'El og plugin hybrid'!O$41))*(1+'El og plugin hybrid'!O$52)^-$C197","v":0},{"$f":"IF('El og plugin hybrid'!O$11=\"el\",IF('El og plugin hybrid'!O$33=\"Nej\",0,O129),IF('El og plugin hybrid'!O$11=\"plugin hybrid benzin\",IF('El og plugin hybrid'!O$33=\"Nej\",0,O129)+O152,IF('El og plugin hybrid'!O$11=\"plugin hybrid diesel\",IF('El og plugin hybrid'!O$33=\"Nej\",0,O129)+O175,0)))","v":0},{"$f":"R197*IF('El og plugin hybrid'!Q$31=\"nej\",0,IF('El og plugin hybrid'!Q$39=\"ja\",'El og plugin hybrid'!Q$40,'El og plugin hybrid'!Q$41))*(1+'El og plugin hybrid'!Q$52)^-$C197","v":0},{"$f":"IF('El og plugin hybrid'!Q$11=\"el\",IF('El og plugin hybrid'!Q$33=\"Nej\",0,Q129),IF('El og plugin hybrid'!Q$11=\"plugin hybrid benzin\",IF('El og plugin hybrid'!Q$33=\"Nej\",0,Q129)+Q152,IF('El og plugin hybrid'!Q$11=\"plugin hybrid diesel\",IF('El og plugin hybrid'!Q$33=\"Nej\",0,Q129)+Q175,0)))","v":0},{"$f":"T197*IF('El og plugin hybrid'!S$31=\"nej\",0,IF('El og plugin hybrid'!S$39=\"ja\",'El og plugin hybrid'!S$40,'El og plugin hybrid'!S$41))*(1+'El og plugin hybrid'!S$52)^-$C197","v":0},{"$f":"IF('El og plugin hybrid'!S$11=\"el\",IF('El og plugin hybrid'!S$33=\"Nej\",0,S129),IF('El og plugin hybrid'!S$11=\"plugin hybrid benzin\",IF('El og plugin hybrid'!S$33=\"Nej\",0,S129)+S152,IF('El og plugin hybrid'!S$11=\"plugin hybrid diesel\",IF('El og plugin hybrid'!S$33=\"Nej\",0,S129)+S175,0)))","v":0},{"$f":"V197*IF('El og plugin hybrid'!U$31=\"nej\",0,IF('El og plugin hybrid'!U$39=\"ja\",'El og plugin hybrid'!U$40,'El og plugin hybrid'!U$41))*(1+'El og plugin hybrid'!U$52)^-$C197","v":0},{"$f":"IF('El og plugin hybrid'!U$11=\"el\",IF('El og plugin hybrid'!U$33=\"Nej\",0,U129),IF('El og plugin hybrid'!U$11=\"plugin hybrid benzin\",IF('El og plugin hybrid'!U$33=\"Nej\",0,U129)+U152,IF('El og plugin hybrid'!U$11=\"plugin hybrid diesel\",IF('El og plugin hybrid'!U$33=\"Nej\",0,U129)+U175,0)))","v":0},{"$f":"X197*IF('El og plugin hybrid'!W$31=\"nej\",0,IF('El og plugin hybrid'!W$39=\"ja\",'El og plugin hybrid'!W$40,'El og plugin hybrid'!W$41))*(1+'El og plugin hybrid'!W$52)^-$C197","v":0},{"$f":"IF('El og plugin hybrid'!W$11=\"el\",IF('El og plugin hybrid'!W$33=\"Nej\",0,W129),IF('El og plugin hybrid'!W$11=\"plugin hybrid benzin\",IF('El og plugin hybrid'!W$33=\"Nej\",0,W129)+W152,IF('El og plugin hybrid'!W$11=\"plugin hybrid diesel\",IF('El og plugin hybrid'!W$33=\"Nej\",0,W129)+W175,0)))","v":0}]
[null,12,12,null,{"$f":"F198*IF('El og plugin hybrid'!E$31=\"nej\",0,IF('El og plugin hybrid'!E$39=\"ja\",'El og plugin hybrid'!E$40,'El og plugin hybrid'!E$41))*(1+'El og plugin hybrid'!E$52)^-$C198","v":0},{"$f":"IF('El og plugin hybrid'!E$11=\"el\",IF('El og plugin hybrid'!E$33=\"Nej\",0,E130),IF('El og plugin hybrid'!E$11=\"plugin hybrid benzin\",IF('El og plugin hybrid'!E$33=\"Nej\",0,E130)+E153,IF('El og plugin hybrid'!E$11=\"plugin hybrid diesel\",IF('El og plugin hybrid'!E$33=\"Nej\",0,E130)+E176,0)))","v":0},{"$f":"H198*IF('El og plugin hybrid'!G$31=\"nej\",0,IF('El og plugin hybrid'!G$39=\"ja\",'El og plugin hybrid'!G$40,'El og plugin hybrid'!G$41))*(1+'El og plugin hybrid'!G$52)^-$C198","v":0},{"$f":"IF('El og plugin hybrid'!G$11=\"el\",IF('El og plugin hybrid'!G$33=\"Nej\",0,G130),IF('El og plugin hybrid'!G$11=\"plugin hybrid benzin\",IF('El og plugin hybrid'!G$33=\"Nej\",0,G130)+G153,IF('El og plugin hybrid'!G$11=\"plugin hybrid diesel\",IF('El og plugin hybrid'!G$33=\"Nej\",0,G130)+G176,0)))","v":0},{"$f":"J198*IF('El og plugin hybrid'!I$31=\"nej\",0,IF('El og plugin hybrid'!I$39=\"ja\",'El og plugin hybrid'!I$40,'El og plugin hybrid'!I$41))*(1+'El og plugin hybrid'!I$52)^-$C198","v":0},{"$f":"IF('El og plugin hybrid'!I$11=\"el\",IF('El og plugin hybrid'!I$33=\"Nej\",0,I130),IF('El og plugin hybrid'!I$11=\"plugin hybrid benzin\",IF('El og plugin hybrid'!I$33=\"Nej\",0,I130)+I153,IF('El og plugin hybrid'!I$11=\"plugin hybrid diesel\",IF('El og plugin hybrid'!I$33=\"Nej\",0,I130)+I176,0)))","v":0},{"$f":"L198*IF('El og plugin hybrid'!K$31=\"nej\",0,IF('El og plugin hybrid'!K$39=\"ja\",'El og plugin hybrid'!K$40,'El og plugin hybrid'!K$41))*(1+'El og plugin hybrid'!K$52)^-$C198","v":0},{"$f":"IF('El og plugin hybrid'!K$11=\"el\",IF('El og plugin hybrid'!K$33=\"Nej\",0,K130),IF('El og plugin hybrid'!K$11=\"plugin hybrid benzin\",IF('El og plugin hybrid'!K$33=\"Nej\",0,K130)+K153,IF('El og plugin hybrid'!K$11=\"plugin hybrid diesel\",IF('El og plugin hybrid'!K$33=\"Nej\",0,K130)+K176,0)))","v":0},{"$f":"N198*IF('El og plugin hybrid'!M$31=\"nej\",0,IF('El og plugin hybrid'!M$39=\"ja\",'El og plugin hybrid'!M$40,'El og plugin hybrid'!M$41))*(1+'El og plugin hybrid'!M$52)^-$C198","v":0},{"$f":"IF('El og plugin hybrid'!M$11=\"el\",IF('El og plugin hybrid'!M$33=\"Nej\",0,M130),IF('El og plugin hybrid'!M$11=\"plugin hybrid benzin\",IF('El og plugin hybrid'!M$33=\"Nej\",0,M130)+M153,IF('El og plugin hybrid'!M$11=\"plugin hybrid diesel\",IF('El og plugin hybrid'!M$33=\"Nej\",0,M130)+M176,0)))","v":0},{"$f":"P198*IF('El og plugin hybrid'!O$31=\"nej\",0,IF('El og plugin hybrid'!O$39=\"ja\",'El og plugin hybrid'!O$40,'El og plugin hybrid'!O$41))*(1+'El og plugin hybrid'!O$52)^-$C198","v":0},{"$f":"IF('El og plugin hybrid'!O$11=\"el\",IF('El og plugin hybrid'!O$33=\"Nej\",0,O130),IF('El og plugin hybrid'!O$11=\"plugin hybrid benzin\",IF('El og plugin hybrid'!O$33=\"Nej\",0,O130)+O153,IF('El og plugin hybrid'!O$11=\"plugin hybrid diesel\",IF('El og plugin hybrid'!O$33=\"Nej\",0,O130)+O176,0)))","v":0},{"$f":"R198*IF('El og plugin hybrid'!Q$31=\"nej\",0,IF('El og plugin hybrid'!Q$39=\"ja\",'El og plugin hybrid'!Q$40,'El og plugin hybrid'!Q$41))*(1+'El og plugin hybrid'!Q$52)^-$C198","v":0},{"$f":"IF('El og plugin hybrid'!Q$11=\"el\",IF('El og plugin hybrid'!Q$33=\"Nej\",0,Q130),IF('El og plugin hybrid'!Q$11=\"plugin hybrid benzin\",IF('El og plugin hybrid'!Q$33=\"Nej\",0,Q130)+Q153,IF('El og plugin hybrid'!Q$11=\"plugin hybrid diesel\",IF('El og plugin hybrid'!Q$33=\"Nej\",0,Q130)+Q176,0)))","v":0},{"$f":"T198*IF('El og plugin hybrid'!S$31=\"nej\",0,IF('El og plugin hybrid'!S$39=\"ja\",'El og plugin hybrid'!S$40,'El og plugin hybrid'!S$41))*(1+'El og plugin hybrid'!S$52)^-$C198","v":0},{"$f":"IF('El og plugin hybrid'!S$11=\"el\",IF('El og plugin hybrid'!S$33=\"Nej\",0,S130),IF('El og plugin hybrid'!S$11=\"plugin hybrid benzin\",IF('El og plugin hybrid'!S$33=\"Nej\",0,S130)+S153,IF('El og plugin hybrid'!S$11=\"plugin hybrid diesel\",IF('El og plugin hybrid'!S$33=\"Nej\",0,S130)+S176,0)))","v":0},{"$f":"V198*IF('El og plugin hybrid'!U$31=\"nej\",0,IF('El og plugin hybrid'!U$39=\"ja\",'El og plugin hybrid'!U$40,'El og plugin hybrid'!U$41))*(1+'El og plugin hybrid'!U$52)^-$C198","v":0},{"$f":"IF('El og plugin hybrid'!U$11=\"el\",IF('El og plugin hybrid'!U$33=\"Nej\",0,U130),IF('El og plugin hybrid'!U$11=\"plugin hybrid benzin\",IF('El og plugin hybrid'!U$33=\"Nej\",0,U130)+U153,IF('El og plugin hybrid'!U$11=\"plugin hybrid diesel\",IF('El og plugin hybrid'!U$33=\"Nej\",0,U130)+U176,0)))","v":0},{"$f":"X198*IF('El og plugin hybrid'!W$31=\"nej\",0,IF('El og plugin hybrid'!W$39=\"ja\",'El og plugin hybrid'!W$40,'El og plugin hybrid'!W$41))*(1+'El og plugin hybrid'!W$52)^-$C198","v":0},{"$f":"IF('El og plugin hybrid'!W$11=\"el\",IF('El og plugin hybrid'!W$33=\"Nej\",0,W130),IF('El og plugin hybrid'!W$11=\"plugin hybrid benzin\",IF('El og plugin hybrid'!W$33=\"Nej\",0,W130)+W153,IF('El og plugin hybrid'!W$11=\"plugin hybrid diesel\",IF('El og plugin hybrid'!W$33=\"Nej\",0,W130)+W176,0)))","v":0}]
[null,13,13,null,{"$f":"F199*IF('El og plugin hybrid'!E$31=\"nej\",0,IF('El og plugin hybrid'!E$39=\"ja\",'El og plugin hybrid'!E$40,'El og plugin hybrid'!E$41))*(1+'El og plugin hybrid'!E$52)^-$C199","v":0},{"$f":"IF('El og plugin hybrid'!E$11=\"el\",IF('El og plugin hybrid'!E$33=\"Nej\",0,E131),IF('El og plugin hybrid'!E$11=\"plugin hybrid benzin\",IF('El og plugin hybrid'!E$33=\"Nej\",0,E131)+E154,IF('El og plugin hybrid'!E$11=\"plugin hybrid diesel\",IF('El og plugin hybrid'!E$33=\"Nej\",0,E131)+E177,0)))","v":0},{"$f":"H199*IF('El og plugin hybrid'!G$31=\"nej\",0,IF('El og plugin hybrid'!G$39=\"ja\",'El og plugin hybrid'!G$40,'El og plugin hybrid'!G$41))*(1+'El og plugin hybrid'!G$52)^-$C199","v":0},{"$f":"IF('El og plugin hybrid'!G$11=\"el\",IF('El og plugin hybrid'!G$33=\"Nej\",0,G131),IF('El og plugin hybrid'!G$11=\"plugin hybrid benzin\",IF('El og plugin hybrid'!G$33=\"Nej\",0,G131)+G154,IF('El og plugin hybrid'!G$11=\"plugin hybrid diesel\",IF('El og plugin hybrid'!G$33=\"Nej\",0,G131)+G177,0)))","v":0},{"$f":"J199*IF('El og plugin hybrid'!I$31=\"nej\",0,IF('El og plugin hybrid'!I$39=\"ja\",'El og plugin hybrid'!I$40,'El og plugin hybrid'!I$41))*(1+'El og plugin hybrid'!I$52)^-$C199","v":0},{"$f":"IF('El og plugin hybrid'!I$11=\"el\",IF('El og plugin hybrid'!I$33=\"Nej\",0,I131),IF('El og plugin hybrid'!I$11=\"plugin hybrid benzin\",IF('El og plugin hybrid'!I$33=\"Nej\",0,I131)+I154,IF('El og plugin hybrid'!I$11=\"plugin hybrid diesel\",IF('El og plugin hybrid'!I$33=\"Nej\",0,I131)+I177,0)))","v":0},{"$f":"L199*IF('El og plugin hybrid'!K$31=\"nej\",0,IF('El og plugin hybrid'!K$39=\"ja\",'El og plugin hybrid'!K$40,'El og plugin hybrid'!K$41))*(1+'El og plugin hybrid'!K$52)^-$C199","v":0},{"$f":"IF('El og plugin hybrid'!K$11=\"el\",IF('El og plugin hybrid'!K$33=\"Nej\",0,K131),IF('El og plugin hybrid'!K$11=\"plugin hybrid benzin\",IF('El og plugin hybrid'!K$33=\"Nej\",0,K131)+K154,IF('El og plugin hybrid'!K$11=\"plugin hybrid diesel\",IF('El og plugin hybrid'!K$33=\"Nej\",0,K131)+K177,0)))","v":0},{"$f":"N199*IF('El og plugin hybrid'!M$31=\"nej\",0,IF('El og plugin hybrid'!M$39=\"ja\",'El og plugin hybrid'!M$40,'El og plugin hybrid'!M$41))*(1+'El og plugin hybrid'!M$52)^-$C199","v":0},{"$f":"IF('El og plugin hybrid'!M$11=\"el\",IF('El og plugin hybrid'!M$33=\"Nej\",0,M131),IF('El og plugin hybrid'!M$11=\"plugin hybrid benzin\",IF('El og plugin hybrid'!M$33=\"Nej\",0,M131)+M154,IF('El og plugin hybrid'!M$11=\"plugin hybrid diesel\",IF('El og plugin hybrid'!M$33=\"Nej\",0,M131)+M177,0)))","v":0},{"$f":"P199*IF('El og plugin hybrid'!O$31=\"nej\",0,IF('El og plugin hybrid'!O$39=\"ja\",'El og plugin hybrid'!O$40,'El og plugin hybrid'!O$41))*(1+'El og plugin hybrid'!O$52)^-$C199","v":0},{"$f":"IF('El og plugin hybrid'!O$11=\"el\",IF('El og plugin hybrid'!O$33=\"Nej\",0,O131),IF('El og plugin hybrid'!O$11=\"plugin hybrid benzin\",IF('El og plugin hybrid'!O$33=\"Nej\",0,O131)+O154,IF('El og plugin hybrid'!O$11=\"plugin hybrid diesel\",IF('El og plugin hybrid'!O$33=\"Nej\",0,O131)+O177,0)))","v":0},{"$f":"R199*IF('El og plugin hybrid'!Q$31=\"nej\",0,IF('El og plugin hybrid'!Q$39=\"ja\",'El og plugin hybrid'!Q$40,'El og plugin hybrid'!Q$41))*(1+'El og plugin hybrid'!Q$52)^-$C199","v":0},{"$f":"IF('El og plugin hybrid'!Q$11=\"el\",IF('El og plugin hybrid'!Q$33=\"Nej\",0,Q131),IF('El og plugin hybrid'!Q$11=\"plugin hybrid benzin\",IF('El og plugin hybrid'!Q$33=\"Nej\",0,Q131)+Q154,IF('El og plugin hybrid'!Q$11=\"plugin hybrid diesel\",IF('El og plugin hybrid'!Q$33=\"Nej\",0,Q131)+Q177,0)))","v":0},{"$f":"T199*IF('El og plugin hybrid'!S$31=\"nej\",0,IF('El og plugin hybrid'!S$39=\"ja\",'El og plugin hybrid'!S$40,'El og plugin hybrid'!S$41))*(1+'El og plugin hybrid'!S$52)^-$C199","v":0},{"$f":"IF('El og plugin hybrid'!S$11=\"el\",IF('El og plugin hybrid'!S$33=\"Nej\",0,S131),IF('El og plugin hybrid'!S$11=\"plugin hybrid benzin\",IF('El og plugin hybrid'!S$33=\"Nej\",0,S131)+S154,IF('El og plugin hybrid'!S$11=\"plugin hybrid diesel\",IF('El og plugin hybrid'!S$33=\"Nej\",0,S131)+S177,0)))","v":0},{"$f":"V199*IF('El og plugin hybrid'!U$31=\"nej\",0,IF('El og plugin hybrid'!U$39=\"ja\",'El og plugin hybrid'!U$40,'El og plugin hybrid'!U$41))*(1+'El og plugin hybrid'!U$52)^-$C199","v":0},{"$f":"IF('El og plugin hybrid'!U$11=\"el\",IF('El og plugin hybrid'!U$33=\"Nej\",0,U131),IF('El og plugin hybrid'!U$11=\"plugin hybrid benzin\",IF('El og plugin hybrid'!U$33=\"Nej\",0,U131)+U154,IF('El og plugin hybrid'!U$11=\"plugin hybrid diesel\",IF('El og plugin hybrid'!U$33=\"Nej\",0,U131)+U177,0)))","v":0},{"$f":"X199*IF('El og plugin hybrid'!W$31=\"nej\",0,IF('El og plugin hybrid'!W$39=\"ja\",'El og plugin hybrid'!W$40,'El og plugin hybrid'!W$41))*(1+'El og plugin hybrid'!W$52)^-$C199","v":0},{"$f":"IF('El og plugin hybrid'!W$11=\"el\",IF('El og plugin hybrid'!W$33=\"Nej\",0,W131),IF('El og plugin hybrid'!W$11=\"plugin hybrid benzin\",IF('El og plugin hybrid'!W$33=\"Nej\",0,W131)+W154,IF('El og plugin hybrid'!W$11=\"plugin hybrid diesel\",IF('El og plugin hybrid'!W$33=\"Nej\",0,W131)+W177,0)))","v":0}]
[null,14,14,null,{"$f":"F200*IF('El og plugin hybrid'!E$31=\"nej\",0,IF('El og plugin hybrid'!E$39=\"ja\",'El og plugin hybrid'!E$40,'El og plugin hybrid'!E$41))*(1+'El og plugin hybrid'!E$52)^-$C200","v":0},{"$f":"IF('El og plugin hybrid'!E$11=\"el\",IF('El og plugin hybrid'!E$33=\"Nej\",0,E132),IF('El og plugin hybrid'!E$11=\"plugin hybrid benzin\",IF('El og plugin hybrid'!E$33=\"Nej\",0,E132)+E155,IF('El og plugin hybrid'!E$11=\"plugin hybrid diesel\",IF('El og plugin hybrid'!E$33=\"Nej\",0,E132)+E178,0)))","v":0},{"$f":"H200*IF('El og plugin hybrid'!G$31=\"nej\",0,IF('El og plugin hybrid'!G$39=\"ja\",'El og plugin hybrid'!G$40,'El og plugin hybrid'!G$41))*(1+'El og plugin hybrid'!G$52)^-$C200","v":0},{"$f":"IF('El og plugin hybrid'!G$11=\"el\",IF('El og plugin hybrid'!G$33=\"Nej\",0,G132),IF('El og plugin hybrid'!G$11=\"plugin hybrid benzin\",IF('El og plugin hybrid'!G$33=\"Nej\",0,G132)+G155,IF('El og plugin hybrid'!G$11=\"plugin hybrid diesel\",IF('El og plugin hybrid'!G$33=\"Nej\",0,G132)+G178,0)))","v":0},{"$f":"J200*IF('El og plugin hybrid'!I$31=\"nej\",0,IF('El og plugin hybrid'!I$39=\"ja\",'El og plugin hybrid'!I$40,'El og plugin hybrid'!I$41))*(1+'El og plugin hybrid'!I$52)^-$C200","v":0},{"$f":"IF('El og plugin hybrid'!I$11=\"el\",IF('El og plugin hybrid'!I$33=\"Nej\",0,I132),IF('El og plugin hybrid'!I$11=\"plugin hybrid benzin\",IF('El og plugin hybrid'!I$33=\"Nej\",0,I132)+I155,IF('El og plugin hybrid'!I$11=\"plugin hybrid diesel\",IF('El og plugin hybrid'!I$33=\"Nej\",0,I132)+I178,0)))","v":0},{"$f":"L200*IF('El og plugin hybrid'!K$31=\"nej\",0,IF('El og plugin hybrid'!K$39=\"ja\",'El og plugin hybrid'!K$40,'El og plugin hybrid'!K$41))*(1+'El og plugin hybrid'!K$52)^-$C200","v":0},{"$f":"IF('El og plugin hybrid'!K$11=\"el\",IF('El og plugin hybrid'!K$33=\"Nej\",0,K132),IF('El og plugin hybrid'!K$11=\"plugin hybrid benzin\",IF('El og plugin hybrid'!K$33=\"Nej\",0,K132)+K155,IF('El og plugin hybrid'!K$11=\"plugin hybrid diesel\",IF('El og plugin hybrid'!K$33=\"Nej\",0,K132)+K178,0)))","v":0},{"$f":"N200*IF('El og plugin hybrid'!M$31=\"nej\",0,IF('El og plugin hybrid'!M$39=\"ja\",'El og plugin hybrid'!M$40,'El og plugin hybrid'!M$41))*(1+'El og plugin hybrid'!M$52)^-$C200","v":0},{"$f":"IF('El og plugin hybrid'!M$11=\"el\",IF('El og plugin hybrid'!M$33=\"Nej\",0,M132),IF('El og plugin hybrid'!M$11=\"plugin hybrid benzin\",IF('El og plugin hybrid'!M$33=\"Nej\",0,M132)+M155,IF('El og plugin hybrid'!M$11=\"plugin hybrid diesel\",IF('El og plugin hybrid'!M$33=\"Nej\",0,M132)+M178,0)))","v":0},{"$f":"P200*IF('El og plugin hybrid'!O$31=\"nej\",0,IF('El og plugin hybrid'!O$39=\"ja\",'El og plugin hybrid'!O$40,'El og plugin hybrid'!O$41))*(1+'El og plugin hybrid'!O$52)^-$C200","v":0},{"$f":"IF('El og plugin hybrid'!O$11=\"el\",IF('El og plugin hybrid'!O$33=\"Nej\",0,O132),IF('El og plugin hybrid'!O$11=\"plugin hybrid benzin\",IF('El og plugin hybrid'!O$33=\"Nej\",0,O132)+O155,IF('El og plugin hybrid'!O$11=\"plugin hybrid diesel\",IF('El og plugin hybrid'!O$33=\"Nej\",0,O132)+O178,0)))","v":0},{"$f":"R200*IF('El og plugin hybrid'!Q$31=\"nej\",0,IF('El og plugin hybrid'!Q$39=\"ja\",'El og plugin hybrid'!Q$40,'El og plugin hybrid'!Q$41))*(1+'El og plugin hybrid'!Q$52)^-$C200","v":0},{"$f":"IF('El og plugin hybrid'!Q$11=\"el\",IF('El og plugin hybrid'!Q$33=\"Nej\",0,Q132),IF('El og plugin hybrid'!Q$11=\"plugin hybrid benzin\",IF('El og plugin hybrid'!Q$33=\"Nej\",0,Q132)+Q155,IF('El og plugin hybrid'!Q$11=\"plugin hybrid diesel\",IF('El og plugin hybrid'!Q$33=\"Nej\",0,Q132)+Q178,0)))","v":0},{"$f":"T200*IF('El og plugin hybrid'!S$31=\"nej\",0,IF('El og plugin hybrid'!S$39=\"ja\",'El og plugin hybrid'!S$40,'El og plugin hybrid'!S$41))*(1+'El og plugin hybrid'!S$52)^-$C200","v":0},{"$f":"IF('El og plugin hybrid'!S$11=\"el\",IF('El og plugin hybrid'!S$33=\"Nej\",0,S132),IF('El og plugin hybrid'!S$11=\"plugin hybrid benzin\",IF('El og plugin hybrid'!S$33=\"Nej\",0,S132)+S155,IF('El og plugin hybrid'!S$11=\"plugin hybrid diesel\",IF('El og plugin hybrid'!S$33=\"Nej\",0,S132)+S178,0)))","v":0},{"$f":"V200*IF('El og plugin hybrid'!U$31=\"nej\",0,IF('El og plugin hybrid'!U$39=\"ja\",'El og plugin hybrid'!U$40,'El og plugin hybrid'!U$41))*(1+'El og plugin hybrid'!U$52)^-$C200","v":0},{"$f":"IF('El og plugin hybrid'!U$11=\"el\",IF('El og plugin hybrid'!U$33=\"Nej\",0,U132),IF('El og plugin hybrid'!U$11=\"plugin hybrid benzin\",IF('El og plugin hybrid'!U$33=\"Nej\",0,U132)+U155,IF('El og plugin hybrid'!U$11=\"plugin hybrid diesel\",IF('El og plugin hybrid'!U$33=\"Nej\",0,U132)+U178,0)))","v":0},{"$f":"X200*IF('El og plugin hybrid'!W$31=\"nej\",0,IF('El og plugin hybrid'!W$39=\"ja\",'El og plugin hybrid'!W$40,'El og plugin hybrid'!W$41))*(1+'El og plugin hybrid'!W$52)^-$C200","v":0},{"$f":"IF('El og plugin hybrid'!W$11=\"el\",IF('El og plugin hybrid'!W$33=\"Nej\",0,W132),IF('El og plugin hybrid'!W$11=\"plugin hybrid benzin\",IF('El og plugin hybrid'!W$33=\"Nej\",0,W132)+W155,IF('El og plugin hybrid'!W$11=\"plugin hybrid diesel\",IF('El og plugin hybrid'!W$33=\"Nej\",0,W132)+W178,0)))","v":0}]
[null,15,15,null,{"$f":"F201*IF('El og plugin hybrid'!E$31=\"nej\",0,IF('El og plugin hybrid'!E$39=\"ja\",'El og plugin hybrid'!E$40,'El og plugin hybrid'!E$41))*(1+'El og plugin hybrid'!E$52)^-$C201","v":0},{"$f":"IF('El og plugin hybrid'!E$11=\"el\",IF('El og plugin hybrid'!E$33=\"Nej\",0,E133),IF('El og plugin hybrid'!E$11=\"plugin hybrid benzin\",IF('El og plugin hybrid'!E$33=\"Nej\",0,E133)+E156,IF('El og plugin hybrid'!E$11=\"plugin hybrid diesel\",IF('El og plugin hybrid'!E$33=\"Nej\",0,E133)+E179,0)))","v":0},{"$f":"H201*IF('El og plugin hybrid'!G$31=\"nej\",0,IF('El og plugin hybrid'!G$39=\"ja\",'El og plugin hybrid'!G$40,'El og plugin hybrid'!G$41))*(1+'El og plugin hybrid'!G$52)^-$C201","v":0},{"$f":"IF('El og plugin hybrid'!G$11=\"el\",IF('El og plugin hybrid'!G$33=\"Nej\",0,G133),IF('El og plugin hybrid'!G$11=\"plugin hybrid benzin\",IF('El og plugin hybrid'!G$33=\"Nej\",0,G133)+G156,IF('El og plugin hybrid'!G$11=\"plugin hybrid diesel\",IF('El og plugin hybrid'!G$33=\"Nej\",0,G133)+G179,0)))","v":0},{"$f":"J201*IF('El og plugin hybrid'!I$31=\"nej\",0,IF('El og plugin hybrid'!I$39=\"ja\",'El og plugin hybrid'!I$40,'El og plugin hybrid'!I$41))*(1+'El og plugin hybrid'!I$52)^-$C201","v":0},{"$f":"IF('El og plugin hybrid'!I$11=\"el\",IF('El og plugin hybrid'!I$33=\"Nej\",0,I133),IF('El og plugin hybrid'!I$11=\"plugin hybrid benzin\",IF('El og plugin hybrid'!I$33=\"Nej\",0,I133)+I156,IF('El og plugin hybrid'!I$11=\"plugin hybrid diesel\",IF('El og plugin hybrid'!I$33=\"Nej\",0,I133)+I179,0)))","v":0},{"$f":"L201*IF('El og plugin hybrid'!K$31=\"nej\",0,IF('El og plugin hybrid'!K$39=\"ja\",'El og plugin hybrid'!K$40,'El og plugin hybrid'!K$41))*(1+'El og plugin hybrid'!K$52)^-$C201","v":0},{"$f":"IF('El og plugin hybrid'!K$11=\"el\",IF('El og plugin hybrid'!K$33=\"Nej\",0,K133),IF('El og plugin hybrid'!K$11=\"plugin hybrid benzin\",IF('El og plugin hybrid'!K$33=\"Nej\",0,K133)+K156,IF('El og plugin hybrid'!K$11=\"plugin hybrid diesel\",IF('El og plugin hybrid'!K$33=\"Nej\",0,K133)+K179,0)))","v":0},{"$f":"N201*IF('El og plugin hybrid'!M$31=\"nej\",0,IF('El og plugin hybrid'!M$39=\"ja\",'El og plugin hybrid'!M$40,'El og plugin hybrid'!M$41))*(1+'El og plugin hybrid'!M$52)^-$C201","v":0},{"$f":"IF('El og plugin hybrid'!M$11=\"el\",IF('El og plugin hybrid'!M$33=\"Nej\",0,M133),IF('El og plugin hybrid'!M$11=\"plugin hybrid benzin\",IF('El og plugin hybrid'!M$33=\"Nej\",0,M133)+M156,IF('El og plugin hybrid'!M$11=\"plugin hybrid diesel\",IF('El og plugin hybrid'!M$33=\"Nej\",0,M133)+M179,0)))","v":0},{"$f":"P201*IF('El og plugin hybrid'!O$31=\"nej\",0,IF('El og plugin hybrid'!O$39=\"ja\",'El og plugin hybrid'!O$40,'El og plugin hybrid'!O$41))*(1+'El og plugin hybrid'!O$52)^-$C201","v":0},{"$f":"IF('El og plugin hybrid'!O$11=\"el\",IF('El og plugin hybrid'!O$33=\"Nej\",0,O133),IF('El og plugin hybrid'!O$11=\"plugin hybrid benzin\",IF('El og plugin hybrid'!O$33=\"Nej\",0,O133)+O156,IF('El og plugin hybrid'!O$11=\"plugin hybrid diesel\",IF('El og plugin hybrid'!O$33=\"Nej\",0,O133)+O179,0)))","v":0},{"$f":"R201*IF('El og plugin hybrid'!Q$31=\"nej\",0,IF('El og plugin hybrid'!Q$39=\"ja\",'El og plugin hybrid'!Q$40,'El og plugin hybrid'!Q$41))*(1+'El og plugin hybrid'!Q$52)^-$C201","v":0},{"$f":"IF('El og plugin hybrid'!Q$11=\"el\",IF('El og plugin hybrid'!Q$33=\"Nej\",0,Q133),IF('El og plugin hybrid'!Q$11=\"plugin hybrid benzin\",IF('El og plugin hybrid'!Q$33=\"Nej\",0,Q133)+Q156,IF('El og plugin hybrid'!Q$11=\"plugin hybrid diesel\",IF('El og plugin hybrid'!Q$33=\"Nej\",0,Q133)+Q179,0)))","v":0},{"$f":"T201*IF('El og plugin hybrid'!S$31=\"nej\",0,IF('El og plugin hybrid'!S$39=\"ja\",'El og plugin hybrid'!S$40,'El og plugin hybrid'!S$41))*(1+'El og plugin hybrid'!S$52)^-$C201","v":0},{"$f":"IF('El og plugin hybrid'!S$11=\"el\",IF('El og plugin hybrid'!S$33=\"Nej\",0,S133),IF('El og plugin hybrid'!S$11=\"plugin hybrid benzin\",IF('El og plugin hybrid'!S$33=\"Nej\",0,S133)+S156,IF('El og plugin hybrid'!S$11=\"plugin hybrid diesel\",IF('El og plugin hybrid'!S$33=\"Nej\",0,S133)+S179,0)))","v":0},{"$f":"V201*IF('El og plugin hybrid'!U$31=\"nej\",0,IF('El og plugin hybrid'!U$39=\"ja\",'El og plugin hybrid'!U$40,'El og plugin hybrid'!U$41))*(1+'El og plugin hybrid'!U$52)^-$C201","v":0},{"$f":"IF('El og plugin hybrid'!U$11=\"el\",IF('El og plugin hybrid'!U$33=\"Nej\",0,U133),IF('El og plugin hybrid'!U$11=\"plugin hybrid benzin\",IF('El og plugin hybrid'!U$33=\"Nej\",0,U133)+U156,IF('El og plugin hybrid'!U$11=\"plugin hybrid diesel\",IF('El og plugin hybrid'!U$33=\"Nej\",0,U133)+U179,0)))","v":0},{"$f":"X201*IF('El og plugin hybrid'!W$31=\"nej\",0,IF('El og plugin hybrid'!W$39=\"ja\",'El og plugin hybrid'!W$40,'El og plugin hybrid'!W$41))*(1+'El og plugin hybrid'!W$52)^-$C201","v":0},{"$f":"IF('El og plugin hybrid'!W$11=\"el\",IF('El og plugin hybrid'!W$33=\"Nej\",0,W133),IF('El og plugin hybrid'!W$11=\"plugin hybrid benzin\",IF('El og plugin hybrid'!W$33=\"Nej\",0,W133)+W156,IF('El og plugin hybrid'!W$11=\"plugin hybrid diesel\",IF('El og plugin hybrid'!W$33=\"Nej\",0,W133)+W179,0)))","v":0}]
[null,16,16,null,{"$f":"F202*IF('El og plugin hybrid'!E$31=\"nej\",0,IF('El og plugin hybrid'!E$39=\"ja\",'El og plugin hybrid'!E$40,'El og plugin hybrid'!E$41))*(1+'El og plugin hybrid'!E$52)^-$C202","v":0},{"$f":"IF('El og plugin hybrid'!E$11=\"el\",IF('El og plugin hybrid'!E$33=\"Nej\",0,E134),IF('El og plugin hybrid'!E$11=\"plugin hybrid benzin\",IF('El og plugin hybrid'!E$33=\"Nej\",0,E134)+E157,IF('El og plugin hybrid'!E$11=\"plugin hybrid diesel\",IF('El og plugin hybrid'!E$33=\"Nej\",0,E134)+E180,0)))","v":0},{"$f":"H202*IF('El og plugin hybrid'!G$31=\"nej\",0,IF('El og plugin hybrid'!G$39=\"ja\",'El og plugin hybrid'!G$40,'El og plugin hybrid'!G$41))*(1+'El og plugin hybrid'!G$52)^-$C202","v":0},{"$f":"IF('El og plugin hybrid'!G$11=\"el\",IF('El og plugin hybrid'!G$33=\"Nej\",0,G134),IF('El og plugin hybrid'!G$11=\"plugin hybrid benzin\",IF('El og plugin hybrid'!G$33=\"Nej\",0,G134)+G157,IF('El og plugin hybrid'!G$11=\"plugin hybrid diesel\",IF('El og plugin hybrid'!G$33=\"Nej\",0,G134)+G180,0)))","v":0},{"$f":"J202*IF('El og plugin hybrid'!I$31=\"nej\",0,IF('El og plugin hybrid'!I$39=\"ja\",'El og plugin hybrid'!I$40,'El og plugin hybrid'!I$41))*(1+'El og plugin hybrid'!I$52)^-$C202","v":0},{"$f":"IF('El og plugin hybrid'!I$11=\"el\",IF('El og plugin hybrid'!I$33=\"Nej\",0,I134),IF('El og plugin hybrid'!I$11=\"plugin hybrid benzin\",IF('El og plugin hybrid'!I$33=\"Nej\",0,I134)+I157,IF('El og plugin hybrid'!I$11=\"plugin hybrid diesel\",IF('El og plugin hybrid'!I$33=\"Nej\",0,I134)+I180,0)))","v":0},{"$f":"L202*IF('El og plugin hybrid'!K$31=\"nej\",0,IF('El og plugin hybrid'!K$39=\"ja\",'El og plugin hybrid'!K$40,'El og plugin hybrid'!K$41))*(1+'El og plugin hybrid'!K$52)^-$C202","v":0},{"$f":"IF('El og plugin hybrid'!K$11=\"el\",IF('El og plugin hybrid'!K$33=\"Nej\",0,K134),IF('El og plugin hybrid'!K$11=\"plugin hybrid benzin\",IF('El og plugin hybrid'!K$33=\"Nej\",0,K134)+K157,IF('El og plugin hybrid'!K$11=\"plugin hybrid diesel\",IF('El og plugin hybrid'!K$33=\"Nej\",0,K134)+K180,0)))","v":0},{"$f":"N202*IF('El og plugin hybrid'!M$31=\"nej\",0,IF('El og plugin hybrid'!M$39=\"ja\",'El og plugin hybrid'!M$40,'El og plugin hybrid'!M$41))*(1+'El og plugin hybrid'!M$52)^-$C202","v":0},{"$f":"IF('El og plugin hybrid'!M$11=\"el\",IF('El og plugin hybrid'!M$33=\"Nej\",0,M134),IF('El og plugin hybrid'!M$11=\"plugin hybrid benzin\",IF('El og plugin hybrid'!M$33=\"Nej\",0,M134)+M157,IF('El og plugin hybrid'!M$11=\"plugin hybrid diesel\",IF('El og plugin hybrid'!M$33=\"Nej\",0,M134)+M180,0)))","v":0},{"$f":"P202*IF('El og plugin hybrid'!O$31=\"nej\",0,IF('El og plugin hybrid'!O$39=\"ja\",'El og plugin hybrid'!O$40,'El og plugin hybrid'!O$41))*(1+'El og plugin hybrid'!O$52)^-$C202","v":0},{"$f":"IF('El og plugin hybrid'!O$11=\"el\",IF('El og plugin hybrid'!O$33=\"Nej\",0,O134),IF('El og plugin hybrid'!O$11=\"plugin hybrid benzin\",IF('El og plugin hybrid'!O$33=\"Nej\",0,O134)+O157,IF('El og plugin hybrid'!O$11=\"plugin hybrid diesel\",IF('El og plugin hybrid'!O$33=\"Nej\",0,O134)+O180,0)))","v":0},{"$f":"R202*IF('El og plugin hybrid'!Q$31=\"nej\",0,IF('El og plugin hybrid'!Q$39=\"ja\",'El og plugin hybrid'!Q$40,'El og plugin hybrid'!Q$41))*(1+'El og plugin hybrid'!Q$52)^-$C202","v":0},{"$f":"IF('El og plugin hybrid'!Q$11=\"el\",IF('El og plugin hybrid'!Q$33=\"Nej\",0,Q134),IF('El og plugin hybrid'!Q$11=\"plugin hybrid benzin\",IF('El og plugin hybrid'!Q$33=\"Nej\",0,Q134)+Q157,IF('El og plugin hybrid'!Q$11=\"plugin hybrid diesel\",IF('El og plugin hybrid'!Q$33=\"Nej\",0,Q134)+Q180,0)))","v":0},{"$f":"T202*IF('El og plugin hybrid'!S$31=\"nej\",0,IF('El og plugin hybrid'!S$39=\"ja\",'El og plugin hybrid'!S$40,'El og plugin hybrid'!S$41))*(1+'El og plugin hybrid'!S$52)^-$C202","v":0},{"$f":"IF('El og plugin hybrid'!S$11=\"el\",IF('El og plugin hybrid'!S$33=\"Nej\",0,S134),IF('El og plugin hybrid'!S$11=\"plugin hybrid benzin\",IF('El og plugin hybrid'!S$33=\"Nej\",0,S134)+S157,IF('El og plugin hybrid'!S$11=\"plugin hybrid diesel\",IF('El og plugin hybrid'!S$33=\"Nej\",0,S134)+S180,0)))","v":0},{"$f":"V202*IF('El og plugin hybrid'!U$31=\"nej\",0,IF('El og plugin hybrid'!U$39=\"ja\",'El og plugin hybrid'!U$40,'El og plugin hybrid'!U$41))*(1+'El og plugin hybrid'!U$52)^-$C202","v":0},{"$f":"IF('El og plugin hybrid'!U$11=\"el\",IF('El og plugin hybrid'!U$33=\"Nej\",0,U134),IF('El og plugin hybrid'!U$11=\"plugin hybrid benzin\",IF('El og plugin hybrid'!U$33=\"Nej\",0,U134)+U157,IF('El og plugin hybrid'!U$11=\"plugin hybrid diesel\",IF('El og plugin hybrid'!U$33=\"Nej\",0,U134)+U180,0)))","v":0},{"$f":"X202*IF('El og plugin hybrid'!W$31=\"nej\",0,IF('El og plugin hybrid'!W$39=\"ja\",'El og plugin hybrid'!W$40,'El og plugin hybrid'!W$41))*(1+'El og plugin hybrid'!W$52)^-$C202","v":0},{"$f":"IF('El og plugin hybrid'!W$11=\"el\",IF('El og plugin hybrid'!W$33=\"Nej\",0,W134),IF('El og plugin hybrid'!W$11=\"plugin hybrid benzin\",IF('El og plugin hybrid'!W$33=\"Nej\",0,W134)+W157,IF('El og plugin hybrid'!W$11=\"plugin hybrid diesel\",IF('El og plugin hybrid'!W$33=\"Nej\",0,W134)+W180,0)))","v":0}]
[null,17,17,null,{"$f":"F203*IF('El og plugin hybrid'!E$31=\"nej\",0,IF('El og plugin hybrid'!E$39=\"ja\",'El og plugin hybrid'!E$40,'El og plugin hybrid'!E$41))*(1+'El og plugin hybrid'!E$52)^-$C203","v":0},{"$f":"IF('El og plugin hybrid'!E$11=\"el\",IF('El og plugin hybrid'!E$33=\"Nej\",0,E135),IF('El og plugin hybrid'!E$11=\"plugin hybrid benzin\",IF('El og plugin hybrid'!E$33=\"Nej\",0,E135)+E158,IF('El og plugin hybrid'!E$11=\"plugin hybrid diesel\",IF('El og plugin hybrid'!E$33=\"Nej\",0,E135)+E181,0)))","v":0},{"$f":"H203*IF('El og plugin hybrid'!G$31=\"nej\",0,IF('El og plugin hybrid'!G$39=\"ja\",'El og plugin hybrid'!G$40,'El og plugin hybrid'!G$41))*(1+'El og plugin hybrid'!G$52)^-$C203","v":0},{"$f":"IF('El og plugin hybrid'!G$11=\"el\",IF('El og plugin hybrid'!G$33=\"Nej\",0,G135),IF('El og plugin hybrid'!G$11=\"plugin hybrid benzin\",IF('El og plugin hybrid'!G$33=\"Nej\",0,G135)+G158,IF('El og plugin hybrid'!G$11=\"plugin hybrid diesel\",IF('El og plugin hybrid'!G$33=\"Nej\",0,G135)+G181,0)))","v":0},{"$f":"J203*IF('El og plugin hybrid'!I$31=\"nej\",0,IF('El og plugin hybrid'!I$39=\"ja\",'El og plugin hybrid'!I$40,'El og plugin hybrid'!I$41))*(1+'El og plugin hybrid'!I$52)^-$C203","v":0},{"$f":"IF('El og plugin hybrid'!I$11=\"el\",IF('El og plugin hybrid'!I$33=\"Nej\",0,I135),IF('El og plugin hybrid'!I$11=\"plugin hybrid benzin\",IF('El og plugin hybrid'!I$33=\"Nej\",0,I135)+I158,IF('El og plugin hybrid'!I$11=\"plugin hybrid diesel\",IF('El og plugin hybrid'!I$33=\"Nej\",0,I135)+I181,0)))","v":0},{"$f":"L203*IF('El og plugin hybrid'!K$31=\"nej\",0,IF('El og plugin hybrid'!K$39=\"ja\",'El og plugin hybrid'!K$40,'El og plugin hybrid'!K$41))*(1+'El og plugin hybrid'!K$52)^-$C203","v":0},{"$f":"IF('El og plugin hybrid'!K$11=\"el\",IF('El og plugin hybrid'!K$33=\"Nej\",0,K135),IF('El og plugin hybrid'!K$11=\"plugin hybrid benzin\",IF('El og plugin hybrid'!K$33=\"Nej\",0,K135)+K158,IF('El og plugin hybrid'!K$11=\"plugin hybrid diesel\",IF('El og plugin hybrid'!K$33=\"Nej\",0,K135)+K181,0)))","v":0},{"$f":"N203*IF('El og plugin hybrid'!M$31=\"nej\",0,IF('El og plugin hybrid'!M$39=\"ja\",'El og plugin hybrid'!M$40,'El og plugin hybrid'!M$41))*(1+'El og plugin hybrid'!M$52)^-$C203","v":0},{"$f":"IF('El og plugin hybrid'!M$11=\"el\",IF('El og plugin hybrid'!M$33=\"Nej\",0,M135),IF('El og plugin hybrid'!M$11=\"plugin hybrid benzin\",IF('El og plugin hybrid'!M$33=\"Nej\",0,M135)+M158,IF('El og plugin hybrid'!M$11=\"plugin hybrid diesel\",IF('El og plugin hybrid'!M$33=\"Nej\",0,M135)+M181,0)))","v":0},{"$f":"P203*IF('El og plugin hybrid'!O$31=\"nej\",0,IF('El og plugin hybrid'!O$39=\"ja\",'El og plugin hybrid'!O$40,'El og plugin hybrid'!O$41))*(1+'El og plugin hybrid'!O$52)^-$C203","v":0},{"$f":"IF('El og plugin hybrid'!O$11=\"el\",IF('El og plugin hybrid'!O$33=\"Nej\",0,O135),IF('El og plugin hybrid'!O$11=\"plugin hybrid benzin\",IF('El og plugin hybrid'!O$33=\"Nej\",0,O135)+O158,IF('El og plugin hybrid'!O$11=\"plugin hybrid diesel\",IF('El og plugin hybrid'!O$33=\"Nej\",0,O135)+O181,0)))","v":0},{"$f":"R203*IF('El og plugin hybrid'!Q$31=\"nej\",0,IF('El og plugin hybrid'!Q$39=\"ja\",'El og plugin hybrid'!Q$40,'El og plugin hybrid'!Q$41))*(1+'El og plugin hybrid'!Q$52)^-$C203","v":0},{"$f":"IF('El og plugin hybrid'!Q$11=\"el\",IF('El og plugin hybrid'!Q$33=\"Nej\",0,Q135),IF('El og plugin hybrid'!Q$11=\"plugin hybrid benzin\",IF('El og plugin hybrid'!Q$33=\"Nej\",0,Q135)+Q158,IF('El og plugin hybrid'!Q$11=\"plugin hybrid diesel\",IF('El og plugin hybrid'!Q$33=\"Nej\",0,Q135)+Q181,0)))","v":0},{"$f":"T203*IF('El og plugin hybrid'!S$31=\"nej\",0,IF('El og plugin hybrid'!S$39=\"ja\",'El og plugin hybrid'!S$40,'El og plugin hybrid'!S$41))*(1+'El og plugin hybrid'!S$52)^-$C203","v":0},{"$f":"IF('El og plugin hybrid'!S$11=\"el\",IF('El og plugin hybrid'!S$33=\"Nej\",0,S135),IF('El og plugin hybrid'!S$11=\"plugin hybrid benzin\",IF('El og plugin hybrid'!S$33=\"Nej\",0,S135)+S158,IF('El og plugin hybrid'!S$11=\"plugin hybrid diesel\",IF('El og plugin hybrid'!S$33=\"Nej\",0,S135)+S181,0)))","v":0},{"$f":"V203*IF('El og plugin hybrid'!U$31=\"nej\",0,IF('El og plugin hybrid'!U$39=\"ja\",'El og plugin hybrid'!U$40,'El og plugin hybrid'!U$41))*(1+'El og plugin hybrid'!U$52)^-$C203","v":0},{"$f":"IF('El og plugin hybrid'!U$11=\"el\",IF('El og plugin hybrid'!U$33=\"Nej\",0,U135),IF('El og plugin hybrid'!U$11=\"plugin hybrid benzin\",IF('El og plugin hybrid'!U$33=\"Nej\",0,U135)+U158,IF('El og plugin hybrid'!U$11=\"plugin hybrid diesel\",IF('El og plugin hybrid'!U$33=\"Nej\",0,U135)+U181,0)))","v":0},{"$f":"X203*IF('El og plugin hybrid'!W$31=\"nej\",0,IF('El og plugin hybrid'!W$39=\"ja\",'El og plugin hybrid'!W$40,'El og plugin hybrid'!W$41))*(1+'El og plugin hybrid'!W$52)^-$C203","v":0},{"$f":"IF('El og plugin hybrid'!W$11=\"el\",IF('El og plugin hybrid'!W$33=\"Nej\",0,W135),IF('El og plugin hybrid'!W$11=\"plugin hybrid benzin\",IF('El og plugin hybrid'!W$33=\"Nej\",0,W135)+W158,IF('El og plugin hybrid'!W$11=\"plugin hybrid diesel\",IF('El og plugin hybrid'!W$33=\"Nej\",0,W135)+W181,0)))","v":0}]
[null,18,18,null,{"$f":"F204*IF('El og plugin hybrid'!E$31=\"nej\",0,IF('El og plugin hybrid'!E$39=\"ja\",'El og plugin hybrid'!E$40,'El og plugin hybrid'!E$41))*(1+'El og plugin hybrid'!E$52)^-$C204","v":0},{"$f":"IF('El og plugin hybrid'!E$11=\"el\",IF('El og plugin hybrid'!E$33=\"Nej\",0,E136),IF('El og plugin hybrid'!E$11=\"plugin hybrid benzin\",IF('El og plugin hybrid'!E$33=\"Nej\",0,E136)+E159,IF('El og plugin hybrid'!E$11=\"plugin hybrid diesel\",IF('El og plugin hybrid'!E$33=\"Nej\",0,E136)+E182,0)))","v":0},{"$f":"H204*IF('El og plugin hybrid'!G$31=\"nej\",0,IF('El og plugin hybrid'!G$39=\"ja\",'El og plugin hybrid'!G$40,'El og plugin hybrid'!G$41))*(1+'El og plugin hybrid'!G$52)^-$C204","v":0},{"$f":"IF('El og plugin hybrid'!G$11=\"el\",IF('El og plugin hybrid'!G$33=\"Nej\",0,G136),IF('El og plugin hybrid'!G$11=\"plugin hybrid benzin\",IF('El og plugin hybrid'!G$33=\"Nej\",0,G136)+G159,IF('El og plugin hybrid'!G$11=\"plugin hybrid diesel\",IF('El og plugin hybrid'!G$33=\"Nej\",0,G136)+G182,0)))","v":0},{"$f":"J204*IF('El og plugin hybrid'!I$31=\"nej\",0,IF('El og plugin hybrid'!I$39=\"ja\",'El og plugin hybrid'!I$40,'El og plugin hybrid'!I$41))*(1+'El og plugin hybrid'!I$52)^-$C204","v":0},{"$f":"IF('El og plugin hybrid'!I$11=\"el\",IF('El og plugin hybrid'!I$33=\"Nej\",0,I136),IF('El og plugin hybrid'!I$11=\"plugin hybrid benzin\",IF('El og plugin hybrid'!I$33=\"Nej\",0,I136)+I159,IF('El og plugin hybrid'!I$11=\"plugin hybrid diesel\",IF('El og plugin hybrid'!I$33=\"Nej\",0,I136)+I182,0)))","v":0},{"$f":"L204*IF('El og plugin hybrid'!K$31=\"nej\",0,IF('El og plugin hybrid'!K$39=\"ja\",'El og plugin hybrid'!K$40,'El og plugin hybrid'!K$41))*(1+'El og plugin hybrid'!K$52)^-$C204","v":0},{"$f":"IF('El og plugin hybrid'!K$11=\"el\",IF('El og plugin hybrid'!K$33=\"Nej\",0,K136),IF('El og plugin hybrid'!K$11=\"plugin hybrid benzin\",IF('El og plugin hybrid'!K$33=\"Nej\",0,K136)+K159,IF('El og plugin hybrid'!K$11=\"plugin hybrid diesel\",IF('El og plugin hybrid'!K$33=\"Nej\",0,K136)+K182,0)))","v":0},{"$f":"N204*IF('El og plugin hybrid'!M$31=\"nej\",0,IF('El og plugin hybrid'!M$39=\"ja\",'El og plugin hybrid'!M$40,'El og plugin hybrid'!M$41))*(1+'El og plugin hybrid'!M$52)^-$C204","v":0},{"$f":"IF('El og plugin hybrid'!M$11=\"el\",IF('El og plugin hybrid'!M$33=\"Nej\",0,M136),IF('El og plugin hybrid'!M$11=\"plugin hybrid benzin\",IF('El og plugin hybrid'!M$33=\"Nej\",0,M136)+M159,IF('El og plugin hybrid'!M$11=\"plugin hybrid diesel\",IF('El og plugin hybrid'!M$33=\"Nej\",0,M136)+M182,0)))","v":0},{"$f":"P204*IF('El og plugin hybrid'!O$31=\"nej\",0,IF('El og plugin hybrid'!O$39=\"ja\",'El og plugin hybrid'!O$40,'El og plugin hybrid'!O$41))*(1+'El og plugin hybrid'!O$52)^-$C204","v":0},{"$f":"IF('El og plugin hybrid'!O$11=\"el\",IF('El og plugin hybrid'!O$33=\"Nej\",0,O136),IF('El og plugin hybrid'!O$11=\"plugin hybrid benzin\",IF('El og plugin hybrid'!O$33=\"Nej\",0,O136)+O159,IF('El og plugin hybrid'!O$11=\"plugin hybrid diesel\",IF('El og plugin hybrid'!O$33=\"Nej\",0,O136)+O182,0)))","v":0},{"$f":"R204*IF('El og plugin hybrid'!Q$31=\"nej\",0,IF('El og plugin hybrid'!Q$39=\"ja\",'El og plugin hybrid'!Q$40,'El og plugin hybrid'!Q$41))*(1+'El og plugin hybrid'!Q$52)^-$C204","v":0},{"$f":"IF('El og plugin hybrid'!Q$11=\"el\",IF('El og plugin hybrid'!Q$33=\"Nej\",0,Q136),IF('El og plugin hybrid'!Q$11=\"plugin hybrid benzin\",IF('El og plugin hybrid'!Q$33=\"Nej\",0,Q136)+Q159,IF('El og plugin hybrid'!Q$11=\"plugin hybrid diesel\",IF('El og plugin hybrid'!Q$33=\"Nej\",0,Q136)+Q182,0)))","v":0},{"$f":"T204*IF('El og plugin hybrid'!S$31=\"nej\",0,IF('El og plugin hybrid'!S$39=\"ja\",'El og plugin hybrid'!S$40,'El og plugin hybrid'!S$41))*(1+'El og plugin hybrid'!S$52)^-$C204","v":0},{"$f":"IF('El og plugin hybrid'!S$11=\"el\",IF('El og plugin hybrid'!S$33=\"Nej\",0,S136),IF('El og plugin hybrid'!S$11=\"plugin hybrid benzin\",IF('El og plugin hybrid'!S$33=\"Nej\",0,S136)+S159,IF('El og plugin hybrid'!S$11=\"plugin hybrid diesel\",IF('El og plugin hybrid'!S$33=\"Nej\",0,S136)+S182,0)))","v":0},{"$f":"V204*IF('El og plugin hybrid'!U$31=\"nej\",0,IF('El og plugin hybrid'!U$39=\"ja\",'El og plugin hybrid'!U$40,'El og plugin hybrid'!U$41))*(1+'El og plugin hybrid'!U$52)^-$C204","v":0},{"$f":"IF('El og plugin hybrid'!U$11=\"el\",IF('El og plugin hybrid'!U$33=\"Nej\",0,U136),IF('El og plugin hybrid'!U$11=\"plugin hybrid benzin\",IF('El og plugin hybrid'!U$33=\"Nej\",0,U136)+U159,IF('El og plugin hybrid'!U$11=\"plugin hybrid diesel\",IF('El og plugin hybrid'!U$33=\"Nej\",0,U136)+U182,0)))","v":0},{"$f":"X204*IF('El og plugin hybrid'!W$31=\"nej\",0,IF('El og plugin hybrid'!W$39=\"ja\",'El og plugin hybrid'!W$40,'El og plugin hybrid'!W$41))*(1+'El og plugin hybrid'!W$52)^-$C204","v":0},{"$f":"IF('El og plugin hybrid'!W$11=\"el\",IF('El og plugin hybrid'!W$33=\"Nej\",0,W136),IF('El og plugin hybrid'!W$11=\"plugin hybrid benzin\",IF('El og plugin hybrid'!W$33=\"Nej\",0,W136)+W159,IF('El og plugin hybrid'!W$11=\"plugin hybrid diesel\",IF('El og plugin hybrid'!W$33=\"Nej\",0,W136)+W182,0)))","v":0}]
[null,19,19,null,{"$f":"F205*IF('El og plugin hybrid'!E$31=\"nej\",0,IF('El og plugin hybrid'!E$39=\"ja\",'El og plugin hybrid'!E$40,'El og plugin hybrid'!E$41))*(1+'El og plugin hybrid'!E$52)^-$C205","v":0},{"$f":"IF('El og plugin hybrid'!E$11=\"el\",IF('El og plugin hybrid'!E$33=\"Nej\",0,E137),IF('El og plugin hybrid'!E$11=\"plugin hybrid benzin\",IF('El og plugin hybrid'!E$33=\"Nej\",0,E137)+E160,IF('El og plugin hybrid'!E$11=\"plugin hybrid diesel\",IF('El og plugin hybrid'!E$33=\"Nej\",0,E137)+E183,0)))","v":0},{"$f":"H205*IF('El og plugin hybrid'!G$31=\"nej\",0,IF('El og plugin hybrid'!G$39=\"ja\",'El og plugin hybrid'!G$40,'El og plugin hybrid'!G$41))*(1+'El og plugin hybrid'!G$52)^-$C205","v":0},{"$f":"IF('El og plugin hybrid'!G$11=\"el\",IF('El og plugin hybrid'!G$33=\"Nej\",0,G137),IF('El og plugin hybrid'!G$11=\"plugin hybrid benzin\",IF('El og plugin hybrid'!G$33=\"Nej\",0,G137)+G160,IF('El og plugin hybrid'!G$11=\"plugin hybrid diesel\",IF('El og plugin hybrid'!G$33=\"Nej\",0,G137)+G183,0)))","v":0},{"$f":"J205*IF('El og plugin hybrid'!I$31=\"nej\",0,IF('El og plugin hybrid'!I$39=\"ja\",'El og plugin hybrid'!I$40,'El og plugin hybrid'!I$41))*(1+'El og plugin hybrid'!I$52)^-$C205","v":0},{"$f":"IF('El og plugin hybrid'!I$11=\"el\",IF('El og plugin hybrid'!I$33=\"Nej\",0,I137),IF('El og plugin hybrid'!I$11=\"plugin hybrid benzin\",IF('El og plugin hybrid'!I$33=\"Nej\",0,I137)+I160,IF('El og plugin hybrid'!I$11=\"plugin hybrid diesel\",IF('El og plugin hybrid'!I$33=\"Nej\",0,I137)+I183,0)))","v":0},{"$f":"L205*IF('El og plugin hybrid'!K$31=\"nej\",0,IF('El og plugin hybrid'!K$39=\"ja\",'El og plugin hybrid'!K$40,'El og plugin hybrid'!K$41))*(1+'El og plugin hybrid'!K$52)^-$C205","v":0},{"$f":"IF('El og plugin hybrid'!K$11=\"el\",IF('El og plugin hybrid'!K$33=\"Nej\",0,K137),IF('El og plugin hybrid'!K$11=\"plugin hybrid benzin\",IF('El og plugin hybrid'!K$33=\"Nej\",0,K137)+K160,IF('El og plugin hybrid'!K$11=\"plugin hybrid diesel\",IF('El og plugin hybrid'!K$33=\"Nej\",0,K137)+K183,0)))","v":0},{"$f":"N205*IF('El og plugin hybrid'!M$31=\"nej\",0,IF('El og plugin hybrid'!M$39=\"ja\",'El og plugin hybrid'!M$40,'El og plugin hybrid'!M$41))*(1+'El og plugin hybrid'!M$52)^-$C205","v":0},{"$f":"IF('El og plugin hybrid'!M$11=\"el\",IF('El og plugin hybrid'!M$33=\"Nej\",0,M137),IF('El og plugin hybrid'!M$11=\"plugin hybrid benzin\",IF('El og plugin hybrid'!M$33=\"Nej\",0,M137)+M160,IF('El og plugin hybrid'!M$11=\"plugin hybrid diesel\",IF('El og plugin hybrid'!M$33=\"Nej\",0,M137)+M183,0)))","v":0},{"$f":"P205*IF('El og plugin hybrid'!O$31=\"nej\",0,IF('El og plugin hybrid'!O$39=\"ja\",'El og plugin hybrid'!O$40,'El og plugin hybrid'!O$41))*(1+'El og plugin hybrid'!O$52)^-$C205","v":0},{"$f":"IF('El og plugin hybrid'!O$11=\"el\",IF('El og plugin hybrid'!O$33=\"Nej\",0,O137),IF('El og plugin hybrid'!O$11=\"plugin hybrid benzin\",IF('El og plugin hybrid'!O$33=\"Nej\",0,O137)+O160,IF('El og plugin hybrid'!O$11=\"plugin hybrid diesel\",IF('El og plugin hybrid'!O$33=\"Nej\",0,O137)+O183,0)))","v":0},{"$f":"R205*IF('El og plugin hybrid'!Q$31=\"nej\",0,IF('El og plugin hybrid'!Q$39=\"ja\",'El og plugin hybrid'!Q$40,'El og plugin hybrid'!Q$41))*(1+'El og plugin hybrid'!Q$52)^-$C205","v":0},{"$f":"IF('El og plugin hybrid'!Q$11=\"el\",IF('El og plugin hybrid'!Q$33=\"Nej\",0,Q137),IF('El og plugin hybrid'!Q$11=\"plugin hybrid benzin\",IF('El og plugin hybrid'!Q$33=\"Nej\",0,Q137)+Q160,IF('El og plugin hybrid'!Q$11=\"plugin hybrid diesel\",IF('El og plugin hybrid'!Q$33=\"Nej\",0,Q137)+Q183,0)))","v":0},{"$f":"T205*IF('El og plugin hybrid'!S$31=\"nej\",0,IF('El og plugin hybrid'!S$39=\"ja\",'El og plugin hybrid'!S$40,'El og plugin hybrid'!S$41))*(1+'El og plugin hybrid'!S$52)^-$C205","v":0},{"$f":"IF('El og plugin hybrid'!S$11=\"el\",IF('El og plugin hybrid'!S$33=\"Nej\",0,S137),IF('El og plugin hybrid'!S$11=\"plugin hybrid benzin\",IF('El og plugin hybrid'!S$33=\"Nej\",0,S137)+S160,IF('El og plugin hybrid'!S$11=\"plugin hybrid diesel\",IF('El og plugin hybrid'!S$33=\"Nej\",0,S137)+S183,0)))","v":0},{"$f":"V205*IF('El og plugin hybrid'!U$31=\"nej\",0,IF('El og plugin hybrid'!U$39=\"ja\",'El og plugin hybrid'!U$40,'El og plugin hybrid'!U$41))*(1+'El og plugin hybrid'!U$52)^-$C205","v":0},{"$f":"IF('El og plugin hybrid'!U$11=\"el\",IF('El og plugin hybrid'!U$33=\"Nej\",0,U137),IF('El og plugin hybrid'!U$11=\"plugin hybrid benzin\",IF('El og plugin hybrid'!U$33=\"Nej\",0,U137)+U160,IF('El og plugin hybrid'!U$11=\"plugin hybrid diesel\",IF('El og plugin hybrid'!U$33=\"Nej\",0,U137)+U183,0)))","v":0},{"$f":"X205*IF('El og plugin hybrid'!W$31=\"nej\",0,IF('El og plugin hybrid'!W$39=\"ja\",'El og plugin hybrid'!W$40,'El og plugin hybrid'!W$41))*(1+'El og plugin hybrid'!W$52)^-$C205","v":0},{"$f":"IF('El og plugin hybrid'!W$11=\"el\",IF('El og plugin hybrid'!W$33=\"Nej\",0,W137),IF('El og plugin hybrid'!W$11=\"plugin hybrid benzin\",IF('El og plugin hybrid'!W$33=\"Nej\",0,W137)+W160,IF('El og plugin hybrid'!W$11=\"plugin hybrid diesel\",IF('El og plugin hybrid'!W$33=\"Nej\",0,W137)+W183,0)))","v":0}]
[null,20,20,null,{"$f":"F206*IF('El og plugin hybrid'!E$31=\"nej\",0,IF('El og plugin hybrid'!E$39=\"ja\",'El og plugin hybrid'!E$40,'El og plugin hybrid'!E$41))*(1+'El og plugin hybrid'!E$52)^-$C206","v":0},{"$f":"IF('El og plugin hybrid'!E$11=\"el\",IF('El og plugin hybrid'!E$33=\"Nej\",0,E138),IF('El og plugin hybrid'!E$11=\"plugin hybrid benzin\",IF('El og plugin hybrid'!E$33=\"Nej\",0,E138)+E161,IF('El og plugin hybrid'!E$11=\"plugin hybrid diesel\",IF('El og plugin hybrid'!E$33=\"Nej\",0,E138)+E184,0)))","v":0},{"$f":"H206*IF('El og plugin hybrid'!G$31=\"nej\",0,IF('El og plugin hybrid'!G$39=\"ja\",'El og plugin hybrid'!G$40,'El og plugin hybrid'!G$41))*(1+'El og plugin hybrid'!G$52)^-$C206","v":0},{"$f":"IF('El og plugin hybrid'!G$11=\"el\",IF('El og plugin hybrid'!G$33=\"Nej\",0,G138),IF('El og plugin hybrid'!G$11=\"plugin hybrid benzin\",IF('El og plugin hybrid'!G$33=\"Nej\",0,G138)+G161,IF('El og plugin hybrid'!G$11=\"plugin hybrid diesel\",IF('El og plugin hybrid'!G$33=\"Nej\",0,G138)+G184,0)))","v":0},{"$f":"J206*IF('El og plugin hybrid'!I$31=\"nej\",0,IF('El og plugin hybrid'!I$39=\"ja\",'El og plugin hybrid'!I$40,'El og plugin hybrid'!I$41))*(1+'El og plugin hybrid'!I$52)^-$C206","v":0},{"$f":"IF('El og plugin hybrid'!I$11=\"el\",IF('El og plugin hybrid'!I$33=\"Nej\",0,I138),IF('El og plugin hybrid'!I$11=\"plugin hybrid benzin\",IF('El og plugin hybrid'!I$33=\"Nej\",0,I138)+I161,IF('El og plugin hybrid'!I$11=\"plugin hybrid diesel\",IF('El og plugin hybrid'!I$33=\"Nej\",0,I138)+I184,0)))","v":0},{"$f":"L206*IF('El og plugin hybrid'!K$31=\"nej\",0,IF('El og plugin hybrid'!K$39=\"ja\",'El og plugin hybrid'!K$40,'El og plugin hybrid'!K$41))*(1+'El og plugin hybrid'!K$52)^-$C206","v":0},{"$f":"IF('El og plugin hybrid'!K$11=\"el\",IF('El og plugin hybrid'!K$33=\"Nej\",0,K138),IF('El og plugin hybrid'!K$11=\"plugin hybrid benzin\",IF('El og plugin hybrid'!K$33=\"Nej\",0,K138)+K161,IF('El og plugin hybrid'!K$11=\"plugin hybrid diesel\",IF('El og plugin hybrid'!K$33=\"Nej\",0,K138)+K184,0)))","v":0},{"$f":"N206*IF('El og plugin hybrid'!M$31=\"nej\",0,IF('El og plugin hybrid'!M$39=\"ja\",'El og plugin hybrid'!M$40,'El og plugin hybrid'!M$41))*(1+'El og plugin hybrid'!M$52)^-$C206","v":0},{"$f":"IF('El og plugin hybrid'!M$11=\"el\",IF('El og plugin hybrid'!M$33=\"Nej\",0,M138),IF('El og plugin hybrid'!M$11=\"plugin hybrid benzin\",IF('El og plugin hybrid'!M$33=\"Nej\",0,M138)+M161,IF('El og plugin hybrid'!M$11=\"plugin hybrid diesel\",IF('El og plugin hybrid'!M$33=\"Nej\",0,M138)+M184,0)))","v":0},{"$f":"P206*IF('El og plugin hybrid'!O$31=\"nej\",0,IF('El og plugin hybrid'!O$39=\"ja\",'El og plugin hybrid'!O$40,'El og plugin hybrid'!O$41))*(1+'El og plugin hybrid'!O$52)^-$C206","v":0},{"$f":"IF('El og plugin hybrid'!O$11=\"el\",IF('El og plugin hybrid'!O$33=\"Nej\",0,O138),IF('El og plugin hybrid'!O$11=\"plugin hybrid benzin\",IF('El og plugin hybrid'!O$33=\"Nej\",0,O138)+O161,IF('El og plugin hybrid'!O$11=\"plugin hybrid diesel\",IF('El og plugin hybrid'!O$33=\"Nej\",0,O138)+O184,0)))","v":0},{"$f":"R206*IF('El og plugin hybrid'!Q$31=\"nej\",0,IF('El og plugin hybrid'!Q$39=\"ja\",'El og plugin hybrid'!Q$40,'El og plugin hybrid'!Q$41))*(1+'El og plugin hybrid'!Q$52)^-$C206","v":0},{"$f":"IF('El og plugin hybrid'!Q$11=\"el\",IF('El og plugin hybrid'!Q$33=\"Nej\",0,Q138),IF('El og plugin hybrid'!Q$11=\"plugin hybrid benzin\",IF('El og plugin hybrid'!Q$33=\"Nej\",0,Q138)+Q161,IF('El og plugin hybrid'!Q$11=\"plugin hybrid diesel\",IF('El og plugin hybrid'!Q$33=\"Nej\",0,Q138)+Q184,0)))","v":0},{"$f":"T206*IF('El og plugin hybrid'!S$31=\"nej\",0,IF('El og plugin hybrid'!S$39=\"ja\",'El og plugin hybrid'!S$40,'El og plugin hybrid'!S$41))*(1+'El og plugin hybrid'!S$52)^-$C206","v":0},{"$f":"IF('El og plugin hybrid'!S$11=\"el\",IF('El og plugin hybrid'!S$33=\"Nej\",0,S138),IF('El og plugin hybrid'!S$11=\"plugin hybrid benzin\",IF('El og plugin hybrid'!S$33=\"Nej\",0,S138)+S161,IF('El og plugin hybrid'!S$11=\"plugin hybrid diesel\",IF('El og plugin hybrid'!S$33=\"Nej\",0,S138)+S184,0)))","v":0},{"$f":"V206*IF('El og plugin hybrid'!U$31=\"nej\",0,IF('El og plugin hybrid'!U$39=\"ja\",'El og plugin hybrid'!U$40,'El og plugin hybrid'!U$41))*(1+'El og plugin hybrid'!U$52)^-$C206","v":0},{"$f":"IF('El og plugin hybrid'!U$11=\"el\",IF('El og plugin hybrid'!U$33=\"Nej\",0,U138),IF('El og plugin hybrid'!U$11=\"plugin hybrid benzin\",IF('El og plugin hybrid'!U$33=\"Nej\",0,U138)+U161,IF('El og plugin hybrid'!U$11=\"plugin hybrid diesel\",IF('El og plugin hybrid'!U$33=\"Nej\",0,U138)+U184,0)))","v":0},{"$f":"X206*IF('El og plugin hybrid'!W$31=\"nej\",0,IF('El og plugin hybrid'!W$39=\"ja\",'El og plugin hybrid'!W$40,'El og plugin hybrid'!W$41))*(1+'El og plugin hybrid'!W$52)^-$C206","v":0},{"$f":"IF('El og plugin hybrid'!W$11=\"el\",IF('El og plugin hybrid'!W$33=\"Nej\",0,W138),IF('El og plugin hybrid'!W$11=\"plugin hybrid benzin\",IF('El og plugin hybrid'!W$33=\"Nej\",0,W138)+W161,IF('El og plugin hybrid'!W$11=\"plugin hybrid diesel\",IF('El og plugin hybrid'!W$33=\"Nej\",0,W138)+W184,0)))","v":0}]
[]
[]
["Eksternalitetsmodul - Samfundsøkonomiske omkostninger (kr.)",null,null,null,"Udregninger NOx","OBS - Kun ifm. El"]
[null,"År indeks",null,"TCO-evalueringsperiode",{"$f":"'El og plugin hybrid'!E8&\" - Samfundsøkonomiske omkostninger (kr.)\"","v":"PRODUKT 1 EL - Samfundsøkonomiske omkostninger (kr.)"},{"$f":"'El og plugin hybrid'!E8&\" - Samlet udledning i kg NOx\"","v":"PRODUKT 1 EL - Samlet udledning i kg NOx"},{"$f":"'El og plugin hybrid'!G8&\" - Samfundsøkonomiske omkostninger (kr.)\"","v":"PRODUKT 2 EL - Samfundsøkonomiske omkostninger (kr.)"},{"$f":"'El og plugin hybrid'!G8&\" - Samlet udledning i kg NOx\"","v":"PRODUKT 2 EL - Samlet udledning i kg NOx"},{"$f":"'El og plugin hybrid'!I8&\" - Samfundsøkonomiske omkostninger (kr.)\"","v":"PRODUKT 3 EL - Samfundsøkonomiske omkostninger (kr.)"},{"$f":"'El og plugin hybrid'!I8&\" - Samlet udledning i kg NOx\"","v":"PRODUKT 3 EL - Samlet udledning i kg NOx"},{"$f":"'El og plugin hybrid'!K8&\" - Samfundsøkonomiske omkostninger (kr.)\"","v":"PRODUKT 4 EL - Samfundsøkonomiske omkostninger (kr.)"},{"$f":"'El og plugin hybrid'!K8&\" - Samlet udledning i kg NOx\"","v":"PRODUKT 4 EL - Samlet udledning i kg NOx"},{"$f":"'El og plugin hybrid'!M8&\" - Samfundsøkonomiske omkostninger (kr.)\"","v":"PRODUKT 5 EL - Samfundsøkonomiske omkostninger (kr.)"},{"$f":"'El og plugin hybrid'!M8&\" - Samlet udledning i kg NOx\"","v":"PRODUKT 5 EL - Samlet udledning i kg NOx"},{"$f":"'El og plugin hybrid'!O8&\" - Samfundsøkonomiske omkostninger (kr.)\"","v":"PRODUKT 6 EL - Samfundsøkonomiske omkostninger (kr.)"},{"$f":"'El og plugin hybrid'!O8&\" - Samlet udledning i kg NOx\"","v":"PRODUKT 6 EL - Samlet udledning i kg NOx"},{"$f":"'El og plugin hybrid'!Q8&\" - Samfundsøkonomiske omkostninger (kr.)\"","v":"PRODUKT 7 EL - Samfundsøkonomiske omkostninger (kr.)"},{"$f":"'El og plugin hybrid'!Q8&\" - Samlet udledning i kg NOx\"","v":"PRODUKT 7 EL - Samlet udledning i kg NOx"},{"$f":"'El og plugin hybrid'!S8&\" - Samfundsøkonomiske omkostninger (kr.)\"","v":"PRODUKT 8 EL - Samfundsøkonomiske omkostninger (kr.)"},{"$f":"'El og plugin hybrid'!S8&\" - Samlet udledning i kg NOx\"","v":"PRODUKT 8 EL - Samlet udledning i kg NOx"},{"$f":"'El og plugin hybrid'!U8&\" - Samfundsøkonomiske omkostninger (kr.)\"","v":"PRODUKT 9 EL - Samfundsøkonomiske omkostninger (kr.)"},{"$f":"'El og plugin hybrid'!U8&\" - Samlet udledning i kg NOx\"","v":"PRODUKT 9 EL - Samlet udledning i kg NOx"},{"$f":"'El og plugin hybrid'!W8&\" - Samfundsøkonomiske omkostninger (kr.)\"","v":"PRODUKT 10 EL - Samfundsøkonomiske omkostninger (kr.)"},{"$f":"'El og plugin hybrid'!W8&\" - Samlet udledning i kg NOx\"","v":"PRODUKT 10 EL - Samlet udledning i kg NOx"}]
[null,1,{"$f":"B211","v":1},null,{"$f":"F211*IF('El og plugin hybrid'!E$31=\"nej\",0,'El og plugin hybrid'!E$44)*(1+'El og plugin hybrid'!E$52)^-$C211","v":0},{"$f":"IF('El og plugin hybrid'!E$33=\"Nej\",0,+'El og plugin hybrid'!$E$15*'Udledninger per Wh'!$C$5*'El og plugin hybrid'!E$12*'El og plugin hybrid'!E$13/1000)","v":0},{"$f":"H211*IF('El og plugin hybrid'!G$31=\"nej\",0,'El og plugin hybrid'!G$44)*(1+'El og plugin hybrid'!G$52)^-$C211","v":0},{"$f":"IF('El og plugin hybrid'!G$33=\"Nej\",0,+'El og plugin hybrid'!$E$15*'Udledninger per Wh'!$C$5*'El og plugin hybrid'!G$12*'El og plugin hybrid'!G$13/1000)","v":0},{"$f":"J211*IF('El og plugin hybrid'!I$31=\"nej\",0,'El og plugin hybrid'!I$44)*(1+'El og plugin hybrid'!I$52)^-$C211","v":0},{"$f":"IF('El og plugin hybrid'!I$33=\"Nej\",0,+'El og plugin hybrid'!$E$15*'Udledninger per Wh'!$C$5*'El og plugin hybrid'!I$12*'El og plugin hybrid'!I$13/1000)","v":0},{"$f":"L211*IF('El og plugin hybrid'!K$31=\"nej\",0,'El og plugin hybrid'!K$44)*(1+'El og plugin hybrid'!K$52)^-$C211","v":0},{"$f":"IF('El og plugin hybrid'!K$33=\"Nej\",0,+'El og plugin hybrid'!$E$15*'Udledninger per Wh'!$C$5*'El og plugin hybrid'!K$12*'El og plugin hybrid'!K$13/1000)","v":0},{"$f":"N211*IF('El og plugin hybrid'!M$31=\"nej\",0,'El og plugin hybrid'!M$44)*(1+'El og plugin hybrid'!M$52)^-$C211","v":0},{"$f":"IF('El og plugin hybrid'!M$33=\"Nej\",0,+'El og plugin hybrid'!$E$15*'Udledninger per Wh'!$C$5*'El og plugin hybrid'!M$12*'El og plugin hybrid'!M$13/1000)","v":0},{"$f":"P211*IF('El og plugin hybrid'!O$31=\"nej\",0,'El og plugin hybrid'!O$44)*(1+'El og plugin hybrid'!O$52)^-$C211","v":0},{"$f":"IF('El og plugin hybrid'!O$33=\"Nej\",0,+'El og plugin hybrid'!$E$15*'Udledninger per Wh'!$C$5*'El og plugin hybrid'!O$12*'El og plugin hybrid'!O$13/1000)","v":0},{"$f":"R211*IF('El og plugin hybrid'!Q$31=\"nej\",0,'El og plugin hybrid'!Q$44)*(1+'El og plugin hybrid'!Q$52)^-$C211","v":0},{"$f":"IF('El og plugin hybrid'!Q$33=\"Nej\",0,+'El og plugin hybrid'!$E$15*'Udledninger per Wh'!$C$5*'El og plugin hybrid'!Q$12*'El og plugin hybrid'!Q$13/1000)","v":0},{"$f":"T211*IF('El og plugin hybrid'!S$31=\"nej\",0,'El og plugin hybrid'!S$44)*(1+'El og plugin hybrid'!S$52)^-$C211","v":0},{"$f":"IF('El og plugin hybrid'!S$33=\"Nej\",0,+'El og plugin hybrid'!$E$15*'Udledninger per Wh'!$C$5*'El og plugin hybrid'!S$12*'El og plugin hybrid'!S$13/1000)","v":0},{"$f":"V211*IF('El og plugin hybrid'!U$31=\"nej\",0,'El og plugin hybrid'!U$44)*(1+'El og plugin hybrid'!U$52)^-$C211","v":0},{"$f":"IF('El og plugin hybrid'!U$33=\"Nej\",0,+'El og plugin hybrid'!$E$15*'Udledninger per Wh'!$C$5*'El og plugin hybrid'!U$12*'El og plugin hybrid'!U$13/1000)","v":0},{"$f":"X211*IF('El og plugin hybrid'!W$31=\"nej\",0,'El og plugin hybrid'!W$44)*(1+'El og plugin hybrid'!W$52)^-$C211","v":0},{"$f":"IF('El og plugin hybrid'!W$33=\"Nej\",0,+'El og plugin hybrid'!$E$15*'Udledninger per Wh'!$C$5*'El og plugin hybrid'!W$12*'El og plugin hybrid'!W$13/1000)","v":0}]
[null,2,{"$f":"B212","v":2},null,{"$f":"F212*IF('El og plugin hybrid'!E$31=\"nej\",0,'El og plugin hybrid'!E$44)*(1+'El og plugin hybrid'!E$52)^-$C212","v":0},{"$f":"IF('El og plugin hybrid'!E$33=\"Nej\",0,+'El og plugin hybrid'!$E$15*'Udledninger per Wh'!$C$5*'El og plugin hybrid'!E$12*'El og plugin hybrid'!E$13/1000)","v":0},{"$f":"H212*IF('El og plugin hybrid'!G$31=\"nej\",0,'El og plugin hybrid'!G$44)*(1+'El og plugin hybrid'!G$52)^-$C212","v":0},{"$f":"IF('El og plugin hybrid'!G$33=\"Nej\",0,+'El og plugin hybrid'!$E$15*'Udledninger per Wh'!$C$5*'El og plugin hybrid'!G$12*'El og plugin hybrid'!G$13/1000)","v":0},{"$f":"J212*IF('El og plugin hybrid'!I$31=\"nej\",0,'El og plugin hybrid'!I$44)*(1+'El og plugin hybrid'!I$52)^-$C212","v":0},{"$f":"IF('El og plugin hybrid'!I$33=\"Nej\",0,+'El og plugin hybrid'!$E$15*'Udledninger per Wh'!$C$5*'El og plugin hybrid'!I$12*'El og plugin hybrid'!I$13/1000)","v":0},{"$f":"L212*IF('El og plugin hybrid'!K$31=\"nej\",0,'El og plugin hybrid'!K$44)*(1+'El og plugin hybrid'!K$52)^-$C212","v":0},{"$f":"IF('El og plugin hybrid'!K$33=\"Nej\",0,+'El og plugin hybrid'!$E$15*'Udledninger per Wh'!$C$5*'El og plugin hybrid'!K$12*'El og plugin hybrid'!K$13/1000)","v":0},{"$f":"N212*IF('El og plugin hybrid'!M$31=\"nej\",0,'El og plugin hybrid'!M$44)*(1+'El og plugin hybrid'!M$52)^-$C212","v":0},{"$f":"IF('El og plugin hybrid'!M$33=\"Nej\",0,+'El og plugin hybrid'!$E$15*'Udledninger per Wh'!$C$5*'El og plugin hybrid'!M$12*'El og plugin hybrid'!M$13/1000)","v":0},{"$f":"P212*IF('El og plugin hybrid'!O$31=\"nej\",0,'El og plugin hybrid'!O$44)*(1+'El og plugin hybrid'!O$52)^-$C212","v":0},{"$f":"IF('El og plugin hybrid'!O$33=\"Nej\",0,+'El og plugin hybrid'!$E$15*'Udledninger per Wh'!$C$5*'El og plugin hybrid'!O$12*'El og plugin hybrid'!O$13/1000)","v":0},{"$f":"R212*IF('El og plugin hybrid'!Q$31=\"nej\",0,'El og plugin hybrid'!Q$44)*(1+'El og plugin hybrid'!Q$52)^-$C212","v":0},{"$f":"IF('El og plugin hybrid'!Q$33=\"Nej\",0,+'El og plugin hybrid'!$E$15*'Udledninger per Wh'!$C$5*'El og plugin hybrid'!Q$12*'El og plugin hybrid'!Q$13/1000)","v":0},{"$f":"T212*IF('El og plugin hybrid'!S$31=\"nej\",0,'El og plugin hybrid'!S$44)*(1+'El og plugin hybrid'!S$52)^-$C212","v":0},{"$f":"IF('El og plugin hybrid'!S$33=\"Nej\",0,+'El og plugin hybrid'!$E$15*'Udledninger per Wh'!$C$5*'El og plugin hybrid'!S$12*'El og plugin hybrid'!S$13/1000)","v":0},{"$f":"V212*IF('El og plugin hybrid'!U$31=\"nej\",0,'El og plugin hybrid'!U$44)*(1+'El og plugin hybrid'!U$52)^-$C212","v":0},{"$f":"IF('El og plugin hybrid'!U$33=\"Nej\",0,+'El og plugin hybrid'!$E$15*'Udledninger per Wh'!$C$5*'El og plugin hybrid'!U$12*'El og plugin hybrid'!U$13/1000)","v":0},{"$f":"X212*IF('El og plugin hybrid'!W$31=\"nej\",0,'El og plugin hybrid'!W$44)*(1+'El og plugin hybrid'!W$52)^-$C212","v":0},{"$f":"IF('El og plugin hybrid'!W$33=\"Nej\",0,+'El og plugin hybrid'!$E$15*'Udledninger per Wh'!$C$5*'El og plugin hybrid'!W$12*'El og plugin hybrid'!W$13/1000)","v":0}]
[null,3,3,null,{"$f":"F213*IF('El og plugin hybrid'!E$31=\"nej\",0,'El og plugin hybrid'!E$44)*(1+'El og plugin hybrid'!E$52)^-$C213","v":0},{"$f":"IF('El og plugin hybrid'!E$33=\"Nej\",0,+'El og plugin hybrid'!$E$15*'Udledninger per Wh'!$C$5*'El og plugin hybrid'!E$12*'El og plugin hybrid'!E$13/1000)","v":0},{"$f":"H213*IF('El og plugin hybrid'!G$31=\"nej\",0,'El og plugin hybrid'!G$44)*(1+'El og plugin hybrid'!G$52)^-$C213","v":0},{"$f":"IF('El og plugin hybrid'!G$33=\"Nej\",0,+'El og plugin hybrid'!$E$15*'Udledninger per Wh'!$C$5*'El og plugin hybrid'!G$12*'El og plugin hybrid'!G$13/1000)","v":0},{"$f":"J213*IF('El og plugin hybrid'!I$31=\"nej\",0,'El og plugin hybrid'!I$44)*(1+'El og plugin hybrid'!I$52)^-$C213","v":0},{"$f":"IF('El og plugin hybrid'!I$33=\"Nej\",0,+'El og plugin hybrid'!$E$15*'Udledninger per Wh'!$C$5*'El og plugin hybrid'!I$12*'El og plugin hybrid'!I$13/1000)","v":0},{"$f":"L213*IF('El og plugin hybrid'!K$31=\"nej\",0,'El og plugin hybrid'!K$44)*(1+'El og plugin hybrid'!K$52)^-$C213","v":0},{"$f":"IF('El og plugin hybrid'!K$33=\"Nej\",0,+'El og plugin hybrid'!$E$15*'Udledninger per Wh'!$C$5*'El og plugin hybrid'!K$12*'El og plugin hybrid'!K$13/1000)","v":0},{"$f":"N213*IF('El og plugin hybrid'!M$31=\"nej\",0,'El og plugin hybrid'!M$44)*(1+'El og plugin hybrid'!M$52)^-$C213","v":0},{"$f":"IF('El og plugin hybrid'!M$33=\"Nej\",0,+'El og plugin hybrid'!$E$15*'Udledninger per Wh'!$C$5*'El og plugin hybrid'!M$12*'El og plugin hybrid'!M$13/1000)","v":0},{"$f":"P213*IF('El og plugin hybrid'!O$31=\"nej\",0,'El og plugin hybrid'!O$44)*(1+'El og plugin hybrid'!O$52)^-$C213","v":0},{"$f":"IF('El og plugin hybrid'!O$33=\"Nej\",0,+'El og plugin hybrid'!$E$15*'Udledninger per Wh'!$C$5*'El og plugin hybrid'!O$12*'El og plugin hybrid'!O$13/1000)","v":0},{"$f":"R213*IF('El og plugin hybrid'!Q$31=\"nej\",0,'El og plugin hybrid'!Q$44)*(1+'El og plugin hybrid'!Q$52)^-$C213","v":0},{"$f":"IF('El og plugin hybrid'!Q$33=\"Nej\",0,+'El og plugin hybrid'!$E$15*'Udledninger per Wh'!$C$5*'El og plugin hybrid'!Q$12*'El og plugin hybrid'!Q$13/1000)","v":0},{"$f":"T213*IF('El og plugin hybrid'!S$31=\"nej\",0,'El og plugin hybrid'!S$44)*(1+'El og plugin hybrid'!S$52)^-$C213","v":0},{"$f":"IF('El og plugin hybrid'!S$33=\"Nej\",0,+'El og plugin hybrid'!$E$15*'Udledninger per Wh'!$C$5*'El og plugin hybrid'!S$12*'El og plugin hybrid'!S$13/1000)","v":0},{"$f":"V213*IF('El og plugin hybrid'!U$31=\"nej\",0,'El og plugin hybrid'!U$44)*(1+'El og plugin hybrid'!U$52)^-$C213","v":0},{"$f":"IF('El og plugin hybrid'!U$33=\"Nej\",0,+'El og plugin hybrid'!$E$15*'Udledninger per Wh'!$C$5*'El og plugin hybrid'!U$12*'El og plugin hybrid'!U$13/1000)","v":0},{"$f":"X213*IF('El og plugin hybrid'!W$31=\"nej\",0,'El og plugin hybrid'!W$44)*(1+'El og plugin hybrid'!W$52)^-$C213","v":0},{"$f":"IF('El og plugin hybrid'!W$33=\"Nej\",0,+'El og plugin hybrid'!$E$15*'Udledninger per Wh'!$C$5*'El og plugin hybrid'!W$12*'El og plugin hybrid'!W$13/1000)","v":0}]
[null,4,4,null,{"$f":"F214*IF('El og plugin hybrid'!E$31=\"nej\",0,'El og plugin hybrid'!E$44)*(1+'El og plugin hybrid'!E$52)^-$C214","v":0},{"$f":"IF('El og plugin hybrid'!E$33=\"Nej\",0,+'El og plugin hybrid'!$E$15*'Udledninger per Wh'!$C$5*'El og plugin hybrid'!E$12*'El og plugin hybrid'!E$13/1000)","v":0},{"$f":"H214*IF('El og plugin hybrid'!G$31=\"nej\",0,'El og plugin hybrid'!G$44)*(1+'El og plugin hybrid'!G$52)^-$C214","v":0},{"$f":"IF('El og plugin hybrid'!G$33=\"Nej\",0,+'El og plugin hybrid'!$E$15*'Udledninger per Wh'!$C$5*'El og plugin hybrid'!G$12*'El og plugin hybrid'!G$13/1000)","v":0},{"$f":"J214*IF('El og plugin hybrid'!I$31=\"nej\",0,'El og plugin hybrid'!I$44)*(1+'El og plugin hybrid'!I$52)^-$C214","v":0},{"$f":"IF('El og plugin hybrid'!I$33=\"Nej\",0,+'El og plugin hybrid'!$E$15*'Udledninger per Wh'!$C$5*'El og plugin hybrid'!I$12*'El og plugin hybrid'!I$13/1000)","v":0},{"$f":"L214*IF('El og plugin hybrid'!K$31=\"nej\",0,'El og plugin hybrid'!K$44)*(1+'El og plugin hybrid'!K$52)^-$C214","v":0},{"$f":"IF('El og plugin hybrid'!K$33=\"Nej\",0,+'El og plugin hybrid'!$E$15*'Udledninger per Wh'!$C$5*'El og plugin hybrid'!K$12*'El og plugin hybrid'!K$13/1000)","v":0},{"$f":"N214*IF('El og plugin hybrid'!M$31=\"nej\",0,'El og plugin hybrid'!M$44)*(1+'El og plugin hybrid'!M$52)^-$C214","v":0},{"$f":"IF('El og plugin hybrid'!M$33=\"Nej\",0,+'El og plugin hybrid'!$E$15*'Udledninger per Wh'!$C$5*'El og plugin hybrid'!M$12*'El og plugin hybrid'!M$13/1000)","v":0},{"$f":"P214*IF('El og plugin hybrid'!O$31=\"nej\",0,'El og plugin hybrid'!O$44)*(1+'El og plugin hybrid'!O$52)^-$C214","v":0},{"$f":"IF('El og plugin hybrid'!O$33=\"Nej\",0,+'El og plugin hybrid'!$E$15*'Udledninger per Wh'!$C$5*'El og plugin hybrid'!O$12*'El og plugin hybrid'!O$13/1000)","v":0},{"$f":"R214*IF('El og plugin hybrid'!Q$31=\"nej\",0,'El og plugin hybrid'!Q$44)*(1+'El og plugin hybrid'!Q$52)^-$C214","v":0},{"$f":"IF('El og plugin hybrid'!Q$33=\"Nej\",0,+'El og plugin hybrid'!$E$15*'Udledninger per Wh'!$C$5*'El og plugin hybrid'!Q$12*'El og plugin hybrid'!Q$13/1000)","v":0},{"$f":"T214*IF('El og plugin hybrid'!S$31=\"nej\",0,'El og plugin hybrid'!S$44)*(1+'El og plugin hybrid'!S$52)^-$C214","v":0},{"$f":"IF('El og plugin hybrid'!S$33=\"Nej\",0,+'El og plugin hybrid'!$E$15*'Udledninger per Wh'!$C$5*'El og plugin hybrid'!S$12*'El og plugin hybrid'!S$13/1000)","v":0},{"$f":"V214*IF('El og plugin hybrid'!U$31=\"nej\",0,'El og plugin hybrid'!U$44)*(1+'El og plugin hybrid'!U$52)^-$C214","v":0},{"$f":"IF('El og plugin hybrid'!U$33=\"Nej\",0,+'El og plugin hybrid'!$E$15*'Udledninger per Wh'!$C$5*'El og plugin hybrid'!U$12*'El og plugin hybrid'!U$13/1000)","v":0},{"$f":"X214*IF('El og plugin hybrid'!W$31=\"nej\",0,'El og plugin hybrid'!W$44)*(1+'El og plugin hybrid'!W$52)^-$C214","v":0},{"$f":"IF('El og plugin hybrid'!W$33=\"Nej\",0,+'El og plugin hybrid'!$E$15*'Udledninger per Wh'!$C$5*'El og plugin hybrid'!W$12*'El og plugin hybrid'!W$13/1000)","v":0}]
[null,5,5,null,{"$f":"F215*IF('El og plugin hybrid'!E$31=\"nej\",0,'El og plugin hybrid'!E$44)*(1+'El og plugin hybrid'!E$52)^-$C215","v":0},{"$f":"IF('El og plugin hybrid'!E$33=\"Nej\",0,+'El og plugin hybrid'!$E$15*'Udledninger per Wh'!$C$5*'El og plugin hybrid'!E$12*'El og plugin hybrid'!E$13/1000)","v":0},{"$f":"H215*IF('El og plugin hybrid'!G$31=\"nej\",0,'El og plugin hybrid'!G$44)*(1+'El og plugin hybrid'!G$52)^-$C215","v":0},{"$f":"IF('El og plugin hybrid'!G$33=\"Nej\",0,+'El og plugin hybrid'!$E$15*'Udledninger per Wh'!$C$5*'El og plugin hybrid'!G$12*'El og plugin hybrid'!G$13/1000)","v":0},{"$f":"J215*IF('El og plugin hybrid'!I$31=\"nej\",0,'El og plugin hybrid'!I$44)*(1+'El og plugin hybrid'!I$52)^-$C215","v":0},{"$f":"IF('El og plugin hybrid'!I$33=\"Nej\",0,+'El og plugin hybrid'!$E$15*'Udledninger per Wh'!$C$5*'El og plugin hybrid'!I$12*'El og plugin hybrid'!I$13/1000)","v":0},{"$f":"L215*IF('El og plugin hybrid'!K$31=\"nej\",0,'El og plugin hybrid'!K$44)*(1+'El og plugin hybrid'!K$52)^-$C215","v":0},{"$f":"IF('El og plugin hybrid'!K$33=\"Nej\",0,+'El og plugin hybrid'!$E$15*'Udledninger per Wh'!$C$5*'El og plugin hybrid'!K$12*'El og plugin hybrid'!K$13/1000)","v":0},{"$f":"N215*IF('El og plugin hybrid'!M$31=\"nej\",0,'El og plugin hybrid'!M$44)*(1+'El og plugin hybrid'!M$52)^-$C215","v":0},{"$f":"IF('El og plugin hybrid'!M$33=\"Nej\",0,+'El og plugin hybrid'!$E$15*'Udledninger per Wh'!$C$5*'El og plugin hybrid'!M$12*'El og plugin hybrid'!M$13/1000)","v":0},{"$f":"P215*IF('El og plugin hybrid'!O$31=\"nej\",0,'El og plugin hybrid'!O$44)*(1+'El og plugin hybrid'!O$52)^-$C215","v":0},{"$f":"IF('El og plugin hybrid'!O$33=\"Nej\",0,+'El og plugin hybrid'!$E$15*'Udledninger per Wh'!$C$5*'El og plugin hybrid'!O$12*'El og plugin hybrid'!O$13/1000)","v":0},{"$f":"R215*IF('El og plugin hybrid'!Q$31=\"nej\",0,'El og plugin hybrid'!Q$44)*(1+'El og plugin hybrid'!Q$52)^-$C215","v":0},{"$f":"IF('El og plugin hybrid'!Q$33=\"Nej\",0,+'El og plugin hybrid'!$E$15*'Udledninger per Wh'!$C$5*'El og plugin hybrid'!Q$12*'El og plugin hybrid'!Q$13/1000)","v":0},{"$f":"T215*IF('El og plugin hybrid'!S$31=\"nej\",0,'El og plugin hybrid'!S$44)*(1+'El og plugin hybrid'!S$52)^-$C215","v":0},{"$f":"IF('El og plugin hybrid'!S$33=\"Nej\",0,+'El og plugin hybrid'!$E$15*'Udledninger per Wh'!$C$5*'El og plugin hybrid'!S$12*'El og plugin hybrid'!S$13/1000)","v":0},{"$f":"V215*IF('El og plugin hybrid'!U$31=\"nej\",0,'El og plugin hybrid'!U$44)*(1+'El og plugin hybrid'!U$52)^-$C215","v":0},{"$f":"IF('El og plugin hybrid'!U$33=\"Nej\",0,+'El og plugin hybrid'!$E$15*'Udledninger per Wh'!$C$5*'El og plugin hybrid'!U$12*'El og plugin hybrid'!U$13/1000)","v":0},{"$f":"X215*IF('El og plugin hybrid'!W$31=\"nej\",0,'El og plugin hybrid'!W$44)*(1+'El og plugin hybrid'!W$52)^-$C215","v":0},{"$f":"IF('El og plugin hybrid'!W$33=\"Nej\",0,+'El og plugin hybrid'!$E$15*'Udledninger per Wh'!$C$5*'El og plugin hybrid'!W$12*'El og plugin hybrid'!W$13/1000)","v":0}]
[null,6,6,null,{"$f":"F216*IF('El og plugin hybrid'!E$31=\"nej\",0,'El og plugin hybrid'!E$44)*(1+'El og plugin hybrid'!E$52)^-$C216","v":0},{"$f":"IF('El og plugin hybrid'!E$33=\"Nej\",0,+'El og plugin hybrid'!$E$15*'Udledninger per Wh'!$C$5*'El og plugin hybrid'!E$12*'El og plugin hybrid'!E$13/1000)","v":0},{"$f":"H216*IF('El og plugin hybrid'!G$31=\"nej\",0,'El og plugin hybrid'!G$44)*(1+'El og plugin hybrid'!G$52)^-$C216","v":0},{"$f":"IF('El og plugin hybrid'!G$33=\"Nej\",0,+'El og plugin hybrid'!$E$15*'Udledninger per Wh'!$C$5*'El og plugin hybrid'!G$12*'El og plugin hybrid'!G$13/1000)","v":0},{"$f":"J216*IF('El og plugin hybrid'!I$31=\"nej\",0,'El og plugin hybrid'!I$44)*(1+'El og plugin hybrid'!I$52)^-$C216","v":0},{"$f":"IF('El og plugin hybrid'!I$33=\"Nej\",0,+'El og plugin hybrid'!$E$15*'Udledninger per Wh'!$C$5*'El og plugin hybrid'!I$12*'El og plugin hybrid'!I$13/1000)","v":0},{"$f":"L216*IF('El og plugin hybrid'!K$31=\"nej\",0,'El og plugin hybrid'!K$44)*(1+'El og plugin hybrid'!K$52)^-$C216","v":0},{"$f":"IF('El og plugin hybrid'!K$33=\"Nej\",0,+'El og plugin hybrid'!$E$15*'Udledninger per Wh'!$C$5*'El og plugin hybrid'!K$12*'El og plugin hybrid'!K$13/1000)","v":0},{"$f":"N216*IF('El og plugin hybrid'!M$31=\"nej\",0,'El og plugin hybrid'!M$44)*(1+'El og plugin hybrid'!M$52)^-$C216","v":0},{"$f":"IF('El og plugin hybrid'!M$33=\"Nej\",0,+'El og plugin hybrid'!$E$15*'Udledninger per Wh'!$C$5*'El og plugin hybrid'!M$12*'El og plugin hybrid'!M$13/1000)","v":0},{"$f":"P216*IF('El og plugin hybrid'!O$31=\"nej\",0,'El og plugin hybrid'!O$44)*(1+'El og plugin hybrid'!O$52)^-$C216","v":0},{"$f":"IF('El og plugin hybrid'!O$33=\"Nej\",0,+'El og plugin hybrid'!$E$15*'Udledninger per Wh'!$C$5*'El og plugin hybrid'!O$12*'El og plugin hybrid'!O$13/1000)","v":0},{"$f":"R216*IF('El og plugin hybrid'!Q$31=\"nej\",0,'El og plugin hybrid'!Q$44)*(1+'El og plugin hybrid'!Q$52)^-$C216","v":0},{"$f":"IF('El og plugin hybrid'!Q$33=\"Nej\",0,+'El og plugin hybrid'!$E$15*'Udledninger per Wh'!$C$5*'El og plugin hybrid'!Q$12*'El og plugin hybrid'!Q$13/1000)","v":0},{"$f":"T216*IF('El og plugin hybrid'!S$31=\"nej\",0,'El og plugin hybrid'!S$44)*(1+'El og plugin hybrid'!S$52)^-$C216","v":0},{"$f":"IF('El og plugin hybrid'!S$33=\"Nej\",0,+'El og plugin hybrid'!$E$15*'Udledninger per Wh'!$C$5*'El og plugin hybrid'!S$12*'El og plugin hybrid'!S$13/1000)","v":0},{"$f":"V216*IF('El og plugin hybrid'!U$31=\"nej\",0,'El og plugin hybrid'!U$44)*(1+'El og plugin hybrid'!U$52)^-$C216","v":0},{"$f":"IF('El og plugin hybrid'!U$33=\"Nej\",0,+'El og plugin hybrid'!$E$15*'Udledninger per Wh'!$C$5*'El og plugin hybrid'!U$12*'El og plugin hybrid'!U$13/1000)","v":0},{"$f":"X216*IF('El og plugin hybrid'!W$31=\"nej\",0,'El og plugin hybrid'!W$44)*(1+'El og plugin hybrid'!W$52)^-$C216","v":0},{"$f":"IF('El og plugin hybrid'!W$33=\"Nej\",0,+'El og plugin hybrid'!$E$15*'Udledninger per Wh'!$C$5*'El og plugin hybrid'!W$12*'El og plugin hybrid'!W$13/1000)","v":0}]
[null,7,7,null,{"$f":"F217*IF('El og plugin hybrid'!E$31=\"nej\",0,'El og plugin hybrid'!E$44)*(1+'El og plugin hybrid'!E$52)^-$C217","v":0},{"$f":"IF('El og plugin hybrid'!E$33=\"Nej\",0,+'El og plugin hybrid'!$E$15*'Udledninger per Wh'!$C$5*'El og plugin hybrid'!E$12*'El og plugin hybrid'!E$13/1000)","v":0},{"$f":"H217*IF('El og plugin hybrid'!G$31=\"nej\",0,'El og plugin hybrid'!G$44)*(1+'El og plugin hybrid'!G$52)^-$C217","v":0},{"$f":"IF('El og plugin hybrid'!G$33=\"Nej\",0,+'El og plugin hybrid'!$E$15*'Udledninger per Wh'!$C$5*'El og plugin hybrid'!G$12*'El og plugin hybrid'!G$13/1000)","v":0},{"$f":"J217*IF('El og plugin hybrid'!I$31=\"nej\",0,'El og plugin hybrid'!I$44)*(1+'El og plugin hybrid'!I$52)^-$C217","v":0},{"$f":"IF('El og plugin hybrid'!I$33=\"Nej\",0,+'El og plugin hybrid'!$E$15*'Udledninger per Wh'!$C$5*'El og plugin hybrid'!I$12*'El og plugin hybrid'!I$13/1000)","v":0},{"$f":"L217*IF('El og plugin hybrid'!K$31=\"nej\",0,'El og plugin hybrid'!K$44)*(1+'El og plugin hybrid'!K$52)^-$C217","v":0},{"$f":"IF('El og plugin hybrid'!K$33=\"Nej\",0,+'El og plugin hybrid'!$E$15*'Udledninger per Wh'!$C$5*'El og plugin hybrid'!K$12*'El og plugin hybrid'!K$13/1000)","v":0},{"$f":"N217*IF('El og plugin hybrid'!M$31=\"nej\",0,'El og plugin hybrid'!M$44)*(1+'El og plugin hybrid'!M$52)^-$C217","v":0},{"$f":"IF('El og plugin hybrid'!M$33=\"Nej\",0,+'El og plugin hybrid'!$E$15*'Udledninger per Wh'!$C$5*'El og plugin hybrid'!M$12*'El og plugin hybrid'!M$13/1000)","v":0},{"$f":"P217*IF('El og plugin hybrid'!O$31=\"nej\",0,'El og plugin hybrid'!O$44)*(1+'El og plugin hybrid'!O$52)^-$C217","v":0},{"$f":"IF('El og plugin hybrid'!O$33=\"Nej\",0,+'El og plugin hybrid'!$E$15*'Udledninger per Wh'!$C$5*'El og plugin hybrid'!O$12*'El og plugin hybrid'!O$13/1000)","v":0},{"$f":"R217*IF('El og plugin hybrid'!Q$31=\"nej\",0,'El og plugin hybrid'!Q$44)*(1+'El og plugin hybrid'!Q$52)^-$C217","v":0},{"$f":"IF('El og plugin hybrid'!Q$33=\"Nej\",0,+'El og plugin hybrid'!$E$15*'Udledninger per Wh'!$C$5*'El og plugin hybrid'!Q$12*'El og plugin hybrid'!Q$13/1000)","v":0},{"$f":"T217*IF('El og plugin hybrid'!S$31=\"nej\",0,'El og plugin hybrid'!S$44)*(1+'El og plugin hybrid'!S$52)^-$C217","v":0},{"$f":"IF('El og plugin hybrid'!S$33=\"Nej\",0,+'El og plugin hybrid'!$E$15*'Udledninger per Wh'!$C$5*'El og plugin hybrid'!S$12*'El og plugin hybrid'!S$13/1000)","v":0},{"$f":"V217*IF('El og plugin hybrid'!U$31=\"nej\",0,'El og plugin hybrid'!U$44)*(1+'El og plugin hybrid'!U$52)^-$C217","v":0},{"$f":"IF('El og plugin hybrid'!U$33=\"Nej\",0,+'El og plugin hybrid'!$E$15*'Udledninger per Wh'!$C$5*'El og plugin hybrid'!U$12*'El og plugin hybrid'!U$13/1000)","v":0},{"$f":"X217*IF('El og plugin hybrid'!W$31=\"nej\",0,'El og plugin hybrid'!W$44)*(1+'El og plugin hybrid'!W$52)^-$C217","v":0},{"$f":"IF('El og plugin hybrid'!W$33=\"Nej\",0,+'El og plugin hybrid'!$E$15*'Udledninger per Wh'!$C$5*'El og plugin hybrid'!W$12*'El og plugin hybrid'!W$13/1000)","v":0}]
[null,8,8,null,{"$f":"F218*IF('El og plugin hybrid'!E$31=\"nej\",0,'El og plugin hybrid'!E$44)*(1+'El og plugin hybrid'!E$52)^-$C218","v":0},{"$f":"IF('El og plugin hybrid'!E$33=\"Nej\",0,+'El og plugin hybrid'!$E$15*'Udledninger per Wh'!$C$5*'El og plugin hybrid'!E$12*'El og plugin hybrid'!E$13/1000)","v":0},{"$f":"H218*IF('El og plugin hybrid'!G$31=\"nej\",0,'El og plugin hybrid'!G$44)*(1+'El og plugin hybrid'!G$52)^-$C218","v":0},{"$f":"IF('El og plugin hybrid'!G$33=\"Nej\",0,+'El og plugin hybrid'!$E$15*'Udledninger per Wh'!$C$5*'El og plugin hybrid'!G$12*'El og plugin hybrid'!G$13/1000)","v":0},{"$f":"J218*IF('El og plugin hybrid'!I$31=\"nej\",0,'El og plugin hybrid'!I$44)*(1+'El og plugin hybrid'!I$52)^-$C218","v":0},{"$f":"IF('El og plugin hybrid'!I$33=\"Nej\",0,+'El og plugin hybrid'!$E$15*'Udledninger per Wh'!$C$5*'El og plugin hybrid'!I$12*'El og plugin hybrid'!I$13/1000)","v":0},{"$f":"L218*IF('El og plugin hybrid'!K$31=\"nej\",0,'El og plugin hybrid'!K$44)*(1+'El og plugin hybrid'!K$52)^-$C218","v":0},{"$f":"IF('El og plugin hybrid'!K$33=\"Nej\",0,+'El og plugin hybrid'!$E$15*'Udledninger per Wh'!$C$5*'El og plugin hybrid'!K$12*'El og plugin hybrid'!K$13/1000)","v":0},{"$f":"N218*IF('El og plugin hybrid'!M$31=\"nej\",0,'El og plugin hybrid'!M$44)*(1+'El og plugin hybrid'!M$52)^-$C218","v":0},{"$f":"IF('El og plugin hybrid'!M$33=\"Nej\",0,+'El og plugin hybrid'!$E$15*'Udledninger per Wh'!$C$5*'El og plugin hybrid'!M$12*'El og plugin hybrid'!M$13/1000)","v":0},{"$f":"P218*IF('El og plugin hybrid'!O$31=\"nej\",0,'El og plugin hybrid'!O$44)*(1+'El og plugin hybrid'!O$52)^-$C218","v":0},{"$f":"IF('El og plugin hybrid'!O$33=\"Nej\",0,+'El og plugin hybrid'!$E$15*'Udledninger per Wh'!$C$5*'El og plugin hybrid'!O$12*'El og plugin hybrid'!O$13/1000)","v":0},{"$f":"R218*IF('El og plugin hybrid'!Q$31=\"nej\",0,'El og plugin hybrid'!Q$44)*(1+'El og plugin hybrid'!Q$52)^-$C218","v":0},{"$f":"IF('El og plugin hybrid'!Q$33=\"Nej\",0,+'El og plugin hybrid'!$E$15*'Udledninger per Wh'!$C$5*'El og plugin hybrid'!Q$12*'El og plugin hybrid'!Q$13/1000)","v":0},{"$f":"T218*IF('El og plugin hybrid'!S$31=\"nej\",0,'El og plugin hybrid'!S$44)*(1+'El og plugin hybrid'!S$52)^-$C218","v":0},{"$f":"IF('El og plugin hybrid'!S$33=\"Nej\",0,+'El og plugin hybrid'!$E$15*'Udledninger per Wh'!$C$5*'El og plugin hybrid'!S$12*'El og plugin hybrid'!S$13/1000)","v":0},{"$f":"V218*IF('El og plugin hybrid'!U$31=\"nej\",0,'El og plugin hybrid'!U$44)*(1+'El og plugin hybrid'!U$52)^-$C218","v":0},{"$f":"IF('El og plugin hybrid'!U$33=\"Nej\",0,+'El og plugin hybrid'!$E$15*'Udledninger per Wh'!$C$5*'El og plugin hybrid'!U$12*'El og plugin hybrid'!U$13/1000)","v":0},{"$f":"X218*IF('El og plugin hybrid'!W$31=\"nej\",0,'El og plugin hybrid'!W$44)*(1+'El og plugin hybrid'!W$52)^-$C218","v":0},{"$f":"IF('El og plugin hybrid'!W$33=\"Nej\",0,+'El og plugin hybrid'!$E$15*'Udledninger per Wh'!$C$5*'El og plugin hybrid'!W$12*'El og plugin hybrid'!W$13/1000)","v":0}]
[null,9,9,null,{"$f":"F219*IF('El og plugin hybrid'!E$31=\"nej\",0,'El og plugin hybrid'!E$44)*(1+'El og plugin hybrid'!E$52)^-$C219","v":0},{"$f":"IF('El og plugin hybrid'!E$33=\"Nej\",0,+'El og plugin hybrid'!$E$15*'Udledninger per Wh'!$C$5*'El og plugin hybrid'!E$12*'El og plugin hybrid'!E$13/1000)","v":0},{"$f":"H219*IF('El og plugin hybrid'!G$31=\"nej\",0,'El og plugin hybrid'!G$44)*(1+'El og plugin hybrid'!G$52)^-$C219","v":0},{"$f":"IF('El og plugin hybrid'!G$33=\"Nej\",0,+'El og plugin hybrid'!$E$15*'Udledninger per Wh'!$C$5*'El og plugin hybrid'!G$12*'El og plugin hybrid'!G$13/1000)","v":0},{"$f":"J219*IF('El og plugin hybrid'!I$31=\"nej\",0,'El og plugin hybrid'!I$44)*(1+'El og plugin hybrid'!I$52)^-$C219","v":0},{"$f":"IF('El og plugin hybrid'!I$33=\"Nej\",0,+'El og plugin hybrid'!$E$15*'Udledninger per Wh'!$C$5*'El og plugin hybrid'!I$12*'El og plugin hybrid'!I$13/1000)","v":0},{"$f":"L219*IF('El og plugin hybrid'!K$31=\"nej\",0,'El og plugin hybrid'!K$44)*(1+'El og plugin hybrid'!K$52)^-$C219","v":0},{"$f":"IF('El og plugin hybrid'!K$33=\"Nej\",0,+'El og plugin hybrid'!$E$15*'Udledninger per Wh'!$C$5*'El og plugin hybrid'!K$12*'El og plugin hybrid'!K$13/1000)","v":0},{"$f":"N219*IF('El og plugin hybrid'!M$31=\"nej\",0,'El og plugin hybrid'!M$44)*(1+'El og plugin hybrid'!M$52)^-$C219","v":0},{"$f":"IF('El og plugin hybrid'!M$33=\"Nej\",0,+'El og plugin hybrid'!$E$15*'Udledninger per Wh'!$C$5*'El og plugin hybrid'!M$12*'El og plugin hybrid'!M$13/1000)","v":0},{"$f":"P219*IF('El og plugin hybrid'!O$31=\"nej\",0,'El og plugin hybrid'!O$44)*(1+'El og plugin hybrid'!O$52)^-$C219","v":0},{"$f":"IF('El og plugin hybrid'!O$33=\"Nej\",0,+'El og plugin hybrid'!$E$15*'Udledninger per Wh'!$C$5*'El og plugin hybrid'!O$12*'El og plugin hybrid'!O$13/1000)","v":0},{"$f":"R219*IF('El og plugin hybrid'!Q$31=\"nej\",0,'El og plugin hybrid'!Q$44)*(1+'El og plugin hybrid'!Q$52)^-$C219","v":0},{"$f":"IF('El og plugin hybrid'!Q$33=\"Nej\",0,+'El og plugin hybrid'!$E$15*'Udledninger per Wh'!$C$5*'El og plugin hybrid'!Q$12*'El og plugin hybrid'!Q$13/1000)","v":0},{"$f":"T219*IF('El og plugin hybrid'!S$31=\"nej\",0,'El og plugin hybrid'!S$44)*(1+'El og plugin hybrid'!S$52)^-$C219","v":0},{"$f":"IF('El og plugin hybrid'!S$33=\"Nej\",0,+'El og plugin hybrid'!$E$15*'Udledninger per Wh'!$C$5*'El og plugin hybrid'!S$12*'El og plugin hybrid'!S$13/1000)","v":0},{"$f":"V219*IF('El og plugin hybrid'!U$31=\"nej\",0,'El og plugin hybrid'!U$44)*(1+'El og plugin hybrid'!U$52)^-$C219","v":0},{"$f":"IF('El og plugin hybrid'!U$33=\"Nej\",0,+'El og plugin hybrid'!$E$15*'Udledninger per Wh'!$C$5*'El og plugin hybrid'!U$12*'El og plugin hybrid'!U$13/1000)","v":0},{"$f":"X219*IF('El og plugin hybrid'!W$31=\"nej\",0,'El og plugin hybrid'!W$44)*(1+'El og plugin hybrid'!W$52)^-$C219","v":0},{"$f":"IF('El og plugin hybrid'!W$33=\"Nej\",0,+'El og plugin hybrid'!$E$15*'Udledninger per Wh'!$C$5*'El og plugin hybrid'!W$12*'El og plugin hybrid'!W$13/1000)","v":0}]
[null,10,10,null,{"$f":"F220*IF('El og plugin hybrid'!E$31=\"nej\",0,'El og plugin hybrid'!E$44)*(1+'El og plugin hybrid'!E$52)^-$C220","v":0},{"$f":"IF('El og plugin hybrid'!E$33=\"Nej\",0,+'El og plugin hybrid'!$E$15*'Udledninger per Wh'!$C$5*'El og plugin hybrid'!E$12*'El og plugin hybrid'!E$13/1000)","v":0},{"$f":"H220*IF('El og plugin hybrid'!G$31=\"nej\",0,'El og plugin hybrid'!G$44)*(1+'El og plugin hybrid'!G$52)^-$C220","v":0},{"$f":"IF('El og plugin hybrid'!G$33=\"Nej\",0,+'El og plugin hybrid'!$E$15*'Udledninger per Wh'!$C$5*'El og plugin hybrid'!G$12*'El og plugin hybrid'!G$13/1000)","v":0},{"$f":"J220*IF('El og plugin hybrid'!I$31=\"nej\",0,'El og plugin hybrid'!I$44)*(1+'El og plugin hybrid'!I$52)^-$C220","v":0},{"$f":"IF('El og plugin hybrid'!I$33=\"Nej\",0,+'El og plugin hybrid'!$E$15*'Udledninger per Wh'!$C$5*'El og plugin hybrid'!I$12*'El og plugin hybrid'!I$13/1000)","v":0},{"$f":"L220*IF('El og plugin hybrid'!K$31=\"nej\",0,'El og plugin hybrid'!K$44)*(1+'El og plugin hybrid'!K$52)^-$C220","v":0},{"$f":"IF('El og plugin hybrid'!K$33=\"Nej\",0,+'El og plugin hybrid'!$E$15*'Udledninger per Wh'!$C$5*'El og plugin hybrid'!K$12*'El og plugin hybrid'!K$13/1000)","v":0},{"$f":"N220*IF('El og plugin hybrid'!M$31=\"nej\",0,'El og plugin hybrid'!M$44)*(1+'El og plugin hybrid'!M$52)^-$C220","v":0},{"$f":"IF('El og plugin hybrid'!M$33=\"Nej\",0,+'El og plugin hybrid'!$E$15*'Udledninger per Wh'!$C$5*'El og plugin hybrid'!M$12*'El og plugin hybrid'!M$13/1000)","v":0},{"$f":"P220*IF('El og plugin hybrid'!O$31=\"nej\",0,'El og plugin hybrid'!O$44)*(1+'El og plugin hybrid'!O$52)^-$C220","v":0},{"$f":"IF('El og plugin hybrid'!O$33=\"Nej\",0,+'El og plugin hybrid'!$E$15*'Udledninger per Wh'!$C$5*'El og plugin hybrid'!O$12*'El og plugin hybrid'!O$13/1000)","v":0},{"$f":"R220*IF('El og plugin hybrid'!Q$31=\"nej\",0,'El og plugin hybrid'!Q$44)*(1+'El og plugin hybrid'!Q$52)^-$C220","v":0},{"$f":"IF('El og plugin hybrid'!Q$33=\"Nej\",0,+'El og plugin hybrid'!$E$15*'Udledninger per Wh'!$C$5*'El og plugin hybrid'!Q$12*'El og plugin hybrid'!Q$13/1000)","v":0},{"$f":"T220*IF('El og plugin hybrid'!S$31=\"nej\",0,'El og plugin hybrid'!S$44)*(1+'El og plugin hybrid'!S$52)^-$C220","v":0},{"$f":"IF('El og plugin hybrid'!S$33=\"Nej\",0,+'El og plugin hybrid'!$E$15*'Udledninger per Wh'!$C$5*'El og plugin hybrid'!S$12*'El og plugin hybrid'!S$13/1000)","v":0},{"$f":"V220*IF('El og plugin hybrid'!U$31=\"nej\",0,'El og plugin hybrid'!U$44)*(1+'El og plugin hybrid'!U$52)^-$C220","v":0},{"$f":"IF('El og plugin hybrid'!U$33=\"Nej\",0,+'El og plugin hybrid'!$E$15*'Udledninger per Wh'!$C$5*'El og plugin hybrid'!U$12*'El og plugin hybrid'!U$13/1000)","v":0},{"$f":"X220*IF('El og plugin hybrid'!W$31=\"nej\",0,'El og plugin hybrid'!W$44)*(1+'El og plugin hybrid'!W$52)^-$C220","v":0},{"$f":"IF('El og plugin hybrid'!W$33=\"Nej\",0,+'El og plugin hybrid'!$E$15*'Udledninger per Wh'!$C$5*'El og plugin hybrid'!W$12*'El og plugin hybrid'!W$13/1000)","v":0}]
[null,11,11,null,{"$f":"F221*IF('El og plugin hybrid'!E$31=\"nej\",0,'El og plugin hybrid'!E$44)*(1+'El og plugin hybrid'!E$52)^-$C221","v":0},{"$f":"IF('El og plugin hybrid'!E$33=\"Nej\",0,+'El og plugin hybrid'!$E$15*'Udledninger per Wh'!$C$5*'El og plugin hybrid'!E$12*'El og plugin hybrid'!E$13/1000)","v":0},{"$f":"H221*IF('El og plugin hybrid'!G$31=\"nej\",0,'El og plugin hybrid'!G$44)*(1+'El og plugin hybrid'!G$52)^-$C221","v":0},{"$f":"IF('El og plugin hybrid'!G$33=\"Nej\",0,+'El og plugin hybrid'!$E$15*'Udledninger per Wh'!$C$5*'El og plugin hybrid'!G$12*'El og plugin hybrid'!G$13/1000)","v":0},{"$f":"J221*IF('El og plugin hybrid'!I$31=\"nej\",0,'El og plugin hybrid'!I$44)*(1+'El og plugin hybrid'!I$52)^-$C221","v":0},{"$f":"IF('El og plugin hybrid'!I$33=\"Nej\",0,+'El og plugin hybrid'!$E$15*'Udledninger per Wh'!$C$5*'El og plugin hybrid'!I$12*'El og plugin hybrid'!I$13/1000)","v":0},{"$f":"L221*IF('El og plugin hybrid'!K$31=\"nej\",0,'El og plugin hybrid'!K$44)*(1+'El og plugin hybrid'!K$52)^-$C221","v":0},{"$f":"IF('El og plugin hybrid'!K$33=\"Nej\",0,+'El og plugin hybrid'!$E$15*'Udledninger per Wh'!$C$5*'El og plugin hybrid'!K$12*'El og plugin hybrid'!K$13/1000)","v":0},{"$f":"N221*IF('El og plugin hybrid'!M$31=\"nej\",0,'El og plugin hybrid'!M$44)*(1+'El og plugin hybrid'!M$52)^-$C221","v":0},{"$f":"IF('El og plugin hybrid'!M$33=\"Nej\",0,+'El og plugin hybrid'!$E$15*'Udledninger per Wh'!$C$5*'El og plugin hybrid'!M$12*'El og plugin hybrid'!M$13/1000)","v":0},{"$f":"P221*IF('El og plugin hybrid'!O$31=\"nej\",0,'El og plugin hybrid'!O$44)*(1+'El og plugin hybrid'!O$52)^-$C221","v":0},{"$f":"IF('El og plugin hybrid'!O$33=\"Nej\",0,+'El og plugin hybrid'!$E$15*'Udledninger per Wh'!$C$5*'El og plugin hybrid'!O$12*'El og plugin hybrid'!O$13/1000)","v":0},{"$f":"R221*IF('El og plugin hybrid'!Q$31=\"nej\",0,'El og plugin hybrid'!Q$44)*(1+'El og plugin hybrid'!Q$52)^-$C221","v":0},{"$f":"IF('El og plugin hybrid'!Q$33=\"Nej\",0,+'El og plugin hybrid'!$E$15*'Udledninger per Wh'!$C$5*'El og plugin hybrid'!Q$12*'El og plugin hybrid'!Q$13/1000)","v":0},{"$f":"T221*IF('El og plugin hybrid'!S$31=\"nej\",0,'El og plugin hybrid'!S$44)*(1+'El og plugin hybrid'!S$52)^-$C221","v":0},{"$f":"IF('El og plugin hybrid'!S$33=\"Nej\",0,+'El og plugin hybrid'!$E$15*'Udledninger per Wh'!$C$5*'El og plugin hybrid'!S$12*'El og plugin hybrid'!S$13/1000)","v":0},{"$f":"V221*IF('El og plugin hybrid'!U$31=\"nej\",0,'El og plugin hybrid'!U$44)*(1+'El og plugin hybrid'!U$52)^-$C221","v":0},{"$f":"IF('El og plugin hybrid'!U$33=\"Nej\",0,+'El og plugin hybrid'!$E$15*'Udledninger per Wh'!$C$5*'El og plugin hybrid'!U$12*'El og plugin hybrid'!U$13/1000)","v":0},{"$f":"X221*IF('El og plugin hybrid'!W$31=\"nej\",0,'El og plugin hybrid'!W$44)*(1+'El og plugin hybrid'!W$52)^-$C221","v":0},{"$f":"IF('El og plugin hybrid'!W$33=\"Nej\",0,+'El og plugin hybrid'!$E$15*'Udledninger per Wh'!$C$5*'El og plugin hybrid'!W$12*'El og plugin hybrid'!W$13/1000)","v":0}]
[null,12,12,null,{"$f":"F222*IF('El og plugin hybrid'!E$31=\"nej\",0,'El og plugin hybrid'!E$44)*(1+'El og plugin hybrid'!E$52)^-$C222","v":0},{"$f":"IF('El og plugin hybrid'!E$33=\"Nej\",0,+'El og plugin hybrid'!$E$15*'Udledninger per Wh'!$C$5*'El og plugin hybrid'!E$12*'El og plugin hybrid'!E$13/1000)","v":0},{"$f":"H222*IF('El og plugin hybrid'!G$31=\"nej\",0,'El og plugin hybrid'!G$44)*(1+'El og plugin hybrid'!G$52)^-$C222","v":0},{"$f":"IF('El og plugin hybrid'!G$33=\"Nej\",0,+'El og plugin hybrid'!$E$15*'Udledninger per Wh'!$C$5*'El og plugin hybrid'!G$12*'El og plugin hybrid'!G$13/1000)","v":0},{"$f":"J222*IF('El og plugin hybrid'!I$31=\"nej\",0,'El og plugin hybrid'!I$44)*(1+'El og plugin hybrid'!I$52)^-$C222","v":0},{"$f":"IF('El og plugin hybrid'!I$33=\"Nej\",0,+'El og plugin hybrid'!$E$15*'Udledninger per Wh'!$C$5*'El og plugin hybrid'!I$12*'El og plugin hybrid'!I$13/1000)","v":0},{"$f":"L222*IF('El og plugin hybrid'!K$31=\"nej\",0,'El og plugin hybrid'!K$44)*(1+'El og plugin hybrid'!K$52)^-$C222","v":0},{"$f":"IF('El og plugin hybrid'!K$33=\"Nej\",0,+'El og plugin hybrid'!$E$15*'Udledninger per Wh'!$C$5*'El og plugin hybrid'!K$12*'El og plugin hybrid'!K$13/1000)","v":0},{"$f":"N222*IF('El og plugin hybrid'!M$31=\"nej\",0,'El og plugin hybrid'!M$44)*(1+'El og plugin hybrid'!M$52)^-$C222","v":0},{"$f":"IF('El og plugin hybrid'!M$33=\"Nej\",0,+'El og plugin hybrid'!$E$15*'Udledninger per Wh'!$C$5*'El og plugin hybrid'!M$12*'El og plugin hybrid'!M$13/1000)","v":0},{"$f":"P222*IF('El og plugin hybrid'!O$31=\"nej\",0,'El og plugin hybrid'!O$44)*(1+'El og plugin hybrid'!O$52)^-$C222","v":0},{"$f":"IF('El og plugin hybrid'!O$33=\"Nej\",0,+'El og plugin hybrid'!$E$15*'Udledninger per Wh'!$C$5*'El og plugin hybrid'!O$12*'El og plugin hybrid'!O$13/1000)","v":0},{"$f":"R222*IF('El og plugin hybrid'!Q$31=\"nej\",0,'El og plugin hybrid'!Q$44)*(1+'El og plugin hybrid'!Q$52)^-$C222","v":0},{"$f":"IF('El og plugin hybrid'!Q$33=\"Nej\",0,+'El og plugin hybrid'!$E$15*'Udledninger per Wh'!$C$5*'El og plugin hybrid'!Q$12*'El og plugin hybrid'!Q$13/1000)","v":0},{"$f":"T222*IF('El og plugin hybrid'!S$31=\"nej\",0,'El og plugin hybrid'!S$44)*(1+'El og plugin hybrid'!S$52)^-$C222","v":0},{"$f":"IF('El og plugin hybrid'!S$33=\"Nej\",0,+'El og plugin hybrid'!$E$15*'Udledninger per Wh'!$C$5*'El og plugin hybrid'!S$12*'El og plugin hybrid'!S$13/1000)","v":0},{"$f":"V222*IF('El og plugin hybrid'!U$31=\"nej\",0,'El og plugin hybrid'!U$44)*(1+'El og plugin hybrid'!U$52)^-$C222","v":0},{"$f":"IF('El og plugin hybrid'!U$33=\"Nej\",0,+'El og plugin hybrid'!$E$15*'Udledninger per Wh'!$C$5*'El og plugin hybrid'!U$12*'El og plugin hybrid'!U$13/1000)","v":0},{"$f":"X222*IF('El og plugin hybrid'!W$31=\"nej\",0,'El og plugin hybrid'!W$44)*(1+'El og plugin hybrid'!W$52)^-$C222","v":0},{"$f":"IF('El og plugin hybrid'!W$33=\"Nej\",0,+'El og plugin hybrid'!$E$15*'Udledninger per Wh'!$C$5*'El og plugin hybrid'!W$12*'El og plugin hybrid'!W$13/1000)","v":0}]
[null,13,13,null,{"$f":"F223*IF('El og plugin hybrid'!E$31=\"nej\",0,'El og plugin hybrid'!E$44)*(1+'El og plugin hybrid'!E$52)^-$C223","v":0},{"$f":"IF('El og plugin hybrid'!E$33=\"Nej\",0,+'El og plugin hybrid'!$E$15*'Udledninger per Wh'!$C$5*'El og plugin hybrid'!E$12*'El og plugin hybrid'!E$13/1000)","v":0},{"$f":"H223*IF('El og plugin hybrid'!G$31=\"nej\",0,'El og plugin hybrid'!G$44)*(1+'El og plugin hybrid'!G$52)^-$C223","v":0},{"$f":"IF('El og plugin hybrid'!G$33=\"Nej\",0,+'El og plugin hybrid'!$E$15*'Udledninger per Wh'!$C$5*'El og plugin hybrid'!G$12*'El og plugin hybrid'!G$13/1000)","v":0},{"$f":"J223*IF('El og plugin hybrid'!I$31=\"nej\",0,'El og plugin hybrid'!I$44)*(1+'El og plugin hybrid'!I$52)^-$C223","v":0},{"$f":"IF('El og plugin hybrid'!I$33=\"Nej\",0,+'El og plugin hybrid'!$E$15*'Udledninger per Wh'!$C$5*'El og plugin hybrid'!I$12*'El og plugin hybrid'!I$13/1000)","v":0},{"$f":"L223*IF('El og plugin hybrid'!K$31=\"nej\",0,'El og plugin hybrid'!K$44)*(1+'El og plugin hybrid'!K$52)^-$C223","v":0},{"$f":"IF('El og plugin hybrid'!K$33=\"Nej\",0,+'El og plugin hybrid'!$E$15*'Udledninger per Wh'!$C$5*'El og plugin hybrid'!K$12*'El og plugin hybrid'!K$13/1000)","v":0},{"$f":"N223*IF('El og plugin hybrid'!M$31=\"nej\",0,'El og plugin hybrid'!M$44)*(1+'El og plugin hybrid'!M$52)^-$C223","v":0},{"$f":"IF('El og plugin hybrid'!M$33=\"Nej\",0,+'El og plugin hybrid'!$E$15*'Udledninger per Wh'!$C$5*'El og plugin hybrid'!M$12*'El og plugin hybrid'!M$13/1000)","v":0},{"$f":"P223*IF('El og plugin hybrid'!O$31=\"nej\",0,'El og plugin hybrid'!O$44)*(1+'El og plugin hybrid'!O$52)^-$C223","v":0},{"$f":"IF('El og plugin hybrid'!O$33=\"Nej\",0,+'El og plugin hybrid'!$E$15*'Udledninger per Wh'!$C$5*'El og plugin hybrid'!O$12*'El og plugin hybrid'!O$13/1000)","v":0},{"$f":"R223*IF('El og plugin hybrid'!Q$31=\"nej\",0,'El og plugin hybrid'!Q$44)*(1+'El og plugin hybrid'!Q$52)^-$C223","v":0},{"$f":"IF('El og plugin hybrid'!Q$33=\"Nej\",0,+'El og plugin hybrid'!$E$15*'Udledninger per Wh'!$C$5*'El og plugin hybrid'!Q$12*'El og plugin hybrid'!Q$13/1000)","v":0},{"$f":"T223*IF('El og plugin hybrid'!S$31=\"nej\",0,'El og plugin hybrid'!S$44)*(1+'El og plugin hybrid'!S$52)^-$C223","v":0},{"$f":"IF('El og plugin hybrid'!S$33=\"Nej\",0,+'El og plugin hybrid'!$E$15*'Udledninger per Wh'!$C$5*'El og plugin hybrid'!S$12*'El og plugin hybrid'!S$13/1000)","v":0},{"$f":"V223*IF('El og plugin hybrid'!U$31=\"nej\",0,'El og plugin hybrid'!U$44)*(1+'El og plugin hybrid'!U$52)^-$C223","v":0},{"$f":"IF('El og plugin hybrid'!U$33=\"Nej\",0,+'El og plugin hybrid'!$E$15*'Udledninger per Wh'!$C$5*'El og plugin hybrid'!U$12*'El og plugin hybrid'!U$13/1000)","v":0},{"$f":"X223*IF('El og plugin hybrid'!W$31=\"nej\",0,'El og plugin hybrid'!W$44)*(1+'El og plugin hybrid'!W$52)^-$C223","v":0},{"$f":"IF('El og plugin hybrid'!W$33=\"Nej\",0,+'El og plugin hybrid'!$E$15*'Udledninger per Wh'!$C$5*'El og plugin hybrid'!W$12*'El og plugin hybrid'!W$13/1000)","v":0}]
[null,14,14,null,{"$f":"F224*IF('El og plugin hybrid'!E$31=\"nej\",0,'El og plugin hybrid'!E$44)*(1+'El og plugin hybrid'!E$52)^-$C224","v":0},{"$f":"IF('El og plugin hybrid'!E$33=\"Nej\",0,+'El og plugin hybrid'!$E$15*'Udledninger per Wh'!$C$5*'El og plugin hybrid'!E$12*'El og plugin hybrid'!E$13/1000)","v":0},{"$f":"H224*IF('El og plugin hybrid'!G$31=\"nej\",0,'El og plugin hybrid'!G$44)*(1+'El og plugin hybrid'!G$52)^-$C224","v":0},{"$f":"IF('El og plugin hybrid'!G$33=\"Nej\",0,+'El og plugin hybrid'!$E$15*'Udledninger per Wh'!$C$5*'El og plugin hybrid'!G$12*'El og plugin hybrid'!G$13/1000)","v":0},{"$f":"J224*IF('El og plugin hybrid'!I$31=\"nej\",0,'El og plugin hybrid'!I$44)*(1+'El og plugin hybrid'!I$52)^-$C224","v":0},{"$f":"IF('El og plugin hybrid'!I$33=\"Nej\",0,+'El og plugin hybrid'!$E$15*'Udledninger per Wh'!$C$5*'El og plugin hybrid'!I$12*'El og plugin hybrid'!I$13/1000)","v":0},{"$f":"L224*IF('El og plugin hybrid'!K$31=\"nej\",0,'El og plugin hybrid'!K$44)*(1+'El og plugin hybrid'!K$52)^-$C224","v":0},{"$f":"IF('El og plugin hybrid'!K$33=\"Nej\",0,+'El og plugin hybrid'!$E$15*'Udledninger per Wh'!$C$5*'El og plugin hybrid'!K$12*'El og plugin hybrid'!K$13/1000)","v":0},{"$f":"N224*IF('El og plugin hybrid'!M$31=\"nej\",0,'El og plugin hybrid'!M$44)*(1+'El og plugin hybrid'!M$52)^-$C224","v":0},{"$f":"IF('El og plugin hybrid'!M$33=\"Nej\",0,+'El og plugin hybrid'!$E$15*'Udledninger per Wh'!$C$5*'El og plugin hybrid'!M$12*'El og plugin hybrid'!M$13/1000)","v":0},{"$f":"P224*IF('El og plugin hybrid'!O$31=\"nej\",0,'El og plugin hybrid'!O$44)*(1+'El og plugin hybrid'!O$52)^-$C224","v":0},{"$f":"IF('El og plugin hybrid'!O$33=\"Nej\",0,+'El og plugin hybrid'!$E$15*'Udledninger per Wh'!$C$5*'El og plugin hybrid'!O$12*'El og plugin hybrid'!O$13/1000)","v":0},{"$f":"R224*IF('El og plugin hybrid'!Q$31=\"nej\",0,'El og plugin hybrid'!Q$44)*(1+'El og plugin hybrid'!Q$52)^-$C224","v":0},{"$f":"IF('El og plugin hybrid'!Q$33=\"Nej\",0,+'El og plugin hybrid'!$E$15*'Udledninger per Wh'!$C$5*'El og plugin hybrid'!Q$12*'El og plugin hybrid'!Q$13/1000)","v":0},{"$f":"T224*IF('El og plugin hybrid'!S$31=\"nej\",0,'El og plugin hybrid'!S$44)*(1+'El og plugin hybrid'!S$52)^-$C224","v":0},{"$f":"IF('El og plugin hybrid'!S$33=\"Nej\",0,+'El og plugin hybrid'!$E$15*'Udledninger per Wh'!$C$5*'El og plugin hybrid'!S$12*'El og plugin hybrid'!S$13/1000)","v":0},{"$f":"V224*IF('El og plugin hybrid'!U$31=\"nej\",0,'El og plugin hybrid'!U$44)*(1+'El og plugin hybrid'!U$52)^-$C224","v":0},{"$f":"IF('El og plugin hybrid'!U$33=\"Nej\",0,+'El og plugin hybrid'!$E$15*'Udledninger per Wh'!$C$5*'El og plugin hybrid'!U$12*'El og plugin hybrid'!U$13/1000)","v":0},{"$f":"X224*IF('El og plugin hybrid'!W$31=\"nej\",0,'El og plugin hybrid'!W$44)*(1+'El og plugin hybrid'!W$52)^-$C224","v":0},{"$f":"IF('El og plugin hybrid'!W$33=\"Nej\",0,+'El og plugin hybrid'!$E$15*'Udledninger per Wh'!$C$5*'El og plugin hybrid'!W$12*'El og plugin hybrid'!W$13/1000)","v":0}]
[null,15,15,null,{"$f":"F225*IF('El og plugin hybrid'!E$31=\"nej\",0,'El og plugin hybrid'!E$44)*(1+'El og plugin hybrid'!E$52)^-$C225","v":0},{"$f":"IF('El og plugin hybrid'!E$33=\"Nej\",0,+'El og plugin hybrid'!$E$15*'Udledninger per Wh'!$C$5*'El og plugin hybrid'!E$12*'El og plugin hybrid'!E$13/1000)","v":0},{"$f":"H225*IF('El og plugin hybrid'!G$31=\"nej\",0,'El og plugin hybrid'!G$44)*(1+'El og plugin hybrid'!G$52)^-$C225","v":0},{"$f":"IF('El og plugin hybrid'!G$33=\"Nej\",0,+'El og plugin hybrid'!$E$15*'Udledninger per Wh'!$C$5*'El og plugin hybrid'!G$12*'El og plugin hybrid'!G$13/1000)","v":0},{"$f":"J225*IF('El og plugin hybrid'!I$31=\"nej\",0,'El og plugin hybrid'!I$44)*(1+'El og plugin hybrid'!I$52)^-$C225","v":0},{"$f":"IF('El og plugin hybrid'!I$33=\"Nej\",0,+'El og plugin hybrid'!$E$15*'Udledninger per Wh'!$C$5*'El og plugin hybrid'!I$12*'El og plugin hybrid'!I$13/1000)","v":0},{"$f":"L225*IF('El og plugin hybrid'!K$31=\"nej\",0,'El og plugin hybrid'!K$44)*(1+'El og plugin hybrid'!K$52)^-$C225","v":0},{"$f":"IF('El og plugin hybrid'!K$33=\"Nej\",0,+'El og plugin hybrid'!$E$15*'Udledninger per Wh'!$C$5*'El og plugin hybrid'!K$12*'El og plugin hybrid'!K$13/1000)","v":0},{"$f":"N225*IF('El og plugin hybrid'!M$31=\"nej\",0,'El og plugin hybrid'!M$44)*(1+'El og plugin hybrid'!M$52)^-$C225","v":0},{"$f":"IF('El og plugin hybrid'!M$33=\"Nej\",0,+'El og plugin hybrid'!$E$15*'Udledninger per Wh'!$C$5*'El og plugin hybrid'!M$12*'El og plugin hybrid'!M$13/1000)","v":0},{"$f":"P225*IF('El og plugin hybrid'!O$31=\"nej\",0,'El og plugin hybrid'!O$44)*(1+'El og plugin hybrid'!O$52)^-$C225","v":0},{"$f":"IF('El og plugin hybrid'!O$33=\"Nej\",0,+'El og plugin hybrid'!$E$15*'Udledninger per Wh'!$C$5*'El og plugin hybrid'!O$12*'El og plugin hybrid'!O$13/1000)","v":0},{"$f":"R225*IF('El og plugin hybrid'!Q$31=\"nej\",0,'El og plugin hybrid'!Q$44)*(1+'El og plugin hybrid'!Q$52)^-$C225","v":0},{"$f":"IF('El og plugin hybrid'!Q$33=\"Nej\",0,+'El og plugin hybrid'!$E$15*'Udledninger per Wh'!$C$5*'El og plugin hybrid'!Q$12*'El og plugin hybrid'!Q$13/1000)","v":0},{"$f":"T225*IF('El og plugin hybrid'!S$31=\"nej\",0,'El og plugin hybrid'!S$44)*(1+'El og plugin hybrid'!S$52)^-$C225","v":0},{"$f":"IF('El og plugin hybrid'!S$33=\"Nej\",0,+'El og plugin hybrid'!$E$15*'Udledninger per Wh'!$C$5*'El og plugin hybrid'!S$12*'El og plugin hybrid'!S$13/1000)","v":0},{"$f":"V225*IF('El og plugin hybrid'!U$31=\"nej\",0,'El og plugin hybrid'!U$44)*(1+'El og plugin hybrid'!U$52)^-$C225","v":0},{"$f":"IF('El og plugin hybrid'!U$33=\"Nej\",0,+'El og plugin hybrid'!$E$15*'Udledninger per Wh'!$C$5*'El og plugin hybrid'!U$12*'El og plugin hybrid'!U$13/1000)","v":0},{"$f":"X225*IF('El og plugin hybrid'!W$31=\"nej\",0,'El og plugin hybrid'!W$44)*(1+'El og plugin hybrid'!W$52)^-$C225","v":0},{"$f":"IF('El og plugin hybrid'!W$33=\"Nej\",0,+'El og plugin hybrid'!$E$15*'Udledninger per Wh'!$C$5*'El og plugin hybrid'!W$12*'El og plugin hybrid'!W$13/1000)","v":0}]
[null,16,16,null,{"$f":"F226*IF('El og plugin hybrid'!E$31=\"nej\",0,'El og plugin hybrid'!E$44)*(1+'El og plugin hybrid'!E$52)^-$C226","v":0},{"$f":"IF('El og plugin hybrid'!E$33=\"Nej\",0,+'El og plugin hybrid'!$E$15*'Udledninger per Wh'!$C$5*'El og plugin hybrid'!E$12*'El og plugin hybrid'!E$13/1000)","v":0},{"$f":"H226*IF('El og plugin hybrid'!G$31=\"nej\",0,'El og plugin hybrid'!G$44)*(1+'El og plugin hybrid'!G$52)^-$C226","v":0},{"$f":"IF('El og plugin hybrid'!G$33=\"Nej\",0,+'El og plugin hybrid'!$E$15*'Udledninger per Wh'!$C$5*'El og plugin hybrid'!G$12*'El og plugin hybrid'!G$13/1000)","v":0},{"$f":"J226*IF('El og plugin hybrid'!I$31=\"nej\",0,'El og plugin hybrid'!I$44)*(1+'El og plugin hybrid'!I$52)^-$C226","v":0},{"$f":"IF('El og plugin hybrid'!I$33=\"Nej\",0,+'El og plugin hybrid'!$E$15*'Udledninger per Wh'!$C$5*'El og plugin hybrid'!I$12*'El og plugin hybrid'!I$13/1000)","v":0},{"$f":"L226*IF('El og plugin hybrid'!K$31=\"nej\",0,'El og plugin hybrid'!K$44)*(1+'El og plugin hybrid'!K$52)^-$C226","v":0},{"$f":"IF('El og plugin hybrid'!K$33=\"Nej\",0,+'El og plugin hybrid'!$E$15*'Udledninger per Wh'!$C$5*'El og plugin hybrid'!K$12*'El og plugin hybrid'!K$13/1000)","v":0},{"$f":"N226*IF('El og plugin hybrid'!M$31=\"nej\",0,'El og plugin hybrid'!M$44)*(1+'El og plugin hybrid'!M$52)^-$C226","v":0},{"$f":"IF('El og plugin hybrid'!M$33=\"Nej\",0,+'El og plugin hybrid'!$E$15*'Udledninger per Wh'!$C$5*'El og plugin hybrid'!M$12*'El og plugin hybrid'!M$13/1000)","v":0},{"$f":"P226*IF('El og plugin hybrid'!O$31=\"nej\",0,'El og plugin hybrid'!O$44)*(1+'El og plugin hybrid'!O$52)^-$C226","v":0},{"$f":"IF('El og plugin hybrid'!O$33=\"Nej\",0,+'El og plugin hybrid'!$E$15*'Udledninger per Wh'!$C$5*'El og plugin hybrid'!O$12*'El og plugin hybrid'!O$13/1000)","v":0},{"$f":"R226*IF('El og plugin hybrid'!Q$31=\"nej\",0,'El og plugin hybrid'!Q$44)*(1+'El og plugin hybrid'!Q$52)^-$C226","v":0},{"$f":"IF('El og plugin hybrid'!Q$33=\"Nej\",0,+'El og plugin hybrid'!$E$15*'Udledninger per Wh'!$C$5*'El og plugin hybrid'!Q$12*'El og plugin hybrid'!Q$13/1000)","v":0},{"$f":"T226*IF('El og plugin hybrid'!S$31=\"nej\",0,'El og plugin hybrid'!S$44)*(1+'El og plugin hybrid'!S$52)^-$C226","v":0},{"$f":"IF('El og plugin hybrid'!S$33=\"Nej\",0,+'El og plugin hybrid'!$E$15*'Udledninger per Wh'!$C$5*'El og plugin hybrid'!S$12*'El og plugin hybrid'!S$13/1000)","v":0},{"$f":"V226*IF('El og plugin hybrid'!U$31=\"nej\",0,'El og plugin hybrid'!U$44)*(1+'El og plugin hybrid'!U$52)^-$C226","v":0},{"$f":"IF('El og plugin hybrid'!U$33=\"Nej\",0,+'El og plugin hybrid'!$E$15*'Udledninger per Wh'!$C$5*'El og plugin hybrid'!U$12*'El og plugin hybrid'!U$13/1000)","v":0},{"$f":"X226*IF('El og plugin hybrid'!W$31=\"nej\",0,'El og plugin hybrid'!W$44)*(1+'El og plugin hybrid'!W$52)^-$C226","v":0},{"$f":"IF('El og plugin hybrid'!W$33=\"Nej\",0,+'El og plugin hybrid'!$E$15*'Udledninger per Wh'!$C$5*'El og plugin hybrid'!W$12*'El og plugin hybrid'!W$13/1000)","v":0}]
[null,17,17,null,{"$f":"F227*IF('El og plugin hybrid'!E$31=\"nej\",0,'El og plugin hybrid'!E$44)*(1+'El og plugin hybrid'!E$52)^-$C227","v":0},{"$f":"IF('El og plugin hybrid'!E$33=\"Nej\",0,+'El og plugin hybrid'!$E$15*'Udledninger per Wh'!$C$5*'El og plugin hybrid'!E$12*'El og plugin hybrid'!E$13/1000)","v":0},{"$f":"H227*IF('El og plugin hybrid'!G$31=\"nej\",0,'El og plugin hybrid'!G$44)*(1+'El og plugin hybrid'!G$52)^-$C227","v":0},{"$f":"IF('El og plugin hybrid'!G$33=\"Nej\",0,+'El og plugin hybrid'!$E$15*'Udledninger per Wh'!$C$5*'El og plugin hybrid'!G$12*'El og plugin hybrid'!G$13/1000)","v":0},{"$f":"J227*IF('El og plugin hybrid'!I$31=\"nej\",0,'El og plugin hybrid'!I$44)*(1+'El og plugin hybrid'!I$52)^-$C227","v":0},{"$f":"IF('El og plugin hybrid'!I$33=\"Nej\",0,+'El og plugin hybrid'!$E$15*'Udledninger per Wh'!$C$5*'El og plugin hybrid'!I$12*'El og plugin hybrid'!I$13/1000)","v":0},{"$f":"L227*IF('El og plugin hybrid'!K$31=\"nej\",0,'El og plugin hybrid'!K$44)*(1+'El og plugin hybrid'!K$52)^-$C227","v":0},{"$f":"IF('El og plugin hybrid'!K$33=\"Nej\",0,+'El og plugin hybrid'!$E$15*'Udledninger per Wh'!$C$5*'El og plugin hybrid'!K$12*'El og plugin hybrid'!K$13/1000)","v":0},{"$f":"N227*IF('El og plugin hybrid'!M$31=\"nej\",0,'El og plugin hybrid'!M$44)*(1+'El og plugin hybrid'!M$52)^-$C227","v":0},{"$f":"IF('El og plugin hybrid'!M$33=\"Nej\",0,+'El og plugin hybrid'!$E$15*'Udledninger per Wh'!$C$5*'El og plugin hybrid'!M$12*'El og plugin hybrid'!M$13/1000)","v":0},{"$f":"P227*IF('El og plugin hybrid'!O$31=\"nej\",0,'El og plugin hybrid'!O$44)*(1+'El og plugin hybrid'!O$52)^-$C227","v":0},{"$f":"IF('El og plugin hybrid'!O$33=\"Nej\",0,+'El og plugin hybrid'!$E$15*'Udledninger per Wh'!$C$5*'El og plugin hybrid'!O$12*'El og plugin hybrid'!O$13/1000)","v":0},{"$f":"R227*IF('El og plugin hybrid'!Q$31=\"nej\",0,'El og plugin hybrid'!Q$44)*(1+'El og plugin hybrid'!Q$52)^-$C227","v":0},{"$f":"IF('El og plugin hybrid'!Q$33=\"Nej\",0,+'El og plugin hybrid'!$E$15*'Udledninger per Wh'!$C$5*'El og plugin hybrid'!Q$12*'El og plugin hybrid'!Q$13/1000)","v":0},{"$f":"T227*IF('El og plugin hybrid'!S$31=\"nej\",0,'El og plugin hybrid'!S$44)*(1+'El og plugin hybrid'!S$52)^-$C227","v":0},{"$f":"IF('El og plugin hybrid'!S$33=\"Nej\",0,+'El og plugin hybrid'!$E$15*'Udledninger per Wh'!$C$5*'El og plugin hybrid'!S$12*'El og plugin hybrid'!S$13/1000)","v":0},{"$f":"V227*IF('El og plugin hybrid'!U$31=\"nej\",0,'El og plugin hybrid'!U$44)*(1+'El og plugin hybrid'!U$52)^-$C227","v":0},{"$f":"IF('El og plugin hybrid'!U$33=\"Nej\",0,+'El og plugin hybrid'!$E$15*'Udledninger per Wh'!$C$5*'El og plugin hybrid'!U$12*'El og plugin hybrid'!U$13/1000)","v":0},{"$f":"X227*IF('El og plugin hybrid'!W$31=\"nej\",0,'El og plugin hybrid'!W$44)*(1+'El og plugin hybrid'!W$52)^-$C227","v":0},{"$f":"IF('El og plugin hybrid'!W$33=\"Nej\",0,+'El og plugin hybrid'!$E$15*'Udledninger per Wh'!$C$5*'El og plugin hybrid'!W$12*'El og plugin hybrid'!W$13/1000)","v":0}]
[null,18,18,null,{"$f":"F228*IF('El og plugin hybrid'!E$31=\"nej\",0,'El og plugin hybrid'!E$44)*(1+'El og plugin hybrid'!E$52)^-$C228","v":0},{"$f":"IF('El og plugin hybrid'!E$33=\"Nej\",0,+'El og plugin hybrid'!$E$15*'Udledninger per Wh'!$C$5*'El og plugin hybrid'!E$12*'El og plugin hybrid'!E$13/1000)","v":0},{"$f":"H228*IF('El og plugin hybrid'!G$31=\"nej\",0,'El og plugin hybrid'!G$44)*(1+'El og plugin hybrid'!G$52)^-$C228","v":0},{"$f":"IF('El og plugin hybrid'!G$33=\"Nej\",0,+'El og plugin hybrid'!$E$15*'Udledninger per Wh'!$C$5*'El og plugin hybrid'!G$12*'El og plugin hybrid'!G$13/1000)","v":0},{"$f":"J228*IF('El og plugin hybrid'!I$31=\"nej\",0,'El og plugin hybrid'!I$44)*(1+'El og plugin hybrid'!I$52)^-$C228","v":0},{"$f":"IF('El og plugin hybrid'!I$33=\"Nej\",0,+'El og plugin hybrid'!$E$15*'Udledninger per Wh'!$C$5*'El og plugin hybrid'!I$12*'El og plugin hybrid'!I$13/1000)","v":0},{"$f":"L228*IF('El og plugin hybrid'!K$31=\"nej\",0,'El og plugin hybrid'!K$44)*(1+'El og plugin hybrid'!K$52)^-$C228","v":0},{"$f":"IF('El og plugin hybrid'!K$33=\"Nej\",0,+'El og plugin hybrid'!$E$15*'Udledninger per Wh'!$C$5*'El og plugin hybrid'!K$12*'El og plugin hybrid'!K$13/1000)","v":0},{"$f":"N228*IF('El og plugin hybrid'!M$31=\"nej\",0,'El og plugin hybrid'!M$44)*(1+'El og plugin hybrid'!M$52)^-$C228","v":0},{"$f":"IF('El og plugin hybrid'!M$33=\"Nej\",0,+'El og plugin hybrid'!$E$15*'Udledninger per Wh'!$C$5*'El og plugin hybrid'!M$12*'El og plugin hybrid'!M$13/1000)","v":0},{"$f":"P228*IF('El og plugin hybrid'!O$31=\"nej\",0,'El og plugin hybrid'!O$44)*(1+'El og plugin hybrid'!O$52)^-$C228","v":0},{"$f":"IF('El og plugin hybrid'!O$33=\"Nej\",0,+'El og plugin hybrid'!$E$15*'Udledninger per Wh'!$C$5*'El og plugin hybrid'!O$12*'El og plugin hybrid'!O$13/1000)","v":0},{"$f":"R228*IF('El og plugin hybrid'!Q$31=\"nej\",0,'El og plugin hybrid'!Q$44)*(1+'El og plugin hybrid'!Q$52)^-$C228","v":0},{"$f":"IF('El og plugin hybrid'!Q$33=\"Nej\",0,+'El og plugin hybrid'!$E$15*'Udledninger per Wh'!$C$5*'El og plugin hybrid'!Q$12*'El og plugin hybrid'!Q$13/1000)","v":0},{"$f":"T228*IF('El og plugin hybrid'!S$31=\"nej\",0,'El og plugin hybrid'!S$44)*(1+'El og plugin hybrid'!S$52)^-$C228","v":0},{"$f":"IF('El og plugin hybrid'!S$33=\"Nej\",0,+'El og plugin hybrid'!$E$15*'Udledninger per Wh'!$C$5*'El og plugin hybrid'!S$12*'El og plugin hybrid'!S$13/1000)","v":0},{"$f":"V228*IF('El og plugin hybrid'!U$31=\"nej\",0,'El og plugin hybrid'!U$44)*(1+'El og plugin hybrid'!U$52)^-$C228","v":0},{"$f":"IF('El og plugin hybrid'!U$33=\"Nej\",0,+'El og plugin hybrid'!$E$15*'Udledninger per Wh'!$C$5*'El og plugin hybrid'!U$12*'El og plugin hybrid'!U$13/1000)","v":0},{"$f":"X228*IF('El og plugin hybrid'!W$31=\"nej\",0,'El og plugin hybrid'!W$44)*(1+'El og plugin hybrid'!W$52)^-$C228","v":0},{"$f":"IF('El og plugin hybrid'!W$33=\"Nej\",0,+'El og plugin hybrid'!$E$15*'Udledninger per Wh'!$C$5*'El og plugin hybrid'!W$12*'El og plugin hybrid'!W$13/1000)","v":0}]
[null,19,19,null,{"$f":"F229*IF('El og plugin hybrid'!E$31=\"nej\",0,'El og plugin hybrid'!E$44)*(1+'El og plugin hybrid'!E$52)^-$C229","v":0},{"$f":"IF('El og plugin hybrid'!E$33=\"Nej\",0,+'El og plugin hybrid'!$E$15*'Udledninger per Wh'!$C$5*'El og plugin hybrid'!E$12*'El og plugin hybrid'!E$13/1000)","v":0},{"$f":"H229*IF('El og plugin hybrid'!G$31=\"nej\",0,'El og plugin hybrid'!G$44)*(1+'El og plugin hybrid'!G$52)^-$C229","v":0},{"$f":"IF('El og plugin hybrid'!G$33=\"Nej\",0,+'El og plugin hybrid'!$E$15*'Udledninger per Wh'!$C$5*'El og plugin hybrid'!G$12*'El og plugin hybrid'!G$13/1000)","v":0},{"$f":"J229*IF('El og plugin hybrid'!I$31=\"nej\",0,'El og plugin hybrid'!I$44)*(1+'El og plugin hybrid'!I$52)^-$C229","v":0},{"$f":"IF('El og plugin hybrid'!I$33=\"Nej\",0,+'El og plugin hybrid'!$E$15*'Udledninger per Wh'!$C$5*'El og plugin hybrid'!I$12*'El og plugin hybrid'!I$13/1000)","v":0},{"$f":"L229*IF('El og plugin hybrid'!K$31=\"nej\",0,'El og plugin hybrid'!K$44)*(1+'El og plugin hybrid'!K$52)^-$C229","v":0},{"$f":"IF('El og plugin hybrid'!K$33=\"Nej\",0,+'El og plugin hybrid'!$E$15*'Udledninger per Wh'!$C$5*'El og plugin hybrid'!K$12*'El og plugin hybrid'!K$13/1000)","v":0},{"$f":"N229*IF('El og plugin hybrid'!M$31=\"nej\",0,'El og plugin hybrid'!M$44)*(1+'El og plugin hybrid'!M$52)^-$C229","v":0},{"$f":"IF('El og plugin hybrid'!M$33=\"Nej\",0,+'El og plugin hybrid'!$E$15*'Udledninger per Wh'!$C$5*'El og plugin hybrid'!M$12*'El og plugin hybrid'!M$13/1000)","v":0},{"$f":"P229*IF('El og plugin hybrid'!O$31=\"nej\",0,'El og plugin hybrid'!O$44)*(1+'El og plugin hybrid'!O$52)^-$C229","v":0},{"$f":"IF('El og plugin hybrid'!O$33=\"Nej\",0,+'El og plugin hybrid'!$E$15*'Udledninger per Wh'!$C$5*'El og plugin hybrid'!O$12*'El og plugin hybrid'!O$13/1000)","v":0},{"$f":"R229*IF('El og plugin hybrid'!Q$31=\"nej\",0,'El og plugin hybrid'!Q$44)*(1+'El og plugin hybrid'!Q$52)^-$C229","v":0},{"$f":"IF('El og plugin hybrid'!Q$33=\"Nej\",0,+'El og plugin hybrid'!$E$15*'Udledninger per Wh'!$C$5*'El og plugin hybrid'!Q$12*'El og plugin hybrid'!Q$13/1000)","v":0},{"$f":"T229*IF('El og plugin hybrid'!S$31=\"nej\",0,'El og plugin hybrid'!S$44)*(1+'El og plugin hybrid'!S$52)^-$C229","v":0},{"$f":"IF('El og plugin hybrid'!S$33=\"Nej\",0,+'El og plugin hybrid'!$E$15*'Udledninger per Wh'!$C$5*'El og plugin hybrid'!S$12*'El og plugin hybrid'!S$13/1000)","v":0},{"$f":"V229*IF('El og plugin hybrid'!U$31=\"nej\",0,'El og plugin hybrid'!U$44)*(1+'El og plugin hybrid'!U$52)^-$C229","v":0},{"$f":"IF('El og plugin hybrid'!U$33=\"Nej\",0,+'El og plugin hybrid'!$E$15*'Udledninger per Wh'!$C$5*'El og plugin hybrid'!U$12*'El og plugin hybrid'!U$13/1000)","v":0},{"$f":"X229*IF('El og plugin hybrid'!W$31=\"nej\",0,'El og plugin hybrid'!W$44)*(1+'El og plugin hybrid'!W$52)^-$C229","v":0},{"$f":"IF('El og plugin hybrid'!W$33=\"Nej\",0,+'El og plugin hybrid'!$E$15*'Udledninger per Wh'!$C$5*'El og plugin hybrid'!W$12*'El og plugin hybrid'!W$13/1000)","v":0}]
[null,20,20,null,{"$f":"F230*IF('El og plugin hybrid'!E$31=\"nej\",0,'El og plugin hybrid'!E$44)*(1+'El og plugin hybrid'!E$52)^-$C230","v":0},{"$f":"IF('El og plugin hybrid'!E$33=\"Nej\",0,+'El og plugin hybrid'!$E$15*'Udledninger per Wh'!$C$5*'El og plugin hybrid'!E$12*'El og plugin hybrid'!E$13/1000)","v":0},{"$f":"H230*IF('El og plugin hybrid'!G$31=\"nej\",0,'El og plugin hybrid'!G$44)*(1+'El og plugin hybrid'!G$52)^-$C230","v":0},{"$f":"IF('El og plugin hybrid'!G$33=\"Nej\",0,+'El og plugin hybrid'!$E$15*'Udledninger per Wh'!$C$5*'El og plugin hybrid'!G$12*'El og plugin hybrid'!G$13/1000)","v":0},{"$f":"J230*IF('El og plugin hybrid'!I$31=\"nej\",0,'El og plugin hybrid'!I$44)*(1+'El og plugin hybrid'!I$52)^-$C230","v":0},{"$f":"IF('El og plugin hybrid'!I$33=\"Nej\",0,+'El og plugin hybrid'!$E$15*'Udledninger per Wh'!$C$5*'El og plugin hybrid'!I$12*'El og plugin hybrid'!I$13/1000)","v":0},{"$f":"L230*IF('El og plugin hybrid'!K$31=\"nej\",0,'El og plugin hybrid'!K$44)*(1+'El og plugin hybrid'!K$52)^-$C230","v":0},{"$f":"IF('El og plugin hybrid'!K$33=\"Nej\",0,+'El og plugin hybrid'!$E$15*'Udledninger per Wh'!$C$5*'El og plugin hybrid'!K$12*'El og plugin hybrid'!K$13/1000)","v":0},{"$f":"N230*IF('El og plugin hybrid'!M$31=\"nej\",0,'El og plugin hybrid'!M$44)*(1+'El og plugin hybrid'!M$52)^-$C230","v":0},{"$f":"IF('El og plugin hybrid'!M$33=\"Nej\",0,+'El og plugin hybrid'!$E$15*'Udledninger per Wh'!$C$5*'El og plugin hybrid'!M$12*'El og plugin hybrid'!M$13/1000)","v":0},{"$f":"P230*IF('El og plugin hybrid'!O$31=\"nej\",0,'El og plugin hybrid'!O$44)*(1+'El og plugin hybrid'!O$52)^-$C230","v":0},{"$f":"IF('El og plugin hybrid'!O$33=\"Nej\",0,+'El og plugin hybrid'!$E$15*'Udledninger per Wh'!$C$5*'El og plugin hybrid'!O$12*'El og plugin hybrid'!O$13/1000)","v":0},{"$f":"R230*IF('El og plugin hybrid'!Q$31=\"nej\",0,'El og plugin hybrid'!Q$44)*(1+'El og plugin hybrid'!Q$52)^-$C230","v":0},{"$f":"IF('El og plugin hybrid'!Q$33=\"Nej\",0,+'El og plugin hybrid'!$E$15*'Udledninger per Wh'!$C$5*'El og plugin hybrid'!Q$12*'El og plugin hybrid'!Q$13/1000)","v":0},{"$f":"T230*IF('El og plugin hybrid'!S$31=\"nej\",0,'El og plugin hybrid'!S$44)*(1+'El og plugin hybrid'!S$52)^-$C230","v":0},{"$f":"IF('El og plugin hybrid'!S$33=\"Nej\",0,+'El og plugin hybrid'!$E$15*'Udledninger per Wh'!$C$5*'El og plugin hybrid'!S$12*'El og plugin hybrid'!S$13/1000)","v":0},{"$f":"V230*IF('El og plugin hybrid'!U$31=\"nej\",0,'El og plugin hybrid'!U$44)*(1+'El og plugin hybrid'!U$52)^-$C230","v":0},{"$f":"IF('El og plugin hybrid'!U$33=\"Nej\",0,+'El og plugin hybrid'!$E$15*'Udledninger per Wh'!$C$5*'El og plugin hybrid'!U$12*'El og plugin hybrid'!U$13/1000)","v":0},{"$f":"X230*IF('El og plugin hybrid'!W$31=\"nej\",0,'El og plugin hybrid'!W$44)*(1+'El og plugin hybrid'!W$52)^-$C230","v":0},{"$f":"IF('El og plugin hybrid'!W$33=\"Nej\",0,+'El og plugin hybrid'!$E$15*'Udledninger per Wh'!$C$5*'El og plugin hybrid'!W$12*'El og plugin hybrid'!W$13/1000)","v":0}]
[]
[]
["Eksternalitetsmodul - Samfundsøkonomiske omkostninger (kr.)",null,null,null,"Udregninger Partikler (PM)","OBS - Kun ifm. El"]
[null,"År indeks",null,"TCO-evalueringsperiode",{"$f":"'El og plugin hybrid'!E8&\" - Samfundsøkonomiske omkostninger (kr.)\"","v":"PRODUKT 1 EL - Samfundsøkonomiske omkostninger (kr.)"},{"$f":"'El og plugin hybrid'!E8&\" - Samlet udledning i kg PM\"","v":"PRODUKT 1 EL - Samlet udledning i kg PM"},{"$f":"'El og plugin hybrid'!G8&\" - Samfundsøkonomiske omkostninger (kr.)\"","v":"PRODUKT 2 EL - Samfundsøkonomiske omkostninger (kr.)"},{"$f":"'El og plugin hybrid'!G8&\" - Samlet udledning i kg PM\"","v":"PRODUKT 2 EL - Samlet udledning i kg PM"},{"$f":"'El og plugin hybrid'!I8&\" - Samfundsøkonomiske omkostninger (kr.)\"","v":"PRODUKT 3 EL - Samfundsøkonomiske omkostninger (kr.)"},{"$f":"'El og plugin hybrid'!I8&\" - Samlet udledning i kg PM\"","v":"PRODUKT 3 EL - Samlet udledning i kg PM"},{"$f":"'El og plugin hybrid'!K8&\" - Samfundsøkonomiske omkostninger (kr.)\"","v":"PRODUKT 4 EL - Samfundsøkonomiske omkostninger (kr.)"},{"$f":"'El og plugin hybrid'!K8&\" - Samlet udledning i kg PM\"","v":"PRODUKT 4 EL - Samlet udledning i kg PM"},{"$f":"'El og plugin hybrid'!M8&\" - Samfundsøkonomiske omkostninger (kr.)\"","v":"PRODUKT 5 EL - Samfundsøkonomiske omkostninger (kr.)"},{"$f":"'El og plugin hybrid'!M8&\" - Samlet udledning i kg PM\"","v":"PRODUKT 5 EL - Samlet udledning i kg PM"},{"$f":"'El og plugin hybrid'!O8&\" - Samfundsøkonomiske omkostninger (kr.)\"","v":"PRODUKT 6 EL - Samfundsøkonomiske omkostninger (kr.)"},{"$f":"'El og plugin hybrid'!O8&\" - Samlet udledning i kg PM\"","v":"PRODUKT 6 EL - Samlet udledning i kg PM"},{"$f":"'El og plugin hybrid'!Q8&\" - Samfundsøkonomiske omkostninger (kr.)\"","v":"PRODUKT 7 EL - Samfundsøkonomiske omkostninger (kr.)"},{"$f":"'El og plugin hybrid'!Q8&\" - Samlet udledning i kg PM\"","v":"PRODUKT 7 EL - Samlet udledning i kg PM"},{"$f":"'El og plugin hybrid'!S8&\" - Samfundsøkonomiske omkostninger (kr.)\"","v":"PRODUKT 8 EL - Samfundsøkonomiske omkostninger (kr.)"},{"$f":"'El og plugin hybrid'!S8&\" - Samlet udledning i kg PM\"","v":"PRODUKT 8 EL - Samlet udledning i kg PM"},{"$f":"'El og plugin hybrid'!U8&\" - Samfundsøkonomiske omkostninger (kr.)\"","v":"PRODUKT 9 EL - Samfundsøkonomiske omkostninger (kr.)"},{"$f":"'El og plugin hybrid'!U8&\" - Samlet udledning i kg PM\"","v":"PRODUKT 9 EL - Samlet udledning i kg PM"},{"$f":"'El og plugin hybrid'!W8&\" - Samfundsøkonomiske omkostninger (kr.)\"","v":"PRODUKT 10 EL - Samfundsøkonomiske omkostninger (kr.)"},{"$f":"'El og plugin hybrid'!W8&\" - Samlet udledning i kg PM\"","v":"PRODUKT 10 EL - Samlet udledning i kg PM"}]
[null,1,{"$f":"B235","v":1},null,{"$f":"F$235*IF('El og plugin hybrid'!E$31=\"nej\",0,'El og plugin hybrid'!E$45)*(1+'El og plugin hybrid'!E$52)^-$C235","v":0},{"$f":"IF('El og plugin hybrid'!E$33=\"Nej\",0,+'El og plugin hybrid'!E$15*'Udledninger per Wh'!$D$5*'El og plugin hybrid'!E$12*'El og plugin hybrid'!E$13/1000)","v":0},{"$f":"H$235*IF('El og plugin hybrid'!G$31=\"nej\",0,'El og plugin hybrid'!G$45)*(1+'El og plugin hybrid'!G$52)^-$C235","v":0},{"$f":"IF('El og plugin hybrid'!G$33=\"Nej\",0,+'El og plugin hybrid'!G$15*'Udledninger per Wh'!$D$5*'El og plugin hybrid'!G$12*'El og plugin hybrid'!G$13/1000)","v":0},{"$f":"J$235*IF('El og plugin hybrid'!I$31=\"nej\",0,'El og plugin hybrid'!I$45)*(1+'El og plugin hybrid'!I$52)^-$C235","v":0},{"$f":"IF('El og plugin hybrid'!I$33=\"Nej\",0,+'El og plugin hybrid'!I$15*'Udledninger per Wh'!$D$5*'El og plugin hybrid'!I$12*'El og plugin hybrid'!I$13/1000)","v":0},{"$f":"L$235*IF('El og plugin hybrid'!K$31=\"nej\",0,'El og plugin hybrid'!K$45)*(1+'El og plugin hybrid'!K$52)^-$C235","v":0},{"$f":"IF('El og plugin hybrid'!K$33=\"Nej\",0,+'El og plugin hybrid'!K$15*'Udledninger per Wh'!$D$5*'El og plugin hybrid'!K$12*'El og plugin hybrid'!K$13/1000)","v":0},{"$f":"N$235*IF('El og plugin hybrid'!M$31=\"nej\",0,'El og plugin hybrid'!M$45)*(1+'El og plugin hybrid'!M$52)^-$C235","v":0},{"$f":"IF('El og plugin hybrid'!M$33=\"Nej\",0,+'El og plugin hybrid'!M$15*'Udledninger per Wh'!$D$5*'El og plugin hybrid'!M$12*'El og plugin hybrid'!M$13/1000)","v":0},{"$f":"P$235*IF('El og plugin hybrid'!O$31=\"nej\",0,'El og plugin hybrid'!O$45)*(1+'El og plugin hybrid'!O$52)^-$C235","v":0},{"$f":"IF('El og plugin hybrid'!O$33=\"Nej\",0,+'El og plugin hybrid'!O$15*'Udledninger per Wh'!$D$5*'El og plugin hybrid'!O$12*'El og plugin hybrid'!O$13/1000)","v":0},{"$f":"R$235*IF('El og plugin hybrid'!Q$31=\"nej\",0,'El og plugin hybrid'!Q$45)*(1+'El og plugin hybrid'!Q$52)^-$C235","v":0},{"$f":"IF('El og plugin hybrid'!Q$33=\"Nej\",0,+'El og plugin hybrid'!Q$15*'Udledninger per Wh'!$D$5*'El og plugin hybrid'!Q$12*'El og plugin hybrid'!Q$13/1000)","v":0},{"$f":"T$235*IF('El og plugin hybrid'!S$31=\"nej\",0,'El og plugin hybrid'!S$45)*(1+'El og plugin hybrid'!S$52)^-$C235","v":0},{"$f":"IF('El og plugin hybrid'!S$33=\"Nej\",0,+'El og plugin hybrid'!S$15*'Udledninger per Wh'!$D$5*'El og plugin hybrid'!S$12*'El og plugin hybrid'!S$13/1000)","v":0},{"$f":"V$235*IF('El og plugin hybrid'!U$31=\"nej\",0,'El og plugin hybrid'!U$45)*(1+'El og plugin hybrid'!U$52)^-$C235","v":0},{"$f":"IF('El og plugin hybrid'!U$33=\"Nej\",0,+'El og plugin hybrid'!U$15*'Udledninger per Wh'!$D$5*'El og plugin hybrid'!U$12*'El og plugin hybrid'!U$13/1000)","v":0},{"$f":"X$235*IF('El og plugin hybrid'!W$31=\"nej\",0,'El og plugin hybrid'!W$45)*(1+'El og plugin hybrid'!W$52)^-$C235","v":0},{"$f":"IF('El og plugin hybrid'!W$33=\"Nej\",0,+'El og plugin hybrid'!W$15*'Udledninger per Wh'!$D$5*'El og plugin hybrid'!W$12*'El og plugin hybrid'!W$13/1000)","v":0}]
[null,2,{"$f":"B236","v":2},null,{"$f":"F$235*IF('El og plugin hybrid'!E$31=\"nej\",0,'El og plugin hybrid'!E$45)*(1+'El og plugin hybrid'!E$52)^-$C236","v":0},{"$f":"IF('El og plugin hybrid'!E$33=\"Nej\",0,+'El og plugin hybrid'!E$15*'Udledninger per Wh'!$D$5*'El og plugin hybrid'!E$12*'El og plugin hybrid'!E$13/1000)","v":0},{"$f":"H$235*IF('El og plugin hybrid'!G$31=\"nej\",0,'El og plugin hybrid'!G$45)*(1+'El og plugin hybrid'!G$52)^-$C236","v":0},{"$f":"IF('El og plugin hybrid'!G$33=\"Nej\",0,+'El og plugin hybrid'!G$15*'Udledninger per Wh'!$D$5*'El og plugin hybrid'!G$12*'El og plugin hybrid'!G$13/1000)","v":0},{"$f":"J$235*IF('El og plugin hybrid'!I$31=\"nej\",0,'El og plugin hybrid'!I$45)*(1+'El og plugin hybrid'!I$52)^-$C236","v":0},{"$f":"IF('El og plugin hybrid'!I$33=\"Nej\",0,+'El og plugin hybrid'!I$15*'Udledninger per Wh'!$D$5*'El og plugin hybrid'!I$12*'El og plugin hybrid'!I$13/1000)","v":0},{"$f":"L$235*IF('El og plugin hybrid'!K$31=\"nej\",0,'El og plugin hybrid'!K$45)*(1+'El og plugin hybrid'!K$52)^-$C236","v":0},{"$f":"IF('El og plugin hybrid'!K$33=\"Nej\",0,+'El og plugin hybrid'!K$15*'Udledninger per Wh'!$D$5*'El og plugin hybrid'!K$12*'El og plugin hybrid'!K$13/1000)","v":0},{"$f":"N$235*IF('El og plugin hybrid'!M$31=\"nej\",0,'El og plugin hybrid'!M$45)*(1+'El og plugin hybrid'!M$52)^-$C236","v":0},{"$f":"IF('El og plugin hybrid'!M$33=\"Nej\",0,+'El og plugin hybrid'!M$15*'Udledninger per Wh'!$D$5*'El og plugin hybrid'!M$12*'El og plugin hybrid'!M$13/1000)","v":0},{"$f":"P$235*IF('El og plugin hybrid'!O$31=\"nej\",0,'El og plugin hybrid'!O$45)*(1+'El og plugin hybrid'!O$52)^-$C236","v":0},{"$f":"IF('El og plugin hybrid'!O$33=\"Nej\",0,+'El og plugin hybrid'!O$15*'Udledninger per Wh'!$D$5*'El og plugin hybrid'!O$12*'El og plugin hybrid'!O$13/1000)","v":0},{"$f":"R$235*IF('El og plugin hybrid'!Q$31=\"nej\",0,'El og plugin hybrid'!Q$45)*(1+'El og plugin hybrid'!Q$52)^-$C236","v":0},{"$f":"IF('El og plugin hybrid'!Q$33=\"Nej\",0,+'El og plugin hybrid'!Q$15*'Udledninger per Wh'!$D$5*'El og plugin hybrid'!Q$12*'El og plugin hybrid'!Q$13/1000)","v":0},{"$f":"T$235*IF('El og plugin hybrid'!S$31=\"nej\",0,'El og plugin hybrid'!S$45)*(1+'El og plugin hybrid'!S$52)^-$C236","v":0},{"$f":"IF('El og plugin hybrid'!S$33=\"Nej\",0,+'El og plugin hybrid'!S$15*'Udledninger per Wh'!$D$5*'El og plugin hybrid'!S$12*'El og plugin hybrid'!S$13/1000)","v":0},{"$f":"V$235*IF('El og plugin hybrid'!U$31=\"nej\",0,'El og plugin hybrid'!U$45)*(1+'El og plugin hybrid'!U$52)^-$C236","v":0},{"$f":"IF('El og plugin hybrid'!U$33=\"Nej\",0,+'El og plugin hybrid'!U$15*'Udledninger per Wh'!$D$5*'El og plugin hybrid'!U$12*'El og plugin hybrid'!U$13/1000)","v":0},{"$f":"X$235*IF('El og plugin hybrid'!W$31=\"nej\",0,'El og plugin hybrid'!W$45)*(1+'El og plugin hybrid'!W$52)^-$C236","v":0},{"$f":"IF('El og plugin hybrid'!W$33=\"Nej\",0,+'El og plugin hybrid'!W$15*'Udledninger per Wh'!$D$5*'El og plugin hybrid'!W$12*'El og plugin hybrid'!W$13/1000)","v":0}]
[null,3,3,null,{"$f":"F$235*IF('El og plugin hybrid'!E$31=\"nej\",0,'El og plugin hybrid'!E$45)*(1+'El og plugin hybrid'!E$52)^-$C237","v":0},{"$f":"IF('El og plugin hybrid'!E$33=\"Nej\",0,+'El og plugin hybrid'!E$15*'Udledninger per Wh'!$D$5*'El og plugin hybrid'!E$12*'El og plugin hybrid'!E$13/1000)","v":0},{"$f":"H$235*IF('El og plugin hybrid'!G$31=\"nej\",0,'El og plugin hybrid'!G$45)*(1+'El og plugin hybrid'!G$52)^-$C237","v":0},{"$f":"IF('El og plugin hybrid'!G$33=\"Nej\",0,+'El og plugin hybrid'!G$15*'Udledninger per Wh'!$D$5*'El og plugin hybrid'!G$12*'El og plugin hybrid'!G$13/1000)","v":0},{"$f":"J$235*IF('El og plugin hybrid'!I$31=\"nej\",0,'El og plugin hybrid'!I$45)*(1+'El og plugin hybrid'!I$52)^-$C237","v":0},{"$f":"IF('El og plugin hybrid'!I$33=\"Nej\",0,+'El og plugin hybrid'!I$15*'Udledninger per Wh'!$D$5*'El og plugin hybrid'!I$12*'El og plugin hybrid'!I$13/1000)","v":0},{"$f":"L$235*IF('El og plugin hybrid'!K$31=\"nej\",0,'El og plugin hybrid'!K$45)*(1+'El og plugin hybrid'!K$52)^-$C237","v":0},{"$f":"IF('El og plugin hybrid'!K$33=\"Nej\",0,+'El og plugin hybrid'!K$15*'Udledninger per Wh'!$D$5*'El og plugin hybrid'!K$12*'El og plugin hybrid'!K$13/1000)","v":0},{"$f":"N$235*IF('El og plugin hybrid'!M$31=\"nej\",0,'El og plugin hybrid'!M$45)*(1+'El og plugin hybrid'!M$52)^-$C237","v":0},{"$f":"IF('El og plugin hybrid'!M$33=\"Nej\",0,+'El og plugin hybrid'!M$15*'Udledninger per Wh'!$D$5*'El og plugin hybrid'!M$12*'El og plugin hybrid'!M$13/1000)","v":0},{"$f":"P$235*IF('El og plugin hybrid'!O$31=\"nej\",0,'El og plugin hybrid'!O$45)*(1+'El og plugin hybrid'!O$52)^-$C237","v":0},{"$f":"IF('El og plugin hybrid'!O$33=\"Nej\",0,+'El og plugin hybrid'!O$15*'Udledninger per Wh'!$D$5*'El og plugin hybrid'!O$12*'El og plugin hybrid'!O$13/1000)","v":0},{"$f":"R$235*IF('El og plugin hybrid'!Q$31=\"nej\",0,'El og plugin hybrid'!Q$45)*(1+'El og plugin hybrid'!Q$52)^-$C237","v":0},{"$f":"IF('El og plugin hybrid'!Q$33=\"Nej\",0,+'El og plugin hybrid'!Q$15*'Udledninger per Wh'!$D$5*'El og plugin hybrid'!Q$12*'El og plugin hybrid'!Q$13/1000)","v":0},{"$f":"T$235*IF('El og plugin hybrid'!S$31=\"nej\",0,'El og plugin hybrid'!S$45)*(1+'El og plugin hybrid'!S$52)^-$C237","v":0},{"$f":"IF('El og plugin hybrid'!S$33=\"Nej\",0,+'El og plugin hybrid'!S$15*'Udledninger per Wh'!$D$5*'El og plugin hybrid'!S$12*'El og plugin hybrid'!S$13/1000)","v":0},{"$f":"V$235*IF('El og plugin hybrid'!U$31=\"nej\",0,'El og plugin hybrid'!U$45)*(1+'El og plugin hybrid'!U$52)^-$C237","v":0},{"$f":"IF('El og plugin hybrid'!U$33=\"Nej\",0,+'El og plugin hybrid'!U$15*'Udledninger per Wh'!$D$5*'El og plugin hybrid'!U$12*'El og plugin hybrid'!U$13/1000)","v":0},{"$f":"X$235*IF('El og plugin hybrid'!W$31=\"nej\",0,'El og plugin hybrid'!W$45)*(1+'El og plugin hybrid'!W$52)^-$C237","v":0},{"$f":"IF('El og plugin hybrid'!W$33=\"Nej\",0,+'El og plugin hybrid'!W$15*'Udledninger per Wh'!$D$5*'El og plugin hybrid'!W$12*'El og plugin hybrid'!W$13/1000)","v":0}]
[null,4,4,null,{"$f":"F$235*IF('El og plugin hybrid'!E$31=\"nej\",0,'El og plugin hybrid'!E$45)*(1+'El og plugin hybrid'!E$52)^-$C238","v":0},{"$f":"IF('El og plugin hybrid'!E$33=\"Nej\",0,+'El og plugin hybrid'!E$15*'Udledninger per Wh'!$D$5*'El og plugin hybrid'!E$12*'El og plugin hybrid'!E$13/1000)","v":0},{"$f":"H$235*IF('El og plugin hybrid'!G$31=\"nej\",0,'El og plugin hybrid'!G$45)*(1+'El og plugin hybrid'!G$52)^-$C238","v":0},{"$f":"IF('El og plugin hybrid'!G$33=\"Nej\",0,+'El og plugin hybrid'!G$15*'Udledninger per Wh'!$D$5*'El og plugin hybrid'!G$12*'El og plugin hybrid'!G$13/1000)","v":0},{"$f":"J$235*IF('El og plugin hybrid'!I$31=\"nej\",0,'El og plugin hybrid'!I$45)*(1+'El og plugin hybrid'!I$52)^-$C238","v":0},{"$f":"IF('El og plugin hybrid'!I$33=\"Nej\",0,+'El og plugin hybrid'!I$15*'Udledninger per Wh'!$D$5*'El og plugin hybrid'!I$12*'El og plugin hybrid'!I$13/1000)","v":0},{"$f":"L$235*IF('El og plugin hybrid'!K$31=\"nej\",0,'El og plugin hybrid'!K$45)*(1+'El og plugin hybrid'!K$52)^-$C238","v":0},{"$f":"IF('El og plugin hybrid'!K$33=\"Nej\",0,+'El og plugin hybrid'!K$15*'Udledninger per Wh'!$D$5*'El og plugin hybrid'!K$12*'El og plugin hybrid'!K$13/1000)","v":0},{"$f":"N$235*IF('El og plugin hybrid'!M$31=\"nej\",0,'El og plugin hybrid'!M$45)*(1+'El og plugin hybrid'!M$52)^-$C238","v":0},{"$f":"IF('El og plugin hybrid'!M$33=\"Nej\",0,+'El og plugin hybrid'!M$15*'Udledninger per Wh'!$D$5*'El og plugin hybrid'!M$12*'El og plugin hybrid'!M$13/1000)","v":0},{"$f":"P$235*IF('El og plugin hybrid'!O$31=\"nej\",0,'El og plugin hybrid'!O$45)*(1+'El og plugin hybrid'!O$52)^-$C238","v":0},{"$f":"IF('El og plugin hybrid'!O$33=\"Nej\",0,+'El og plugin hybrid'!O$15*'Udledninger per Wh'!$D$5*'El og plugin hybrid'!O$12*'El og plugin hybrid'!O$13/1000)","v":0},{"$f":"R$235*IF('El og plugin hybrid'!Q$31=\"nej\",0,'El og plugin hybrid'!Q$45)*(1+'El og plugin hybrid'!Q$52)^-$C238","v":0},{"$f":"IF('El og plugin hybrid'!Q$33=\"Nej\",0,+'El og plugin hybrid'!Q$15*'Udledninger per Wh'!$D$5*'El og plugin hybrid'!Q$12*'El og plugin hybrid'!Q$13/1000)","v":0},{"$f":"T$235*IF('El og plugin hybrid'!S$31=\"nej\",0,'El og plugin hybrid'!S$45)*(1+'El og plugin hybrid'!S$52)^-$C238","v":0},{"$f":"IF('El og plugin hybrid'!S$33=\"Nej\",0,+'El og plugin hybrid'!S$15*'Udledninger per Wh'!$D$5*'El og plugin hybrid'!S$12*'El og plugin hybrid'!S$13/1000)","v":0},{"$f":"V$235*IF('El og plugin hybrid'!U$31=\"nej\",0,'El og plugin hybrid'!U$45)*(1+'El og plugin hybrid'!U$52)^-$C238","v":0},{"$f":"IF('El og plugin hybrid'!U$33=\"Nej\",0,+'El og plugin hybrid'!U$15*'Udledninger per Wh'!$D$5*'El og plugin hybrid'!U$12*'El og plugin hybrid'!U$13/1000)","v":0},{"$f":"X$235*IF('El og plugin hybrid'!W$31=\"nej\",0,'El og plugin hybrid'!W$45)*(1+'El og plugin hybrid'!W$52)^-$C238","v":0},{"$f":"IF('El og plugin hybrid'!W$33=\"Nej\",0,+'El og plugin hybrid'!W$15*'Udledninger per Wh'!$D$5*'El og plugin hybrid'!W$12*'El og plugin hybrid'!W$13/1000)","v":0}]
[null,5,5,null,{"$f":"F$235*IF('El og plugin hybrid'!E$31=\"nej\",0,'El og plugin hybrid'!E$45)*(1+'El og plugin hybrid'!E$52)^-$C239","v":0},{"$f":"IF('El og plugin hybrid'!E$33=\"Nej\",0,+'El og plugin hybrid'!E$15*'Udledninger per Wh'!$D$5*'El og plugin hybrid'!E$12*'El og plugin hybrid'!E$13/1000)","v":0},{"$f":"H$235*IF('El og plugin hybrid'!G$31=\"nej\",0,'El og plugin hybrid'!G$45)*(1+'El og plugin hybrid'!G$52)^-$C239","v":0},{"$f":"IF('El og plugin hybrid'!G$33=\"Nej\",0,+'El og plugin hybrid'!G$15*'Udledninger per Wh'!$D$5*'El og plugin hybrid'!G$12*'El og plugin hybrid'!G$13/1000)","v":0},{"$f":"J$235*IF('El og plugin hybrid'!I$31=\"nej\",0,'El og plugin hybrid'!I$45)*(1+'El og plugin hybrid'!I$52)^-$C239","v":0},{"$f":"IF('El og plugin hybrid'!I$33=\"Nej\",0,+'El og plugin hybrid'!I$15*'Udledninger per Wh'!$D$5*'El og plugin hybrid'!I$12*'El og plugin hybrid'!I$13/1000)","v":0},{"$f":"L$235*IF('El og plugin hybrid'!K$31=\"nej\",0,'El og plugin hybrid'!K$45)*(1+'El og plugin hybrid'!K$52)^-$C239","v":0},{"$f":"IF('El og plugin hybrid'!K$33=\"Nej\",0,+'El og plugin hybrid'!K$15*'Udledninger per Wh'!$D$5*'El og plugin hybrid'!K$12*'El og plugin hybrid'!K$13/1000)","v":0},{"$f":"N$235*IF('El og plugin hybrid'!M$31=\"nej\",0,'El og plugin hybrid'!M$45)*(1+'El og plugin hybrid'!M$52)^-$C239","v":0},{"$f":"IF('El og plugin hybrid'!M$33=\"Nej\",0,+'El og plugin hybrid'!M$15*'Udledninger per Wh'!$D$5*'El og plugin hybrid'!M$12*'El og plugin hybrid'!M$13/1000)","v":0},{"$f":"P$235*IF('El og plugin hybrid'!O$31=\"nej\",0,'El og plugin hybrid'!O$45)*(1+'El og plugin hybrid'!O$52)^-$C239","v":0},{"$f":"IF('El og plugin hybrid'!O$33=\"Nej\",0,+'El og plugin hybrid'!O$15*'Udledninger per Wh'!$D$5*'El og plugin hybrid'!O$12*'El og plugin hybrid'!O$13/1000)","v":0},{"$f":"R$235*IF('El og plugin hybrid'!Q$31=\"nej\",0,'El og plugin hybrid'!Q$45)*(1+'El og plugin hybrid'!Q$52)^-$C239","v":0},{"$f":"IF('El og plugin hybrid'!Q$33=\"Nej\",0,+'El og plugin hybrid'!Q$15*'Udledninger per Wh'!$D$5*'El og plugin hybrid'!Q$12*'El og plugin hybrid'!Q$13/1000)","v":0},{"$f":"T$235*IF('El og plugin hybrid'!S$31=\"nej\",0,'El og plugin hybrid'!S$45)*(1+'El og plugin hybrid'!S$52)^-$C239","v":0},{"$f":"IF('El og plugin hybrid'!S$33=\"Nej\",0,+'El og plugin hybrid'!S$15*'Udledninger per Wh'!$D$5*'El og plugin hybrid'!S$12*'El og plugin hybrid'!S$13/1000)","v":0},{"$f":"V$235*IF('El og plugin hybrid'!U$31=\"nej\",0,'El og plugin hybrid'!U$45)*(1+'El og plugin hybrid'!U$52)^-$C239","v":0},{"$f":"IF('El og plugin hybrid'!U$33=\"Nej\",0,+'El og plugin hybrid'!U$15*'Udledninger per Wh'!$D$5*'El og plugin hybrid'!U$12*'El og plugin hybrid'!U$13/1000)","v":0},{"$f":"X$235*IF('El og plugin hybrid'!W$31=\"nej\",0,'El og plugin hybrid'!W$45)*(1+'El og plugin hybrid'!W$52)^-$C239","v":0},{"$f":"IF('El og plugin hybrid'!W$33=\"Nej\",0,+'El og plugin hybrid'!W$15*'Udledninger per Wh'!$D$5*'El og plugin hybrid'!W$12*'El og plugin hybrid'!W$13/1000)","v":0}]
[null,6,6,null,{"$f":"F$235*IF('El og plugin hybrid'!E$31=\"nej\",0,'El og plugin hybrid'!E$45)*(1+'El og plugin hybrid'!E$52)^-$C240","v":0},{"$f":"IF('El og plugin hybrid'!E$33=\"Nej\",0,+'El og plugin hybrid'!E$15*'Udledninger per Wh'!$D$5*'El og plugin hybrid'!E$12*'El og plugin hybrid'!E$13/1000)","v":0},{"$f":"H$235*IF('El og plugin hybrid'!G$31=\"nej\",0,'El og plugin hybrid'!G$45)*(1+'El og plugin hybrid'!G$52)^-$C240","v":0},{"$f":"IF('El og plugin hybrid'!G$33=\"Nej\",0,+'El og plugin hybrid'!G$15*'Udledninger per Wh'!$D$5*'El og plugin hybrid'!G$12*'El og plugin hybrid'!G$13/1000)","v":0},{"$f":"J$235*IF('El og plugin hybrid'!I$31=\"nej\",0,'El og plugin hybrid'!I$45)*(1+'El og plugin hybrid'!I$52)^-$C240","v":0},{"$f":"IF('El og plugin hybrid'!I$33=\"Nej\",0,+'El og plugin hybrid'!I$15*'Udledninger per Wh'!$D$5*'El og plugin hybrid'!I$12*'El og plugin hybrid'!I$13/1000)","v":0},{"$f":"L$235*IF('El og plugin hybrid'!K$31=\"nej\",0,'El og plugin hybrid'!K$45)*(1+'El og plugin hybrid'!K$52)^-$C240","v":0},{"$f":"IF('El og plugin hybrid'!K$33=\"Nej\",0,+'El og plugin hybrid'!K$15*'Udledninger per Wh'!$D$5*'El og plugin hybrid'!K$12*'El og plugin hybrid'!K$13/1000)","v":0},{"$f":"N$235*IF('El og plugin hybrid'!M$31=\"nej\",0,'El og plugin hybrid'!M$45)*(1+'El og plugin hybrid'!M$52)^-$C240","v":0},{"$f":"IF('El og plugin hybrid'!M$33=\"Nej\",0,+'El og plugin hybrid'!M$15*'Udledninger per Wh'!$D$5*'El og plugin hybrid'!M$12*'El og plugin hybrid'!M$13/1000)","v":0},{"$f":"P$235*IF('El og plugin hybrid'!O$31=\"nej\",0,'El og plugin hybrid'!O$45)*(1+'El og plugin hybrid'!O$52)^-$C240","v":0},{"$f":"IF('El og plugin hybrid'!O$33=\"Nej\",0,+'El og plugin hybrid'!O$15*'Udledninger per Wh'!$D$5*'El og plugin hybrid'!O$12*'El og plugin hybrid'!O$13/1000)","v":0},{"$f":"R$235*IF('El og plugin hybrid'!Q$31=\"nej\",0,'El og plugin hybrid'!Q$45)*(1+'El og plugin hybrid'!Q$52)^-$C240","v":0},{"$f":"IF('El og plugin hybrid'!Q$33=\"Nej\",0,+'El og plugin hybrid'!Q$15*'Udledninger per Wh'!$D$5*'El og plugin hybrid'!Q$12*'El og plugin hybrid'!Q$13/1000)","v":0},{"$f":"T$235*IF('El og plugin hybrid'!S$31=\"nej\",0,'El og plugin hybrid'!S$45)*(1+'El og plugin hybrid'!S$52)^-$C240","v":0},{"$f":"IF('El og plugin hybrid'!S$33=\"Nej\",0,+'El og plugin hybrid'!S$15*'Udledninger per Wh'!$D$5*'El og plugin hybrid'!S$12*'El og plugin hybrid'!S$13/1000)","v":0},{"$f":"V$235*IF('El og plugin hybrid'!U$31=\"nej\",0,'El og plugin hybrid'!U$45)*(1+'El og plugin hybrid'!U$52)^-$C240","v":0},{"$f":"IF('El og plugin hybrid'!U$33=\"Nej\",0,+'El og plugin hybrid'!U$15*'Udledninger per Wh'!$D$5*'El og plugin hybrid'!U$12*'El og plugin hybrid'!U$13/1000)","v":0},{"$f":"X$235*IF('El og plugin hybrid'!W$31=\"nej\",0,'El og plugin hybrid'!W$45)*(1+'El og plugin hybrid'!W$52)^-$C240","v":0},{"$f":"IF('El og plugin hybrid'!W$33=\"Nej\",0,+'El og plugin hybrid'!W$15*'Udledninger per Wh'!$D$5*'El og plugin hybrid'!W$12*'El og plugin hybrid'!W$13/1000)","v":0}]
[null,7,7,null,{"$f":"F$235*IF('El og plugin hybrid'!E$31=\"nej\",0,'El og plugin hybrid'!E$45)*(1+'El og plugin hybrid'!E$52)^-$C241","v":0},{"$f":"IF('El og plugin hybrid'!E$33=\"Nej\",0,+'El og plugin hybrid'!E$15*'Udledninger per Wh'!$D$5*'El og plugin hybrid'!E$12*'El og plugin hybrid'!E$13/1000)","v":0},{"$f":"H$235*IF('El og plugin hybrid'!G$31=\"nej\",0,'El og plugin hybrid'!G$45)*(1+'El og plugin hybrid'!G$52)^-$C241","v":0},{"$f":"IF('El og plugin hybrid'!G$33=\"Nej\",0,+'El og plugin hybrid'!G$15*'Udledninger per Wh'!$D$5*'El og plugin hybrid'!G$12*'El og plugin hybrid'!G$13/1000)","v":0},{"$f":"J$235*IF('El og plugin hybrid'!I$31=\"nej\",0,'El og plugin hybrid'!I$45)*(1+'El og plugin hybrid'!I$52)^-$C241","v":0},{"$f":"IF('El og plugin hybrid'!I$33=\"Nej\",0,+'El og plugin hybrid'!I$15*'Udledninger per Wh'!$D$5*'El og plugin hybrid'!I$12*'El og plugin hybrid'!I$13/1000)","v":0},{"$f":"L$235*IF('El og plugin hybrid'!K$31=\"nej\",0,'El og plugin hybrid'!K$45)*(1+'El og plugin hybrid'!K$52)^-$C241","v":0},{"$f":"IF('El og plugin hybrid'!K$33=\"Nej\",0,+'El og plugin hybrid'!K$15*'Udledninger per Wh'!$D$5*'El og plugin hybrid'!K$12*'El og plugin hybrid'!K$13/1000)","v":0},{"$f":"N$235*IF('El og plugin hybrid'!M$31=\"nej\",0,'El og plugin hybrid'!M$45)*(1+'El og plugin hybrid'!M$52)^-$C241","v":0},{"$f":"IF('El og plugin hybrid'!M$33=\"Nej\",0,+'El og plugin hybrid'!M$15*'Udledninger per Wh'!$D$5*'El og plugin hybrid'!M$12*'El og plugin hybrid'!M$13/1000)","v":0},{"$f":"P$235*IF('El og plugin hybrid'!O$31=\"nej\",0,'El og plugin hybrid'!O$45)*(1+'El og plugin hybrid'!O$52)^-$C241","v":0},{"$f":"IF('El og plugin hybrid'!O$33=\"Nej\",0,+'El og plugin hybrid'!O$15*'Udledninger per Wh'!$D$5*'El og plugin hybrid'!O$12*'El og plugin hybrid'!O$13/1000)","v":0},{"$f":"R$235*IF('El og plugin hybrid'!Q$31=\"nej\",0,'El og plugin hybrid'!Q$45)*(1+'El og plugin hybrid'!Q$52)^-$C241","v":0},{"$f":"IF('El og plugin hybrid'!Q$33=\"Nej\",0,+'El og plugin hybrid'!Q$15*'Udledninger per Wh'!$D$5*'El og plugin hybrid'!Q$12*'El og plugin hybrid'!Q$13/1000)","v":0},{"$f":"T$235*IF('El og plugin hybrid'!S$31=\"nej\",0,'El og plugin hybrid'!S$45)*(1+'El og plugin hybrid'!S$52)^-$C241","v":0},{"$f":"IF('El og plugin hybrid'!S$33=\"Nej\",0,+'El og plugin hybrid'!S$15*'Udledninger per Wh'!$D$5*'El og plugin hybrid'!S$12*'El og plugin hybrid'!S$13/1000)","v":0},{"$f":"V$235*IF('El og plugin hybrid'!U$31=\"nej\",0,'El og plugin hybrid'!U$45)*(1+'El og plugin hybrid'!U$52)^-$C241","v":0},{"$f":"IF('El og plugin hybrid'!U$33=\"Nej\",0,+'El og plugin hybrid'!U$15*'Udledninger per Wh'!$D$5*'El og plugin hybrid'!U$12*'El og plugin hybrid'!U$13/1000)","v":0},{"$f":"X$235*IF('El og plugin hybrid'!W$31=\"nej\",0,'El og plugin hybrid'!W$45)*(1+'El og plugin hybrid'!W$52)^-$C241","v":0},{"$f":"IF('El og plugin hybrid'!W$33=\"Nej\",0,+'El og plugin hybrid'!W$15*'Udledninger per Wh'!$D$5*'El og plugin hybrid'!W$12*'El og plugin hybrid'!W$13/1000)","v":0}]
[null,8,8,null,{"$f":"F$235*IF('El og plugin hybrid'!E$31=\"nej\",0,'El og plugin hybrid'!E$45)*(1+'El og plugin hybrid'!E$52)^-$C242","v":0},{"$f":"IF('El og plugin hybrid'!E$33=\"Nej\",0,+'El og plugin hybrid'!E$15*'Udledninger per Wh'!$D$5*'El og plugin hybrid'!E$12*'El og plugin hybrid'!E$13/1000)","v":0},{"$f":"H$235*IF('El og plugin hybrid'!G$31=\"nej\",0,'El og plugin hybrid'!G$45)*(1+'El og plugin hybrid'!G$52)^-$C242","v":0},{"$f":"IF('El og plugin hybrid'!G$33=\"Nej\",0,+'El og plugin hybrid'!G$15*'Udledninger per Wh'!$D$5*'El og plugin hybrid'!G$12*'El og plugin hybrid'!G$13/1000)","v":0},{"$f":"J$235*IF('El og plugin hybrid'!I$31=\"nej\",0,'El og plugin hybrid'!I$45)*(1+'El og plugin hybrid'!I$52)^-$C242","v":0},{"$f":"IF('El og plugin hybrid'!I$33=\"Nej\",0,+'El og plugin hybrid'!I$15*'Udledninger per Wh'!$D$5*'El og plugin hybrid'!I$12*'El og plugin hybrid'!I$13/1000)","v":0},{"$f":"L$235*IF('El og plugin hybrid'!K$31=\"nej\",0,'El og plugin hybrid'!K$45)*(1+'El og plugin hybrid'!K$52)^-$C242","v":0},{"$f":"IF('El og plugin hybrid'!K$33=\"Nej\",0,+'El og plugin hybrid'!K$15*'Udledninger per Wh'!$D$5*'El og plugin hybrid'!K$12*'El og plugin hybrid'!K$13/1000)","v":0},{"$f":"N$235*IF('El og plugin hybrid'!M$31=\"nej\",0,'El og plugin hybrid'!M$45)*(1+'El og plugin hybrid'!M$52)^-$C242","v":0},{"$f":"IF('El og plugin hybrid'!M$33=\"Nej\",0,+'El og plugin hybrid'!M$15*'Udledninger per Wh'!$D$5*'El og plugin hybrid'!M$12*'El og plugin hybrid'!M$13/1000)","v":0},{"$f":"P$235*IF('El og plugin hybrid'!O$31=\"nej\",0,'El og plugin hybrid'!O$45)*(1+'El og plugin hybrid'!O$52)^-$C242","v":0},{"$f":"IF('El og plugin hybrid'!O$33=\"Nej\",0,+'El og plugin hybrid'!O$15*'Udledninger per Wh'!$D$5*'El og plugin hybrid'!O$12*'El og plugin hybrid'!O$13/1000)","v":0},{"$f":"R$235*IF('El og plugin hybrid'!Q$31=\"nej\",0,'El og plugin hybrid'!Q$45)*(1+'El og plugin hybrid'!Q$52)^-$C242","v":0},{"$f":"IF('El og plugin hybrid'!Q$33=\"Nej\",0,+'El og plugin hybrid'!Q$15*'Udledninger per Wh'!$D$5*'El og plugin hybrid'!Q$12*'El og plugin hybrid'!Q$13/1000)","v":0},{"$f":"T$235*IF('El og plugin hybrid'!S$31=\"nej\",0,'El og plugin hybrid'!S$45)*(1+'El og plugin hybrid'!S$52)^-$C242","v":0},{"$f":"IF('El og plugin hybrid'!S$33=\"Nej\",0,+'El og plugin hybrid'!S$15*'Udledninger per Wh'!$D$5*'El og plugin hybrid'!S$12*'El og plugin hybrid'!S$13/1000)","v":0},{"$f":"V$235*IF('El og plugin hybrid'!U$31=\"nej\",0,'El og plugin hybrid'!U$45)*(1+'El og plugin hybrid'!U$52)^-$C242","v":0},{"$f":"IF('El og plugin hybrid'!U$33=\"Nej\",0,+'El og plugin hybrid'!U$15*'Udledninger per Wh'!$D$5*'El og plugin hybrid'!U$12*'El og plugin hybrid'!U$13/1000)","v":0},{"$f":"X$235*IF('El og plugin hybrid'!W$31=\"nej\",0,'El og plugin hybrid'!W$45)*(1+'El og plugin hybrid'!W$52)^-$C242","v":0},{"$f":"IF('El og plugin hybrid'!W$33=\"Nej\",0,+'El og plugin hybrid'!W$15*'Udledninger per Wh'!$D$5*'El og plugin hybrid'!W$12*'El og plugin hybrid'!W$13/1000)","v":0}]
[null,9,9,null,{"$f":"F$235*IF('El og plugin hybrid'!E$31=\"nej\",0,'El og plugin hybrid'!E$45)*(1+'El og plugin hybrid'!E$52)^-$C243","v":0},{"$f":"IF('El og plugin hybrid'!E$33=\"Nej\",0,+'El og plugin hybrid'!E$15*'Udledninger per Wh'!$D$5*'El og plugin hybrid'!E$12*'El og plugin hybrid'!E$13/1000)","v":0},{"$f":"H$235*IF('El og plugin hybrid'!G$31=\"nej\",0,'El og plugin hybrid'!G$45)*(1+'El og plugin hybrid'!G$52)^-$C243","v":0},{"$f":"IF('El og plugin hybrid'!G$33=\"Nej\",0,+'El og plugin hybrid'!G$15*'Udledninger per Wh'!$D$5*'El og plugin hybrid'!G$12*'El og plugin hybrid'!G$13/1000)","v":0},{"$f":"J$235*IF('El og plugin hybrid'!I$31=\"nej\",0,'El og plugin hybrid'!I$45)*(1+'El og plugin hybrid'!I$52)^-$C243","v":0},{"$f":"IF('El og plugin hybrid'!I$33=\"Nej\",0,+'El og plugin hybrid'!I$15*'Udledninger per Wh'!$D$5*'El og plugin hybrid'!I$12*'El og plugin hybrid'!I$13/1000)","v":0},{"$f":"L$235*IF('El og plugin hybrid'!K$31=\"nej\",0,'El og plugin hybrid'!K$45)*(1+'El og plugin hybrid'!K$52)^-$C243","v":0},{"$f":"IF('El og plugin hybrid'!K$33=\"Nej\",0,+'El og plugin hybrid'!K$15*'Udledninger per Wh'!$D$5*'El og plugin hybrid'!K$12*'El og plugin hybrid'!K$13/1000)","v":0},{"$f":"N$235*IF('El og plugin hybrid'!M$31=\"nej\",0,'El og plugin hybrid'!M$45)*(1+'El og plugin hybrid'!M$52)^-$C243","v":0},{"$f":"IF('El og plugin hybrid'!M$33=\"Nej\",0,+'El og plugin hybrid'!M$15*'Udledninger per Wh'!$D$5*'El og plugin hybrid'!M$12*'El og plugin hybrid'!M$13/1000)","v":0},{"$f":"P$235*IF('El og plugin hybrid'!O$31=\"nej\",0,'El og plugin hybrid'!O$45)*(1+'El og plugin hybrid'!O$52)^-$C243","v":0},{"$f":"IF('El og plugin hybrid'!O$33=\"Nej\",0,+'El og plugin hybrid'!O$15*'Udledninger per Wh'!$D$5*'El og plugin hybrid'!O$12*'El og plugin hybrid'!O$13/1000)","v":0},{"$f":"R$235*IF('El og plugin hybrid'!Q$31=\"nej\",0,'El og plugin hybrid'!Q$45)*(1+'El og plugin hybrid'!Q$52)^-$C243","v":0},{"$f":"IF('El og plugin hybrid'!Q$33=\"Nej\",0,+'El og plugin hybrid'!Q$15*'Udledninger per Wh'!$D$5*'El og plugin hybrid'!Q$12*'El og plugin hybrid'!Q$13/1000)","v":0},{"$f":"T$235*IF('El og plugin hybrid'!S$31=\"nej\",0,'El og plugin hybrid'!S$45)*(1+'El og plugin hybrid'!S$52)^-$C243","v":0},{"$f":"IF('El og plugin hybrid'!S$33=\"Nej\",0,+'El og plugin hybrid'!S$15*'Udledninger per Wh'!$D$5*'El og plugin hybrid'!S$12*'El og plugin hybrid'!S$13/1000)","v":0},{"$f":"V$235*IF('El og plugin hybrid'!U$31=\"nej\",0,'El og plugin hybrid'!U$45)*(1+'El og plugin hybrid'!U$52)^-$C243","v":0},{"$f":"IF('El og plugin hybrid'!U$33=\"Nej\",0,+'El og plugin hybrid'!U$15*'Udledninger per Wh'!$D$5*'El og plugin hybrid'!U$12*'El og plugin hybrid'!U$13/1000)","v":0},{"$f":"X$235*IF('El og plugin hybrid'!W$31=\"nej\",0,'El og plugin hybrid'!W$45)*(1+'El og plugin hybrid'!W$52)^-$C243","v":0},{"$f":"IF('El og plugin hybrid'!W$33=\"Nej\",0,+'El og plugin hybrid'!W$15*'Udledninger per Wh'!$D$5*'El og plugin hybrid'!W$12*'El og plugin hybrid'!W$13/1000)","v":0}]
[null,10,10,null,{"$f":"F$235*IF('El og plugin hybrid'!E$31=\"nej\",0,'El og plugin hybrid'!E$45)*(1+'El og plugin hybrid'!E$52)^-$C244","v":0},{"$f":"IF('El og plugin hybrid'!E$33=\"Nej\",0,+'El og plugin hybrid'!E$15*'Udledninger per Wh'!$D$5*'El og plugin hybrid'!E$12*'El og plugin hybrid'!E$13/1000)","v":0},{"$f":"H$235*IF('El og plugin hybrid'!G$31=\"nej\",0,'El og plugin hybrid'!G$45)*(1+'El og plugin hybrid'!G$52)^-$C244","v":0},{"$f":"IF('El og plugin hybrid'!G$33=\"Nej\",0,+'El og plugin hybrid'!G$15*'Udledninger per Wh'!$D$5*'El og plugin hybrid'!G$12*'El og plugin hybrid'!G$13/1000)","v":0},{"$f":"J$235*IF('El og plugin hybrid'!I$31=\"nej\",0,'El og plugin hybrid'!I$45)*(1+'El og plugin hybrid'!I$52)^-$C244","v":0},{"$f":"IF('El og plugin hybrid'!I$33=\"Nej\",0,+'El og plugin hybrid'!I$15*'Udledninger per Wh'!$D$5*'El og plugin hybrid'!I$12*'El og plugin hybrid'!I$13/1000)","v":0},{"$f":"L$235*IF('El og plugin hybrid'!K$31=\"nej\",0,'El og plugin hybrid'!K$45)*(1+'El og plugin hybrid'!K$52)^-$C244","v":0},{"$f":"IF('El og plugin hybrid'!K$33=\"Nej\",0,+'El og plugin hybrid'!K$15*'Udledninger per Wh'!$D$5*'El og plugin hybrid'!K$12*'El og plugin hybrid'!K$13/1000)","v":0},{"$f":"N$235*IF('El og plugin hybrid'!M$31=\"nej\",0,'El og plugin hybrid'!M$45)*(1+'El og plugin hybrid'!M$52)^-$C244","v":0},{"$f":"IF('El og plugin hybrid'!M$33=\"Nej\",0,+'El og plugin hybrid'!M$15*'Udledninger per Wh'!$D$5*'El og plugin hybrid'!M$12*'El og plugin hybrid'!M$13/1000)","v":0},{"$f":"P$235*IF('El og plugin hybrid'!O$31=\"nej\",0,'El og plugin hybrid'!O$45)*(1+'El og plugin hybrid'!O$52)^-$C244","v":0},{"$f":"IF('El og plugin hybrid'!O$33=\"Nej\",0,+'El og plugin hybrid'!O$15*'Udledninger per Wh'!$D$5*'El og plugin hybrid'!O$12*'El og plugin hybrid'!O$13/1000)","v":0},{"$f":"R$235*IF('El og plugin hybrid'!Q$31=\"nej\",0,'El og plugin hybrid'!Q$45)*(1+'El og plugin hybrid'!Q$52)^-$C244","v":0},{"$f":"IF('El og plugin hybrid'!Q$33=\"Nej\",0,+'El og plugin hybrid'!Q$15*'Udledninger per Wh'!$D$5*'El og plugin hybrid'!Q$12*'El og plugin hybrid'!Q$13/1000)","v":0},{"$f":"T$235*IF('El og plugin hybrid'!S$31=\"nej\",0,'El og plugin hybrid'!S$45)*(1+'El og plugin hybrid'!S$52)^-$C244","v":0},{"$f":"IF('El og plugin hybrid'!S$33=\"Nej\",0,+'El og plugin hybrid'!S$15*'Udledninger per Wh'!$D$5*'El og plugin hybrid'!S$12*'El og plugin hybrid'!S$13/1000)","v":0},{"$f":"V$235*IF('El og plugin hybrid'!U$31=\"nej\",0,'El og plugin hybrid'!U$45)*(1+'El og plugin hybrid'!U$52)^-$C244","v":0},{"$f":"IF('El og plugin hybrid'!U$33=\"Nej\",0,+'El og plugin hybrid'!U$15*'Udledninger per Wh'!$D$5*'El og plugin hybrid'!U$12*'El og plugin hybrid'!U$13/1000)","v":0},{"$f":"X$235*IF('El og plugin hybrid'!W$31=\"nej\",0,'El og plugin hybrid'!W$45)*(1+'El og plugin hybrid'!W$52)^-$C244","v":0},{"$f":"IF('El og plugin hybrid'!W$33=\"Nej\",0,+'El og plugin hybrid'!W$15*'Udledninger per Wh'!$D$5*'El og plugin hybrid'!W$12*'El og plugin hybrid'!W$13/1000)","v":0}]
[null,11,11,null,{"$f":"F$235*IF('El og plugin hybrid'!E$31=\"nej\",0,'El og plugin hybrid'!E$45)*(1+'El og plugin hybrid'!E$52)^-$C245","v":0},{"$f":"IF('El og plugin hybrid'!E$33=\"Nej\",0,+'El og plugin hybrid'!E$15*'Udledninger per Wh'!$D$5*'El og plugin hybrid'!E$12*'El og plugin hybrid'!E$13/1000)","v":0},{"$f":"H$235*IF('El og plugin hybrid'!G$31=\"nej\",0,'El og plugin hybrid'!G$45)*(1+'El og plugin hybrid'!G$52)^-$C245","v":0},{"$f":"IF('El og plugin hybrid'!G$33=\"Nej\",0,+'El og plugin hybrid'!G$15*'Udledninger per Wh'!$D$5*'El og plugin hybrid'!G$12*'El og plugin hybrid'!G$13/1000)","v":0},{"$f":"J$235*IF('El og plugin hybrid'!I$31=\"nej\",0,'El og plugin hybrid'!I$45)*(1+'El og plugin hybrid'!I$52)^-$C245","v":0},{"$f":"IF('El og plugin hybrid'!I$33=\"Nej\",0,+'El og plugin hybrid'!I$15*'Udledninger per Wh'!$D$5*'El og plugin hybrid'!I$12*'El og plugin hybrid'!I$13/1000)","v":0},{"$f":"L$235*IF('El og plugin hybrid'!K$31=\"nej\",0,'El og plugin hybrid'!K$45)*(1+'El og plugin hybrid'!K$52)^-$C245","v":0},{"$f":"IF('El og plugin hybrid'!K$33=\"Nej\",0,+'El og plugin hybrid'!K$15*'Udledninger per Wh'!$D$5*'El og plugin hybrid'!K$12*'El og plugin hybrid'!K$13/1000)","v":0},{"$f":"N$235*IF('El og plugin hybrid'!M$31=\"nej\",0,'El og plugin hybrid'!M$45)*(1+'El og plugin hybrid'!M$52)^-$C245","v":0},{"$f":"IF('El og plugin hybrid'!M$33=\"Nej\",0,+'El og plugin hybrid'!M$15*'Udledninger per Wh'!$D$5*'El og plugin hybrid'!M$12*'El og plugin hybrid'!M$13/1000)","v":0},{"$f":"P$235*IF('El og plugin hybrid'!O$31=\"nej\",0,'El og plugin hybrid'!O$45)*(1+'El og plugin hybrid'!O$52)^-$C245","v":0},{"$f":"IF('El og plugin hybrid'!O$33=\"Nej\",0,+'El og plugin hybrid'!O$15*'Udledninger per Wh'!$D$5*'El og plugin hybrid'!O$12*'El og plugin hybrid'!O$13/1000)","v":0},{"$f":"R$235*IF('El og plugin hybrid'!Q$31=\"nej\",0,'El og plugin hybrid'!Q$45)*(1+'El og plugin hybrid'!Q$52)^-$C245","v":0},{"$f":"IF('El og plugin hybrid'!Q$33=\"Nej\",0,+'El og plugin hybrid'!Q$15*'Udledninger per Wh'!$D$5*'El og plugin hybrid'!Q$12*'El og plugin hybrid'!Q$13/1000)","v":0},{"$f":"T$235*IF('El og plugin hybrid'!S$31=\"nej\",0,'El og plugin hybrid'!S$45)*(1+'El og plugin hybrid'!S$52)^-$C245","v":0},{"$f":"IF('El og plugin hybrid'!S$33=\"Nej\",0,+'El og plugin hybrid'!S$15*'Udledninger per Wh'!$D$5*'El og plugin hybrid'!S$12*'El og plugin hybrid'!S$13/1000)","v":0},{"$f":"V$235*IF('El og plugin hybrid'!U$31=\"nej\",0,'El og plugin hybrid'!U$45)*(1+'El og plugin hybrid'!U$52)^-$C245","v":0},{"$f":"IF('El og plugin hybrid'!U$33=\"Nej\",0,+'El og plugin hybrid'!U$15*'Udledninger per Wh'!$D$5*'El og plugin hybrid'!U$12*'El og plugin hybrid'!U$13/1000)","v":0},{"$f":"X$235*IF('El og plugin hybrid'!W$31=\"nej\",0,'El og plugin hybrid'!W$45)*(1+'El og plugin hybrid'!W$52)^-$C245","v":0},{"$f":"IF('El og plugin hybrid'!W$33=\"Nej\",0,+'El og plugin hybrid'!W$15*'Udledninger per Wh'!$D$5*'El og plugin hybrid'!W$12*'El og plugin hybrid'!W$13/1000)","v":0}]
[null,12,12,null,{"$f":"F$235*IF('El og plugin hybrid'!E$31=\"nej\",0,'El og plugin hybrid'!E$45)*(1+'El og plugin hybrid'!E$52)^-$C246","v":0},{"$f":"IF('El og plugin hybrid'!E$33=\"Nej\",0,+'El og plugin hybrid'!E$15*'Udledninger per Wh'!$D$5*'El og plugin hybrid'!E$12*'El og plugin hybrid'!E$13/1000)","v":0},{"$f":"H$235*IF('El og plugin hybrid'!G$31=\"nej\",0,'El og plugin hybrid'!G$45)*(1+'El og plugin hybrid'!G$52)^-$C246","v":0},{"$f":"IF('El og plugin hybrid'!G$33=\"Nej\",0,+'El og plugin hybrid'!G$15*'Udledninger per Wh'!$D$5*'El og plugin hybrid'!G$12*'El og plugin hybrid'!G$13/1000)","v":0},{"$f":"J$235*IF('El og plugin hybrid'!I$31=\"nej\",0,'El og plugin hybrid'!I$45)*(1+'El og plugin hybrid'!I$52)^-$C246","v":0},{"$f":"IF('El og plugin hybrid'!I$33=\"Nej\",0,+'El og plugin hybrid'!I$15*'Udledninger per Wh'!$D$5*'El og plugin hybrid'!I$12*'El og plugin hybrid'!I$13/1000)","v":0},{"$f":"L$235*IF('El og plugin hybrid'!K$31=\"nej\",0,'El og plugin hybrid'!K$45)*(1+'El og plugin hybrid'!K$52)^-$C246","v":0},{"$f":"IF('El og plugin hybrid'!K$33=\"Nej\",0,+'El og plugin hybrid'!K$15*'Udledninger per Wh'!$D$5*'El og plugin hybrid'!K$12*'El og plugin hybrid'!K$13/1000)","v":0},{"$f":"N$235*IF('El og plugin hybrid'!M$31=\"nej\",0,'El og plugin hybrid'!M$45)*(1+'El og plugin hybrid'!M$52)^-$C246","v":0},{"$f":"IF('El og plugin hybrid'!M$33=\"Nej\",0,+'El og plugin hybrid'!M$15*'Udledninger per Wh'!$D$5*'El og plugin hybrid'!M$12*'El og plugin hybrid'!M$13/1000)","v":0},{"$f":"P$235*IF('El og plugin hybrid'!O$31=\"nej\",0,'El og plugin hybrid'!O$45)*(1+'El og plugin hybrid'!O$52)^-$C246","v":0},{"$f":"IF('El og plugin hybrid'!O$33=\"Nej\",0,+'El og plugin hybrid'!O$15*'Udledninger per Wh'!$D$5*'El og plugin hybrid'!O$12*'El og plugin hybrid'!O$13/1000)","v":0},{"$f":"R$235*IF('El og plugin hybrid'!Q$31=\"nej\",0,'El og plugin hybrid'!Q$45)*(1+'El og plugin hybrid'!Q$52)^-$C246","v":0},{"$f":"IF('El og plugin hybrid'!Q$33=\"Nej\",0,+'El og plugin hybrid'!Q$15*'Udledninger per Wh'!$D$5*'El og plugin hybrid'!Q$12*'El og plugin hybrid'!Q$13/1000)","v":0},{"$f":"T$235*IF('El og plugin hybrid'!S$31=\"nej\",0,'El og plugin hybrid'!S$45)*(1+'El og plugin hybrid'!S$52)^-$C246","v":0},{"$f":"IF('El og plugin hybrid'!S$33=\"Nej\",0,+'El og plugin hybrid'!S$15*'Udledninger per Wh'!$D$5*'El og plugin hybrid'!S$12*'El og plugin hybrid'!S$13/1000)","v":0},{"$f":"V$235*IF('El og plugin hybrid'!U$31=\"nej\",0,'El og plugin hybrid'!U$45)*(1+'El og plugin hybrid'!U$52)^-$C246","v":0},{"$f":"IF('El og plugin hybrid'!U$33=\"Nej\",0,+'El og plugin hybrid'!U$15*'Udledninger per Wh'!$D$5*'El og plugin hybrid'!U$12*'El og plugin hybrid'!U$13/1000)","v":0},{"$f":"X$235*IF('El og plugin hybrid'!W$31=\"nej\",0,'El og plugin hybrid'!W$45)*(1+'El og plugin hybrid'!W$52)^-$C246","v":0},{"$f":"IF('El og plugin hybrid'!W$33=\"Nej\",0,+'El og plugin hybrid'!W$15*'Udledninger per Wh'!$D$5*'El og plugin hybrid'!W$12*'El og plugin hybrid'!W$13/1000)","v":0}]
[null,13,13,null,{"$f":"F$235*IF('El og plugin hybrid'!E$31=\"nej\",0,'El og plugin hybrid'!E$45)*(1+'El og plugin hybrid'!E$52)^-$C247","v":0},{"$f":"IF('El og plugin hybrid'!E$33=\"Nej\",0,+'El og plugin hybrid'!E$15*'Udledninger per Wh'!$D$5*'El og plugin hybrid'!E$12*'El og plugin hybrid'!E$13/1000)","v":0},{"$f":"H$235*IF('El og plugin hybrid'!G$31=\"nej\",0,'El og plugin hybrid'!G$45)*(1+'El og plugin hybrid'!G$52)^-$C247","v":0},{"$f":"IF('El og plugin hybrid'!G$33=\"Nej\",0,+'El og plugin hybrid'!G$15*'Udledninger per Wh'!$D$5*'El og plugin hybrid'!G$12*'El og plugin hybrid'!G$13/1000)","v":0},{"$f":"J$235*IF('El og plugin hybrid'!I$31=\"nej\",0,'El og plugin hybrid'!I$45)*(1+'El og plugin hybrid'!I$52)^-$C247","v":0},{"$f":"IF('El og plugin hybrid'!I$33=\"Nej\",0,+'El og plugin hybrid'!I$15*'Udledninger per Wh'!$D$5*'El og plugin hybrid'!I$12*'El og plugin hybrid'!I$13/1000)","v":0},{"$f":"L$235*IF('El og plugin hybrid'!K$31=\"nej\",0,'El og plugin hybrid'!K$45)*(1+'El og plugin hybrid'!K$52)^-$C247","v":0},{"$f":"IF('El og plugin hybrid'!K$33=\"Nej\",0,+'El og plugin hybrid'!K$15*'Udledninger per Wh'!$D$5*'El og plugin hybrid'!K$12*'El og plugin hybrid'!K$13/1000)","v":0},{"$f":"N$235*IF('El og plugin hybrid'!M$31=\"nej\",0,'El og plugin hybrid'!M$45)*(1+'El og plugin hybrid'!M$52)^-$C247","v":0},{"$f":"IF('El og plugin hybrid'!M$33=\"Nej\",0,+'El og plugin hybrid'!M$15*'Udledninger per Wh'!$D$5*'El og plugin hybrid'!M$12*'El og plugin hybrid'!M$13/1000)","v":0},{"$f":"P$235*IF('El og plugin hybrid'!O$31=\"nej\",0,'El og plugin hybrid'!O$45)*(1+'El og plugin hybrid'!O$52)^-$C247","v":0},{"$f":"IF('El og plugin hybrid'!O$33=\"Nej\",0,+'El og plugin hybrid'!O$15*'Udledninger per Wh'!$D$5*'El og plugin hybrid'!O$12*'El og plugin hybrid'!O$13/1000)","v":0},{"$f":"R$235*IF('El og plugin hybrid'!Q$31=\"nej\",0,'El og plugin hybrid'!Q$45)*(1+'El og plugin hybrid'!Q$52)^-$C247","v":0},{"$f":"IF('El og plugin hybrid'!Q$33=\"Nej\",0,+'El og plugin hybrid'!Q$15*'Udledninger per Wh'!$D$5*'El og plugin hybrid'!Q$12*'El og plugin hybrid'!Q$13/1000)","v":0},{"$f":"T$235*IF('El og plugin hybrid'!S$31=\"nej\",0,'El og plugin hybrid'!S$45)*(1+'El og plugin hybrid'!S$52)^-$C247","v":0},{"$f":"IF('El og plugin hybrid'!S$33=\"Nej\",0,+'El og plugin hybrid'!S$15*'Udledninger per Wh'!$D$5*'El og plugin hybrid'!S$12*'El og plugin hybrid'!S$13/1000)","v":0},{"$f":"V$235*IF('El og plugin hybrid'!U$31=\"nej\",0,'El og plugin hybrid'!U$45)*(1+'El og plugin hybrid'!U$52)^-$C247","v":0},{"$f":"IF('El og plugin hybrid'!U$33=\"Nej\",0,+'El og plugin hybrid'!U$15*'Udledninger per Wh'!$D$5*'El og plugin hybrid'!U$12*'El og plugin hybrid'!U$13/1000)","v":0},{"$f":"X$235*IF('El og plugin hybrid'!W$31=\"nej\",0,'El og plugin hybrid'!W$45)*(1+'El og plugin hybrid'!W$52)^-$C247","v":0},{"$f":"IF('El og plugin hybrid'!W$33=\"Nej\",0,+'El og plugin hybrid'!W$15*'Udledninger per Wh'!$D$5*'El og plugin hybrid'!W$12*'El og plugin hybrid'!W$13/1000)","v":0}]
[null,14,14,null,{"$f":"F$235*IF('El og plugin hybrid'!E$31=\"nej\",0,'El og plugin hybrid'!E$45)*(1+'El og plugin hybrid'!E$52)^-$C248","v":0},{"$f":"IF('El og plugin hybrid'!E$33=\"Nej\",0,+'El og plugin hybrid'!E$15*'Udledninger per Wh'!$D$5*'El og plugin hybrid'!E$12*'El og plugin hybrid'!E$13/1000)","v":0},{"$f":"H$235*IF('El og plugin hybrid'!G$31=\"nej\",0,'El og plugin hybrid'!G$45)*(1+'El og plugin hybrid'!G$52)^-$C248","v":0},{"$f":"IF('El og plugin hybrid'!G$33=\"Nej\",0,+'El og plugin hybrid'!G$15*'Udledninger per Wh'!$D$5*'El og plugin hybrid'!G$12*'El og plugin hybrid'!G$13/1000)","v":0},{"$f":"J$235*IF('El og plugin hybrid'!I$31=\"nej\",0,'El og plugin hybrid'!I$45)*(1+'El og plugin hybrid'!I$52)^-$C248","v":0},{"$f":"IF('El og plugin hybrid'!I$33=\"Nej\",0,+'El og plugin hybrid'!I$15*'Udledninger per Wh'!$D$5*'El og plugin hybrid'!I$12*'El og plugin hybrid'!I$13/1000)","v":0},{"$f":"L$235*IF('El og plugin hybrid'!K$31=\"nej\",0,'El og plugin hybrid'!K$45)*(1+'El og plugin hybrid'!K$52)^-$C248","v":0},{"$f":"IF('El og plugin hybrid'!K$33=\"Nej\",0,+'El og plugin hybrid'!K$15*'Udledninger per Wh'!$D$5*'El og plugin hybrid'!K$12*'El og plugin hybrid'!K$13/1000)","v":0},{"$f":"N$235*IF('El og plugin hybrid'!M$31=\"nej\",0,'El og plugin hybrid'!M$45)*(1+'El og plugin hybrid'!M$52)^-$C248","v":0},{"$f":"IF('El og plugin hybrid'!M$33=\"Nej\",0,+'El og plugin hybrid'!M$15*'Udledninger per Wh'!$D$5*'El og plugin hybrid'!M$12*'El og plugin hybrid'!M$13/1000)","v":0},{"$f":"P$235*IF('El og plugin hybrid'!O$31=\"nej\",0,'El og plugin hybrid'!O$45)*(1+'El og plugin hybrid'!O$52)^-$C248","v":0},{"$f":"IF('El og plugin hybrid'!O$33=\"Nej\",0,+'El og plugin hybrid'!O$15*'Udledninger per Wh'!$D$5*'El og plugin hybrid'!O$12*'El og plugin hybrid'!O$13/1000)","v":0},{"$f":"R$235*IF('El og plugin hybrid'!Q$31=\"nej\",0,'El og plugin hybrid'!Q$45)*(1+'El og plugin hybrid'!Q$52)^-$C248","v":0},{"$f":"IF('El og plugin hybrid'!Q$33=\"Nej\",0,+'El og plugin hybrid'!Q$15*'Udledninger per Wh'!$D$5*'El og plugin hybrid'!Q$12*'El og plugin hybrid'!Q$13/1000)","v":0},{"$f":"T$235*IF('El og plugin hybrid'!S$31=\"nej\",0,'El og plugin hybrid'!S$45)*(1+'El og plugin hybrid'!S$52)^-$C248","v":0},{"$f":"IF('El og plugin hybrid'!S$33=\"Nej\",0,+'El og plugin hybrid'!S$15*'Udledninger per Wh'!$D$5*'El og plugin hybrid'!S$12*'El og plugin hybrid'!S$13/1000)","v":0},{"$f":"V$235*IF('El og plugin hybrid'!U$31=\"nej\",0,'El og plugin hybrid'!U$45)*(1+'El og plugin hybrid'!U$52)^-$C248","v":0},{"$f":"IF('El og plugin hybrid'!U$33=\"Nej\",0,+'El og plugin hybrid'!U$15*'Udledninger per Wh'!$D$5*'El og plugin hybrid'!U$12*'El og plugin hybrid'!U$13/1000)","v":0},{"$f":"X$235*IF('El og plugin hybrid'!W$31=\"nej\",0,'El og plugin hybrid'!W$45)*(1+'El og plugin hybrid'!W$52)^-$C248","v":0},{"$f":"IF('El og plugin hybrid'!W$33=\"Nej\",0,+'El og plugin hybrid'!W$15*'Udledninger per Wh'!$D$5*'El og plugin hybrid'!W$12*'El og plugin hybrid'!W$13/1000)","v":0}]
[null,15,15,null,{"$f":"F$235*IF('El og plugin hybrid'!E$31=\"nej\",0,'El og plugin hybrid'!E$45)*(1+'El og plugin hybrid'!E$52)^-$C249","v":0},{"$f":"IF('El og plugin hybrid'!E$33=\"Nej\",0,+'El og plugin hybrid'!E$15*'Udledninger per Wh'!$D$5*'El og plugin hybrid'!E$12*'El og plugin hybrid'!E$13/1000)","v":0},{"$f":"H$235*IF('El og plugin hybrid'!G$31=\"nej\",0,'El og plugin hybrid'!G$45)*(1+'El og plugin hybrid'!G$52)^-$C249","v":0},{"$f":"IF('El og plugin hybrid'!G$33=\"Nej\",0,+'El og plugin hybrid'!G$15*'Udledninger per Wh'!$D$5*'El og plugin hybrid'!G$12*'El og plugin hybrid'!G$13/1000)","v":0},{"$f":"J$235*IF('El og plugin hybrid'!I$31=\"nej\",0,'El og plugin hybrid'!I$45)*(1+'El og plugin hybrid'!I$52)^-$C249","v":0},{"$f":"IF('El og plugin hybrid'!I$33=\"Nej\",0,+'El og plugin hybrid'!I$15*'Udledninger per Wh'!$D$5*'El og plugin hybrid'!I$12*'El og plugin hybrid'!I$13/1000)","v":0},{"$f":"L$235*IF('El og plugin hybrid'!K$31=\"nej\",0,'El og plugin hybrid'!K$45)*(1+'El og plugin hybrid'!K$52)^-$C249","v":0},{"$f":"IF('El og plugin hybrid'!K$33=\"Nej\",0,+'El og plugin hybrid'!K$15*'Udledninger per Wh'!$D$5*'El og plugin hybrid'!K$12*'El og plugin hybrid'!K$13/1000)","v":0},{"$f":"N$235*IF('El og plugin hybrid'!M$31=\"nej\",0,'El og plugin hybrid'!M$45)*(1+'El og plugin hybrid'!M$52)^-$C249","v":0},{"$f":"IF('El og plugin hybrid'!M$33=\"Nej\",0,+'El og plugin hybrid'!M$15*'Udledninger per Wh'!$D$5*'El og plugin hybrid'!M$12*'El og plugin hybrid'!M$13/1000)","v":0},{"$f":"P$235*IF('El og plugin hybrid'!O$31=\"nej\",0,'El og plugin hybrid'!O$45)*(1+'El og plugin hybrid'!O$52)^-$C249","v":0},{"$f":"IF('El og plugin hybrid'!O$33=\"Nej\",0,+'El og plugin hybrid'!O$15*'Udledninger per Wh'!$D$5*'El og plugin hybrid'!O$12*'El og plugin hybrid'!O$13/1000)","v":0},{"$f":"R$235*IF('El og plugin hybrid'!Q$31=\"nej\",0,'El og plugin hybrid'!Q$45)*(1+'El og plugin hybrid'!Q$52)^-$C249","v":0},{"$f":"IF('El og plugin hybrid'!Q$33=\"Nej\",0,+'El og plugin hybrid'!Q$15*'Udledninger per Wh'!$D$5*'El og plugin hybrid'!Q$12*'El og plugin hybrid'!Q$13/1000)","v":0},{"$f":"T$235*IF('El og plugin hybrid'!S$31=\"nej\",0,'El og plugin hybrid'!S$45)*(1+'El og plugin hybrid'!S$52)^-$C249","v":0},{"$f":"IF('El og plugin hybrid'!S$33=\"Nej\",0,+'El og plugin hybrid'!S$15*'Udledninger per Wh'!$D$5*'El og plugin hybrid'!S$12*'El og plugin hybrid'!S$13/1000)","v":0},{"$f":"V$235*IF('El og plugin hybrid'!U$31=\"nej\",0,'El og plugin hybrid'!U$45)*(1+'El og plugin hybrid'!U$52)^-$C249","v":0},{"$f":"IF('El og plugin hybrid'!U$33=\"Nej\",0,+'El og plugin hybrid'!U$15*'Udledninger per Wh'!$D$5*'El og plugin hybrid'!U$12*'El og plugin hybrid'!U$13/1000)","v":0},{"$f":"X$235*IF('El og plugin hybrid'!W$31=\"nej\",0,'El og plugin hybrid'!W$45)*(1+'El og plugin hybrid'!W$52)^-$C249","v":0},{"$f":"IF('El og plugin hybrid'!W$33=\"Nej\",0,+'El og plugin hybrid'!W$15*'Udledninger per Wh'!$D$5*'El og plugin hybrid'!W$12*'El og plugin hybrid'!W$13/1000)","v":0}]
[null,16,16,null,{"$f":"F$235*IF('El og plugin hybrid'!E$31=\"nej\",0,'El og plugin hybrid'!E$45)*(1+'El og plugin hybrid'!E$52)^-$C250","v":0},{"$f":"IF('El og plugin hybrid'!E$33=\"Nej\",0,+'El og plugin hybrid'!E$15*'Udledninger per Wh'!$D$5*'El og plugin hybrid'!E$12*'El og plugin hybrid'!E$13/1000)","v":0},{"$f":"H$235*IF('El og plugin hybrid'!G$31=\"nej\",0,'El og plugin hybrid'!G$45)*(1+'El og plugin hybrid'!G$52)^-$C250","v":0},{"$f":"IF('El og plugin hybrid'!G$33=\"Nej\",0,+'El og plugin hybrid'!G$15*'Udledninger per Wh'!$D$5*'El og plugin hybrid'!G$12*'El og plugin hybrid'!G$13/1000)","v":0},{"$f":"J$235*IF('El og plugin hybrid'!I$31=\"nej\",0,'El og plugin hybrid'!I$45)*(1+'El og plugin hybrid'!I$52)^-$C250","v":0},{"$f":"IF('El og plugin hybrid'!I$33=\"Nej\",0,+'El og plugin hybrid'!I$15*'Udledninger per Wh'!$D$5*'El og plugin hybrid'!I$12*'El og plugin hybrid'!I$13/1000)","v":0},{"$f":"L$235*IF('El og plugin hybrid'!K$31=\"nej\",0,'El og plugin hybrid'!K$45)*(1+'El og plugin hybrid'!K$52)^-$C250","v":0},{"$f":"IF('El og plugin hybrid'!K$33=\"Nej\",0,+'El og plugin hybrid'!K$15*'Udledninger per Wh'!$D$5*'El og plugin hybrid'!K$12*'El og plugin hybrid'!K$13/1000)","v":0},{"$f":"N$235*IF('El og plugin hybrid'!M$31=\"nej\",0,'El og plugin hybrid'!M$45)*(1+'El og plugin hybrid'!M$52)^-$C250","v":0},{"$f":"IF('El og plugin hybrid'!M$33=\"Nej\",0,+'El og plugin hybrid'!M$15*'Udledninger per Wh'!$D$5*'El og plugin hybrid'!M$12*'El og plugin hybrid'!M$13/1000)","v":0},{"$f":"P$235*IF('El og plugin hybrid'!O$31=\"nej\",0,'El og plugin hybrid'!O$45)*(1+'El og plugin hybrid'!O$52)^-$C250","v":0},{"$f":"IF('El og plugin hybrid'!O$33=\"Nej\",0,+'El og plugin hybrid'!O$15*'Udledninger per Wh'!$D$5*'El og plugin hybrid'!O$12*'El og plugin hybrid'!O$13/1000)","v":0},{"$f":"R$235*IF('El og plugin hybrid'!Q$31=\"nej\",0,'El og plugin hybrid'!Q$45)*(1+'El og plugin hybrid'!Q$52)^-$C250","v":0},{"$f":"IF('El og plugin hybrid'!Q$33=\"Nej\",0,+'El og plugin hybrid'!Q$15*'Udledninger per Wh'!$D$5*'El og plugin hybrid'!Q$12*'El og plugin hybrid'!Q$13/1000)","v":0},{"$f":"T$235*IF('El og plugin hybrid'!S$31=\"nej\",0,'El og plugin hybrid'!S$45)*(1+'El og plugin hybrid'!S$52)^-$C250","v":0},{"$f":"IF('El og plugin hybrid'!S$33=\"Nej\",0,+'El og plugin hybrid'!S$15*'Udledninger per Wh'!$D$5*'El og plugin hybrid'!S$12*'El og plugin hybrid'!S$13/1000)","v":0},{"$f":"V$235*IF('El og plugin hybrid'!U$31=\"nej\",0,'El og plugin hybrid'!U$45)*(1+'El og plugin hybrid'!U$52)^-$C250","v":0},{"$f":"IF('El og plugin hybrid'!U$33=\"Nej\",0,+'El og plugin hybrid'!U$15*'Udledninger per Wh'!$D$5*'El og plugin hybrid'!U$12*'El og plugin hybrid'!U$13/1000)","v":0},{"$f":"X$235*IF('El og plugin hybrid'!W$31=\"nej\",0,'El og plugin hybrid'!W$45)*(1+'El og plugin hybrid'!W$52)^-$C250","v":0},{"$f":"IF('El og plugin hybrid'!W$33=\"Nej\",0,+'El og plugin hybrid'!W$15*'Udledninger per Wh'!$D$5*'El og plugin hybrid'!W$12*'El og plugin hybrid'!W$13/1000)","v":0}]
[null,17,17,null,{"$f":"F$235*IF('El og plugin hybrid'!E$31=\"nej\",0,'El og plugin hybrid'!E$45)*(1+'El og plugin hybrid'!E$52)^-$C251","v":0},{"$f":"IF('El og plugin hybrid'!E$33=\"Nej\",0,+'El og plugin hybrid'!E$15*'Udledninger per Wh'!$D$5*'El og plugin hybrid'!E$12*'El og plugin hybrid'!E$13/1000)","v":0},{"$f":"H$235*IF('El og plugin hybrid'!G$31=\"nej\",0,'El og plugin hybrid'!G$45)*(1+'El og plugin hybrid'!G$52)^-$C251","v":0},{"$f":"IF('El og plugin hybrid'!G$33=\"Nej\",0,+'El og plugin hybrid'!G$15*'Udledninger per Wh'!$D$5*'El og plugin hybrid'!G$12*'El og plugin hybrid'!G$13/1000)","v":0},{"$f":"J$235*IF('El og plugin hybrid'!I$31=\"nej\",0,'El og plugin hybrid'!I$45)*(1+'El og plugin hybrid'!I$52)^-$C251","v":0},{"$f":"IF('El og plugin hybrid'!I$33=\"Nej\",0,+'El og plugin hybrid'!I$15*'Udledninger per Wh'!$D$5*'El og plugin hybrid'!I$12*'El og plugin hybrid'!I$13/1000)","v":0},{"$f":"L$235*IF('El og plugin hybrid'!K$31=\"nej\",0,'El og plugin hybrid'!K$45)*(1+'El og plugin hybrid'!K$52)^-$C251","v":0},{"$f":"IF('El og plugin hybrid'!K$33=\"Nej\",0,+'El og plugin hybrid'!K$15*'Udledninger per Wh'!$D$5*'El og plugin hybrid'!K$12*'El og plugin hybrid'!K$13/1000)","v":0},{"$f":"N$235*IF('El og plugin hybrid'!M$31=\"nej\",0,'El og plugin hybrid'!M$45)*(1+'El og plugin hybrid'!M$52)^-$C251","v":0},{"$f":"IF('El og plugin hybrid'!M$33=\"Nej\",0,+'El og plugin hybrid'!M$15*'Udledninger per Wh'!$D$5*'El og plugin hybrid'!M$12*'El og plugin hybrid'!M$13/1000)","v":0},{"$f":"P$235*IF('El og plugin hybrid'!O$31=\"nej\",0,'El og plugin hybrid'!O$45)*(1+'El og plugin hybrid'!O$52)^-$C251","v":0},{"$f":"IF('El og plugin hybrid'!O$33=\"Nej\",0,+'El og plugin hybrid'!O$15*'Udledninger per Wh'!$D$5*'El og plugin hybrid'!O$12*'El og plugin hybrid'!O$13/1000)","v":0},{"$f":"R$235*IF('El og plugin hybrid'!Q$31=\"nej\",0,'El og plugin hybrid'!Q$45)*(1+'El og plugin hybrid'!Q$52)^-$C251","v":0},{"$f":"IF('El og plugin hybrid'!Q$33=\"Nej\",0,+'El og plugin hybrid'!Q$15*'Udledninger per Wh'!$D$5*'El og plugin hybrid'!Q$12*'El og plugin hybrid'!Q$13/1000)","v":0},{"$f":"T$235*IF('El og plugin hybrid'!S$31=\"nej\",0,'El og plugin hybrid'!S$45)*(1+'El og plugin hybrid'!S$52)^-$C251","v":0},{"$f":"IF('El og plugin hybrid'!S$33=\"Nej\",0,+'El og plugin hybrid'!S$15*'Udledninger per Wh'!$D$5*'El og plugin hybrid'!S$12*'El og plugin hybrid'!S$13/1000)","v":0},{"$f":"V$235*IF('El og plugin hybrid'!U$31=\"nej\",0,'El og plugin hybrid'!U$45)*(1+'El og plugin hybrid'!U$52)^-$C251","v":0},{"$f":"IF('El og plugin hybrid'!U$33=\"Nej\",0,+'El og plugin hybrid'!U$15*'Udledninger per Wh'!$D$5*'El og plugin hybrid'!U$12*'El og plugin hybrid'!U$13/1000)","v":0},{"$f":"X$235*IF('El og plugin hybrid'!W$31=\"nej\",0,'El og plugin hybrid'!W$45)*(1+'El og plugin hybrid'!W$52)^-$C251","v":0},{"$f":"IF('El og plugin hybrid'!W$33=\"Nej\",0,+'El og plugin hybrid'!W$15*'Udledninger per Wh'!$D$5*'El og plugin hybrid'!W$12*'El og plugin hybrid'!W$13/1000)","v":0}]
[null,18,18,null,{"$f":"F$235*IF('El og plugin hybrid'!E$31=\"nej\",0,'El og plugin hybrid'!E$45)*(1+'El og plugin hybrid'!E$52)^-$C252","v":0},{"$f":"IF('El og plugin hybrid'!E$33=\"Nej\",0,+'El og plugin hybrid'!E$15*'Udledninger per Wh'!$D$5*'El og plugin hybrid'!E$12*'El og plugin hybrid'!E$13/1000)","v":0},{"$f":"H$235*IF('El og plugin hybrid'!G$31=\"nej\",0,'El og plugin hybrid'!G$45)*(1+'El og plugin hybrid'!G$52)^-$C252","v":0},{"$f":"IF('El og plugin hybrid'!G$33=\"Nej\",0,+'El og plugin hybrid'!G$15*'Udledninger per Wh'!$D$5*'El og plugin hybrid'!G$12*'El og plugin hybrid'!G$13/1000)","v":0},{"$f":"J$235*IF('El og plugin hybrid'!I$31=\"nej\",0,'El og plugin hybrid'!I$45)*(1+'El og plugin hybrid'!I$52)^-$C252","v":0},{"$f":"IF('El og plugin hybrid'!I$33=\"Nej\",0,+'El og plugin hybrid'!I$15*'Udledninger per Wh'!$D$5*'El og plugin hybrid'!I$12*'El og plugin hybrid'!I$13/1000)","v":0},{"$f":"L$235*IF('El og plugin hybrid'!K$31=\"nej\",0,'El og plugin hybrid'!K$45)*(1+'El og plugin hybrid'!K$52)^-$C252","v":0},{"$f":"IF('El og plugin hybrid'!K$33=\"Nej\",0,+'El og plugin hybrid'!K$15*'Udledninger per Wh'!$D$5*'El og plugin hybrid'!K$12*'El og plugin hybrid'!K$13/1000)","v":0},{"$f":"N$235*IF('El og plugin hybrid'!M$31=\"nej\",0,'El og plugin hybrid'!M$45)*(1+'El og plugin hybrid'!M$52)^-$C252","v":0},{"$f":"IF('El og plugin hybrid'!M$33=\"Nej\",0,+'El og plugin hybrid'!M$15*'Udledninger per Wh'!$D$5*'El og plugin hybrid'!M$12*'El og plugin hybrid'!M$13/1000)","v":0},{"$f":"P$235*IF('El og plugin hybrid'!O$31=\"nej\",0,'El og plugin hybrid'!O$45)*(1+'El og plugin hybrid'!O$52)^-$C252","v":0},{"$f":"IF('El og plugin hybrid'!O$33=\"Nej\",0,+'El og plugin hybrid'!O$15*'Udledninger per Wh'!$D$5*'El og plugin hybrid'!O$12*'El og plugin hybrid'!O$13/1000)","v":0},{"$f":"R$235*IF('El og plugin hybrid'!Q$31=\"nej\",0,'El og plugin hybrid'!Q$45)*(1+'El og plugin hybrid'!Q$52)^-$C252","v":0},{"$f":"IF('El og plugin hybrid'!Q$33=\"Nej\",0,+'El og plugin hybrid'!Q$15*'Udledninger per Wh'!$D$5*'El og plugin hybrid'!Q$12*'El og plugin hybrid'!Q$13/1000)","v":0},{"$f":"T$235*IF('El og plugin hybrid'!S$31=\"nej\",0,'El og plugin hybrid'!S$45)*(1+'El og plugin hybrid'!S$52)^-$C252","v":0},{"$f":"IF('El og plugin hybrid'!S$33=\"Nej\",0,+'El og plugin hybrid'!S$15*'Udledninger per Wh'!$D$5*'El og plugin hybrid'!S$12*'El og plugin hybrid'!S$13/1000)","v":0},{"$f":"V$235*IF('El og plugin hybrid'!U$31=\"nej\",0,'El og plugin hybrid'!U$45)*(1+'El og plugin hybrid'!U$52)^-$C252","v":0},{"$f":"IF('El og plugin hybrid'!U$33=\"Nej\",0,+'El og plugin hybrid'!U$15*'Udledninger per Wh'!$D$5*'El og plugin hybrid'!U$12*'El og plugin hybrid'!U$13/1000)","v":0},{"$f":"X$235*IF('El og plugin hybrid'!W$31=\"nej\",0,'El og plugin hybrid'!W$45)*(1+'El og plugin hybrid'!W$52)^-$C252","v":0},{"$f":"IF('El og plugin hybrid'!W$33=\"Nej\",0,+'El og plugin hybrid'!W$15*'Udledninger per Wh'!$D$5*'El og plugin hybrid'!W$12*'El og plugin hybrid'!W$13/1000)","v":0}]
[null,19,19,null,{"$f":"F$235*IF('El og plugin hybrid'!E$31=\"nej\",0,'El og plugin hybrid'!E$45)*(1+'El og plugin hybrid'!E$52)^-$C253","v":0},{"$f":"IF('El og plugin hybrid'!E$33=\"Nej\",0,+'El og plugin hybrid'!E$15*'Udledninger per Wh'!$D$5*'El og plugin hybrid'!E$12*'El og plugin hybrid'!E$13/1000)","v":0},{"$f":"H$235*IF('El og plugin hybrid'!G$31=\"nej\",0,'El og plugin hybrid'!G$45)*(1+'El og plugin hybrid'!G$52)^-$C253","v":0},{"$f":"IF('El og plugin hybrid'!G$33=\"Nej\",0,+'El og plugin hybrid'!G$15*'Udledninger per Wh'!$D$5*'El og plugin hybrid'!G$12*'El og plugin hybrid'!G$13/1000)","v":0},{"$f":"J$235*IF('El og plugin hybrid'!I$31=\"nej\",0,'El og plugin hybrid'!I$45)*(1+'El og plugin hybrid'!I$52)^-$C253","v":0},{"$f":"IF('El og plugin hybrid'!I$33=\"Nej\",0,+'El og plugin hybrid'!I$15*'Udledninger per Wh'!$D$5*'El og plugin hybrid'!I$12*'El og plugin hybrid'!I$13/1000)","v":0},{"$f":"L$235*IF('El og plugin hybrid'!K$31=\"nej\",0,'El og plugin hybrid'!K$45)*(1+'El og plugin hybrid'!K$52)^-$C253","v":0},{"$f":"IF('El og plugin hybrid'!K$33=\"Nej\",0,+'El og plugin hybrid'!K$15*'Udledninger per Wh'!$D$5*'El og plugin hybrid'!K$12*'El og plugin hybrid'!K$13/1000)","v":0},{"$f":"N$235*IF('El og plugin hybrid'!M$31=\"nej\",0,'El og plugin hybrid'!M$45)*(1+'El og plugin hybrid'!M$52)^-$C253","v":0},{"$f":"IF('El og plugin hybrid'!M$33=\"Nej\",0,+'El og plugin hybrid'!M$15*'Udledninger per Wh'!$D$5*'El og plugin hybrid'!M$12*'El og plugin hybrid'!M$13/1000)","v":0},{"$f":"P$235*IF('El og plugin hybrid'!O$31=\"nej\",0,'El og plugin hybrid'!O$45)*(1+'El og plugin hybrid'!O$52)^-$C253","v":0},{"$f":"IF('El og plugin hybrid'!O$33=\"Nej\",0,+'El og plugin hybrid'!O$15*'Udledninger per Wh'!$D$5*'El og plugin hybrid'!O$12*'El og plugin hybrid'!O$13/1000)","v":0},{"$f":"R$235*IF('El og plugin hybrid'!Q$31=\"nej\",0,'El og plugin hybrid'!Q$45)*(1+'El og plugin hybrid'!Q$52)^-$C253","v":0},{"$f":"IF('El og plugin hybrid'!Q$33=\"Nej\",0,+'El og plugin hybrid'!Q$15*'Udledninger per Wh'!$D$5*'El og plugin hybrid'!Q$12*'El og plugin hybrid'!Q$13/1000)","v":0},{"$f":"T$235*IF('El og plugin hybrid'!S$31=\"nej\",0,'El og plugin hybrid'!S$45)*(1+'El og plugin hybrid'!S$52)^-$C253","v":0},{"$f":"IF('El og plugin hybrid'!S$33=\"Nej\",0,+'El og plugin hybrid'!S$15*'Udledninger per Wh'!$D$5*'El og plugin hybrid'!S$12*'El og plugin hybrid'!S$13/1000)","v":0},{"$f":"V$235*IF('El og plugin hybrid'!U$31=\"nej\",0,'El og plugin hybrid'!U$45)*(1+'El og plugin hybrid'!U$52)^-$C253","v":0},{"$f":"IF('El og plugin hybrid'!U$33=\"Nej\",0,+'El og plugin hybrid'!U$15*'Udledninger per Wh'!$D$5*'El og plugin hybrid'!U$12*'El og plugin hybrid'!U$13/1000)","v":0},{"$f":"X$235*IF('El og plugin hybrid'!W$31=\"nej\",0,'El og plugin hybrid'!W$45)*(1+'El og plugin hybrid'!W$52)^-$C253","v":0},{"$f":"IF('El og plugin hybrid'!W$33=\"Nej\",0,+'El og plugin hybrid'!W$15*'Udledninger per Wh'!$D$5*'El og plugin hybrid'!W$12*'El og plugin hybrid'!W$13/1000)","v":0}]
[null,20,20,null,{"$f":"F$235*IF('El og plugin hybrid'!E$31=\"nej\",0,'El og plugin hybrid'!E$45)*(1+'El og plugin hybrid'!E$52)^-$C254","v":0},{"$f":"IF('El og plugin hybrid'!E$33=\"Nej\",0,+'El og plugin hybrid'!E$15*'Udledninger per Wh'!$D$5*'El og plugin hybrid'!E$12*'El og plugin hybrid'!E$13/1000)","v":0},{"$f":"H$235*IF('El og plugin hybrid'!G$31=\"nej\",0,'El og plugin hybrid'!G$45)*(1+'El og plugin hybrid'!G$52)^-$C254","v":0},{"$f":"IF('El og plugin hybrid'!G$33=\"Nej\",0,+'El og plugin hybrid'!G$15*'Udledninger per Wh'!$D$5*'El og plugin hybrid'!G$12*'El og plugin hybrid'!G$13/1000)","v":0},{"$f":"J$235*IF('El og plugin hybrid'!I$31=\"nej\",0,'El og plugin hybrid'!I$45)*(1+'El og plugin hybrid'!I$52)^-$C254","v":0},{"$f":"IF('El og plugin hybrid'!I$33=\"Nej\",0,+'El og plugin hybrid'!I$15*'Udledninger per Wh'!$D$5*'El og plugin hybrid'!I$12*'El og plugin hybrid'!I$13/1000)","v":0},{"$f":"L$235*IF('El og plugin hybrid'!K$31=\"nej\",0,'El og plugin hybrid'!K$45)*(1+'El og plugin hybrid'!K$52)^-$C254","v":0},{"$f":"IF('El og plugin hybrid'!K$33=\"Nej\",0,+'El og plugin hybrid'!K$15*'Udledninger per Wh'!$D$5*'El og plugin hybrid'!K$12*'El og plugin hybrid'!K$13/1000)","v":0},{"$f":"N$235*IF('El og plugin hybrid'!M$31=\"nej\",0,'El og plugin hybrid'!M$45)*(1+'El og plugin hybrid'!M$52)^-$C254","v":0},{"$f":"IF('El og plugin hybrid'!M$33=\"Nej\",0,+'El og plugin hybrid'!M$15*'Udledninger per Wh'!$D$5*'El og plugin hybrid'!M$12*'El og plugin hybrid'!M$13/1000)","v":0},{"$f":"P$235*IF('El og plugin hybrid'!O$31=\"nej\",0,'El og plugin hybrid'!O$45)*(1+'El og plugin hybrid'!O$52)^-$C254","v":0},{"$f":"IF('El og plugin hybrid'!O$33=\"Nej\",0,+'El og plugin hybrid'!O$15*'Udledninger per Wh'!$D$5*'El og plugin hybrid'!O$12*'El og plugin hybrid'!O$13/1000)","v":0},{"$f":"R$235*IF('El og plugin hybrid'!Q$31=\"nej\",0,'El og plugin hybrid'!Q$45)*(1+'El og plugin hybrid'!Q$52)^-$C254","v":0},{"$f":"IF('El og plugin hybrid'!Q$33=\"Nej\",0,+'El og plugin hybrid'!Q$15*'Udledninger per Wh'!$D$5*'El og plugin hybrid'!Q$12*'El og plugin hybrid'!Q$13/1000)","v":0},{"$f":"T$235*IF('El og plugin hybrid'!S$31=\"nej\",0,'El og plugin hybrid'!S$45)*(1+'El og plugin hybrid'!S$52)^-$C254","v":0},{"$f":"IF('El og plugin hybrid'!S$33=\"Nej\",0,+'El og plugin hybrid'!S$15*'Udledninger per Wh'!$D$5*'El og plugin hybrid'!S$12*'El og plugin hybrid'!S$13/1000)","v":0},{"$f":"V$235*IF('El og plugin hybrid'!U$31=\"nej\",0,'El og plugin hybrid'!U$45)*(1+'El og plugin hybrid'!U$52)^-$C254","v":0},{"$f":"IF('El og plugin hybrid'!U$33=\"Nej\",0,+'El og plugin hybrid'!U$15*'Udledninger per Wh'!$D$5*'El og plugin hybrid'!U$12*'El og plugin hybrid'!U$13/1000)","v":0},{"$f":"X$235*IF('El og plugin hybrid'!W$31=\"nej\",0,'El og plugin hybrid'!W$45)*(1+'El og plugin hybrid'!W$52)^-$C254","v":0},{"$f":"IF('El og plugin hybrid'!W$33=\"Nej\",0,+'El og plugin hybrid'!W$15*'Udledninger per Wh'!$D$5*'El og plugin hybrid'!W$12*'El og plugin hybrid'!W$13/1000)","v":0}]
[]
[]
[]
["Eksternalitetsmodul - Samfundsøkonomiske omkostninger (kr.)",null,null,null,"Udregninger NOx","OBS - Kun for plugin hybrid - brændstof"]
[null,"År indeks",null,"TCO-evalueringsperiode",{"$f":"'El og plugin hybrid'!E8&\" - Samfundsøkonomiske omkostninger (kr.)\"","v":"PRODUKT 1 EL - Samfundsøkonomiske omkostninger (kr.)"},{"$f":"'El og plugin hybrid'!E8&\" - Samlet udledning i kg NOx\"","v":"PRODUKT 1 EL - Samlet udledning i kg NOx"},{"$f":"'El og plugin hybrid'!G8&\" - Samfundsøkonomiske omkostninger (kr.)\"","v":"PRODUKT 2 EL - Samfundsøkonomiske omkostninger (kr.)"},{"$f":"'El og plugin hybrid'!G8&\" - Samlet udledning i kg NOx\"","v":"PRODUKT 2 EL - Samlet udledning i kg NOx"},{"$f":"'El og plugin hybrid'!I8&\" - Samfundsøkonomiske omkostninger (kr.)\"","v":"PRODUKT 3 EL - Samfundsøkonomiske omkostninger (kr.)"},{"$f":"'El og plugin hybrid'!I8&\" - Samlet udledning i kg NOx\"","v":"PRODUKT 3 EL - Samlet udledning i kg NOx"},{"$f":"'El og plugin hybrid'!K8&\" - Samfundsøkonomiske omkostninger (kr.)\"","v":"PRODUKT 4 EL - Samfundsøkonomiske omkostninger (kr.)"},{"$f":"'El og plugin hybrid'!K8&\" - Samlet udledning i kg NOx\"","v":"PRODUKT 4 EL - Samlet udledning i kg NOx"},{"$f":"'El og plugin hybrid'!M8&\" - Samfundsøkonomiske omkostninger (kr.)\"","v":"PRODUKT 5 EL - Samfundsøkonomiske omkostninger (kr.)"},{"$f":"'El og plugin hybrid'!M8&\" - Samlet udledning i kg NOx\"","v":"PRODUKT 5 EL - Samlet udledning i kg NOx"},{"$f":"'El og plugin hybrid'!O8&\" - Samfundsøkonomiske omkostninger (kr.)\"","v":"PRODUKT 6 EL - Samfundsøkonomiske omkostninger (kr.)"},{"$f":"'El og plugin hybrid'!O8&\" - Samlet udledning i kg NOx\"","v":"PRODUKT 6 EL - Samlet udledning i kg NOx"},{"$f":"'El og plugin hybrid'!Q8&\" - Samfundsøkonomiske omkostninger (kr.)\"","v":"PRODUKT 7 EL - Samfundsøkonomiske omkostninger (kr.)"},{"$f":"'El og plugin hybrid'!Q8&\" - Samlet udledning i kg NOx\"","v":"PRODUKT 7 EL - Samlet udledning i kg NOx"},{"$f":"'El og plugin hybrid'!S8&\" - Samfundsøkonomiske omkostninger (kr.)\"","v":"PRODUKT 8 EL - Samfundsøkonomiske omkostninger (kr.)"},{"$f":"'El og plugin hybrid'!S8&\" - Samlet udledning i kg NOx\"","v":"PRODUKT 8 EL - Samlet udledning i kg NOx"},{"$f":"'El og plugin hybrid'!U8&\" - Samfundsøkonomiske omkostninger (kr.)\"","v":"PRODUKT 9 EL - Samfundsøkonomiske omkostninger (kr.)"},{"$f":"'El og plugin hybrid'!U8&\" - Samlet udledning i kg NOx\"","v":"PRODUKT 9 EL - Samlet udledning i kg NOx"},{"$f":"'El og plugin hybrid'!W8&\" - Samfundsøkonomiske omkostninger (kr.)\"","v":"PRODUKT 10 EL - Samfundsøkonomiske omkostninger (kr.)"},{"$f":"'El og plugin hybrid'!W8&\" - Samlet udledning i kg NOx\"","v":"PRODUKT 10 EL - Samlet udledning i kg NOx"}]
[null,1,{"$f":"B260","v":1},null,{"$f":"IF('El og plugin hybrid'!E$11=\"El\",0,F260*IF('El og plugin hybrid'!E$31=\"nej\",0,'El og plugin hybrid'!E$44)*(1+'El og plugin hybrid'!E$52)^-$C260)","v":0},{"$f":"'El og plugin hybrid'!E$25*'El og plugin hybrid'!E$12*'El og plugin hybrid'!E$13/1000000","v":0},{"$f":"IF('El og plugin hybrid'!G$11=\"El\",0,H260*IF('El og plugin hybrid'!G$31=\"nej\",0,'El og plugin hybrid'!G$44)*(1+'El og plugin hybrid'!G$52)^-$C260)","v":0},{"$f":"'El og plugin hybrid'!G$25*'El og plugin hybrid'!G$12*'El og plugin hybrid'!G$13/1000000","v":0},{"$f":"IF('El og plugin hybrid'!I$11=\"El\",0,J260*IF('El og plugin hybrid'!I$31=\"nej\",0,'El og plugin hybrid'!I$44)*(1+'El og plugin hybrid'!I$52)^-$C260)","v":0},{"$f":"'El og plugin hybrid'!I$25*'El og plugin hybrid'!I$12*'El og plugin hybrid'!I$13/1000000","v":0},{"$f":"IF('El og plugin hybrid'!K$11=\"El\",0,L260*IF('El og plugin hybrid'!K$31=\"nej\",0,'El og plugin hybrid'!K$44)*(1+'El og plugin hybrid'!K$52)^-$C260)","v":0},{"$f":"'El og plugin hybrid'!K$25*'El og plugin hybrid'!K$12*'El og plugin hybrid'!K$13/1000000","v":0},{"$f":"IF('El og plugin hybrid'!M$11=\"El\",0,N260*IF('El og plugin hybrid'!M$31=\"nej\",0,'El og plugin hybrid'!M$44)*(1+'El og plugin hybrid'!M$52)^-$C260)","v":0},{"$f":"'El og plugin hybrid'!M$25*'El og plugin hybrid'!M$12*'El og plugin hybrid'!M$13/1000000","v":0},{"$f":"IF('El og plugin hybrid'!O$11=\"El\",0,P260*IF('El og plugin hybrid'!O$31=\"nej\",0,'El og plugin hybrid'!O$44)*(1+'El og plugin hybrid'!O$52)^-$C260)","v":0},{"$f":"'El og plugin hybrid'!O$25*'El og plugin hybrid'!O$12*'El og plugin hybrid'!O$13/1000000","v":0},{"$f":"IF('El og plugin hybrid'!Q$11=\"El\",0,R260*IF('El og plugin hybrid'!Q$31=\"nej\",0,'El og plugin hybrid'!Q$44)*(1+'El og plugin hybrid'!Q$52)^-$C260)","v":0},{"$f":"'El og plugin hybrid'!Q$25*'El og plugin hybrid'!Q$12*'El og plugin hybrid'!Q$13/1000000","v":0},{"$f":"IF('El og plugin hybrid'!S$11=\"El\",0,T260*IF('El og plugin hybrid'!S$31=\"nej\",0,'El og plugin hybrid'!S$44)*(1+'El og plugin hybrid'!S$52)^-$C260)","v":0},{"$f":"'El og plugin hybrid'!S$25*'El og plugin hybrid'!S$12*'El og plugin hybrid'!S$13/1000000","v":0},{"$f":"IF('El og plugin hybrid'!U$11=\"El\",0,V260*IF('El og plugin hybrid'!U$31=\"nej\",0,'El og plugin hybrid'!U$44)*(1+'El og plugin hybrid'!U$52)^-$C260)","v":0},{"$f":"'El og plugin hybrid'!U$25*'El og plugin hybrid'!U$12*'El og plugin hybrid'!U$13/1000000","v":0},{"$f":"IF('El og plugin hybrid'!W$11=\"El\",0,X260*IF('El og plugin hybrid'!W$31=\"nej\",0,'El og plugin hybrid'!W$44)*(1+'El og plugin hybrid'!W$52)^-$C260)","v":0},{"$f":"'El og plugin hybrid'!W$25*'El og plugin hybrid'!W$12*'El og plugin hybrid'!W$13/1000000","v":0}]
[null,2,{"$f":"B261","v":2},null,{"$f":"IF('El og plugin hybrid'!E$11=\"El\",0,F261*IF('El og plugin hybrid'!E$31=\"nej\",0,'El og plugin hybrid'!E$44)*(1+'El og plugin hybrid'!E$52)^-$C261)","v":0},{"$f":"'El og plugin hybrid'!E$25*'El og plugin hybrid'!E$12*'El og plugin hybrid'!E$13/1000000","v":0},{"$f":"IF('El og plugin hybrid'!G$11=\"El\",0,H261*IF('El og plugin hybrid'!G$31=\"nej\",0,'El og plugin hybrid'!G$44)*(1+'El og plugin hybrid'!G$52)^-$C261)","v":0},{"$f":"'El og plugin hybrid'!G$25*'El og plugin hybrid'!G$12*'El og plugin hybrid'!G$13/1000000","v":0},{"$f":"IF('El og plugin hybrid'!I$11=\"El\",0,J261*IF('El og plugin hybrid'!I$31=\"nej\",0,'El og plugin hybrid'!I$44)*(1+'El og plugin hybrid'!I$52)^-$C261)","v":0},{"$f":"'El og plugin hybrid'!I$25*'El og plugin hybrid'!I$12*'El og plugin hybrid'!I$13/1000000","v":0},{"$f":"IF('El og plugin hybrid'!K$11=\"El\",0,L261*IF('El og plugin hybrid'!K$31=\"nej\",0,'El og plugin hybrid'!K$44)*(1+'El og plugin hybrid'!K$52)^-$C261)","v":0},{"$f":"'El og plugin hybrid'!K$25*'El og plugin hybrid'!K$12*'El og plugin hybrid'!K$13/1000000","v":0},{"$f":"IF('El og plugin hybrid'!M$11=\"El\",0,N261*IF('El og plugin hybrid'!M$31=\"nej\",0,'El og plugin hybrid'!M$44)*(1+'El og plugin hybrid'!M$52)^-$C261)","v":0},{"$f":"'El og plugin hybrid'!M$25*'El og plugin hybrid'!M$12*'El og plugin hybrid'!M$13/1000000","v":0},{"$f":"IF('El og plugin hybrid'!O$11=\"El\",0,P261*IF('El og plugin hybrid'!O$31=\"nej\",0,'El og plugin hybrid'!O$44)*(1+'El og plugin hybrid'!O$52)^-$C261)","v":0},{"$f":"'El og plugin hybrid'!O$25*'El og plugin hybrid'!O$12*'El og plugin hybrid'!O$13/1000000","v":0},{"$f":"IF('El og plugin hybrid'!Q$11=\"El\",0,R261*IF('El og plugin hybrid'!Q$31=\"nej\",0,'El og plugin hybrid'!Q$44)*(1+'El og plugin hybrid'!Q$52)^-$C261)","v":0},{"$f":"'El og plugin hybrid'!Q$25*'El og plugin hybrid'!Q$12*'El og plugin hybrid'!Q$13/1000000","v":0},{"$f":"IF('El og plugin hybrid'!S$11=\"El\",0,T261*IF('El og plugin hybrid'!S$31=\"nej\",0,'El og plugin hybrid'!S$44)*(1+'El og plugin hybrid'!S$52)^-$C261)","v":0},{"$f":"'El og plugin hybrid'!S$25*'El og plugin hybrid'!S$12*'El og plugin hybrid'!S$13/1000000","v":0},{"$f":"IF('El og plugin hybrid'!U$11=\"El\",0,V261*IF('El og plugin hybrid'!U$31=\"nej\",0,'El og plugin hybrid'!U$44)*(1+'El og plugin hybrid'!U$52)^-$C261)","v":0},{"$f":"'El og plugin hybrid'!U$25*'El og plugin hybrid'!U$12*'El og plugin hybrid'!U$13/1000000","v":0},{"$f":"IF('El og plugin hybrid'!W$11=\"El\",0,X261*IF('El og plugin hybrid'!W$31=\"nej\",0,'El og plugin hybrid'!W$44)*(1+'El og plugin hybrid'!W$52)^-$C261)","v":0},{"$f":"'El og plugin hybrid'!W$25*'El og plugin hybrid'!W$12*'El og plugin hybrid'!W$13/1000000","v":0}]
[null,3,3,null,{"$f":"IF('El og plugin hybrid'!E$11=\"El\",0,F262*IF('El og plugin hybrid'!E$31=\"nej\",0,'El og plugin hybrid'!E$44)*(1+'El og plugin hybrid'!E$52)^-$C262)","v":0},{"$f":"'El og plugin hybrid'!E$25*'El og plugin hybrid'!E$12*'El og plugin hybrid'!E$13/1000000","v":0},{"$f":"IF('El og plugin hybrid'!G$11=\"El\",0,H262*IF('El og plugin hybrid'!G$31=\"nej\",0,'El og plugin hybrid'!G$44)*(1+'El og plugin hybrid'!G$52)^-$C262)","v":0},{"$f":"'El og plugin hybrid'!G$25*'El og plugin hybrid'!G$12*'El og plugin hybrid'!G$13/1000000","v":0},{"$f":"IF('El og plugin hybrid'!I$11=\"El\",0,J262*IF('El og plugin hybrid'!I$31=\"nej\",0,'El og plugin hybrid'!I$44)*(1+'El og plugin hybrid'!I$52)^-$C262)","v":0},{"$f":"'El og plugin hybrid'!I$25*'El og plugin hybrid'!I$12*'El og plugin hybrid'!I$13/1000000","v":0},{"$f":"IF('El og plugin hybrid'!K$11=\"El\",0,L262*IF('El og plugin hybrid'!K$31=\"nej\",0,'El og plugin hybrid'!K$44)*(1+'El og plugin hybrid'!K$52)^-$C262)","v":0},{"$f":"'El og plugin hybrid'!K$25*'El og plugin hybrid'!K$12*'El og plugin hybrid'!K$13/1000000","v":0},{"$f":"IF('El og plugin hybrid'!M$11=\"El\",0,N262*IF('El og plugin hybrid'!M$31=\"nej\",0,'El og plugin hybrid'!M$44)*(1+'El og plugin hybrid'!M$52)^-$C262)","v":0},{"$f":"'El og plugin hybrid'!M$25*'El og plugin hybrid'!M$12*'El og plugin hybrid'!M$13/1000000","v":0},{"$f":"IF('El og plugin hybrid'!O$11=\"El\",0,P262*IF('El og plugin hybrid'!O$31=\"nej\",0,'El og plugin hybrid'!O$44)*(1+'El og plugin hybrid'!O$52)^-$C262)","v":0},{"$f":"'El og plugin hybrid'!O$25*'El og plugin hybrid'!O$12*'El og plugin hybrid'!O$13/1000000","v":0},{"$f":"IF('El og plugin hybrid'!Q$11=\"El\",0,R262*IF('El og plugin hybrid'!Q$31=\"nej\",0,'El og plugin hybrid'!Q$44)*(1+'El og plugin hybrid'!Q$52)^-$C262)","v":0},{"$f":"'El og plugin hybrid'!Q$25*'El og plugin hybrid'!Q$12*'El og plugin hybrid'!Q$13/1000000","v":0},{"$f":"IF('El og plugin hybrid'!S$11=\"El\",0,T262*IF('El og plugin hybrid'!S$31=\"nej\",0,'El og plugin hybrid'!S$44)*(1+'El og plugin hybrid'!S$52)^-$C262)","v":0},{"$f":"'El og plugin hybrid'!S$25*'El og plugin hybrid'!S$12*'El og plugin hybrid'!S$13/1000000","v":0},{"$f":"IF('El og plugin hybrid'!U$11=\"El\",0,V262*IF('El og plugin hybrid'!U$31=\"nej\",0,'El og plugin hybrid'!U$44)*(1+'El og plugin hybrid'!U$52)^-$C262)","v":0},{"$f":"'El og plugin hybrid'!U$25*'El og plugin hybrid'!U$12*'El og plugin hybrid'!U$13/1000000","v":0},{"$f":"IF('El og plugin hybrid'!W$11=\"El\",0,X262*IF('El og plugin hybrid'!W$31=\"nej\",0,'El og plugin hybrid'!W$44)*(1+'El og plugin hybrid'!W$52)^-$C262)","v":0},{"$f":"'El og plugin hybrid'!W$25*'El og plugin hybrid'!W$12*'El og plugin hybrid'!W$13/1000000","v":0}]
[null,4,4,null,{"$f":"IF('El og plugin hybrid'!E$11=\"El\",0,F263*IF('El og plugin hybrid'!E$31=\"nej\",0,'El og plugin hybrid'!E$44)*(1+'El og plugin hybrid'!E$52)^-$C263)","v":0},{"$f":"'El og plugin hybrid'!E$25*'El og plugin hybrid'!E$12*'El og plugin hybrid'!E$13/1000000","v":0},{"$f":"IF('El og plugin hybrid'!G$11=\"El\",0,H263*IF('El og plugin hybrid'!G$31=\"nej\",0,'El og plugin hybrid'!G$44)*(1+'El og plugin hybrid'!G$52)^-$C263)","v":0},{"$f":"'El og plugin hybrid'!G$25*'El og plugin hybrid'!G$12*'El og plugin hybrid'!G$13/1000000","v":0},{"$f":"IF('El og plugin hybrid'!I$11=\"El\",0,J263*IF('El og plugin hybrid'!I$31=\"nej\",0,'El og plugin hybrid'!I$44)*(1+'El og plugin hybrid'!I$52)^-$C263)","v":0},{"$f":"'El og plugin hybrid'!I$25*'El og plugin hybrid'!I$12*'El og plugin hybrid'!I$13/1000000","v":0},{"$f":"IF('El og plugin hybrid'!K$11=\"El\",0,L263*IF('El og plugin hybrid'!K$31=\"nej\",0,'El og plugin hybrid'!K$44)*(1+'El og plugin hybrid'!K$52)^-$C263)","v":0},{"$f":"'El og plugin hybrid'!K$25*'El og plugin hybrid'!K$12*'El og plugin hybrid'!K$13/1000000","v":0},{"$f":"IF('El og plugin hybrid'!M$11=\"El\",0,N263*IF('El og plugin hybrid'!M$31=\"nej\",0,'El og plugin hybrid'!M$44)*(1+'El og plugin hybrid'!M$52)^-$C263)","v":0},{"$f":"'El og plugin hybrid'!M$25*'El og plugin hybrid'!M$12*'El og plugin hybrid'!M$13/1000000","v":0},{"$f":"IF('El og plugin hybrid'!O$11=\"El\",0,P263*IF('El og plugin hybrid'!O$31=\"nej\",0,'El og plugin hybrid'!O$44)*(1+'El og plugin hybrid'!O$52)^-$C263)","v":0},{"$f":"'El og plugin hybrid'!O$25*'El og plugin hybrid'!O$12*'El og plugin hybrid'!O$13/1000000","v":0},{"$f":"IF('El og plugin hybrid'!Q$11=\"El\",0,R263*IF('El og plugin hybrid'!Q$31=\"nej\",0,'El og plugin hybrid'!Q$44)*(1+'El og plugin hybrid'!Q$52)^-$C263)","v":0},{"$f":"'El og plugin hybrid'!Q$25*'El og plugin hybrid'!Q$12*'El og plugin hybrid'!Q$13/1000000","v":0},{"$f":"IF('El og plugin hybrid'!S$11=\"El\",0,T263*IF('El og plugin hybrid'!S$31=\"nej\",0,'El og plugin hybrid'!S$44)*(1+'El og plugin hybrid'!S$52)^-$C263)","v":0},{"$f":"'El og plugin hybrid'!S$25*'El og plugin hybrid'!S$12*'El og plugin hybrid'!S$13/1000000","v":0},{"$f":"IF('El og plugin hybrid'!U$11=\"El\",0,V263*IF('El og plugin hybrid'!U$31=\"nej\",0,'El og plugin hybrid'!U$44)*(1+'El og plugin hybrid'!U$52)^-$C263)","v":0},{"$f":"'El og plugin hybrid'!U$25*'El og plugin hybrid'!U$12*'El og plugin hybrid'!U$13/1000000","v":0},{"$f":"IF('El og plugin hybrid'!W$11=\"El\",0,X263*IF('El og plugin hybrid'!W$31=\"nej\",0,'El og plugin hybrid'!W$44)*(1+'El og plugin hybrid'!W$52)^-$C263)","v":0},{"$f":"'El og plugin hybrid'!W$25*'El og plugin hybrid'!W$12*'El og plugin hybrid'!W$13/1000000","v":0}]
[null,5,5,null,{"$f":"IF('El og plugin hybrid'!E$11=\"El\",0,F264*IF('El og plugin hybrid'!E$31=\"nej\",0,'El og plugin hybrid'!E$44)*(1+'El og plugin hybrid'!E$52)^-$C264)","v":0},{"$f":"'El og plugin hybrid'!E$25*'El og plugin hybrid'!E$12*'El og plugin hybrid'!E$13/1000000","v":0},{"$f":"IF('El og plugin hybrid'!G$11=\"El\",0,H264*IF('El og plugin hybrid'!G$31=\"nej\",0,'El og plugin hybrid'!G$44)*(1+'El og plugin hybrid'!G$52)^-$C264)","v":0},{"$f":"'El og plugin hybrid'!G$25*'El og plugin hybrid'!G$12*'El og plugin hybrid'!G$13/1000000","v":0},{"$f":"IF('El og plugin hybrid'!I$11=\"El\",0,J264*IF('El og plugin hybrid'!I$31=\"nej\",0,'El og plugin hybrid'!I$44)*(1+'El og plugin hybrid'!I$52)^-$C264)","v":0},{"$f":"'El og plugin hybrid'!I$25*'El og plugin hybrid'!I$12*'El og plugin hybrid'!I$13/1000000","v":0},{"$f":"IF('El og plugin hybrid'!K$11=\"El\",0,L264*IF('El og plugin hybrid'!K$31=\"nej\",0,'El og plugin hybrid'!K$44)*(1+'El og plugin hybrid'!K$52)^-$C264)","v":0},{"$f":"'El og plugin hybrid'!K$25*'El og plugin hybrid'!K$12*'El og plugin hybrid'!K$13/1000000","v":0},{"$f":"IF('El og plugin hybrid'!M$11=\"El\",0,N264*IF('El og plugin hybrid'!M$31=\"nej\",0,'El og plugin hybrid'!M$44)*(1+'El og plugin hybrid'!M$52)^-$C264)","v":0},{"$f":"'El og plugin hybrid'!M$25*'El og plugin hybrid'!M$12*'El og plugin hybrid'!M$13/1000000","v":0},{"$f":"IF('El og plugin hybrid'!O$11=\"El\",0,P264*IF('El og plugin hybrid'!O$31=\"nej\",0,'El og plugin hybrid'!O$44)*(1+'El og plugin hybrid'!O$52)^-$C264)","v":0},{"$f":"'El og plugin hybrid'!O$25*'El og plugin hybrid'!O$12*'El og plugin hybrid'!O$13/1000000","v":0},{"$f":"IF('El og plugin hybrid'!Q$11=\"El\",0,R264*IF('El og plugin hybrid'!Q$31=\"nej\",0,'El og plugin hybrid'!Q$44)*(1+'El og plugin hybrid'!Q$52)^-$C264)","v":0},{"$f":"'El og plugin hybrid'!Q$25*'El og plugin hybrid'!Q$12*'El og plugin hybrid'!Q$13/1000000","v":0},{"$f":"IF('El og plugin hybrid'!S$11=\"El\",0,T264*IF('El og plugin hybrid'!S$31=\"nej\",0,'El og plugin hybrid'!S$44)*(1+'El og plugin hybrid'!S$52)^-$C264)","v":0},{"$f":"'El og plugin hybrid'!S$25*'El og plugin hybrid'!S$12*'El og plugin hybrid'!S$13/1000000","v":0},{"$f":"IF('El og plugin hybrid'!U$11=\"El\",0,V264*IF('El og plugin hybrid'!U$31=\"nej\",0,'El og plugin hybrid'!U$44)*(1+'El og plugin hybrid'!U$52)^-$C264)","v":0},{"$f":"'El og plugin hybrid'!U$25*'El og plugin hybrid'!U$12*'El og plugin hybrid'!U$13/1000000","v":0},{"$f":"IF('El og plugin hybrid'!W$11=\"El\",0,X264*IF('El og plugin hybrid'!W$31=\"nej\",0,'El og plugin hybrid'!W$44)*(1+'El og plugin hybrid'!W$52)^-$C264)","v":0},{"$f":"'El og plugin hybrid'!W$25*'El og plugin hybrid'!W$12*'El og plugin hybrid'!W$13/1000000","v":0}]
[null,6,6,null,{"$f":"IF('El og plugin hybrid'!E$11=\"El\",0,F265*IF('El og plugin hybrid'!E$31=\"nej\",0,'El og plugin hybrid'!E$44)*(1+'El og plugin hybrid'!E$52)^-$C265)","v":0},{"$f":"'El og plugin hybrid'!E$25*'El og plugin hybrid'!E$12*'El og plugin hybrid'!E$13/1000000","v":0},{"$f":"IF('El og plugin hybrid'!G$11=\"El\",0,H265*IF('El og plugin hybrid'!G$31=\"nej\",0,'El og plugin hybrid'!G$44)*(1+'El og plugin hybrid'!G$52)^-$C265)","v":0},{"$f":"'El og plugin hybrid'!G$25*'El og plugin hybrid'!G$12*'El og plugin hybrid'!G$13/1000000","v":0},{"$f":"IF('El og plugin hybrid'!I$11=\"El\",0,J265*IF('El og plugin hybrid'!I$31=\"nej\",0,'El og plugin hybrid'!I$44)*(1+'El og plugin hybrid'!I$52)^-$C265)","v":0},{"$f":"'El og plugin hybrid'!I$25*'El og plugin hybrid'!I$12*'El og plugin hybrid'!I$13/1000000","v":0},{"$f":"IF('El og plugin hybrid'!K$11=\"El\",0,L265*IF('El og plugin hybrid'!K$31=\"nej\",0,'El og plugin hybrid'!K$44)*(1+'El og plugin hybrid'!K$52)^-$C265)","v":0},{"$f":"'El og plugin hybrid'!K$25*'El og plugin hybrid'!K$12*'El og plugin hybrid'!K$13/1000000","v":0},{"$f":"IF('El og plugin hybrid'!M$11=\"El\",0,N265*IF('El og plugin hybrid'!M$31=\"nej\",0,'El og plugin hybrid'!M$44)*(1+'El og plugin hybrid'!M$52)^-$C265)","v":0},{"$f":"'El og plugin hybrid'!M$25*'El og plugin hybrid'!M$12*'El og plugin hybrid'!M$13/1000000","v":0},{"$f":"IF('El og plugin hybrid'!O$11=\"El\",0,P265*IF('El og plugin hybrid'!O$31=\"nej\",0,'El og plugin hybrid'!O$44)*(1+'El og plugin hybrid'!O$52)^-$C265)","v":0},{"$f":"'El og plugin hybrid'!O$25*'El og plugin hybrid'!O$12*'El og plugin hybrid'!O$13/1000000","v":0},{"$f":"IF('El og plugin hybrid'!Q$11=\"El\",0,R265*IF('El og plugin hybrid'!Q$31=\"nej\",0,'El og plugin hybrid'!Q$44)*(1+'El og plugin hybrid'!Q$52)^-$C265)","v":0},{"$f":"'El og plugin hybrid'!Q$25*'El og plugin hybrid'!Q$12*'El og plugin hybrid'!Q$13/1000000","v":0},{"$f":"IF('El og plugin hybrid'!S$11=\"El\",0,T265*IF('El og plugin hybrid'!S$31=\"nej\",0,'El og plugin hybrid'!S$44)*(1+'El og plugin hybrid'!S$52)^-$C265)","v":0},{"$f":"'El og plugin hybrid'!S$25*'El og plugin hybrid'!S$12*'El og plugin hybrid'!S$13/1000000","v":0},{"$f":"IF('El og plugin hybrid'!U$11=\"El\",0,V265*IF('El og plugin hybrid'!U$31=\"nej\",0,'El og plugin hybrid'!U$44)*(1+'El og plugin hybrid'!U$52)^-$C265)","v":0},{"$f":"'El og plugin hybrid'!U$25*'El og plugin hybrid'!U$12*'El og plugin hybrid'!U$13/1000000","v":0},{"$f":"IF('El og plugin hybrid'!W$11=\"El\",0,X265*IF('El og plugin hybrid'!W$31=\"nej\",0,'El og plugin hybrid'!W$44)*(1+'El og plugin hybrid'!W$52)^-$C265)","v":0},{"$f":"'El og plugin hybrid'!W$25*'El og plugin hybrid'!W$12*'El og plugin hybrid'!W$13/1000000","v":0}]
[null,7,7,null,{"$f":"IF('El og plugin hybrid'!E$11=\"El\",0,F266*IF('El og plugin hybrid'!E$31=\"nej\",0,'El og plugin hybrid'!E$44)*(1+'El og plugin hybrid'!E$52)^-$C266)","v":0},{"$f":"'El og plugin hybrid'!E$25*'El og plugin hybrid'!E$12*'El og plugin hybrid'!E$13/1000000","v":0},{"$f":"IF('El og plugin hybrid'!G$11=\"El\",0,H266*IF('El og plugin hybrid'!G$31=\"nej\",0,'El og plugin hybrid'!G$44)*(1+'El og plugin hybrid'!G$52)^-$C266)","v":0},{"$f":"'El og plugin hybrid'!G$25*'El og plugin hybrid'!G$12*'El og plugin hybrid'!G$13/1000000","v":0},{"$f":"IF('El og plugin hybrid'!I$11=\"El\",0,J266*IF('El og plugin hybrid'!I$31=\"nej\",0,'El og plugin hybrid'!I$44)*(1+'El og plugin hybrid'!I$52)^-$C266)","v":0},{"$f":"'El og plugin hybrid'!I$25*'El og plugin hybrid'!I$12*'El og plugin hybrid'!I$13/1000000","v":0},{"$f":"IF('El og plugin hybrid'!K$11=\"El\",0,L266*IF('El og plugin hybrid'!K$31=\"nej\",0,'El og plugin hybrid'!K$44)*(1+'El og plugin hybrid'!K$52)^-$C266)","v":0},{"$f":"'El og plugin hybrid'!K$25*'El og plugin hybrid'!K$12*'El og plugin hybrid'!K$13/1000000","v":0},{"$f":"IF('El og plugin hybrid'!M$11=\"El\",0,N266*IF('El og plugin hybrid'!M$31=\"nej\",0,'El og plugin hybrid'!M$44)*(1+'El og plugin hybrid'!M$52)^-$C266)","v":0},{"$f":"'El og plugin hybrid'!M$25*'El og plugin hybrid'!M$12*'El og plugin hybrid'!M$13/1000000","v":0},{"$f":"IF('El og plugin hybrid'!O$11=\"El\",0,P266*IF('El og plugin hybrid'!O$31=\"nej\",0,'El og plugin hybrid'!O$44)*(1+'El og plugin hybrid'!O$52)^-$C266)","v":0},{"$f":"'El og plugin hybrid'!O$25*'El og plugin hybrid'!O$12*'El og plugin hybrid'!O$13/1000000","v":0},{"$f":"IF('El og plugin hybrid'!Q$11=\"El\",0,R266*IF('El og plugin hybrid'!Q$31=\"nej\",0,'El og plugin hybrid'!Q$44)*(1+'El og plugin hybrid'!Q$52)^-$C266)","v":0},{"$f":"'El og plugin hybrid'!Q$25*'El og plugin hybrid'!Q$12*'El og plugin hybrid'!Q$13/1000000","v":0},{"$f":"IF('El og plugin hybrid'!S$11=\"El\",0,T266*IF('El og plugin hybrid'!S$31=\"nej\",0,'El og plugin hybrid'!S$44)*(1+'El og plugin hybrid'!S$52)^-$C266)","v":0},{"$f":"'El og plugin hybrid'!S$25*'El og plugin hybrid'!S$12*'El og plugin hybrid'!S$13/1000000","v":0},{"$f":"IF('El og plugin hybrid'!U$11=\"El\",0,V266*IF('El og plugin hybrid'!U$31=\"nej\",0,'El og plugin hybrid'!U$44)*(1+'El og plugin hybrid'!U$52)^-$C266)","v":0},{"$f":"'El og plugin hybrid'!U$25*'El og plugin hybrid'!U$12*'El og plugin hybrid'!U$13/1000000","v":0},{"$f":"IF('El og plugin hybrid'!W$11=\"El\",0,X266*IF('El og plugin hybrid'!W$31=\"nej\",0,'El og plugin hybrid'!W$44)*(1+'El og plugin hybrid'!W$52)^-$C266)","v":0},{"$f":"'El og plugin hybrid'!W$25*'El og plugin hybrid'!W$12*'El og plugin hybrid'!W$13/1000000","v":0}]
[null,8,8,null,{"$f":"IF('El og plugin hybrid'!E$11=\"El\",0,F267*IF('El og plugin hybrid'!E$31=\"nej\",0,'El og plugin hybrid'!E$44)*(1+'El og plugin hybrid'!E$52)^-$C267)","v":0},{"$f":"'El og plugin hybrid'!E$25*'El og plugin hybrid'!E$12*'El og plugin hybrid'!E$13/1000000","v":0},{"$f":"IF('El og plugin hybrid'!G$11=\"El\",0,H267*IF('El og plugin hybrid'!G$31=\"nej\",0,'El og plugin hybrid'!G$44)*(1+'El og plugin hybrid'!G$52)^-$C267)","v":0},{"$f":"'El og plugin hybrid'!G$25*'El og plugin hybrid'!G$12*'El og plugin hybrid'!G$13/1000000","v":0},{"$f":"IF('El og plugin hybrid'!I$11=\"El\",0,J267*IF('El og plugin hybrid'!I$31=\"nej\",0,'El og plugin hybrid'!I$44)*(1+'El og plugin hybrid'!I$52)^-$C267)","v":0},{"$f":"'El og plugin hybrid'!I$25*'El og plugin hybrid'!I$12*'El og plugin hybrid'!I$13/1000000","v":0},{"$f":"IF('El og plugin hybrid'!K$11=\"El\",0,L267*IF('El og plugin hybrid'!K$31=\"nej\",0,'El og plugin hybrid'!K$44)*(1+'El og plugin hybrid'!K$52)^-$C267)","v":0},{"$f":"'El og plugin hybrid'!K$25*'El og plugin hybrid'!K$12*'El og plugin hybrid'!K$13/1000000","v":0},{"$f":"IF('El og plugin hybrid'!M$11=\"El\",0,N267*IF('El og plugin hybrid'!M$31=\"nej\",0,'El og plugin hybrid'!M$44)*(1+'El og plugin hybrid'!M$52)^-$C267)","v":0},{"$f":"'El og plugin hybrid'!M$25*'El og plugin hybrid'!M$12*'El og plugin hybrid'!M$13/1000000","v":0},{"$f":"IF('El og plugin hybrid'!O$11=\"El\",0,P267*IF('El og plugin hybrid'!O$31=\"nej\",0,'El og plugin hybrid'!O$44)*(1+'El og plugin hybrid'!O$52)^-$C267)","v":0},{"$f":"'El og plugin hybrid'!O$25*'El og plugin hybrid'!O$12*'El og plugin hybrid'!O$13/1000000","v":0},{"$f":"IF('El og plugin hybrid'!Q$11=\"El\",0,R267*IF('El og plugin hybrid'!Q$31=\"nej\",0,'El og plugin hybrid'!Q$44)*(1+'El og plugin hybrid'!Q$52)^-$C267)","v":0},{"$f":"'El og plugin hybrid'!Q$25*'El og plugin hybrid'!Q$12*'El og plugin hybrid'!Q$13/1000000","v":0},{"$f":"IF('El og plugin hybrid'!S$11=\"El\",0,T267*IF('El og plugin hybrid'!S$31=\"nej\",0,'El og plugin hybrid'!S$44)*(1+'El og plugin hybrid'!S$52)^-$C267)","v":0},{"$f":"'El og plugin hybrid'!S$25*'El og plugin hybrid'!S$12*'El og plugin hybrid'!S$13/1000000","v":0},{"$f":"IF('El og plugin hybrid'!U$11=\"El\",0,V267*IF('El og plugin hybrid'!U$31=\"nej\",0,'El og plugin hybrid'!U$44)*(1+'El og plugin hybrid'!U$52)^-$C267)","v":0},{"$f":"'El og plugin hybrid'!U$25*'El og plugin hybrid'!U$12*'El og plugin hybrid'!U$13/1000000","v":0},{"$f":"IF('El og plugin hybrid'!W$11=\"El\",0,X267*IF('El og plugin hybrid'!W$31=\"nej\",0,'El og plugin hybrid'!W$44)*(1+'El og plugin hybrid'!W$52)^-$C267)","v":0},{"$f":"'El og plugin hybrid'!W$25*'El og plugin hybrid'!W$12*'El og plugin hybrid'!W$13/1000000","v":0}]
[null,9,9,null,{"$f":"IF('El og plugin hybrid'!E$11=\"El\",0,F268*IF('El og plugin hybrid'!E$31=\"nej\",0,'El og plugin hybrid'!E$44)*(1+'El og plugin hybrid'!E$52)^-$C268)","v":0},{"$f":"'El og plugin hybrid'!E$25*'El og plugin hybrid'!E$12*'El og plugin hybrid'!E$13/1000000","v":0},{"$f":"IF('El og plugin hybrid'!G$11=\"El\",0,H268*IF('El og plugin hybrid'!G$31=\"nej\",0,'El og plugin hybrid'!G$44)*(1+'El og plugin hybrid'!G$52)^-$C268)","v":0},{"$f":"'El og plugin hybrid'!G$25*'El og plugin hybrid'!G$12*'El og plugin hybrid'!G$13/1000000","v":0},{"$f":"IF('El og plugin hybrid'!I$11=\"El\",0,J268*IF('El og plugin hybrid'!I$31=\"nej\",0,'El og plugin hybrid'!I$44)*(1+'El og plugin hybrid'!I$52)^-$C268)","v":0},{"$f":"'El og plugin hybrid'!I$25*'El og plugin hybrid'!I$12*'El og plugin hybrid'!I$13/1000000","v":0},{"$f":"IF('El og plugin hybrid'!K$11=\"El\",0,L268*IF('El og plugin hybrid'!K$31=\"nej\",0,'El og plugin hybrid'!K$44)*(1+'El og plugin hybrid'!K$52)^-$C268)","v":0},{"$f":"'El og plugin hybrid'!K$25*'El og plugin hybrid'!K$12*'El og plugin hybrid'!K$13/1000000","v":0},{"$f":"IF('El og plugin hybrid'!M$11=\"El\",0,N268*IF('El og plugin hybrid'!M$31=\"nej\",0,'El og plugin hybrid'!M$44)*(1+'El og plugin hybrid'!M$52)^-$C268)","v":0},{"$f":"'El og plugin hybrid'!M$25*'El og plugin hybrid'!M$12*'El og plugin hybrid'!M$13/1000000","v":0},{"$f":"IF('El og plugin hybrid'!O$11=\"El\",0,P268*IF('El og plugin hybrid'!O$31=\"nej\",0,'El og plugin hybrid'!O$44)*(1+'El og plugin hybrid'!O$52)^-$C268)","v":0},{"$f":"'El og plugin hybrid'!O$25*'El og plugin hybrid'!O$12*'El og plugin hybrid'!O$13/1000000","v":0},{"$f":"IF('El og plugin hybrid'!Q$11=\"El\",0,R268*IF('El og plugin hybrid'!Q$31=\"nej\",0,'El og plugin hybrid'!Q$44)*(1+'El og plugin hybrid'!Q$52)^-$C268)","v":0},{"$f":"'El og plugin hybrid'!Q$25*'El og plugin hybrid'!Q$12*'El og plugin hybrid'!Q$13/1000000","v":0},{"$f":"IF('El og plugin hybrid'!S$11=\"El\",0,T268*IF('El og plugin hybrid'!S$31=\"nej\",0,'El og plugin hybrid'!S$44)*(1+'El og plugin hybrid'!S$52)^-$C268)","v":0},{"$f":"'El og plugin hybrid'!S$25*'El og plugin hybrid'!S$12*'El og plugin hybrid'!S$13/1000000","v":0},{"$f":"IF('El og plugin hybrid'!U$11=\"El\",0,V268*IF('El og plugin hybrid'!U$31=\"nej\",0,'El og plugin hybrid'!U$44)*(1+'El og plugin hybrid'!U$52)^-$C268)","v":0},{"$f":"'El og plugin hybrid'!U$25*'El og plugin hybrid'!U$12*'El og plugin hybrid'!U$13/1000000","v":0},{"$f":"IF('El og plugin hybrid'!W$11=\"El\",0,X268*IF('El og plugin hybrid'!W$31=\"nej\",0,'El og plugin hybrid'!W$44)*(1+'El og plugin hybrid'!W$52)^-$C268)","v":0},{"$f":"'El og plugin hybrid'!W$25*'El og plugin hybrid'!W$12*'El og plugin hybrid'!W$13/1000000","v":0}]
[null,10,10,null,{"$f":"IF('El og plugin hybrid'!E$11=\"El\",0,F269*IF('El og plugin hybrid'!E$31=\"nej\",0,'El og plugin hybrid'!E$44)*(1+'El og plugin hybrid'!E$52)^-$C269)","v":0},{"$f":"'El og plugin hybrid'!E$25*'El og plugin hybrid'!E$12*'El og plugin hybrid'!E$13/1000000","v":0},{"$f":"IF('El og plugin hybrid'!G$11=\"El\",0,H269*IF('El og plugin hybrid'!G$31=\"nej\",0,'El og plugin hybrid'!G$44)*(1+'El og plugin hybrid'!G$52)^-$C269)","v":0},{"$f":"'El og plugin hybrid'!G$25*'El og plugin hybrid'!G$12*'El og plugin hybrid'!G$13/1000000","v":0},{"$f":"IF('El og plugin hybrid'!I$11=\"El\",0,J269*IF('El og plugin hybrid'!I$31=\"nej\",0,'El og plugin hybrid'!I$44)*(1+'El og plugin hybrid'!I$52)^-$C269)","v":0},{"$f":"'El og plugin hybrid'!I$25*'El og plugin hybrid'!I$12*'El og plugin hybrid'!I$13/1000000","v":0},{"$f":"IF('El og plugin hybrid'!K$11=\"El\",0,L269*IF('El og plugin hybrid'!K$31=\"nej\",0,'El og plugin hybrid'!K$44)*(1+'El og plugin hybrid'!K$52)^-$C269)","v":0},{"$f":"'El og plugin hybrid'!K$25*'El og plugin hybrid'!K$12*'El og plugin hybrid'!K$13/1000000","v":0},{"$f":"IF('El og plugin hybrid'!M$11=\"El\",0,N269*IF('El og plugin hybrid'!M$31=\"nej\",0,'El og plugin hybrid'!M$44)*(1+'El og plugin hybrid'!M$52)^-$C269)","v":0},{"$f":"'El og plugin hybrid'!M$25*'El og plugin hybrid'!M$12*'El og plugin hybrid'!M$13/1000000","v":0},{"$f":"IF('El og plugin hybrid'!O$11=\"El\",0,P269*IF('El og plugin hybrid'!O$31=\"nej\",0,'El og plugin hybrid'!O$44)*(1+'El og plugin hybrid'!O$52)^-$C269)","v":0},{"$f":"'El og plugin hybrid'!O$25*'El og plugin hybrid'!O$12*'El og plugin hybrid'!O$13/1000000","v":0},{"$f":"IF('El og plugin hybrid'!Q$11=\"El\",0,R269*IF('El og plugin hybrid'!Q$31=\"nej\",0,'El og plugin hybrid'!Q$44)*(1+'El og plugin hybrid'!Q$52)^-$C269)","v":0},{"$f":"'El og plugin hybrid'!Q$25*'El og plugin hybrid'!Q$12*'El og plugin hybrid'!Q$13/1000000","v":0},{"$f":"IF('El og plugin hybrid'!S$11=\"El\",0,T269*IF('El og plugin hybrid'!S$31=\"nej\",0,'El og plugin hybrid'!S$44)*(1+'El og plugin hybrid'!S$52)^-$C269)","v":0},{"$f":"'El og plugin hybrid'!S$25*'El og plugin hybrid'!S$12*'El og plugin hybrid'!S$13/1000000","v":0},{"$f":"IF('El og plugin hybrid'!U$11=\"El\",0,V269*IF('El og plugin hybrid'!U$31=\"nej\",0,'El og plugin hybrid'!U$44)*(1+'El og plugin hybrid'!U$52)^-$C269)","v":0},{"$f":"'El og plugin hybrid'!U$25*'El og plugin hybrid'!U$12*'El og plugin hybrid'!U$13/1000000","v":0},{"$f":"IF('El og plugin hybrid'!W$11=\"El\",0,X269*IF('El og plugin hybrid'!W$31=\"nej\",0,'El og plugin hybrid'!W$44)*(1+'El og plugin hybrid'!W$52)^-$C269)","v":0},{"$f":"'El og plugin hybrid'!W$25*'El og plugin hybrid'!W$12*'El og plugin hybrid'!W$13/1000000","v":0}]
[null,11,11,null,{"$f":"IF('El og plugin hybrid'!E$11=\"El\",0,F270*IF('El og plugin hybrid'!E$31=\"nej\",0,'El og plugin hybrid'!E$44)*(1+'El og plugin hybrid'!E$52)^-$C270)","v":0},{"$f":"'El og plugin hybrid'!E$25*'El og plugin hybrid'!E$12*'El og plugin hybrid'!E$13/1000000","v":0},{"$f":"IF('El og plugin hybrid'!G$11=\"El\",0,H270*IF('El og plugin hybrid'!G$31=\"nej\",0,'El og plugin hybrid'!G$44)*(1+'El og plugin hybrid'!G$52)^-$C270)","v":0},{"$f":"'El og plugin hybrid'!G$25*'El og plugin hybrid'!G$12*'El og plugin hybrid'!G$13/1000000","v":0},{"$f":"IF('El og plugin hybrid'!I$11=\"El\",0,J270*IF('El og plugin hybrid'!I$31=\"nej\",0,'El og plugin hybrid'!I$44)*(1+'El og plugin hybrid'!I$52)^-$C270)","v":0},{"$f":"'El og plugin hybrid'!I$25*'El og plugin hybrid'!I$12*'El og plugin hybrid'!I$13/1000000","v":0},{"$f":"IF('El og plugin hybrid'!K$11=\"El\",0,L270*IF('El og plugin hybrid'!K$31=\"nej\",0,'El og plugin hybrid'!K$44)*(1+'El og plugin hybrid'!K$52)^-$C270)","v":0},{"$f":"'El og plugin hybrid'!K$25*'El og plugin hybrid'!K$12*'El og plugin hybrid'!K$13/1000000","v":0},{"$f":"IF('El og plugin hybrid'!M$11=\"El\",0,N270*IF('El og plugin hybrid'!M$31=\"nej\",0,'El og plugin hybrid'!M$44)*(1+'El og plugin hybrid'!M$52)^-$C270)","v":0},{"$f":"'El og plugin hybrid'!M$25*'El og plugin hybrid'!M$12*'El og plugin hybrid'!M$13/1000000","v":0},{"$f":"IF('El og plugin hybrid'!O$11=\"El\",0,P270*IF('El og plugin hybrid'!O$31=\"nej\",0,'El og plugin hybrid'!O$44)*(1+'El og plugin hybrid'!O$52)^-$C270)","v":0},{"$f":"'El og plugin hybrid'!O$25*'El og plugin hybrid'!O$12*'El og plugin hybrid'!O$13/1000000","v":0},{"$f":"IF('El og plugin hybrid'!Q$11=\"El\",0,R270*IF('El og plugin hybrid'!Q$31=\"nej\",0,'El og plugin hybrid'!Q$44)*(1+'El og plugin hybrid'!Q$52)^-$C270)","v":0},{"$f":"'El og plugin hybrid'!Q$25*'El og plugin hybrid'!Q$12*'El og plugin hybrid'!Q$13/1000000","v":0},{"$f":"IF('El og plugin hybrid'!S$11=\"El\",0,T270*IF('El og plugin hybrid'!S$31=\"nej\",0,'El og plugin hybrid'!S$44)*(1+'El og plugin hybrid'!S$52)^-$C270)","v":0},{"$f":"'El og plugin hybrid'!S$25*'El og plugin hybrid'!S$12*'El og plugin hybrid'!S$13/1000000","v":0},{"$f":"IF('El og plugin hybrid'!U$11=\"El\",0,V270*IF('El og plugin hybrid'!U$31=\"nej\",0,'El og plugin hybrid'!U$44)*(1+'El og plugin hybrid'!U$52)^-$C270)","v":0},{"$f":"'El og plugin hybrid'!U$25*'El og plugin hybrid'!U$12*'El og plugin hybrid'!U$13/1000000","v":0},{"$f":"IF('El og plugin hybrid'!W$11=\"El\",0,X270*IF('El og plugin hybrid'!W$31=\"nej\",0,'El og plugin hybrid'!W$44)*(1+'El og plugin hybrid'!W$52)^-$C270)","v":0},{"$f":"'El og plugin hybrid'!W$25*'El og plugin hybrid'!W$12*'El og plugin hybrid'!W$13/1000000","v":0}]
[null,12,12,null,{"$f":"IF('El og plugin hybrid'!E$11=\"El\",0,F271*IF('El og plugin hybrid'!E$31=\"nej\",0,'El og plugin hybrid'!E$44)*(1+'El og plugin hybrid'!E$52)^-$C271)","v":0},{"$f":"'El og plugin hybrid'!E$25*'El og plugin hybrid'!E$12*'El og plugin hybrid'!E$13/1000000","v":0},{"$f":"IF('El og plugin hybrid'!G$11=\"El\",0,H271*IF('El og plugin hybrid'!G$31=\"nej\",0,'El og plugin hybrid'!G$44)*(1+'El og plugin hybrid'!G$52)^-$C271)","v":0},{"$f":"'El og plugin hybrid'!G$25*'El og plugin hybrid'!G$12*'El og plugin hybrid'!G$13/1000000","v":0},{"$f":"IF('El og plugin hybrid'!I$11=\"El\",0,J271*IF('El og plugin hybrid'!I$31=\"nej\",0,'El og plugin hybrid'!I$44)*(1+'El og plugin hybrid'!I$52)^-$C271)","v":0},{"$f":"'El og plugin hybrid'!I$25*'El og plugin hybrid'!I$12*'El og plugin hybrid'!I$13/1000000","v":0},{"$f":"IF('El og plugin hybrid'!K$11=\"El\",0,L271*IF('El og plugin hybrid'!K$31=\"nej\",0,'El og plugin hybrid'!K$44)*(1+'El og plugin hybrid'!K$52)^-$C271)","v":0},{"$f":"'El og plugin hybrid'!K$25*'El og plugin hybrid'!K$12*'El og plugin hybrid'!K$13/1000000","v":0},{"$f":"IF('El og plugin hybrid'!M$11=\"El\",0,N271*IF('El og plugin hybrid'!M$31=\"nej\",0,'El og plugin hybrid'!M$44)*(1+'El og plugin hybrid'!M$52)^-$C271)","v":0},{"$f":"'El og plugin hybrid'!M$25*'El og plugin hybrid'!M$12*'El og plugin hybrid'!M$13/1000000","v":0},{"$f":"IF('El og plugin hybrid'!O$11=\"El\",0,P271*IF('El og plugin hybrid'!O$31=\"nej\",0,'El og plugin hybrid'!O$44)*(1+'El og plugin hybrid'!O$52)^-$C271)","v":0},{"$f":"'El og plugin hybrid'!O$25*'El og plugin hybrid'!O$12*'El og plugin hybrid'!O$13/1000000","v":0},{"$f":"IF('El og plugin hybrid'!Q$11=\"El\",0,R271*IF('El og plugin hybrid'!Q$31=\"nej\",0,'El og plugin hybrid'!Q$44)*(1+'El og plugin hybrid'!Q$52)^-$C271)","v":0},{"$f":"'El og plugin hybrid'!Q$25*'El og plugin hybrid'!Q$12*'El og plugin hybrid'!Q$13/1000000","v":0},{"$f":"IF('El og plugin hybrid'!S$11=\"El\",0,T271*IF('El og plugin hybrid'!S$31=\"nej\",0,'El og plugin hybrid'!S$44)*(1+'El og plugin hybrid'!S$52)^-$C271)","v":0},{"$f":"'El og plugin hybrid'!S$25*'El og plugin hybrid'!S$12*'El og plugin hybrid'!S$13/1000000","v":0},{"$f":"IF('El og plugin hybrid'!U$11=\"El\",0,V271*IF('El og plugin hybrid'!U$31=\"nej\",0,'El og plugin hybrid'!U$44)*(1+'El og plugin hybrid'!U$52)^-$C271)","v":0},{"$f":"'El og plugin hybrid'!U$25*'El og plugin hybrid'!U$12*'El og plugin hybrid'!U$13/1000000","v":0},{"$f":"IF('El og plugin hybrid'!W$11=\"El\",0,X271*IF('El og plugin hybrid'!W$31=\"nej\",0,'El og plugin hybrid'!W$44)*(1+'El og plugin hybrid'!W$52)^-$C271)","v":0},{"$f":"'El og plugin hybrid'!W$25*'El og plugin hybrid'!W$12*'El og plugin hybrid'!W$13/1000000","v":0}]
[null,13,13,null,{"$f":"IF('El og plugin hybrid'!E$11=\"El\",0,F272*IF('El og plugin hybrid'!E$31=\"nej\",0,'El og plugin hybrid'!E$44)*(1+'El og plugin hybrid'!E$52)^-$C272)","v":0},{"$f":"'El og plugin hybrid'!E$25*'El og plugin hybrid'!E$12*'El og plugin hybrid'!E$13/1000000","v":0},{"$f":"IF('El og plugin hybrid'!G$11=\"El\",0,H272*IF('El og plugin hybrid'!G$31=\"nej\",0,'El og plugin hybrid'!G$44)*(1+'El og plugin hybrid'!G$52)^-$C272)","v":0},{"$f":"'El og plugin hybrid'!G$25*'El og plugin hybrid'!G$12*'El og plugin hybrid'!G$13/1000000","v":0},{"$f":"IF('El og plugin hybrid'!I$11=\"El\",0,J272*IF('El og plugin hybrid'!I$31=\"nej\",0,'El og plugin hybrid'!I$44)*(1+'El og plugin hybrid'!I$52)^-$C272)","v":0},{"$f":"'El og plugin hybrid'!I$25*'El og plugin hybrid'!I$12*'El og plugin hybrid'!I$13/1000000","v":0},{"$f":"IF('El og plugin hybrid'!K$11=\"El\",0,L272*IF('El og plugin hybrid'!K$31=\"nej\",0,'El og plugin hybrid'!K$44)*(1+'El og plugin hybrid'!K$52)^-$C272)","v":0},{"$f":"'El og plugin hybrid'!K$25*'El og plugin hybrid'!K$12*'El og plugin hybrid'!K$13/1000000","v":0},{"$f":"IF('El og plugin hybrid'!M$11=\"El\",0,N272*IF('El og plugin hybrid'!M$31=\"nej\",0,'El og plugin hybrid'!M$44)*(1+'El og plugin hybrid'!M$52)^-$C272)","v":0},{"$f":"'El og plugin hybrid'!M$25*'El og plugin hybrid'!M$12*'El og plugin hybrid'!M$13/1000000","v":0},{"$f":"IF('El og plugin hybrid'!O$11=\"El\",0,P272*IF('El og plugin hybrid'!O$31=\"nej\",0,'El og plugin hybrid'!O$44)*(1+'El og plugin hybrid'!O$52)^-$C272)","v":0},{"$f":"'El og plugin hybrid'!O$25*'El og plugin hybrid'!O$12*'El og plugin hybrid'!O$13/1000000","v":0},{"$f":"IF('El og plugin hybrid'!Q$11=\"El\",0,R272*IF('El og plugin hybrid'!Q$31=\"nej\",0,'El og plugin hybrid'!Q$44)*(1+'El og plugin hybrid'!Q$52)^-$C272)","v":0},{"$f":"'El og plugin hybrid'!Q$25*'El og plugin hybrid'!Q$12*'El og plugin hybrid'!Q$13/1000000","v":0},{"$f":"IF('El og plugin hybrid'!S$11=\"El\",0,T272*IF('El og plugin hybrid'!S$31=\"nej\",0,'El og plugin hybrid'!S$44)*(1+'El og plugin hybrid'!S$52)^-$C272)","v":0},{"$f":"'El og plugin hybrid'!S$25*'El og plugin hybrid'!S$12*'El og plugin hybrid'!S$13/1000000","v":0},{"$f":"IF('El og plugin hybrid'!U$11=\"El\",0,V272*IF('El og plugin hybrid'!U$31=\"nej\",0,'El og plugin hybrid'!U$44)*(1+'El og plugin hybrid'!U$52)^-$C272)","v":0},{"$f":"'El og plugin hybrid'!U$25*'El og plugin hybrid'!U$12*'El og plugin hybrid'!U$13/1000000","v":0},{"$f":"IF('El og plugin hybrid'!W$11=\"El\",0,X272*IF('El og plugin hybrid'!W$31=\"nej\",0,'El og plugin hybrid'!W$44)*(1+'El og plugin hybrid'!W$52)^-$C272)","v":0},{"$f":"'El og plugin hybrid'!W$25*'El og plugin hybrid'!W$12*'El og plugin hybrid'!W$13/1000000","v":0}]
[null,14,14,null,{"$f":"IF('El og plugin hybrid'!E$11=\"El\",0,F273*IF('El og plugin hybrid'!E$31=\"nej\",0,'El og plugin hybrid'!E$44)*(1+'El og plugin hybrid'!E$52)^-$C273)","v":0},{"$f":"'El og plugin hybrid'!E$25*'El og plugin hybrid'!E$12*'El og plugin hybrid'!E$13/1000000","v":0},{"$f":"IF('El og plugin hybrid'!G$11=\"El\",0,H273*IF('El og plugin hybrid'!G$31=\"nej\",0,'El og plugin hybrid'!G$44)*(1+'El og plugin hybrid'!G$52)^-$C273)","v":0},{"$f":"'El og plugin hybrid'!G$25*'El og plugin hybrid'!G$12*'El og plugin hybrid'!G$13/1000000","v":0},{"$f":"IF('El og plugin hybrid'!I$11=\"El\",0,J273*IF('El og plugin hybrid'!I$31=\"nej\",0,'El og plugin hybrid'!I$44)*(1+'El og plugin hybrid'!I$52)^-$C273)","v":0},{"$f":"'El og plugin hybrid'!I$25*'El og plugin hybrid'!I$12*'El og plugin hybrid'!I$13/1000000","v":0},{"$f":"IF('El og plugin hybrid'!K$11=\"El\",0,L273*IF('El og plugin hybrid'!K$31=\"nej\",0,'El og plugin hybrid'!K$44)*(1+'El og plugin hybrid'!K$52)^-$C273)","v":0},{"$f":"'El og plugin hybrid'!K$25*'El og plugin hybrid'!K$12*'El og plugin hybrid'!K$13/1000000","v":0},{"$f":"IF('El og plugin hybrid'!M$11=\"El\",0,N273*IF('El og plugin hybrid'!M$31=\"nej\",0,'El og plugin hybrid'!M$44)*(1+'El og plugin hybrid'!M$52)^-$C273)","v":0},{"$f":"'El og plugin hybrid'!M$25*'El og plugin hybrid'!M$12*'El og plugin hybrid'!M$13/1000000","v":0},{"$f":"IF('El og plugin hybrid'!O$11=\"El\",0,P273*IF('El og plugin hybrid'!O$31=\"nej\",0,'El og plugin hybrid'!O$44)*(1+'El og plugin hybrid'!O$52)^-$C273)","v":0},{"$f":"'El og plugin hybrid'!O$25*'El og plugin hybrid'!O$12*'El og plugin hybrid'!O$13/1000000","v":0},{"$f":"IF('El og plugin hybrid'!Q$11=\"El\",0,R273*IF('El og plugin hybrid'!Q$31=\"nej\",0,'El og plugin hybrid'!Q$44)*(1+'El og plugin hybrid'!Q$52)^-$C273)","v":0},{"$f":"'El og plugin hybrid'!Q$25*'El og plugin hybrid'!Q$12*'El og plugin hybrid'!Q$13/1000000","v":0},{"$f":"IF('El og plugin hybrid'!S$11=\"El\",0,T273*IF('El og plugin hybrid'!S$31=\"nej\",0,'El og plugin hybrid'!S$44)*(1+'El og plugin hybrid'!S$52)^-$C273)","v":0},{"$f":"'El og plugin hybrid'!S$25*'El og plugin hybrid'!S$12*'El og plugin hybrid'!S$13/1000000","v":0},{"$f":"IF('El og plugin hybrid'!U$11=\"El\",0,V273*IF('El og plugin hybrid'!U$31=\"nej\",0,'El og plugin hybrid'!U$44)*(1+'El og plugin hybrid'!U$52)^-$C273)","v":0},{"$f":"'El og plugin hybrid'!U$25*'El og plugin hybrid'!U$12*'El og plugin hybrid'!U$13/1000000","v":0},{"$f":"IF('El og plugin hybrid'!W$11=\"El\",0,X273*IF('El og plugin hybrid'!W$31=\"nej\",0,'El og plugin hybrid'!W$44)*(1+'El og plugin hybrid'!W$52)^-$C273)","v":0},{"$f":"'El og plugin hybrid'!W$25*'El og plugin hybrid'!W$12*'El og plugin hybrid'!W$13/1000000","v":0}]
[null,15,15,null,{"$f":"IF('El og plugin hybrid'!E$11=\"El\",0,F274*IF('El og plugin hybrid'!E$31=\"nej\",0,'El og plugin hybrid'!E$44)*(1+'El og plugin hybrid'!E$52)^-$C274)","v":0},{"$f":"'El og plugin hybrid'!E$25*'El og plugin hybrid'!E$12*'El og plugin hybrid'!E$13/1000000","v":0},{"$f":"IF('El og plugin hybrid'!G$11=\"El\",0,H274*IF('El og plugin hybrid'!G$31=\"nej\",0,'El og plugin hybrid'!G$44)*(1+'El og plugin hybrid'!G$52)^-$C274)","v":0},{"$f":"'El og plugin hybrid'!G$25*'El og plugin hybrid'!G$12*'El og plugin hybrid'!G$13/1000000","v":0},{"$f":"IF('El og plugin hybrid'!I$11=\"El\",0,J274*IF('El og plugin hybrid'!I$31=\"nej\",0,'El og plugin hybrid'!I$44)*(1+'El og plugin hybrid'!I$52)^-$C274)","v":0},{"$f":"'El og plugin hybrid'!I$25*'El og plugin hybrid'!I$12*'El og plugin hybrid'!I$13/1000000","v":0},{"$f":"IF('El og plugin hybrid'!K$11=\"El\",0,L274*IF('El og plugin hybrid'!K$31=\"nej\",0,'El og plugin hybrid'!K$44)*(1+'El og plugin hybrid'!K$52)^-$C274)","v":0},{"$f":"'El og plugin hybrid'!K$25*'El og plugin hybrid'!K$12*'El og plugin hybrid'!K$13/1000000","v":0},{"$f":"IF('El og plugin hybrid'!M$11=\"El\",0,N274*IF('El og plugin hybrid'!M$31=\"nej\",0,'El og plugin hybrid'!M$44)*(1+'El og plugin hybrid'!M$52)^-$C274)","v":0},{"$f":"'El og plugin hybrid'!M$25*'El og plugin hybrid'!M$12*'El og plugin hybrid'!M$13/1000000","v":0},{"$f":"IF('El og plugin hybrid'!O$11=\"El\",0,P274*IF('El og plugin hybrid'!O$31=\"nej\",0,'El og plugin hybrid'!O$44)*(1+'El og plugin hybrid'!O$52)^-$C274)","v":0},{"$f":"'El og plugin hybrid'!O$25*'El og plugin hybrid'!O$12*'El og plugin hybrid'!O$13/1000000","v":0},{"$f":"IF('El og plugin hybrid'!Q$11=\"El\",0,R274*IF('El og plugin hybrid'!Q$31=\"nej\",0,'El og plugin hybrid'!Q$44)*(1+'El og plugin hybrid'!Q$52)^-$C274)","v":0},{"$f":"'El og plugin hybrid'!Q$25*'El og plugin hybrid'!Q$12*'El og plugin hybrid'!Q$13/1000000","v":0},{"$f":"IF('El og plugin hybrid'!S$11=\"El\",0,T274*IF('El og plugin hybrid'!S$31=\"nej\",0,'El og plugin hybrid'!S$44)*(1+'El og plugin hybrid'!S$52)^-$C274)","v":0},{"$f":"'El og plugin hybrid'!S$25*'El og plugin hybrid'!S$12*'El og plugin hybrid'!S$13/1000000","v":0},{"$f":"IF('El og plugin hybrid'!U$11=\"El\",0,V274*IF('El og plugin hybrid'!U$31=\"nej\",0,'El og plugin hybrid'!U$44)*(1+'El og plugin hybrid'!U$52)^-$C274)","v":0},{"$f":"'El og plugin hybrid'!U$25*'El og plugin hybrid'!U$12*'El og plugin hybrid'!U$13/1000000","v":0},{"$f":"IF('El og plugin hybrid'!W$11=\"El\",0,X274*IF('El og plugin hybrid'!W$31=\"nej\",0,'El og plugin hybrid'!W$44)*(1+'El og plugin hybrid'!W$52)^-$C274)","v":0},{"$f":"'El og plugin hybrid'!W$25*'El og plugin hybrid'!W$12*'El og plugin hybrid'!W$13/1000000","v":0}]
[null,16,16,null,{"$f":"IF('El og plugin hybrid'!E$11=\"El\",0,F275*IF('El og plugin hybrid'!E$31=\"nej\",0,'El og plugin hybrid'!E$44)*(1+'El og plugin hybrid'!E$52)^-$C275)","v":0},{"$f":"'El og plugin hybrid'!E$25*'El og plugin hybrid'!E$12*'El og plugin hybrid'!E$13/1000000","v":0},{"$f":"IF('El og plugin hybrid'!G$11=\"El\",0,H275*IF('El og plugin hybrid'!G$31=\"nej\",0,'El og plugin hybrid'!G$44)*(1+'El og plugin hybrid'!G$52)^-$C275)","v":0},{"$f":"'El og plugin hybrid'!G$25*'El og plugin hybrid'!G$12*'El og plugin hybrid'!G$13/1000000","v":0},{"$f":"IF('El og plugin hybrid'!I$11=\"El\",0,J275*IF('El og plugin hybrid'!I$31=\"nej\",0,'El og plugin hybrid'!I$44)*(1+'El og plugin hybrid'!I$52)^-$C275)","v":0},{"$f":"'El og plugin hybrid'!I$25*'El og plugin hybrid'!I$12*'El og plugin hybrid'!I$13/1000000","v":0},{"$f":"IF('El og plugin hybrid'!K$11=\"El\",0,L275*IF('El og plugin hybrid'!K$31=\"nej\",0,'El og plugin hybrid'!K$44)*(1+'El og plugin hybrid'!K$52)^-$C275)","v":0},{"$f":"'El og plugin hybrid'!K$25*'El og plugin hybrid'!K$12*'El og plugin hybrid'!K$13/1000000","v":0},{"$f":"IF('El og plugin hybrid'!M$11=\"El\",0,N275*IF('El og plugin hybrid'!M$31=\"nej\",0,'El og plugin hybrid'!M$44)*(1+'El og plugin hybrid'!M$52)^-$C275)","v":0},{"$f":"'El og plugin hybrid'!M$25*'El og plugin hybrid'!M$12*'El og plugin hybrid'!M$13/1000000","v":0},{"$f":"IF('El og plugin hybrid'!O$11=\"El\",0,P275*IF('El og plugin hybrid'!O$31=\"nej\",0,'El og plugin hybrid'!O$44)*(1+'El og plugin hybrid'!O$52)^-$C275)","v":0},{"$f":"'El og plugin hybrid'!O$25*'El og plugin hybrid'!O$12*'El og plugin hybrid'!O$13/1000000","v":0},{"$f":"IF('El og plugin hybrid'!Q$11=\"El\",0,R275*IF('El og plugin hybrid'!Q$31=\"nej\",0,'El og plugin hybrid'!Q$44)*(1+'El og plugin hybrid'!Q$52)^-$C275)","v":0},{"$f":"'El og plugin hybrid'!Q$25*'El og plugin hybrid'!Q$12*'El og plugin hybrid'!Q$13/1000000","v":0},{"$f":"IF('El og plugin hybrid'!S$11=\"El\",0,T275*IF('El og plugin hybrid'!S$31=\"nej\",0,'El og plugin hybrid'!S$44)*(1+'El og plugin hybrid'!S$52)^-$C275)","v":0},{"$f":"'El og plugin hybrid'!S$25*'El og plugin hybrid'!S$12*'El og plugin hybrid'!S$13/1000000","v":0},{"$f":"IF('El og plugin hybrid'!U$11=\"El\",0,V275*IF('El og plugin hybrid'!U$31=\"nej\",0,'El og plugin hybrid'!U$44)*(1+'El og plugin hybrid'!U$52)^-$C275)","v":0},{"$f":"'El og plugin hybrid'!U$25*'El og plugin hybrid'!U$12*'El og plugin hybrid'!U$13/1000000","v":0},{"$f":"IF('El og plugin hybrid'!W$11=\"El\",0,X275*IF('El og plugin hybrid'!W$31=\"nej\",0,'El og plugin hybrid'!W$44)*(1+'El og plugin hybrid'!W$52)^-$C275)","v":0},{"$f":"'El og plugin hybrid'!W$25*'El og plugin hybrid'!W$12*'El og plugin hybrid'!W$13/1000000","v":0}]
[null,17,17,null,{"$f":"IF('El og plugin hybrid'!E$11=\"El\",0,F276*IF('El og plugin hybrid'!E$31=\"nej\",0,'El og plugin hybrid'!E$44)*(1+'El og plugin hybrid'!E$52)^-$C276)","v":0},{"$f":"'El og plugin hybrid'!E$25*'El og plugin hybrid'!E$12*'El og plugin hybrid'!E$13/1000000","v":0},{"$f":"IF('El og plugin hybrid'!G$11=\"El\",0,H276*IF('El og plugin hybrid'!G$31=\"nej\",0,'El og plugin hybrid'!G$44)*(1+'El og plugin hybrid'!G$52)^-$C276)","v":0},{"$f":"'El og plugin hybrid'!G$25*'El og plugin hybrid'!G$12*'El og plugin hybrid'!G$13/1000000","v":0},{"$f":"IF('El og plugin hybrid'!I$11=\"El\",0,J276*IF('El og plugin hybrid'!I$31=\"nej\",0,'El og plugin hybrid'!I$44)*(1+'El og plugin hybrid'!I$52)^-$C276)","v":0},{"$f":"'El og plugin hybrid'!I$25*'El og plugin hybrid'!I$12*'El og plugin hybrid'!I$13/1000000","v":0},{"$f":"IF('El og plugin hybrid'!K$11=\"El\",0,L276*IF('El og plugin hybrid'!K$31=\"nej\",0,'El og plugin hybrid'!K$44)*(1+'El og plugin hybrid'!K$52)^-$C276)","v":0},{"$f":"'El og plugin hybrid'!K$25*'El og plugin hybrid'!K$12*'El og plugin hybrid'!K$13/1000000","v":0},{"$f":"IF('El og plugin hybrid'!M$11=\"El\",0,N276*IF('El og plugin hybrid'!M$31=\"nej\",0,'El og plugin hybrid'!M$44)*(1+'El og plugin hybrid'!M$52)^-$C276)","v":0},{"$f":"'El og plugin hybrid'!M$25*'El og plugin hybrid'!M$12*'El og plugin hybrid'!M$13/1000000","v":0},{"$f":"IF('El og plugin hybrid'!O$11=\"El\",0,P276*IF('El og plugin hybrid'!O$31=\"nej\",0,'El og plugin hybrid'!O$44)*(1+'El og plugin hybrid'!O$52)^-$C276)","v":0},{"$f":"'El og plugin hybrid'!O$25*'El og plugin hybrid'!O$12*'El og plugin hybrid'!O$13/1000000","v":0},{"$f":"IF('El og plugin hybrid'!Q$11=\"El\",0,R276*IF('El og plugin hybrid'!Q$31=\"nej\",0,'El og plugin hybrid'!Q$44)*(1+'El og plugin hybrid'!Q$52)^-$C276)","v":0},{"$f":"'El og plugin hybrid'!Q$25*'El og plugin hybrid'!Q$12*'El og plugin hybrid'!Q$13/1000000","v":0},{"$f":"IF('El og plugin hybrid'!S$11=\"El\",0,T276*IF('El og plugin hybrid'!S$31=\"nej\",0,'El og plugin hybrid'!S$44)*(1+'El og plugin hybrid'!S$52)^-$C276)","v":0},{"$f":"'El og plugin hybrid'!S$25*'El og plugin hybrid'!S$12*'El og plugin hybrid'!S$13/1000000","v":0},{"$f":"IF('El og plugin hybrid'!U$11=\"El\",0,V276*IF('El og plugin hybrid'!U$31=\"nej\",0,'El og plugin hybrid'!U$44)*(1+'El og plugin hybrid'!U$52)^-$C276)","v":0},{"$f":"'El og plugin hybrid'!U$25*'El og plugin hybrid'!U$12*'El og plugin hybrid'!U$13/1000000","v":0},{"$f":"IF('El og plugin hybrid'!W$11=\"El\",0,X276*IF('El og plugin hybrid'!W$31=\"nej\",0,'El og plugin hybrid'!W$44)*(1+'El og plugin hybrid'!W$52)^-$C276)","v":0},{"$f":"'El og plugin hybrid'!W$25*'El og plugin hybrid'!W$12*'El og plugin hybrid'!W$13/1000000","v":0}]
[null,18,18,null,{"$f":"IF('El og plugin hybrid'!E$11=\"El\",0,F277*IF('El og plugin hybrid'!E$31=\"nej\",0,'El og plugin hybrid'!E$44)*(1+'El og plugin hybrid'!E$52)^-$C277)","v":0},{"$f":"'El og plugin hybrid'!E$25*'El og plugin hybrid'!E$12*'El og plugin hybrid'!E$13/1000000","v":0},{"$f":"IF('El og plugin hybrid'!G$11=\"El\",0,H277*IF('El og plugin hybrid'!G$31=\"nej\",0,'El og plugin hybrid'!G$44)*(1+'El og plugin hybrid'!G$52)^-$C277)","v":0},{"$f":"'El og plugin hybrid'!G$25*'El og plugin hybrid'!G$12*'El og plugin hybrid'!G$13/1000000","v":0},{"$f":"IF('El og plugin hybrid'!I$11=\"El\",0,J277*IF('El og plugin hybrid'!I$31=\"nej\",0,'El og plugin hybrid'!I$44)*(1+'El og plugin hybrid'!I$52)^-$C277)","v":0},{"$f":"'El og plugin hybrid'!I$25*'El og plugin hybrid'!I$12*'El og plugin hybrid'!I$13/1000000","v":0},{"$f":"IF('El og plugin hybrid'!K$11=\"El\",0,L277*IF('El og plugin hybrid'!K$31=\"nej\",0,'El og plugin hybrid'!K$44)*(1+'El og plugin hybrid'!K$52)^-$C277)","v":0},{"$f":"'El og plugin hybrid'!K$25*'El og plugin hybrid'!K$12*'El og plugin hybrid'!K$13/1000000","v":0},{"$f":"IF('El og plugin hybrid'!M$11=\"El\",0,N277*IF('El og plugin hybrid'!M$31=\"nej\",0,'El og plugin hybrid'!M$44)*(1+'El og plugin hybrid'!M$52)^-$C277)","v":0},{"$f":"'El og plugin hybrid'!M$25*'El og plugin hybrid'!M$12*'El og plugin hybrid'!M$13/1000000","v":0},{"$f":"IF('El og plugin hybrid'!O$11=\"El\",0,P277*IF('El og plugin hybrid'!O$31=\"nej\",0,'El og plugin hybrid'!O$44)*(1+'El og plugin hybrid'!O$52)^-$C277)","v":0},{"$f":"'El og plugin hybrid'!O$25*'El og plugin hybrid'!O$12*'El og plugin hybrid'!O$13/1000000","v":0},{"$f":"IF('El og plugin hybrid'!Q$11=\"El\",0,R277*IF('El og plugin hybrid'!Q$31=\"nej\",0,'El og plugin hybrid'!Q$44)*(1+'El og plugin hybrid'!Q$52)^-$C277)","v":0},{"$f":"'El og plugin hybrid'!Q$25*'El og plugin hybrid'!Q$12*'El og plugin hybrid'!Q$13/1000000","v":0},{"$f":"IF('El og plugin hybrid'!S$11=\"El\",0,T277*IF('El og plugin hybrid'!S$31=\"nej\",0,'El og plugin hybrid'!S$44)*(1+'El og plugin hybrid'!S$52)^-$C277)","v":0},{"$f":"'El og plugin hybrid'!S$25*'El og plugin hybrid'!S$12*'El og plugin hybrid'!S$13/1000000","v":0},{"$f":"IF('El og plugin hybrid'!U$11=\"El\",0,V277*IF('El og plugin hybrid'!U$31=\"nej\",0,'El og plugin hybrid'!U$44)*(1+'El og plugin hybrid'!U$52)^-$C277)","v":0},{"$f":"'El og plugin hybrid'!U$25*'El og plugin hybrid'!U$12*'El og plugin hybrid'!U$13/1000000","v":0},{"$f":"IF('El og plugin hybrid'!W$11=\"El\",0,X277*IF('El og plugin hybrid'!W$31=\"nej\",0,'El og plugin hybrid'!W$44)*(1+'El og plugin hybrid'!W$52)^-$C277)","v":0},{"$f":"'El og plugin hybrid'!W$25*'El og plugin hybrid'!W$12*'El og plugin hybrid'!W$13/1000000","v":0}]
[null,19,19,null,{"$f":"IF('El og plugin hybrid'!E$11=\"El\",0,F278*IF('El og plugin hybrid'!E$31=\"nej\",0,'El og plugin hybrid'!E$44)*(1+'El og plugin hybrid'!E$52)^-$C278)","v":0},{"$f":"'El og plugin hybrid'!E$25*'El og plugin hybrid'!E$12*'El og plugin hybrid'!E$13/1000000","v":0},{"$f":"IF('El og plugin hybrid'!G$11=\"El\",0,H278*IF('El og plugin hybrid'!G$31=\"nej\",0,'El og plugin hybrid'!G$44)*(1+'El og plugin hybrid'!G$52)^-$C278)","v":0},{"$f":"'El og plugin hybrid'!G$25*'El og plugin hybrid'!G$12*'El og plugin hybrid'!G$13/1000000","v":0},{"$f":"IF('El og plugin hybrid'!I$11=\"El\",0,J278*IF('El og plugin hybrid'!I$31=\"nej\",0,'El og plugin hybrid'!I$44)*(1+'El og plugin hybrid'!I$52)^-$C278)","v":0},{"$f":"'El og plugin hybrid'!I$25*'El og plugin hybrid'!I$12*'El og plugin hybrid'!I$13/1000000","v":0},{"$f":"IF('El og plugin hybrid'!K$11=\"El\",0,L278*IF('El og plugin hybrid'!K$31=\"nej\",0,'El og plugin hybrid'!K$44)*(1+'El og plugin hybrid'!K$52)^-$C278)","v":0},{"$f":"'El og plugin hybrid'!K$25*'El og plugin hybrid'!K$12*'El og plugin hybrid'!K$13/1000000","v":0},{"$f":"IF('El og plugin hybrid'!M$11=\"El\",0,N278*IF('El og plugin hybrid'!M$31=\"nej\",0,'El og plugin hybrid'!M$44)*(1+'El og plugin hybrid'!M$52)^-$C278)","v":0},{"$f":"'El og plugin hybrid'!M$25*'El og plugin hybrid'!M$12*'El og plugin hybrid'!M$13/1000000","v":0},{"$f":"IF('El og plugin hybrid'!O$11=\"El\",0,P278*IF('El og plugin hybrid'!O$31=\"nej\",0,'El og plugin hybrid'!O$44)*(1+'El og plugin hybrid'!O$52)^-$C278)","v":0},{"$f":"'El og plugin hybrid'!O$25*'El og plugin hybrid'!O$12*'El og plugin hybrid'!O$13/1000000","v":0},{"$f":"IF('El og plugin hybrid'!Q$11=\"El\",0,R278*IF('El og plugin hybrid'!Q$31=\"nej\",0,'El og plugin hybrid'!Q$44)*(1+'El og plugin hybrid'!Q$52)^-$C278)","v":0},{"$f":"'El og plugin hybrid'!Q$25*'El og plugin hybrid'!Q$12*'El og plugin hybrid'!Q$13/1000000","v":0},{"$f":"IF('El og plugin hybrid'!S$11=\"El\",0,T278*IF('El og plugin hybrid'!S$31=\"nej\",0,'El og plugin hybrid'!S$44)*(1+'El og plugin hybrid'!S$52)^-$C278)","v":0},{"$f":"'El og plugin hybrid'!S$25*'El og plugin hybrid'!S$12*'El og plugin hybrid'!S$13/1000000","v":0},{"$f":"IF('El og plugin hybrid'!U$11=\"El\",0,V278*IF('El og plugin hybrid'!U$31=\"nej\",0,'El og plugin hybrid'!U$44)*(1+'El og plugin hybrid'!U$52)^-$C278)","v":0},{"$f":"'El og plugin hybrid'!U$25*'El og plugin hybrid'!U$12*'El og plugin hybrid'!U$13/1000000","v":0},{"$f":"IF('El og plugin hybrid'!W$11=\"El\",0,X278*IF('El og plugin hybrid'!W$31=\"nej\",0,'El og plugin hybrid'!W$44)*(1+'El og plugin hybrid'!W$52)^-$C278)","v":0},{"$f":"'El og plugin hybrid'!W$25*'El og plugin hybrid'!W$12*'El og plugin hybrid'!W$13/1000000","v":0}]
[null,20,20,null,{"$f":"IF('El og plugin hybrid'!E$11=\"El\",0,F279*IF('El og plugin hybrid'!E$31=\"nej\",0,'El og plugin hybrid'!E$44)*(1+'El og plugin hybrid'!E$52)^-$C279)","v":0},{"$f":"'El og plugin hybrid'!E$25*'El og plugin hybrid'!E$12*'El og plugin hybrid'!E$13/1000000","v":0},{"$f":"IF('El og plugin hybrid'!G$11=\"El\",0,H279*IF('El og plugin hybrid'!G$31=\"nej\",0,'El og plugin hybrid'!G$44)*(1+'El og plugin hybrid'!G$52)^-$C279)","v":0},{"$f":"'El og plugin hybrid'!G$25*'El og plugin hybrid'!G$12*'El og plugin hybrid'!G$13/1000000","v":0},{"$f":"IF('El og plugin hybrid'!I$11=\"El\",0,J279*IF('El og plugin hybrid'!I$31=\"nej\",0,'El og plugin hybrid'!I$44)*(1+'El og plugin hybrid'!I$52)^-$C279)","v":0},{"$f":"'El og plugin hybrid'!I$25*'El og plugin hybrid'!I$12*'El og plugin hybrid'!I$13/1000000","v":0},{"$f":"IF('El og plugin hybrid'!K$11=\"El\",0,L279*IF('El og plugin hybrid'!K$31=\"nej\",0,'El og plugin hybrid'!K$44)*(1+'El og plugin hybrid'!K$52)^-$C279)","v":0},{"$f":"'El og plugin hybrid'!K$25*'El og plugin hybrid'!K$12*'El og plugin hybrid'!K$13/1000000","v":0},{"$f":"IF('El og plugin hybrid'!M$11=\"El\",0,N279*IF('El og plugin hybrid'!M$31=\"nej\",0,'El og plugin hybrid'!M$44)*(1+'El og plugin hybrid'!M$52)^-$C279)","v":0},{"$f":"'El og plugin hybrid'!M$25*'El og plugin hybrid'!M$12*'El og plugin hybrid'!M$13/1000000","v":0},{"$f":"IF('El og plugin hybrid'!O$11=\"El\",0,P279*IF('El og plugin hybrid'!O$31=\"nej\",0,'El og plugin hybrid'!O$44)*(1+'El og plugin hybrid'!O$52)^-$C279)","v":0},{"$f":"'El og plugin hybrid'!O$25*'El og plugin hybrid'!O$12*'El og plugin hybrid'!O$13/1000000","v":0},{"$f":"IF('El og plugin hybrid'!Q$11=\"El\",0,R279*IF('El og plugin hybrid'!Q$31=\"nej\",0,'El og plugin hybrid'!Q$44)*(1+'El og plugin hybrid'!Q$52)^-$C279)","v":0},{"$f":"'El og plugin hybrid'!Q$25*'El og plugin hybrid'!Q$12*'El og plugin hybrid'!Q$13/1000000","v":0},{"$f":"IF('El og plugin hybrid'!S$11=\"El\",0,T279*IF('El og plugin hybrid'!S$31=\"nej\",0,'El og plugin hybrid'!S$44)*(1+'El og plugin hybrid'!S$52)^-$C279)","v":0},{"$f":"'El og plugin hybrid'!S$25*'El og plugin hybrid'!S$12*'El og plugin hybrid'!S$13/1000000","v":0},{"$f":"IF('El og plugin hybrid'!U$11=\"El\",0,V279*IF('El og plugin hybrid'!U$31=\"nej\",0,'El og plugin hybrid'!U$44)*(1+'El og plugin hybrid'!U$52)^-$C279)","v":0},{"$f":"'El og plugin hybrid'!U$25*'El og plugin hybrid'!U$12*'El og plugin hybrid'!U$13/1000000","v":0},{"$f":"IF('El og plugin hybrid'!W$11=\"El\",0,X279*IF('El og plugin hybrid'!W$31=\"nej\",0,'El og plugin hybrid'!W$44)*(1+'El og plugin hybrid'!W$52)^-$C279)","v":0},{"$f":"'El og plugin hybrid'!W$25*'El og plugin hybrid'!W$12*'El og plugin hybrid'!W$13/1000000","v":0}]
[]
[]
["Eksternalitetsmodul - Samfundsøkonomiske omkostninger (kr.)",null,null,null,"Udregninger Partikler (PM)","OBS - Kun for plugin hybrid - brændstof"]
[null,"År indeks",null,"TCO-evalueringsperiode",{"$f":"'El og plugin hybrid'!E8&\" - Samfundsøkonomiske omkostninger (kr.)\"","v":"PRODUKT 1 EL - Samfundsøkonomiske omkostninger (kr.)"},{"$f":"'El og plugin hybrid'!E8&\" - Samlet udledning i kg PM\"","v":"PRODUKT 1 EL - Samlet udledning i kg PM"},{"$f":"'El og plugin hybrid'!G8&\" - Samfundsøkonomiske omkostninger (kr.)\"","v":"PRODUKT 2 EL - Samfundsøkonomiske omkostninger (kr.)"},{"$f":"'El og plugin hybrid'!G8&\" - Samlet udledning i kg PM\"","v":"PRODUKT 2 EL - Samlet udledning i kg PM"},{"$f":"'El og plugin hybrid'!I8&\" - Samfundsøkonomiske omkostninger (kr.)\"","v":"PRODUKT 3 EL - Samfundsøkonomiske omkostninger (kr.)"},{"$f":"'El og plugin hybrid'!I8&\" - Samlet udledning i kg PM\"","v":"PRODUKT 3 EL - Samlet udledning i kg PM"},{"$f":"'El og plugin hybrid'!K8&\" - Samfundsøkonomiske omkostninger (kr.)\"","v":"PRODUKT 4 EL - Samfundsøkonomiske omkostninger (kr.)"},{"$f":"'El og plugin hybrid'!K8&\" - Samlet udledning i kg PM\"","v":"PRODUKT 4 EL - Samlet udledning i kg PM"},{"$f":"'El og plugin hybrid'!M8&\" - Samfundsøkonomiske omkostninger (kr.)\"","v":"PRODUKT 5 EL - Samfundsøkonomiske omkostninger (kr.)"},{"$f":"'El og plugin hybrid'!M8&\" - Samlet udledning i kg PM\"","v":"PRODUKT 5 EL - Samlet udledning i kg PM"},{"$f":"'El og plugin hybrid'!O8&\" - Samfundsøkonomiske omkostninger (kr.)\"","v":"PRODUKT 6 EL - Samfundsøkonomiske omkostninger (kr.)"},{"$f":"'El og plugin hybrid'!O8&\" - Samlet udledning i kg PM\"","v":"PRODUKT 6 EL - Samlet udledning i kg PM"},{"$f":"'El og plugin hybrid'!Q8&\" - Samfundsøkonomiske omkostninger (kr.)\"","v":"PRODUKT 7 EL - Samfundsøkonomiske omkostninger (kr.)"},{"$f":"'El og plugin hybrid'!Q8&\" - Samlet udledning i kg PM\"","v":"PRODUKT 7 EL - Samlet udledning i kg PM"},{"$f":"'El og plugin hybrid'!S8&\" - Samfundsøkonomiske omkostninger (kr.)\"","v":"PRODUKT 8 EL - Samfundsøkonomiske omkostninger (kr.)"},{"$f":"'El og plugin hybrid'!S8&\" - Samlet udledning i kg PM\"","v":"PRODUKT 8 EL - Samlet udledning i kg PM"},{"$f":"'El og plugin hybrid'!U8&\" - Samfundsøkonomiske omkostninger (kr.)\"","v":"PRODUKT 9 EL - Samfundsøkonomiske omkostninger (kr.)"},{"$f":"'El og plugin hybrid'!U8&\" - Samlet udledning i kg PM\"","v":"PRODUKT 9 EL - Samlet udledning i kg PM"},{"$f":"'El og plugin hybrid'!W8&\" - Samfundsøkonomiske omkostninger (kr.)\"","v":"PRODUKT 10 EL - Samfundsøkonomiske omkostninger (kr.)"},{"$f":"'El og plugin hybrid'!W8&\" - Samlet udledning i kg PM\"","v":"PRODUKT 10 EL - Samlet udledning i kg PM"}]
[null,1,{"$f":"B284","v":1},null,{"$f":"IF('El og plugin hybrid'!E$11=\"El\",0,F284*IF('El og plugin hybrid'!E$31=\"nej\",0,'El og plugin hybrid'!E$45)*(1+'El og plugin hybrid'!E$52)^-$C284)","v":0},{"$f":"'El og plugin hybrid'!E$26*'El og plugin hybrid'!E$12*'El og plugin hybrid'!E$13/1000000","v":0},{"$f":"IF('El og plugin hybrid'!G$11=\"El\",0,H284*IF('El og plugin hybrid'!G$31=\"nej\",0,'El og plugin hybrid'!G$45)*(1+'El og plugin hybrid'!G$52)^-$C284)","v":0},{"$f":"'El og plugin hybrid'!G$26*'El og plugin hybrid'!G$12*'El og plugin hybrid'!G$13/1000000","v":0},{"$f":"IF('El og plugin hybrid'!I$11=\"El\",0,J284*IF('El og plugin hybrid'!I$31=\"nej\",0,'El og plugin hybrid'!I$45)*(1+'El og plugin hybrid'!I$52)^-$C284)","v":0},{"$f":"'El og plugin hybrid'!I$26*'El og plugin hybrid'!I$12*'El og plugin hybrid'!I$13/1000000","v":0},{"$f":"IF('El og plugin hybrid'!K$11=\"El\",0,L284*IF('El og plugin hybrid'!K$31=\"nej\",0,'El og plugin hybrid'!K$45)*(1+'El og plugin hybrid'!K$52)^-$C284)","v":0},{"$f":"'El og plugin hybrid'!K$26*'El og plugin hybrid'!K$12*'El og plugin hybrid'!K$13/1000000","v":0},{"$f":"IF('El og plugin hybrid'!M$11=\"El\",0,N284*IF('El og plugin hybrid'!M$31=\"nej\",0,'El og plugin hybrid'!M$45)*(1+'El og plugin hybrid'!M$52)^-$C284)","v":0},{"$f":"'El og plugin hybrid'!M$26*'El og plugin hybrid'!M$12*'El og plugin hybrid'!M$13/1000000","v":0},{"$f":"IF('El og plugin hybrid'!O$11=\"El\",0,P284*IF('El og plugin hybrid'!O$31=\"nej\",0,'El og plugin hybrid'!O$45)*(1+'El og plugin hybrid'!O$52)^-$C284)","v":0},{"$f":"'El og plugin hybrid'!O$26*'El og plugin hybrid'!O$12*'El og plugin hybrid'!O$13/1000000","v":0},{"$f":"IF('El og plugin hybrid'!Q$11=\"El\",0,R284*IF('El og plugin hybrid'!Q$31=\"nej\",0,'El og plugin hybrid'!Q$45)*(1+'El og plugin hybrid'!Q$52)^-$C284)","v":0},{"$f":"'El og plugin hybrid'!Q$26*'El og plugin hybrid'!Q$12*'El og plugin hybrid'!Q$13/1000000","v":0},{"$f":"IF('El og plugin hybrid'!S$11=\"El\",0,T284*IF('El og plugin hybrid'!S$31=\"nej\",0,'El og plugin hybrid'!S$45)*(1+'El og plugin hybrid'!S$52)^-$C284)","v":0},{"$f":"'El og plugin hybrid'!S$26*'El og plugin hybrid'!S$12*'El og plugin hybrid'!S$13/1000000","v":0},{"$f":"IF('El og plugin hybrid'!U$11=\"El\",0,V284*IF('El og plugin hybrid'!U$31=\"nej\",0,'El og plugin hybrid'!U$45)*(1+'El og plugin hybrid'!U$52)^-$C284)","v":0},{"$f":"'El og plugin hybrid'!U$26*'El og plugin hybrid'!U$12*'El og plugin hybrid'!U$13/1000000","v":0},{"$f":"IF('El og plugin hybrid'!W$11=\"El\",0,X284*IF('El og plugin hybrid'!W$31=\"nej\",0,'El og plugin hybrid'!W$45)*(1+'El og plugin hybrid'!W$52)^-$C284)","v":0},{"$f":"'El og plugin hybrid'!W$26*'El og plugin hybrid'!W$12*'El og plugin hybrid'!W$13/1000000","v":0}]
[null,2,{"$f":"B285","v":2},null,{"$f":"IF('El og plugin hybrid'!E$11=\"El\",0,F285*IF('El og plugin hybrid'!E$31=\"nej\",0,'El og plugin hybrid'!E$45)*(1+'El og plugin hybrid'!E$52)^-$C285)","v":0},{"$f":"'El og plugin hybrid'!E$26*'El og plugin hybrid'!E$12*'El og plugin hybrid'!E$13/1000000","v":0},{"$f":"IF('El og plugin hybrid'!G$11=\"El\",0,H285*IF('El og plugin hybrid'!G$31=\"nej\",0,'El og plugin hybrid'!G$45)*(1+'El og plugin hybrid'!G$52)^-$C285)","v":0},{"$f":"'El og plugin hybrid'!G$26*'El og plugin hybrid'!G$12*'El og plugin hybrid'!G$13/1000000","v":0},{"$f":"IF('El og plugin hybrid'!I$11=\"El\",0,J285*IF('El og plugin hybrid'!I$31=\"nej\",0,'El og plugin hybrid'!I$45)*(1+'El og plugin hybrid'!I$52)^-$C285)","v":0},{"$f":"'El og plugin hybrid'!I$26*'El og plugin hybrid'!I$12*'El og plugin hybrid'!I$13/1000000","v":0},{"$f":"IF('El og plugin hybrid'!K$11=\"El\",0,L285*IF('El og plugin hybrid'!K$31=\"nej\",0,'El og plugin hybrid'!K$45)*(1+'El og plugin hybrid'!K$52)^-$C285)","v":0},{"$f":"'El og plugin hybrid'!K$26*'El og plugin hybrid'!K$12*'El og plugin hybrid'!K$13/1000000","v":0},{"$f":"IF('El og plugin hybrid'!M$11=\"El\",0,N285*IF('El og plugin hybrid'!M$31=\"nej\",0,'El og plugin hybrid'!M$45)*(1+'El og plugin hybrid'!M$52)^-$C285)","v":0},{"$f":"'El og plugin hybrid'!M$26*'El og plugin hybrid'!M$12*'El og plugin hybrid'!M$13/1000000","v":0},{"$f":"IF('El og plugin hybrid'!O$11=\"El\",0,P285*IF('El og plugin hybrid'!O$31=\"nej\",0,'El og plugin hybrid'!O$45)*(1+'El og plugin hybrid'!O$52)^-$C285)","v":0},{"$f":"'El og plugin hybrid'!O$26*'El og plugin hybrid'!O$12*'El og plugin hybrid'!O$13/1000000","v":0},{"$f":"IF('El og plugin hybrid'!Q$11=\"El\",0,R285*IF('El og plugin hybrid'!Q$31=\"nej\",0,'El og plugin hybrid'!Q$45)*(1+'El og plugin hybrid'!Q$52)^-$C285)","v":0},{"$f":"'El og plugin hybrid'!Q$26*'El og plugin hybrid'!Q$12*'El og plugin hybrid'!Q$13/1000000","v":0},{"$f":"IF('El og plugin hybrid'!S$11=\"El\",0,T285*IF('El og plugin hybrid'!S$31=\"nej\",0,'El og plugin hybrid'!S$45)*(1+'El og plugin hybrid'!S$52)^-$C285)","v":0},{"$f":"'El og plugin hybrid'!S$26*'El og plugin hybrid'!S$12*'El og plugin hybrid'!S$13/1000000","v":0},{"$f":"IF('El og plugin hybrid'!U$11=\"El\",0,V285*IF('El og plugin hybrid'!U$31=\"nej\",0,'El og plugin hybrid'!U$45)*(1+'El og plugin hybrid'!U$52)^-$C285)","v":0},{"$f":"'El og plugin hybrid'!U$26*'El og plugin hybrid'!U$12*'El og plugin hybrid'!U$13/1000000","v":0},{"$f":"IF('El og plugin hybrid'!W$11=\"El\",0,X285*IF('El og plugin hybrid'!W$31=\"nej\",0,'El og plugin hybrid'!W$45)*(1+'El og plugin hybrid'!W$52)^-$C285)","v":0},{"$f":"'El og plugin hybrid'!W$26*'El og plugin hybrid'!W$12*'El og plugin hybrid'!W$13/1000000","v":0}]
[null,3,3,null,{"$f":"IF('El og plugin hybrid'!E$11=\"El\",0,F286*IF('El og plugin hybrid'!E$31=\"nej\",0,'El og plugin hybrid'!E$45)*(1+'El og plugin hybrid'!E$52)^-$C286)","v":0},{"$f":"'El og plugin hybrid'!E$26*'El og plugin hybrid'!E$12*'El og plugin hybrid'!E$13/1000000","v":0},{"$f":"IF('El og plugin hybrid'!G$11=\"El\",0,H286*IF('El og plugin hybrid'!G$31=\"nej\",0,'El og plugin hybrid'!G$45)*(1+'El og plugin hybrid'!G$52)^-$C286)","v":0},{"$f":"'El og plugin hybrid'!G$26*'El og plugin hybrid'!G$12*'El og plugin hybrid'!G$13/1000000","v":0},{"$f":"IF('El og plugin hybrid'!I$11=\"El\",0,J286*IF('El og plugin hybrid'!I$31=\"nej\",0,'El og plugin hybrid'!I$45)*(1+'El og plugin hybrid'!I$52)^-$C286)","v":0},{"$f":"'El og plugin hybrid'!I$26*'El og plugin hybrid'!I$12*'El og plugin hybrid'!I$13/1000000","v":0},{"$f":"IF('El og plugin hybrid'!K$11=\"El\",0,L286*IF('El og plugin hybrid'!K$31=\"nej\",0,'El og plugin hybrid'!K$45)*(1+'El og plugin hybrid'!K$52)^-$C286)","v":0},{"$f":"'El og plugin hybrid'!K$26*'El og plugin hybrid'!K$12*'El og plugin hybrid'!K$13/1000000","v":0},{"$f":"IF('El og plugin hybrid'!M$11=\"El\",0,N286*IF('El og plugin hybrid'!M$31=\"nej\",0,'El og plugin hybrid'!M$45)*(1+'El og plugin hybrid'!M$52)^-$C286)","v":0},{"$f":"'El og plugin hybrid'!M$26*'El og plugin hybrid'!M$12*'El og plugin hybrid'!M$13/1000000","v":0},{"$f":"IF('El og plugin hybrid'!O$11=\"El\",0,P286*IF('El og plugin hybrid'!O$31=\"nej\",0,'El og plugin hybrid'!O$45)*(1+'El og plugin hybrid'!O$52)^-$C286)","v":0},{"$f":"'El og plugin hybrid'!O$26*'El og plugin hybrid'!O$12*'El og plugin hybrid'!O$13/1000000","v":0},{"$f":"IF('El og plugin hybrid'!Q$11=\"El\",0,R286*IF('El og plugin hybrid'!Q$31=\"nej\",0,'El og plugin hybrid'!Q$45)*(1+'El og plugin hybrid'!Q$52)^-$C286)","v":0},{"$f":"'El og plugin hybrid'!Q$26*'El og plugin hybrid'!Q$12*'El og plugin hybrid'!Q$13/1000000","v":0},{"$f":"IF('El og plugin hybrid'!S$11=\"El\",0,T286*IF('El og plugin hybrid'!S$31=\"nej\",0,'El og plugin hybrid'!S$45)*(1+'El og plugin hybrid'!S$52)^-$C286)","v":0},{"$f":"'El og plugin hybrid'!S$26*'El og plugin hybrid'!S$12*'El og plugin hybrid'!S$13/1000000","v":0},{"$f":"IF('El og plugin hybrid'!U$11=\"El\",0,V286*IF('El og plugin hybrid'!U$31=\"nej\",0,'El og plugin hybrid'!U$45)*(1+'El og plugin hybrid'!U$52)^-$C286)","v":0},{"$f":"'El og plugin hybrid'!U$26*'El og plugin hybrid'!U$12*'El og plugin hybrid'!U$13/1000000","v":0},{"$f":"IF('El og plugin hybrid'!W$11=\"El\",0,X286*IF('El og plugin hybrid'!W$31=\"nej\",0,'El og plugin hybrid'!W$45)*(1+'El og plugin hybrid'!W$52)^-$C286)","v":0},{"$f":"'El og plugin hybrid'!W$26*'El og plugin hybrid'!W$12*'El og plugin hybrid'!W$13/1000000","v":0}]
[null,4,4,null,{"$f":"IF('El og plugin hybrid'!E$11=\"El\",0,F287*IF('El og plugin hybrid'!E$31=\"nej\",0,'El og plugin hybrid'!E$45)*(1+'El og plugin hybrid'!E$52)^-$C287)","v":0},{"$f":"'El og plugin hybrid'!E$26*'El og plugin hybrid'!E$12*'El og plugin hybrid'!E$13/1000000","v":0},{"$f":"IF('El og plugin hybrid'!G$11=\"El\",0,H287*IF('El og plugin hybrid'!G$31=\"nej\",0,'El og plugin hybrid'!G$45)*(1+'El og plugin hybrid'!G$52)^-$C287)","v":0},{"$f":"'El og plugin hybrid'!G$26*'El og plugin hybrid'!G$12*'El og plugin hybrid'!G$13/1000000","v":0},{"$f":"IF('El og plugin hybrid'!I$11=\"El\",0,J287*IF('El og plugin hybrid'!I$31=\"nej\",0,'El og plugin hybrid'!I$45)*(1+'El og plugin hybrid'!I$52)^-$C287)","v":0},{"$f":"'El og plugin hybrid'!I$26*'El og plugin hybrid'!I$12*'El og plugin hybrid'!I$13/1000000","v":0},{"$f":"IF('El og plugin hybrid'!K$11=\"El\",0,L287*IF('El og plugin hybrid'!K$31=\"nej\",0,'El og plugin hybrid'!K$45)*(1+'El og plugin hybrid'!K$52)^-$C287)","v":0},{"$f":"'El og plugin hybrid'!K$26*'El og plugin hybrid'!K$12*'El og plugin hybrid'!K$13/1000000","v":0},{"$f":"IF('El og plugin hybrid'!M$11=\"El\",0,N287*IF('El og plugin hybrid'!M$31=\"nej\",0,'El og plugin hybrid'!M$45)*(1+'El og plugin hybrid'!M$52)^-$C287)","v":0},{"$f":"'El og plugin hybrid'!M$26*'El og plugin hybrid'!M$12*'El og plugin hybrid'!M$13/1000000","v":0},{"$f":"IF('El og plugin hybrid'!O$11=\"El\",0,P287*IF('El og plugin hybrid'!O$31=\"nej\",0,'El og plugin hybrid'!O$45)*(1+'El og plugin hybrid'!O$52)^-$C287)","v":0},{"$f":"'El og plugin hybrid'!O$26*'El og plugin hybrid'!O$12*'El og plugin hybrid'!O$13/1000000","v":0},{"$f":"IF('El og plugin hybrid'!Q$11=\"El\",0,R287*IF('El og plugin hybrid'!Q$31=\"nej\",0,'El og plugin hybrid'!Q$45)*(1+'El og plugin hybrid'!Q$52)^-$C287)","v":0},{"$f":"'El og plugin hybrid'!Q$26*'El og plugin hybrid'!Q$12*'El og plugin hybrid'!Q$13/1000000","v":0},{"$f":"IF('El og plugin hybrid'!S$11=\"El\",0,T287*IF('El og plugin hybrid'!S$31=\"nej\",0,'El og plugin hybrid'!S$45)*(1+'El og plugin hybrid'!S$52)^-$C287)","v":0},{"$f":"'El og plugin hybrid'!S$26*'El og plugin hybrid'!S$12*'El og plugin hybrid'!S$13/1000000","v":0},{"$f":"IF('El og plugin hybrid'!U$11=\"El\",0,V287*IF('El og plugin hybrid'!U$31=\"nej\",0,'El og plugin hybrid'!U$45)*(1+'El og plugin hybrid'!U$52)^-$C287)","v":0},{"$f":"'El og plugin hybrid'!U$26*'El og plugin hybrid'!U$12*'El og plugin hybrid'!U$13/1000000","v":0},{"$f":"IF('El og plugin hybrid'!W$11=\"El\",0,X287*IF('El og plugin hybrid'!W$31=\"nej\",0,'El og plugin hybrid'!W$45)*(1+'El og plugin hybrid'!W$52)^-$C287)","v":0},{"$f":"'El og plugin hybrid'!W$26*'El og plugin hybrid'!W$12*'El og plugin hybrid'!W$13/1000000","v":0}]
[null,5,5,null,{"$f":"IF('El og plugin hybrid'!E$11=\"El\",0,F288*IF('El og plugin hybrid'!E$31=\"nej\",0,'El og plugin hybrid'!E$45)*(1+'El og plugin hybrid'!E$52)^-$C288)","v":0},{"$f":"'El og plugin hybrid'!E$26*'El og plugin hybrid'!E$12*'El og plugin hybrid'!E$13/1000000","v":0},{"$f":"IF('El og plugin hybrid'!G$11=\"El\",0,H288*IF('El og plugin hybrid'!G$31=\"nej\",0,'El og plugin hybrid'!G$45)*(1+'El og plugin hybrid'!G$52)^-$C288)","v":0},{"$f":"'El og plugin hybrid'!G$26*'El og plugin hybrid'!G$12*'El og plugin hybrid'!G$13/1000000","v":0},{"$f":"IF('El og plugin hybrid'!I$11=\"El\",0,J288*IF('El og plugin hybrid'!I$31=\"nej\",0,'El og plugin hybrid'!I$45)*(1+'El og plugin hybrid'!I$52)^-$C288)","v":0},{"$f":"'El og plugin hybrid'!I$26*'El og plugin hybrid'!I$12*'El og plugin hybrid'!I$13/1000000","v":0},{"$f":"IF('El og plugin hybrid'!K$11=\"El\",0,L288*IF('El og plugin hybrid'!K$31=\"nej\",0,'El og plugin hybrid'!K$45)*(1+'El og plugin hybrid'!K$52)^-$C288)","v":0},{"$f":"'El og plugin hybrid'!K$26*'El og plugin hybrid'!K$12*'El og plugin hybrid'!K$13/1000000","v":0},{"$f":"IF('El og plugin hybrid'!M$11=\"El\",0,N288*IF('El og plugin hybrid'!M$31=\"nej\",0,'El og plugin hybrid'!M$45)*(1+'El og plugin hybrid'!M$52)^-$C288)","v":0},{"$f":"'El og plugin hybrid'!M$26*'El og plugin hybrid'!M$12*'El og plugin hybrid'!M$13/1000000","v":0},{"$f":"IF('El og plugin hybrid'!O$11=\"El\",0,P288*IF('El og plugin hybrid'!O$31=\"nej\",0,'El og plugin hybrid'!O$45)*(1+'El og plugin hybrid'!O$52)^-$C288)","v":0},{"$f":"'El og plugin hybrid'!O$26*'El og plugin hybrid'!O$12*'El og plugin hybrid'!O$13/1000000","v":0},{"$f":"IF('El og plugin hybrid'!Q$11=\"El\",0,R288*IF('El og plugin hybrid'!Q$31=\"nej\",0,'El og plugin hybrid'!Q$45)*(1+'El og plugin hybrid'!Q$52)^-$C288)","v":0},{"$f":"'El og plugin hybrid'!Q$26*'El og plugin hybrid'!Q$12*'El og plugin hybrid'!Q$13/1000000","v":0},{"$f":"IF('El og plugin hybrid'!S$11=\"El\",0,T288*IF('El og plugin hybrid'!S$31=\"nej\",0,'El og plugin hybrid'!S$45)*(1+'El og plugin hybrid'!S$52)^-$C288)","v":0},{"$f":"'El og plugin hybrid'!S$26*'El og plugin hybrid'!S$12*'El og plugin hybrid'!S$13/1000000","v":0},{"$f":"IF('El og plugin hybrid'!U$11=\"El\",0,V288*IF('El og plugin hybrid'!U$31=\"nej\",0,'El og plugin hybrid'!U$45)*(1+'El og plugin hybrid'!U$52)^-$C288)","v":0},{"$f":"'El og plugin hybrid'!U$26*'El og plugin hybrid'!U$12*'El og plugin hybrid'!U$13/1000000","v":0},{"$f":"IF('El og plugin hybrid'!W$11=\"El\",0,X288*IF('El og plugin hybrid'!W$31=\"nej\",0,'El og plugin hybrid'!W$45)*(1+'El og plugin hybrid'!W$52)^-$C288)","v":0},{"$f":"'El og plugin hybrid'!W$26*'El og plugin hybrid'!W$12*'El og plugin hybrid'!W$13/1000000","v":0}]
[null,6,6,null,{"$f":"IF('El og plugin hybrid'!E$11=\"El\",0,F289*IF('El og plugin hybrid'!E$31=\"nej\",0,'El og plugin hybrid'!E$45)*(1+'El og plugin hybrid'!E$52)^-$C289)","v":0},{"$f":"'El og plugin hybrid'!E$26*'El og plugin hybrid'!E$12*'El og plugin hybrid'!E$13/1000000","v":0},{"$f":"IF('El og plugin hybrid'!G$11=\"El\",0,H289*IF('El og plugin hybrid'!G$31=\"nej\",0,'El og plugin hybrid'!G$45)*(1+'El og plugin hybrid'!G$52)^-$C289)","v":0},{"$f":"'El og plugin hybrid'!G$26*'El og plugin hybrid'!G$12*'El og plugin hybrid'!G$13/1000000","v":0},{"$f":"IF('El og plugin hybrid'!I$11=\"El\",0,J289*IF('El og plugin hybrid'!I$31=\"nej\",0,'El og plugin hybrid'!I$45)*(1+'El og plugin hybrid'!I$52)^-$C289)","v":0},{"$f":"'El og plugin hybrid'!I$26*'El og plugin hybrid'!I$12*'El og plugin hybrid'!I$13/1000000","v":0},{"$f":"IF('El og plugin hybrid'!K$11=\"El\",0,L289*IF('El og plugin hybrid'!K$31=\"nej\",0,'El og plugin hybrid'!K$45)*(1+'El og plugin hybrid'!K$52)^-$C289)","v":0},{"$f":"'El og plugin hybrid'!K$26*'El og plugin hybrid'!K$12*'El og plugin hybrid'!K$13/1000000","v":0},{"$f":"IF('El og plugin hybrid'!M$11=\"El\",0,N289*IF('El og plugin hybrid'!M$31=\"nej\",0,'El og plugin hybrid'!M$45)*(1+'El og plugin hybrid'!M$52)^-$C289)","v":0},{"$f":"'El og plugin hybrid'!M$26*'El og plugin hybrid'!M$12*'El og plugin hybrid'!M$13/1000000","v":0},{"$f":"IF('El og plugin hybrid'!O$11=\"El\",0,P289*IF('El og plugin hybrid'!O$31=\"nej\",0,'El og plugin hybrid'!O$45)*(1+'El og plugin hybrid'!O$52)^-$C289)","v":0},{"$f":"'El og plugin hybrid'!O$26*'El og plugin hybrid'!O$12*'El og plugin hybrid'!O$13/1000000","v":0},{"$f":"IF('El og plugin hybrid'!Q$11=\"El\",0,R289*IF('El og plugin hybrid'!Q$31=\"nej\",0,'El og plugin hybrid'!Q$45)*(1+'El og plugin hybrid'!Q$52)^-$C289)","v":0},{"$f":"'El og plugin hybrid'!Q$26*'El og plugin hybrid'!Q$12*'El og plugin hybrid'!Q$13/1000000","v":0},{"$f":"IF('El og plugin hybrid'!S$11=\"El\",0,T289*IF('El og plugin hybrid'!S$31=\"nej\",0,'El og plugin hybrid'!S$45)*(1+'El og plugin hybrid'!S$52)^-$C289)","v":0},{"$f":"'El og plugin hybrid'!S$26*'El og plugin hybrid'!S$12*'El og plugin hybrid'!S$13/1000000","v":0},{"$f":"IF('El og plugin hybrid'!U$11=\"El\",0,V289*IF('El og plugin hybrid'!U$31=\"nej\",0,'El og plugin hybrid'!U$45)*(1+'El og plugin hybrid'!U$52)^-$C289)","v":0},{"$f":"'El og plugin hybrid'!U$26*'El og plugin hybrid'!U$12*'El og plugin hybrid'!U$13/1000000","v":0},{"$f":"IF('El og plugin hybrid'!W$11=\"El\",0,X289*IF('El og plugin hybrid'!W$31=\"nej\",0,'El og plugin hybrid'!W$45)*(1+'El og plugin hybrid'!W$52)^-$C289)","v":0},{"$f":"'El og plugin hybrid'!W$26*'El og plugin hybrid'!W$12*'El og plugin hybrid'!W$13/1000000","v":0}]
[null,7,7,null,{"$f":"IF('El og plugin hybrid'!E$11=\"El\",0,F290*IF('El og plugin hybrid'!E$31=\"nej\",0,'El og plugin hybrid'!E$45)*(1+'El og plugin hybrid'!E$52)^-$C290)","v":0},{"$f":"'El og plugin hybrid'!E$26*'El og plugin hybrid'!E$12*'El og plugin hybrid'!E$13/1000000","v":0},{"$f":"IF('El og plugin hybrid'!G$11=\"El\",0,H290*IF('El og plugin hybrid'!G$31=\"nej\",0,'El og plugin hybrid'!G$45)*(1+'El og plugin hybrid'!G$52)^-$C290)","v":0},{"$f":"'El og plugin hybrid'!G$26*'El og plugin hybrid'!G$12*'El og plugin hybrid'!G$13/1000000","v":0},{"$f":"IF('El og plugin hybrid'!I$11=\"El\",0,J290*IF('El og plugin hybrid'!I$31=\"nej\",0,'El og plugin hybrid'!I$45)*(1+'El og plugin hybrid'!I$52)^-$C290)","v":0},{"$f":"'El og plugin hybrid'!I$26*'El og plugin hybrid'!I$12*'El og plugin hybrid'!I$13/1000000","v":0},{"$f":"IF('El og plugin hybrid'!K$11=\"El\",0,L290*IF('El og plugin hybrid'!K$31=\"nej\",0,'El og plugin hybrid'!K$45)*(1+'El og plugin hybrid'!K$52)^-$C290)","v":0},{"$f":"'El og plugin hybrid'!K$26*'El og plugin hybrid'!K$12*'El og plugin hybrid'!K$13/1000000","v":0},{"$f":"IF('El og plugin hybrid'!M$11=\"El\",0,N290*IF('El og plugin hybrid'!M$31=\"nej\",0,'El og plugin hybrid'!M$45)*(1+'El og plugin hybrid'!M$52)^-$C290)","v":0},{"$f":"'El og plugin hybrid'!M$26*'El og plugin hybrid'!M$12*'El og plugin hybrid'!M$13/1000000","v":0},{"$f":"IF('El og plugin hybrid'!O$11=\"El\",0,P290*IF('El og plugin hybrid'!O$31=\"nej\",0,'El og plugin hybrid'!O$45)*(1+'El og plugin hybrid'!O$52)^-$C290)","v":0},{"$f":"'El og plugin hybrid'!O$26*'El og plugin hybrid'!O$12*'El og plugin hybrid'!O$13/1000000","v":0},{"$f":"IF('El og plugin hybrid'!Q$11=\"El\",0,R290*IF('El og plugin hybrid'!Q$31=\"nej\",0,'El og plugin hybrid'!Q$45)*(1+'El og plugin hybrid'!Q$52)^-$C290)","v":0},{"$f":"'El og plugin hybrid'!Q$26*'El og plugin hybrid'!Q$12*'El og plugin hybrid'!Q$13/1000000","v":0},{"$f":"IF('El og plugin hybrid'!S$11=\"El\",0,T290*IF('El og plugin hybrid'!S$31=\"nej\",0,'El og plugin hybrid'!S$45)*(1+'El og plugin hybrid'!S$52)^-$C290)","v":0},{"$f":"'El og plugin hybrid'!S$26*'El og plugin hybrid'!S$12*'El og plugin hybrid'!S$13/1000000","v":0},{"$f":"IF('El og plugin hybrid'!U$11=\"El\",0,V290*IF('El og plugin hybrid'!U$31=\"nej\",0,'El og plugin hybrid'!U$45)*(1+'El og plugin hybrid'!U$52)^-$C290)","v":0},{"$f":"'El og plugin hybrid'!U$26*'El og plugin hybrid'!U$12*'El og plugin hybrid'!U$13/1000000","v":0},{"$f":"IF('El og plugin hybrid'!W$11=\"El\",0,X290*IF('El og plugin hybrid'!W$31=\"nej\",0,'El og plugin hybrid'!W$45)*(1+'El og plugin hybrid'!W$52)^-$C290)","v":0},{"$f":"'El og plugin hybrid'!W$26*'El og plugin hybrid'!W$12*'El og plugin hybrid'!W$13/1000000","v":0}]
[null,8,8,null,{"$f":"IF('El og plugin hybrid'!E$11=\"El\",0,F291*IF('El og plugin hybrid'!E$31=\"nej\",0,'El og plugin hybrid'!E$45)*(1+'El og plugin hybrid'!E$52)^-$C291)","v":0},{"$f":"'El og plugin hybrid'!E$26*'El og plugin hybrid'!E$12*'El og plugin hybrid'!E$13/1000000","v":0},{"$f":"IF('El og plugin hybrid'!G$11=\"El\",0,H291*IF('El og plugin hybrid'!G$31=\"nej\",0,'El og plugin hybrid'!G$45)*(1+'El og plugin hybrid'!G$52)^-$C291)","v":0},{"$f":"'El og plugin hybrid'!G$26*'El og plugin hybrid'!G$12*'El og plugin hybrid'!G$13/1000000","v":0},{"$f":"IF('El og plugin hybrid'!I$11=\"El\",0,J291*IF('El og plugin hybrid'!I$31=\"nej\",0,'El og plugin hybrid'!I$45)*(1+'El og plugin hybrid'!I$52)^-$C291)","v":0},{"$f":"'El og plugin hybrid'!I$26*'El og plugin hybrid'!I$12*'El og plugin hybrid'!I$13/1000000","v":0},{"$f":"IF('El og plugin hybrid'!K$11=\"El\",0,L291*IF('El og plugin hybrid'!K$31=\"nej\",0,'El og plugin hybrid'!K$45)*(1+'El og plugin hybrid'!K$52)^-$C291)","v":0},{"$f":"'El og plugin hybrid'!K$26*'El og plugin hybrid'!K$12*'El og plugin hybrid'!K$13/1000000","v":0},{"$f":"IF('El og plugin hybrid'!M$11=\"El\",0,N291*IF('El og plugin hybrid'!M$31=\"nej\",0,'El og plugin hybrid'!M$45)*(1+'El og plugin hybrid'!M$52)^-$C291)","v":0},{"$f":"'El og plugin hybrid'!M$26*'El og plugin hybrid'!M$12*'El og plugin hybrid'!M$13/1000000","v":0},{"$f":"IF('El og plugin hybrid'!O$11=\"El\",0,P291*IF('El og plugin hybrid'!O$31=\"nej\",0,'El og plugin hybrid'!O$45)*(1+'El og plugin hybrid'!O$52)^-$C291)","v":0},{"$f":"'El og plugin hybrid'!O$26*'El og plugin hybrid'!O$12*'El og plugin hybrid'!O$13/1000000","v":0},{"$f":"IF('El og plugin hybrid'!Q$11=\"El\",0,R291*IF('El og plugin hybrid'!Q$31=\"nej\",0,'El og plugin hybrid'!Q$45)*(1+'El og plugin hybrid'!Q$52)^-$C291)","v":0},{"$f":"'El og plugin hybrid'!Q$26*'El og plugin hybrid'!Q$12*'El og plugin hybrid'!Q$13/1000000","v":0},{"$f":"IF('El og plugin hybrid'!S$11=\"El\",0,T291*IF('El og plugin hybrid'!S$31=\"nej\",0,'El og plugin hybrid'!S$45)*(1+'El og plugin hybrid'!S$52)^-$C291)","v":0},{"$f":"'El og plugin hybrid'!S$26*'El og plugin hybrid'!S$12*'El og plugin hybrid'!S$13/1000000","v":0},{"$f":"IF('El og plugin hybrid'!U$11=\"El\",0,V291*IF('El og plugin hybrid'!U$31=\"nej\",0,'El og plugin hybrid'!U$45)*(1+'El og plugin hybrid'!U$52)^-$C291)","v":0},{"$f":"'El og plugin hybrid'!U$26*'El og plugin hybrid'!U$12*'El og plugin hybrid'!U$13/1000000","v":0},{"$f":"IF('El og plugin hybrid'!W$11=\"El\",0,X291*IF('El og plugin hybrid'!W$31=\"nej\",0,'El og plugin hybrid'!W$45)*(1+'El og plugin hybrid'!W$52)^-$C291)","v":0},{"$f":"'El og plugin hybrid'!W$26*'El og plugin hybrid'!W$12*'El og plugin hybrid'!W$13/1000000","v":0}]
[null,9,9,null,{"$f":"IF('El og plugin hybrid'!E$11=\"El\",0,F292*IF('El og plugin hybrid'!E$31=\"nej\",0,'El og plugin hybrid'!E$45)*(1+'El og plugin hybrid'!E$52)^-$C292)","v":0},{"$f":"'El og plugin hybrid'!E$26*'El og plugin hybrid'!E$12*'El og plugin hybrid'!E$13/1000000","v":0},{"$f":"IF('El og plugin hybrid'!G$11=\"El\",0,H292*IF('El og plugin hybrid'!G$31=\"nej\",0,'El og plugin hybrid'!G$45)*(1+'El og plugin hybrid'!G$52)^-$C292)","v":0},{"$f":"'El og plugin hybrid'!G$26*'El og plugin hybrid'!G$12*'El og plugin hybrid'!G$13/1000000","v":0},{"$f":"IF('El og plugin hybrid'!I$11=\"El\",0,J292*IF('El og plugin hybrid'!I$31=\"nej\",0,'El og plugin hybrid'!I$45)*(1+'El og plugin hybrid'!I$52)^-$C292)","v":0},{"$f":"'El og plugin hybrid'!I$26*'El og plugin hybrid'!I$12*'El og plugin hybrid'!I$13/1000000","v":0},{"$f":"IF('El og plugin hybrid'!K$11=\"El\",0,L292*IF('El og plugin hybrid'!K$31=\"nej\",0,'El og plugin hybrid'!K$45)*(1+'El og plugin hybrid'!K$52)^-$C292)","v":0},{"$f":"'El og plugin hybrid'!K$26*'El og plugin hybrid'!K$12*'El og plugin hybrid'!K$13/1000000","v":0},{"$f":"IF('El og plugin hybrid'!M$11=\"El\",0,N292*IF('El og plugin hybrid'!M$31=\"nej\",0,'El og plugin hybrid'!M$45)*(1+'El og plugin hybrid'!M$52)^-$C292)","v":0},{"$f":"'El og plugin hybrid'!M$26*'El og plugin hybrid'!M$12*'El og plugin hybrid'!M$13/1000000","v":0},{"$f":"IF('El og plugin hybrid'!O$11=\"El\",0,P292*IF('El og plugin hybrid'!O$31=\"nej\",0,'El og plugin hybrid'!O$45)*(1+'El og plugin hybrid'!O$52)^-$C292)","v":0},{"$f":"'El og plugin hybrid'!O$26*'El og plugin hybrid'!O$12*'El og plugin hybrid'!O$13/1000000","v":0},{"$f":"IF('El og plugin hybrid'!Q$11=\"El\",0,R292*IF('El og plugin hybrid'!Q$31=\"nej\",0,'El og plugin hybrid'!Q$45)*(1+'El og plugin hybrid'!Q$52)^-$C292)","v":0},{"$f":"'El og plugin hybrid'!Q$26*'El og plugin hybrid'!Q$12*'El og plugin hybrid'!Q$13/1000000","v":0},{"$f":"IF('El og plugin hybrid'!S$11=\"El\",0,T292*IF('El og plugin hybrid'!S$31=\"nej\",0,'El og plugin hybrid'!S$45)*(1+'El og plugin hybrid'!S$52)^-$C292)","v":0},{"$f":"'El og plugin hybrid'!S$26*'El og plugin hybrid'!S$12*'El og plugin hybrid'!S$13/1000000","v":0},{"$f":"IF('El og plugin hybrid'!U$11=\"El\",0,V292*IF('El og plugin hybrid'!U$31=\"nej\",0,'El og plugin hybrid'!U$45)*(1+'El og plugin hybrid'!U$52)^-$C292)","v":0},{"$f":"'El og plugin hybrid'!U$26*'El og plugin hybrid'!U$12*'El og plugin hybrid'!U$13/1000000","v":0},{"$f":"IF('El og plugin hybrid'!W$11=\"El\",0,X292*IF('El og plugin hybrid'!W$31=\"nej\",0,'El og plugin hybrid'!W$45)*(1+'El og plugin hybrid'!W$52)^-$C292)","v":0},{"$f":"'El og plugin hybrid'!W$26*'El og plugin hybrid'!W$12*'El og plugin hybrid'!W$13/1000000","v":0}]
[null,10,10,null,{"$f":"IF('El og plugin hybrid'!E$11=\"El\",0,F293*IF('El og plugin hybrid'!E$31=\"nej\",0,'El og plugin hybrid'!E$45)*(1+'El og plugin hybrid'!E$52)^-$C293)","v":0},{"$f":"'El og plugin hybrid'!E$26*'El og plugin hybrid'!E$12*'El og plugin hybrid'!E$13/1000000","v":0},{"$f":"IF('El og plugin hybrid'!G$11=\"El\",0,H293*IF('El og plugin hybrid'!G$31=\"nej\",0,'El og plugin hybrid'!G$45)*(1+'El og plugin hybrid'!G$52)^-$C293)","v":0},{"$f":"'El og plugin hybrid'!G$26*'El og plugin hybrid'!G$12*'El og plugin hybrid'!G$13/1000000","v":0},{"$f":"IF('El og plugin hybrid'!I$11=\"El\",0,J293*IF('El og plugin hybrid'!I$31=\"nej\",0,'El og plugin hybrid'!I$45)*(1+'El og plugin hybrid'!I$52)^-$C293)","v":0},{"$f":"'El og plugin hybrid'!I$26*'El og plugin hybrid'!I$12*'El og plugin hybrid'!I$13/1000000","v":0},{"$f":"IF('El og plugin hybrid'!K$11=\"El\",0,L293*IF('El og plugin hybrid'!K$31=\"nej\",0,'El og plugin hybrid'!K$45)*(1+'El og plugin hybrid'!K$52)^-$C293)","v":0},{"$f":"'El og plugin hybrid'!K$26*'El og plugin hybrid'!K$12*'El og plugin hybrid'!K$13/1000000","v":0},{"$f":"IF('El og plugin hybrid'!M$11=\"El\",0,N293*IF('El og plugin hybrid'!M$31=\"nej\",0,'El og plugin hybrid'!M$45)*(1+'El og plugin hybrid'!M$52)^-$C293)","v":0},{"$f":"'El og plugin hybrid'!M$26*'El og plugin hybrid'!M$12*'El og plugin hybrid'!M$13/1000000","v":0},{"$f":"IF('El og plugin hybrid'!O$11=\"El\",0,P293*IF('El og plugin hybrid'!O$31=\"nej\",0,'El og plugin hybrid'!O$45)*(1+'El og plugin hybrid'!O$52)^-$C293)","v":0},{"$f":"'El og plugin hybrid'!O$26*'El og plugin hybrid'!O$12*'El og plugin hybrid'!O$13/1000000","v":0},{"$f":"IF('El og plugin hybrid'!Q$11=\"El\",0,R293*IF('El og plugin hybrid'!Q$31=\"nej\",0,'El og plugin hybrid'!Q$45)*(1+'El og plugin hybrid'!Q$52)^-$C293)","v":0},{"$f":"'El og plugin hybrid'!Q$26*'El og plugin hybrid'!Q$12*'El og plugin hybrid'!Q$13/1000000","v":0},{"$f":"IF('El og plugin hybrid'!S$11=\"El\",0,T293*IF('El og plugin hybrid'!S$31=\"nej\",0,'El og plugin hybrid'!S$45)*(1+'El og plugin hybrid'!S$52)^-$C293)","v":0},{"$f":"'El og plugin hybrid'!S$26*'El og plugin hybrid'!S$12*'El og plugin hybrid'!S$13/1000000","v":0},{"$f":"IF('El og plugin hybrid'!U$11=\"El\",0,V293*IF('El og plugin hybrid'!U$31=\"nej\",0,'El og plugin hybrid'!U$45)*(1+'El og plugin hybrid'!U$52)^-$C293)","v":0},{"$f":"'El og plugin hybrid'!U$26*'El og plugin hybrid'!U$12*'El og plugin hybrid'!U$13/1000000","v":0},{"$f":"IF('El og plugin hybrid'!W$11=\"El\",0,X293*IF('El og plugin hybrid'!W$31=\"nej\",0,'El og plugin hybrid'!W$45)*(1+'El og plugin hybrid'!W$52)^-$C293)","v":0},{"$f":"'El og plugin hybrid'!W$26*'El og plugin hybrid'!W$12*'El og plugin hybrid'!W$13/1000000","v":0}]
[null,11,11,null,{"$f":"IF('El og plugin hybrid'!E$11=\"El\",0,F294*IF('El og plugin hybrid'!E$31=\"nej\",0,'El og plugin hybrid'!E$45)*(1+'El og plugin hybrid'!E$52)^-$C294)","v":0},{"$f":"'El og plugin hybrid'!E$26*'El og plugin hybrid'!E$12*'El og plugin hybrid'!E$13/1000000","v":0},{"$f":"IF('El og plugin hybrid'!G$11=\"El\",0,H294*IF('El og plugin hybrid'!G$31=\"nej\",0,'El og plugin hybrid'!G$45)*(1+'El og plugin hybrid'!G$52)^-$C294)","v":0},{"$f":"'El og plugin hybrid'!G$26*'El og plugin hybrid'!G$12*'El og plugin hybrid'!G$13/1000000","v":0},{"$f":"IF('El og plugin hybrid'!I$11=\"El\",0,J294*IF('El og plugin hybrid'!I$31=\"nej\",0,'El og plugin hybrid'!I$45)*(1+'El og plugin hybrid'!I$52)^-$C294)","v":0},{"$f":"'El og plugin hybrid'!I$26*'El og plugin hybrid'!I$12*'El og plugin hybrid'!I$13/1000000","v":0},{"$f":"IF('El og plugin hybrid'!K$11=\"El\",0,L294*IF('El og plugin hybrid'!K$31=\"nej\",0,'El og plugin hybrid'!K$45)*(1+'El og plugin hybrid'!K$52)^-$C294)","v":0},{"$f":"'El og plugin hybrid'!K$26*'El og plugin hybrid'!K$12*'El og plugin hybrid'!K$13/1000000","v":0},{"$f":"IF('El og plugin hybrid'!M$11=\"El\",0,N294*IF('El og plugin hybrid'!M$31=\"nej\",0,'El og plugin hybrid'!M$45)*(1+'El og plugin hybrid'!M$52)^-$C294)","v":0},{"$f":"'El og plugin hybrid'!M$26*'El og plugin hybrid'!M$12*'El og plugin hybrid'!M$13/1000000","v":0},{"$f":"IF('El og plugin hybrid'!O$11=\"El\",0,P294*IF('El og plugin hybrid'!O$31=\"nej\",0,'El og plugin hybrid'!O$45)*(1+'El og plugin hybrid'!O$52)^-$C294)","v":0},{"$f":"'El og plugin hybrid'!O$26*'El og plugin hybrid'!O$12*'El og plugin hybrid'!O$13/1000000","v":0},{"$f":"IF('El og plugin hybrid'!Q$11=\"El\",0,R294*IF('El og plugin hybrid'!Q$31=\"nej\",0,'El og plugin hybrid'!Q$45)*(1+'El og plugin hybrid'!Q$52)^-$C294)","v":0},{"$f":"'El og plugin hybrid'!Q$26*'El og plugin hybrid'!Q$12*'El og plugin hybrid'!Q$13/1000000","v":0},{"$f":"IF('El og plugin hybrid'!S$11=\"El\",0,T294*IF('El og plugin hybrid'!S$31=\"nej\",0,'El og plugin hybrid'!S$45)*(1+'El og plugin hybrid'!S$52)^-$C294)","v":0},{"$f":"'El og plugin hybrid'!S$26*'El og plugin hybrid'!S$12*'El og plugin hybrid'!S$13/1000000","v":0},{"$f":"IF('El og plugin hybrid'!U$11=\"El\",0,V294*IF('El og plugin hybrid'!U$31=\"nej\",0,'El og plugin hybrid'!U$45)*(1+'El og plugin hybrid'!U$52)^-$C294)","v":0},{"$f":"'El og plugin hybrid'!U$26*'El og plugin hybrid'!U$12*'El og plugin hybrid'!U$13/1000000","v":0},{"$f":"IF('El og plugin hybrid'!W$11=\"El\",0,X294*IF('El og plugin hybrid'!W$31=\"nej\",0,'El og plugin hybrid'!W$45)*(1+'El og plugin hybrid'!W$52)^-$C294)","v":0},{"$f":"'El og plugin hybrid'!W$26*'El og plugin hybrid'!W$12*'El og plugin hybrid'!W$13/1000000","v":0}]
[null,12,12,null,{"$f":"IF('El og plugin hybrid'!E$11=\"El\",0,F295*IF('El og plugin hybrid'!E$31=\"nej\",0,'El og plugin hybrid'!E$45)*(1+'El og plugin hybrid'!E$52)^-$C295)","v":0},{"$f":"'El og plugin hybrid'!E$26*'El og plugin hybrid'!E$12*'El og plugin hybrid'!E$13/1000000","v":0},{"$f":"IF('El og plugin hybrid'!G$11=\"El\",0,H295*IF('El og plugin hybrid'!G$31=\"nej\",0,'El og plugin hybrid'!G$45)*(1+'El og plugin hybrid'!G$52)^-$C295)","v":0},{"$f":"'El og plugin hybrid'!G$26*'El og plugin hybrid'!G$12*'El og plugin hybrid'!G$13/1000000","v":0},{"$f":"IF('El og plugin hybrid'!I$11=\"El\",0,J295*IF('El og plugin hybrid'!I$31=\"nej\",0,'El og plugin hybrid'!I$45)*(1+'El og plugin hybrid'!I$52)^-$C295)","v":0},{"$f":"'El og plugin hybrid'!I$26*'El og plugin hybrid'!I$12*'El og plugin hybrid'!I$13/1000000","v":0},{"$f":"IF('El og plugin hybrid'!K$11=\"El\",0,L295*IF('El og plugin hybrid'!K$31=\"nej\",0,'El og plugin hybrid'!K$45)*(1+'El og plugin hybrid'!K$52)^-$C295)","v":0},{"$f":"'El og plugin hybrid'!K$26*'El og plugin hybrid'!K$12*'El og plugin hybrid'!K$13/1000000","v":0},{"$f":"IF('El og plugin hybrid'!M$11=\"El\",0,N295*IF('El og plugin hybrid'!M$31=\"nej\",0,'El og plugin hybrid'!M$45)*(1+'El og plugin hybrid'!M$52)^-$C295)","v":0},{"$f":"'El og plugin hybrid'!M$26*'El og plugin hybrid'!M$12*'El og plugin hybrid'!M$13/1000000","v":0},{"$f":"IF('El og plugin hybrid'!O$11=\"El\",0,P295*IF('El og plugin hybrid'!O$31=\"nej\",0,'El og plugin hybrid'!O$45)*(1+'El og plugin hybrid'!O$52)^-$C295)","v":0},{"$f":"'El og plugin hybrid'!O$26*'El og plugin hybrid'!O$12*'El og plugin hybrid'!O$13/1000000","v":0},{"$f":"IF('El og plugin hybrid'!Q$11=\"El\",0,R295*IF('El og plugin hybrid'!Q$31=\"nej\",0,'El og plugin hybrid'!Q$45)*(1+'El og plugin hybrid'!Q$52)^-$C295)","v":0},{"$f":"'El og plugin hybrid'!Q$26*'El og plugin hybrid'!Q$12*'El og plugin hybrid'!Q$13/1000000","v":0},{"$f":"IF('El og plugin hybrid'!S$11=\"El\",0,T295*IF('El og plugin hybrid'!S$31=\"nej\",0,'El og plugin hybrid'!S$45)*(1+'El og plugin hybrid'!S$52)^-$C295)","v":0},{"$f":"'El og plugin hybrid'!S$26*'El og plugin hybrid'!S$12*'El og plugin hybrid'!S$13/1000000","v":0},{"$f":"IF('El og plugin hybrid'!U$11=\"El\",0,V295*IF('El og plugin hybrid'!U$31=\"nej\",0,'El og plugin hybrid'!U$45)*(1+'El og plugin hybrid'!U$52)^-$C295)","v":0},{"$f":"'El og plugin hybrid'!U$26*'El og plugin hybrid'!U$12*'El og plugin hybrid'!U$13/1000000","v":0},{"$f":"IF('El og plugin hybrid'!W$11=\"El\",0,X295*IF('El og plugin hybrid'!W$31=\"nej\",0,'El og plugin hybrid'!W$45)*(1+'El og plugin hybrid'!W$52)^-$C295)","v":0},{"$f":"'El og plugin hybrid'!W$26*'El og plugin hybrid'!W$12*'El og plugin hybrid'!W$13/1000000","v":0}]
[null,13,13,null,{"$f":"IF('El og plugin hybrid'!E$11=\"El\",0,F296*IF('El og plugin hybrid'!E$31=\"nej\",0,'El og plugin hybrid'!E$45)*(1+'El og plugin hybrid'!E$52)^-$C296)","v":0},{"$f":"'El og plugin hybrid'!E$26*'El og plugin hybrid'!E$12*'El og plugin hybrid'!E$13/1000000","v":0},{"$f":"IF('El og plugin hybrid'!G$11=\"El\",0,H296*IF('El og plugin hybrid'!G$31=\"nej\",0,'El og plugin hybrid'!G$45)*(1+'El og plugin hybrid'!G$52)^-$C296)","v":0},{"$f":"'El og plugin hybrid'!G$26*'El og plugin hybrid'!G$12*'El og plugin hybrid'!G$13/1000000","v":0},{"$f":"IF('El og plugin hybrid'!I$11=\"El\",0,J296*IF('El og plugin hybrid'!I$31=\"nej\",0,'El og plugin hybrid'!I$45)*(1+'El og plugin hybrid'!I$52)^-$C296)","v":0},{"$f":"'El og plugin hybrid'!I$26*'El og plugin hybrid'!I$12*'El og plugin hybrid'!I$13/1000000","v":0},{"$f":"IF('El og plugin hybrid'!K$11=\"El\",0,L296*IF('El og plugin hybrid'!K$31=\"nej\",0,'El og plugin hybrid'!K$45)*(1+'El og plugin hybrid'!K$52)^-$C296)","v":0},{"$f":"'El og plugin hybrid'!K$26*'El og plugin hybrid'!K$12*'El og plugin hybrid'!K$13/1000000","v":0},{"$f":"IF('El og plugin hybrid'!M$11=\"El\",0,N296*IF('El og plugin hybrid'!M$31=\"nej\",0,'El og plugin hybrid'!M$45)*(1+'El og plugin hybrid'!M$52)^-$C296)","v":0},{"$f":"'El og plugin hybrid'!M$26*'El og plugin hybrid'!M$12*'El og plugin hybrid'!M$13/1000000","v":0},{"$f":"IF('El og plugin hybrid'!O$11=\"El\",0,P296*IF('El og plugin hybrid'!O$31=\"nej\",0,'El og plugin hybrid'!O$45)*(1+'El og plugin hybrid'!O$52)^-$C296)","v":0},{"$f":"'El og plugin hybrid'!O$26*'El og plugin hybrid'!O$12*'El og plugin hybrid'!O$13/1000000","v":0},{"$f":"IF('El og plugin hybrid'!Q$11=\"El\",0,R296*IF('El og plugin hybrid'!Q$31=\"nej\",0,'El og plugin hybrid'!Q$45)*(1+'El og plugin hybrid'!Q$52)^-$C296)","v":0},{"$f":"'El og plugin hybrid'!Q$26*'El og plugin hybrid'!Q$12*'El og plugin hybrid'!Q$13/1000000","v":0},{"$f":"IF('El og plugin hybrid'!S$11=\"El\",0,T296*IF('El og plugin hybrid'!S$31=\"nej\",0,'El og plugin hybrid'!S$45)*(1+'El og plugin hybrid'!S$52)^-$C296)","v":0},{"$f":"'El og plugin hybrid'!S$26*'El og plugin hybrid'!S$12*'El og plugin hybrid'!S$13/1000000","v":0},{"$f":"IF('El og plugin hybrid'!U$11=\"El\",0,V296*IF('El og plugin hybrid'!U$31=\"nej\",0,'El og plugin hybrid'!U$45)*(1+'El og plugin hybrid'!U$52)^-$C296)","v":0},{"$f":"'El og plugin hybrid'!U$26*'El og plugin hybrid'!U$12*'El og plugin hybrid'!U$13/1000000","v":0},{"$f":"IF('El og plugin hybrid'!W$11=\"El\",0,X296*IF('El og plugin hybrid'!W$31=\"nej\",0,'El og plugin hybrid'!W$45)*(1+'El og plugin hybrid'!W$52)^-$C296)","v":0},{"$f":"'El og plugin hybrid'!W$26*'El og plugin hybrid'!W$12*'El og plugin hybrid'!W$13/1000000","v":0}]
[null,14,14,null,{"$f":"IF('El og plugin hybrid'!E$11=\"El\",0,F297*IF('El og plugin hybrid'!E$31=\"nej\",0,'El og plugin hybrid'!E$45)*(1+'El og plugin hybrid'!E$52)^-$C297)","v":0},{"$f":"'El og plugin hybrid'!E$26*'El og plugin hybrid'!E$12*'El og plugin hybrid'!E$13/1000000","v":0},{"$f":"IF('El og plugin hybrid'!G$11=\"El\",0,H297*IF('El og plugin hybrid'!G$31=\"nej\",0,'El og plugin hybrid'!G$45)*(1+'El og plugin hybrid'!G$52)^-$C297)","v":0},{"$f":"'El og plugin hybrid'!G$26*'El og plugin hybrid'!G$12*'El og plugin hybrid'!G$13/1000000","v":0},{"$f":"IF('El og plugin hybrid'!I$11=\"El\",0,J297*IF('El og plugin hybrid'!I$31=\"nej\",0,'El og plugin hybrid'!I$45)*(1+'El og plugin hybrid'!I$52)^-$C297)","v":0},{"$f":"'El og plugin hybrid'!I$26*'El og plugin hybrid'!I$12*'El og plugin hybrid'!I$13/1000000","v":0},{"$f":"IF('El og plugin hybrid'!K$11=\"El\",0,L297*IF('El og plugin hybrid'!K$31=\"nej\",0,'El og plugin hybrid'!K$45)*(1+'El og plugin hybrid'!K$52)^-$C297)","v":0},{"$f":"'El og plugin hybrid'!K$26*'El og plugin hybrid'!K$12*'El og plugin hybrid'!K$13/1000000","v":0},{"$f":"IF('El og plugin hybrid'!M$11=\"El\",0,N297*IF('El og plugin hybrid'!M$31=\"nej\",0,'El og plugin hybrid'!M$45)*(1+'El og plugin hybrid'!M$52)^-$C297)","v":0},{"$f":"'El og plugin hybrid'!M$26*'El og plugin hybrid'!M$12*'El og plugin hybrid'!M$13/1000000","v":0},{"$f":"IF('El og plugin hybrid'!O$11=\"El\",0,P297*IF('El og plugin hybrid'!O$31=\"nej\",0,'El og plugin hybrid'!O$45)*(1+'El og plugin hybrid'!O$52)^-$C297)","v":0},{"$f":"'El og plugin hybrid'!O$26*'El og plugin hybrid'!O$12*'El og plugin hybrid'!O$13/1000000","v":0},{"$f":"IF('El og plugin hybrid'!Q$11=\"El\",0,R297*IF('El og plugin hybrid'!Q$31=\"nej\",0,'El og plugin hybrid'!Q$45)*(1+'El og plugin hybrid'!Q$52)^-$C297)","v":0},{"$f":"'El og plugin hybrid'!Q$26*'El og plugin hybrid'!Q$12*'El og plugin hybrid'!Q$13/1000000","v":0},{"$f":"IF('El og plugin hybrid'!S$11=\"El\",0,T297*IF('El og plugin hybrid'!S$31=\"nej\",0,'El og plugin hybrid'!S$45)*(1+'El og plugin hybrid'!S$52)^-$C297)","v":0},{"$f":"'El og plugin hybrid'!S$26*'El og plugin hybrid'!S$12*'El og plugin hybrid'!S$13/1000000","v":0},{"$f":"IF('El og plugin hybrid'!U$11=\"El\",0,V297*IF('El og plugin hybrid'!U$31=\"nej\",0,'El og plugin hybrid'!U$45)*(1+'El og plugin hybrid'!U$52)^-$C297)","v":0},{"$f":"'El og plugin hybrid'!U$26*'El og plugin hybrid'!U$12*'El og plugin hybrid'!U$13/1000000","v":0},{"$f":"IF('El og plugin hybrid'!W$11=\"El\",0,X297*IF('El og plugin hybrid'!W$31=\"nej\",0,'El og plugin hybrid'!W$45)*(1+'El og plugin hybrid'!W$52)^-$C297)","v":0},{"$f":"'El og plugin hybrid'!W$26*'El og plugin hybrid'!W$12*'El og plugin hybrid'!W$13/1000000","v":0}]
[null,15,15,null,{"$f":"IF('El og plugin hybrid'!E$11=\"El\",0,F298*IF('El og plugin hybrid'!E$31=\"nej\",0,'El og plugin hybrid'!E$45)*(1+'El og plugin hybrid'!E$52)^-$C298)","v":0},{"$f":"'El og plugin hybrid'!E$26*'El og plugin hybrid'!E$12*'El og plugin hybrid'!E$13/1000000","v":0},{"$f":"IF('El og plugin hybrid'!G$11=\"El\",0,H298*IF('El og plugin hybrid'!G$31=\"nej\",0,'El og plugin hybrid'!G$45)*(1+'El og plugin hybrid'!G$52)^-$C298)","v":0},{"$f":"'El og plugin hybrid'!G$26*'El og plugin hybrid'!G$12*'El og plugin hybrid'!G$13/1000000","v":0},{"$f":"IF('El og plugin hybrid'!I$11=\"El\",0,J298*IF('El og plugin hybrid'!I$31=\"nej\",0,'El og plugin hybrid'!I$45)*(1+'El og plugin hybrid'!I$52)^-$C298)","v":0},{"$f":"'El og plugin hybrid'!I$26*'El og plugin hybrid'!I$12*'El og plugin hybrid'!I$13/1000000","v":0},{"$f":"IF('El og plugin hybrid'!K$11=\"El\",0,L298*IF('El og plugin hybrid'!K$31=\"nej\",0,'El og plugin hybrid'!K$45)*(1+'El og plugin hybrid'!K$52)^-$C298)","v":0},{"$f":"'El og plugin hybrid'!K$26*'El og plugin hybrid'!K$12*'El og plugin hybrid'!K$13/1000000","v":0},{"$f":"IF('El og plugin hybrid'!M$11=\"El\",0,N298*IF('El og plugin hybrid'!M$31=\"nej\",0,'El og plugin hybrid'!M$45)*(1+'El og plugin hybrid'!M$52)^-$C298)","v":0},{"$f":"'El og plugin hybrid'!M$26*'El og plugin hybrid'!M$12*'El og plugin hybrid'!M$13/1000000","v":0},{"$f":"IF('El og plugin hybrid'!O$11=\"El\",0,P298*IF('El og plugin hybrid'!O$31=\"nej\",0,'El og plugin hybrid'!O$45)*(1+'El og plugin hybrid'!O$52)^-$C298)","v":0},{"$f":"'El og plugin hybrid'!O$26*'El og plugin hybrid'!O$12*'El og plugin hybrid'!O$13/1000000","v":0},{"$f":"IF('El og plugin hybrid'!Q$11=\"El\",0,R298*IF('El og plugin hybrid'!Q$31=\"nej\",0,'El og plugin hybrid'!Q$45)*(1+'El og plugin hybrid'!Q$52)^-$C298)","v":0},{"$f":"'El og plugin hybrid'!Q$26*'El og plugin hybrid'!Q$12*'El og plugin hybrid'!Q$13/1000000","v":0},{"$f":"IF('El og plugin hybrid'!S$11=\"El\",0,T298*IF('El og plugin hybrid'!S$31=\"nej\",0,'El og plugin hybrid'!S$45)*(1+'El og plugin hybrid'!S$52)^-$C298)","v":0},{"$f":"'El og plugin hybrid'!S$26*'El og plugin hybrid'!S$12*'El og plugin hybrid'!S$13/1000000","v":0},{"$f":"IF('El og plugin hybrid'!U$11=\"El\",0,V298*IF('El og plugin hybrid'!U$31=\"nej\",0,'El og plugin hybrid'!U$45)*(1+'El og plugin hybrid'!U$52)^-$C298)","v":0},{"$f":"'El og plugin hybrid'!U$26*'El og plugin hybrid'!U$12*'El og plugin hybrid'!U$13/1000000","v":0},{"$f":"IF('El og plugin hybrid'!W$11=\"El\",0,X298*IF('El og plugin hybrid'!W$31=\"nej\",0,'El og plugin hybrid'!W$45)*(1+'El og plugin hybrid'!W$52)^-$C298)","v":0},{"$f":"'El og plugin hybrid'!W$26*'El og plugin hybrid'!W$12*'El og plugin hybrid'!W$13/1000000","v":0}]
[null,16,16,null,{"$f":"IF('El og plugin hybrid'!E$11=\"El\",0,F299*IF('El og plugin hybrid'!E$31=\"nej\",0,'El og plugin hybrid'!E$45)*(1+'El og plugin hybrid'!E$52)^-$C299)","v":0},{"$f":"'El og plugin hybrid'!E$26*'El og plugin hybrid'!E$12*'El og plugin hybrid'!E$13/1000000","v":0},{"$f":"IF('El og plugin hybrid'!G$11=\"El\",0,H299*IF('El og plugin hybrid'!G$31=\"nej\",0,'El og plugin hybrid'!G$45)*(1+'El og plugin hybrid'!G$52)^-$C299)","v":0},{"$f":"'El og plugin hybrid'!G$26*'El og plugin hybrid'!G$12*'El og plugin hybrid'!G$13/1000000","v":0},{"$f":"IF('El og plugin hybrid'!I$11=\"El\",0,J299*IF('El og plugin hybrid'!I$31=\"nej\",0,'El og plugin hybrid'!I$45)*(1+'El og plugin hybrid'!I$52)^-$C299)","v":0},{"$f":"'El og plugin hybrid'!I$26*'El og plugin hybrid'!I$12*'El og plugin hybrid'!I$13/1000000","v":0},{"$f":"IF('El og plugin hybrid'!K$11=\"El\",0,L299*IF('El og plugin hybrid'!K$31=\"nej\",0,'El og plugin hybrid'!K$45)*(1+'El og plugin hybrid'!K$52)^-$C299)","v":0},{"$f":"'El og plugin hybrid'!K$26*'El og plugin hybrid'!K$12*'El og plugin hybrid'!K$13/1000000","v":0},{"$f":"IF('El og plugin hybrid'!M$11=\"El\",0,N299*IF('El og plugin hybrid'!M$31=\"nej\",0,'El og plugin hybrid'!M$45)*(1+'El og plugin hybrid'!M$52)^-$C299)","v":0},{"$f":"'El og plugin hybrid'!M$26*'El og plugin hybrid'!M$12*'El og plugin hybrid'!M$13/1000000","v":0},{"$f":"IF('El og plugin hybrid'!O$11=\"El\",0,P299*IF('El og plugin hybrid'!O$31=\"nej\",0,'El og plugin hybrid'!O$45)*(1+'El og plugin hybrid'!O$52)^-$C299)","v":0},{"$f":"'El og plugin hybrid'!O$26*'El og plugin hybrid'!O$12*'El og plugin hybrid'!O$13/1000000","v":0},{"$f":"IF('El og plugin hybrid'!Q$11=\"El\",0,R299*IF('El og plugin hybrid'!Q$31=\"nej\",0,'El og plugin hybrid'!Q$45)*(1+'El og plugin hybrid'!Q$52)^-$C299)","v":0},{"$f":"'El og plugin hybrid'!Q$26*'El og plugin hybrid'!Q$12*'El og plugin hybrid'!Q$13/1000000","v":0},{"$f":"IF('El og plugin hybrid'!S$11=\"El\",0,T299*IF('El og plugin hybrid'!S$31=\"nej\",0,'El og plugin hybrid'!S$45)*(1+'El og plugin hybrid'!S$52)^-$C299)","v":0},{"$f":"'El og plugin hybrid'!S$26*'El og plugin hybrid'!S$12*'El og plugin hybrid'!S$13/1000000","v":0},{"$f":"IF('El og plugin hybrid'!U$11=\"El\",0,V299*IF('El og plugin hybrid'!U$31=\"nej\",0,'El og plugin hybrid'!U$45)*(1+'El og plugin hybrid'!U$52)^-$C299)","v":0},{"$f":"'El og plugin hybrid'!U$26*'El og plugin hybrid'!U$12*'El og plugin hybrid'!U$13/1000000","v":0},{"$f":"IF('El og plugin hybrid'!W$11=\"El\",0,X299*IF('El og plugin hybrid'!W$31=\"nej\",0,'El og plugin hybrid'!W$45)*(1+'El og plugin hybrid'!W$52)^-$C299)","v":0},{"$f":"'El og plugin hybrid'!W$26*'El og plugin hybrid'!W$12*'El og plugin hybrid'!W$13/1000000","v":0}]
[null,17,17,null,{"$f":"IF('El og plugin hybrid'!E$11=\"El\",0,F300*IF('El og plugin hybrid'!E$31=\"nej\",0,'El og plugin hybrid'!E$45)*(1+'El og plugin hybrid'!E$52)^-$C300)","v":0},{"$f":"'El og plugin hybrid'!E$26*'El og plugin hybrid'!E$12*'El og plugin hybrid'!E$13/1000000","v":0},{"$f":"IF('El og plugin hybrid'!G$11=\"El\",0,H300*IF('El og plugin hybrid'!G$31=\"nej\",0,'El og plugin hybrid'!G$45)*(1+'El og plugin hybrid'!G$52)^-$C300)","v":0},{"$f":"'El og plugin hybrid'!G$26*'El og plugin hybrid'!G$12*'El og plugin hybrid'!G$13/1000000","v":0},{"$f":"IF('El og plugin hybrid'!I$11=\"El\",0,J300*IF('El og plugin hybrid'!I$31=\"nej\",0,'El og plugin hybrid'!I$45)*(1+'El og plugin hybrid'!I$52)^-$C300)","v":0},{"$f":"'El og plugin hybrid'!I$26*'El og plugin hybrid'!I$12*'El og plugin hybrid'!I$13/1000000","v":0},{"$f":"IF('El og plugin hybrid'!K$11=\"El\",0,L300*IF('El og plugin hybrid'!K$31=\"nej\",0,'El og plugin hybrid'!K$45)*(1+'El og plugin hybrid'!K$52)^-$C300)","v":0},{"$f":"'El og plugin hybrid'!K$26*'El og plugin hybrid'!K$12*'El og plugin hybrid'!K$13/1000000","v":0},{"$f":"IF('El og plugin hybrid'!M$11=\"El\",0,N300*IF('El og plugin hybrid'!M$31=\"nej\",0,'El og plugin hybrid'!M$45)*(1+'El og plugin hybrid'!M$52)^-$C300)","v":0},{"$f":"'El og plugin hybrid'!M$26*'El og plugin hybrid'!M$12*'El og plugin hybrid'!M$13/1000000","v":0},{"$f":"IF('El og plugin hybrid'!O$11=\"El\",0,P300*IF('El og plugin hybrid'!O$31=\"nej\",0,'El og plugin hybrid'!O$45)*(1+'El og plugin hybrid'!O$52)^-$C300)","v":0},{"$f":"'El og plugin hybrid'!O$26*'El og plugin hybrid'!O$12*'El og plugin hybrid'!O$13/1000000","v":0},{"$f":"IF('El og plugin hybrid'!Q$11=\"El\",0,R300*IF('El og plugin hybrid'!Q$31=\"nej\",0,'El og plugin hybrid'!Q$45)*(1+'El og plugin hybrid'!Q$52)^-$C300)","v":0},{"$f":"'El og plugin hybrid'!Q$26*'El og plugin hybrid'!Q$12*'El og plugin hybrid'!Q$13/1000000","v":0},{"$f":"IF('El og plugin hybrid'!S$11=\"El\",0,T300*IF('El og plugin hybrid'!S$31=\"nej\",0,'El og plugin hybrid'!S$45)*(1+'El og plugin hybrid'!S$52)^-$C300)","v":0},{"$f":"'El og plugin hybrid'!S$26*'El og plugin hybrid'!S$12*'El og plugin hybrid'!S$13/1000000","v":0},{"$f":"IF('El og plugin hybrid'!U$11=\"El\",0,V300*IF('El og plugin hybrid'!U$31=\"nej\",0,'El og plugin hybrid'!U$45)*(1+'El og plugin hybrid'!U$52)^-$C300)","v":0},{"$f":"'El og plugin hybrid'!U$26*'El og plugin hybrid'!U$12*'El og plugin hybrid'!U$13/1000000","v":0},{"$f":"IF('El og plugin hybrid'!W$11=\"El\",0,X300*IF('El og plugin hybrid'!W$31=\"nej\",0,'El og plugin hybrid'!W$45)*(1+'El og plugin hybrid'!W$52)^-$C300)","v":0},{"$f":"'El og plugin hybrid'!W$26*'El og plugin hybrid'!W$12*'El og plugin hybrid'!W$13/1000000","v":0}]
[null,18,18,null,{"$f":"IF('El og plugin hybrid'!E$11=\"El\",0,F301*IF('El og plugin hybrid'!E$31=\"nej\",0,'El og plugin hybrid'!E$45)*(1+'El og plugin hybrid'!E$52)^-$C301)","v":0},{"$f":"'El og plugin hybrid'!E$26*'El og plugin hybrid'!E$12*'El og plugin hybrid'!E$13/1000000","v":0},{"$f":"IF('El og plugin hybrid'!G$11=\"El\",0,H301*IF('El og plugin hybrid'!G$31=\"nej\",0,'El og plugin hybrid'!G$45)*(1+'El og plugin hybrid'!G$52)^-$C301)","v":0},{"$f":"'El og plugin hybrid'!G$26*'El og plugin hybrid'!G$12*'El og plugin hybrid'!G$13/1000000","v":0},{"$f":"IF('El og plugin hybrid'!I$11=\"El\",0,J301*IF('El og plugin hybrid'!I$31=\"nej\",0,'El og plugin hybrid'!I$45)*(1+'El og plugin hybrid'!I$52)^-$C301)","v":0},{"$f":"'El og plugin hybrid'!I$26*'El og plugin hybrid'!I$12*'El og plugin hybrid'!I$13/1000000","v":0},{"$f":"IF('El og plugin hybrid'!K$11=\"El\",0,L301*IF('El og plugin hybrid'!K$31=\"nej\",0,'El og plugin hybrid'!K$45)*(1+'El og plugin hybrid'!K$52)^-$C301)","v":0},{"$f":"'El og plugin hybrid'!K$26*'El og plugin hybrid'!K$12*'El og plugin hybrid'!K$13/1000000","v":0},{"$f":"IF('El og plugin hybrid'!M$11=\"El\",0,N301*IF('El og plugin hybrid'!M$31=\"nej\",0,'El og plugin hybrid'!M$45)*(1+'El og plugin hybrid'!M$52)^-$C301)","v":0},{"$f":"'El og plugin hybrid'!M$26*'El og plugin hybrid'!M$12*'El og plugin hybrid'!M$13/1000000","v":0},{"$f":"IF('El og plugin hybrid'!O$11=\"El\",0,P301*IF('El og plugin hybrid'!O$31=\"nej\",0,'El og plugin hybrid'!O$45)*(1+'El og plugin hybrid'!O$52)^-$C301)","v":0},{"$f":"'El og plugin hybrid'!O$26*'El og plugin hybrid'!O$12*'El og plugin hybrid'!O$13/1000000","v":0},{"$f":"IF('El og plugin hybrid'!Q$11=\"El\",0,R301*IF('El og plugin hybrid'!Q$31=\"nej\",0,'El og plugin hybrid'!Q$45)*(1+'El og plugin hybrid'!Q$52)^-$C301)","v":0},{"$f":"'El og plugin hybrid'!Q$26*'El og plugin hybrid'!Q$12*'El og plugin hybrid'!Q$13/1000000","v":0},{"$f":"IF('El og plugin hybrid'!S$11=\"El\",0,T301*IF('El og plugin hybrid'!S$31=\"nej\",0,'El og plugin hybrid'!S$45)*(1+'El og plugin hybrid'!S$52)^-$C301)","v":0},{"$f":"'El og plugin hybrid'!S$26*'El og plugin hybrid'!S$12*'El og plugin hybrid'!S$13/1000000","v":0},{"$f":"IF('El og plugin hybrid'!U$11=\"El\",0,V301*IF('El og plugin hybrid'!U$31=\"nej\",0,'El og plugin hybrid'!U$45)*(1+'El og plugin hybrid'!U$52)^-$C301)","v":0},{"$f":"'El og plugin hybrid'!U$26*'El og plugin hybrid'!U$12*'El og plugin hybrid'!U$13/1000000","v":0},{"$f":"IF('El og plugin hybrid'!W$11=\"El\",0,X301*IF('El og plugin hybrid'!W$31=\"nej\",0,'El og plugin hybrid'!W$45)*(1+'El og plugin hybrid'!W$52)^-$C301)","v":0},{"$f":"'El og plugin hybrid'!W$26*'El og plugin hybrid'!W$12*'El og plugin hybrid'!W$13/1000000","v":0}]
[null,19,19,null,{"$f":"IF('El og plugin hybrid'!E$11=\"El\",0,F302*IF('El og plugin hybrid'!E$31=\"nej\",0,'El og plugin hybrid'!E$45)*(1+'El og plugin hybrid'!E$52)^-$C302)","v":0},{"$f":"'El og plugin hybrid'!E$26*'El og plugin hybrid'!E$12*'El og plugin hybrid'!E$13/1000000","v":0},{"$f":"IF('El og plugin hybrid'!G$11=\"El\",0,H302*IF('El og plugin hybrid'!G$31=\"nej\",0,'El og plugin hybrid'!G$45)*(1+'El og plugin hybrid'!G$52)^-$C302)","v":0},{"$f":"'El og plugin hybrid'!G$26*'El og plugin hybrid'!G$12*'El og plugin hybrid'!G$13/1000000","v":0},{"$f":"IF('El og plugin hybrid'!I$11=\"El\",0,J302*IF('El og plugin hybrid'!I$31=\"nej\",0,'El og plugin hybrid'!I$45)*(1+'El og plugin hybrid'!I$52)^-$C302)","v":0},{"$f":"'El og plugin hybrid'!I$26*'El og plugin hybrid'!I$12*'El og plugin hybrid'!I$13/1000000","v":0},{"$f":"IF('El og plugin hybrid'!K$11=\"El\",0,L302*IF('El og plugin hybrid'!K$31=\"nej\",0,'El og plugin hybrid'!K$45)*(1+'El og plugin hybrid'!K$52)^-$C302)","v":0},{"$f":"'El og plugin hybrid'!K$26*'El og plugin hybrid'!K$12*'El og plugin hybrid'!K$13/1000000","v":0},{"$f":"IF('El og plugin hybrid'!M$11=\"El\",0,N302*IF('El og plugin hybrid'!M$31=\"nej\",0,'El og plugin hybrid'!M$45)*(1+'El og plugin hybrid'!M$52)^-$C302)","v":0},{"$f":"'El og plugin hybrid'!M$26*'El og plugin hybrid'!M$12*'El og plugin hybrid'!M$13/1000000","v":0},{"$f":"IF('El og plugin hybrid'!O$11=\"El\",0,P302*IF('El og plugin hybrid'!O$31=\"nej\",0,'El og plugin hybrid'!O$45)*(1+'El og plugin hybrid'!O$52)^-$C302)","v":0},{"$f":"'El og plugin hybrid'!O$26*'El og plugin hybrid'!O$12*'El og plugin hybrid'!O$13/1000000","v":0},{"$f":"IF('El og plugin hybrid'!Q$11=\"El\",0,R302*IF('El og plugin hybrid'!Q$31=\"nej\",0,'El og plugin hybrid'!Q$45)*(1+'El og plugin hybrid'!Q$52)^-$C302)","v":0},{"$f":"'El og plugin hybrid'!Q$26*'El og plugin hybrid'!Q$12*'El og plugin hybrid'!Q$13/1000000","v":0},{"$f":"IF('El og plugin hybrid'!S$11=\"El\",0,T302*IF('El og plugin hybrid'!S$31=\"nej\",0,'El og plugin hybrid'!S$45)*(1+'El og plugin hybrid'!S$52)^-$C302)","v":0},{"$f":"'El og plugin hybrid'!S$26*'El og plugin hybrid'!S$12*'El og plugin hybrid'!S$13/1000000","v":0},{"$f":"IF('El og plugin hybrid'!U$11=\"El\",0,V302*IF('El og plugin hybrid'!U$31=\"nej\",0,'El og plugin hybrid'!U$45)*(1+'El og plugin hybrid'!U$52)^-$C302)","v":0},{"$f":"'El og plugin hybrid'!U$26*'El og plugin hybrid'!U$12*'El og plugin hybrid'!U$13/1000000","v":0},{"$f":"IF('El og plugin hybrid'!W$11=\"El\",0,X302*IF('El og plugin hybrid'!W$31=\"nej\",0,'El og plugin hybrid'!W$45)*(1+'El og plugin hybrid'!W$52)^-$C302)","v":0},{"$f":"'El og plugin hybrid'!W$26*'El og plugin hybrid'!W$12*'El og plugin hybrid'!W$13/1000000","v":0}]
[null,20,20,null,{"$f":"IF('El og plugin hybrid'!E$11=\"El\",0,F303*IF('El og plugin hybrid'!E$31=\"nej\",0,'El og plugin hybrid'!E$45)*(1+'El og plugin hybrid'!E$52)^-$C303)","v":0},{"$f":"'El og plugin hybrid'!E$26*'El og plugin hybrid'!E$12*'El og plugin hybrid'!E$13/1000000","v":0},{"$f":"IF('El og plugin hybrid'!G$11=\"El\",0,H303*IF('El og plugin hybrid'!G$31=\"nej\",0,'El og plugin hybrid'!G$45)*(1+'El og plugin hybrid'!G$52)^-$C303)","v":0},{"$f":"'El og plugin hybrid'!G$26*'El og plugin hybrid'!G$12*'El og plugin hybrid'!G$13/1000000","v":0},{"$f":"IF('El og plugin hybrid'!I$11=\"El\",0,J303*IF('El og plugin hybrid'!I$31=\"nej\",0,'El og plugin hybrid'!I$45)*(1+'El og plugin hybrid'!I$52)^-$C303)","v":0},{"$f":"'El og plugin hybrid'!I$26*'El og plugin hybrid'!I$12*'El og plugin hybrid'!I$13/1000000","v":0},{"$f":"IF('El og plugin hybrid'!K$11=\"El\",0,L303*IF('El og plugin hybrid'!K$31=\"nej\",0,'El og plugin hybrid'!K$45)*(1+'El og plugin hybrid'!K$52)^-$C303)","v":0},{"$f":"'El og plugin hybrid'!K$26*'El og plugin hybrid'!K$12*'El og plugin hybrid'!K$13/1000000","v":0},{"$f":"IF('El og plugin hybrid'!M$11=\"El\",0,N303*IF('El og plugin hybrid'!M$31=\"nej\",0,'El og plugin hybrid'!M$45)*(1+'El og plugin hybrid'!M$52)^-$C303)","v":0},{"$f":"'El og plugin hybrid'!M$26*'El og plugin hybrid'!M$12*'El og plugin hybrid'!M$13/1000000","v":0},{"$f":"IF('El og plugin hybrid'!O$11=\"El\",0,P303*IF('El og plugin hybrid'!O$31=\"nej\",0,'El og plugin hybrid'!O$45)*(1+'El og plugin hybrid'!O$52)^-$C303)","v":0},{"$f":"'El og plugin hybrid'!O$26*'El og plugin hybrid'!O$12*'El og plugin hybrid'!O$13/1000000","v":0},{"$f":"IF('El og plugin hybrid'!Q$11=\"El\",0,R303*IF('El og plugin hybrid'!Q$31=\"nej\",0,'El og plugin hybrid'!Q$45)*(1+'El og plugin hybrid'!Q$52)^-$C303)","v":0},{"$f":"'El og plugin hybrid'!Q$26*'El og plugin hybrid'!Q$12*'El og plugin hybrid'!Q$13/1000000","v":0},{"$f":"IF('El og plugin hybrid'!S$11=\"El\",0,T303*IF('El og plugin hybrid'!S$31=\"nej\",0,'El og plugin hybrid'!S$45)*(1+'El og plugin hybrid'!S$52)^-$C303)","v":0},{"$f":"'El og plugin hybrid'!S$26*'El og plugin hybrid'!S$12*'El og plugin hybrid'!S$13/1000000","v":0},{"$f":"IF('El og plugin hybrid'!U$11=\"El\",0,V303*IF('El og plugin hybrid'!U$31=\"nej\",0,'El og plugin hybrid'!U$45)*(1+'El og plugin hybrid'!U$52)^-$C303)","v":0},{"$f":"'El og plugin hybrid'!U$26*'El og plugin hybrid'!U$12*'El og plugin hybrid'!U$13/1000000","v":0},{"$f":"IF('El og plugin hybrid'!W$11=\"El\",0,X303*IF('El og plugin hybrid'!W$31=\"nej\",0,'El og plugin hybrid'!W$45)*(1+'El og plugin hybrid'!W$52)^-$C303)","v":0},{"$f":"'El og plugin hybrid'!W$26*'El og plugin hybrid'!W$12*'El og plugin hybrid'!W$13/1000000","v":0}]

{"sheet":"Opsummering af tilbud","index":7,"n_rows":124,"n_cols":9,"rows_kept":124,"cut":false,"hidden":false,"merged":[[7,4,7,8]]}
[]
[null,"TCO-værktøj "]
[null,"Transportydelser - Opsummering af tilbud"]
[]
[]
[]
[]
[null,null,"Valg af produkter til sammenligning"]
[null,null,null,null,"Indsættes automatisk"]
[null,null,"Tilbudsgivers navn",null,{"$f":"IF(Tilbudsgiver!$D$5=\"\",\"Angiv i Tilbudsgiver-fane\",Tilbudsgiver!$D$5)","v":"Angiv i Tilbudsgiver-fane"}]
[null,null,"Samlet antal km per år","km",{"$f":"'Benzin - diesel - hybrid'!$E$11*'Benzin - diesel - hybrid'!$E$14+'Benzin - diesel - hybrid'!$G$11*'Benzin - diesel - hybrid'!$G$14+'Benzin - diesel - hybrid'!$I$11*'Benzin - diesel - hybrid'!$I$14+'Benzin - diesel - hybrid'!$K$11*'Benzin - diesel - hybrid'!$K$14+'Benzin - diesel - hybrid'!$M$11*'Benzin - diesel - hybrid'!$M$14+'Benzin - diesel - hybrid'!$O$11*'Benzin - diesel - hybrid'!$O$14+'Benzin - diesel - hybrid'!$Q$11*'Benzin - diesel - hybrid'!$Q$14+'Benzin - diesel - hybrid'!$S$11*'Benzin - diesel - hybrid'!$S$14+'Benzin - diesel - hybrid'!$U$11*'Benzin - diesel - hybrid'!$U$14+'Benzin - diesel - hybrid'!$W$11*'Benzin - diesel - hybrid'!$W$14+'El og plugin hybrid'!$E$12*'El og plugin hybrid'!$E$13+'El og plugin hybrid'!$G$12*'El og plugin hybrid'!$G$13+'El og plugin hybrid'!$I$12*'El og plugin hybrid'!$I$13+'El og plugin hybrid'!$K$12*'El og plugin hybrid'!$K$13+'El og plugin hybrid'!$M$12*'El og plugin hybrid'!$M$13+'El og plugin hybrid'!$O$12*'El og plugin hybrid'!$O$13+'El og plugin hybrid'!$Q$12*'El og plugin hybrid'!$Q$13+'El og plugin hybrid'!$S$12*'El og plugin hybrid'!$S$13+'El og plugin hybrid'!$U$12*'El og plugin hybrid'!$U$13+'El og plugin hybrid'!$W$12*'El og plugin hybrid'!$W$13","v":0}]
[]
[]
[null,null,"Resultat for hele TCO-perioden"]
[]
[null,null,"Tilbudspris","kr.",{"$f":"Tilbudsgiver!$D$6","v":0}]
[null,null,"Samfundsøkonomiske omkostninger af eksterne virkninger på miljøet","kr.",{"$f":"SUM('Benzin - diesel - hybrid'!$E$54:$X$54)+SUM('El og plugin hybrid'!$E$58:$X$58)","v":0}]
[]
[null,null,"Samlet TCO","kr.",{"$f":"SUM($E$16,$E$17)","v":0}]
[]
[null,null,"Samlede CO2e udledninger fra brugsfasen","tons CO2e",{"$f":"SUM('Benzin - diesel - hybrid'!$E$56:$X$56)+SUM('El og plugin hybrid'!$E$60:$X$60)","v":0}]
[null,null,"Samlede NOx udledninger fra brugsfasen","kg NOx",{"$f":"SUM('Benzin - diesel - hybrid'!$E$57:$X$57)+SUM('El og plugin hybrid'!$E$61:$X$61)","v":0}]
[null,null,"Samlede partikeludledninger fra brugsfasen","kg partikler",{"$f":"SUM('Benzin - diesel - hybrid'!$E$58:$X$58)+SUM('El og plugin hybrid'!$E$62:$X$62)","v":0}]
[]
[]
[]
[]
[]
[]
[]
[]
[]
[]
[]
[]
[]
[]
[]
[]
[]
[]
[]
[]
[]
[]
[]
[]
[]
[]
[]
[]
[]
[]
[]
[]
[]
[null,null,null,"DENNE TEKST SKAL SKRIVES MED HVID TEKST OG SKJULES TIL SIDST!"]
[]
[]
[null,null,"Akkumulerede samlede udgifter (nutidsværdi)",null,{"$f":"$E$10","v":"Angiv i Tilbudsgiver-fane"},null,{"$f":"$G$10","v":0},null,{"$f":"$I$10","v":0}]
[null,null,null,null,{"$f":"HLOOKUP(E$60,'IB - B&D&H'!$E$25:$W$45,2)","v":{"$error":"#N/A"}},null,{"$f":"HLOOKUP(G$60,'IB - B&D&H'!$E$25:$W$45,2)","v":{"$error":"#N/A"}},null,{"$f":"HLOOKUP(I$60,'IB - B&D&H'!$E$25:$W$45,2)","v":{"$error":"#N/A"}}]
[null,null,null,null,{"$f":"HLOOKUP(E$60,'IB - B&D&H'!$E$25:$W$45,3)","v":{"$error":"#N/A"}},null,{"$f":"HLOOKUP(G$60,'IB - B&D&H'!$E$25:$W$45,3)","v":{"$error":"#N/A"}},null,{"$f":"HLOOKUP(I$60,'IB - B&D&H'!$E$25:$W$45,3)","v":{"$error":"#N/A"}}]
[null,null,null,null,{"$f":"HLOOKUP(E$60,'IB - B&D&H'!$E$25:$W$45,4)","v":{"$error":"#N/A"}},null,{"$f":"HLOOKUP(G$60,'IB - B&D&H'!$E$25:$W$45,4)","v":{"$error":"#N/A"}},null,{"$f":"HLOOKUP(I$60,'IB - B&D&H'!$E$25:$W$45,4)","v":{"$error":"#N/A"}}]
[null,null,null,null,{"$f":"HLOOKUP(E$60,'IB - B&D&H'!$E$25:$W$45,5)","v":{"$error":"#N/A"}},null,{"$f":"HLOOKUP(G$60,'IB - B&D&H'!$E$25:$W$45,5)","v":{"$error":"#N/A"}},null,{"$f":"HLOOKUP(I$60,'IB - B&D&H'!$E$25:$W$45,5)","v":{"$error":"#N/A"}}]
[null,null,null,null,{"$f":"HLOOKUP(E$60,'IB - B&D&H'!$E$25:$W$45,6)","v":{"$error":"#N/A"}},null,{"$f":"HLOOKUP(G$60,'IB - B&D&H'!$E$25:$W$45,6)","v":{"$error":"#N/A"}},null,{"$f":"HLOOKUP(I$60,'IB - B&D&H'!$E$25:$W$45,6)","v":{"$error":"#N/A"}}]
[null,null,null,null,{"$f":"HLOOKUP(E$60,'IB - B&D&H'!$E$25:$W$45,7)","v":{"$error":"#N/A"}},null,{"$f":"HLOOKUP(G$60,'IB - B&D&H'!$E$25:$W$45,7)","v":{"$error":"#N/A"}},null,{"$f":"HLOOKUP(I$60,'IB - B&D&H'!$E$25:$W$45,7)","v":{"$error":"#N/A"}}]
[null,null,null,null,{"$f":"HLOOKUP(E$60,'IB - B&D&H'!$E$25:$W$45,8)","v":{"$error":"#N/A"}},null,{"$f":"HLOOKUP(G$60,'IB - B&D&H'!$E$25:$W$45,8)","v":{"$error":"#N/A"}},null,{"$f":"HLOOKUP(I$60,'IB - B&D&H'!$E$25:$W$45,8)","v":{"$error":"#N/A"}}]
[null,null,null,null,{"$f":"HLOOKUP(E$60,'IB - B&D&H'!$E$25:$W$45,9)","v":{"$error":"#N/A"}},null,{"$f":"HLOOKUP(G$60,'IB - B&D&H'!$E$25:$W$45,9)","v":{"$error":"#N/A"}},null,{"$f":"HLOOKUP(I$60,'IB - B&D&H'!$E$25:$W$45,9)","v":{"$error":"#N/A"}}]
[null,null,null,null,{"$f":"HLOOKUP(E$60,'IB - B&D&H'!$E$25:$W$45,10)","v":{"$error":"#N/A"}},null,{"$f":"HLOOKUP(G$60,'IB - B&D&H'!$E$25:$W$45,10)","v":{"$error":"#N/A"}},null,{"$f":"HLOOKUP(I$60,'IB - B&D&H'!$E$25:$W$45,10)","v":{"$error":"#N/A"}}]
[null,null,null,null,{"$f":"HLOOKUP(E$60,'IB - B&D&H'!$E$25:$W$45,11)","v":{"$error":"#N/A"}},null,{"$f":"HLOOKUP(G$60,'IB - B&D&H'!$E$25:$W$45,11)","v":{"$error":"#N/A"}},null,{"$f":"HLOOKUP(I$60,'IB - B&D&H'!$E$25:$W$45,11)","v":{"$error":"#N/A"}}]
[null,null,null,null,{"$f":"HLOOKUP(E$60,'IB - B&D&H'!$E$25:$W$45,12)","v":{"$error":"#N/A"}},null,{"$f":"HLOOKUP(G$60,'IB - B&D&H'!$E$25:$W$45,12)","v":{"$error":"#N/A"}},null,{"$f":"HLOOKUP(I$60,'IB - B&D&H'!$E$25:$W$45,12)","v":{"$error":"#N/A"}}]
[null,null,null,null,{"$f":"HLOOKUP(E$60,'IB - B&D&H'!$E$25:$W$45,13)","v":{"$error":"#N/A"}},null,{"$f":"HLOOKUP(G$60,'IB - B&D&H'!$E$25:$W$45,13)","v":{"$error":"#N/A"}},null,{"$f":"HLOOKUP(I$60,'IB - B&D&H'!$E$25:$W$45,13)","v":{"$error":"#N/A"}}]
[null,null,null,null,{"$f":"HLOOKUP(E$60,'IB - B&D&H'!$E$25:$W$45,14)","v":{"$error":"#N/A"}},null,{"$f":"HLOOKUP(G$60,'IB - B&D&H'!$E$25:$W$45,14)","v":{"$error":"#N/A"}},null,{"$f":"HLOOKUP(I$60,'IB - B&D&H'!$E$25:$W$45,14)","v":{"$error":"#N/A"}}]
[null,null,null,null,{"$f":"HLOOKUP(E$60,'IB - B&D&H'!$E$25:$W$45,15)","v":{"$error":"#N/A"}},null,{"$f":"HLOOKUP(G$60,'IB - B&D&H'!$E$25:$W$45,15)","v":{"$error":"#N/A"}},null,{"$f":"HLOOKUP(I$60,'IB - B&D&H'!$E$25:$W$45,15)","v":{"$error":"#N/A"}}]
[null,null,null,null,{"$f":"HLOOKUP(E$60,'IB - B&D&H'!$E$25:$W$45,16)","v":{"$error":"#N/A"}},null,{"$f":"HLOOKUP(G$60,'IB - B&D&H'!$E$25:$W$45,16)","v":{"$error":"#N/A"}},null,{"$f":"HLOOKUP(I$60,'IB - B&D&H'!$E$25:$W$45,16)","v":{"$error":"#N/A"}}]
[null,null,null,null,{"$f":"HLOOKUP(E$60,'IB - B&D&H'!$E$25:$W$45,17)","v":{"$error":"#N/A"}},null,{"$f":"HLOOKUP(G$60,'IB - B&D&H'!$E$25:$W$45,17)","v":{"$error":"#N/A"}},null,{"$f":"HLOOKUP(I$60,'IB - B&D&H'!$E$25:$W$45,17)","v":{"$error":"#N/A"}}]
[null,null,null,null,{"$f":"HLOOKUP(E$60,'IB - B&D&H'!$E$25:$W$45,18)","v":{"$error":"#N/A"}},null,{"$f":"HLOOKUP(G$60,'IB - B&D&H'!$E$25:$W$45,18)","v":{"$error":"#N/A"}},null,{"$f":"HLOOKUP(I$60,'IB - B&D&H'!$E$25:$W$45,18)","v":{"$error":"#N/A"}}]
[null,null,null,null,{"$f":"HLOOKUP(E$60,'IB - B&D&H'!$E$25:$W$45,19)","v":{"$error":"#N/A"}},null,{"$f":"HLOOKUP(G$60,'IB - B&D&H'!$E$25:$W$45,19)","v":{"$error":"#N/A"}},null,{"$f":"HLOOKUP(I$60,'IB - B&D&H'!$E$25:$W$45,19)","v":{"$error":"#N/A"}}]
[null,null,null,null,{"$f":"HLOOKUP(E$60,'IB - B&D&H'!$E$25:$W$45,20)","v":{"$error":"#N/A"}},null,{"$f":"HLOOKUP(G$60,'IB - B&D&H'!$E$25:$W$45,20)","v":{"$error":"#N/A"}},null,{"$f":"HLOOKUP(I$60,'IB - B&D&H'!$E$25:$W$45,20)","v":{"$error":"#N/A"}}]
[]
[]
[null,null,"Gennemsnitlige årlige omkostninger (relation til levetid)",null,{"$f":"$E$10","v":"Angiv i Tilbudsgiver-fane"},null,{"$f":"$G$10","v":0},null,{"$f":"$I$10","v":0}]
[null,null,null,null,{"$f":"HLOOKUP(E$82,'IB - B&D&H'!$E$95:$W$115,2)","v":{"$error":"#N/A"}},null,{"$f":"HLOOKUP(G$82,'IB - B&D&H'!$E$95:$W$115,2)","v":{"$error":"#N/A"}},null,{"$f":"HLOOKUP(I$82,'IB - B&D&H'!$E$95:$W$115,2)","v":{"$error":"#N/A"}}]
[null,null,null,null,{"$f":"HLOOKUP(E$82,'IB - B&D&H'!$E$95:$W$115,3)","v":{"$error":"#N/A"}},null,{"$f":"HLOOKUP(G$82,'IB - B&D&H'!$E$95:$W$115,3)","v":{"$error":"#N/A"}},null,{"$f":"HLOOKUP(I$82,'IB - B&D&H'!$E$95:$W$115,3)","v":{"$error":"#N/A"}}]
[null,null,null,null,{"$f":"HLOOKUP(E$82,'IB - B&D&H'!$E$95:$W$115,4)","v":{"$error":"#N/A"}},null,{"$f":"HLOOKUP(G$82,'IB - B&D&H'!$E$95:$W$115,4)","v":{"$error":"#N/A"}},null,{"$f":"HLOOKUP(I$82,'IB - B&D&H'!$E$95:$W$115,4)","v":{"$error":"#N/A"}}]
[null,null,null,null,{"$f":"HLOOKUP(E$82,'IB - B&D&H'!$E$95:$W$115,5)","v":{"$error":"#N/A"}},null,{"$f":"HLOOKUP(G$82,'IB - B&D&H'!$E$95:$W$115,5)","v":{"$error":"#N/A"}},null,{"$f":"HLOOKUP(I$82,'IB - B&D&H'!$E$95:$W$115,5)","v":{"$error":"#N/A"}}]
[null,null,null,null,{"$f":"HLOOKUP(E$82,'IB - B&D&H'!$E$95:$W$115,6)","v":{"$error":"#N/A"}},null,{"$f":"HLOOKUP(G$82,'IB - B&D&H'!$E$95:$W$115,6)","v":{"$error":"#N/A"}},null,{"$f":"HLOOKUP(I$82,'IB - B&D&H'!$E$95:$W$115,6)","v":{"$error":"#N/A"}}]
[null,null,null,null,{"$f":"HLOOKUP(E$82,'IB - B&D&H'!$E$95:$W$115,7)","v":{"$error":"#N/A"}},null,{"$f":"HLOOKUP(G$82,'IB - B&D&H'!$E$95:$W$115,7)","v":{"$error":"#N/A"}},null,{"$f":"HLOOKUP(I$82,'IB - B&D&H'!$E$95:$W$115,7)","v":{"$error":"#N/A"}}]
[null,null,null,null,{"$f":"HLOOKUP(E$82,'IB - B&D&H'!$E$95:$W$115,8)","v":{"$error":"#N/A"}},null,{"$f":"HLOOKUP(G$82,'IB - B&D&H'!$E$95:$W$115,8)","v":{"$error":"#N/A"}},null,{"$f":"HLOOKUP(I$82,'IB - B&D&H'!$E$95:$W$115,8)","v":{"$error":"#N/A"}}]
[null,null,null,null,{"$f":"HLOOKUP(E$82,'IB - B&D&H'!$E$95:$W$115,9)","v":{"$error":"#N/A"}},null,{"$f":"HLOOKUP(G$82,'IB - B&D&H'!$E$95:$W$115,9)","v":{"$error":"#N/A"}},null,{"$f":"HLOOKUP(I$82,'IB - B&D&H'!$E$95:$W$115,9)","v":{"$error":"#N/A"}}]
[null,null,null,null,{"$f":"HLOOKUP(E$82,'IB - B&D&H'!$E$95:$W$115,10)","v":{"$error":"#N/A"}},null,{"$f":"HLOOKUP(G$82,'IB - B&D&H'!$E$95:$W$115,10)","v":{"$error":"#N/A"}},null,{"$f":"HLOOKUP(I$82,'IB - B&D&H'!$E$95:$W$115,10)","v":{"$error":"#N/A"}}]
[null,null,null,null,{"$f":"HLOOKUP(E$82,'IB - B&D&H'!$E$95:$W$115,11)","v":{"$error":"#N/A"}},null,{"$f":"HLOOKUP(G$82,'IB - B&D&H'!$E$95:$W$115,11)","v":{"$error":"#N/A"}},null,{"$f":"HLOOKUP(I$82,'IB - B&D&H'!$E$95:$W$115,11)","v":{"$error":"#N/A"}}]
[null,null,null,null,{"$f":"HLOOKUP(E$82,'IB - B&D&H'!$E$95:$W$115,12)","v":{"$error":"#N/A"}},null,{"$f":"HLOOKUP(G$82,'IB - B&D&H'!$E$95:$W$115,12)","v":{"$error":"#N/A"}},null,{"$f":"HLOOKUP(I$82,'IB - B&D&H'!$E$95:$W$115,12)","v":{"$error":"#N/A"}}]
[null,null,null,null,{"$f":"HLOOKUP(E$82,'IB - B&D&H'!$E$95:$W$115,13)","v":{"$error":"#N/A"}},null,{"$f":"HLOOKUP(G$82,'IB - B&D&H'!$E$95:$W$115,13)","v":{"$error":"#N/A"}},null,{"$f":"HLOOKUP(I$82,'IB - B&D&H'!$E$95:$W$115,13)","v":{"$error":"#N/A"}}]
[null,null,null,null,{"$f":"HLOOKUP(E$82,'IB - B&D&H'!$E$95:$W$115,14)","v":{"$error":"#N/A"}},null,{"$f":"HLOOKUP(G$82,'IB - B&D&H'!$E$95:$W$115,14)","v":{"$error":"#N/A"}},null,{"$f":"HLOOKUP(I$82,'IB - B&D&H'!$E$95:$W$115,14)","v":{"$error":"#N/A"}}]
[null,null,null,null,{"$f":"HLOOKUP(E$82,'IB - B&D&H'!$E$95:$W$115,15)","v":{"$error":"#N/A"}},null,{"$f":"HLOOKUP(G$82,'IB - B&D&H'!$E$95:$W$115,15)","v":{"$error":"#N/A"}},null,{"$f":"HLOOKUP(I$82,'IB - B&D&H'!$E$95:$W$115,15)","v":{"$error":"#N/A"}}]
[null,null,null,null,{"$f":"HLOOKUP(E$82,'IB - B&D&H'!$E$95:$W$115,16)","v":{"$error":"#N/A"}},null,{"$f":"HLOOKUP(G$82,'IB - B&D&H'!$E$95:$W$115,16)","v":{"$error":"#N/A"}},null,{"$f":"HLOOKUP(I$82,'IB - B&D&H'!$E$95:$W$115,16)","v":{"$error":"#N/A"}}]
[null,null,null,null,{"$f":"HLOOKUP(E$82,'IB - B&D&H'!$E$95:$W$115,17)","v":{"$error":"#N/A"}},null,{"$f":"HLOOKUP(G$82,'IB - B&D&H'!$E$95:$W$115,17)","v":{"$error":"#N/A"}},null,{"$f":"HLOOKUP(I$82,'IB - B&D&H'!$E$95:$W$115,17)","v":{"$error":"#N/A"}}]
[null,null,null,null,{"$f":"HLOOKUP(E$82,'IB - B&D&H'!$E$95:$W$115,18)","v":{"$error":"#N/A"}},null,{"$f":"HLOOKUP(G$82,'IB - B&D&H'!$E$95:$W$115,18)","v":{"$error":"#N/A"}},null,{"$f":"HLOOKUP(I$82,'IB - B&D&H'!$E$95:$W$115,18)","v":{"$error":"#N/A"}}]
[null,null,null,null,{"$f":"HLOOKUP(E$82,'IB - B&D&H'!$E$95:$W$115,19)","v":{"$error":"#N/A"}},null,{"$f":"HLOOKUP(G$82,'IB - B&D&H'!$E$95:$W$115,19)","v":{"$error":"#N/A"}},null,{"$f":"HLOOKUP(I$82,'IB - B&D&H'!$E$95:$W$115,19)","v":{"$error":"#N/A"}}]
[null,null,null,null,{"$f":"HLOOKUP(E$82,'IB - B&D&H'!$E$95:$W$115,20)","v":{"$error":"#N/A"}},null,{"$f":"HLOOKUP(G$82,'IB - B&D&H'!$E$95:$W$115,20)","v":{"$error":"#N/A"}},null,{"$f":"HLOOKUP(I$82,'IB - B&D&H'!$E$95:$W$115,20)","v":{"$error":"#N/A"}}]
[]
[]
[]
[]
[]
[]
[]
[]
[]
[]
[]
[]
[]
[]
[]
[]
[]
[]
[]
[]
[]
[]
[null,null,null,null,{"$error":"#N/A"}]

{"sheet":"Sammenligning af tilbud","index":8,"n_rows":124,"n_cols":15,"rows_kept":124,"cut":false,"hidden":false,"merged":[[7,4,7,8],[7,10,7,14]]}
[]
[null,"TCO-værktøj "]
[null,"Transportydelser - Sammenligning af tilbud"]
[]
[]
[]
[]
[null,null,"Oversigt over tilbud"]
[null,null,null,null,"Indsættes automatisk",null,"Indsæt selv værdier fra andre tilbud i disse kolonner"]
[null,null,"Tilbudsgivers navn",null,{"$f":"IF(Tilbudsgiver!$D$5=\"\",\"Angiv i Tilbudsgiver-fane\",Tilbudsgiver!$D$5)","v":"Angiv i Tilbudsgiver-fane"}]
[null,null,"Samlet antal km per år",null,{"$f":"'Opsummering af tilbud'!$E$11","v":0}]
[]
[]
[null,null,"Resultat for hele TCO-perioden"]
[]
[null,null,"Tilbudspris","kr.",{"$f":"Tilbudsgiver!$D$6","v":0},null,0,null,0,null,0,null,0,null,0]
[null,null,"Samfundsøkonomiske omkostninger af eksterne virkninger på miljøet","kr.",{"$f":"'Opsummering af tilbud'!$E$17","v":0},null,0,null,0,null,0,null,0,null,0]
[]
[null,null,"Samlet TCO","kr.",{"$f":"'Opsummering af tilbud'!$E$19","v":0},null,{"$f":"SUM(G$16:G$17)","v":0},null,{"$f":"SUM(I$16:I$17)","v":0},null,{"$f":"SUM(K$16:K$17)","v":0},null,{"$f":"SUM(M$16:M$17)","v":0},null,{"$f":"SUM(O$16:O$17)","v":0}]
[]
[null,null,"Samlede CO2e udledninger fra brugsfasen","tons CO2e",{"$f":"'Opsummering af tilbud'!$E$21","v":0}]
[null,null,"Samlede NOx udledninger fra brugsfasen","kg NOx",{"$f":"'Opsummering af tilbud'!$E$22","v":0}]
[null,null,"Samlede partikeludledninger fra brugsfasen","kg partikler",{"$f":"'Opsummering af tilbud'!$E$23","v":0}]
[]
[]
[]
[]
[]
[]
[]
[]
[]
[]
[]
[]
[]
[]
[]
[]
[]
[]
[]
[]
[]
[]
[]
[]
[]
[]
[]
[]
[]
[]
[]
[]
[]
[null,null,null,"DENNE TEKST SKAL SKRIVES MED HVID TEKST OG SKJULES TIL SIDST!"]
[]
[]
[null,null,"Akkumulerede samlede udgifter (nutidsværdi)",null,{"$f":"$E$10","v":"Angiv i Tilbudsgiver-fane"},null,{"$f":"$G$10","v":0},null,{"$f":"$I$10","v":0},null,{"$f":"$K$10","v":0},null,{"$f":"$M$10","v":0},null,{"$f":"$O$10","v":0}]
[null,null,null,null,{"$f":"HLOOKUP(E$60,'IB - B&D&H'!$E$25:$W$45,2)","v":{"$error":"#N/A"}},null,{"$f":"HLOOKUP(G$60,'IB - B&D&H'!$E$25:$W$45,2)","v":{"$error":"#N/A"}},null,{"$f":"HLOOKUP(I$60,'IB - B&D&H'!$E$25:$W$45,2)","v":{"$error":"#N/A"}},null,{"$f":"HLOOKUP(K$60,'IB - E&PH'!$E$25:$W$45,2)","v":{"$error":"#N/A"}},null,{"$f":"HLOOKUP(M$60,'IB - E&PH'!$E$25:$W$45,2)","v":{"$error":"#N/A"}},null,{"$f":"HLOOKUP(O$60,'IB - E&PH'!$E$25:$W$45,2)","v":{"$error":"#N/A"}}]
[null,null,null,null,{"$f":"HLOOKUP(E$60,'IB - B&D&H'!$E$25:$W$45,3)","v":{"$error":"#N/A"}},null,{"$f":"HLOOKUP(G$60,'IB - B&D&H'!$E$25:$W$45,3)","v":{"$error":"#N/A"}},null,{"$f":"HLOOKUP(I$60,'IB - B&D&H'!$E$25:$W$45,3)","v":{"$error":"#N/A"}},null,{"$f":"HLOOKUP(K$60,'IB - E&PH'!$E$25:$W$45,3)","v":{"$error":"#N/A"}},null,{"$f":"HLOOKUP(M$60,'IB - E&PH'!$E$25:$W$45,3)","v":{"$error":"#N/A"}},null,{"$f":"HLOOKUP(O$60,'IB - E&PH'!$E$25:$W$45,3)","v":{"$error":"#N/A"}}]
[null,null,null,null,{"$f":"HLOOKUP(E$60,'IB - B&D&H'!$E$25:$W$45,4)","v":{"$error":"#N/A"}},null,{"$f":"HLOOKUP(G$60,'IB - B&D&H'!$E$25:$W$45,4)","v":{"$error":"#N/A"}},null,{"$f":"HLOOKUP(I$60,'IB - B&D&H'!$E$25:$W$45,4)","v":{"$error":"#N/A"}},null,{"$f":"HLOOKUP(K$60,'IB - E&PH'!$E$25:$W$45,4)","v":{"$error":"#N/A"}},null,{"$f":"HLOOKUP(M$60,'IB - E&PH'!$E$25:$W$45,4)","v":{"$error":"#N/A"}},null,{"$f":"HLOOKUP(O$60,'IB - E&PH'!$E$25:$W$45,4)","v":{"$error":"#N/A"}}]
[null,null,null,null,{"$f":"HLOOKUP(E$60,'IB - B&D&H'!$E$25:$W$45,5)","v":{"$error":"#N/A"}},null,{"$f":"HLOOKUP(G$60,'IB - B&D&H'!$E$25:$W$45,5)","v":{"$error":"#N/A"}},null,{"$f":"HLOOKUP(I$60,'IB - B&D&H'!$E$25:$W$45,5)","v":{"$error":"#N/A"}},null,{"$f":"HLOOKUP(K$60,'IB - E&PH'!$E$25:$W$45,5)","v":{"$error":"#N/A"}},null,{"$f":"HLOOKUP(M$60,'IB - E&PH'!$E$25:$W$45,5)","v":{"$error":"#N/A"}},null,{"$f":"HLOOKUP(O$60,'IB - E&PH'!$E$25:$W$45,5)","v":{"$error":"#N/A"}}]
[null,null,null,null,{"$f":"HLOOKUP(E$60,'IB - B&D&H'!$E$25:$W$45,6)","v":{"$error":"#N/A"}},null,{"$f":"HLOOKUP(G$60,'IB - B&D&H'!$E$25:$W$45,6)","v":{"$error":"#N/A"}},null,{"$f":"HLOOKUP(I$60,'IB - B&D&H'!$E$25:$W$45,6)","v":{"$error":"#N/A"}},null,{"$f":"HLOOKUP(K$60,'IB - E&PH'!$E$25:$W$45,6)","v":{"$error":"#N/A"}},null,{"$f":"HLOOKUP(M$60,'IB - E&PH'!$E$25:$W$45,6)","v":{"$error":"#N/A"}},null,{"$f":"HLOOKUP(O$60,'IB - E&PH'!$E$25:$W$45,6)","v":{"$error":"#N/A"}}]
[null,null,null,null,{"$f":"HLOOKUP(E$60,'IB - B&D&H'!$E$25:$W$45,7)","v":{"$error":"#N/A"}},null,{"$f":"HLOOKUP(G$60,'IB - B&D&H'!$E$25:$W$45,7)","v":{"$error":"#N/A"}},null,{"$f":"HLOOKUP(I$60,'IB - B&D&H'!$E$25:$W$45,7)","v":{"$error":"#N/A"}},null,{"$f":"HLOOKUP(K$60,'IB - E&PH'!$E$25:$W$45,7)","v":{"$error":"#N/A"}},null,{"$f":"HLOOKUP(M$60,'IB - E&PH'!$E$25:$W$45,7)","v":{"$error":"#N/A"}},null,{"$f":"HLOOKUP(O$60,'IB - E&PH'!$E$25:$W$45,7)","v":{"$error":"#N/A"}}]
[null,null,null,null,{"$f":"HLOOKUP(E$60,'IB - B&D&H'!$E$25:$W$45,8)","v":{"$error":"#N/A"}},null,{"$f":"HLOOKUP(G$60,'IB - B&D&H'!$E$25:$W$45,8)","v":{"$error":"#N/A"}},null,{"$f":"HLOOKUP(I$60,'IB - B&D&H'!$E$25:$W$45,8)","v":{"$error":"#N/A"}},null,{"$f":"HLOOKUP(K$60,'IB - E&PH'!$E$25:$W$45,8)","v":{"$error":"#N/A"}},null,{"$f":"HLOOKUP(M$60,'IB - E&PH'!$E$25:$W$45,8)","v":{"$error":"#N/A"}},null,{"$f":"HLOOKUP(O$60,'IB - E&PH'!$E$25:$W$45,8)","v":{"$error":"#N/A"}}]
[null,null,null,null,{"$f":"HLOOKUP(E$60,'IB - B&D&H'!$E$25:$W$45,9)","v":{"$error":"#N/A"}},null,{"$f":"HLOOKUP(G$60,'IB - B&D&H'!$E$25:$W$45,9)","v":{"$error":"#N/A"}},null,{"$f":"HLOOKUP(I$60,'IB - B&D&H'!$E$25:$W$45,9)","v":{"$error":"#N/A"}},null,{"$f":"HLOOKUP(K$60,'IB - E&PH'!$E$25:$W$45,9)","v":{"$error":"#N/A"}},null,{"$f":"HLOOKUP(M$60,'IB - E&PH'!$E$25:$W$45,9)","v":{"$error":"#N/A"}},null,{"$f":"HLOOKUP(O$60,'IB - E&PH'!$E$25:$W$45,9)","v":{"$error":"#N/A"}}]
[null,null,null,null,{"$f":"HLOOKUP(E$60,'IB - B&D&H'!$E$25:$W$45,10)","v":{"$error":"#N/A"}},null,{"$f":"HLOOKUP(G$60,'IB - B&D&H'!$E$25:$W$45,10)","v":{"$error":"#N/A"}},null,{"$f":"HLOOKUP(I$60,'IB - B&D&H'!$E$25:$W$45,10)","v":{"$error":"#N/A"}},null,{"$f":"HLOOKUP(K$60,'IB - E&PH'!$E$25:$W$45,10)","v":{"$error":"#N/A"}},null,{"$f":"HLOOKUP(M$60,'IB - E&PH'!$E$25:$W$45,10)","v":{"$error":"#N/A"}},null,{"$f":"HLOOKUP(O$60,'IB - E&PH'!$E$25:$W$45,10)","v":{"$error":"#N/A"}}]
[null,null,null,null,{"$f":"HLOOKUP(E$60,'IB - B&D&H'!$E$25:$W$45,11)","v":{"$error":"#N/A"}},null,{"$f":"HLOOKUP(G$60,'IB - B&D&H'!$E$25:$W$45,11)","v":{"$error":"#N/A"}},null,{"$f":"HLOOKUP(I$60,'IB - B&D&H'!$E$25:$W$45,11)","v":{"$error":"#N/A"}},null,{"$f":"HLOOKUP(K$60,'IB - E&PH'!$E$25:$W$45,11)","v":{"$error":"#N/A"}},null,{"$f":"HLOOKUP(M$60,'IB - E&PH'!$E$25:$W$45,11)","v":{"$error":"#N/A"}},null,{"$f":"HLOOKUP(O$60,'IB - E&PH'!$E$25:$W$45,11)","v":{"$error":"#N/A"}}]
[null,null,null,null,{"$f":"HLOOKUP(E$60,'IB - B&D&H'!$E$25:$W$45,12)","v":{"$error":"#N/A"}},null,{"$f":"HLOOKUP(G$60,'IB - B&D&H'!$E$25:$W$45,12)","v":{"$error":"#N/A"}},null,{"$f":"HLOOKUP(I$60,'IB - B&D&H'!$E$25:$W$45,12)","v":{"$error":"#N/A"}},null,{"$f":"HLOOKUP(K$60,'IB - E&PH'!$E$25:$W$45,12)","v":{"$error":"#N/A"}},null,{"$f":"HLOOKUP(M$60,'IB - E&PH'!$E$25:$W$45,12)","v":{"$error":"#N/A"}},null,{"$f":"HLOOKUP(O$60,'IB - E&PH'!$E$25:$W$45,12)","v":{"$error":"#N/A"}}]
[null,null,null,null,{"$f":"HLOOKUP(E$60,'IB - B&D&H'!$E$25:$W$45,13)","v":{"$error":"#N/A"}},null,{"$f":"HLOOKUP(G$60,'IB - B&D&H'!$E$25:$W$45,13)","v":{"$error":"#N/A"}},null,{"$f":"HLOOKUP(I$60,'IB - B&D&H'!$E$25:$W$45,13)","v":{"$error":"#N/A"}},null,{"$f":"HLOOKUP(K$60,'IB - E&PH'!$E$25:$W$45,13)","v":{"$error":"#N/A"}},null,{"$f":"HLOOKUP(M$60,'IB - E&PH'!$E$25:$W$45,13)","v":{"$error":"#N/A"}},null,{"$f":"HLOOKUP(O$60,'IB - E&PH'!$E$25:$W$45,13)","v":{"$error":"#N/A"}}]
[null,null,null,null,{"$f":"HLOOKUP(E$60,'IB - B&D&H'!$E$25:$W$45,14)","v":{"$error":"#N/A"}},null,{"$f":"HLOOKUP(G$60,'IB - B&D&H'!$E$25:$W$45,14)","v":{"$error":"#N/A"}},null,{"$f":"HLOOKUP(I$60,'IB - B&D&H'!$E$25:$W$45,14)","v":{"$error":"#N/A"}},null,{"$f":"HLOOKUP(K$60,'IB - E&PH'!$E$25:$W$45,14)","v":{"$error":"#N/A"}},null,{"$f":"HLOOKUP(M$60,'IB - E&PH'!$E$25:$W$45,14)","v":{"$error":"#N/A"}},null,{"$f":"HLOOKUP(O$60,'IB - E&PH'!$E$25:$W$45,14)","v":{"$error":"#N/A"}}]
[null,null,null,null,{"$f":"HLOOKUP(E$60,'IB - B&D&H'!$E$25:$W$45,15)","v":{"$error":"#N/A"}},null,{"$f":"HLOOKUP(G$60,'IB - B&D&H'!$E$25:$W$45,15)","v":{"$error":"#N/A"}},null,{"$f":"HLOOKUP(I$60,'IB - B&D&H'!$E$25:$W$45,15)","v":{"$error":"#N/A"}},null,{"$f":"HLOOKUP(K$60,'IB - E&PH'!$E$25:$W$45,15)","v":{"$error":"#N/A"}},null,{"$f":"HLOOKUP(M$60,'IB - E&PH'!$E$25:$W$45,15)","v":{"$error":"#N/A"}},null,{"$f":"HLOOKUP(O$60,'IB - E&PH'!$E$25:$W$45,15)","v":{"$error":"#N/A"}}]
[null,null,null,null,{"$f":"HLOOKUP(E$60,'IB - B&D&H'!$E$25:$W$45,16)","v":{"$error":"#N/A"}},null,{"$f":"HLOOKUP(G$60,'IB - B&D&H'!$E$25:$W$45,16)","v":{"$error":"#N/A"}},null,{"$f":"HLOOKUP(I$60,'IB - B&D&H'!$E$25:$W$45,16)","v":{"$error":"#N/A"}},null,{"$f":"HLOOKUP(K$60,'IB - E&PH'!$E$25:$W$45,16)","v":{"$error":"#N/A"}},null,{"$f":"HLOOKUP(M$60,'IB - E&PH'!$E$25:$W$45,16)","v":{"$error":"#N/A"}},null,{"$f":"HLOOKUP(O$60,'IB - E&PH'!$E$25:$W$45,16)","v":{"$error":"#N/A"}}]
[null,null,null,null,{"$f":"HLOOKUP(E$60,'IB - B&D&H'!$E$25:$W$45,17)","v":{"$error":"#N/A"}},null,{"$f":"HLOOKUP(G$60,'IB - B&D&H'!$E$25:$W$45,17)","v":{"$error":"#N/A"}},null,{"$f":"HLOOKUP(I$60,'IB - B&D&H'!$E$25:$W$45,17)","v":{"$error":"#N/A"}},null,{"$f":"HLOOKUP(K$60,'IB - E&PH'!$E$25:$W$45,17)","v":{"$error":"#N/A"}},null,{"$f":"HLOOKUP(M$60,'IB - E&PH'!$E$25:$W$45,17)","v":{"$error":"#N/A"}},null,{"$f":"HLOOKUP(O$60,'IB - E&PH'!$E$25:$W$45,17)","v":{"$error":"#N/A"}}]
[null,null,null,null,{"$f":"HLOOKUP(E$60,'IB - B&D&H'!$E$25:$W$45,18)","v":{"$error":"#N/A"}},null,{"$f":"HLOOKUP(G$60,'IB - B&D&H'!$E$25:$W$45,18)","v":{"$error":"#N/A"}},null,{"$f":"HLOOKUP(I$60,'IB - B&D&H'!$E$25:$W$45,18)","v":{"$error":"#N/A"}},null,{"$f":"HLOOKUP(K$60,'IB - E&PH'!$E$25:$W$45,18)","v":{"$error":"#N/A"}},null,{"$f":"HLOOKUP(M$60,'IB - E&PH'!$E$25:$W$45,18)","v":{"$error":"#N/A"}},null,{"$f":"HLOOKUP(O$60,'IB - E&PH'!$E$25:$W$45,18)","v":{"$error":"#N/A"}}]
[null,null,null,null,{"$f":"HLOOKUP(E$60,'IB - B&D&H'!$E$25:$W$45,19)","v":{"$error":"#N/A"}},null,{"$f":"HLOOKUP(G$60,'IB - B&D&H'!$E$25:$W$45,19)","v":{"$error":"#N/A"}},null,{"$f":"HLOOKUP(I$60,'IB - B&D&H'!$E$25:$W$45,19)","v":{"$error":"#N/A"}},null,{"$f":"HLOOKUP(K$60,'IB - E&PH'!$E$25:$W$45,19)","v":{"$error":"#N/A"}},null,{"$f":"HLOOKUP(M$60,'IB - E&PH'!$E$25:$W$45,19)","v":{"$error":"#N/A"}},null,{"$f":"HLOOKUP(O$60,'IB - E&PH'!$E$25:$W$45,19)","v":{"$error":"#N/A"}}]
[null,null,null,null,{"$f":"HLOOKUP(E$60,'IB - B&D&H'!$E$25:$W$45,20)","v":{"$error":"#N/A"}},null,{"$f":"HLOOKUP(G$60,'IB - B&D&H'!$E$25:$W$45,20)","v":{"$error":"#N/A"}},null,{"$f":"HLOOKUP(I$60,'IB - B&D&H'!$E$25:$W$45,20)","v":{"$error":"#N/A"}},null,{"$f":"HLOOKUP(K$60,'IB - E&PH'!$E$25:$W$45,20)","v":{"$error":"#N/A"}},null,{"$f":"HLOOKUP(M$60,'IB - E&PH'!$E$25:$W$45,20)","v":{"$error":"#N/A"}},null,{"$f":"HLOOKUP(O$60,'IB - E&PH'!$E$25:$W$45,20)","v":{"$error":"#N/A"}}]
[]
[]
[null,null,"Gennemsnitlige årlige omkostninger (relation til levetid)",null,{"$f":"$E$10","v":"Angiv i Tilbudsgiver-fane"},null,{"$f":"$G$10","v":0},null,{"$f":"$I$10","v":0},null,{"$f":"$K$10","v":0},null,{"$f":"$M$10","v":0},null,{"$f":"$O$10","v":0}]
[null,null,null,null,{"$f":"HLOOKUP(E$82,'IB - B&D&H'!$E$95:$W$115,2)","v":{"$error":"#N/A"}},null,{"$f":"HLOOKUP(G$82,'IB - B&D&H'!$E$95:$W$115,2)","v":{"$error":"#N/A"}},null,{"$f":"HLOOKUP(I$82,'IB - B&D&H'!$E$95:$W$115,2)","v":{"$error":"#N/A"}},null,{"$f":"HLOOKUP(K$82,'IB - E&PH'!$E$95:$W$115,2)","v":{"$error":"#N/A"}},null,{"$f":"HLOOKUP(M$82,'IB - E&PH'!$E$95:$W$115,2)","v":{"$error":"#N/A"}},null,{"$f":"HLOOKUP(O$82,'IB - E&PH'!$E$95:$W$115,2)","v":{"$error":"#N/A"}}]
[null,null,null,null,{"$f":"HLOOKUP(E$82,'IB - B&D&H'!$E$95:$W$115,3)","v":{"$error":"#N/A"}},null,{"$f":"HLOOKUP(G$82,'IB - B&D&H'!$E$95:$W$115,3)","v":{"$error":"#N/A"}},null,{"$f":"HLOOKUP(I$82,'IB - B&D&H'!$E$95:$W$115,3)","v":{"$error":"#N/A"}},null,{"$f":"HLOOKUP(K$82,'IB - E&PH'!$E$95:$W$115,3)","v":{"$error":"#N/A"}},null,{"$f":"HLOOKUP(M$82,'IB - E&PH'!$E$95:$W$115,3)","v":{"$error":"#N/A"}},null,{"$f":"HLOOKUP(O$82,'IB - E&PH'!$E$95:$W$115,3)","v":{"$error":"#N/A"}}]
[null,null,null,null,{"$f":"HLOOKUP(E$82,'IB - B&D&H'!$E$95:$W$115,4)","v":{"$error":"#N/A"}},null,{"$f":"HLOOKUP(G$82,'IB - B&D&H'!$E$95:$W$115,4)","v":{"$error":"#N/A"}},null,{"$f":"HLOOKUP(I$82,'IB - B&D&H'!$E$95:$W$115,4)","v":{"$error":"#N/A"}},null,{"$f":"HLOOKUP(K$82,'IB - E&PH'!$E$95:$W$115,4)","v":{"$error":"#N/A"}},null,{"$f":"HLOOKUP(M$82,'IB - E&PH'!$E$95:$W$115,4)","v":{"$error":"#N/A"}},null,{"$f":"HLOOKUP(O$82,'IB - E&PH'!$E$95:$W$115,4)","v":{"$error":"#N/A"}}]
[null,null,null,null,{"$f":"HLOOKUP(E$82,'IB - B&D&H'!$E$95:$W$115,5)","v":{"$error":"#N/A"}},null,{"$f":"HLOOKUP(G$82,'IB - B&D&H'!$E$95:$W$115,5)","v":{"$error":"#N/A"}},null,{"$f":"HLOOKUP(I$82,'IB - B&D&H'!$E$95:$W$115,5)","v":{"$error":"#N/A"}},null,{"$f":"HLOOKUP(K$82,'IB - E&PH'!$E$95:$W$115,5)","v":{"$error":"#N/A"}},null,{"$f":"HLOOKUP(M$82,'IB - E&PH'!$E$95:$W$115,5)","v":{"$error":"#N/A"}},null,{"$f":"HLOOKUP(O$82,'IB - E&PH'!$E$95:$W$115,5)","v":{"$error":"#N/A"}}]
[null,null,null,null,{"$f":"HLOOKUP(E$82,'IB - B&D&H'!$E$95:$W$115,6)","v":{"$error":"#N/A"}},null,{"$f":"HLOOKUP(G$82,'IB - B&D&H'!$E$95:$W$115,6)","v":{"$error":"#N/A"}},null,{"$f":"HLOOKUP(I$82,'IB - B&D&H'!$E$95:$W$115,6)","v":{"$error":"#N/A"}},null,{"$f":"HLOOKUP(K$82,'IB - E&PH'!$E$95:$W$115,6)","v":{"$error":"#N/A"}},null,{"$f":"HLOOKUP(M$82,'IB - E&PH'!$E$95:$W$115,6)","v":{"$error":"#N/A"}},null,{"$f":"HLOOKUP(O$82,'IB - E&PH'!$E$95:$W$115,6)","v":{"$error":"#N/A"}}]
[null,null,null,null,{"$f":"HLOOKUP(E$82,'IB - B&D&H'!$E$95:$W$115,7)","v":{"$error":"#N/A"}},null,{"$f":"HLOOKUP(G$82,'IB - B&D&H'!$E$95:$W$115,7)","v":{"$error":"#N/A"}},null,{"$f":"HLOOKUP(I$82,'IB - B&D&H'!$E$95:$W$115,7)","v":{"$error":"#N/A"}},null,{"$f":"HLOOKUP(K$82,'IB - E&PH'!$E$95:$W$115,7)","v":{"$error":"#N/A"}},null,{"$f":"HLOOKUP(M$82,'IB - E&PH'!$E$95:$W$115,7)","v":{"$error":"#N/A"}},null,{"$f":"HLOOKUP(O$82,'IB - E&PH'!$E$95:$W$115,7)","v":{"$error":"#N/A"}}]
[null,null,null,null,{"$f":"HLOOKUP(E$82,'IB - B&D&H'!$E$95:$W$115,8)","v":{"$error":"#N/A"}},null,{"$f":"HLOOKUP(G$82,'IB - B&D&H'!$E$95:$W$115,8)","v":{"$error":"#N/A"}},null,{"$f":"HLOOKUP(I$82,'IB - B&D&H'!$E$95:$W$115,8)","v":{"$error":"#N/A"}},null,{"$f":"HLOOKUP(K$82,'IB - E&PH'!$E$95:$W$115,8)","v":{"$error":"#N/A"}},null,{"$f":"HLOOKUP(M$82,'IB - E&PH'!$E$95:$W$115,8)","v":{"$error":"#N/A"}},null,{"$f":"HLOOKUP(O$82,'IB - E&PH'!$E$95:$W$115,8)","v":{"$error":"#N/A"}}]
[null,null,null,null,{"$f":"HLOOKUP(E$82,'IB - B&D&H'!$E$95:$W$115,9)","v":{"$error":"#N/A"}},null,{"$f":"HLOOKUP(G$82,'IB - B&D&H'!$E$95:$W$115,9)","v":{"$error":"#N/A"}},null,{"$f":"HLOOKUP(I$82,'IB - B&D&H'!$E$95:$W$115,9)","v":{"$error":"#N/A"}},null,{"$f":"HLOOKUP(K$82,'IB - E&PH'!$E$95:$W$115,9)","v":{"$error":"#N/A"}},null,{"$f":"HLOOKUP(M$82,'IB - E&PH'!$E$95:$W$115,9)","v":{"$error":"#N/A"}},null,{"$f":"HLOOKUP(O$82,'IB - E&PH'!$E$95:$W$115,9)","v":{"$error":"#N/A"}}]
[null,null,null,null,{"$f":"HLOOKUP(E$82,'IB - B&D&H'!$E$95:$W$115,10)","v":{"$error":"#N/A"}},null,{"$f":"HLOOKUP(G$82,'IB - B&D&H'!$E$95:$W$115,10)","v":{"$error":"#N/A"}},null,{"$f":"HLOOKUP(I$82,'IB - B&D&H'!$E$95:$W$115,10)","v":{"$error":"#N/A"}},null,{"$f":"HLOOKUP(K$82,'IB - E&PH'!$E$95:$W$115,10)","v":{"$error":"#N/A"}},null,{"$f":"HLOOKUP(M$82,'IB - E&PH'!$E$95:$W$115,10)","v":{"$error":"#N/A"}},null,{"$f":"HLOOKUP(O$82,'IB - E&PH'!$E$95:$W$115,10)","v":{"$error":"#N/A"}}]
[null,null,null,null,{"$f":"HLOOKUP(E$82,'IB - B&D&H'!$E$95:$W$115,11)","v":{"$error":"#N/A"}},null,{"$f":"HLOOKUP(G$82,'IB - B&D&H'!$E$95:$W$115,11)","v":{"$error":"#N/A"}},null,{"$f":"HLOOKUP(I$82,'IB - B&D&H'!$E$95:$W$115,11)","v":{"$error":"#N/A"}},null,{"$f":"HLOOKUP(K$82,'IB - E&PH'!$E$95:$W$115,11)","v":{"$error":"#N/A"}},null,{"$f":"HLOOKUP(M$82,'IB - E&PH'!$E$95:$W$115,11)","v":{"$error":"#N/A"}},null,{"$f":"HLOOKUP(O$82,'IB - E&PH'!$E$95:$W$115,11)","v":{"$error":"#N/A"}}]
[null,null,null,null,{"$f":"HLOOKUP(E$82,'IB - B&D&H'!$E$95:$W$115,12)","v":{"$error":"#N/A"}},null,{"$f":"HLOOKUP(G$82,'IB - B&D&H'!$E$95:$W$115,12)","v":{"$error":"#N/A"}},null,{"$f":"HLOOKUP(I$82,'IB - B&D&H'!$E$95:$W$115,12)","v":{"$error":"#N/A"}},null,{"$f":"HLOOKUP(K$82,'IB - E&PH'!$E$95:$W$115,12)","v":{"$error":"#N/A"}},null,{"$f":"HLOOKUP(M$82,'IB - E&PH'!$E$95:$W$115,12)","v":{"$error":"#N/A"}},null,{"$f":"HLOOKUP(O$82,'IB - E&PH'!$E$95:$W$115,12)","v":{"$error":"#N/A"}}]
[null,null,null,null,{"$f":"HLOOKUP(E$82,'IB - B&D&H'!$E$95:$W$115,13)","v":{"$error":"#N/A"}},null,{"$f":"HLOOKUP(G$82,'IB - B&D&H'!$E$95:$W$115,13)","v":{"$error":"#N/A"}},null,{"$f":"HLOOKUP(I$82,'IB - B&D&H'!$E$95:$W$115,13)","v":{"$error":"#N/A"}},null,{"$f":"HLOOKUP(K$82,'IB - E&PH'!$E$95:$W$115,13)","v":{"$error":"#N/A"}},null,{"$f":"HLOOKUP(M$82,'IB - E&PH'!$E$95:$W$115,13)","v":{"$error":"#N/A"}},null,{"$f":"HLOOKUP(O$82,'IB - E&PH'!$E$95:$W$115,13)","v":{"$error":"#N/A"}}]
[null,null,null,null,{"$f":"HLOOKUP(E$82,'IB - B&D&H'!$E$95:$W$115,14)","v":{"$error":"#N/A"}},null,{"$f":"HLOOKUP(G$82,'IB - B&D&H'!$E$95:$W$115,14)","v":{"$error":"#N/A"}},null,{"$f":"HLOOKUP(I$82,'IB - B&D&H'!$E$95:$W$115,14)","v":{"$error":"#N/A"}},null,{"$f":"HLOOKUP(K$82,'IB - E&PH'!$E$95:$W$115,14)","v":{"$error":"#N/A"}},null,{"$f":"HLOOKUP(M$82,'IB - E&PH'!$E$95:$W$115,14)","v":{"$error":"#N/A"}},null,{"$f":"HLOOKUP(O$82,'IB - E&PH'!$E$95:$W$115,14)","v":{"$error":"#N/A"}}]
[null,null,null,null,{"$f":"HLOOKUP(E$82,'IB - B&D&H'!$E$95:$W$115,15)","v":{"$error":"#N/A"}},null,{"$f":"HLOOKUP(G$82,'IB - B&D&H'!$E$95:$W$115,15)","v":{"$error":"#N/A"}},null,{"$f":"HLOOKUP(I$82,'IB - B&D&H'!$E$95:$W$115,15)","v":{"$error":"#N/A"}},null,{"$f":"HLOOKUP(K$82,'IB - E&PH'!$E$95:$W$115,15)","v":{"$error":"#N/A"}},null,{"$f":"HLOOKUP(M$82,'IB - E&PH'!$E$95:$W$115,15)","v":{"$error":"#N/A"}},null,{"$f":"HLOOKUP(O$82,'IB - E&PH'!$E$95:$W$115,15)","v":{"$error":"#N/A"}}]
[null,null,null,null,{"$f":"HLOOKUP(E$82,'IB - B&D&H'!$E$95:$W$115,16)","v":{"$error":"#N/A"}},null,{"$f":"HLOOKUP(G$82,'IB - B&D&H'!$E$95:$W$115,16)","v":{"$error":"#N/A"}},null,{"$f":"HLOOKUP(I$82,'IB - B&D&H'!$E$95:$W$115,16)","v":{"$error":"#N/A"}},null,{"$f":"HLOOKUP(K$82,'IB - E&PH'!$E$95:$W$115,16)","v":{"$error":"#N/A"}},null,{"$f":"HLOOKUP(M$82,'IB - E&PH'!$E$95:$W$115,16)","v":{"$error":"#N/A"}},null,{"$f":"HLOOKUP(O$82,'IB - E&PH'!$E$95:$W$115,16)","v":{"$error":"#N/A"}}]
[null,null,null,null,{"$f":"HLOOKUP(E$82,'IB - B&D&H'!$E$95:$W$115,17)","v":{"$error":"#N/A"}},null,{"$f":"HLOOKUP(G$82,'IB - B&D&H'!$E$95:$W$115,17)","v":{"$error":"#N/A"}},null,{"$f":"HLOOKUP(I$82,'IB - B&D&H'!$E$95:$W$115,17)","v":{"$error":"#N/A"}},null,{"$f":"HLOOKUP(K$82,'IB - E&PH'!$E$95:$W$115,17)","v":{"$error":"#N/A"}},null,{"$f":"HLOOKUP(M$82,'IB - E&PH'!$E$95:$W$115,17)","v":{"$error":"#N/A"}},null,{"$f":"HLOOKUP(O$82,'IB - E&PH'!$E$95:$W$115,17)","v":{"$error":"#N/A"}}]
[null,null,null,null,{"$f":"HLOOKUP(E$82,'IB - B&D&H'!$E$95:$W$115,18)","v":{"$error":"#N/A"}},null,{"$f":"HLOOKUP(G$82,'IB - B&D&H'!$E$95:$W$115,18)","v":{"$error":"#N/A"}},null,{"$f":"HLOOKUP(I$82,'IB - B&D&H'!$E$95:$W$115,18)","v":{"$error":"#N/A"}},null,{"$f":"HLOOKUP(K$82,'IB - E&PH'!$E$95:$W$115,18)","v":{"$error":"#N/A"}},null,{"$f":"HLOOKUP(M$82,'IB - E&PH'!$E$95:$W$115,18)","v":{"$error":"#N/A"}},null,{"$f":"HLOOKUP(O$82,'IB - E&PH'!$E$95:$W$115,18)","v":{"$error":"#N/A"}}]
[null,null,null,null,{"$f":"HLOOKUP(E$82,'IB - B&D&H'!$E$95:$W$115,19)","v":{"$error":"#N/A"}},null,{"$f":"HLOOKUP(G$82,'IB - B&D&H'!$E$95:$W$115,19)","v":{"$error":"#N/A"}},null,{"$f":"HLOOKUP(I$82,'IB - B&D&H'!$E$95:$W$115,19)","v":{"$error":"#N/A"}},null,{"$f":"HLOOKUP(K$82,'IB - E&PH'!$E$95:$W$115,19)","v":{"$error":"#N/A"}},null,{"$f":"HLOOKUP(M$82,'IB - E&PH'!$E$95:$W$115,19)","v":{"$error":"#N/A"}},null,{"$f":"HLOOKUP(O$82,'IB - E&PH'!$E$95:$W$115,19)","v":{"$error":"#N/A"}}]
[null,null,null,null,{"$f":"HLOOKUP(E$82,'IB - B&D&H'!$E$95:$W$115,20)","v":{"$error":"#N/A"}},null,{"$f":"HLOOKUP(G$82,'IB - B&D&H'!$E$95:$W$115,20)","v":{"$error":"#N/A"}},null,{"$f":"HLOOKUP(I$82,'IB - B&D&H'!$E$95:$W$115,20)","v":{"$error":"#N/A"}},null,{"$f":"HLOOKUP(K$82,'IB - E&PH'!$E$95:$W$115,20)","v":{"$error":"#N/A"}},null,{"$f":"HLOOKUP(M$82,'IB - E&PH'!$E$95:$W$115,20)","v":{"$error":"#N/A"}},null,{"$f":"HLOOKUP(O$82,'IB - E&PH'!$E$95:$W$115,20)","v":{"$error":"#N/A"}}]
[]
[]
[]
[]
[]
[]
[]
[]
[]
[]
[]
[]
[]
[]
[]
[]
[]
[]
[]
[]
[]
[]
[null,null,null,null,{"$error":"#N/A"},null,null,null,null,null,null,null,null,null,{"$error":"#N/A"}]

{"sheet":"Beregningsmetode","index":9,"n_rows":0,"n_cols":0,"rows_kept":0,"cut":false,"hidden":false,"merged":[]}

{"sheet":"Euronorm","index":10,"n_rows":56,"n_cols":25,"rows_kept":56,"cut":false,"hidden":true,"merged":[]}
[]
[null,null,"Euronorm - data"]
[]
[null,null,"Kilde: https://dieselnet.com/standards/eu/ld.php#stds",null,"https://eur-lex.europa.eu/legal-content/DA/TXT/PDF/?uri=CELEX:32007R0715&from=DA"]
[null,"Helper","Personbiler/Minibusser - Persontransport",null,null,"mg NOx/km","mg PM/km"]
[null,{"$f":"CONCATENATE(C6,D6,E6)","v":"BenzinKategori M1Euro 5"},"Benzin","Kategori M1","Euro 5",60,5]
[null,"BenzinKategori M1Euro 6","Benzin","Kategori M1","Euro 6",60,5]
[null,"BenzinKategori M2Euro 5","Benzin","Kategori M2","Euro 5",60,5]
[null,"BenzinKategori M2Euro 6","Benzin","Kategori M2","Euro 6",60,5]
[null,"DieselKategori M1Euro 3","Diesel","Kategori M1","Euro 3",500,50]
[null,"DieselKategori M1Euro 4","Diesel","Kategori M1","Euro 4",250,25]
[null,"DieselKategori M1Euro 5","Diesel","Kategori M1","Euro 5",180,5]
[null,"DieselKategori M1Euro 5b","Diesel","Kategori M1","Euro 5b",180,5]
[null,"DieselKategori M1Euro 6","Diesel","Kategori M1","Euro 6",80,5]
[null,"DieselKategori M2Euro 5","Diesel","Kategori M2","Euro 5",180,5]
[null,"DieselKategori M2Euro 6","Diesel","Kategori M2","Euro 6",80,5]
[null,null,"Kilde: https://dieselnet.com/standards/eu/ld.php#stds",null,"https://eur-lex.europa.eu/legal-content/DA/TXT/PDF/?uri=CELEX:32007R0715&from=DA"]
[null,null,"Varevogne - Godstransport",null,null,"mg NOx/km","mg PM/km"]
[null,{"$f":"CONCATENATE(C19,D19,E19)","v":"BenzinKategori N1, klasse I, ≤1305 kgEuro 5"},"Benzin","Kategori N1, klasse I, ≤1305 kg","Euro 5",60,5]
[null,"BenzinKategori N1, klasse I, ≤1305 kgEuro 6","Benzin","Kategori N1, klasse I, ≤1305 kg","Euro 6",60,5]
[null,"BenzinKategori N1, klasse II, 1305-1760 kgEuro 5","Benzin","Kategori N1, klasse II, 1305-1760 kg","Euro 5",75,5]
[null,"BenzinKategori N1, klasse II, 1305-1760 kgEuro 6","Benzin","Kategori N1, klasse II, 1305-1760 kg","Euro 6",75,5]
[null,"BenzinKategori N1, klasse III, >1760 kgEuro 5","Benzin","Kategori N1, klasse III, >1760 kg","Euro 5",82,5]
[null,"BenzinKategori N1, klasse III, >1760 kgEuro 6","Benzin","Kategori N1, klasse III, >1760 kg","Euro 6",82,5]
[null,"BenzinKategori N2Euro 5","Benzin","Kategori N2","Euro 5",82,5]
[null,"BenzinKategori N2Euro 6","Benzin","Kategori N2","Euro 6",82,5]
[null,"DieselKategori N1, klasse I, ≤1305 kgEuro 3","Diesel","Kategori N1, klasse I, ≤1305 kg","Euro 3",500,50]
[null,"DieselKategori N1, klasse I, ≤1305 kgEuro 4","Diesel","Kategori N1, klasse I, ≤1305 kg","Euro 4",250,25]
[null,"DieselKategori N1, klasse I, ≤1305 kgEuro 5","Diesel","Kategori N1, klasse I, ≤1305 kg","Euro 5",180,5]
[null,"DieselKategori N1, klasse I, ≤1305 kgEuro 5b","Diesel","Kategori N1, klasse I, ≤1305 kg","Euro 5b",180,5]
[null,"DieselKategori N1, klasse I, ≤1305 kgEuro 6","Diesel","Kategori N1, klasse I, ≤1305 kg","Euro 6",80,5]
[null,"DieselKategori N1, klasse II, 1305-1760 kgEuro 3","Diesel","Kategori N1, klasse II, 1305-1760 kg","Euro 3",650,70]
[null,"DieselKategori N1, klasse II, 1305-1760 kgEuro 4","Diesel","Kategori N1, klasse II, 1305-1760 kg","Euro 4",330,40]
[null,"DieselKategori N1, klasse II, 1305-1760 kgEuro 5","Diesel","Kategori N1, klasse II, 1305-1760 kg","Euro 5",235,5]
[null,"DieselKategori N1, klasse II, 1305-1760 kgEuro 5b","Diesel","Kategori N1, klasse II, 1305-1760 kg","Euro 5b",235,5]
[null,"DieselKategori N1, klasse II, 1305-1760 kgEuro 6","Diesel","Kategori N1, klasse II, 1305-1760 kg","Euro 6",105,5]
[null,"DieselKategori N1, klasse III, >1760 kgEuro 3","Diesel","Kategori N1, klasse III, >1760 kg","Euro 3",780,100]
[null,"DieselKategori N1, klasse III, >1760 kgEuro 4","Diesel","Kategori N1, klasse III, >1760 kg","Euro 4",390,60]
[null,"DieselKategori N1, klasse III, >1760 kgEuro 5","Diesel","Kategori N1, klasse III, >1760 kg","Euro 5",280,5]
[null,"DieselKategori N1, klasse III, >1760 kgEuro 5b","Diesel","Kategori N1, klasse III, >1760 kg","Euro 5b",280,5]
[null,"DieselKategori N1, klasse III, >1760 kgEuro 6","Diesel","Kategori N1, klasse III, >1760 kg","Euro 6",125,5]
[null,"DieselKategori N2Euro 5","Diesel","Kategori N2","Euro 5",280,5]
[null,"DieselKategori N2Euro 5b","Diesel","Kategori N2","Euro 5b",280,5]
[null,"DieselKategori N2Euro 6","Diesel","Kategori N2","Euro 6",125,5]
[null,null,"https://dieselnet.com/standards/eu/hd.php#stds ",null,"Valgt Transient testing, da det ligger tættest på bykørsel. "]
[null,null,"Lastbil/bus",null,null,"mg NOx/km\nKolonne 1","mg PM/km\nKolonne 1","mg NOx/km\nKolonne 2","mg PM/km\nKolonne 2","mg NOx/km\nKolonne 3","mg PM/km\nKolonne 3","mg NOx/km\nKolonne 4","mg PM/km\nKolonne 4","mg NOx/km\nKolonne 5","mg PM/km\nKolonne 5","mg NOx/km\nKolonne 6","mg PM/km\nKolonne 6","mg NOx/km\nKolonne 7","mg PM/km\nKolonne 7","mg NOx/km\nKolonne 8","mg PM/km\nKolonne 8","mg NOx/km\nKolonne 9","mg PM/km\nKolonne 9","mg NOx/km\nKolonne 10","mg PM/km\nKolonne 10"]
[null,"DieselKategori M3Euro V","Diesel","Kategori M3","Euro V",{"$f":"$I55*$C$53*'Benzin - diesel - hybrid'!E$15/100*1000","v":0},{"$f":"$J55*$C$53*'Benzin - diesel - hybrid'!E$15/100*1000","v":0},{"$f":"$I55*$C$53*'Benzin - diesel - hybrid'!G$15/100*1000","v":0},{"$f":"$J55*$C$53*'Benzin - diesel - hybrid'!G$15/100*1000","v":0},{"$f":"$I55*$C$53*'Benzin - diesel - hybrid'!I$15/100*1000","v":0},{"$f":"$J55*$C$53*'Benzin - diesel - hybrid'!I$15/100*1000","v":0},{"$f":"$I55*$C$53*'Benzin - diesel - hybrid'!K$15/100*1000","v":0},{"$f":"$J55*$C$53*'Benzin - diesel - hybrid'!K$15/100*1000","v":0},{"$f":"$I55*$C$53*'Benzin - diesel - hybrid'!M$15/100*1000","v":0},{"$f":"$J55*$C$53*'Benzin - diesel - hybrid'!M$15/100*1000","v":0},{"$f":"$I55*$C$53*'Benzin - diesel - hybrid'!O$15/100*1000","v":0},{"$f":"$J55*$C$53*'Benzin - diesel - hybrid'!O$15/100*1000","v":0},{"$f":"$I55*$C$53*'Benzin - diesel - hybrid'!Q$15/100*1000","v":0},{"$f":"$J55*$C$53*'Benzin - diesel - hybrid'!Q$15/100*1000","v":0},{"$f":"$I55*$C$53*'Benzin - diesel - hybrid'!S$15/100*1000","v":0},{"$f":"$J55*$C$53*'Benzin - diesel - hybrid'!S$15/100*1000","v":0},{"$f":"$I55*$C$53*'Benzin - diesel - hybrid'!U$15/100*1000","v":0},{"$f":"$J55*$C$53*'Benzin - diesel - hybrid'!U$15/100*1000","v":0},{"$f":"$I55*$C$53*'Benzin - diesel - hybrid'!W$15/100*1000","v":0},{"$f":"$J55*$C$53*'Benzin - diesel - hybrid'!W$15/100*1000","v":0}]
[null,"DieselKategori M3Euro VI","Diesel","Kategori M3","Euro VI",{"$f":"$I56*$C$53*'Benzin - diesel - hybrid'!E$15/100*1000","v":0},{"$f":"$J56*$C$53*'Benzin - diesel - hybrid'!E$15/100*1000","v":0},{"$f":"$I56*$C$53*'Benzin - diesel - hybrid'!G$15/100*1000","v":0},{"$f":"$J56*$C$53*'Benzin - diesel - hybrid'!G$15/100*1000","v":0},{"$f":"$I56*$C$53*'Benzin - diesel - hybrid'!I$15/100*1000","v":0},{"$f":"$J56*$C$53*'Benzin - diesel - hybrid'!I$15/100*1000","v":0},{"$f":"$I56*$C$53*'Benzin - diesel - hybrid'!K$15/100*1000","v":0},{"$f":"$J56*$C$53*'Benzin - diesel - hybrid'!K$15/100*1000","v":0},{"$f":"$I56*$C$53*'Benzin - diesel - hybrid'!M$15/100*1000","v":0},{"$f":"$J56*$C$53*'Benzin - diesel - hybrid'!M$15/100*1000","v":0},{"$f":"$I56*$C$53*'Benzin - diesel - hybrid'!O$15/100*1000","v":0},{"$f":"$J56*$C$53*'Benzin - diesel - hybrid'!O$15/100*1000","v":0},{"$f":"$I56*$C$53*'Benzin - diesel - hybrid'!Q$15/100*1000","v":0},{"$f":"$J56*$C$53*'Benzin - diesel - hybrid'!Q$15/100*1000","v":0},{"$f":"$I56*$C$53*'Benzin - diesel - hybrid'!S$15/100*1000","v":0},{"$f":"$J56*$C$53*'Benzin - diesel - hybrid'!S$15/100*1000","v":0},{"$f":"$I56*$C$53*'Benzin - diesel - hybrid'!U$15/100*1000","v":0},{"$f":"$J56*$C$53*'Benzin - diesel - hybrid'!U$15/100*1000","v":0},{"$f":"$I56*$C$53*'Benzin - diesel - hybrid'!W$15/100*1000","v":0},{"$f":"$J56*$C$53*'Benzin - diesel - hybrid'!W$15/100*1000","v":0}]
[null,"DieselKategori N3Euro V","Diesel","Kategori N3","Euro V",{"$f":"$I55*$C$53*'Benzin - diesel - hybrid'!E$15/100*1000","v":0},{"$f":"$J55*$C$53*'Benzin - diesel - hybrid'!E$15/100*1000","v":0},{"$f":"$I55*$C$53*'Benzin - diesel - hybrid'!G$15/100*1000","v":0},{"$f":"$J55*$C$53*'Benzin - diesel - hybrid'!G$15/100*1000","v":0},{"$f":"$I55*$C$53*'Benzin - diesel - hybrid'!I$15/100*1000","v":0},{"$f":"$J55*$C$53*'Benzin - diesel - hybrid'!I$15/100*1000","v":0},{"$f":"$I55*$C$53*'Benzin - diesel - hybrid'!K$15/100*1000","v":0},{"$f":"$J55*$C$53*'Benzin - diesel - hybrid'!K$15/100*1000","v":0},{"$f":"$I55*$C$53*'Benzin - diesel - hybrid'!M$15/100*1000","v":0},{"$f":"$J55*$C$53*'Benzin - diesel - hybrid'!M$15/100*1000","v":0},{"$f":"$I55*$C$53*'Benzin - diesel - hybrid'!O$15/100*1000","v":0},{"$f":"$J55*$C$53*'Benzin - diesel - hybrid'!O$15/100*1000","v":0},{"$f":"$I55*$C$53*'Benzin - diesel - hybrid'!Q$15/100*1000","v":0},{"$f":"$J55*$C$53*'Benzin - diesel - hybrid'!Q$15/100*1000","v":0},{"$f":"$I55*$C$53*'Benzin - diesel - hybrid'!S$15/100*1000","v":0},{"$f":"$J55*$C$53*'Benzin - diesel - hybrid'!S$15/100*1000","v":0},{"$f":"$I55*$C$53*'Benzin - diesel - hybrid'!U$15/100*1000","v":0},{"$f":"$J55*$C$53*'Benzin - diesel - hybrid'!U$15/100*1000","v":0},{"$f":"$I55*$C$53*'Benzin - diesel - hybrid'!W$15/100*1000","v":0},{"$f":"$J55*$C$53*'Benzin - diesel - hybrid'!W$15/100*1000","v":0}]
[null,"DieselKategori N3Euro VI","Diesel","Kategori N3","Euro VI",{"$f":"$I56*$C$53*'Benzin - diesel - hybrid'!E$15/100*1000","v":0},{"$f":"$J56*$C$53*'Benzin - diesel - hybrid'!E$15/100*1000","v":0},{"$f":"$I56*$C$53*'Benzin - diesel - hybrid'!G$15/100*1000","v":0},{"$f":"$J56*$C$53*'Benzin - diesel - hybrid'!G$15/100*1000","v":0},{"$f":"$I56*$C$53*'Benzin - diesel - hybrid'!I$15/100*1000","v":0},{"$f":"$J56*$C$53*'Benzin - diesel - hybrid'!I$15/100*1000","v":0},{"$f":"$I56*$C$53*'Benzin - diesel - hybrid'!K$15/100*1000","v":0},{"$f":"$J56*$C$53*'Benzin - diesel - hybrid'!K$15/100*1000","v":0},{"$f":"$I56*$C$53*'Benzin - diesel - hybrid'!M$15/100*1000","v":0},{"$f":"$J56*$C$53*'Benzin - diesel - hybrid'!M$15/100*1000","v":0},{"$f":"$I56*$C$53*'Benzin - diesel - hybrid'!O$15/100*1000","v":0},{"$f":"$J56*$C$53*'Benzin - diesel - hybrid'!O$15/100*1000","v":0},{"$f":"$I56*$C$53*'Benzin - diesel - hybrid'!Q$15/100*1000","v":0},{"$f":"$J56*$C$53*'Benzin - diesel - hybrid'!Q$15/100*1000","v":0},{"$f":"$I56*$C$53*'Benzin - diesel - hybrid'!S$15/100*1000","v":0},{"$f":"$J56*$C$53*'Benzin - diesel - hybrid'!S$15/100*1000","v":0},{"$f":"$I56*$C$53*'Benzin - diesel - hybrid'!U$15/100*1000","v":0},{"$f":"$J56*$C$53*'Benzin - diesel - hybrid'!U$15/100*1000","v":0},{"$f":"$I56*$C$53*'Benzin - diesel - hybrid'!W$15/100*1000","v":0},{"$f":"$J56*$C$53*'Benzin - diesel - hybrid'!W$15/100*1000","v":0}]
[]
[null,null,"Brændværdi - Diesel","Unit","https://lemvigbiogas.com/viden-om-biogas/",null,null,null,"g NOx/kWh","g PM/kWh"]
[null,null,10,"kWh/liter",null,null,null,null,5,0.16]
[null,null,null,null,null,null,null,null,3.5,0.03]
[null,null,null,null,null,null,null,null,2,0.03]
[null,null,null,null,null,null,null,null,0.46,0.01]

{"sheet":"Lister","index":11,"n_rows":29,"n_cols":11,"rows_kept":29,"cut":false,"hidden":true,"merged":[]}
[null,"Tabeller til dropdown lister, som er afhængige af hinanden."]
[]
[null,"Køretøjtype","Personbilkategori","Varevognkategori","Minibuskategori","Lastbilkategori","Buskategori",null,null,"Klik for valg","Klik for valg"]
[null,"Klik for valg","Klik for valg","Klik for valg","Klik for valg","Klik for valg","Klik for valg",null,null,"Ja","Personbil"]
[null,"Personbil","Kategori M1","Kategori N1, klasse I, ≤1305 kg","Kategori M2","Kategori N3","Kategori M3",null,null,"Nej","Minibus"]
[null,"Varevogn",null,"Kategori N1, klasse II, 1305-1760 kg",null,null,null,null,null,null,"Bus"]
[null,"Minibus",null,"Kategori N1, klasse III, >1760 kg"]
[null,"Lastbil",null,"Kategori N2"]
[null,"Bus"]
[]
[]
[]
[]
[null,"KatList"]
[null,"Kategori M1","KatM1"]
[null,"Kategori N1, klasse I, ≤1305 kg","KatN1kl1"]
[null,"Kategori N1, klasse II, 1305-1760 kg","KatN1Kl2"]
[null,"Kategori N1, klasse III, >1760 kg","KatN1Kl3"]
[null,"Kategori N2","KatN2"]
[null,"Kategori M2","KatM2"]
[null,"Kategori N3","KatN3"]
[null,"Kategori M3","KatM3"]
[]
[]
[null,"KatM1List","KatN1kl1List","KatN1Kl2List","KatN1Kl3List","KatN2List","KatM2List","KatN3List","KatM3List"]
[null,"Klik for valg","Klik for valg","Klik for valg","Klik for valg","Klik for valg","Klik for valg","Klik for valg","Klik for valg"]
[null,"Euro 5","Euro 5","Euro 5","Euro 5","Euro 5","Euro 5","Euro V","Euro V"]
[null,"Euro 6","Euro 6","Euro 6","Euro 6","Euro 6","Euro 6","Euro VI","Euro VI"]
[null,"Nej","Nej","Nej","Nej","Nej","Nej","Nej","Nej"]

{"sheet":"Fremskrivninger","index":12,"n_rows":126,"n_cols":19,"rows_kept":126,"cut":false,"hidden":true,"merged":[[4,0,4,18],[5,1,5,9],[5,10,5,14],[5,15,5,18],[43,2,43,9],[39,10,40,10],[39,2,40,9],[44,1,44,6],[44,7,44,9],[39,11,40,18],[43,11,43,18],[44,10,44,15],[44,16,44,18],[87,11,87,18],[88,1,88,6],[88,7,88,9],[88,16,88,18],[88,10,88,15],[87,2,87,9]]}
[null,null,null,null,"Elpris - An virksomhed (kr./kWh) (u. afgifter og moms) (2021 fremskrivning af Energistyrelsen)",0.502,"Tilpas den rå elpris til her",null,null,"Energistyrelsens basisfremskrivning, 2020, er kilden til emissionsfaktoren for el. ",null,null,null,null,null,"Klik for at vælge",null,null,"Max Procentuel (%)"]
["Benzin",null,"Plugin hybrid benzin","El og benzin","https://ens.dk/sites/ens.dk/files/Analyser/samfundsoekonomiske_beregningsforudsaetninger_for_energipriser_og_emissioner_2019.pdf",null,null,null,null,"https://ens.dk/service/fremskrivninger-analyser-modeller/basisfremskrivninger",null,null,null,null,null,"Ja",null,null,100]
["Diesel",null,"Plugin hybrid diesel","El og diesel",null,null,null,null,null,null,null,null,null,null,null,"Nej",null,null,{"$f":"SUM($P18:$R18)<=Fremskrivninger!$S$2","v":false}]
[null,null,"El","El"]
["Fremskrivninger"]
[null,"Elpriser",null,null,null,null,null,null,null,null,"Emissionsfaktor",null,null,null,null,"Samfundsøkonomisk faktor (Default værdi fastsat til 5000 DKK/tons)"]
["Årstal","År","kr/ kWh (standardværdi)","kr/ kWh (HVIS selvindtastet)","Samlede afgifter (kr./kWh)","Elafgift (kr/kWh)","PSO-afgift (kr./kWh)","Nettarif C time (kr./kWh)","Transmissions nettarif (kr./kWh)","Systemtarif (kr./kWh)","år","kg CO2e/kWh (predefineret","Samlet procentuel udvikling","Gennemsnitligt fald","kg CO2e/kWh (Gennemsnit)","år","kr./Tons Co2 udregnet pr. 2020-kurs Euro","Samlet procentuel udvikling","Gennemsnitligt fald"]
[2020,0,"-","-","-","-","-","-","-","-"]
[2021,1,{"$f":"F1+E9","v":1.851},{"$f":"IF('El og plugin hybrid'!#REF!=\"nej\",'El og plugin hybrid'!#REF!,\"\")","v":{"$error":"#REF!"}},{"$f":"SUM(F9:J9)","v":1.349},0.89200000000000002,6.2E-2,0.29799999999999999,5.2999999999999999E-2,4.3999999999999997E-2,{"$f":"B9","v":1},8.8999999999999996E-2,0,0,{"$f":"IF(#REF!=\"ja\",#REF!,#REF!)","v":{"$error":"#REF!"}},{"$f":"K9","v":1},4855.6000000000004,0,0]
[2022,2,{"$f":"((C9-E9)*(1+'El og plugin hybrid'!#REF!)+E9)","v":{"$error":"#REF!"}},{"$f":"((D9-E10)*(1+'El og plugin hybrid'!#REF!))+Fremskrivninger!E10","v":{"$error":"#REF!"}},1.2869999999999999,0.89200000000000002,0,0.29799999999999999,5.2999999999999999E-2,4.3999999999999997E-2,2,7.0000000000000007E-2,{"$f":"(L10-$L$9)/$L$9","v":-0.21348314606741561},{"$f":"AVERAGE($M$9:M10)","v":-0.10674157303370781},{"$f":"IF(#REF!=\"ja\",#REF!,#REF!)","v":{"$error":"#REF!"}},2,{"$f":"$Q$9+(224/15*P10)","v":4885.4666666666672},{"$f":"(Q10-$Q$9)/$Q$9","v":6.1509734464673341E-3},{"$f":"AVERAGE($R$9:R10)","v":3.0754867232336671E-3}]
[2023,3,{"$f":"((C10-E10)*(1+'El og plugin hybrid'!#REF!)+E10)","v":{"$error":"#REF!"}},{"$f":"((D10-E11)*(1+'El og plugin hybrid'!#REF!))+Fremskrivninger!E11","v":{"$error":"#REF!"}},1.2869999999999999,0.89200000000000002,0,0.29799999999999999,5.2999999999999999E-2,4.3999999999999997E-2,3,5.8000000000000003E-2,-0.348314606741573,{"$f":"AVERAGE($M$9:M11)","v":-0.18726591760299618},{"$f":"IF(#REF!=\"ja\",#REF!,#REF!)","v":{"$error":"#REF!"}},3,4900.4000000000005,9.2264601697010003E-3,{"$f":"AVERAGE($R$9:R11)","v":5.1258112053894451E-3}]
[2024,4,{"$f":"((C11-E11)*(1+'El og plugin hybrid'!#REF!)+E11)","v":{"$error":"#REF!"}},{"$f":"((D11-E12)*(1+'El og plugin hybrid'!#REF!))+Fremskrivninger!E12","v":{"$error":"#REF!"}},1.2869999999999999,0.89200000000000002,0,0.29799999999999999,5.2999999999999999E-2,4.3999999999999997E-2,4,5.3999999999999999E-2,-0.3932584269662921,{"$f":"AVERAGE($M$9:M12)","v":-0.23876404494382017},{"$f":"IF(#REF!=\"ja\",#REF!,#REF!)","v":{"$error":"#REF!"}},4,4915.3333333333339,1.2301946892934668E-2,{"$f":"AVERAGE($R$9:R12)","v":6.9198451272757507E-3}]
[2025,5,{"$f":"((C12-E12)*(1+'El og plugin hybrid'!#REF!)+E12)","v":{"$error":"#REF!"}},{"$f":"((D12-E13)*(1+'El og plugin hybrid'!#REF!))+Fremskrivninger!E13","v":{"$error":"#REF!"}},1.2869999999999999,0.89200000000000002,0,0.29799999999999999,5.2999999999999999E-2,4.3999999999999997E-2,5,0.05,-0.4382022471910112,{"$f":"AVERAGE($M$9:M13)","v":-0.27865168539325841},{"$f":"IF(#REF!=\"ja\",#REF!,#REF!)","v":{"$error":"#REF!"}},5,4930.2666666666673,1.5377433616168334E-2,{"$f":"AVERAGE($R$9:R13)","v":8.6113628250542671E-3}]
[2026,6,{"$f":"((C13-E13)*(1+'El og plugin hybrid'!#REF!)+E13)","v":{"$error":"#REF!"}},{"$f":"((D13-E14)*(1+'El og plugin hybrid'!#REF!))+Fremskrivninger!E14","v":{"$error":"#REF!"}},1.2869999999999999,0.89200000000000002,0,0.29799999999999999,5.2999999999999999E-2,4.3999999999999997E-2,6,4.2000000000000003E-2,-0.5280898876404494,{"$f":"AVERAGE($M$9:M14)","v":-0.32022471910112354},{"$f":"IF(#REF!=\"ja\",#REF!,#REF!)","v":{"$error":"#REF!"}},6,4945.2000000000007,1.8452920339402001E-2,{"$f":"AVERAGE($R$9:R14)","v":1.025162241077889E-2}]
[2027,7,{"$f":"((C14-E14)*(1+'El og plugin hybrid'!#REF!)+E14)","v":{"$error":"#REF!"}},{"$f":"((D14-E15)*(1+'El og plugin hybrid'!#REF!))+Fremskrivninger!E15","v":{"$error":"#REF!"}},1.2869999999999999,0.89200000000000002,0,0.29799999999999999,5.2999999999999999E-2,4.3999999999999997E-2,7,3.6999999999999998E-2,-0.5842696629213483,{"$f":"AVERAGE($M$9:M15)","v":-0.35794542536115564},{"$f":"IF(#REF!=\"ja\",#REF!,#REF!)","v":{"$error":"#REF!"}},7,4960.1333333333341,2.1528407062635667E-2,{"$f":"AVERAGE($R$9:R15)","v":1.186259164675843E-2}]
[2028,8,{"$f":"((C15-E15)*(1+'El og plugin hybrid'!#REF!)+E15)","v":{"$error":"#REF!"}},{"$f":"((D15-E16)*(1+'El og plugin hybrid'!#REF!))+Fremskrivninger!E16","v":{"$error":"#REF!"}},1.2869999999999999,0.89200000000000002,0,0.29799999999999999,5.2999999999999999E-2,4.3999999999999997E-2,8,3.2000000000000001E-2,-0.6404494382022472,{"$f":"AVERAGE($M$9:M16)","v":-0.3932584269662921},{"$f":"IF(#REF!=\"ja\",#REF!,#REF!)","v":{"$error":"#REF!"}},8,4975.0666666666666,2.4603893785869149E-2,{"$f":"AVERAGE($R$9:R16)","v":1.345525441414727E-2}]
[2029,9,{"$f":"((C16-E16)*(1+'El og plugin hybrid'!#REF!)+E16)","v":{"$error":"#REF!"}},{"$f":"((D16-E17)*(1+'El og plugin hybrid'!#REF!))+Fremskrivninger!E17","v":{"$error":"#REF!"}},1.2869999999999999,0.89200000000000002,0,0.29799999999999999,5.2999999999999999E-2,4.3999999999999997E-2,9,1.2999999999999999E-2,-0.8539325842696629,{"$f":"AVERAGE($M$9:M17)","v":-0.44444444444444442},{"$f":"IF(#REF!=\"ja\",#REF!,#REF!)","v":{"$error":"#REF!"}},9,4990,2.7679380509102815E-2,{"$f":"AVERAGE($R$9:R17)","v":1.5035712869142329E-2}]
[2030,10,{"$f":"((C17-E17)*(1+'El og plugin hybrid'!#REF!)+E17)","v":{"$error":"#REF!"}},{"$f":"((D17-E18)*(1+'El og plugin hybrid'!#REF!))+Fremskrivninger!E18","v":{"$error":"#REF!"}},1.2869999999999999,0.89200000000000002,0,0.29799999999999999,5.2999999999999999E-2,4.3999999999999997E-2,10,1.2E-2,-0.8651685393258427,{"$f":"AVERAGE($M$9:M18)","v":-0.48651685393258426},{"$f":"IF(#REF!=\"ja\",#REF!,#REF!)","v":{"$error":"#REF!"}},10,4990,2.7679380509102815E-2,{"$f":"AVERAGE($R$9:R18)","v":1.6300079633138377E-2}]
[2031,11,{"$f":"((C18-E18)*(1+'El og plugin hybrid'!#REF!)+E18)","v":{"$error":"#REF!"}},{"$f":"((D18-E19)*(1+'El og plugin hybrid'!#REF!))+Fremskrivninger!E19","v":{"$error":"#REF!"}},1.2869999999999999,0.89200000000000002,0,0.29799999999999999,5.2999999999999999E-2,4.3999999999999997E-2,11,1.2E-2,-0.8651685393258427,{"$f":"AVERAGE($M$9:M19)","v":-0.52093973442288044},{"$f":"IF(#REF!=\"ja\",#REF!,#REF!)","v":{"$error":"#REF!"}},11,{"$f":"$Q$18+(447/21*(P19-12))","v":4968.7142857142853},2.3295635084085376E-2,{"$f":"AVERAGE($R$9:R19)","v":1.6936039219588108E-2}]
[2032,12,{"$f":"((C19-E19)*(1+'El og plugin hybrid'!#REF!)+E19)","v":{"$error":"#REF!"}},{"$f":"((D19-E20)*(1+'El og plugin hybrid'!#REF!))+Fremskrivninger!E20","v":{"$error":"#REF!"}},1.2869999999999999,0.89200000000000002,0,0.29799999999999999,5.2999999999999999E-2,4.3999999999999997E-2,12,1.2E-2,-0.8651685393258427,{"$f":"AVERAGE($M$9:M20)","v":-0.54962546816479396},{"$f":"IF(#REF!=\"ja\",#REF!,#REF!)","v":{"$error":"#REF!"}},12,4990,2.7679380509102815E-2,{"$f":"AVERAGE($R$9:R20)","v":1.7831317660380999E-2}]
[2033,13,{"$f":"((C20-E20)*(1+'El og plugin hybrid'!#REF!)+E20)","v":{"$error":"#REF!"}},{"$f":"((D20-E21)*(1+'El og plugin hybrid'!#REF!))+Fremskrivninger!E21","v":{"$error":"#REF!"}},1.2869999999999999,0.89200000000000002,0,0.29799999999999999,5.2999999999999999E-2,4.3999999999999997E-2,13,1.2E-2,-0.8651685393258427,{"$f":"AVERAGE($M$9:M21)","v":-0.57389801210025915},{"$f":"IF(#REF!=\"ja\",#REF!,#REF!)","v":{"$error":"#REF!"}},13,5011.2857142857147,3.2063125934120251E-2,{"$f":"AVERAGE($R$9:R21)","v":1.8926072142976327E-2}]
[2034,14,{"$f":"((C21-E21)*(1+'El og plugin hybrid'!#REF!)+E21)","v":{"$error":"#REF!"}},{"$f":"((D21-E22)*(1+'El og plugin hybrid'!#REF!))+Fremskrivninger!E22","v":{"$error":"#REF!"}},1.2869999999999999,0.89200000000000002,0,0.29799999999999999,5.2999999999999999E-2,4.3999999999999997E-2,14,1.2E-2,-0.8651685393258427,{"$f":"AVERAGE($M$9:M22)","v":-0.5947030497592295},{"$f":"IF(#REF!=\"ja\",#REF!,#REF!)","v":{"$error":"#REF!"}},14,5032.5714285714284,3.6446871359137503E-2,{"$f":"AVERAGE($R$9:R22)","v":2.0177557801273553E-2}]
[2035,15,{"$f":"((C22-E22)*(1+'El og plugin hybrid'!#REF!)+E22)","v":{"$error":"#REF!"}},{"$f":"((D22-E23)*(1+'El og plugin hybrid'!#REF!))+Fremskrivninger!E23","v":{"$error":"#REF!"}},1.2869999999999999,0.89200000000000002,0,0.29799999999999999,5.2999999999999999E-2,4.3999999999999997E-2,15,1.2E-2,-0.8651685393258427,{"$f":"AVERAGE($M$9:M23)","v":-0.61273408239700378},{"$f":"IF(#REF!=\"ja\",#REF!,#REF!)","v":{"$error":"#REF!"}},15,5053.8571428571431,4.0830616784154943E-2,{"$f":"AVERAGE($R$9:R23)","v":2.1554428400132313E-2}]
[2036,16,{"$f":"((C23-E23)*(1+'El og plugin hybrid'!#REF!)+E23)","v":{"$error":"#REF!"}},{"$f":"((D23-E24)*(1+'El og plugin hybrid'!#REF!))+Fremskrivninger!E24","v":{"$error":"#REF!"}},1.2869999999999999,0.89200000000000002,0,0.29799999999999999,5.2999999999999999E-2,4.3999999999999997E-2,16,1.2E-2,-0.8651685393258427,{"$f":"AVERAGE($M$9:M24)","v":-0.6285112359550562},{"$f":"IF(#REF!=\"ja\",#REF!,#REF!)","v":{"$error":"#REF!"}},16,5075.1428571428569,4.5214362209172194E-2,{"$f":"AVERAGE($R$9:R24)","v":2.3033174263197304E-2}]
[2037,17,{"$f":"((C24-E24)*(1+'El og plugin hybrid'!#REF!)+E24)","v":{"$error":"#REF!"}},{"$f":"((D24-E25)*(1+'El og plugin hybrid'!#REF!))+Fremskrivninger!E25","v":{"$error":"#REF!"}},1.2869999999999999,0.89200000000000002,0,0.29799999999999999,5.2999999999999999E-2,4.3999999999999997E-2,17,1.2E-2,-0.8651685393258427,{"$f":"AVERAGE($M$9:M25)","v":-0.64243225380039659},{"$f":"IF(#REF!=\"ja\",#REF!,#REF!)","v":{"$error":"#REF!"}},17,5096.4285714285716,4.9598107634189634E-2,{"$f":"AVERAGE($R$9:R25)","v":2.4595817402667444E-2}]
[2038,18,{"$f":"((C25-E25)*(1+'El og plugin hybrid'!#REF!)+E25)","v":{"$error":"#REF!"}},{"$f":"((D25-E26)*(1+'El og plugin hybrid'!#REF!))+Fremskrivninger!E26","v":{"$error":"#REF!"}},1.2869999999999999,0.89200000000000002,0,0.29799999999999999,5.2999999999999999E-2,4.3999999999999997E-2,18,1.2E-2,-0.8651685393258427,{"$f":"AVERAGE($M$9:M26)","v":-0.65480649188514362},{"$f":"IF(#REF!=\"ja\",#REF!,#REF!)","v":{"$error":"#REF!"}},18,5117.7142857142853,5.3981853059206886E-2,{"$f":"AVERAGE($R$9:R26)","v":2.6228374939141857E-2}]
[2039,19,{"$f":"((C26-E26)*(1+'El og plugin hybrid'!#REF!)+E26)","v":{"$error":"#REF!"}},{"$f":"((D26-E27)*(1+'El og plugin hybrid'!#REF!))+Fremskrivninger!E27","v":{"$error":"#REF!"}},1.2869999999999999,0.89200000000000002,0,0.29799999999999999,5.2999999999999999E-2,4.3999999999999997E-2,19,1.2E-2,-0.8651685393258427,{"$f":"AVERAGE($M$9:M27)","v":-0.66587817859254894},{"$f":"IF(#REF!=\"ja\",#REF!,#REF!)","v":{"$error":"#REF!"}},19,5139,5.8365598484224318E-2,{"$f":"AVERAGE($R$9:R27)","v":2.7919807757304089E-2}]
[2040,20,{"$f":"((C27-E27)*(1+'El og plugin hybrid'!#REF!)+E27)","v":{"$error":"#REF!"}},{"$f":"((D27-E28)*(1+'El og plugin hybrid'!#REF!))+Fremskrivninger!E28","v":{"$error":"#REF!"}},1.2869999999999999,0.89200000000000002,0,0.29799999999999999,5.2999999999999999E-2,4.3999999999999997E-2,20,1.2E-2,-0.8651685393258427,{"$f":"AVERAGE($M$9:M28)","v":-0.67584269662921359},{"$f":"IF(#REF!=\"ja\",#REF!,#REF!)","v":{"$error":"#REF!"}},20,5160.2857142857147,6.2749343909241764E-2,{"$f":"AVERAGE($R$9:R28)","v":2.9661284564900976E-2}]
[2041,21,{"$f":"((C28-E28)*(1+'El og plugin hybrid'!#REF!)+E28)","v":{"$error":"#REF!"}},{"$f":"((D28-E29)*(1+'El og plugin hybrid'!#REF!))+Fremskrivninger!E29","v":{"$error":"#REF!"}},1.2869999999999999,0.89200000000000002,0,0.29799999999999999,5.2999999999999999E-2,4.3999999999999997E-2,21,1.2E-2,-0.8651685393258427,{"$f":"AVERAGE($M$9:M29)","v":-0.68485821294810079},{"$f":"IF(#REF!=\"ja\",#REF!,#REF!)","v":{"$error":"#REF!"}},21,5181.5714285714284,6.7133089334259016E-2,{"$f":"AVERAGE($R$9:R29)","v":3.1445656220584692E-2}]
[2042,22,{"$f":"((C29-E29)*(1+'El og plugin hybrid'!#REF!)+E29)","v":{"$error":"#REF!"}},{"$f":"((D29-E30)*(1+'El og plugin hybrid'!#REF!))+Fremskrivninger!E30","v":{"$error":"#REF!"}},1.2869999999999999,0.89200000000000002,0,0.29799999999999999,5.2999999999999999E-2,4.3999999999999997E-2,22,1.2E-2,-0.8651685393258427,{"$f":"AVERAGE($M$9:M30)","v":-0.69305413687436179},{"$f":"IF(#REF!=\"ja\",#REF!,#REF!)","v":{"$error":"#REF!"}},22,5202.8571428571431,7.1516834759276449E-2,{"$f":"AVERAGE($R$9:R30)","v":3.3267073426888859E-2}]
[2043,23,{"$f":"((C30-E30)*(1+'El og plugin hybrid'!#REF!)+E30)","v":{"$error":"#REF!"}},{"$f":"((D30-E31)*(1+'El og plugin hybrid'!#REF!))+Fremskrivninger!E31","v":{"$error":"#REF!"}},1.2869999999999999,0.89200000000000002,0,0.29799999999999999,5.2999999999999999E-2,4.3999999999999997E-2,23,1.2E-2,-0.8651685393258427,{"$f":"AVERAGE($M$9:M31)","v":-0.70053737176355657},{"$f":"IF(#REF!=\"ja\",#REF!,#REF!)","v":{"$error":"#REF!"}},23,5224.1428571428569,7.5900580184293701E-2,{"$f":"AVERAGE($R$9:R31)","v":3.512070415547168E-2}]
[2044,24,{"$f":"((C31-E31)*(1+'El og plugin hybrid'!#REF!)+E31)","v":{"$error":"#REF!"}},{"$f":"((D31-E32)*(1+'El og plugin hybrid'!#REF!))+Fremskrivninger!E32","v":{"$error":"#REF!"}},1.2869999999999999,0.89200000000000002,0,0.29799999999999999,5.2999999999999999E-2,4.3999999999999997E-2,24,1.2E-2,-0.8651685393258427,{"$f":"AVERAGE($M$9:M32)","v":-0.70739700374531855},{"$f":"IF(#REF!=\"ja\",#REF!,#REF!)","v":{"$error":"#REF!"}},24,5245.4285714285716,8.0284325609311133E-2,{"$f":"AVERAGE($R$9:R32)","v":3.7002521716048321E-2}]
[2045,25,{"$f":"((C32-E32)*(1+'El og plugin hybrid'!#REF!)+E32)","v":{"$error":"#REF!"}},{"$f":"((D32-E33)*(1+'El og plugin hybrid'!#REF!))+Fremskrivninger!E33","v":{"$error":"#REF!"}},1.2869999999999999,0.89200000000000002,0,0.29799999999999999,5.2999999999999999E-2,4.3999999999999997E-2,25,1.2E-2,-0.8651685393258427,{"$f":"AVERAGE($M$9:M33)","v":-0.71370786516853957},{"$f":"IF(#REF!=\"ja\",#REF!,#REF!)","v":{"$error":"#REF!"}},25,5266.7142857142853,8.4668071034328385E-2,{"$f":"AVERAGE($R$9:R33)","v":3.890914368877952E-2}]
[2046,26,{"$f":"((C33-E33)*(1+'El og plugin hybrid'!#REF!)+E33)","v":{"$error":"#REF!"}},{"$f":"((D33-E34)*(1+'El og plugin hybrid'!#REF!))+Fremskrivninger!E34","v":{"$error":"#REF!"}},1.2869999999999999,0.89200000000000002,0,0.29799999999999999,5.2999999999999999E-2,4.3999999999999997E-2,26,1.2E-2,-0.8651685393258427,{"$f":"AVERAGE($M$9:M34)","v":-0.71953327571305126},{"$f":"IF(#REF!=\"ja\",#REF!,#REF!)","v":{"$error":"#REF!"}},26,5288,8.9051816459345831E-2,{"$f":"AVERAGE($R$9:R34)","v":4.083770802610899E-2}]
[2047,27,{"$f":"((C34-E34)*(1+'El og plugin hybrid'!#REF!)+E34)","v":{"$error":"#REF!"}},{"$f":"((D34-E35)*(1+'El og plugin hybrid'!#REF!))+Fremskrivninger!E35","v":{"$error":"#REF!"}},1.2869999999999999,0.89200000000000002,0,0.29799999999999999,5.2999999999999999E-2,4.3999999999999997E-2,27,1.2E-2,-0.8651685393258427,{"$f":"AVERAGE($M$9:M35)","v":-0.7249271743653769},{"$f":"IF(#REF!=\"ja\",#REF!,#REF!)","v":{"$error":"#REF!"}},27,5309.2857142857147,9.3435561884363263E-2,{"$f":"AVERAGE($R$9:R35)","v":4.2785776687525819E-2}]
[2048,28,{"$f":"((C35-E35)*(1+'El og plugin hybrid'!#REF!)+E35)","v":{"$error":"#REF!"}},{"$f":"((D35-E36)*(1+'El og plugin hybrid'!#REF!))+Fremskrivninger!E36","v":{"$error":"#REF!"}},1.2869999999999999,0.89200000000000002,0,0.29799999999999999,5.2999999999999999E-2,4.3999999999999997E-2,28,1.2E-2,-0.8651685393258427,{"$f":"AVERAGE($M$9:M36)","v":-0.72993579454253632},{"$f":"IF(#REF!=\"ja\",#REF!,#REF!)","v":{"$error":"#REF!"}},28,5330.5714285714284,9.7819307309380515E-2,{"$f":"AVERAGE($R$9:R36)","v":4.4751259924020625E-2}]
[2049,29,{"$f":"((C36-E36)*(1+'El og plugin hybrid'!#REF!)+E36)","v":{"$error":"#REF!"}},{"$f":"((D36-E37)*(1+'El og plugin hybrid'!#REF!))+Fremskrivninger!E37","v":{"$error":"#REF!"}},1.2869999999999999,0.89200000000000002,0,0.29799999999999999,5.2999999999999999E-2,4.3999999999999997E-2,29,1.2E-2,-0.8651685393258427,{"$f":"AVERAGE($M$9:M37)","v":-0.73459899263851247},{"$f":"IF(#REF!=\"ja\",#REF!,#REF!)","v":{"$error":"#REF!"}},29,5351.8571428571431,0.10220305273439796,{"$f":"AVERAGE($R$9:R37)","v":4.6732356227826739E-2}]
[2050,30,{"$f":"((C37-E37)*(1+'El og plugin hybrid'!#REF!)+E37)","v":{"$error":"#REF!"}},{"$f":"((D37-E38)*(1+'El og plugin hybrid'!#REF!))+Fremskrivninger!E38","v":{"$error":"#REF!"}},1.2869999999999999,0.89200000000000002,0,0.29799999999999999,5.2999999999999999E-2,4.3999999999999997E-2,30,1.2E-2,-0.8651685393258427,{"$f":"AVERAGE($M$9:M38)","v":-0.73895131086142352},{"$f":"IF(#REF!=\"ja\",#REF!,#REF!)","v":{"$error":"#REF!"}},30,5440,0.12035587774940266,{"$f":"AVERAGE($R$9:R38)","v":4.9186473611879271E-2}]
[]
[null,null,"Benzin - Diesel - Hybrid",null,null,null,null,null,null,null,null,"Plugin hybrid"]
[]
[null,null,"Tilpas den rå produktpris for benzin (standardværdi)",{"$f":"'ENS udvikling i brændstofspris'!E7","v":4.0768000000000004},"Kilde","https://www.drivkraftdanmark.dk/priser/benzin-95-oktan/",null,null,null,null,null,"Tilpas den rå produktpris for benzin (standardværdi)",{"$f":"'ENS udvikling i brændstofspris'!E7","v":4.0768000000000004},"Kilde","https://www.drivkraftdanmark.dk/priser/benzin-95-oktan/"]
[]
[null,null,"Benzinpriser (E10) - Benzin Diesel hybrid",null,null,null,null,null,null,null,null,"Benzinpriser (E10) - Benzin Diesel hybrid"]
[null,"Benzinpriser",null,null,null,null,null,"CO2e udledninger",null,null,"Benzinpriser",null,null,null,null,null,"CO2e udledninger"]
["Årstal","År","kr/liter (standardværdi)","kr/ liter(HVIS selvindtastet)","Samlede afgifter (kr./liter)","CO2-afgift (kr./liter)","Energiafgift (kr./liter)","CO2e udledninger (kg CO2/liter)",null,null,"År","kr/liter (standardværdi)","kr/ liter(HVIS selvindtastet)","Samlede afgifter (kr./liter)","CO2-afgift (kr./liter)","Energiafgift (kr./liter)","CO2e udledninger (kg CO2/liter)"]
[2020,0,"-","-","-",null,null,null,null,null,0,"-","-","-"]
[2021,1,{"$f":"D42+E48","v":8.7367999999999988},{"$f":"IF('Benzin - diesel - hybrid'!#REF!=\"nej\",'Benzin - diesel - hybrid'!#REF!,\"\")","v":{"$error":"#REF!"}},{"$f":"SUM(F48:G48)","v":4.6599999999999993},0.39,4.2699999999999996,2.52,null,null,1,{"$f":"M42+N48","v":8.7367999999999988},{"$f":"IF('El og plugin hybrid'!#REF!=\"nej\",'El og plugin hybrid'!#REF!,\"\")","v":{"$error":"#REF!"}},{"$f":"SUM(O48:P48)","v":4.6599999999999993},0.39,4.2699999999999996,2.52]
[2022,2,{"$f":"((C48-E48)*(1+'Benzin - diesel - hybrid'!#REF!)+E48)","v":{"$error":"#REF!"}},{"$f":"((D48-E49)*(1+'Benzin - diesel - hybrid'!#REF!))+E49","v":{"$error":"#REF!"}},{"$f":"SUM(F49:G49)","v":4.6599999999999993},0.39,4.2699999999999996,2.52,null,null,2,{"$f":"((L48-N48)*(1+0.0139)+N48)","v":8.7934675200000001},{"$f":"((M48-N49)*(1+'El og plugin hybrid'!#REF!))+N49","v":{"$error":"#REF!"}},{"$f":"SUM(O49:P49)","v":4.6599999999999993},0.39,4.2699999999999996,2.52]
[2023,3,{"$f":"((C49-E49)*(1+'Benzin - diesel - hybrid'!#REF!)+E49)","v":{"$error":"#REF!"}},{"$f":"((D49-E50)*(1+'Benzin - diesel - hybrid'!#REF!))+E50","v":{"$error":"#REF!"}},4.6599999999999993,0.39,4.2699999999999996,2.52,null,null,3,{"$f":"((L49-N49)*(1+0.0139)+N49)","v":8.8509227185280004},{"$f":"((M49-N50)*(1+'El og plugin hybrid'!#REF!))+N50","v":{"$error":"#REF!"}},4.6599999999999993,0.39,4.2699999999999996,2.52]
[2024,4,{"$f":"((C50-E50)*(1+'Benzin - diesel - hybrid'!#REF!)+E50)","v":{"$error":"#REF!"}},{"$f":"((D50-E51)*(1+'Benzin - diesel - hybrid'!#REF!))+E51","v":{"$error":"#REF!"}},4.6599999999999993,0.39,4.2699999999999996,2.52,null,null,4,8.9091765443155388,{"$f":"((M50-N51)*(1+'El og plugin hybrid'!#REF!))+N51","v":{"$error":"#REF!"}},4.6599999999999993,0.39,4.2699999999999996,2.52]
[2025,5,{"$f":"((C51-E51)*(1+'Benzin - diesel - hybrid'!#REF!)+E51)","v":{"$error":"#REF!"}},{"$f":"((D51-E52)*(1+'Benzin - diesel - hybrid'!#REF!))+E52","v":{"$error":"#REF!"}},4.6599999999999993,0.39,4.2699999999999996,2.52,null,null,5,8.9682400982815249,{"$f":"((M51-N52)*(1+'El og plugin hybrid'!#REF!))+N52","v":{"$error":"#REF!"}},4.6599999999999993,0.39,4.2699999999999996,2.52]
[2026,6,{"$f":"((C52-E52)*(1+'Benzin - diesel - hybrid'!#REF!)+E52)","v":{"$error":"#REF!"}},{"$f":"((D52-E53)*(1+'Benzin - diesel - hybrid'!#REF!))+E53","v":{"$error":"#REF!"}},4.6599999999999993,0.39,4.2699999999999996,2.52,null,null,6,9.0281246356476395,{"$f":"((M52-N53)*(1+'El og plugin hybrid'!#REF!))+N53","v":{"$error":"#REF!"}},4.6599999999999993,0.39,4.2699999999999996,2.52]
[2027,7,{"$f":"((C53-E53)*(1+'Benzin - diesel - hybrid'!#REF!)+E53)","v":{"$error":"#REF!"}},{"$f":"((D53-E54)*(1+'Benzin - diesel - hybrid'!#REF!))+E54","v":{"$error":"#REF!"}},4.6599999999999993,0.39,4.2699999999999996,2.52,null,null,7,9.0888415680831418,{"$f":"((M53-N54)*(1+'El og plugin hybrid'!#REF!))+N54","v":{"$error":"#REF!"}},4.6599999999999993,0.39,4.2699999999999996,2.52]
[2028,8,{"$f":"((C54-E54)*(1+'Benzin - diesel - hybrid'!#REF!)+E54)","v":{"$error":"#REF!"}},{"$f":"((D54-E55)*(1+'Benzin - diesel - hybrid'!#REF!))+E55","v":{"$error":"#REF!"}},4.6599999999999993,0.39,4.2699999999999996,2.52,null,null,8,9.1504024658794982,{"$f":"((M54-N55)*(1+'El og plugin hybrid'!#REF!))+N55","v":{"$error":"#REF!"}},4.6599999999999993,0.39,4.2699999999999996,2.52]
[2029,9,{"$f":"((C55-E55)*(1+'Benzin - diesel - hybrid'!#REF!)+E55)","v":{"$error":"#REF!"}},{"$f":"((D55-E56)*(1+'Benzin - diesel - hybrid'!#REF!))+E56","v":{"$error":"#REF!"}},4.6599999999999993,0.39,4.2699999999999996,2.52,null,null,9,9.2128190601552227,{"$f":"((M55-N56)*(1+'El og plugin hybrid'!#REF!))+N56","v":{"$error":"#REF!"}},4.6599999999999993,0.39,4.2699999999999996,2.52]
[2030,10,{"$f":"((C56-E56)*(1+'Benzin - diesel - hybrid'!#REF!)+E56)","v":{"$error":"#REF!"}},{"$f":"((D56-E57)*(1+'Benzin - diesel - hybrid'!#REF!))+E57","v":{"$error":"#REF!"}},4.6599999999999993,0.39,4.2699999999999996,2.52,null,null,10,9.276103245091381,{"$f":"((M56-N57)*(1+'El og plugin hybrid'!#REF!))+N57","v":{"$error":"#REF!"}},4.6599999999999993,0.39,4.2699999999999996,2.52]
[2031,11,{"$f":"((C57-E57)*(1+'Benzin - diesel - hybrid'!#REF!)+E57)","v":{"$error":"#REF!"}},{"$f":"((D57-E58)*(1+'Benzin - diesel - hybrid'!#REF!))+E58","v":{"$error":"#REF!"}},4.6599999999999993,0.39,4.2699999999999996,2.52,null,null,11,9.3402670801981511,{"$f":"((M57-N58)*(1+'El og plugin hybrid'!#REF!))+N58","v":{"$error":"#REF!"}},4.6599999999999993,0.39,4.2699999999999996,2.52]
[2032,12,{"$f":"((C58-E58)*(1+'Benzin - diesel - hybrid'!#REF!)+E58)","v":{"$error":"#REF!"}},{"$f":"((D58-E59)*(1+'Benzin - diesel - hybrid'!#REF!))+E59","v":{"$error":"#REF!"}},4.6599999999999993,0.39,4.2699999999999996,2.52,null,null,12,9.4053227926129068,{"$f":"((M58-N59)*(1+'El og plugin hybrid'!#REF!))+N59","v":{"$error":"#REF!"}},4.6599999999999993,0.39,4.2699999999999996,2.52]
[2033,13,{"$f":"((C59-E59)*(1+'Benzin - diesel - hybrid'!#REF!)+E59)","v":{"$error":"#REF!"}},{"$f":"((D59-E60)*(1+'Benzin - diesel - hybrid'!#REF!))+E60","v":{"$error":"#REF!"}},4.6599999999999993,0.39,4.2699999999999996,2.52,null,null,13,9.4712827794302257,{"$f":"((M59-N60)*(1+'El og plugin hybrid'!#REF!))+N60","v":{"$error":"#REF!"}},4.6599999999999993,0.39,4.2699999999999996,2.52]
[2034,14,{"$f":"((C60-E60)*(1+'Benzin - diesel - hybrid'!#REF!)+E60)","v":{"$error":"#REF!"}},{"$f":"((D60-E61)*(1+'Benzin - diesel - hybrid'!#REF!))+E61","v":{"$error":"#REF!"}},4.6599999999999993,0.39,4.2699999999999996,2.52,null,null,14,9.5381596100643051,{"$f":"((M60-N61)*(1+'El og plugin hybrid'!#REF!))+N61","v":{"$error":"#REF!"}},4.6599999999999993,0.39,4.2699999999999996,2.52]
[2035,15,{"$f":"((C61-E61)*(1+'Benzin - diesel - hybrid'!#REF!)+E61)","v":{"$error":"#REF!"}},{"$f":"((D61-E62)*(1+'Benzin - diesel - hybrid'!#REF!))+E62","v":{"$error":"#REF!"}},4.6599999999999993,0.39,4.2699999999999996,2.52,null,null,15,9.6059660286442003,{"$f":"((M61-N62)*(1+'El og plugin hybrid'!#REF!))+N62","v":{"$error":"#REF!"}},4.6599999999999993,0.39,4.2699999999999996,2.52]
[2036,16,{"$f":"((C62-E62)*(1+'Benzin - diesel - hybrid'!#REF!)+E62)","v":{"$error":"#REF!"}},{"$f":"((D62-E63)*(1+'Benzin - diesel - hybrid'!#REF!))+E63","v":{"$error":"#REF!"}},4.6599999999999993,0.39,4.2699999999999996,2.52,null,null,16,9.6747149564423545,{"$f":"((M62-N63)*(1+'El og plugin hybrid'!#REF!))+N63","v":{"$error":"#REF!"}},4.6599999999999993,0.39,4.2699999999999996,2.52]
[2037,17,{"$f":"((C63-E63)*(1+'Benzin - diesel - hybrid'!#REF!)+E63)","v":{"$error":"#REF!"}},{"$f":"((D63-E64)*(1+'Benzin - diesel - hybrid'!#REF!))+E64","v":{"$error":"#REF!"}},4.6599999999999993,0.39,4.2699999999999996,2.52,null,null,17,9.7444194943369027,{"$f":"((M63-N64)*(1+'El og plugin hybrid'!#REF!))+N64","v":{"$error":"#REF!"}},4.6599999999999993,0.39,4.2699999999999996,2.52]
[2038,18,{"$f":"((C64-E64)*(1+'Benzin - diesel - hybrid'!#REF!)+E64)","v":{"$error":"#REF!"}},{"$f":"((D64-E65)*(1+'Benzin - diesel - hybrid'!#REF!))+E65","v":{"$error":"#REF!"}},4.6599999999999993,0.39,4.2699999999999996,2.52,null,null,18,9.8150929253081856,{"$f":"((M64-N65)*(1+'El og plugin hybrid'!#REF!))+N65","v":{"$error":"#REF!"}},4.6599999999999993,0.39,4.2699999999999996,2.52]
[2039,19,{"$f":"((C65-E65)*(1+'Benzin - diesel - hybrid'!#REF!)+E65)","v":{"$error":"#REF!"}},{"$f":"((D65-E66)*(1+'Benzin - diesel - hybrid'!#REF!))+E66","v":{"$error":"#REF!"}},4.6599999999999993,0.39,4.2699999999999996,2.52,null,null,19,9.8867487169699686,{"$f":"((M65-N66)*(1+'El og plugin hybrid'!#REF!))+N66","v":{"$error":"#REF!"}},4.6599999999999993,0.39,4.2699999999999996,2.52]
[2040,20,{"$f":"((C66-E66)*(1+'Benzin - diesel - hybrid'!#REF!)+E66)","v":{"$error":"#REF!"}},{"$f":"((D66-E67)*(1+'Benzin - diesel - hybrid'!#REF!))+E67","v":{"$error":"#REF!"}},4.6599999999999993,0.39,4.2699999999999996,2.52,null,null,20,9.9594005241358516,{"$f":"((M66-N67)*(1+'El og plugin hybrid'!#REF!))+N67","v":{"$error":"#REF!"}},4.6599999999999993,0.39,4.2699999999999996,2.52]
[2041,21,{"$f":"((C67-E67)*(1+'Benzin - diesel - hybrid'!#REF!)+E67)","v":{"$error":"#REF!"}},{"$f":"((D67-E68)*(1+'Benzin - diesel - hybrid'!#REF!))+E68","v":{"$error":"#REF!"}},4.6599999999999993,0.39,4.2699999999999996,2.52,null,null,21,10.03306219142134,{"$f":"((M67-N68)*(1+'El og plugin hybrid'!#REF!))+N68","v":{"$error":"#REF!"}},4.6599999999999993,0.39,4.2699999999999996,2.52]
[2042,22,{"$f":"((C68-E68)*(1+'Benzin - diesel - hybrid'!#REF!)+E68)","v":{"$error":"#REF!"}},{"$f":"((D68-E69)*(1+'Benzin - diesel - hybrid'!#REF!))+E69","v":{"$error":"#REF!"}},4.6599999999999993,0.39,4.2699999999999996,2.52,null,null,22,10.107747755882098,{"$f":"((M68-N69)*(1+'El og plugin hybrid'!#REF!))+N69","v":{"$error":"#REF!"}},4.6599999999999993,0.39,4.2699999999999996,2.52]
[2043,23,{"$f":"((C69-E69)*(1+'Benzin - diesel - hybrid'!#REF!)+E69)","v":{"$error":"#REF!"}},{"$f":"((D69-E70)*(1+'Benzin - diesel - hybrid'!#REF!))+E70","v":{"$error":"#REF!"}},4.6599999999999993,0.39,4.2699999999999996,2.52,null,null,23,10.183471449688859,{"$f":"((M69-N70)*(1+'El og plugin hybrid'!#REF!))+N70","v":{"$error":"#REF!"}},4.6599999999999993,0.39,4.2699999999999996,2.52]
[2044,24,{"$f":"((C70-E70)*(1+'Benzin - diesel - hybrid'!#REF!)+E70)","v":{"$error":"#REF!"}},{"$f":"((D70-E71)*(1+'Benzin - diesel - hybrid'!#REF!))+E71","v":{"$error":"#REF!"}},4.6599999999999993,0.39,4.2699999999999996,2.52,null,null,24,10.260247702839536,{"$f":"((M70-N71)*(1+'El og plugin hybrid'!#REF!))+N71","v":{"$error":"#REF!"}},4.6599999999999993,0.39,4.2699999999999996,2.52]
[2045,25,{"$f":"((C71-E71)*(1+'Benzin - diesel - hybrid'!#REF!)+E71)","v":{"$error":"#REF!"}},{"$f":"((D71-E72)*(1+'Benzin - diesel - hybrid'!#REF!))+E72","v":{"$error":"#REF!"}},4.6599999999999993,0.39,4.2699999999999996,2.52,null,null,25,10.338091145909004,{"$f":"((M71-N72)*(1+'El og plugin hybrid'!#REF!))+N72","v":{"$error":"#REF!"}},4.6599999999999993,0.39,4.2699999999999996,2.52]
[2046,26,{"$f":"((C72-E72)*(1+'Benzin - diesel - hybrid'!#REF!)+E72)","v":{"$error":"#REF!"}},{"$f":"((D72-E73)*(1+'Benzin - diesel - hybrid'!#REF!))+E73","v":{"$error":"#REF!"}},4.6599999999999993,0.39,4.2699999999999996,2.52,null,null,26,10.41701661283714,{"$f":"((M72-N73)*(1+'El og plugin hybrid'!#REF!))+N73","v":{"$error":"#REF!"}},4.6599999999999993,0.39,4.2699999999999996,2.52]
[2047,27,{"$f":"((C73-E73)*(1+'Benzin - diesel - hybrid'!#REF!)+E73)","v":{"$error":"#REF!"}},{"$f":"((D73-E74)*(1+'Benzin - diesel - hybrid'!#REF!))+E74","v":{"$error":"#REF!"}},4.6599999999999993,0.39,4.2699999999999996,2.52,null,null,27,10.497039143755575,{"$f":"((M73-N74)*(1+'El og plugin hybrid'!#REF!))+N74","v":{"$error":"#REF!"}},4.6599999999999993,0.39,4.2699999999999996,2.52]
[2048,28,{"$f":"((C74-E74)*(1+'Benzin - diesel - hybrid'!#REF!)+E74)","v":{"$error":"#REF!"}},{"$f":"((D74-E75)*(1+'Benzin - diesel - hybrid'!#REF!))+E75","v":{"$error":"#REF!"}},4.6599999999999993,0.39,4.2699999999999996,2.52,null,null,28,10.578173987853777,{"$f":"((M74-N75)*(1+'El og plugin hybrid'!#REF!))+N75","v":{"$error":"#REF!"}},4.6599999999999993,0.39,4.2699999999999996,2.52]
[2049,29,{"$f":"((C75-E75)*(1+'Benzin - diesel - hybrid'!#REF!)+E75)","v":{"$error":"#REF!"}},{"$f":"((D75-E76)*(1+'Benzin - diesel - hybrid'!#REF!))+E76","v":{"$error":"#REF!"}},4.6599999999999993,0.39,4.2699999999999996,2.52,null,null,29,10.660436606284945,{"$f":"((M75-N76)*(1+'El og plugin hybrid'!#REF!))+N76","v":{"$error":"#REF!"}},4.6599999999999993,0.39,4.2699999999999996,2.52]
[2050,30,{"$f":"((C76-E76)*(1+'Benzin - diesel - hybrid'!#REF!)+E76)","v":{"$error":"#REF!"}},{"$f":"((D76-E77)*(1+'Benzin - diesel - hybrid'!#REF!))+E77","v":{"$error":"#REF!"}},4.6599999999999993,0.39,4.2699999999999996,2.52,null,null,30,10.743842675112305,{"$f":"((M76-N77)*(1+'El og plugin hybrid'!#REF!))+N77","v":{"$error":"#REF!"}},4.6599999999999993,0.39,4.2699999999999996,2.52]
[]
[]
[null,null,"Kilder",null,null,null,null,null,null,null,null,"Kilder"]
[]
[null,null,"Benzin","https://www.drivkraftdanmark.dk/priser/benzin-95-oktan/",null,null,null,null,null,null,null,"Benzin","https://www.drivkraftdanmark.dk/priser/benzin-95-oktan/"]
[]
[]
[]
[null,null,"Tilpas den rå produktpris for diesel (standardværdi)",{"$f":"'ENS udvikling i brændstofspris'!F7","v":4.3883999999999999},null,null,null,null,null,null,null,"Tilpas den rå produktpris for diesel (standardværdi)",{"$f":"'ENS udvikling i brændstofspris'!F7","v":4.3883999999999999},"Kilde","https://www.drivkraftdanmark.dk/priser/diesel/"]
[]
[null,null,"Dieselpriser - baseret på data fra drivkraftdanmark.dk og fremskrevet på baggrund af Energistyrelsens 'Fremskrivning af brændselspriser og CO2-kvotepris' af 28. august 2019 ",null,null,null,null,null,null,null,null,"Dieselpriser - baseret på data fra drivkraftdanmark.dk og fremskrevet på baggrund af Energistyrelsens 'Fremskrivning af brændselspriser og CO2-kvotepris' af 28. august 2019 "]
[null,"Dieselpriser",null,null,null,null,null,"CO2e udledninger",null,null,"Dieselpriser",null,null,null,null,null,"CO2e udledninger"]
["Årstal","År","kr/liter (standardværdi)","kr/ liter(HVIS selvindtastet)","Samlede afgifter (kr./liter)","CO2-afgift (kr./liter)","Energiafgift (kr./liter)","CO2e udledninger (kg CO2/liter)",null,null,"År","kr/liter (standardværdi)","kr/ liter(HVIS selvindtastet)","Samlede afgifter (kr./liter)","CO2-afgift (kr./liter)","Energiafgift (kr./liter)","CO2e udledninger (kg CO2/liter)"]
[2020,0,"-","-","-",null,null,null,null,null,0,"-","-","-"]
[2021,1,{"$f":"D86+E92","v":7.6283999999999992},{"$f":"IF('Benzin - diesel - hybrid'!#REF!=\"nej\",'Benzin - diesel - hybrid'!#REF!,\"\")","v":{"$error":"#REF!"}},{"$f":"SUM(F92:G92)","v":3.2399999999999998},0.44,2.8,2.98,null,null,1,{"$f":"M86+N92","v":7.6283999999999992},{"$f":"IF('El og plugin hybrid'!#REF!=\"nej\",'El og plugin hybrid'!#REF!,\"\")","v":{"$error":"#REF!"}},{"$f":"SUM(O92:P92)","v":3.2399999999999998},0.44,2.8,2.98]
[2022,2,{"$f":"((C92-E92)*(1+'Benzin - diesel - hybrid'!#REF!)+E92)","v":{"$error":"#REF!"}},{"$f":"((D92-E93)*(1+'Benzin - diesel - hybrid'!#REF!))+Fremskrivninger!E93","v":{"$error":"#REF!"}},{"$f":"SUM(F93:G93)","v":3.2399999999999998},0.44,2.8,2.98,null,null,2,{"$f":"((L92-N92)*(1+0.0145)+N92)","v":7.6920317999999988},{"$f":"((M92-N93)*(1+'El og plugin hybrid'!#REF!))+N93","v":{"$error":"#REF!"}},{"$f":"SUM(O93:P93)","v":3.2399999999999998},0.44,2.8,2.98]
[2023,3,{"$f":"((C93-E93)*(1+'Benzin - diesel - hybrid'!#REF!)+E93)","v":{"$error":"#REF!"}},{"$f":"((D93-E94)*(1+'Benzin - diesel - hybrid'!#REF!))+Fremskrivninger!E94","v":{"$error":"#REF!"}},3.2399999999999998,0.44,2.8,2.98,null,null,3,{"$f":"((L93-N93)*(1+0.0145)+N93)","v":7.7565862610999989},{"$f":"((M93-N94)*(1+'El og plugin hybrid'!#REF!))+N94","v":{"$error":"#REF!"}},3.2399999999999998,0.44,2.8,2.98]
[2024,4,{"$f":"((C94-E94)*(1+'Benzin - diesel - hybrid'!#REF!)+E94)","v":{"$error":"#REF!"}},{"$f":"((D94-E95)*(1+'Benzin - diesel - hybrid'!#REF!))+Fremskrivninger!E95","v":{"$error":"#REF!"}},3.2399999999999998,0.44,2.8,2.98,null,null,4,7.822076761885949,{"$f":"((M94-N95)*(1+'El og plugin hybrid'!#REF!))+N95","v":{"$error":"#REF!"}},3.2399999999999998,0.44,2.8,2.98]
[2025,5,{"$f":"((C95-E95)*(1+'Benzin - diesel - hybrid'!#REF!)+E95)","v":{"$error":"#REF!"}},{"$f":"((D95-E96)*(1+'Benzin - diesel - hybrid'!#REF!))+Fremskrivninger!E96","v":{"$error":"#REF!"}},3.2399999999999998,0.44,2.8,2.98,null,null,5,7.8885168749332948,{"$f":"((M95-N96)*(1+'El og plugin hybrid'!#REF!))+N96","v":{"$error":"#REF!"}},3.2399999999999998,0.44,2.8,2.98]
[2026,6,{"$f":"((C96-E96)*(1+'Benzin - diesel - hybrid'!#REF!)+E96)","v":{"$error":"#REF!"}},{"$f":"((D96-E97)*(1+'Benzin - diesel - hybrid'!#REF!))+Fremskrivninger!E97","v":{"$error":"#REF!"}},3.2399999999999998,0.44,2.8,2.98,null,null,6,7.9559203696198271,{"$f":"((M96-N97)*(1+'El og plugin hybrid'!#REF!))+N97","v":{"$error":"#REF!"}},3.2399999999999998,0.44,2.8,2.98]
[2027,7,{"$f":"((C97-E97)*(1+'Benzin - diesel - hybrid'!#REF!)+E97)","v":{"$error":"#REF!"}},{"$f":"((D97-E98)*(1+'Benzin - diesel - hybrid'!#REF!))+Fremskrivninger!E98","v":{"$error":"#REF!"}},3.2399999999999998,0.44,2.8,2.98,null,null,7,8.0243012149793138,{"$f":"((M97-N98)*(1+'El og plugin hybrid'!#REF!))+N98","v":{"$error":"#REF!"}},3.2399999999999998,0.44,2.8,2.98]
[2028,8,{"$f":"((C98-E98)*(1+'Benzin - diesel - hybrid'!#REF!)+E98)","v":{"$error":"#REF!"}},{"$f":"((D98-E99)*(1+'Benzin - diesel - hybrid'!#REF!))+Fremskrivninger!E99","v":{"$error":"#REF!"}},3.2399999999999998,0.44,2.8,2.98,null,null,8,8.093673582596514,{"$f":"((M98-N99)*(1+'El og plugin hybrid'!#REF!))+N99","v":{"$error":"#REF!"}},3.2399999999999998,0.44,2.8,2.98]
[2029,9,{"$f":"((C99-E99)*(1+'Benzin - diesel - hybrid'!#REF!)+E99)","v":{"$error":"#REF!"}},{"$f":"((D99-E100)*(1+'Benzin - diesel - hybrid'!#REF!))+Fremskrivninger!E100","v":{"$error":"#REF!"}},3.2399999999999998,0.44,2.8,2.98,null,null,9,8.1640518495441636,{"$f":"((M99-N100)*(1+'El og plugin hybrid'!#REF!))+N100","v":{"$error":"#REF!"}},3.2399999999999998,0.44,2.8,2.98]
[2030,10,{"$f":"((C100-E100)*(1+'Benzin - diesel - hybrid'!#REF!)+E100)","v":{"$error":"#REF!"}},{"$f":"((D100-E101)*(1+'Benzin - diesel - hybrid'!#REF!))+Fremskrivninger!E101","v":{"$error":"#REF!"}},3.2399999999999998,0.44,2.8,2.98,null,null,10,8.2354506013625528,{"$f":"((M100-N101)*(1+'El og plugin hybrid'!#REF!))+N101","v":{"$error":"#REF!"}},3.2399999999999998,0.44,2.8,2.98]
[2031,11,{"$f":"((C101-E101)*(1+'Benzin - diesel - hybrid'!#REF!)+E101)","v":{"$error":"#REF!"}},{"$f":"((D101-E102)*(1+'Benzin - diesel - hybrid'!#REF!))+Fremskrivninger!E102","v":{"$error":"#REF!"}},3.2399999999999998,0.44,2.8,2.98,null,null,11,8.3078846350823099,{"$f":"((M101-N102)*(1+'El og plugin hybrid'!#REF!))+N102","v":{"$error":"#REF!"}},3.2399999999999998,0.44,2.8,2.98]
[2032,12,{"$f":"((C102-E102)*(1+'Benzin - diesel - hybrid'!#REF!)+E102)","v":{"$error":"#REF!"}},{"$f":"((D102-E103)*(1+'Benzin - diesel - hybrid'!#REF!))+Fremskrivninger!E103","v":{"$error":"#REF!"}},3.2399999999999998,0.44,2.8,2.98,null,null,12,8.3813689622910026,{"$f":"((M102-N103)*(1+'El og plugin hybrid'!#REF!))+N103","v":{"$error":"#REF!"}},3.2399999999999998,0.44,2.8,2.98]
[2033,13,{"$f":"((C103-E103)*(1+'Benzin - diesel - hybrid'!#REF!)+E103)","v":{"$error":"#REF!"}},{"$f":"((D103-E104)*(1+'Benzin - diesel - hybrid'!#REF!))+Fremskrivninger!E104","v":{"$error":"#REF!"}},3.2399999999999998,0.44,2.8,2.98,null,null,13,8.4559188122442208,{"$f":"((M103-N104)*(1+'El og plugin hybrid'!#REF!))+N104","v":{"$error":"#REF!"}},3.2399999999999998,0.44,2.8,2.98]
[2034,14,{"$f":"((C104-E104)*(1+'Benzin - diesel - hybrid'!#REF!)+E104)","v":{"$error":"#REF!"}},{"$f":"((D104-E105)*(1+'Benzin - diesel - hybrid'!#REF!))+Fremskrivninger!E105","v":{"$error":"#REF!"}},3.2399999999999998,0.44,2.8,2.98,null,null,14,8.5315496350217614,{"$f":"((M104-N105)*(1+'El og plugin hybrid'!#REF!))+N105","v":{"$error":"#REF!"}},3.2399999999999998,0.44,2.8,2.98]
[2035,15,{"$f":"((C105-E105)*(1+'Benzin - diesel - hybrid'!#REF!)+E105)","v":{"$error":"#REF!"}},{"$f":"((D105-E106)*(1+'Benzin - diesel - hybrid'!#REF!))+Fremskrivninger!E106","v":{"$error":"#REF!"}},3.2399999999999998,0.44,2.8,2.98,null,null,15,8.6082771047295772,{"$f":"((M105-N106)*(1+'El og plugin hybrid'!#REF!))+N106","v":{"$error":"#REF!"}},3.2399999999999998,0.44,2.8,2.98]
[2036,16,{"$f":"((C106-E106)*(1+'Benzin - diesel - hybrid'!#REF!)+E106)","v":{"$error":"#REF!"}},{"$f":"((D106-E107)*(1+'Benzin - diesel - hybrid'!#REF!))+Fremskrivninger!E107","v":{"$error":"#REF!"}},3.2399999999999998,0.44,2.8,2.98,null,null,16,8.6861171227481559,{"$f":"((M106-N107)*(1+'El og plugin hybrid'!#REF!))+N107","v":{"$error":"#REF!"}},3.2399999999999998,0.44,2.8,2.98]
[2037,17,{"$f":"((C107-E107)*(1+'Benzin - diesel - hybrid'!#REF!)+E107)","v":{"$error":"#REF!"}},{"$f":"((D107-E108)*(1+'Benzin - diesel - hybrid'!#REF!))+Fremskrivninger!E108","v":{"$error":"#REF!"}},3.2399999999999998,0.44,2.8,2.98,null,null,17,8.7650858210280038,{"$f":"((M107-N108)*(1+'El og plugin hybrid'!#REF!))+N108","v":{"$error":"#REF!"}},3.2399999999999998,0.44,2.8,2.98]
[2038,18,{"$f":"((C108-E108)*(1+'Benzin - diesel - hybrid'!#REF!)+E108)","v":{"$error":"#REF!"}},{"$f":"((D108-E109)*(1+'Benzin - diesel - hybrid'!#REF!))+Fremskrivninger!E109","v":{"$error":"#REF!"}},3.2399999999999998,0.44,2.8,2.98,null,null,18,8.8451995654329085,{"$f":"((M108-N109)*(1+'El og plugin hybrid'!#REF!))+N109","v":{"$error":"#REF!"}},3.2399999999999998,0.44,2.8,2.98]
[2039,19,{"$f":"((C109-E109)*(1+'Benzin - diesel - hybrid'!#REF!)+E109)","v":{"$error":"#REF!"}},{"$f":"((D109-E110)*(1+'Benzin - diesel - hybrid'!#REF!))+Fremskrivninger!E110","v":{"$error":"#REF!"}},3.2399999999999998,0.44,2.8,2.98,null,null,19,8.926474959131685,{"$f":"((M109-N110)*(1+'El og plugin hybrid'!#REF!))+N110","v":{"$error":"#REF!"}},3.2399999999999998,0.44,2.8,2.98]
[2040,20,{"$f":"((C110-E110)*(1+'Benzin - diesel - hybrid'!#REF!)+E110)","v":{"$error":"#REF!"}},{"$f":"((D110-E111)*(1+'Benzin - diesel - hybrid'!#REF!))+Fremskrivninger!E111","v":{"$error":"#REF!"}},3.2399999999999998,0.44,2.8,2.98,null,null,20,9.0089288460390939,{"$f":"((M110-N111)*(1+'El og plugin hybrid'!#REF!))+N111","v":{"$error":"#REF!"}},3.2399999999999998,0.44,2.8,2.98]
[2041,21,{"$f":"((C111-E111)*(1+'Benzin - diesel - hybrid'!#REF!)+E111)","v":{"$error":"#REF!"}},{"$f":"((D111-E112)*(1+'Benzin - diesel - hybrid'!#REF!))+Fremskrivninger!E112","v":{"$error":"#REF!"}},3.2399999999999998,0.44,2.8,2.98,null,null,21,9.0925783143066603,{"$f":"((M111-N112)*(1+'El og plugin hybrid'!#REF!))+N112","v":{"$error":"#REF!"}},3.2399999999999998,0.44,2.8,2.98]
[2042,22,{"$f":"((C112-E112)*(1+'Benzin - diesel - hybrid'!#REF!)+E112)","v":{"$error":"#REF!"}},{"$f":"((D112-E113)*(1+'Benzin - diesel - hybrid'!#REF!))+Fremskrivninger!E113","v":{"$error":"#REF!"}},3.2399999999999998,0.44,2.8,2.98,null,null,22,9.1774406998641069,{"$f":"((M112-N113)*(1+'El og plugin hybrid'!#REF!))+N113","v":{"$error":"#REF!"}},3.2399999999999998,0.44,2.8,2.98]
[2043,23,{"$f":"((C113-E113)*(1+'Benzin - diesel - hybrid'!#REF!)+E113)","v":{"$error":"#REF!"}},{"$f":"((D113-E114)*(1+'Benzin - diesel - hybrid'!#REF!))+Fremskrivninger!E114","v":{"$error":"#REF!"}},3.2399999999999998,0.44,2.8,2.98,null,null,23,9.2635335900121358,{"$f":"((M113-N114)*(1+'El og plugin hybrid'!#REF!))+N114","v":{"$error":"#REF!"}},3.2399999999999998,0.44,2.8,2.98]
[2044,24,{"$f":"((C114-E114)*(1+'Benzin - diesel - hybrid'!#REF!)+E114)","v":{"$error":"#REF!"}},{"$f":"((D114-E115)*(1+'Benzin - diesel - hybrid'!#REF!))+Fremskrivninger!E115","v":{"$error":"#REF!"}},3.2399999999999998,0.44,2.8,2.98,null,null,24,9.3508748270673117,{"$f":"((M114-N115)*(1+'El og plugin hybrid'!#REF!))+N115","v":{"$error":"#REF!"}},3.2399999999999998,0.44,2.8,2.98]
[2045,25,{"$f":"((C115-E115)*(1+'Benzin - diesel - hybrid'!#REF!)+E115)","v":{"$error":"#REF!"}},{"$f":"((D115-E116)*(1+'Benzin - diesel - hybrid'!#REF!))+Fremskrivninger!E116","v":{"$error":"#REF!"}},3.2399999999999998,0.44,2.8,2.98,null,null,25,9.4394825120597865,{"$f":"((M115-N116)*(1+'El og plugin hybrid'!#REF!))+N116","v":{"$error":"#REF!"}},3.2399999999999998,0.44,2.8,2.98]
[2046,26,{"$f":"((C116-E116)*(1+'Benzin - diesel - hybrid'!#REF!)+E116)","v":{"$error":"#REF!"}},{"$f":"((D116-E117)*(1+'Benzin - diesel - hybrid'!#REF!))+Fremskrivninger!E117","v":{"$error":"#REF!"}},3.2399999999999998,0.44,2.8,2.98,null,null,26,9.5293750084846529,{"$f":"((M116-N117)*(1+'El og plugin hybrid'!#REF!))+N117","v":{"$error":"#REF!"}},3.2399999999999998,0.44,2.8,2.98]
[2047,27,{"$f":"((C117-E117)*(1+'Benzin - diesel - hybrid'!#REF!)+E117)","v":{"$error":"#REF!"}},{"$f":"((D117-E118)*(1+'Benzin - diesel - hybrid'!#REF!))+Fremskrivninger!E118","v":{"$error":"#REF!"}},3.2399999999999998,0.44,2.8,2.98,null,null,27,9.62057094610768,{"$f":"((M117-N118)*(1+'El og plugin hybrid'!#REF!))+N118","v":{"$error":"#REF!"}},3.2399999999999998,0.44,2.8,2.98]
[2048,28,{"$f":"((C118-E118)*(1+'Benzin - diesel - hybrid'!#REF!)+E118)","v":{"$error":"#REF!"}},{"$f":"((D118-E119)*(1+'Benzin - diesel - hybrid'!#REF!))+Fremskrivninger!E119","v":{"$error":"#REF!"}},3.2399999999999998,0.44,2.8,2.98,null,null,28,9.7130892248262413,{"$f":"((M118-N119)*(1+'El og plugin hybrid'!#REF!))+N119","v":{"$error":"#REF!"}},3.2399999999999998,0.44,2.8,2.98]
[2049,29,{"$f":"((C119-E119)*(1+'Benzin - diesel - hybrid'!#REF!)+E119)","v":{"$error":"#REF!"}},{"$f":"((D119-E120)*(1+'Benzin - diesel - hybrid'!#REF!))+Fremskrivninger!E120","v":{"$error":"#REF!"}},3.2399999999999998,0.44,2.8,2.98,null,null,29,9.8069490185862218,{"$f":"((M119-N120)*(1+'El og plugin hybrid'!#REF!))+N120","v":{"$error":"#REF!"}},3.2399999999999998,0.44,2.8,2.98]
[2050,30,{"$f":"((C120-E120)*(1+'Benzin - diesel - hybrid'!#REF!)+E120)","v":{"$error":"#REF!"}},{"$f":"((D120-E121)*(1+'Benzin - diesel - hybrid'!#REF!))+Fremskrivninger!E121","v":{"$error":"#REF!"}},3.2399999999999998,0.44,2.8,2.98,null,null,30,9.902169779355722,{"$f":"((M120-N121)*(1+'El og plugin hybrid'!#REF!))+N121","v":{"$error":"#REF!"}},3.2399999999999998,0.44,2.8,2.98]
[]
[]
[null,null,"Kilder",null,null,null,null,null,null,null,null,"Kilder"]
[]
[null,null,"Diesel","https://www.drivkraftdanmark.dk/priser/diesel/",null,null,null,null,null,null,null,"Diesel","https://www.drivkraftdanmark.dk/priser/diesel/"]

{"sheet":"Fremskrivninger CO2e egne data","index":13,"n_rows":71,"n_cols":13,"rows_kept":71,"cut":false,"hidden":true,"merged":[]}
[null,"Benzin - Diesel - hybrid"]
[null,null,null,"CO2e baseret på indtastede værdier","Enhed = kg CO2e/år/køretøj"]
[null,"Årstal","År",{"$f":"'Benzin - diesel - hybrid'!$E$8","v":"PRODUKT 1"},{"$f":"'Benzin - diesel - hybrid'!$G$8","v":"PRODUKT 2"},{"$f":"'Benzin - diesel - hybrid'!$I$8","v":"PRODUKT 3"},{"$f":"'Benzin - diesel - hybrid'!$K$8","v":"PRODUKT 4"},{"$f":"'Benzin - diesel - hybrid'!$M$8","v":"PRODUKT 5"},{"$f":"'Benzin - diesel - hybrid'!$O$8","v":"PRODUKT 6"},{"$f":"'Benzin - diesel - hybrid'!$Q$8","v":"PRODUKT 7"},{"$f":"'Benzin - diesel - hybrid'!$S$8","v":"PRODUKT 8"},{"$f":"'Benzin - diesel - hybrid'!$U$8","v":"PRODUKT 9"},{"$f":"'Benzin - diesel - hybrid'!$W$8","v":"PRODUKT 10"}]
[null,2020,0,{"$f":"IF('Benzin - diesel - hybrid'!E$18=\"Ja\",'Benzin - diesel - hybrid'!E$19*'Benzin - diesel - hybrid'!E$14/1000,IF('Benzin - diesel - hybrid'!E$18=\"Nej\",'Benzin - diesel - hybrid'!E$20*'Benzin - diesel - hybrid'!E$14/1000,0))","v":0},{"$f":"IF('Benzin - diesel - hybrid'!G$18=\"Ja\",'Benzin - diesel - hybrid'!G$19*'Benzin - diesel - hybrid'!G$14/1000,IF('Benzin - diesel - hybrid'!G$18=\"Nej\",'Benzin - diesel - hybrid'!G$20*'Benzin - diesel - hybrid'!G$14/1000,0))","v":0},{"$f":"IF('Benzin - diesel - hybrid'!I$18=\"Ja\",'Benzin - diesel - hybrid'!I$19*'Benzin - diesel - hybrid'!I$14/1000,IF('Benzin - diesel - hybrid'!I$18=\"Nej\",'Benzin - diesel - hybrid'!I$20*'Benzin - diesel - hybrid'!I$14/1000,0))","v":0},{"$f":"IF('Benzin - diesel - hybrid'!K$18=\"Ja\",'Benzin - diesel - hybrid'!K$19*'Benzin - diesel - hybrid'!K$14/1000,IF('Benzin - diesel - hybrid'!K$18=\"Nej\",'Benzin - diesel - hybrid'!K$20*'Benzin - diesel - hybrid'!K$14/1000,0))","v":0},{"$f":"IF('Benzin - diesel - hybrid'!M$18=\"Ja\",'Benzin - diesel - hybrid'!M$19*'Benzin - diesel - hybrid'!M$14/1000,IF('Benzin - diesel - hybrid'!M$18=\"Nej\",'Benzin - diesel - hybrid'!M$20*'Benzin - diesel - hybrid'!M$14/1000,0))","v":0},{"$f":"IF('Benzin - diesel - hybrid'!O$18=\"Ja\",'Benzin - diesel - hybrid'!O$19*'Benzin - diesel - hybrid'!O$14/1000,IF('Benzin - diesel - hybrid'!O$18=\"Nej\",'Benzin - diesel - hybrid'!O$20*'Benzin - diesel - hybrid'!O$14/1000,0))","v":0},{"$f":"IF('Benzin - diesel - hybrid'!Q$18=\"Ja\",'Benzin - diesel - hybrid'!Q$19*'Benzin - diesel - hybrid'!Q$14/1000,IF('Benzin - diesel - hybrid'!Q$18=\"Nej\",'Benzin - diesel - hybrid'!Q$20*'Benzin - diesel - hybrid'!Q$14/1000,0))","v":0},{"$f":"IF('Benzin - diesel - hybrid'!S$18=\"Ja\",'Benzin - diesel - hybrid'!S$19*'Benzin - diesel - hybrid'!S$14/1000,IF('Benzin - diesel - hybrid'!S$18=\"Nej\",'Benzin - diesel - hybrid'!S$20*'Benzin - diesel - hybrid'!S$14/1000,0))","v":0},{"$f":"IF('Benzin - diesel - hybrid'!U$18=\"Ja\",'Benzin - diesel - hybrid'!U$19*'Benzin - diesel - hybrid'!U$14/1000,IF('Benzin - diesel - hybrid'!U$18=\"Nej\",'Benzin - diesel - hybrid'!U$20*'Benzin - diesel - hybrid'!U$14/1000,0))","v":0},{"$f":"IF('Benzin - diesel - hybrid'!W$18=\"Ja\",'Benzin - diesel - hybrid'!W$19*'Benzin - diesel - hybrid'!W$14/1000,IF('Benzin - diesel - hybrid'!W$18=\"Nej\",'Benzin - diesel - hybrid'!W$20*'Benzin - diesel - hybrid'!W$14/1000,0))","v":0}]
[null,2021,1,{"$f":"IF('Benzin - diesel - hybrid'!E$18=\"Ja\",'Benzin - diesel - hybrid'!E$19*'Benzin - diesel - hybrid'!E$14/1000,IF('Benzin - diesel - hybrid'!E$18=\"Nej\",'Benzin - diesel - hybrid'!E$20*'Benzin - diesel - hybrid'!E$14/1000,0))","v":0},{"$f":"IF('Benzin - diesel - hybrid'!G$18=\"Ja\",'Benzin - diesel - hybrid'!G$19*'Benzin - diesel - hybrid'!G$14/1000,IF('Benzin - diesel - hybrid'!G$18=\"Nej\",'Benzin - diesel - hybrid'!G$20*'Benzin - diesel - hybrid'!G$14/1000,0))","v":0},{"$f":"IF('Benzin - diesel - hybrid'!I$18=\"Ja\",'Benzin - diesel - hybrid'!I$19*'Benzin - diesel - hybrid'!I$14/1000,IF('Benzin - diesel - hybrid'!I$18=\"Nej\",'Benzin - diesel - hybrid'!I$20*'Benzin - diesel - hybrid'!I$14/1000,0))","v":0},{"$f":"IF('Benzin - diesel - hybrid'!K$18=\"Ja\",'Benzin - diesel - hybrid'!K$19*'Benzin - diesel - hybrid'!K$14/1000,IF('Benzin - diesel - hybrid'!K$18=\"Nej\",'Benzin - diesel - hybrid'!K$20*'Benzin - diesel - hybrid'!K$14/1000,0))","v":0},{"$f":"IF('Benzin - diesel - hybrid'!M$18=\"Ja\",'Benzin - diesel - hybrid'!M$19*'Benzin - diesel - hybrid'!M$14/1000,IF('Benzin - diesel - hybrid'!M$18=\"Nej\",'Benzin - diesel - hybrid'!M$20*'Benzin - diesel - hybrid'!M$14/1000,0))","v":0},{"$f":"IF('Benzin - diesel - hybrid'!O$18=\"Ja\",'Benzin - diesel - hybrid'!O$19*'Benzin - diesel - hybrid'!O$14/1000,IF('Benzin - diesel - hybrid'!O$18=\"Nej\",'Benzin - diesel - hybrid'!O$20*'Benzin - diesel - hybrid'!O$14/1000,0))","v":0},{"$f":"IF('Benzin - diesel - hybrid'!Q$18=\"Ja\",'Benzin - diesel - hybrid'!Q$19*'Benzin - diesel - hybrid'!Q$14/1000,IF('Benzin - diesel - hybrid'!Q$18=\"Nej\",'Benzin - diesel - hybrid'!Q$20*'Benzin - diesel - hybrid'!Q$14/1000,0))","v":0},{"$f":"IF('Benzin - diesel - hybrid'!S$18=\"Ja\",'Benzin - diesel - hybrid'!S$19*'Benzin - diesel - hybrid'!S$14/1000,IF('Benzin - diesel - hybrid'!S$18=\"Nej\",'Benzin - diesel - hybrid'!S$20*'Benzin - diesel - hybrid'!S$14/1000,0))","v":0},{"$f":"IF('Benzin - diesel - hybrid'!U$18=\"Ja\",'Benzin - diesel - hybrid'!U$19*'Benzin - diesel - hybrid'!U$14/1000,IF('Benzin - diesel - hybrid'!U$18=\"Nej\",'Benzin - diesel - hybrid'!U$20*'Benzin - diesel - hybrid'!U$14/1000,0))","v":0},{"$f":"IF('Benzin - diesel - hybrid'!W$18=\"Ja\",'Benzin - diesel - hybrid'!W$19*'Benzin - diesel - hybrid'!W$14/1000,IF('Benzin - diesel - hybrid'!W$18=\"Nej\",'Benzin - diesel - hybrid'!W$20*'Benzin - diesel - hybrid'!W$14/1000,0))","v":0}]
[null,2022,2,{"$f":"IF('Benzin - diesel - hybrid'!E$18=\"Ja\",'Benzin - diesel - hybrid'!E$19*'Benzin - diesel - hybrid'!E$14/1000,IF('Benzin - diesel - hybrid'!E$18=\"Nej\",'Benzin - diesel - hybrid'!E$20*'Benzin - diesel - hybrid'!E$14/1000,0))","v":0},{"$f":"IF('Benzin - diesel - hybrid'!G$18=\"Ja\",'Benzin - diesel - hybrid'!G$19*'Benzin - diesel - hybrid'!G$14/1000,IF('Benzin - diesel - hybrid'!G$18=\"Nej\",'Benzin - diesel - hybrid'!G$20*'Benzin - diesel - hybrid'!G$14/1000,0))","v":0},{"$f":"IF('Benzin - diesel - hybrid'!I$18=\"Ja\",'Benzin - diesel - hybrid'!I$19*'Benzin - diesel - hybrid'!I$14/1000,IF('Benzin - diesel - hybrid'!I$18=\"Nej\",'Benzin - diesel - hybrid'!I$20*'Benzin - diesel - hybrid'!I$14/1000,0))","v":0},{"$f":"IF('Benzin - diesel - hybrid'!K$18=\"Ja\",'Benzin - diesel - hybrid'!K$19*'Benzin - diesel - hybrid'!K$14/1000,IF('Benzin - diesel - hybrid'!K$18=\"Nej\",'Benzin - diesel - hybrid'!K$20*'Benzin - diesel - hybrid'!K$14/1000,0))","v":0},{"$f":"IF('Benzin - diesel - hybrid'!M$18=\"Ja\",'Benzin - diesel - hybrid'!M$19*'Benzin - diesel - hybrid'!M$14/1000,IF('Benzin - diesel - hybrid'!M$18=\"Nej\",'Benzin - diesel - hybrid'!M$20*'Benzin - diesel - hybrid'!M$14/1000,0))","v":0},{"$f":"IF('Benzin - diesel - hybrid'!O$18=\"Ja\",'Benzin - diesel - hybrid'!O$19*'Benzin - diesel - hybrid'!O$14/1000,IF('Benzin - diesel - hybrid'!O$18=\"Nej\",'Benzin - diesel - hybrid'!O$20*'Benzin - diesel - hybrid'!O$14/1000,0))","v":0},{"$f":"IF('Benzin - diesel - hybrid'!Q$18=\"Ja\",'Benzin - diesel - hybrid'!Q$19*'Benzin - diesel - hybrid'!Q$14/1000,IF('Benzin - diesel - hybrid'!Q$18=\"Nej\",'Benzin - diesel - hybrid'!Q$20*'Benzin - diesel - hybrid'!Q$14/1000,0))","v":0},{"$f":"IF('Benzin - diesel - hybrid'!S$18=\"Ja\",'Benzin - diesel - hybrid'!S$19*'Benzin - diesel - hybrid'!S$14/1000,IF('Benzin - diesel - hybrid'!S$18=\"Nej\",'Benzin - diesel - hybrid'!S$20*'Benzin - diesel - hybrid'!S$14/1000,0))","v":0},{"$f":"IF('Benzin - diesel - hybrid'!U$18=\"Ja\",'Benzin - diesel - hybrid'!U$19*'Benzin - diesel - hybrid'!U$14/1000,IF('Benzin - diesel - hybrid'!U$18=\"Nej\",'Benzin - diesel - hybrid'!U$20*'Benzin - diesel - hybrid'!U$14/1000,0))","v":0},{"$f":"IF('Benzin - diesel - hybrid'!W$18=\"Ja\",'Benzin - diesel - hybrid'!W$19*'Benzin - diesel - hybrid'!W$14/1000,IF('Benzin - diesel - hybrid'!W$18=\"Nej\",'Benzin - diesel - hybrid'!W$20*'Benzin - diesel - hybrid'!W$14/1000,0))","v":0}]
[null,2023,3,{"$f":"IF('Benzin - diesel - hybrid'!E$18=\"Ja\",'Benzin - diesel - hybrid'!E$19*'Benzin - diesel - hybrid'!E$14/1000,IF('Benzin - diesel - hybrid'!E$18=\"Nej\",'Benzin - diesel - hybrid'!E$20*'Benzin - diesel - hybrid'!E$14/1000,0))","v":0},{"$f":"IF('Benzin - diesel - hybrid'!G$18=\"Ja\",'Benzin - diesel - hybrid'!G$19*'Benzin - diesel - hybrid'!G$14/1000,IF('Benzin - diesel - hybrid'!G$18=\"Nej\",'Benzin - diesel - hybrid'!G$20*'Benzin - diesel - hybrid'!G$14/1000,0))","v":0},{"$f":"IF('Benzin - diesel - hybrid'!I$18=\"Ja\",'Benzin - diesel - hybrid'!I$19*'Benzin - diesel - hybrid'!I$14/1000,IF('Benzin - diesel - hybrid'!I$18=\"Nej\",'Benzin - diesel - hybrid'!I$20*'Benzin - diesel - hybrid'!I$14/1000,0))","v":0},{"$f":"IF('Benzin - diesel - hybrid'!K$18=\"Ja\",'Benzin - diesel - hybrid'!K$19*'Benzin - diesel - hybrid'!K$14/1000,IF('Benzin - diesel - hybrid'!K$18=\"Nej\",'Benzin - diesel - hybrid'!K$20*'Benzin - diesel - hybrid'!K$14/1000,0))","v":0},{"$f":"IF('Benzin - diesel - hybrid'!M$18=\"Ja\",'Benzin - diesel - hybrid'!M$19*'Benzin - diesel - hybrid'!M$14/1000,IF('Benzin - diesel - hybrid'!M$18=\"Nej\",'Benzin - diesel - hybrid'!M$20*'Benzin - diesel - hybrid'!M$14/1000,0))","v":0},{"$f":"IF('Benzin - diesel - hybrid'!O$18=\"Ja\",'Benzin - diesel - hybrid'!O$19*'Benzin - diesel - hybrid'!O$14/1000,IF('Benzin - diesel - hybrid'!O$18=\"Nej\",'Benzin - diesel - hybrid'!O$20*'Benzin - diesel - hybrid'!O$14/1000,0))","v":0},{"$f":"IF('Benzin - diesel - hybrid'!Q$18=\"Ja\",'Benzin - diesel - hybrid'!Q$19*'Benzin - diesel - hybrid'!Q$14/1000,IF('Benzin - diesel - hybrid'!Q$18=\"Nej\",'Benzin - diesel - hybrid'!Q$20*'Benzin - diesel - hybrid'!Q$14/1000,0))","v":0},{"$f":"IF('Benzin - diesel - hybrid'!S$18=\"Ja\",'Benzin - diesel - hybrid'!S$19*'Benzin - diesel - hybrid'!S$14/1000,IF('Benzin - diesel - hybrid'!S$18=\"Nej\",'Benzin - diesel - hybrid'!S$20*'Benzin - diesel - hybrid'!S$14/1000,0))","v":0},{"$f":"IF('Benzin - diesel - hybrid'!U$18=\"Ja\",'Benzin - diesel - hybrid'!U$19*'Benzin - diesel - hybrid'!U$14/1000,IF('Benzin - diesel - hybrid'!U$18=\"Nej\",'Benzin - diesel - hybrid'!U$20*'Benzin - diesel - hybrid'!U$14/1000,0))","v":0},{"$f":"IF('Benzin - diesel - hybrid'!W$18=\"Ja\",'Benzin - diesel - hybrid'!W$19*'Benzin - diesel - hybrid'!W$14/1000,IF('Benzin - diesel - hybrid'!W$18=\"Nej\",'Benzin - diesel - hybrid'!W$20*'Benzin - diesel - hybrid'!W$14/1000,0))","v":0}]
[null,2024,4,{"$f":"IF('Benzin - diesel - hybrid'!E$18=\"Ja\",'Benzin - diesel - hybrid'!E$19*'Benzin - diesel - hybrid'!E$14/1000,IF('Benzin - diesel - hybrid'!E$18=\"Nej\",'Benzin - diesel - hybrid'!E$20*'Benzin - diesel - hybrid'!E$14/1000,0))","v":0},{"$f":"IF('Benzin - diesel - hybrid'!G$18=\"Ja\",'Benzin - diesel - hybrid'!G$19*'Benzin - diesel - hybrid'!G$14/1000,IF('Benzin - diesel - hybrid'!G$18=\"Nej\",'Benzin - diesel - hybrid'!G$20*'Benzin - diesel - hybrid'!G$14/1000,0))","v":0},{"$f":"IF('Benzin - diesel - hybrid'!I$18=\"Ja\",'Benzin - diesel - hybrid'!I$19*'Benzin - diesel - hybrid'!I$14/1000,IF('Benzin - diesel - hybrid'!I$18=\"Nej\",'Benzin - diesel - hybrid'!I$20*'Benzin - diesel - hybrid'!I$14/1000,0))","v":0},{"$f":"IF('Benzin - diesel - hybrid'!K$18=\"Ja\",'Benzin - diesel - hybrid'!K$19*'Benzin - diesel - hybrid'!K$14/1000,IF('Benzin - diesel - hybrid'!K$18=\"Nej\",'Benzin - diesel - hybrid'!K$20*'Benzin - diesel - hybrid'!K$14/1000,0))","v":0},{"$f":"IF('Benzin - diesel - hybrid'!M$18=\"Ja\",'Benzin - diesel - hybrid'!M$19*'Benzin - diesel - hybrid'!M$14/1000,IF('Benzin - diesel - hybrid'!M$18=\"Nej\",'Benzin - diesel - hybrid'!M$20*'Benzin - diesel - hybrid'!M$14/1000,0))","v":0},{"$f":"IF('Benzin - diesel - hybrid'!O$18=\"Ja\",'Benzin - diesel - hybrid'!O$19*'Benzin - diesel - hybrid'!O$14/1000,IF('Benzin - diesel - hybrid'!O$18=\"Nej\",'Benzin - diesel - hybrid'!O$20*'Benzin - diesel - hybrid'!O$14/1000,0))","v":0},{"$f":"IF('Benzin - diesel - hybrid'!Q$18=\"Ja\",'Benzin - diesel - hybrid'!Q$19*'Benzin - diesel - hybrid'!Q$14/1000,IF('Benzin - diesel - hybrid'!Q$18=\"Nej\",'Benzin - diesel - hybrid'!Q$20*'Benzin - diesel - hybrid'!Q$14/1000,0))","v":0},{"$f":"IF('Benzin - diesel - hybrid'!S$18=\"Ja\",'Benzin - diesel - hybrid'!S$19*'Benzin - diesel - hybrid'!S$14/1000,IF('Benzin - diesel - hybrid'!S$18=\"Nej\",'Benzin - diesel - hybrid'!S$20*'Benzin - diesel - hybrid'!S$14/1000,0))","v":0},{"$f":"IF('Benzin - diesel - hybrid'!U$18=\"Ja\",'Benzin - diesel - hybrid'!U$19*'Benzin - diesel - hybrid'!U$14/1000,IF('Benzin - diesel - hybrid'!U$18=\"Nej\",'Benzin - diesel - hybrid'!U$20*'Benzin - diesel - hybrid'!U$14/1000,0))","v":0},{"$f":"IF('Benzin - diesel - hybrid'!W$18=\"Ja\",'Benzin - diesel - hybrid'!W$19*'Benzin - diesel - hybrid'!W$14/1000,IF('Benzin - diesel - hybrid'!W$18=\"Nej\",'Benzin - diesel - hybrid'!W$20*'Benzin - diesel - hybrid'!W$14/1000,0))","v":0}]
[null,2025,5,{"$f":"IF('Benzin - diesel - hybrid'!E$18=\"Ja\",'Benzin - diesel - hybrid'!E$19*'Benzin - diesel - hybrid'!E$14/1000,IF('Benzin - diesel - hybrid'!E$18=\"Nej\",'Benzin - diesel - hybrid'!E$20*'Benzin - diesel - hybrid'!E$14/1000,0))","v":0},{"$f":"IF('Benzin - diesel - hybrid'!G$18=\"Ja\",'Benzin - diesel - hybrid'!G$19*'Benzin - diesel - hybrid'!G$14/1000,IF('Benzin - diesel - hybrid'!G$18=\"Nej\",'Benzin - diesel - hybrid'!G$20*'Benzin - diesel - hybrid'!G$14/1000,0))","v":0},{"$f":"IF('Benzin - diesel - hybrid'!I$18=\"Ja\",'Benzin - diesel - hybrid'!I$19*'Benzin - diesel - hybrid'!I$14/1000,IF('Benzin - diesel - hybrid'!I$18=\"Nej\",'Benzin - diesel - hybrid'!I$20*'Benzin - diesel - hybrid'!I$14/1000,0))","v":0},{"$f":"IF('Benzin - diesel - hybrid'!K$18=\"Ja\",'Benzin - diesel - hybrid'!K$19*'Benzin - diesel - hybrid'!K$14/1000,IF('Benzin - diesel - hybrid'!K$18=\"Nej\",'Benzin - diesel - hybrid'!K$20*'Benzin - diesel - hybrid'!K$14/1000,0))","v":0},{"$f":"IF('Benzin - diesel - hybrid'!M$18=\"Ja\",'Benzin - diesel - hybrid'!M$19*'Benzin - diesel - hybrid'!M$14/1000,IF('Benzin - diesel - hybrid'!M$18=\"Nej\",'Benzin - diesel - hybrid'!M$20*'Benzin - diesel - hybrid'!M$14/1000,0))","v":0},{"$f":"IF('Benzin - diesel - hybrid'!O$18=\"Ja\",'Benzin - diesel - hybrid'!O$19*'Benzin - diesel - hybrid'!O$14/1000,IF('Benzin - diesel - hybrid'!O$18=\"Nej\",'Benzin - diesel - hybrid'!O$20*'Benzin - diesel - hybrid'!O$14/1000,0))","v":0},{"$f":"IF('Benzin - diesel - hybrid'!Q$18=\"Ja\",'Benzin - diesel - hybrid'!Q$19*'Benzin - diesel - hybrid'!Q$14/1000,IF('Benzin - diesel - hybrid'!Q$18=\"Nej\",'Benzin - diesel - hybrid'!Q$20*'Benzin - diesel - hybrid'!Q$14/1000,0))","v":0},{"$f":"IF('Benzin - diesel - hybrid'!S$18=\"Ja\",'Benzin - diesel - hybrid'!S$19*'Benzin - diesel - hybrid'!S$14/1000,IF('Benzin - diesel - hybrid'!S$18=\"Nej\",'Benzin - diesel - hybrid'!S$20*'Benzin - diesel - hybrid'!S$14/1000,0))","v":0},{"$f":"IF('Benzin - diesel - hybrid'!U$18=\"Ja\",'Benzin - diesel - hybrid'!U$19*'Benzin - diesel - hybrid'!U$14/1000,IF('Benzin - diesel - hybrid'!U$18=\"Nej\",'Benzin - diesel - hybrid'!U$20*'Benzin - diesel - hybrid'!U$14/1000,0))","v":0},{"$f":"IF('Benzin - diesel - hybrid'!W$18=\"Ja\",'Benzin - diesel - hybrid'!W$19*'Benzin - diesel - hybrid'!W$14/1000,IF('Benzin - diesel - hybrid'!W$18=\"Nej\",'Benzin - diesel - hybrid'!W$20*'Benzin - diesel - hybrid'!W$14/1000,0))","v":0}]
[null,2026,6,{"$f":"IF('Benzin - diesel - hybrid'!E$18=\"Ja\",'Benzin - diesel - hybrid'!E$19*'Benzin - diesel - hybrid'!E$14/1000,IF('Benzin - diesel - hybrid'!E$18=\"Nej\",'Benzin - diesel - hybrid'!E$20*'Benzin - diesel - hybrid'!E$14/1000,0))","v":0},{"$f":"IF('Benzin - diesel - hybrid'!G$18=\"Ja\",'Benzin - diesel - hybrid'!G$19*'Benzin - diesel - hybrid'!G$14/1000,IF('Benzin - diesel - hybrid'!G$18=\"Nej\",'Benzin - diesel - hybrid'!G$20*'Benzin - diesel - hybrid'!G$14/1000,0))","v":0},{"$f":"IF('Benzin - diesel - hybrid'!I$18=\"Ja\",'Benzin - diesel - hybrid'!I$19*'Benzin - diesel - hybrid'!I$14/1000,IF('Benzin - diesel - hybrid'!I$18=\"Nej\",'Benzin - diesel - hybrid'!I$20*'Benzin - diesel - hybrid'!I$14/1000,0))","v":0},{"$f":"IF('Benzin - diesel - hybrid'!K$18=\"Ja\",'Benzin - diesel - hybrid'!K$19*'Benzin - diesel - hybrid'!K$14/1000,IF('Benzin - diesel - hybrid'!K$18=\"Nej\",'Benzin - diesel - hybrid'!K$20*'Benzin - diesel - hybrid'!K$14/1000,0))","v":0},{"$f":"IF('Benzin - diesel - hybrid'!M$18=\"Ja\",'Benzin - diesel - hybrid'!M$19*'Benzin - diesel - hybrid'!M$14/1000,IF('Benzin - diesel - hybrid'!M$18=\"Nej\",'Benzin - diesel - hybrid'!M$20*'Benzin - diesel - hybrid'!M$14/1000,0))","v":0},{"$f":"IF('Benzin - diesel - hybrid'!O$18=\"Ja\",'Benzin - diesel - hybrid'!O$19*'Benzin - diesel - hybrid'!O$14/1000,IF('Benzin - diesel - hybrid'!O$18=\"Nej\",'Benzin - diesel - hybrid'!O$20*'Benzin - diesel - hybrid'!O$14/1000,0))","v":0},{"$f":"IF('Benzin - diesel - hybrid'!Q$18=\"Ja\",'Benzin - diesel - hybrid'!Q$19*'Benzin - diesel - hybrid'!Q$14/1000,IF('Benzin - diesel - hybrid'!Q$18=\"Nej\",'Benzin - diesel - hybrid'!Q$20*'Benzin - diesel - hybrid'!Q$14/1000,0))","v":0},{"$f":"IF('Benzin - diesel - hybrid'!S$18=\"Ja\",'Benzin - diesel - hybrid'!S$19*'Benzin - diesel - hybrid'!S$14/1000,IF('Benzin - diesel - hybrid'!S$18=\"Nej\",'Benzin - diesel - hybrid'!S$20*'Benzin - diesel - hybrid'!S$14/1000,0))","v":0},{"$f":"IF('Benzin - diesel - hybrid'!U$18=\"Ja\",'Benzin - diesel - hybrid'!U$19*'Benzin - diesel - hybrid'!U$14/1000,IF('Benzin - diesel - hybrid'!U$18=\"Nej\",'Benzin - diesel - hybrid'!U$20*'Benzin - diesel - hybrid'!U$14/1000,0))","v":0},{"$f":"IF('Benzin - diesel - hybrid'!W$18=\"Ja\",'Benzin - diesel - hybrid'!W$19*'Benzin - diesel - hybrid'!W$14/1000,IF('Benzin - diesel - hybrid'!W$18=\"Nej\",'Benzin - diesel - hybrid'!W$20*'Benzin - diesel - hybrid'!W$14/1000,0))","v":0}]
[null,2027,7,{"$f":"IF('Benzin - diesel - hybrid'!E$18=\"Ja\",'Benzin - diesel - hybrid'!E$19*'Benzin - diesel - hybrid'!E$14/1000,IF('Benzin - diesel - hybrid'!E$18=\"Nej\",'Benzin - diesel - hybrid'!E$20*'Benzin - diesel - hybrid'!E$14/1000,0))","v":0},{"$f":"IF('Benzin - diesel - hybrid'!G$18=\"Ja\",'Benzin - diesel - hybrid'!G$19*'Benzin - diesel - hybrid'!G$14/1000,IF('Benzin - diesel - hybrid'!G$18=\"Nej\",'Benzin - diesel - hybrid'!G$20*'Benzin - diesel - hybrid'!G$14/1000,0))","v":0},{"$f":"IF('Benzin - diesel - hybrid'!I$18=\"Ja\",'Benzin - diesel - hybrid'!I$19*'Benzin - diesel - hybrid'!I$14/1000,IF('Benzin - diesel - hybrid'!I$18=\"Nej\",'Benzin - diesel - hybrid'!I$20*'Benzin - diesel - hybrid'!I$14/1000,0))","v":0},{"$f":"IF('Benzin - diesel - hybrid'!K$18=\"Ja\",'Benzin - diesel - hybrid'!K$19*'Benzin - diesel - hybrid'!K$14/1000,IF('Benzin - diesel - hybrid'!K$18=\"Nej\",'Benzin - diesel - hybrid'!K$20*'Benzin - diesel - hybrid'!K$14/1000,0))","v":0},{"$f":"IF('Benzin - diesel - hybrid'!M$18=\"Ja\",'Benzin - diesel - hybrid'!M$19*'Benzin - diesel - hybrid'!M$14/1000,IF('Benzin - diesel - hybrid'!M$18=\"Nej\",'Benzin - diesel - hybrid'!M$20*'Benzin - diesel - hybrid'!M$14/1000,0))","v":0},{"$f":"IF('Benzin - diesel - hybrid'!O$18=\"Ja\",'Benzin - diesel - hybrid'!O$19*'Benzin - diesel - hybrid'!O$14/1000,IF('Benzin - diesel - hybrid'!O$18=\"Nej\",'Benzin - diesel - hybrid'!O$20*'Benzin - diesel - hybrid'!O$14/1000,0))","v":0},{"$f":"IF('Benzin - diesel - hybrid'!Q$18=\"Ja\",'Benzin - diesel - hybrid'!Q$19*'Benzin - diesel - hybrid'!Q$14/1000,IF('Benzin - diesel - hybrid'!Q$18=\"Nej\",'Benzin - diesel - hybrid'!Q$20*'Benzin - diesel - hybrid'!Q$14/1000,0))","v":0},{"$f":"IF('Benzin - diesel - hybrid'!S$18=\"Ja\",'Benzin - diesel - hybrid'!S$19*'Benzin - diesel - hybrid'!S$14/1000,IF('Benzin - diesel - hybrid'!S$18=\"Nej\",'Benzin - diesel - hybrid'!S$20*'Benzin - diesel - hybrid'!S$14/1000,0))","v":0},{"$f":"IF('Benzin - diesel - hybrid'!U$18=\"Ja\",'Benzin - diesel - hybrid'!U$19*'Benzin - diesel - hybrid'!U$14/1000,IF('Benzin - diesel - hybrid'!U$18=\"Nej\",'Benzin - diesel - hybrid'!U$20*'Benzin - diesel - hybrid'!U$14/1000,0))","v":0},{"$f":"IF('Benzin - diesel - hybrid'!W$18=\"Ja\",'Benzin - diesel - hybrid'!W$19*'Benzin - diesel - hybrid'!W$14/1000,IF('Benzin - diesel - hybrid'!W$18=\"Nej\",'Benzin - diesel - hybrid'!W$20*'Benzin - diesel - hybrid'!W$14/1000,0))","v":0}]
[null,2028,8,{"$f":"IF('Benzin - diesel - hybrid'!E$18=\"Ja\",'Benzin - diesel - hybrid'!E$19*'Benzin - diesel - hybrid'!E$14/1000,IF('Benzin - diesel - hybrid'!E$18=\"Nej\",'Benzin - diesel - hybrid'!E$20*'Benzin - diesel - hybrid'!E$14/1000,0))","v":0},{"$f":"IF('Benzin - diesel - hybrid'!G$18=\"Ja\",'Benzin - diesel - hybrid'!G$19*'Benzin - diesel - hybrid'!G$14/1000,IF('Benzin - diesel - hybrid'!G$18=\"Nej\",'Benzin - diesel - hybrid'!G$20*'Benzin - diesel - hybrid'!G$14/1000,0))","v":0},{"$f":"IF('Benzin - diesel - hybrid'!I$18=\"Ja\",'Benzin - diesel - hybrid'!I$19*'Benzin - diesel - hybrid'!I$14/1000,IF('Benzin - diesel - hybrid'!I$18=\"Nej\",'Benzin - diesel - hybrid'!I$20*'Benzin - diesel - hybrid'!I$14/1000,0))","v":0},{"$f":"IF('Benzin - diesel - hybrid'!K$18=\"Ja\",'Benzin - diesel - hybrid'!K$19*'Benzin - diesel - hybrid'!K$14/1000,IF('Benzin - diesel - hybrid'!K$18=\"Nej\",'Benzin - diesel - hybrid'!K$20*'Benzin - diesel - hybrid'!K$14/1000,0))","v":0},{"$f":"IF('Benzin - diesel - hybrid'!M$18=\"Ja\",'Benzin - diesel - hybrid'!M$19*'Benzin - diesel - hybrid'!M$14/1000,IF('Benzin - diesel - hybrid'!M$18=\"Nej\",'Benzin - diesel - hybrid'!M$20*'Benzin - diesel - hybrid'!M$14/1000,0))","v":0},{"$f":"IF('Benzin - diesel - hybrid'!O$18=\"Ja\",'Benzin - diesel - hybrid'!O$19*'Benzin - diesel - hybrid'!O$14/1000,IF('Benzin - diesel - hybrid'!O$18=\"Nej\",'Benzin - diesel - hybrid'!O$20*'Benzin - diesel - hybrid'!O$14/1000,0))","v":0},{"$f":"IF('Benzin - diesel - hybrid'!Q$18=\"Ja\",'Benzin - diesel - hybrid'!Q$19*'Benzin - diesel - hybrid'!Q$14/1000,IF('Benzin - diesel - hybrid'!Q$18=\"Nej\",'Benzin - diesel - hybrid'!Q$20*'Benzin - diesel - hybrid'!Q$14/1000,0))","v":0},{"$f":"IF('Benzin - diesel - hybrid'!S$18=\"Ja\",'Benzin - diesel - hybrid'!S$19*'Benzin - diesel - hybrid'!S$14/1000,IF('Benzin - diesel - hybrid'!S$18=\"Nej\",'Benzin - diesel - hybrid'!S$20*'Benzin - diesel - hybrid'!S$14/1000,0))","v":0},{"$f":"IF('Benzin - diesel - hybrid'!U$18=\"Ja\",'Benzin - diesel - hybrid'!U$19*'Benzin - diesel - hybrid'!U$14/1000,IF('Benzin - diesel - hybrid'!U$18=\"Nej\",'Benzin - diesel - hybrid'!U$20*'Benzin - diesel - hybrid'!U$14/1000,0))","v":0},{"$f":"IF('Benzin - diesel - hybrid'!W$18=\"Ja\",'Benzin - diesel - hybrid'!W$19*'Benzin - diesel - hybrid'!W$14/1000,IF('Benzin - diesel - hybrid'!W$18=\"Nej\",'Benzin - diesel - hybrid'!W$20*'Benzin - diesel - hybrid'!W$14/1000,0))","v":0}]
[null,2029,9,{"$f":"IF('Benzin - diesel - hybrid'!E$18=\"Ja\",'Benzin - diesel - hybrid'!E$19*'Benzin - diesel - hybrid'!E$14/1000,IF('Benzin - diesel - hybrid'!E$18=\"Nej\",'Benzin - diesel - hybrid'!E$20*'Benzin - diesel - hybrid'!E$14/1000,0))","v":0},{"$f":"IF('Benzin - diesel - hybrid'!G$18=\"Ja\",'Benzin - diesel - hybrid'!G$19*'Benzin - diesel - hybrid'!G$14/1000,IF('Benzin - diesel - hybrid'!G$18=\"Nej\",'Benzin - diesel - hybrid'!G$20*'Benzin - diesel - hybrid'!G$14/1000,0))","v":0},{"$f":"IF('Benzin - diesel - hybrid'!I$18=\"Ja\",'Benzin - diesel - hybrid'!I$19*'Benzin - diesel - hybrid'!I$14/1000,IF('Benzin - diesel - hybrid'!I$18=\"Nej\",'Benzin - diesel - hybrid'!I$20*'Benzin - diesel - hybrid'!I$14/1000,0))","v":0},{"$f":"IF('Benzin - diesel - hybrid'!K$18=\"Ja\",'Benzin - diesel - hybrid'!K$19*'Benzin - diesel - hybrid'!K$14/1000,IF('Benzin - diesel - hybrid'!K$18=\"Nej\",'Benzin - diesel - hybrid'!K$20*'Benzin - diesel - hybrid'!K$14/1000,0))","v":0},{"$f":"IF('Benzin - diesel - hybrid'!M$18=\"Ja\",'Benzin - diesel - hybrid'!M$19*'Benzin - diesel - hybrid'!M$14/1000,IF('Benzin - diesel - hybrid'!M$18=\"Nej\",'Benzin - diesel - hybrid'!M$20*'Benzin - diesel - hybrid'!M$14/1000,0))","v":0},{"$f":"IF('Benzin - diesel - hybrid'!O$18=\"Ja\",'Benzin - diesel - hybrid'!O$19*'Benzin - diesel - hybrid'!O$14/1000,IF('Benzin - diesel - hybrid'!O$18=\"Nej\",'Benzin - diesel - hybrid'!O$20*'Benzin - diesel - hybrid'!O$14/1000,0))","v":0},{"$f":"IF('Benzin - diesel - hybrid'!Q$18=\"Ja\",'Benzin - diesel - hybrid'!Q$19*'Benzin - diesel - hybrid'!Q$14/1000,IF('Benzin - diesel - hybrid'!Q$18=\"Nej\",'Benzin - diesel - hybrid'!Q$20*'Benzin - diesel - hybrid'!Q$14/1000,0))","v":0},{"$f":"IF('Benzin - diesel - hybrid'!S$18=\"Ja\",'Benzin - diesel - hybrid'!S$19*'Benzin - diesel - hybrid'!S$14/1000,IF('Benzin - diesel - hybrid'!S$18=\"Nej\",'Benzin - diesel - hybrid'!S$20*'Benzin - diesel - hybrid'!S$14/1000,0))","v":0},{"$f":"IF('Benzin - diesel - hybrid'!U$18=\"Ja\",'Benzin - diesel - hybrid'!U$19*'Benzin - diesel - hybrid'!U$14/1000,IF('Benzin - diesel - hybrid'!U$18=\"Nej\",'Benzin - diesel - hybrid'!U$20*'Benzin - diesel - hybrid'!U$14/1000,0))","v":0},{"$f":"IF('Benzin - diesel - hybrid'!W$18=\"Ja\",'Benzin - diesel - hybrid'!W$19*'Benzin - diesel - hybrid'!W$14/1000,IF('Benzin - diesel - hybrid'!W$18=\"Nej\",'Benzin - diesel - hybrid'!W$20*'Benzin - diesel - hybrid'!W$14/1000,0))","v":0}]
[null,2030,10,{"$f":"IF('Benzin - diesel - hybrid'!E$18=\"Ja\",'Benzin - diesel - hybrid'!E$19*'Benzin - diesel - hybrid'!E$14/1000,IF('Benzin - diesel - hybrid'!E$18=\"Nej\",'Benzin - diesel - hybrid'!E$20*'Benzin - diesel - hybrid'!E$14/1000,0))","v":0},{"$f":"IF('Benzin - diesel - hybrid'!G$18=\"Ja\",'Benzin - diesel - hybrid'!G$19*'Benzin - diesel - hybrid'!G$14/1000,IF('Benzin - diesel - hybrid'!G$18=\"Nej\",'Benzin - diesel - hybrid'!G$20*'Benzin - diesel - hybrid'!G$14/1000,0))","v":0},{"$f":"IF('Benzin - diesel - hybrid'!I$18=\"Ja\",'Benzin - diesel - hybrid'!I$19*'Benzin - diesel - hybrid'!I$14/1000,IF('Benzin - diesel - hybrid'!I$18=\"Nej\",'Benzin - diesel - hybrid'!I$20*'Benzin - diesel - hybrid'!I$14/1000,0))","v":0},{"$f":"IF('Benzin - diesel - hybrid'!K$18=\"Ja\",'Benzin - diesel - hybrid'!K$19*'Benzin - diesel - hybrid'!K$14/1000,IF('Benzin - diesel - hybrid'!K$18=\"Nej\",'Benzin - diesel - hybrid'!K$20*'Benzin - diesel - hybrid'!K$14/1000,0))","v":0},{"$f":"IF('Benzin - diesel - hybrid'!M$18=\"Ja\",'Benzin - diesel - hybrid'!M$19*'Benzin - diesel - hybrid'!M$14/1000,IF('Benzin - diesel - hybrid'!M$18=\"Nej\",'Benzin - diesel - hybrid'!M$20*'Benzin - diesel - hybrid'!M$14/1000,0))","v":0},{"$f":"IF('Benzin - diesel - hybrid'!O$18=\"Ja\",'Benzin - diesel - hybrid'!O$19*'Benzin - diesel - hybrid'!O$14/1000,IF('Benzin - diesel - hybrid'!O$18=\"Nej\",'Benzin - diesel - hybrid'!O$20*'Benzin - diesel - hybrid'!O$14/1000,0))","v":0},{"$f":"IF('Benzin - diesel - hybrid'!Q$18=\"Ja\",'Benzin - diesel - hybrid'!Q$19*'Benzin - diesel - hybrid'!Q$14/1000,IF('Benzin - diesel - hybrid'!Q$18=\"Nej\",'Benzin - diesel - hybrid'!Q$20*'Benzin - diesel - hybrid'!Q$14/1000,0))","v":0},{"$f":"IF('Benzin - diesel - hybrid'!S$18=\"Ja\",'Benzin - diesel - hybrid'!S$19*'Benzin - diesel - hybrid'!S$14/1000,IF('Benzin - diesel - hybrid'!S$18=\"Nej\",'Benzin - diesel - hybrid'!S$20*'Benzin - diesel - hybrid'!S$14/1000,0))","v":0},{"$f":"IF('Benzin - diesel - hybrid'!U$18=\"Ja\",'Benzin - diesel - hybrid'!U$19*'Benzin - diesel - hybrid'!U$14/1000,IF('Benzin - diesel - hybrid'!U$18=\"Nej\",'Benzin - diesel - hybrid'!U$20*'Benzin - diesel - hybrid'!U$14/1000,0))","v":0},{"$f":"IF('Benzin - diesel - hybrid'!W$18=\"Ja\",'Benzin - diesel - hybrid'!W$19*'Benzin - diesel - hybrid'!W$14/1000,IF('Benzin - diesel - hybrid'!W$18=\"Nej\",'Benzin - diesel - hybrid'!W$20*'Benzin - diesel - hybrid'!W$14/1000,0))","v":0}]
[null,2031,11,{"$f":"IF('Benzin - diesel - hybrid'!E$18=\"Ja\",'Benzin - diesel - hybrid'!E$19*'Benzin - diesel - hybrid'!E$14/1000,IF('Benzin - diesel - hybrid'!E$18=\"Nej\",'Benzin - diesel - hybrid'!E$20*'Benzin - diesel - hybrid'!E$14/1000,0))","v":0},{"$f":"IF('Benzin - diesel - hybrid'!G$18=\"Ja\",'Benzin - diesel - hybrid'!G$19*'Benzin - diesel - hybrid'!G$14/1000,IF('Benzin - diesel - hybrid'!G$18=\"Nej\",'Benzin - diesel - hybrid'!G$20*'Benzin - diesel - hybrid'!G$14/1000,0))","v":0},{"$f":"IF('Benzin - diesel - hybrid'!I$18=\"Ja\",'Benzin - diesel - hybrid'!I$19*'Benzin - diesel - hybrid'!I$14/1000,IF('Benzin - diesel - hybrid'!I$18=\"Nej\",'Benzin - diesel - hybrid'!I$20*'Benzin - diesel - hybrid'!I$14/1000,0))","v":0},{"$f":"IF('Benzin - diesel - hybrid'!K$18=\"Ja\",'Benzin - diesel - hybrid'!K$19*'Benzin - diesel - hybrid'!K$14/1000,IF('Benzin - diesel - hybrid'!K$18=\"Nej\",'Benzin - diesel - hybrid'!K$20*'Benzin - diesel - hybrid'!K$14/1000,0))","v":0},{"$f":"IF('Benzin - diesel - hybrid'!M$18=\"Ja\",'Benzin - diesel - hybrid'!M$19*'Benzin - diesel - hybrid'!M$14/1000,IF('Benzin - diesel - hybrid'!M$18=\"Nej\",'Benzin - diesel - hybrid'!M$20*'Benzin - diesel - hybrid'!M$14/1000,0))","v":0},{"$f":"IF('Benzin - diesel - hybrid'!O$18=\"Ja\",'Benzin - diesel - hybrid'!O$19*'Benzin - diesel - hybrid'!O$14/1000,IF('Benzin - diesel - hybrid'!O$18=\"Nej\",'Benzin - diesel - hybrid'!O$20*'Benzin - diesel - hybrid'!O$14/1000,0))","v":0},{"$f":"IF('Benzin - diesel - hybrid'!Q$18=\"Ja\",'Benzin - diesel - hybrid'!Q$19*'Benzin - diesel - hybrid'!Q$14/1000,IF('Benzin - diesel - hybrid'!Q$18=\"Nej\",'Benzin - diesel - hybrid'!Q$20*'Benzin - diesel - hybrid'!Q$14/1000,0))","v":0},{"$f":"IF('Benzin - diesel - hybrid'!S$18=\"Ja\",'Benzin - diesel - hybrid'!S$19*'Benzin - diesel - hybrid'!S$14/1000,IF('Benzin - diesel - hybrid'!S$18=\"Nej\",'Benzin - diesel - hybrid'!S$20*'Benzin - diesel - hybrid'!S$14/1000,0))","v":0},{"$f":"IF('Benzin - diesel - hybrid'!U$18=\"Ja\",'Benzin - diesel - hybrid'!U$19*'Benzin - diesel - hybrid'!U$14/1000,IF('Benzin - diesel - hybrid'!U$18=\"Nej\",'Benzin - diesel - hybrid'!U$20*'Benzin - diesel - hybrid'!U$14/1000,0))","v":0},{"$f":"IF('Benzin - diesel - hybrid'!W$18=\"Ja\",'Benzin - diesel - hybrid'!W$19*'Benzin - diesel - hybrid'!W$14/1000,IF('Benzin - diesel - hybrid'!W$18=\"Nej\",'Benzin - diesel - hybrid'!W$20*'Benzin - diesel - hybrid'!W$14/1000,0))","v":0}]
[null,2032,12,{"$f":"IF('Benzin - diesel - hybrid'!E$18=\"Ja\",'Benzin - diesel - hybrid'!E$19*'Benzin - diesel - hybrid'!E$14/1000,IF('Benzin - diesel - hybrid'!E$18=\"Nej\",'Benzin - diesel - hybrid'!E$20*'Benzin - diesel - hybrid'!E$14/1000,0))","v":0},{"$f":"IF('Benzin - diesel - hybrid'!G$18=\"Ja\",'Benzin - diesel - hybrid'!G$19*'Benzin - diesel - hybrid'!G$14/1000,IF('Benzin - diesel - hybrid'!G$18=\"Nej\",'Benzin - diesel - hybrid'!G$20*'Benzin - diesel - hybrid'!G$14/1000,0))","v":0},{"$f":"IF('Benzin - diesel - hybrid'!I$18=\"Ja\",'Benzin - diesel - hybrid'!I$19*'Benzin - diesel - hybrid'!I$14/1000,IF('Benzin - diesel - hybrid'!I$18=\"Nej\",'Benzin - diesel - hybrid'!I$20*'Benzin - diesel - hybrid'!I$14/1000,0))","v":0},{"$f":"IF('Benzin - diesel - hybrid'!K$18=\"Ja\",'Benzin - diesel - hybrid'!K$19*'Benzin - diesel - hybrid'!K$14/1000,IF('Benzin - diesel - hybrid'!K$18=\"Nej\",'Benzin - diesel - hybrid'!K$20*'Benzin - diesel - hybrid'!K$14/1000,0))","v":0},{"$f":"IF('Benzin - diesel - hybrid'!M$18=\"Ja\",'Benzin - diesel - hybrid'!M$19*'Benzin - diesel - hybrid'!M$14/1000,IF('Benzin - diesel - hybrid'!M$18=\"Nej\",'Benzin - diesel - hybrid'!M$20*'Benzin - diesel - hybrid'!M$14/1000,0))","v":0},{"$f":"IF('Benzin - diesel - hybrid'!O$18=\"Ja\",'Benzin - diesel - hybrid'!O$19*'Benzin - diesel - hybrid'!O$14/1000,IF('Benzin - diesel - hybrid'!O$18=\"Nej\",'Benzin - diesel - hybrid'!O$20*'Benzin - diesel - hybrid'!O$14/1000,0))","v":0},{"$f":"IF('Benzin - diesel - hybrid'!Q$18=\"Ja\",'Benzin - diesel - hybrid'!Q$19*'Benzin - diesel - hybrid'!Q$14/1000,IF('Benzin - diesel - hybrid'!Q$18=\"Nej\",'Benzin - diesel - hybrid'!Q$20*'Benzin - diesel - hybrid'!Q$14/1000,0))","v":0},{"$f":"IF('Benzin - diesel - hybrid'!S$18=\"Ja\",'Benzin - diesel - hybrid'!S$19*'Benzin - diesel - hybrid'!S$14/1000,IF('Benzin - diesel - hybrid'!S$18=\"Nej\",'Benzin - diesel - hybrid'!S$20*'Benzin - diesel - hybrid'!S$14/1000,0))","v":0},{"$f":"IF('Benzin - diesel - hybrid'!U$18=\"Ja\",'Benzin - diesel - hybrid'!U$19*'Benzin - diesel - hybrid'!U$14/1000,IF('Benzin - diesel - hybrid'!U$18=\"Nej\",'Benzin - diesel - hybrid'!U$20*'Benzin - diesel - hybrid'!U$14/1000,0))","v":0},{"$f":"IF('Benzin - diesel - hybrid'!W$18=\"Ja\",'Benzin - diesel - hybrid'!W$19*'Benzin - diesel - hybrid'!W$14/1000,IF('Benzin - diesel - hybrid'!W$18=\"Nej\",'Benzin - diesel - hybrid'!W$20*'Benzin - diesel - hybrid'!W$14/1000,0))","v":0}]
[null,2033,13,{"$f":"IF('Benzin - diesel - hybrid'!E$18=\"Ja\",'Benzin - diesel - hybrid'!E$19*'Benzin - diesel - hybrid'!E$14/1000,IF('Benzin - diesel - hybrid'!E$18=\"Nej\",'Benzin - diesel - hybrid'!E$20*'Benzin - diesel - hybrid'!E$14/1000,0))","v":0},{"$f":"IF('Benzin - diesel - hybrid'!G$18=\"Ja\",'Benzin - diesel - hybrid'!G$19*'Benzin - diesel - hybrid'!G$14/1000,IF('Benzin - diesel - hybrid'!G$18=\"Nej\",'Benzin - diesel - hybrid'!G$20*'Benzin - diesel - hybrid'!G$14/1000,0))","v":0},{"$f":"IF('Benzin - diesel - hybrid'!I$18=\"Ja\",'Benzin - diesel - hybrid'!I$19*'Benzin - diesel - hybrid'!I$14/1000,IF('Benzin - diesel - hybrid'!I$18=\"Nej\",'Benzin - diesel - hybrid'!I$20*'Benzin - diesel - hybrid'!I$14/1000,0))","v":0},{"$f":"IF('Benzin - diesel - hybrid'!K$18=\"Ja\",'Benzin - diesel - hybrid'!K$19*'Benzin - diesel - hybrid'!K$14/1000,IF('Benzin - diesel - hybrid'!K$18=\"Nej\",'Benzin - diesel - hybrid'!K$20*'Benzin - diesel - hybrid'!K$14/1000,0))","v":0},{"$f":"IF('Benzin - diesel - hybrid'!M$18=\"Ja\",'Benzin - diesel - hybrid'!M$19*'Benzin - diesel - hybrid'!M$14/1000,IF('Benzin - diesel - hybrid'!M$18=\"Nej\",'Benzin - diesel - hybrid'!M$20*'Benzin - diesel - hybrid'!M$14/1000,0))","v":0},{"$f":"IF('Benzin - diesel - hybrid'!O$18=\"Ja\",'Benzin - diesel - hybrid'!O$19*'Benzin - diesel - hybrid'!O$14/1000,IF('Benzin - diesel - hybrid'!O$18=\"Nej\",'Benzin - diesel - hybrid'!O$20*'Benzin - diesel - hybrid'!O$14/1000,0))","v":0},{"$f":"IF('Benzin - diesel - hybrid'!Q$18=\"Ja\",'Benzin - diesel - hybrid'!Q$19*'Benzin - diesel - hybrid'!Q$14/1000,IF('Benzin - diesel - hybrid'!Q$18=\"Nej\",'Benzin - diesel - hybrid'!Q$20*'Benzin - diesel - hybrid'!Q$14/1000,0))","v":0},{"$f":"IF('Benzin - diesel - hybrid'!S$18=\"Ja\",'Benzin - diesel - hybrid'!S$19*'Benzin - diesel - hybrid'!S$14/1000,IF('Benzin - diesel - hybrid'!S$18=\"Nej\",'Benzin - diesel - hybrid'!S$20*'Benzin - diesel - hybrid'!S$14/1000,0))","v":0},{"$f":"IF('Benzin - diesel - hybrid'!U$18=\"Ja\",'Benzin - diesel - hybrid'!U$19*'Benzin - diesel - hybrid'!U$14/1000,IF('Benzin - diesel - hybrid'!U$18=\"Nej\",'Benzin - diesel - hybrid'!U$20*'Benzin - diesel - hybrid'!U$14/1000,0))","v":0},{"$f":"IF('Benzin - diesel - hybrid'!W$18=\"Ja\",'Benzin - diesel - hybrid'!W$19*'Benzin - diesel - hybrid'!W$14/1000,IF('Benzin - diesel - hybrid'!W$18=\"Nej\",'Benzin - diesel - hybrid'!W$20*'Benzin - diesel - hybrid'!W$14/1000,0))","v":0}]
[null,2034,14,{"$f":"IF('Benzin - diesel - hybrid'!E$18=\"Ja\",'Benzin - diesel - hybrid'!E$19*'Benzin - diesel - hybrid'!E$14/1000,IF('Benzin - diesel - hybrid'!E$18=\"Nej\",'Benzin - diesel - hybrid'!E$20*'Benzin - diesel - hybrid'!E$14/1000,0))","v":0},{"$f":"IF('Benzin - diesel - hybrid'!G$18=\"Ja\",'Benzin - diesel - hybrid'!G$19*'Benzin - diesel - hybrid'!G$14/1000,IF('Benzin - diesel - hybrid'!G$18=\"Nej\",'Benzin - diesel - hybrid'!G$20*'Benzin - diesel - hybrid'!G$14/1000,0))","v":0},{"$f":"IF('Benzin - diesel - hybrid'!I$18=\"Ja\",'Benzin - diesel - hybrid'!I$19*'Benzin - diesel - hybrid'!I$14/1000,IF('Benzin - diesel - hybrid'!I$18=\"Nej\",'Benzin - diesel - hybrid'!I$20*'Benzin - diesel - hybrid'!I$14/1000,0))","v":0},{"$f":"IF('Benzin - diesel - hybrid'!K$18=\"Ja\",'Benzin - diesel - hybrid'!K$19*'Benzin - diesel - hybrid'!K$14/1000,IF('Benzin - diesel - hybrid'!K$18=\"Nej\",'Benzin - diesel - hybrid'!K$20*'Benzin - diesel - hybrid'!K$14/1000,0))","v":0},{"$f":"IF('Benzin - diesel - hybrid'!M$18=\"Ja\",'Benzin - diesel - hybrid'!M$19*'Benzin - diesel - hybrid'!M$14/1000,IF('Benzin - diesel - hybrid'!M$18=\"Nej\",'Benzin - diesel - hybrid'!M$20*'Benzin - diesel - hybrid'!M$14/1000,0))","v":0},{"$f":"IF('Benzin - diesel - hybrid'!O$18=\"Ja\",'Benzin - diesel - hybrid'!O$19*'Benzin - diesel - hybrid'!O$14/1000,IF('Benzin - diesel - hybrid'!O$18=\"Nej\",'Benzin - diesel - hybrid'!O$20*'Benzin - diesel - hybrid'!O$14/1000,0))","v":0},{"$f":"IF('Benzin - diesel - hybrid'!Q$18=\"Ja\",'Benzin - diesel - hybrid'!Q$19*'Benzin - diesel - hybrid'!Q$14/1000,IF('Benzin - diesel - hybrid'!Q$18=\"Nej\",'Benzin - diesel - hybrid'!Q$20*'Benzin - diesel - hybrid'!Q$14/1000,0))","v":0},{"$f":"IF('Benzin - diesel - hybrid'!S$18=\"Ja\",'Benzin - diesel - hybrid'!S$19*'Benzin - diesel - hybrid'!S$14/1000,IF('Benzin - diesel - hybrid'!S$18=\"Nej\",'Benzin - diesel - hybrid'!S$20*'Benzin - diesel - hybrid'!S$14/1000,0))","v":0},{"$f":"IF('Benzin - diesel - hybrid'!U$18=\"Ja\",'Benzin - diesel - hybrid'!U$19*'Benzin - diesel - hybrid'!U$14/1000,IF('Benzin - diesel - hybrid'!U$18=\"Nej\",'Benzin - diesel - hybrid'!U$20*'Benzin - diesel - hybrid'!U$14/1000,0))","v":0},{"$f":"IF('Benzin - diesel - hybrid'!W$18=\"Ja\",'Benzin - diesel - hybrid'!W$19*'Benzin - diesel - hybrid'!W$14/1000,IF('Benzin - diesel - hybrid'!W$18=\"Nej\",'Benzin - diesel - hybrid'!W$20*'Benzin - diesel - hybrid'!W$14/1000,0))","v":0}]
[null,2035,15,{"$f":"IF('Benzin - diesel - hybrid'!E$18=\"Ja\",'Benzin - diesel - hybrid'!E$19*'Benzin - diesel - hybrid'!E$14/1000,IF('Benzin - diesel - hybrid'!E$18=\"Nej\",'Benzin - diesel - hybrid'!E$20*'Benzin - diesel - hybrid'!E$14/1000,0))","v":0},{"$f":"IF('Benzin - diesel - hybrid'!G$18=\"Ja\",'Benzin - diesel - hybrid'!G$19*'Benzin - diesel - hybrid'!G$14/1000,IF('Benzin - diesel - hybrid'!G$18=\"Nej\",'Benzin - diesel - hybrid'!G$20*'Benzin - diesel - hybrid'!G$14/1000,0))","v":0},{"$f":"IF('Benzin - diesel - hybrid'!I$18=\"Ja\",'Benzin - diesel - hybrid'!I$19*'Benzin - diesel - hybrid'!I$14/1000,IF('Benzin - diesel - hybrid'!I$18=\"Nej\",'Benzin - diesel - hybrid'!I$20*'Benzin - diesel - hybrid'!I$14/1000,0))","v":0},{"$f":"IF('Benzin - diesel - hybrid'!K$18=\"Ja\",'Benzin - diesel - hybrid'!K$19*'Benzin - diesel - hybrid'!K$14/1000,IF('Benzin - diesel - hybrid'!K$18=\"Nej\",'Benzin - diesel - hybrid'!K$20*'Benzin - diesel - hybrid'!K$14/1000,0))","v":0},{"$f":"IF('Benzin - diesel - hybrid'!M$18=\"Ja\",'Benzin - diesel - hybrid'!M$19*'Benzin - diesel - hybrid'!M$14/1000,IF('Benzin - diesel - hybrid'!M$18=\"Nej\",'Benzin - diesel - hybrid'!M$20*'Benzin - diesel - hybrid'!M$14/1000,0))","v":0},{"$f":"IF('Benzin - diesel - hybrid'!O$18=\"Ja\",'Benzin - diesel - hybrid'!O$19*'Benzin - diesel - hybrid'!O$14/1000,IF('Benzin - diesel - hybrid'!O$18=\"Nej\",'Benzin - diesel - hybrid'!O$20*'Benzin - diesel - hybrid'!O$14/1000,0))","v":0},{"$f":"IF('Benzin - diesel - hybrid'!Q$18=\"Ja\",'Benzin - diesel - hybrid'!Q$19*'Benzin - diesel - hybrid'!Q$14/1000,IF('Benzin - diesel - hybrid'!Q$18=\"Nej\",'Benzin - diesel - hybrid'!Q$20*'Benzin - diesel - hybrid'!Q$14/1000,0))","v":0},{"$f":"IF('Benzin - diesel - hybrid'!S$18=\"Ja\",'Benzin - diesel - hybrid'!S$19*'Benzin - diesel - hybrid'!S$14/1000,IF('Benzin - diesel - hybrid'!S$18=\"Nej\",'Benzin - diesel - hybrid'!S$20*'Benzin - diesel - hybrid'!S$14/1000,0))","v":0},{"$f":"IF('Benzin - diesel - hybrid'!U$18=\"Ja\",'Benzin - diesel - hybrid'!U$19*'Benzin - diesel - hybrid'!U$14/1000,IF('Benzin - diesel - hybrid'!U$18=\"Nej\",'Benzin - diesel - hybrid'!U$20*'Benzin - diesel - hybrid'!U$14/1000,0))","v":0},{"$f":"IF('Benzin - diesel - hybrid'!W$18=\"Ja\",'Benzin - diesel - hybrid'!W$19*'Benzin - diesel - hybrid'!W$14/1000,IF('Benzin - diesel - hybrid'!W$18=\"Nej\",'Benzin - diesel - hybrid'!W$20*'Benzin - diesel - hybrid'!W$14/1000,0))","v":0}]
[null,2036,16,{"$f":"IF('Benzin - diesel - hybrid'!E$18=\"Ja\",'Benzin - diesel - hybrid'!E$19*'Benzin - diesel - hybrid'!E$14/1000,IF('Benzin - diesel - hybrid'!E$18=\"Nej\",'Benzin - diesel - hybrid'!E$20*'Benzin - diesel - hybrid'!E$14/1000,0))","v":0},{"$f":"IF('Benzin - diesel - hybrid'!G$18=\"Ja\",'Benzin - diesel - hybrid'!G$19*'Benzin - diesel - hybrid'!G$14/1000,IF('Benzin - diesel - hybrid'!G$18=\"Nej\",'Benzin - diesel - hybrid'!G$20*'Benzin - diesel - hybrid'!G$14/1000,0))","v":0},{"$f":"IF('Benzin - diesel - hybrid'!I$18=\"Ja\",'Benzin - diesel - hybrid'!I$19*'Benzin - diesel - hybrid'!I$14/1000,IF('Benzin - diesel - hybrid'!I$18=\"Nej\",'Benzin - diesel - hybrid'!I$20*'Benzin - diesel - hybrid'!I$14/1000,0))","v":0},{"$f":"IF('Benzin - diesel - hybrid'!K$18=\"Ja\",'Benzin - diesel - hybrid'!K$19*'Benzin - diesel - hybrid'!K$14/1000,IF('Benzin - diesel - hybrid'!K$18=\"Nej\",'Benzin - diesel - hybrid'!K$20*'Benzin - diesel - hybrid'!K$14/1000,0))","v":0},{"$f":"IF('Benzin - diesel - hybrid'!M$18=\"Ja\",'Benzin - diesel - hybrid'!M$19*'Benzin - diesel - hybrid'!M$14/1000,IF('Benzin - diesel - hybrid'!M$18=\"Nej\",'Benzin - diesel - hybrid'!M$20*'Benzin - diesel - hybrid'!M$14/1000,0))","v":0},{"$f":"IF('Benzin - diesel - hybrid'!O$18=\"Ja\",'Benzin - diesel - hybrid'!O$19*'Benzin - diesel - hybrid'!O$14/1000,IF('Benzin - diesel - hybrid'!O$18=\"Nej\",'Benzin - diesel - hybrid'!O$20*'Benzin - diesel - hybrid'!O$14/1000,0))","v":0},{"$f":"IF('Benzin - diesel - hybrid'!Q$18=\"Ja\",'Benzin - diesel - hybrid'!Q$19*'Benzin - diesel - hybrid'!Q$14/1000,IF('Benzin - diesel - hybrid'!Q$18=\"Nej\",'Benzin - diesel - hybrid'!Q$20*'Benzin - diesel - hybrid'!Q$14/1000,0))","v":0},{"$f":"IF('Benzin - diesel - hybrid'!S$18=\"Ja\",'Benzin - diesel - hybrid'!S$19*'Benzin - diesel - hybrid'!S$14/1000,IF('Benzin - diesel - hybrid'!S$18=\"Nej\",'Benzin - diesel - hybrid'!S$20*'Benzin - diesel - hybrid'!S$14/1000,0))","v":0},{"$f":"IF('Benzin - diesel - hybrid'!U$18=\"Ja\",'Benzin - diesel - hybrid'!U$19*'Benzin - diesel - hybrid'!U$14/1000,IF('Benzin - diesel - hybrid'!U$18=\"Nej\",'Benzin - diesel - hybrid'!U$20*'Benzin - diesel - hybrid'!U$14/1000,0))","v":0},{"$f":"IF('Benzin - diesel - hybrid'!W$18=\"Ja\",'Benzin - diesel - hybrid'!W$19*'Benzin - diesel - hybrid'!W$14/1000,IF('Benzin - diesel - hybrid'!W$18=\"Nej\",'Benzin - diesel - hybrid'!W$20*'Benzin - diesel - hybrid'!W$14/1000,0))","v":0}]
[null,2037,17,{"$f":"IF('Benzin - diesel - hybrid'!E$18=\"Ja\",'Benzin - diesel - hybrid'!E$19*'Benzin - diesel - hybrid'!E$14/1000,IF('Benzin - diesel - hybrid'!E$18=\"Nej\",'Benzin - diesel - hybrid'!E$20*'Benzin - diesel - hybrid'!E$14/1000,0))","v":0},{"$f":"IF('Benzin - diesel - hybrid'!G$18=\"Ja\",'Benzin - diesel - hybrid'!G$19*'Benzin - diesel - hybrid'!G$14/1000,IF('Benzin - diesel - hybrid'!G$18=\"Nej\",'Benzin - diesel - hybrid'!G$20*'Benzin - diesel - hybrid'!G$14/1000,0))","v":0},{"$f":"IF('Benzin - diesel - hybrid'!I$18=\"Ja\",'Benzin - diesel - hybrid'!I$19*'Benzin - diesel - hybrid'!I$14/1000,IF('Benzin - diesel - hybrid'!I$18=\"Nej\",'Benzin - diesel - hybrid'!I$20*'Benzin - diesel - hybrid'!I$14/1000,0))","v":0},{"$f":"IF('Benzin - diesel - hybrid'!K$18=\"Ja\",'Benzin - diesel - hybrid'!K$19*'Benzin - diesel - hybrid'!K$14/1000,IF('Benzin - diesel - hybrid'!K$18=\"Nej\",'Benzin - diesel - hybrid'!K$20*'Benzin - diesel - hybrid'!K$14/1000,0))","v":0},{"$f":"IF('Benzin - diesel - hybrid'!M$18=\"Ja\",'Benzin - diesel - hybrid'!M$19*'Benzin - diesel - hybrid'!M$14/1000,IF('Benzin - diesel - hybrid'!M$18=\"Nej\",'Benzin - diesel - hybrid'!M$20*'Benzin - diesel - hybrid'!M$14/1000,0))","v":0},{"$f":"IF('Benzin - diesel - hybrid'!O$18=\"Ja\",'Benzin - diesel - hybrid'!O$19*'Benzin - diesel - hybrid'!O$14/1000,IF('Benzin - diesel - hybrid'!O$18=\"Nej\",'Benzin - diesel - hybrid'!O$20*'Benzin - diesel - hybrid'!O$14/1000,0))","v":0},{"$f":"IF('Benzin - diesel - hybrid'!Q$18=\"Ja\",'Benzin - diesel - hybrid'!Q$19*'Benzin - diesel - hybrid'!Q$14/1000,IF('Benzin - diesel - hybrid'!Q$18=\"Nej\",'Benzin - diesel - hybrid'!Q$20*'Benzin - diesel - hybrid'!Q$14/1000,0))","v":0},{"$f":"IF('Benzin - diesel - hybrid'!S$18=\"Ja\",'Benzin - diesel - hybrid'!S$19*'Benzin - diesel - hybrid'!S$14/1000,IF('Benzin - diesel - hybrid'!S$18=\"Nej\",'Benzin - diesel - hybrid'!S$20*'Benzin - diesel - hybrid'!S$14/1000,0))","v":0},{"$f":"IF('Benzin - diesel - hybrid'!U$18=\"Ja\",'Benzin - diesel - hybrid'!U$19*'Benzin - diesel - hybrid'!U$14/1000,IF('Benzin - diesel - hybrid'!U$18=\"Nej\",'Benzin - diesel - hybrid'!U$20*'Benzin - diesel - hybrid'!U$14/1000,0))","v":0},{"$f":"IF('Benzin - diesel - hybrid'!W$18=\"Ja\",'Benzin - diesel - hybrid'!W$19*'Benzin - diesel - hybrid'!W$14/1000,IF('Benzin - diesel - hybrid'!W$18=\"Nej\",'Benzin - diesel - hybrid'!W$20*'Benzin - diesel - hybrid'!W$14/1000,0))","v":0}]
[null,2038,18,{"$f":"IF('Benzin - diesel - hybrid'!E$18=\"Ja\",'Benzin - diesel - hybrid'!E$19*'Benzin - diesel - hybrid'!E$14/1000,IF('Benzin - diesel - hybrid'!E$18=\"Nej\",'Benzin - diesel - hybrid'!E$20*'Benzin - diesel - hybrid'!E$14/1000,0))","v":0},{"$f":"IF('Benzin - diesel - hybrid'!G$18=\"Ja\",'Benzin - diesel - hybrid'!G$19*'Benzin - diesel - hybrid'!G$14/1000,IF('Benzin - diesel - hybrid'!G$18=\"Nej\",'Benzin - diesel - hybrid'!G$20*'Benzin - diesel - hybrid'!G$14/1000,0))","v":0},{"$f":"IF('Benzin - diesel - hybrid'!I$18=\"Ja\",'Benzin - diesel - hybrid'!I$19*'Benzin - diesel - hybrid'!I$14/1000,IF('Benzin - diesel - hybrid'!I$18=\"Nej\",'Benzin - diesel - hybrid'!I$20*'Benzin - diesel - hybrid'!I$14/1000,0))","v":0},{"$f":"IF('Benzin - diesel - hybrid'!K$18=\"Ja\",'Benzin - diesel - hybrid'!K$19*'Benzin - diesel - hybrid'!K$14/1000,IF('Benzin - diesel - hybrid'!K$18=\"Nej\",'Benzin - diesel - hybrid'!K$20*'Benzin - diesel - hybrid'!K$14/1000,0))","v":0},{"$f":"IF('Benzin - diesel - hybrid'!M$18=\"Ja\",'Benzin - diesel - hybrid'!M$19*'Benzin - diesel - hybrid'!M$14/1000,IF('Benzin - diesel - hybrid'!M$18=\"Nej\",'Benzin - diesel - hybrid'!M$20*'Benzin - diesel - hybrid'!M$14/1000,0))","v":0},{"$f":"IF('Benzin - diesel - hybrid'!O$18=\"Ja\",'Benzin - diesel - hybrid'!O$19*'Benzin - diesel - hybrid'!O$14/1000,IF('Benzin - diesel - hybrid'!O$18=\"Nej\",'Benzin - diesel - hybrid'!O$20*'Benzin - diesel - hybrid'!O$14/1000,0))","v":0},{"$f":"IF('Benzin - diesel - hybrid'!Q$18=\"Ja\",'Benzin - diesel - hybrid'!Q$19*'Benzin - diesel - hybrid'!Q$14/1000,IF('Benzin - diesel - hybrid'!Q$18=\"Nej\",'Benzin - diesel - hybrid'!Q$20*'Benzin - diesel - hybrid'!Q$14/1000,0))","v":0},{"$f":"IF('Benzin - diesel - hybrid'!S$18=\"Ja\",'Benzin - diesel - hybrid'!S$19*'Benzin - diesel - hybrid'!S$14/1000,IF('Benzin - diesel - hybrid'!S$18=\"Nej\",'Benzin - diesel - hybrid'!S$20*'Benzin - diesel - hybrid'!S$14/1000,0))","v":0},{"$f":"IF('Benzin - diesel - hybrid'!U$18=\"Ja\",'Benzin - diesel - hybrid'!U$19*'Benzin - diesel - hybrid'!U$14/1000,IF('Benzin - diesel - hybrid'!U$18=\"Nej\",'Benzin - diesel - hybrid'!U$20*'Benzin - diesel - hybrid'!U$14/1000,0))","v":0},{"$f":"IF('Benzin - diesel - hybrid'!W$18=\"Ja\",'Benzin - diesel - hybrid'!W$19*'Benzin - diesel - hybrid'!W$14/1000,IF('Benzin - diesel - hybrid'!W$18=\"Nej\",'Benzin - diesel - hybrid'!W$20*'Benzin - diesel - hybrid'!W$14/1000,0))","v":0}]
[null,2039,19,{"$f":"IF('Benzin - diesel - hybrid'!E$18=\"Ja\",'Benzin - diesel - hybrid'!E$19*'Benzin - diesel - hybrid'!E$14/1000,IF('Benzin - diesel - hybrid'!E$18=\"Nej\",'Benzin - diesel - hybrid'!E$20*'Benzin - diesel - hybrid'!E$14/1000,0))","v":0},{"$f":"IF('Benzin - diesel - hybrid'!G$18=\"Ja\",'Benzin - diesel - hybrid'!G$19*'Benzin - diesel - hybrid'!G$14/1000,IF('Benzin - diesel - hybrid'!G$18=\"Nej\",'Benzin - diesel - hybrid'!G$20*'Benzin - diesel - hybrid'!G$14/1000,0))","v":0},{"$f":"IF('Benzin - diesel - hybrid'!I$18=\"Ja\",'Benzin - diesel - hybrid'!I$19*'Benzin - diesel - hybrid'!I$14/1000,IF('Benzin - diesel - hybrid'!I$18=\"Nej\",'Benzin - diesel - hybrid'!I$20*'Benzin - diesel - hybrid'!I$14/1000,0))","v":0},{"$f":"IF('Benzin - diesel - hybrid'!K$18=\"Ja\",'Benzin - diesel - hybrid'!K$19*'Benzin - diesel - hybrid'!K$14/1000,IF('Benzin - diesel - hybrid'!K$18=\"Nej\",'Benzin - diesel - hybrid'!K$20*'Benzin - diesel - hybrid'!K$14/1000,0))","v":0},{"$f":"IF('Benzin - diesel - hybrid'!M$18=\"Ja\",'Benzin - diesel - hybrid'!M$19*'Benzin - diesel - hybrid'!M$14/1000,IF('Benzin - diesel - hybrid'!M$18=\"Nej\",'Benzin - diesel - hybrid'!M$20*'Benzin - diesel - hybrid'!M$14/1000,0))","v":0},{"$f":"IF('Benzin - diesel - hybrid'!O$18=\"Ja\",'Benzin - diesel - hybrid'!O$19*'Benzin - diesel - hybrid'!O$14/1000,IF('Benzin - diesel - hybrid'!O$18=\"Nej\",'Benzin - diesel - hybrid'!O$20*'Benzin - diesel - hybrid'!O$14/1000,0))","v":0},{"$f":"IF('Benzin - diesel - hybrid'!Q$18=\"Ja\",'Benzin - diesel - hybrid'!Q$19*'Benzin - diesel - hybrid'!Q$14/1000,IF('Benzin - diesel - hybrid'!Q$18=\"Nej\",'Benzin - diesel - hybrid'!Q$20*'Benzin - diesel - hybrid'!Q$14/1000,0))","v":0},{"$f":"IF('Benzin - diesel - hybrid'!S$18=\"Ja\",'Benzin - diesel - hybrid'!S$19*'Benzin - diesel - hybrid'!S$14/1000,IF('Benzin - diesel - hybrid'!S$18=\"Nej\",'Benzin - diesel - hybrid'!S$20*'Benzin - diesel - hybrid'!S$14/1000,0))","v":0},{"$f":"IF('Benzin - diesel - hybrid'!U$18=\"Ja\",'Benzin - diesel - hybrid'!U$19*'Benzin - diesel - hybrid'!U$14/1000,IF('Benzin - diesel - hybrid'!U$18=\"Nej\",'Benzin - diesel - hybrid'!U$20*'Benzin - diesel - hybrid'!U$14/1000,0))","v":0},{"$f":"IF('Benzin - diesel - hybrid'!W$18=\"Ja\",'Benzin - diesel - hybrid'!W$19*'Benzin - diesel - hybrid'!W$14/1000,IF('Benzin - diesel - hybrid'!W$18=\"Nej\",'Benzin - diesel - hybrid'!W$20*'Benzin - diesel - hybrid'!W$14/1000,0))","v":0}]
[null,2040,20,{"$f":"IF('Benzin - diesel - hybrid'!E$18=\"Ja\",'Benzin - diesel - hybrid'!E$19*'Benzin - diesel - hybrid'!E$14/1000,IF('Benzin - diesel - hybrid'!E$18=\"Nej\",'Benzin - diesel - hybrid'!E$20*'Benzin - diesel - hybrid'!E$14/1000,0))","v":0},{"$f":"IF('Benzin - diesel - hybrid'!G$18=\"Ja\",'Benzin - diesel - hybrid'!G$19*'Benzin - diesel - hybrid'!G$14/1000,IF('Benzin - diesel - hybrid'!G$18=\"Nej\",'Benzin - diesel - hybrid'!G$20*'Benzin - diesel - hybrid'!G$14/1000,0))","v":0},{"$f":"IF('Benzin - diesel - hybrid'!I$18=\"Ja\",'Benzin - diesel - hybrid'!I$19*'Benzin - diesel - hybrid'!I$14/1000,IF('Benzin - diesel - hybrid'!I$18=\"Nej\",'Benzin - diesel - hybrid'!I$20*'Benzin - diesel - hybrid'!I$14/1000,0))","v":0},{"$f":"IF('Benzin - diesel - hybrid'!K$18=\"Ja\",'Benzin - diesel - hybrid'!K$19*'Benzin - diesel - hybrid'!K$14/1000,IF('Benzin - diesel - hybrid'!K$18=\"Nej\",'Benzin - diesel - hybrid'!K$20*'Benzin - diesel - hybrid'!K$14/1000,0))","v":0},{"$f":"IF('Benzin - diesel - hybrid'!M$18=\"Ja\",'Benzin - diesel - hybrid'!M$19*'Benzin - diesel - hybrid'!M$14/1000,IF('Benzin - diesel - hybrid'!M$18=\"Nej\",'Benzin - diesel - hybrid'!M$20*'Benzin - diesel - hybrid'!M$14/1000,0))","v":0},{"$f":"IF('Benzin - diesel - hybrid'!O$18=\"Ja\",'Benzin - diesel - hybrid'!O$19*'Benzin - diesel - hybrid'!O$14/1000,IF('Benzin - diesel - hybrid'!O$18=\"Nej\",'Benzin - diesel - hybrid'!O$20*'Benzin - diesel - hybrid'!O$14/1000,0))","v":0},{"$f":"IF('Benzin - diesel - hybrid'!Q$18=\"Ja\",'Benzin - diesel - hybrid'!Q$19*'Benzin - diesel - hybrid'!Q$14/1000,IF('Benzin - diesel - hybrid'!Q$18=\"Nej\",'Benzin - diesel - hybrid'!Q$20*'Benzin - diesel - hybrid'!Q$14/1000,0))","v":0},{"$f":"IF('Benzin - diesel - hybrid'!S$18=\"Ja\",'Benzin - diesel - hybrid'!S$19*'Benzin - diesel - hybrid'!S$14/1000,IF('Benzin - diesel - hybrid'!S$18=\"Nej\",'Benzin - diesel - hybrid'!S$20*'Benzin - diesel - hybrid'!S$14/1000,0))","v":0},{"$f":"IF('Benzin - diesel - hybrid'!U$18=\"Ja\",'Benzin - diesel - hybrid'!U$19*'Benzin - diesel - hybrid'!U$14/1000,IF('Benzin - diesel - hybrid'!U$18=\"Nej\",'Benzin - diesel - hybrid'!U$20*'Benzin - diesel - hybrid'!U$14/1000,0))","v":0},{"$f":"IF('Benzin - diesel - hybrid'!W$18=\"Ja\",'Benzin - diesel - hybrid'!W$19*'Benzin - diesel - hybrid'!W$14/1000,IF('Benzin - diesel - hybrid'!W$18=\"Nej\",'Benzin - diesel - hybrid'!W$20*'Benzin - diesel - hybrid'!W$14/1000,0))","v":0}]
[null,2041,21,{"$f":"IF('Benzin - diesel - hybrid'!E$18=\"Ja\",'Benzin - diesel - hybrid'!E$19*'Benzin - diesel - hybrid'!E$14/1000,IF('Benzin - diesel - hybrid'!E$18=\"Nej\",'Benzin - diesel - hybrid'!E$20*'Benzin - diesel - hybrid'!E$14/1000,0))","v":0},{"$f":"IF('Benzin - diesel - hybrid'!G$18=\"Ja\",'Benzin - diesel - hybrid'!G$19*'Benzin - diesel - hybrid'!G$14/1000,IF('Benzin - diesel - hybrid'!G$18=\"Nej\",'Benzin - diesel - hybrid'!G$20*'Benzin - diesel - hybrid'!G$14/1000,0))","v":0},{"$f":"IF('Benzin - diesel - hybrid'!I$18=\"Ja\",'Benzin - diesel - hybrid'!I$19*'Benzin - diesel - hybrid'!I$14/1000,IF('Benzin - diesel - hybrid'!I$18=\"Nej\",'Benzin - diesel - hybrid'!I$20*'Benzin - diesel - hybrid'!I$14/1000,0))","v":0},{"$f":"IF('Benzin - diesel - hybrid'!K$18=\"Ja\",'Benzin - diesel - hybrid'!K$19*'Benzin - diesel - hybrid'!K$14/1000,IF('Benzin - diesel - hybrid'!K$18=\"Nej\",'Benzin - diesel - hybrid'!K$20*'Benzin - diesel - hybrid'!K$14/1000,0))","v":0},{"$f":"IF('Benzin - diesel - hybrid'!M$18=\"Ja\",'Benzin - diesel - hybrid'!M$19*'Benzin - diesel - hybrid'!M$14/1000,IF('Benzin - diesel - hybrid'!M$18=\"Nej\",'Benzin - diesel - hybrid'!M$20*'Benzin - diesel - hybrid'!M$14/1000,0))","v":0},{"$f":"IF('Benzin - diesel - hybrid'!O$18=\"Ja\",'Benzin - diesel - hybrid'!O$19*'Benzin - diesel - hybrid'!O$14/1000,IF('Benzin - diesel - hybrid'!O$18=\"Nej\",'Benzin - diesel - hybrid'!O$20*'Benzin - diesel - hybrid'!O$14/1000,0))","v":0},{"$f":"IF('Benzin - diesel - hybrid'!Q$18=\"Ja\",'Benzin - diesel - hybrid'!Q$19*'Benzin - diesel - hybrid'!Q$14/1000,IF('Benzin - diesel - hybrid'!Q$18=\"Nej\",'Benzin - diesel - hybrid'!Q$20*'Benzin - diesel - hybrid'!Q$14/1000,0))","v":0},{"$f":"IF('Benzin - diesel - hybrid'!S$18=\"Ja\",'Benzin - diesel - hybrid'!S$19*'Benzin - diesel - hybrid'!S$14/1000,IF('Benzin - diesel - hybrid'!S$18=\"Nej\",'Benzin - diesel - hybrid'!S$20*'Benzin - diesel - hybrid'!S$14/1000,0))","v":0},{"$f":"IF('Benzin - diesel - hybrid'!U$18=\"Ja\",'Benzin - diesel - hybrid'!U$19*'Benzin - diesel - hybrid'!U$14/1000,IF('Benzin - diesel - hybrid'!U$18=\"Nej\",'Benzin - diesel - hybrid'!U$20*'Benzin - diesel - hybrid'!U$14/1000,0))","v":0},{"$f":"IF('Benzin - diesel - hybrid'!W$18=\"Ja\",'Benzin - diesel - hybrid'!W$19*'Benzin - diesel - hybrid'!W$14/1000,IF('Benzin - diesel - hybrid'!W$18=\"Nej\",'Benzin - diesel - hybrid'!W$20*'Benzin - diesel - hybrid'!W$14/1000,0))","v":0}]
[null,2042,22,{"$f":"IF('Benzin - diesel - hybrid'!E$18=\"Ja\",'Benzin - diesel - hybrid'!E$19*'Benzin - diesel - hybrid'!E$14/1000,IF('Benzin - diesel - hybrid'!E$18=\"Nej\",'Benzin - diesel - hybrid'!E$20*'Benzin - diesel - hybrid'!E$14/1000,0))","v":0},{"$f":"IF('Benzin - diesel - hybrid'!G$18=\"Ja\",'Benzin - diesel - hybrid'!G$19*'Benzin - diesel - hybrid'!G$14/1000,IF('Benzin - diesel - hybrid'!G$18=\"Nej\",'Benzin - diesel - hybrid'!G$20*'Benzin - diesel - hybrid'!G$14/1000,0))","v":0},{"$f":"IF('Benzin - diesel - hybrid'!I$18=\"Ja\",'Benzin - diesel - hybrid'!I$19*'Benzin - diesel - hybrid'!I$14/1000,IF('Benzin - diesel - hybrid'!I$18=\"Nej\",'Benzin - diesel - hybrid'!I$20*'Benzin - diesel - hybrid'!I$14/1000,0))","v":0},{"$f":"IF('Benzin - diesel - hybrid'!K$18=\"Ja\",'Benzin - diesel - hybrid'!K$19*'Benzin - diesel - hybrid'!K$14/1000,IF('Benzin - diesel - hybrid'!K$18=\"Nej\",'Benzin - diesel - hybrid'!K$20*'Benzin - diesel - hybrid'!K$14/1000,0))","v":0},{"$f":"IF('Benzin - diesel - hybrid'!M$18=\"Ja\",'Benzin - diesel - hybrid'!M$19*'Benzin - diesel - hybrid'!M$14/1000,IF('Benzin - diesel - hybrid'!M$18=\"Nej\",'Benzin - diesel - hybrid'!M$20*'Benzin - diesel - hybrid'!M$14/1000,0))","v":0},{"$f":"IF('Benzin - diesel - hybrid'!O$18=\"Ja\",'Benzin - diesel - hybrid'!O$19*'Benzin - diesel - hybrid'!O$14/1000,IF('Benzin - diesel - hybrid'!O$18=\"Nej\",'Benzin - diesel - hybrid'!O$20*'Benzin - diesel - hybrid'!O$14/1000,0))","v":0},{"$f":"IF('Benzin - diesel - hybrid'!Q$18=\"Ja\",'Benzin - diesel - hybrid'!Q$19*'Benzin - diesel - hybrid'!Q$14/1000,IF('Benzin - diesel - hybrid'!Q$18=\"Nej\",'Benzin - diesel - hybrid'!Q$20*'Benzin - diesel - hybrid'!Q$14/1000,0))","v":0},{"$f":"IF('Benzin - diesel - hybrid'!S$18=\"Ja\",'Benzin - diesel - hybrid'!S$19*'Benzin - diesel - hybrid'!S$14/1000,IF('Benzin - diesel - hybrid'!S$18=\"Nej\",'Benzin - diesel - hybrid'!S$20*'Benzin - diesel - hybrid'!S$14/1000,0))","v":0},{"$f":"IF('Benzin - diesel - hybrid'!U$18=\"Ja\",'Benzin - diesel - hybrid'!U$19*'Benzin - diesel - hybrid'!U$14/1000,IF('Benzin - diesel - hybrid'!U$18=\"Nej\",'Benzin - diesel - hybrid'!U$20*'Benzin - diesel - hybrid'!U$14/1000,0))","v":0},{"$f":"IF('Benzin - diesel - hybrid'!W$18=\"Ja\",'Benzin - diesel - hybrid'!W$19*'Benzin - diesel - hybrid'!W$14/1000,IF('Benzin - diesel - hybrid'!W$18=\"Nej\",'Benzin - diesel - hybrid'!W$20*'Benzin - diesel - hybrid'!W$14/1000,0))","v":0}]
[null,2043,23,{"$f":"IF('Benzin - diesel - hybrid'!E$18=\"Ja\",'Benzin - diesel - hybrid'!E$19*'Benzin - diesel - hybrid'!E$14/1000,IF('Benzin - diesel - hybrid'!E$18=\"Nej\",'Benzin - diesel - hybrid'!E$20*'Benzin - diesel - hybrid'!E$14/1000,0))","v":0},{"$f":"IF('Benzin - diesel - hybrid'!G$18=\"Ja\",'Benzin - diesel - hybrid'!G$19*'Benzin - diesel - hybrid'!G$14/1000,IF('Benzin - diesel - hybrid'!G$18=\"Nej\",'Benzin - diesel - hybrid'!G$20*'Benzin - diesel - hybrid'!G$14/1000,0))","v":0},{"$f":"IF('Benzin - diesel - hybrid'!I$18=\"Ja\",'Benzin - diesel - hybrid'!I$19*'Benzin - diesel - hybrid'!I$14/1000,IF('Benzin - diesel - hybrid'!I$18=\"Nej\",'Benzin - diesel - hybrid'!I$20*'Benzin - diesel - hybrid'!I$14/1000,0))","v":0},{"$f":"IF('Benzin - diesel - hybrid'!K$18=\"Ja\",'Benzin - diesel - hybrid'!K$19*'Benzin - diesel - hybrid'!K$14/1000,IF('Benzin - diesel - hybrid'!K$18=\"Nej\",'Benzin - diesel - hybrid'!K$20*'Benzin - diesel - hybrid'!K$14/1000,0))","v":0},{"$f":"IF('Benzin - diesel - hybrid'!M$18=\"Ja\",'Benzin - diesel - hybrid'!M$19*'Benzin - diesel - hybrid'!M$14/1000,IF('Benzin - diesel - hybrid'!M$18=\"Nej\",'Benzin - diesel - hybrid'!M$20*'Benzin - diesel - hybrid'!M$14/1000,0))","v":0},{"$f":"IF('Benzin - diesel - hybrid'!O$18=\"Ja\",'Benzin - diesel - hybrid'!O$19*'Benzin - diesel - hybrid'!O$14/1000,IF('Benzin - diesel - hybrid'!O$18=\"Nej\",'Benzin - diesel - hybrid'!O$20*'Benzin - diesel - hybrid'!O$14/1000,0))","v":0},{"$f":"IF('Benzin - diesel - hybrid'!Q$18=\"Ja\",'Benzin - diesel - hybrid'!Q$19*'Benzin - diesel - hybrid'!Q$14/1000,IF('Benzin - diesel - hybrid'!Q$18=\"Nej\",'Benzin - diesel - hybrid'!Q$20*'Benzin - diesel - hybrid'!Q$14/1000,0))","v":0},{"$f":"IF('Benzin - diesel - hybrid'!S$18=\"Ja\",'Benzin - diesel - hybrid'!S$19*'Benzin - diesel - hybrid'!S$14/1000,IF('Benzin - diesel - hybrid'!S$18=\"Nej\",'Benzin - diesel - hybrid'!S$20*'Benzin - diesel - hybrid'!S$14/1000,0))","v":0},{"$f":"IF('Benzin - diesel - hybrid'!U$18=\"Ja\",'Benzin - diesel - hybrid'!U$19*'Benzin - diesel - hybrid'!U$14/1000,IF('Benzin - diesel - hybrid'!U$18=\"Nej\",'Benzin - diesel - hybrid'!U$20*'Benzin - diesel - hybrid'!U$14/1000,0))","v":0},{"$f":"IF('Benzin - diesel - hybrid'!W$18=\"Ja\",'Benzin - diesel - hybrid'!W$19*'Benzin - diesel - hybrid'!W$14/1000,IF('Benzin - diesel - hybrid'!W$18=\"Nej\",'Benzin - diesel - hybrid'!W$20*'Benzin - diesel - hybrid'!W$14/1000,0))","v":0}]
[null,2044,24,{"$f":"IF('Benzin - diesel - hybrid'!E$18=\"Ja\",'Benzin - diesel - hybrid'!E$19*'Benzin - diesel - hybrid'!E$14/1000,IF('Benzin - diesel - hybrid'!E$18=\"Nej\",'Benzin - diesel - hybrid'!E$20*'Benzin - diesel - hybrid'!E$14/1000,0))","v":0},{"$f":"IF('Benzin - diesel - hybrid'!G$18=\"Ja\",'Benzin - diesel - hybrid'!G$19*'Benzin - diesel - hybrid'!G$14/1000,IF('Benzin - diesel - hybrid'!G$18=\"Nej\",'Benzin - diesel - hybrid'!G$20*'Benzin - diesel - hybrid'!G$14/1000,0))","v":0},{"$f":"IF('Benzin - diesel - hybrid'!I$18=\"Ja\",'Benzin - diesel - hybrid'!I$19*'Benzin - diesel - hybrid'!I$14/1000,IF('Benzin - diesel - hybrid'!I$18=\"Nej\",'Benzin - diesel - hybrid'!I$20*'Benzin - diesel - hybrid'!I$14/1000,0))","v":0},{"$f":"IF('Benzin - diesel - hybrid'!K$18=\"Ja\",'Benzin - diesel - hybrid'!K$19*'Benzin - diesel - hybrid'!K$14/1000,IF('Benzin - diesel - hybrid'!K$18=\"Nej\",'Benzin - diesel - hybrid'!K$20*'Benzin - diesel - hybrid'!K$14/1000,0))","v":0},{"$f":"IF('Benzin - diesel - hybrid'!M$18=\"Ja\",'Benzin - diesel - hybrid'!M$19*'Benzin - diesel - hybrid'!M$14/1000,IF('Benzin - diesel - hybrid'!M$18=\"Nej\",'Benzin - diesel - hybrid'!M$20*'Benzin - diesel - hybrid'!M$14/1000,0))","v":0},{"$f":"IF('Benzin - diesel - hybrid'!O$18=\"Ja\",'Benzin - diesel - hybrid'!O$19*'Benzin - diesel - hybrid'!O$14/1000,IF('Benzin - diesel - hybrid'!O$18=\"Nej\",'Benzin - diesel - hybrid'!O$20*'Benzin - diesel - hybrid'!O$14/1000,0))","v":0},{"$f":"IF('Benzin - diesel - hybrid'!Q$18=\"Ja\",'Benzin - diesel - hybrid'!Q$19*'Benzin - diesel - hybrid'!Q$14/1000,IF('Benzin - diesel - hybrid'!Q$18=\"Nej\",'Benzin - diesel - hybrid'!Q$20*'Benzin - diesel - hybrid'!Q$14/1000,0))","v":0},{"$f":"IF('Benzin - diesel - hybrid'!S$18=\"Ja\",'Benzin - diesel - hybrid'!S$19*'Benzin - diesel - hybrid'!S$14/1000,IF('Benzin - diesel - hybrid'!S$18=\"Nej\",'Benzin - diesel - hybrid'!S$20*'Benzin - diesel - hybrid'!S$14/1000,0))","v":0},{"$f":"IF('Benzin - diesel - hybrid'!U$18=\"Ja\",'Benzin - diesel - hybrid'!U$19*'Benzin - diesel - hybrid'!U$14/1000,IF('Benzin - diesel - hybrid'!U$18=\"Nej\",'Benzin - diesel - hybrid'!U$20*'Benzin - diesel - hybrid'!U$14/1000,0))","v":0},{"$f":"IF('Benzin - diesel - hybrid'!W$18=\"Ja\",'Benzin - diesel - hybrid'!W$19*'Benzin - diesel - hybrid'!W$14/1000,IF('Benzin - diesel - hybrid'!W$18=\"Nej\",'Benzin - diesel - hybrid'!W$20*'Benzin - diesel - hybrid'!W$14/1000,0))","v":0}]
[null,2045,25,{"$f":"IF('Benzin - diesel - hybrid'!E$18=\"Ja\",'Benzin - diesel - hybrid'!E$19*'Benzin - diesel - hybrid'!E$14/1000,IF('Benzin - diesel - hybrid'!E$18=\"Nej\",'Benzin - diesel - hybrid'!E$20*'Benzin - diesel - hybrid'!E$14/1000,0))","v":0},{"$f":"IF('Benzin - diesel - hybrid'!G$18=\"Ja\",'Benzin - diesel - hybrid'!G$19*'Benzin - diesel - hybrid'!G$14/1000,IF('Benzin - diesel - hybrid'!G$18=\"Nej\",'Benzin - diesel - hybrid'!G$20*'Benzin - diesel - hybrid'!G$14/1000,0))","v":0},{"$f":"IF('Benzin - diesel - hybrid'!I$18=\"Ja\",'Benzin - diesel - hybrid'!I$19*'Benzin - diesel - hybrid'!I$14/1000,IF('Benzin - diesel - hybrid'!I$18=\"Nej\",'Benzin - diesel - hybrid'!I$20*'Benzin - diesel - hybrid'!I$14/1000,0))","v":0},{"$f":"IF('Benzin - diesel - hybrid'!K$18=\"Ja\",'Benzin - diesel - hybrid'!K$19*'Benzin - diesel - hybrid'!K$14/1000,IF('Benzin - diesel - hybrid'!K$18=\"Nej\",'Benzin - diesel - hybrid'!K$20*'Benzin - diesel - hybrid'!K$14/1000,0))","v":0},{"$f":"IF('Benzin - diesel - hybrid'!M$18=\"Ja\",'Benzin - diesel - hybrid'!M$19*'Benzin - diesel - hybrid'!M$14/1000,IF('Benzin - diesel - hybrid'!M$18=\"Nej\",'Benzin - diesel - hybrid'!M$20*'Benzin - diesel - hybrid'!M$14/1000,0))","v":0},{"$f":"IF('Benzin - diesel - hybrid'!O$18=\"Ja\",'Benzin - diesel - hybrid'!O$19*'Benzin - diesel - hybrid'!O$14/1000,IF('Benzin - diesel - hybrid'!O$18=\"Nej\",'Benzin - diesel - hybrid'!O$20*'Benzin - diesel - hybrid'!O$14/1000,0))","v":0},{"$f":"IF('Benzin - diesel - hybrid'!Q$18=\"Ja\",'Benzin - diesel - hybrid'!Q$19*'Benzin - diesel - hybrid'!Q$14/1000,IF('Benzin - diesel - hybrid'!Q$18=\"Nej\",'Benzin - diesel - hybrid'!Q$20*'Benzin - diesel - hybrid'!Q$14/1000,0))","v":0},{"$f":"IF('Benzin - diesel - hybrid'!S$18=\"Ja\",'Benzin - diesel - hybrid'!S$19*'Benzin - diesel - hybrid'!S$14/1000,IF('Benzin - diesel - hybrid'!S$18=\"Nej\",'Benzin - diesel - hybrid'!S$20*'Benzin - diesel - hybrid'!S$14/1000,0))","v":0},{"$f":"IF('Benzin - diesel - hybrid'!U$18=\"Ja\",'Benzin - diesel - hybrid'!U$19*'Benzin - diesel - hybrid'!U$14/1000,IF('Benzin - diesel - hybrid'!U$18=\"Nej\",'Benzin - diesel - hybrid'!U$20*'Benzin - diesel - hybrid'!U$14/1000,0))","v":0},{"$f":"IF('Benzin - diesel - hybrid'!W$18=\"Ja\",'Benzin - diesel - hybrid'!W$19*'Benzin - diesel - hybrid'!W$14/1000,IF('Benzin - diesel - hybrid'!W$18=\"Nej\",'Benzin - diesel - hybrid'!W$20*'Benzin - diesel - hybrid'!W$14/1000,0))","v":0}]
[null,2046,26,{"$f":"IF('Benzin - diesel - hybrid'!E$18=\"Ja\",'Benzin - diesel - hybrid'!E$19*'Benzin - diesel - hybrid'!E$14/1000,IF('Benzin - diesel - hybrid'!E$18=\"Nej\",'Benzin - diesel - hybrid'!E$20*'Benzin - diesel - hybrid'!E$14/1000,0))","v":0},{"$f":"IF('Benzin - diesel - hybrid'!G$18=\"Ja\",'Benzin - diesel - hybrid'!G$19*'Benzin - diesel - hybrid'!G$14/1000,IF('Benzin - diesel - hybrid'!G$18=\"Nej\",'Benzin - diesel - hybrid'!G$20*'Benzin - diesel - hybrid'!G$14/1000,0))","v":0},{"$f":"IF('Benzin - diesel - hybrid'!I$18=\"Ja\",'Benzin - diesel - hybrid'!I$19*'Benzin - diesel - hybrid'!I$14/1000,IF('Benzin - diesel - hybrid'!I$18=\"Nej\",'Benzin - diesel - hybrid'!I$20*'Benzin - diesel - hybrid'!I$14/1000,0))","v":0},{"$f":"IF('Benzin - diesel - hybrid'!K$18=\"Ja\",'Benzin - diesel - hybrid'!K$19*'Benzin - diesel - hybrid'!K$14/1000,IF('Benzin - diesel - hybrid'!K$18=\"Nej\",'Benzin - diesel - hybrid'!K$20*'Benzin - diesel - hybrid'!K$14/1000,0))","v":0},{"$f":"IF('Benzin - diesel - hybrid'!M$18=\"Ja\",'Benzin - diesel - hybrid'!M$19*'Benzin - diesel - hybrid'!M$14/1000,IF('Benzin - diesel - hybrid'!M$18=\"Nej\",'Benzin - diesel - hybrid'!M$20*'Benzin - diesel - hybrid'!M$14/1000,0))","v":0},{"$f":"IF('Benzin - diesel - hybrid'!O$18=\"Ja\",'Benzin - diesel - hybrid'!O$19*'Benzin - diesel - hybrid'!O$14/1000,IF('Benzin - diesel - hybrid'!O$18=\"Nej\",'Benzin - diesel - hybrid'!O$20*'Benzin - diesel - hybrid'!O$14/1000,0))","v":0},{"$f":"IF('Benzin - diesel - hybrid'!Q$18=\"Ja\",'Benzin - diesel - hybrid'!Q$19*'Benzin - diesel - hybrid'!Q$14/1000,IF('Benzin - diesel - hybrid'!Q$18=\"Nej\",'Benzin - diesel - hybrid'!Q$20*'Benzin - diesel - hybrid'!Q$14/1000,0))","v":0},{"$f":"IF('Benzin - diesel - hybrid'!S$18=\"Ja\",'Benzin - diesel - hybrid'!S$19*'Benzin - diesel - hybrid'!S$14/1000,IF('Benzin - diesel - hybrid'!S$18=\"Nej\",'Benzin - diesel - hybrid'!S$20*'Benzin - diesel - hybrid'!S$14/1000,0))","v":0},{"$f":"IF('Benzin - diesel - hybrid'!U$18=\"Ja\",'Benzin - diesel - hybrid'!U$19*'Benzin - diesel - hybrid'!U$14/1000,IF('Benzin - diesel - hybrid'!U$18=\"Nej\",'Benzin - diesel - hybrid'!U$20*'Benzin - diesel - hybrid'!U$14/1000,0))","v":0},{"$f":"IF('Benzin - diesel - hybrid'!W$18=\"Ja\",'Benzin - diesel - hybrid'!W$19*'Benzin - diesel - hybrid'!W$14/1000,IF('Benzin - diesel - hybrid'!W$18=\"Nej\",'Benzin - diesel - hybrid'!W$20*'Benzin - diesel - hybrid'!W$14/1000,0))","v":0}]
[null,2047,27,{"$f":"IF('Benzin - diesel - hybrid'!E$18=\"Ja\",'Benzin - diesel - hybrid'!E$19*'Benzin - diesel - hybrid'!E$14/1000,IF('Benzin - diesel - hybrid'!E$18=\"Nej\",'Benzin - diesel - hybrid'!E$20*'Benzin - diesel - hybrid'!E$14/1000,0))","v":0},{"$f":"IF('Benzin - diesel - hybrid'!G$18=\"Ja\",'Benzin - diesel - hybrid'!G$19*'Benzin - diesel - hybrid'!G$14/1000,IF('Benzin - diesel - hybrid'!G$18=\"Nej\",'Benzin - diesel - hybrid'!G$20*'Benzin - diesel - hybrid'!G$14/1000,0))","v":0},{"$f":"IF('Benzin - diesel - hybrid'!I$18=\"Ja\",'Benzin - diesel - hybrid'!I$19*'Benzin - diesel - hybrid'!I$14/1000,IF('Benzin - diesel - hybrid'!I$18=\"Nej\",'Benzin - diesel - hybrid'!I$20*'Benzin - diesel - hybrid'!I$14/1000,0))","v":0},{"$f":"IF('Benzin - diesel - hybrid'!K$18=\"Ja\",'Benzin - diesel - hybrid'!K$19*'Benzin - diesel - hybrid'!K$14/1000,IF('Benzin - diesel - hybrid'!K$18=\"Nej\",'Benzin - diesel - hybrid'!K$20*'Benzin - diesel - hybrid'!K$14/1000,0))","v":0},{"$f":"IF('Benzin - diesel - hybrid'!M$18=\"Ja\",'Benzin - diesel - hybrid'!M$19*'Benzin - diesel - hybrid'!M$14/1000,IF('Benzin - diesel - hybrid'!M$18=\"Nej\",'Benzin - diesel - hybrid'!M$20*'Benzin - diesel - hybrid'!M$14/1000,0))","v":0},{"$f":"IF('Benzin - diesel - hybrid'!O$18=\"Ja\",'Benzin - diesel - hybrid'!O$19*'Benzin - diesel - hybrid'!O$14/1000,IF('Benzin - diesel - hybrid'!O$18=\"Nej\",'Benzin - diesel - hybrid'!O$20*'Benzin - diesel - hybrid'!O$14/1000,0))","v":0},{"$f":"IF('Benzin - diesel - hybrid'!Q$18=\"Ja\",'Benzin - diesel - hybrid'!Q$19*'Benzin - diesel - hybrid'!Q$14/1000,IF('Benzin - diesel - hybrid'!Q$18=\"Nej\",'Benzin - diesel - hybrid'!Q$20*'Benzin - diesel - hybrid'!Q$14/1000,0))","v":0},{"$f":"IF('Benzin - diesel - hybrid'!S$18=\"Ja\",'Benzin - diesel - hybrid'!S$19*'Benzin - diesel - hybrid'!S$14/1000,IF('Benzin - diesel - hybrid'!S$18=\"Nej\",'Benzin - diesel - hybrid'!S$20*'Benzin - diesel - hybrid'!S$14/1000,0))","v":0},{"$f":"IF('Benzin - diesel - hybrid'!U$18=\"Ja\",'Benzin - diesel - hybrid'!U$19*'Benzin - diesel - hybrid'!U$14/1000,IF('Benzin - diesel - hybrid'!U$18=\"Nej\",'Benzin - diesel - hybrid'!U$20*'Benzin - diesel - hybrid'!U$14/1000,0))","v":0},{"$f":"IF('Benzin - diesel - hybrid'!W$18=\"Ja\",'Benzin - diesel - hybrid'!W$19*'Benzin - diesel - hybrid'!W$14/1000,IF('Benzin - diesel - hybrid'!W$18=\"Nej\",'Benzin - diesel - hybrid'!W$20*'Benzin - diesel - hybrid'!W$14/1000,0))","v":0}]
[null,2048,28,{"$f":"IF('Benzin - diesel - hybrid'!E$18=\"Ja\",'Benzin - diesel - hybrid'!E$19*'Benzin - diesel - hybrid'!E$14/1000,IF('Benzin - diesel - hybrid'!E$18=\"Nej\",'Benzin - diesel - hybrid'!E$20*'Benzin - diesel - hybrid'!E$14/1000,0))","v":0},{"$f":"IF('Benzin - diesel - hybrid'!G$18=\"Ja\",'Benzin - diesel - hybrid'!G$19*'Benzin - diesel - hybrid'!G$14/1000,IF('Benzin - diesel - hybrid'!G$18=\"Nej\",'Benzin - diesel - hybrid'!G$20*'Benzin - diesel - hybrid'!G$14/1000,0))","v":0},{"$f":"IF('Benzin - diesel - hybrid'!I$18=\"Ja\",'Benzin - diesel - hybrid'!I$19*'Benzin - diesel - hybrid'!I$14/1000,IF('Benzin - diesel - hybrid'!I$18=\"Nej\",'Benzin - diesel - hybrid'!I$20*'Benzin - diesel - hybrid'!I$14/1000,0))","v":0},{"$f":"IF('Benzin - diesel - hybrid'!K$18=\"Ja\",'Benzin - diesel - hybrid'!K$19*'Benzin - diesel - hybrid'!K$14/1000,IF('Benzin - diesel - hybrid'!K$18=\"Nej\",'Benzin - diesel - hybrid'!K$20*'Benzin - diesel - hybrid'!K$14/1000,0))","v":0},{"$f":"IF('Benzin - diesel - hybrid'!M$18=\"Ja\",'Benzin - diesel - hybrid'!M$19*'Benzin - diesel - hybrid'!M$14/1000,IF('Benzin - diesel - hybrid'!M$18=\"Nej\",'Benzin - diesel - hybrid'!M$20*'Benzin - diesel - hybrid'!M$14/1000,0))","v":0},{"$f":"IF('Benzin - diesel - hybrid'!O$18=\"Ja\",'Benzin - diesel - hybrid'!O$19*'Benzin - diesel - hybrid'!O$14/1000,IF('Benzin - diesel - hybrid'!O$18=\"Nej\",'Benzin - diesel - hybrid'!O$20*'Benzin - diesel - hybrid'!O$14/1000,0))","v":0},{"$f":"IF('Benzin - diesel - hybrid'!Q$18=\"Ja\",'Benzin - diesel - hybrid'!Q$19*'Benzin - diesel - hybrid'!Q$14/1000,IF('Benzin - diesel - hybrid'!Q$18=\"Nej\",'Benzin - diesel - hybrid'!Q$20*'Benzin - diesel - hybrid'!Q$14/1000,0))","v":0},{"$f":"IF('Benzin - diesel - hybrid'!S$18=\"Ja\",'Benzin - diesel - hybrid'!S$19*'Benzin - diesel - hybrid'!S$14/1000,IF('Benzin - diesel - hybrid'!S$18=\"Nej\",'Benzin - diesel - hybrid'!S$20*'Benzin - diesel - hybrid'!S$14/1000,0))","v":0},{"$f":"IF('Benzin - diesel - hybrid'!U$18=\"Ja\",'Benzin - diesel - hybrid'!U$19*'Benzin - diesel - hybrid'!U$14/1000,IF('Benzin - diesel - hybrid'!U$18=\"Nej\",'Benzin - diesel - hybrid'!U$20*'Benzin - diesel - hybrid'!U$14/1000,0))","v":0},{"$f":"IF('Benzin - diesel - hybrid'!W$18=\"Ja\",'Benzin - diesel - hybrid'!W$19*'Benzin - diesel - hybrid'!W$14/1000,IF('Benzin - diesel - hybrid'!W$18=\"Nej\",'Benzin - diesel - hybrid'!W$20*'Benzin - diesel - hybrid'!W$14/1000,0))","v":0}]
[null,2049,29,{"$f":"IF('Benzin - diesel - hybrid'!E$18=\"Ja\",'Benzin - diesel - hybrid'!E$19*'Benzin - diesel - hybrid'!E$14/1000,IF('Benzin - diesel - hybrid'!E$18=\"Nej\",'Benzin - diesel - hybrid'!E$20*'Benzin - diesel - hybrid'!E$14/1000,0))","v":0},{"$f":"IF('Benzin - diesel - hybrid'!G$18=\"Ja\",'Benzin - diesel - hybrid'!G$19*'Benzin - diesel - hybrid'!G$14/1000,IF('Benzin - diesel - hybrid'!G$18=\"Nej\",'Benzin - diesel - hybrid'!G$20*'Benzin - diesel - hybrid'!G$14/1000,0))","v":0},{"$f":"IF('Benzin - diesel - hybrid'!I$18=\"Ja\",'Benzin - diesel - hybrid'!I$19*'Benzin - diesel - hybrid'!I$14/1000,IF('Benzin - diesel - hybrid'!I$18=\"Nej\",'Benzin - diesel - hybrid'!I$20*'Benzin - diesel - hybrid'!I$14/1000,0))","v":0},{"$f":"IF('Benzin - diesel - hybrid'!K$18=\"Ja\",'Benzin - diesel - hybrid'!K$19*'Benzin - diesel - hybrid'!K$14/1000,IF('Benzin - diesel - hybrid'!K$18=\"Nej\",'Benzin - diesel - hybrid'!K$20*'Benzin - diesel - hybrid'!K$14/1000,0))","v":0},{"$f":"IF('Benzin - diesel - hybrid'!M$18=\"Ja\",'Benzin - diesel - hybrid'!M$19*'Benzin - diesel - hybrid'!M$14/1000,IF('Benzin - diesel - hybrid'!M$18=\"Nej\",'Benzin - diesel - hybrid'!M$20*'Benzin - diesel - hybrid'!M$14/1000,0))","v":0},{"$f":"IF('Benzin - diesel - hybrid'!O$18=\"Ja\",'Benzin - diesel - hybrid'!O$19*'Benzin - diesel - hybrid'!O$14/1000,IF('Benzin - diesel - hybrid'!O$18=\"Nej\",'Benzin - diesel - hybrid'!O$20*'Benzin - diesel - hybrid'!O$14/1000,0))","v":0},{"$f":"IF('Benzin - diesel - hybrid'!Q$18=\"Ja\",'Benzin - diesel - hybrid'!Q$19*'Benzin - diesel - hybrid'!Q$14/1000,IF('Benzin - diesel - hybrid'!Q$18=\"Nej\",'Benzin - diesel - hybrid'!Q$20*'Benzin - diesel - hybrid'!Q$14/1000,0))","v":0},{"$f":"IF('Benzin - diesel - hybrid'!S$18=\"Ja\",'Benzin - diesel - hybrid'!S$19*'Benzin - diesel - hybrid'!S$14/1000,IF('Benzin - diesel - hybrid'!S$18=\"Nej\",'Benzin - diesel - hybrid'!S$20*'Benzin - diesel - hybrid'!S$14/1000,0))","v":0},{"$f":"IF('Benzin - diesel - hybrid'!U$18=\"Ja\",'Benzin - diesel - hybrid'!U$19*'Benzin - diesel - hybrid'!U$14/1000,IF('Benzin - diesel - hybrid'!U$18=\"Nej\",'Benzin - diesel - hybrid'!U$20*'Benzin - diesel - hybrid'!U$14/1000,0))","v":0},{"$f":"IF('Benzin - diesel - hybrid'!W$18=\"Ja\",'Benzin - diesel - hybrid'!W$19*'Benzin - diesel - hybrid'!W$14/1000,IF('Benzin - diesel - hybrid'!W$18=\"Nej\",'Benzin - diesel - hybrid'!W$20*'Benzin - diesel - hybrid'!W$14/1000,0))","v":0}]
[null,2050,30,{"$f":"IF('Benzin - diesel - hybrid'!E$18=\"Ja\",'Benzin - diesel - hybrid'!E$19*'Benzin - diesel - hybrid'!E$14/1000,IF('Benzin - diesel - hybrid'!E$18=\"Nej\",'Benzin - diesel - hybrid'!E$20*'Benzin - diesel - hybrid'!E$14/1000,0))","v":0},{"$f":"IF('Benzin - diesel - hybrid'!G$18=\"Ja\",'Benzin - diesel - hybrid'!G$19*'Benzin - diesel - hybrid'!G$14/1000,IF('Benzin - diesel - hybrid'!G$18=\"Nej\",'Benzin - diesel - hybrid'!G$20*'Benzin - diesel - hybrid'!G$14/1000,0))","v":0},{"$f":"IF('Benzin - diesel - hybrid'!I$18=\"Ja\",'Benzin - diesel - hybrid'!I$19*'Benzin - diesel - hybrid'!I$14/1000,IF('Benzin - diesel - hybrid'!I$18=\"Nej\",'Benzin - diesel - hybrid'!I$20*'Benzin - diesel - hybrid'!I$14/1000,0))","v":0},{"$f":"IF('Benzin - diesel - hybrid'!K$18=\"Ja\",'Benzin - diesel - hybrid'!K$19*'Benzin - diesel - hybrid'!K$14/1000,IF('Benzin - diesel - hybrid'!K$18=\"Nej\",'Benzin - diesel - hybrid'!K$20*'Benzin - diesel - hybrid'!K$14/1000,0))","v":0},{"$f":"IF('Benzin - diesel - hybrid'!M$18=\"Ja\",'Benzin - diesel - hybrid'!M$19*'Benzin - diesel - hybrid'!M$14/1000,IF('Benzin - diesel - hybrid'!M$18=\"Nej\",'Benzin - diesel - hybrid'!M$20*'Benzin - diesel - hybrid'!M$14/1000,0))","v":0},{"$f":"IF('Benzin - diesel - hybrid'!O$18=\"Ja\",'Benzin - diesel - hybrid'!O$19*'Benzin - diesel - hybrid'!O$14/1000,IF('Benzin - diesel - hybrid'!O$18=\"Nej\",'Benzin - diesel - hybrid'!O$20*'Benzin - diesel - hybrid'!O$14/1000,0))","v":0},{"$f":"IF('Benzin - diesel - hybrid'!Q$18=\"Ja\",'Benzin - diesel - hybrid'!Q$19*'Benzin - diesel - hybrid'!Q$14/1000,IF('Benzin - diesel - hybrid'!Q$18=\"Nej\",'Benzin - diesel - hybrid'!Q$20*'Benzin - diesel - hybrid'!Q$14/1000,0))","v":0},{"$f":"IF('Benzin - diesel - hybrid'!S$18=\"Ja\",'Benzin - diesel - hybrid'!S$19*'Benzin - diesel - hybrid'!S$14/1000,IF('Benzin - diesel - hybrid'!S$18=\"Nej\",'Benzin - diesel - hybrid'!S$20*'Benzin - diesel - hybrid'!S$14/1000,0))","v":0},{"$f":"IF('Benzin - diesel - hybrid'!U$18=\"Ja\",'Benzin - diesel - hybrid'!U$19*'Benzin - diesel - hybrid'!U$14/1000,IF('Benzin - diesel - hybrid'!U$18=\"Nej\",'Benzin - diesel - hybrid'!U$20*'Benzin - diesel - hybrid'!U$14/1000,0))","v":0},{"$f":"IF('Benzin - diesel - hybrid'!W$18=\"Ja\",'Benzin - diesel - hybrid'!W$19*'Benzin - diesel - hybrid'!W$14/1000,IF('Benzin - diesel - hybrid'!W$18=\"Nej\",'Benzin - diesel - hybrid'!W$20*'Benzin - diesel - hybrid'!W$14/1000,0))","v":0}]
[]
[]
[]
[null,"El - Plugin hybrid"]
[null,null,null,"CO2e baseret på indtastede værdier","Enhed = kg CO2e/år/køretøj"]
[null,"Årstal","År",{"$f":"'El og plugin hybrid'!$E$8","v":"PRODUKT 1 EL"},{"$f":"'El og plugin hybrid'!$G$8","v":"PRODUKT 2 EL"},{"$f":"'El og plugin hybrid'!$I$8","v":"PRODUKT 3 EL"},{"$f":"'El og plugin hybrid'!$K$8","v":"PRODUKT 4 EL"},{"$f":"'El og plugin hybrid'!$M$8","v":"PRODUKT 5 EL"},{"$f":"'El og plugin hybrid'!$O$8","v":"PRODUKT 6 EL"},{"$f":"'El og plugin hybrid'!$Q$8","v":"PRODUKT 7 EL"},{"$f":"'El og plugin hybrid'!$S$8","v":"PRODUKT 8 EL"},{"$f":"'El og plugin hybrid'!$U$8","v":"PRODUKT 9 EL"},{"$f":"'El og plugin hybrid'!$W$8","v":"PRODUKT 10 EL"}]
[null,2020,0,{"$f":"IF('El og plugin hybrid'!E$21=\"Ja\",'El og plugin hybrid'!E$22*'El og plugin hybrid'!E$13/1000,IF('El og plugin hybrid'!E$21=\"Nej\",'El og plugin hybrid'!E$23*'El og plugin hybrid'!E$13/1000,0))","v":0},{"$f":"IF('El og plugin hybrid'!G$21=\"Ja\",'El og plugin hybrid'!G$22*'El og plugin hybrid'!G$13/1000,IF('El og plugin hybrid'!G$21=\"Nej\",'El og plugin hybrid'!G$23*'El og plugin hybrid'!G$13/1000,0))","v":0},{"$f":"IF('El og plugin hybrid'!I$21=\"Ja\",'El og plugin hybrid'!I$22*'El og plugin hybrid'!I$13/1000,IF('El og plugin hybrid'!I$21=\"Nej\",'El og plugin hybrid'!I$23*'El og plugin hybrid'!I$13/1000,0))","v":0},{"$f":"IF('El og plugin hybrid'!K$21=\"Ja\",'El og plugin hybrid'!K$22*'El og plugin hybrid'!K$13/1000,IF('El og plugin hybrid'!K$21=\"Nej\",'El og plugin hybrid'!K$23*'El og plugin hybrid'!K$13/1000,0))","v":0},{"$f":"IF('El og plugin hybrid'!M$21=\"Ja\",'El og plugin hybrid'!M$22*'El og plugin hybrid'!M$13/1000,IF('El og plugin hybrid'!M$21=\"Nej\",'El og plugin hybrid'!M$23*'El og plugin hybrid'!M$13/1000,0))","v":0},{"$f":"IF('El og plugin hybrid'!O$21=\"Ja\",'El og plugin hybrid'!O$22*'El og plugin hybrid'!O$13/1000,IF('El og plugin hybrid'!O$21=\"Nej\",'El og plugin hybrid'!O$23*'El og plugin hybrid'!O$13/1000,0))","v":0},{"$f":"IF('El og plugin hybrid'!Q$21=\"Ja\",'El og plugin hybrid'!Q$22*'El og plugin hybrid'!Q$13/1000,IF('El og plugin hybrid'!Q$21=\"Nej\",'El og plugin hybrid'!Q$23*'El og plugin hybrid'!Q$13/1000,0))","v":0},{"$f":"IF('El og plugin hybrid'!S$21=\"Ja\",'El og plugin hybrid'!S$22*'El og plugin hybrid'!S$13/1000,IF('El og plugin hybrid'!S$21=\"Nej\",'El og plugin hybrid'!S$23*'El og plugin hybrid'!S$13/1000,0))","v":0},{"$f":"IF('El og plugin hybrid'!U$21=\"Ja\",'El og plugin hybrid'!U$22*'El og plugin hybrid'!U$13/1000,IF('El og plugin hybrid'!U$21=\"Nej\",'El og plugin hybrid'!U$23*'El og plugin hybrid'!U$13/1000,0))","v":0},{"$f":"IF('El og plugin hybrid'!W$21=\"Ja\",'El og plugin hybrid'!W$22*'El og plugin hybrid'!W$13/1000,IF('El og plugin hybrid'!W$21=\"Nej\",'El og plugin hybrid'!W$23*'El og plugin hybrid'!W$13/1000,0))","v":0}]
[null,2021,1,{"$f":"IF('El og plugin hybrid'!E$21=\"Ja\",'El og plugin hybrid'!E$22*'El og plugin hybrid'!E$13/1000,IF('El og plugin hybrid'!E$21=\"Nej\",'El og plugin hybrid'!E$23*'El og plugin hybrid'!E$13/1000,0))","v":0},{"$f":"IF('El og plugin hybrid'!G$21=\"Ja\",'El og plugin hybrid'!G$22*'El og plugin hybrid'!G$13/1000,IF('El og plugin hybrid'!G$21=\"Nej\",'El og plugin hybrid'!G$23*'El og plugin hybrid'!G$13/1000,0))","v":0},{"$f":"IF('El og plugin hybrid'!I$21=\"Ja\",'El og plugin hybrid'!I$22*'El og plugin hybrid'!I$13/1000,IF('El og plugin hybrid'!I$21=\"Nej\",'El og plugin hybrid'!I$23*'El og plugin hybrid'!I$13/1000,0))","v":0},{"$f":"IF('El og plugin hybrid'!K$21=\"Ja\",'El og plugin hybrid'!K$22*'El og plugin hybrid'!K$13/1000,IF('El og plugin hybrid'!K$21=\"Nej\",'El og plugin hybrid'!K$23*'El og plugin hybrid'!K$13/1000,0))","v":0},{"$f":"IF('El og plugin hybrid'!M$21=\"Ja\",'El og plugin hybrid'!M$22*'El og plugin hybrid'!M$13/1000,IF('El og plugin hybrid'!M$21=\"Nej\",'El og plugin hybrid'!M$23*'El og plugin hybrid'!M$13/1000,0))","v":0},{"$f":"IF('El og plugin hybrid'!O$21=\"Ja\",'El og plugin hybrid'!O$22*'El og plugin hybrid'!O$13/1000,IF('El og plugin hybrid'!O$21=\"Nej\",'El og plugin hybrid'!O$23*'El og plugin hybrid'!O$13/1000,0))","v":0},{"$f":"IF('El og plugin hybrid'!Q$21=\"Ja\",'El og plugin hybrid'!Q$22*'El og plugin hybrid'!Q$13/1000,IF('El og plugin hybrid'!Q$21=\"Nej\",'El og plugin hybrid'!Q$23*'El og plugin hybrid'!Q$13/1000,0))","v":0},{"$f":"IF('El og plugin hybrid'!S$21=\"Ja\",'El og plugin hybrid'!S$22*'El og plugin hybrid'!S$13/1000,IF('El og plugin hybrid'!S$21=\"Nej\",'El og plugin hybrid'!S$23*'El og plugin hybrid'!S$13/1000,0))","v":0},{"$f":"IF('El og plugin hybrid'!U$21=\"Ja\",'El og plugin hybrid'!U$22*'El og plugin hybrid'!U$13/1000,IF('El og plugin hybrid'!U$21=\"Nej\",'El og plugin hybrid'!U$23*'El og plugin hybrid'!U$13/1000,0))","v":0},{"$f":"IF('El og plugin hybrid'!W$21=\"Ja\",'El og plugin hybrid'!W$22*'El og plugin hybrid'!W$13/1000,IF('El og plugin hybrid'!W$21=\"Nej\",'El og plugin hybrid'!W$23*'El og plugin hybrid'!W$13/1000,0))","v":0}]
[null,2022,2,{"$f":"IF('El og plugin hybrid'!E$21=\"Ja\",'El og plugin hybrid'!E$22*'El og plugin hybrid'!E$13/1000,IF('El og plugin hybrid'!E$21=\"Nej\",'El og plugin hybrid'!E$23*'El og plugin hybrid'!E$13/1000,0))","v":0},{"$f":"IF('El og plugin hybrid'!G$21=\"Ja\",'El og plugin hybrid'!G$22*'El og plugin hybrid'!G$13/1000,IF('El og plugin hybrid'!G$21=\"Nej\",'El og plugin hybrid'!G$23*'El og plugin hybrid'!G$13/1000,0))","v":0},{"$f":"IF('El og plugin hybrid'!I$21=\"Ja\",'El og plugin hybrid'!I$22*'El og plugin hybrid'!I$13/1000,IF('El og plugin hybrid'!I$21=\"Nej\",'El og plugin hybrid'!I$23*'El og plugin hybrid'!I$13/1000,0))","v":0},{"$f":"IF('El og plugin hybrid'!K$21=\"Ja\",'El og plugin hybrid'!K$22*'El og plugin hybrid'!K$13/1000,IF('El og plugin hybrid'!K$21=\"Nej\",'El og plugin hybrid'!K$23*'El og plugin hybrid'!K$13/1000,0))","v":0},{"$f":"IF('El og plugin hybrid'!M$21=\"Ja\",'El og plugin hybrid'!M$22*'El og plugin hybrid'!M$13/1000,IF('El og plugin hybrid'!M$21=\"Nej\",'El og plugin hybrid'!M$23*'El og plugin hybrid'!M$13/1000,0))","v":0},{"$f":"IF('El og plugin hybrid'!O$21=\"Ja\",'El og plugin hybrid'!O$22*'El og plugin hybrid'!O$13/1000,IF('El og plugin hybrid'!O$21=\"Nej\",'El og plugin hybrid'!O$23*'El og plugin hybrid'!O$13/1000,0))","v":0},{"$f":"IF('El og plugin hybrid'!Q$21=\"Ja\",'El og plugin hybrid'!Q$22*'El og plugin hybrid'!Q$13/1000,IF('El og plugin hybrid'!Q$21=\"Nej\",'El og plugin hybrid'!Q$23*'El og plugin hybrid'!Q$13/1000,0))","v":0},{"$f":"IF('El og plugin hybrid'!S$21=\"Ja\",'El og plugin hybrid'!S$22*'El og plugin hybrid'!S$13/1000,IF('El og plugin hybrid'!S$21=\"Nej\",'El og plugin hybrid'!S$23*'El og plugin hybrid'!S$13/1000,0))","v":0},{"$f":"IF('El og plugin hybrid'!U$21=\"Ja\",'El og plugin hybrid'!U$22*'El og plugin hybrid'!U$13/1000,IF('El og plugin hybrid'!U$21=\"Nej\",'El og plugin hybrid'!U$23*'El og plugin hybrid'!U$13/1000,0))","v":0},{"$f":"IF('El og plugin hybrid'!W$21=\"Ja\",'El og plugin hybrid'!W$22*'El og plugin hybrid'!W$13/1000,IF('El og plugin hybrid'!W$21=\"Nej\",'El og plugin hybrid'!W$23*'El og plugin hybrid'!W$13/1000,0))","v":0}]
[null,2023,3,{"$f":"IF('El og plugin hybrid'!E$21=\"Ja\",'El og plugin hybrid'!E$22*'El og plugin hybrid'!E$13/1000,IF('El og plugin hybrid'!E$21=\"Nej\",'El og plugin hybrid'!E$23*'El og plugin hybrid'!E$13/1000,0))","v":0},{"$f":"IF('El og plugin hybrid'!G$21=\"Ja\",'El og plugin hybrid'!G$22*'El og plugin hybrid'!G$13/1000,IF('El og plugin hybrid'!G$21=\"Nej\",'El og plugin hybrid'!G$23*'El og plugin hybrid'!G$13/1000,0))","v":0},{"$f":"IF('El og plugin hybrid'!I$21=\"Ja\",'El og plugin hybrid'!I$22*'El og plugin hybrid'!I$13/1000,IF('El og plugin hybrid'!I$21=\"Nej\",'El og plugin hybrid'!I$23*'El og plugin hybrid'!I$13/1000,0))","v":0},{"$f":"IF('El og plugin hybrid'!K$21=\"Ja\",'El og plugin hybrid'!K$22*'El og plugin hybrid'!K$13/1000,IF('El og plugin hybrid'!K$21=\"Nej\",'El og plugin hybrid'!K$23*'El og plugin hybrid'!K$13/1000,0))","v":0},{"$f":"IF('El og plugin hybrid'!M$21=\"Ja\",'El og plugin hybrid'!M$22*'El og plugin hybrid'!M$13/1000,IF('El og plugin hybrid'!M$21=\"Nej\",'El og plugin hybrid'!M$23*'El og plugin hybrid'!M$13/1000,0))","v":0},{"$f":"IF('El og plugin hybrid'!O$21=\"Ja\",'El og plugin hybrid'!O$22*'El og plugin hybrid'!O$13/1000,IF('El og plugin hybrid'!O$21=\"Nej\",'El og plugin hybrid'!O$23*'El og plugin hybrid'!O$13/1000,0))","v":0},{"$f":"IF('El og plugin hybrid'!Q$21=\"Ja\",'El og plugin hybrid'!Q$22*'El og plugin hybrid'!Q$13/1000,IF('El og plugin hybrid'!Q$21=\"Nej\",'El og plugin hybrid'!Q$23*'El og plugin hybrid'!Q$13/1000,0))","v":0},{"$f":"IF('El og plugin hybrid'!S$21=\"Ja\",'El og plugin hybrid'!S$22*'El og plugin hybrid'!S$13/1000,IF('El og plugin hybrid'!S$21=\"Nej\",'El og plugin hybrid'!S$23*'El og plugin hybrid'!S$13/1000,0))","v":0},{"$f":"IF('El og plugin hybrid'!U$21=\"Ja\",'El og plugin hybrid'!U$22*'El og plugin hybrid'!U$13/1000,IF('El og plugin hybrid'!U$21=\"Nej\",'El og plugin hybrid'!U$23*'El og plugin hybrid'!U$13/1000,0))","v":0},{"$f":"IF('El og plugin hybrid'!W$21=\"Ja\",'El og plugin hybrid'!W$22*'El og plugin hybrid'!W$13/1000,IF('El og plugin hybrid'!W$21=\"Nej\",'El og plugin hybrid'!W$23*'El og plugin hybrid'!W$13/1000,0))","v":0}]
[null,2024,4,{"$f":"IF('El og plugin hybrid'!E$21=\"Ja\",'El og plugin hybrid'!E$22*'El og plugin hybrid'!E$13/1000,IF('El og plugin hybrid'!E$21=\"Nej\",'El og plugin hybrid'!E$23*'El og plugin hybrid'!E$13/1000,0))","v":0},{"$f":"IF('El og plugin hybrid'!G$21=\"Ja\",'El og plugin hybrid'!G$22*'El og plugin hybrid'!G$13/1000,IF('El og plugin hybrid'!G$21=\"Nej\",'El og plugin hybrid'!G$23*'El og plugin hybrid'!G$13/1000,0))","v":0},{"$f":"IF('El og plugin hybrid'!I$21=\"Ja\",'El og plugin hybrid'!I$22*'El og plugin hybrid'!I$13/1000,IF('El og plugin hybrid'!I$21=\"Nej\",'El og plugin hybrid'!I$23*'El og plugin hybrid'!I$13/1000,0))","v":0},{"$f":"IF('El og plugin hybrid'!K$21=\"Ja\",'El og plugin hybrid'!K$22*'El og plugin hybrid'!K$13/1000,IF('El og plugin hybrid'!K$21=\"Nej\",'El og plugin hybrid'!K$23*'El og plugin hybrid'!K$13/1000,0))","v":0},{"$f":"IF('El og plugin hybrid'!M$21=\"Ja\",'El og plugin hybrid'!M$22*'El og plugin hybrid'!M$13/1000,IF('El og plugin hybrid'!M$21=\"Nej\",'El og plugin hybrid'!M$23*'El og plugin hybrid'!M$13/1000,0))","v":0},{"$f":"IF('El og plugin hybrid'!O$21=\"Ja\",'El og plugin hybrid'!O$22*'El og plugin hybrid'!O$13/1000,IF('El og plugin hybrid'!O$21=\"Nej\",'El og plugin hybrid'!O$23*'El og plugin hybrid'!O$13/1000,0))","v":0},{"$f":"IF('El og plugin hybrid'!Q$21=\"Ja\",'El og plugin hybrid'!Q$22*'El og plugin hybrid'!Q$13/1000,IF('El og plugin hybrid'!Q$21=\"Nej\",'El og plugin hybrid'!Q$23*'El og plugin hybrid'!Q$13/1000,0))","v":0},{"$f":"IF('El og plugin hybrid'!S$21=\"Ja\",'El og plugin hybrid'!S$22*'El og plugin hybrid'!S$13/1000,IF('El og plugin hybrid'!S$21=\"Nej\",'El og plugin hybrid'!S$23*'El og plugin hybrid'!S$13/1000,0))","v":0},{"$f":"IF('El og plugin hybrid'!U$21=\"Ja\",'El og plugin hybrid'!U$22*'El og plugin hybrid'!U$13/1000,IF('El og plugin hybrid'!U$21=\"Nej\",'El og plugin hybrid'!U$23*'El og plugin hybrid'!U$13/1000,0))","v":0},{"$f":"IF('El og plugin hybrid'!W$21=\"Ja\",'El og plugin hybrid'!W$22*'El og plugin hybrid'!W$13/1000,IF('El og plugin hybrid'!W$21=\"Nej\",'El og plugin hybrid'!W$23*'El og plugin hybrid'!W$13/1000,0))","v":0}]
[null,2025,5,{"$f":"IF('El og plugin hybrid'!E$21=\"Ja\",'El og plugin hybrid'!E$22*'El og plugin hybrid'!E$13/1000,IF('El og plugin hybrid'!E$21=\"Nej\",'El og plugin hybrid'!E$23*'El og plugin hybrid'!E$13/1000,0))","v":0},{"$f":"IF('El og plugin hybrid'!G$21=\"Ja\",'El og plugin hybrid'!G$22*'El og plugin hybrid'!G$13/1000,IF('El og plugin hybrid'!G$21=\"Nej\",'El og plugin hybrid'!G$23*'El og plugin hybrid'!G$13/1000,0))","v":0},{"$f":"IF('El og plugin hybrid'!I$21=\"Ja\",'El og plugin hybrid'!I$22*'El og plugin hybrid'!I$13/1000,IF('El og plugin hybrid'!I$21=\"Nej\",'El og plugin hybrid'!I$23*'El og plugin hybrid'!I$13/1000,0))","v":0},{"$f":"IF('El og plugin hybrid'!K$21=\"Ja\",'El og plugin hybrid'!K$22*'El og plugin hybrid'!K$13/1000,IF('El og plugin hybrid'!K$21=\"Nej\",'El og plugin hybrid'!K$23*'El og plugin hybrid'!K$13/1000,0))","v":0},{"$f":"IF('El og plugin hybrid'!M$21=\"Ja\",'El og plugin hybrid'!M$22*'El og plugin hybrid'!M$13/1000,IF('El og plugin hybrid'!M$21=\"Nej\",'El og plugin hybrid'!M$23*'El og plugin hybrid'!M$13/1000,0))","v":0},{"$f":"IF('El og plugin hybrid'!O$21=\"Ja\",'El og plugin hybrid'!O$22*'El og plugin hybrid'!O$13/1000,IF('El og plugin hybrid'!O$21=\"Nej\",'El og plugin hybrid'!O$23*'El og plugin hybrid'!O$13/1000,0))","v":0},{"$f":"IF('El og plugin hybrid'!Q$21=\"Ja\",'El og plugin hybrid'!Q$22*'El og plugin hybrid'!Q$13/1000,IF('El og plugin hybrid'!Q$21=\"Nej\",'El og plugin hybrid'!Q$23*'El og plugin hybrid'!Q$13/1000,0))","v":0},{"$f":"IF('El og plugin hybrid'!S$21=\"Ja\",'El og plugin hybrid'!S$22*'El og plugin hybrid'!S$13/1000,IF('El og plugin hybrid'!S$21=\"Nej\",'El og plugin hybrid'!S$23*'El og plugin hybrid'!S$13/1000,0))","v":0},{"$f":"IF('El og plugin hybrid'!U$21=\"Ja\",'El og plugin hybrid'!U$22*'El og plugin hybrid'!U$13/1000,IF('El og plugin hybrid'!U$21=\"Nej\",'El og plugin hybrid'!U$23*'El og plugin hybrid'!U$13/1000,0))","v":0},{"$f":"IF('El og plugin hybrid'!W$21=\"Ja\",'El og plugin hybrid'!W$22*'El og plugin hybrid'!W$13/1000,IF('El og plugin hybrid'!W$21=\"Nej\",'El og plugin hybrid'!W$23*'El og plugin hybrid'!W$13/1000,0))","v":0}]
[null,2026,6,{"$f":"IF('El og plugin hybrid'!E$21=\"Ja\",'El og plugin hybrid'!E$22*'El og plugin hybrid'!E$13/1000,IF('El og plugin hybrid'!E$21=\"Nej\",'El og plugin hybrid'!E$23*'El og plugin hybrid'!E$13/1000,0))","v":0},{"$f":"IF('El og plugin hybrid'!G$21=\"Ja\",'El og plugin hybrid'!G$22*'El og plugin hybrid'!G$13/1000,IF('El og plugin hybrid'!G$21=\"Nej\",'El og plugin hybrid'!G$23*'El og plugin hybrid'!G$13/1000,0))","v":0},{"$f":"IF('El og plugin hybrid'!I$21=\"Ja\",'El og plugin hybrid'!I$22*'El og plugin hybrid'!I$13/1000,IF('El og plugin hybrid'!I$21=\"Nej\",'El og plugin hybrid'!I$23*'El og plugin hybrid'!I$13/1000,0))","v":0},{"$f":"IF('El og plugin hybrid'!K$21=\"Ja\",'El og plugin hybrid'!K$22*'El og plugin hybrid'!K$13/1000,IF('El og plugin hybrid'!K$21=\"Nej\",'El og plugin hybrid'!K$23*'El og plugin hybrid'!K$13/1000,0))","v":0},{"$f":"IF('El og plugin hybrid'!M$21=\"Ja\",'El og plugin hybrid'!M$22*'El og plugin hybrid'!M$13/1000,IF('El og plugin hybrid'!M$21=\"Nej\",'El og plugin hybrid'!M$23*'El og plugin hybrid'!M$13/1000,0))","v":0},{"$f":"IF('El og plugin hybrid'!O$21=\"Ja\",'El og plugin hybrid'!O$22*'El og plugin hybrid'!O$13/1000,IF('El og plugin hybrid'!O$21=\"Nej\",'El og plugin hybrid'!O$23*'El og plugin hybrid'!O$13/1000,0))","v":0},{"$f":"IF('El og plugin hybrid'!Q$21=\"Ja\",'El og plugin hybrid'!Q$22*'El og plugin hybrid'!Q$13/1000,IF('El og plugin hybrid'!Q$21=\"Nej\",'El og plugin hybrid'!Q$23*'El og plugin hybrid'!Q$13/1000,0))","v":0},{"$f":"IF('El og plugin hybrid'!S$21=\"Ja\",'El og plugin hybrid'!S$22*'El og plugin hybrid'!S$13/1000,IF('El og plugin hybrid'!S$21=\"Nej\",'El og plugin hybrid'!S$23*'El og plugin hybrid'!S$13/1000,0))","v":0},{"$f":"IF('El og plugin hybrid'!U$21=\"Ja\",'El og plugin hybrid'!U$22*'El og plugin hybrid'!U$13/1000,IF('El og plugin hybrid'!U$21=\"Nej\",'El og plugin hybrid'!U$23*'El og plugin hybrid'!U$13/1000,0))","v":0},{"$f":"IF('El og plugin hybrid'!W$21=\"Ja\",'El og plugin hybrid'!W$22*'El og plugin hybrid'!W$13/1000,IF('El og plugin hybrid'!W$21=\"Nej\",'El og plugin hybrid'!W$23*'El og plugin hybrid'!W$13/1000,0))","v":0}]
[null,2027,7,{"$f":"IF('El og plugin hybrid'!E$21=\"Ja\",'El og plugin hybrid'!E$22*'El og plugin hybrid'!E$13/1000,IF('El og plugin hybrid'!E$21=\"Nej\",'El og plugin hybrid'!E$23*'El og plugin hybrid'!E$13/1000,0))","v":0},{"$f":"IF('El og plugin hybrid'!G$21=\"Ja\",'El og plugin hybrid'!G$22*'El og plugin hybrid'!G$13/1000,IF('El og plugin hybrid'!G$21=\"Nej\",'El og plugin hybrid'!G$23*'El og plugin hybrid'!G$13/1000,0))","v":0},{"$f":"IF('El og plugin hybrid'!I$21=\"Ja\",'El og plugin hybrid'!I$22*'El og plugin hybrid'!I$13/1000,IF('El og plugin hybrid'!I$21=\"Nej\",'El og plugin hybrid'!I$23*'El og plugin hybrid'!I$13/1000,0))","v":0},{"$f":"IF('El og plugin hybrid'!K$21=\"Ja\",'El og plugin hybrid'!K$22*'El og plugin hybrid'!K$13/1000,IF('El og plugin hybrid'!K$21=\"Nej\",'El og plugin hybrid'!K$23*'El og plugin hybrid'!K$13/1000,0))","v":0},{"$f":"IF('El og plugin hybrid'!M$21=\"Ja\",'El og plugin hybrid'!M$22*'El og plugin hybrid'!M$13/1000,IF('El og plugin hybrid'!M$21=\"Nej\",'El og plugin hybrid'!M$23*'El og plugin hybrid'!M$13/1000,0))","v":0},{"$f":"IF('El og plugin hybrid'!O$21=\"Ja\",'El og plugin hybrid'!O$22*'El og plugin hybrid'!O$13/1000,IF('El og plugin hybrid'!O$21=\"Nej\",'El og plugin hybrid'!O$23*'El og plugin hybrid'!O$13/1000,0))","v":0},{"$f":"IF('El og plugin hybrid'!Q$21=\"Ja\",'El og plugin hybrid'!Q$22*'El og plugin hybrid'!Q$13/1000,IF('El og plugin hybrid'!Q$21=\"Nej\",'El og plugin hybrid'!Q$23*'El og plugin hybrid'!Q$13/1000,0))","v":0},{"$f":"IF('El og plugin hybrid'!S$21=\"Ja\",'El og plugin hybrid'!S$22*'El og plugin hybrid'!S$13/1000,IF('El og plugin hybrid'!S$21=\"Nej\",'El og plugin hybrid'!S$23*'El og plugin hybrid'!S$13/1000,0))","v":0},{"$f":"IF('El og plugin hybrid'!U$21=\"Ja\",'El og plugin hybrid'!U$22*'El og plugin hybrid'!U$13/1000,IF('El og plugin hybrid'!U$21=\"Nej\",'El og plugin hybrid'!U$23*'El og plugin hybrid'!U$13/1000,0))","v":0},{"$f":"IF('El og plugin hybrid'!W$21=\"Ja\",'El og plugin hybrid'!W$22*'El og plugin hybrid'!W$13/1000,IF('El og plugin hybrid'!W$21=\"Nej\",'El og plugin hybrid'!W$23*'El og plugin hybrid'!W$13/1000,0))","v":0}]
[null,2028,8,{"$f":"IF('El og plugin hybrid'!E$21=\"Ja\",'El og plugin hybrid'!E$22*'El og plugin hybrid'!E$13/1000,IF('El og plugin hybrid'!E$21=\"Nej\",'El og plugin hybrid'!E$23*'El og plugin hybrid'!E$13/1000,0))","v":0},{"$f":"IF('El og plugin hybrid'!G$21=\"Ja\",'El og plugin hybrid'!G$22*'El og plugin hybrid'!G$13/1000,IF('El og plugin hybrid'!G$21=\"Nej\",'El og plugin hybrid'!G$23*'El og plugin hybrid'!G$13/1000,0))","v":0},{"$f":"IF('El og plugin hybrid'!I$21=\"Ja\",'El og plugin hybrid'!I$22*'El og plugin hybrid'!I$13/1000,IF('El og plugin hybrid'!I$21=\"Nej\",'El og plugin hybrid'!I$23*'El og plugin hybrid'!I$13/1000,0))","v":0},{"$f":"IF('El og plugin hybrid'!K$21=\"Ja\",'El og plugin hybrid'!K$22*'El og plugin hybrid'!K$13/1000,IF('El og plugin hybrid'!K$21=\"Nej\",'El og plugin hybrid'!K$23*'El og plugin hybrid'!K$13/1000,0))","v":0},{"$f":"IF('El og plugin hybrid'!M$21=\"Ja\",'El og plugin hybrid'!M$22*'El og plugin hybrid'!M$13/1000,IF('El og plugin hybrid'!M$21=\"Nej\",'El og plugin hybrid'!M$23*'El og plugin hybrid'!M$13/1000,0))","v":0},{"$f":"IF('El og plugin hybrid'!O$21=\"Ja\",'El og plugin hybrid'!O$22*'El og plugin hybrid'!O$13/1000,IF('El og plugin hybrid'!O$21=\"Nej\",'El og plugin hybrid'!O$23*'El og plugin hybrid'!O$13/1000,0))","v":0},{"$f":"IF('El og plugin hybrid'!Q$21=\"Ja\",'El og plugin hybrid'!Q$22*'El og plugin hybrid'!Q$13/1000,IF('El og plugin hybrid'!Q$21=\"Nej\",'El og plugin hybrid'!Q$23*'El og plugin hybrid'!Q$13/1000,0))","v":0},{"$f":"IF('El og plugin hybrid'!S$21=\"Ja\",'El og plugin hybrid'!S$22*'El og plugin hybrid'!S$13/1000,IF('El og plugin hybrid'!S$21=\"Nej\",'El og plugin hybrid'!S$23*'El og plugin hybrid'!S$13/1000,0))","v":0},{"$f":"IF('El og plugin hybrid'!U$21=\"Ja\",'El og plugin hybrid'!U$22*'El og plugin hybrid'!U$13/1000,IF('El og plugin hybrid'!U$21=\"Nej\",'El og plugin hybrid'!U$23*'El og plugin hybrid'!U$13/1000,0))","v":0},{"$f":"IF('El og plugin hybrid'!W$21=\"Ja\",'El og plugin hybrid'!W$22*'El og plugin hybrid'!W$13/1000,IF('El og plugin hybrid'!W$21=\"Nej\",'El og plugin hybrid'!W$23*'El og plugin hybrid'!W$13/1000,0))","v":0}]
[null,2029,9,{"$f":"IF('El og plugin hybrid'!E$21=\"Ja\",'El og plugin hybrid'!E$22*'El og plugin hybrid'!E$13/1000,IF('El og plugin hybrid'!E$21=\"Nej\",'El og plugin hybrid'!E$23*'El og plugin hybrid'!E$13/1000,0))","v":0},{"$f":"IF('El og plugin hybrid'!G$21=\"Ja\",'El og plugin hybrid'!G$22*'El og plugin hybrid'!G$13/1000,IF('El og plugin hybrid'!G$21=\"Nej\",'El og plugin hybrid'!G$23*'El og plugin hybrid'!G$13/1000,0))","v":0},{"$f":"IF('El og plugin hybrid'!I$21=\"Ja\",'El og plugin hybrid'!I$22*'El og plugin hybrid'!I$13/1000,IF('El og plugin hybrid'!I$21=\"Nej\",'El og plugin hybrid'!I$23*'El og plugin hybrid'!I$13/1000,0))","v":0},{"$f":"IF('El og plugin hybrid'!K$21=\"Ja\",'El og plugin hybrid'!K$22*'El og plugin hybrid'!K$13/1000,IF('El og plugin hybrid'!K$21=\"Nej\",'El og plugin hybrid'!K$23*'El og plugin hybrid'!K$13/1000,0))","v":0},{"$f":"IF('El og plugin hybrid'!M$21=\"Ja\",'El og plugin hybrid'!M$22*'El og plugin hybrid'!M$13/1000,IF('El og plugin hybrid'!M$21=\"Nej\",'El og plugin hybrid'!M$23*'El og plugin hybrid'!M$13/1000,0))","v":0},{"$f":"IF('El og plugin hybrid'!O$21=\"Ja\",'El og plugin hybrid'!O$22*'El og plugin hybrid'!O$13/1000,IF('El og plugin hybrid'!O$21=\"Nej\",'El og plugin hybrid'!O$23*'El og plugin hybrid'!O$13/1000,0))","v":0},{"$f":"IF('El og plugin hybrid'!Q$21=\"Ja\",'El og plugin hybrid'!Q$22*'El og plugin hybrid'!Q$13/1000,IF('El og plugin hybrid'!Q$21=\"Nej\",'El og plugin hybrid'!Q$23*'El og plugin hybrid'!Q$13/1000,0))","v":0},{"$f":"IF('El og plugin hybrid'!S$21=\"Ja\",'El og plugin hybrid'!S$22*'El og plugin hybrid'!S$13/1000,IF('El og plugin hybrid'!S$21=\"Nej\",'El og plugin hybrid'!S$23*'El og plugin hybrid'!S$13/1000,0))","v":0},{"$f":"IF('El og plugin hybrid'!U$21=\"Ja\",'El og plugin hybrid'!U$22*'El og plugin hybrid'!U$13/1000,IF('El og plugin hybrid'!U$21=\"Nej\",'El og plugin hybrid'!U$23*'El og plugin hybrid'!U$13/1000,0))","v":0},{"$f":"IF('El og plugin hybrid'!W$21=\"Ja\",'El og plugin hybrid'!W$22*'El og plugin hybrid'!W$13/1000,IF('El og plugin hybrid'!W$21=\"Nej\",'El og plugin hybrid'!W$23*'El og plugin hybrid'!W$13/1000,0))","v":0}]
[null,2030,10,{"$f":"IF('El og plugin hybrid'!E$21=\"Ja\",'El og plugin hybrid'!E$22*'El og plugin hybrid'!E$13/1000,IF('El og plugin hybrid'!E$21=\"Nej\",'El og plugin hybrid'!E$23*'El og plugin hybrid'!E$13/1000,0))","v":0},{"$f":"IF('El og plugin hybrid'!G$21=\"Ja\",'El og plugin hybrid'!G$22*'El og plugin hybrid'!G$13/1000,IF('El og plugin hybrid'!G$21=\"Nej\",'El og plugin hybrid'!G$23*'El og plugin hybrid'!G$13/1000,0))","v":0},{"$f":"IF('El og plugin hybrid'!I$21=\"Ja\",'El og plugin hybrid'!I$22*'El og plugin hybrid'!I$13/1000,IF('El og plugin hybrid'!I$21=\"Nej\",'El og plugin hybrid'!I$23*'El og plugin hybrid'!I$13/1000,0))","v":0},{"$f":"IF('El og plugin hybrid'!K$21=\"Ja\",'El og plugin hybrid'!K$22*'El og plugin hybrid'!K$13/1000,IF('El og plugin hybrid'!K$21=\"Nej\",'El og plugin hybrid'!K$23*'El og plugin hybrid'!K$13/1000,0))","v":0},{"$f":"IF('El og plugin hybrid'!M$21=\"Ja\",'El og plugin hybrid'!M$22*'El og plugin hybrid'!M$13/1000,IF('El og plugin hybrid'!M$21=\"Nej\",'El og plugin hybrid'!M$23*'El og plugin hybrid'!M$13/1000,0))","v":0},{"$f":"IF('El og plugin hybrid'!O$21=\"Ja\",'El og plugin hybrid'!O$22*'El og plugin hybrid'!O$13/1000,IF('El og plugin hybrid'!O$21=\"Nej\",'El og plugin hybrid'!O$23*'El og plugin hybrid'!O$13/1000,0))","v":0},{"$f":"IF('El og plugin hybrid'!Q$21=\"Ja\",'El og plugin hybrid'!Q$22*'El og plugin hybrid'!Q$13/1000,IF('El og plugin hybrid'!Q$21=\"Nej\",'El og plugin hybrid'!Q$23*'El og plugin hybrid'!Q$13/1000,0))","v":0},{"$f":"IF('El og plugin hybrid'!S$21=\"Ja\",'El og plugin hybrid'!S$22*'El og plugin hybrid'!S$13/1000,IF('El og plugin hybrid'!S$21=\"Nej\",'El og plugin hybrid'!S$23*'El og plugin hybrid'!S$13/1000,0))","v":0},{"$f":"IF('El og plugin hybrid'!U$21=\"Ja\",'El og plugin hybrid'!U$22*'El og plugin hybrid'!U$13/1000,IF('El og plugin hybrid'!U$21=\"Nej\",'El og plugin hybrid'!U$23*'El og plugin hybrid'!U$13/1000,0))","v":0},{"$f":"IF('El og plugin hybrid'!W$21=\"Ja\",'El og plugin hybrid'!W$22*'El og plugin hybrid'!W$13/1000,IF('El og plugin hybrid'!W$21=\"Nej\",'El og plugin hybrid'!W$23*'El og plugin hybrid'!W$13/1000,0))","v":0}]
[null,2031,11,{"$f":"IF('El og plugin hybrid'!E$21=\"Ja\",'El og plugin hybrid'!E$22*'El og plugin hybrid'!E$13/1000,IF('El og plugin hybrid'!E$21=\"Nej\",'El og plugin hybrid'!E$23*'El og plugin hybrid'!E$13/1000,0))","v":0},{"$f":"IF('El og plugin hybrid'!G$21=\"Ja\",'El og plugin hybrid'!G$22*'El og plugin hybrid'!G$13/1000,IF('El og plugin hybrid'!G$21=\"Nej\",'El og plugin hybrid'!G$23*'El og plugin hybrid'!G$13/1000,0))","v":0},{"$f":"IF('El og plugin hybrid'!I$21=\"Ja\",'El og plugin hybrid'!I$22*'El og plugin hybrid'!I$13/1000,IF('El og plugin hybrid'!I$21=\"Nej\",'El og plugin hybrid'!I$23*'El og plugin hybrid'!I$13/1000,0))","v":0},{"$f":"IF('El og plugin hybrid'!K$21=\"Ja\",'El og plugin hybrid'!K$22*'El og plugin hybrid'!K$13/1000,IF('El og plugin hybrid'!K$21=\"Nej\",'El og plugin hybrid'!K$23*'El og plugin hybrid'!K$13/1000,0))","v":0},{"$f":"IF('El og plugin hybrid'!M$21=\"Ja\",'El og plugin hybrid'!M$22*'El og plugin hybrid'!M$13/1000,IF('El og plugin hybrid'!M$21=\"Nej\",'El og plugin hybrid'!M$23*'El og plugin hybrid'!M$13/1000,0))","v":0},{"$f":"IF('El og plugin hybrid'!O$21=\"Ja\",'El og plugin hybrid'!O$22*'El og plugin hybrid'!O$13/1000,IF('El og plugin hybrid'!O$21=\"Nej\",'El og plugin hybrid'!O$23*'El og plugin hybrid'!O$13/1000,0))","v":0},{"$f":"IF('El og plugin hybrid'!Q$21=\"Ja\",'El og plugin hybrid'!Q$22*'El og plugin hybrid'!Q$13/1000,IF('El og plugin hybrid'!Q$21=\"Nej\",'El og plugin hybrid'!Q$23*'El og plugin hybrid'!Q$13/1000,0))","v":0},{"$f":"IF('El og plugin hybrid'!S$21=\"Ja\",'El og plugin hybrid'!S$22*'El og plugin hybrid'!S$13/1000,IF('El og plugin hybrid'!S$21=\"Nej\",'El og plugin hybrid'!S$23*'El og plugin hybrid'!S$13/1000,0))","v":0},{"$f":"IF('El og plugin hybrid'!U$21=\"Ja\",'El og plugin hybrid'!U$22*'El og plugin hybrid'!U$13/1000,IF('El og plugin hybrid'!U$21=\"Nej\",'El og plugin hybrid'!U$23*'El og plugin hybrid'!U$13/1000,0))","v":0},{"$f":"IF('El og plugin hybrid'!W$21=\"Ja\",'El og plugin hybrid'!W$22*'El og plugin hybrid'!W$13/1000,IF('El og plugin hybrid'!W$21=\"Nej\",'El og plugin hybrid'!W$23*'El og plugin hybrid'!W$13/1000,0))","v":0}]
[null,2032,12,{"$f":"IF('El og plugin hybrid'!E$21=\"Ja\",'El og plugin hybrid'!E$22*'El og plugin hybrid'!E$13/1000,IF('El og plugin hybrid'!E$21=\"Nej\",'El og plugin hybrid'!E$23*'El og plugin hybrid'!E$13/1000,0))","v":0},{"$f":"IF('El og plugin hybrid'!G$21=\"Ja\",'El og plugin hybrid'!G$22*'El og plugin hybrid'!G$13/1000,IF('El og plugin hybrid'!G$21=\"Nej\",'El og plugin hybrid'!G$23*'El og plugin hybrid'!G$13/1000,0))","v":0},{"$f":"IF('El og plugin hybrid'!I$21=\"Ja\",'El og plugin hybrid'!I$22*'El og plugin hybrid'!I$13/1000,IF('El og plugin hybrid'!I$21=\"Nej\",'El og plugin hybrid'!I$23*'El og plugin hybrid'!I$13/1000,0))","v":0},{"$f":"IF('El og plugin hybrid'!K$21=\"Ja\",'El og plugin hybrid'!K$22*'El og plugin hybrid'!K$13/1000,IF('El og plugin hybrid'!K$21=\"Nej\",'El og plugin hybrid'!K$23*'El og plugin hybrid'!K$13/1000,0))","v":0},{"$f":"IF('El og plugin hybrid'!M$21=\"Ja\",'El og plugin hybrid'!M$22*'El og plugin hybrid'!M$13/1000,IF('El og plugin hybrid'!M$21=\"Nej\",'El og plugin hybrid'!M$23*'El og plugin hybrid'!M$13/1000,0))","v":0},{"$f":"IF('El og plugin hybrid'!O$21=\"Ja\",'El og plugin hybrid'!O$22*'El og plugin hybrid'!O$13/1000,IF('El og plugin hybrid'!O$21=\"Nej\",'El og plugin hybrid'!O$23*'El og plugin hybrid'!O$13/1000,0))","v":0},{"$f":"IF('El og plugin hybrid'!Q$21=\"Ja\",'El og plugin hybrid'!Q$22*'El og plugin hybrid'!Q$13/1000,IF('El og plugin hybrid'!Q$21=\"Nej\",'El og plugin hybrid'!Q$23*'El og plugin hybrid'!Q$13/1000,0))","v":0},{"$f":"IF('El og plugin hybrid'!S$21=\"Ja\",'El og plugin hybrid'!S$22*'El og plugin hybrid'!S$13/1000,IF('El og plugin hybrid'!S$21=\"Nej\",'El og plugin hybrid'!S$23*'El og plugin hybrid'!S$13/1000,0))","v":0},{"$f":"IF('El og plugin hybrid'!U$21=\"Ja\",'El og plugin hybrid'!U$22*'El og plugin hybrid'!U$13/1000,IF('El og plugin hybrid'!U$21=\"Nej\",'El og plugin hybrid'!U$23*'El og plugin hybrid'!U$13/1000,0))","v":0},{"$f":"IF('El og plugin hybrid'!W$21=\"Ja\",'El og plugin hybrid'!W$22*'El og plugin hybrid'!W$13/1000,IF('El og plugin hybrid'!W$21=\"Nej\",'El og plugin hybrid'!W$23*'El og plugin hybrid'!W$13/1000,0))","v":0}]
[null,2033,13,{"$f":"IF('El og plugin hybrid'!E$21=\"Ja\",'El og plugin hybrid'!E$22*'El og plugin hybrid'!E$13/1000,IF('El og plugin hybrid'!E$21=\"Nej\",'El og plugin hybrid'!E$23*'El og plugin hybrid'!E$13/1000,0))","v":0},{"$f":"IF('El og plugin hybrid'!G$21=\"Ja\",'El og plugin hybrid'!G$22*'El og plugin hybrid'!G$13/1000,IF('El og plugin hybrid'!G$21=\"Nej\",'El og plugin hybrid'!G$23*'El og plugin hybrid'!G$13/1000,0))","v":0},{"$f":"IF('El og plugin hybrid'!I$21=\"Ja\",'El og plugin hybrid'!I$22*'El og plugin hybrid'!I$13/1000,IF('El og plugin hybrid'!I$21=\"Nej\",'El og plugin hybrid'!I$23*'El og plugin hybrid'!I$13/1000,0))","v":0},{"$f":"IF('El og plugin hybrid'!K$21=\"Ja\",'El og plugin hybrid'!K$22*'El og plugin hybrid'!K$13/1000,IF('El og plugin hybrid'!K$21=\"Nej\",'El og plugin hybrid'!K$23*'El og plugin hybrid'!K$13/1000,0))","v":0},{"$f":"IF('El og plugin hybrid'!M$21=\"Ja\",'El og plugin hybrid'!M$22*'El og plugin hybrid'!M$13/1000,IF('El og plugin hybrid'!M$21=\"Nej\",'El og plugin hybrid'!M$23*'El og plugin hybrid'!M$13/1000,0))","v":0},{"$f":"IF('El og plugin hybrid'!O$21=\"Ja\",'El og plugin hybrid'!O$22*'El og plugin hybrid'!O$13/1000,IF('El og plugin hybrid'!O$21=\"Nej\",'El og plugin hybrid'!O$23*'El og plugin hybrid'!O$13/1000,0))","v":0},{"$f":"IF('El og plugin hybrid'!Q$21=\"Ja\",'El og plugin hybrid'!Q$22*'El og plugin hybrid'!Q$13/1000,IF('El og plugin hybrid'!Q$21=\"Nej\",'El og plugin hybrid'!Q$23*'El og plugin hybrid'!Q$13/1000,0))","v":0},{"$f":"IF('El og plugin hybrid'!S$21=\"Ja\",'El og plugin hybrid'!S$22*'El og plugin hybrid'!S$13/1000,IF('El og plugin hybrid'!S$21=\"Nej\",'El og plugin hybrid'!S$23*'El og plugin hybrid'!S$13/1000,0))","v":0},{"$f":"IF('El og plugin hybrid'!U$21=\"Ja\",'El og plugin hybrid'!U$22*'El og plugin hybrid'!U$13/1000,IF('El og plugin hybrid'!U$21=\"Nej\",'El og plugin hybrid'!U$23*'El og plugin hybrid'!U$13/1000,0))","v":0},{"$f":"IF('El og plugin hybrid'!W$21=\"Ja\",'El og plugin hybrid'!W$22*'El og plugin hybrid'!W$13/1000,IF('El og plugin hybrid'!W$21=\"Nej\",'El og plugin hybrid'!W$23*'El og plugin hybrid'!W$13/1000,0))","v":0}]
[null,2034,14,{"$f":"IF('El og plugin hybrid'!E$21=\"Ja\",'El og plugin hybrid'!E$22*'El og plugin hybrid'!E$13/1000,IF('El og plugin hybrid'!E$21=\"Nej\",'El og plugin hybrid'!E$23*'El og plugin hybrid'!E$13/1000,0))","v":0},{"$f":"IF('El og plugin hybrid'!G$21=\"Ja\",'El og plugin hybrid'!G$22*'El og plugin hybrid'!G$13/1000,IF('El og plugin hybrid'!G$21=\"Nej\",'El og plugin hybrid'!G$23*'El og plugin hybrid'!G$13/1000,0))","v":0},{"$f":"IF('El og plugin hybrid'!I$21=\"Ja\",'El og plugin hybrid'!I$22*'El og plugin hybrid'!I$13/1000,IF('El og plugin hybrid'!I$21=\"Nej\",'El og plugin hybrid'!I$23*'El og plugin hybrid'!I$13/1000,0))","v":0},{"$f":"IF('El og plugin hybrid'!K$21=\"Ja\",'El og plugin hybrid'!K$22*'El og plugin hybrid'!K$13/1000,IF('El og plugin hybrid'!K$21=\"Nej\",'El og plugin hybrid'!K$23*'El og plugin hybrid'!K$13/1000,0))","v":0},{"$f":"IF('El og plugin hybrid'!M$21=\"Ja\",'El og plugin hybrid'!M$22*'El og plugin hybrid'!M$13/1000,IF('El og plugin hybrid'!M$21=\"Nej\",'El og plugin hybrid'!M$23*'El og plugin hybrid'!M$13/1000,0))","v":0},{"$f":"IF('El og plugin hybrid'!O$21=\"Ja\",'El og plugin hybrid'!O$22*'El og plugin hybrid'!O$13/1000,IF('El og plugin hybrid'!O$21=\"Nej\",'El og plugin hybrid'!O$23*'El og plugin hybrid'!O$13/1000,0))","v":0},{"$f":"IF('El og plugin hybrid'!Q$21=\"Ja\",'El og plugin hybrid'!Q$22*'El og plugin hybrid'!Q$13/1000,IF('El og plugin hybrid'!Q$21=\"Nej\",'El og plugin hybrid'!Q$23*'El og plugin hybrid'!Q$13/1000,0))","v":0},{"$f":"IF('El og plugin hybrid'!S$21=\"Ja\",'El og plugin hybrid'!S$22*'El og plugin hybrid'!S$13/1000,IF('El og plugin hybrid'!S$21=\"Nej\",'El og plugin hybrid'!S$23*'El og plugin hybrid'!S$13/1000,0))","v":0},{"$f":"IF('El og plugin hybrid'!U$21=\"Ja\",'El og plugin hybrid'!U$22*'El og plugin hybrid'!U$13/1000,IF('El og plugin hybrid'!U$21=\"Nej\",'El og plugin hybrid'!U$23*'El og plugin hybrid'!U$13/1000,0))","v":0},{"$f":"IF('El og plugin hybrid'!W$21=\"Ja\",'El og plugin hybrid'!W$22*'El og plugin hybrid'!W$13/1000,IF('El og plugin hybrid'!W$21=\"Nej\",'El og plugin hybrid'!W$23*'El og plugin hybrid'!W$13/1000,0))","v":0}]
[null,2035,15,{"$f":"IF('El og plugin hybrid'!E$21=\"Ja\",'El og plugin hybrid'!E$22*'El og plugin hybrid'!E$13/1000,IF('El og plugin hybrid'!E$21=\"Nej\",'El og plugin hybrid'!E$23*'El og plugin hybrid'!E$13/1000,0))","v":0},{"$f":"IF('El og plugin hybrid'!G$21=\"Ja\",'El og plugin hybrid'!G$22*'El og plugin hybrid'!G$13/1000,IF('El og plugin hybrid'!G$21=\"Nej\",'El og plugin hybrid'!G$23*'El og plugin hybrid'!G$13/1000,0))","v":0},{"$f":"IF('El og plugin hybrid'!I$21=\"Ja\",'El og plugin hybrid'!I$22*'El og plugin hybrid'!I$13/1000,IF('El og plugin hybrid'!I$21=\"Nej\",'El og plugin hybrid'!I$23*'El og plugin hybrid'!I$13/1000,0))","v":0},{"$f":"IF('El og plugin hybrid'!K$21=\"Ja\",'El og plugin hybrid'!K$22*'El og plugin hybrid'!K$13/1000,IF('El og plugin hybrid'!K$21=\"Nej\",'El og plugin hybrid'!K$23*'El og plugin hybrid'!K$13/1000,0))","v":0},{"$f":"IF('El og plugin hybrid'!M$21=\"Ja\",'El og plugin hybrid'!M$22*'El og plugin hybrid'!M$13/1000,IF('El og plugin hybrid'!M$21=\"Nej\",'El og plugin hybrid'!M$23*'El og plugin hybrid'!M$13/1000,0))","v":0},{"$f":"IF('El og plugin hybrid'!O$21=\"Ja\",'El og plugin hybrid'!O$22*'El og plugin hybrid'!O$13/1000,IF('El og plugin hybrid'!O$21=\"Nej\",'El og plugin hybrid'!O$23*'El og plugin hybrid'!O$13/1000,0))","v":0},{"$f":"IF('El og plugin hybrid'!Q$21=\"Ja\",'El og plugin hybrid'!Q$22*'El og plugin hybrid'!Q$13/1000,IF('El og plugin hybrid'!Q$21=\"Nej\",'El og plugin hybrid'!Q$23*'El og plugin hybrid'!Q$13/1000,0))","v":0},{"$f":"IF('El og plugin hybrid'!S$21=\"Ja\",'El og plugin hybrid'!S$22*'El og plugin hybrid'!S$13/1000,IF('El og plugin hybrid'!S$21=\"Nej\",'El og plugin hybrid'!S$23*'El og plugin hybrid'!S$13/1000,0))","v":0},{"$f":"IF('El og plugin hybrid'!U$21=\"Ja\",'El og plugin hybrid'!U$22*'El og plugin hybrid'!U$13/1000,IF('El og plugin hybrid'!U$21=\"Nej\",'El og plugin hybrid'!U$23*'El og plugin hybrid'!U$13/1000,0))","v":0},{"$f":"IF('El og plugin hybrid'!W$21=\"Ja\",'El og plugin hybrid'!W$22*'El og plugin hybrid'!W$13/1000,IF('El og plugin hybrid'!W$21=\"Nej\",'El og plugin hybrid'!W$23*'El og plugin hybrid'!W$13/1000,0))","v":0}]
[null,2036,16,{"$f":"IF('El og plugin hybrid'!E$21=\"Ja\",'El og plugin hybrid'!E$22*'El og plugin hybrid'!E$13/1000,IF('El og plugin hybrid'!E$21=\"Nej\",'El og plugin hybrid'!E$23*'El og plugin hybrid'!E$13/1000,0))","v":0},{"$f":"IF('El og plugin hybrid'!G$21=\"Ja\",'El og plugin hybrid'!G$22*'El og plugin hybrid'!G$13/1000,IF('El og plugin hybrid'!G$21=\"Nej\",'El og plugin hybrid'!G$23*'El og plugin hybrid'!G$13/1000,0))","v":0},{"$f":"IF('El og plugin hybrid'!I$21=\"Ja\",'El og plugin hybrid'!I$22*'El og plugin hybrid'!I$13/1000,IF('El og plugin hybrid'!I$21=\"Nej\",'El og plugin hybrid'!I$23*'El og plugin hybrid'!I$13/1000,0))","v":0},{"$f":"IF('El og plugin hybrid'!K$21=\"Ja\",'El og plugin hybrid'!K$22*'El og plugin hybrid'!K$13/1000,IF('El og plugin hybrid'!K$21=\"Nej\",'El og plugin hybrid'!K$23*'El og plugin hybrid'!K$13/1000,0))","v":0},{"$f":"IF('El og plugin hybrid'!M$21=\"Ja\",'El og plugin hybrid'!M$22*'El og plugin hybrid'!M$13/1000,IF('El og plugin hybrid'!M$21=\"Nej\",'El og plugin hybrid'!M$23*'El og plugin hybrid'!M$13/1000,0))","v":0},{"$f":"IF('El og plugin hybrid'!O$21=\"Ja\",'El og plugin hybrid'!O$22*'El og plugin hybrid'!O$13/1000,IF('El og plugin hybrid'!O$21=\"Nej\",'El og plugin hybrid'!O$23*'El og plugin hybrid'!O$13/1000,0))","v":0},{"$f":"IF('El og plugin hybrid'!Q$21=\"Ja\",'El og plugin hybrid'!Q$22*'El og plugin hybrid'!Q$13/1000,IF('El og plugin hybrid'!Q$21=\"Nej\",'El og plugin hybrid'!Q$23*'El og plugin hybrid'!Q$13/1000,0))","v":0},{"$f":"IF('El og plugin hybrid'!S$21=\"Ja\",'El og plugin hybrid'!S$22*'El og plugin hybrid'!S$13/1000,IF('El og plugin hybrid'!S$21=\"Nej\",'El og plugin hybrid'!S$23*'El og plugin hybrid'!S$13/1000,0))","v":0},{"$f":"IF('El og plugin hybrid'!U$21=\"Ja\",'El og plugin hybrid'!U$22*'El og plugin hybrid'!U$13/1000,IF('El og plugin hybrid'!U$21=\"Nej\",'El og plugin hybrid'!U$23*'El og plugin hybrid'!U$13/1000,0))","v":0},{"$f":"IF('El og plugin hybrid'!W$21=\"Ja\",'El og plugin hybrid'!W$22*'El og plugin hybrid'!W$13/1000,IF('El og plugin hybrid'!W$21=\"Nej\",'El og plugin hybrid'!W$23*'El og plugin hybrid'!W$13/1000,0))","v":0}]
[null,2037,17,{"$f":"IF('El og plugin hybrid'!E$21=\"Ja\",'El og plugin hybrid'!E$22*'El og plugin hybrid'!E$13/1000,IF('El og plugin hybrid'!E$21=\"Nej\",'El og plugin hybrid'!E$23*'El og plugin hybrid'!E$13/1000,0))","v":0},{"$f":"IF('El og plugin hybrid'!G$21=\"Ja\",'El og plugin hybrid'!G$22*'El og plugin hybrid'!G$13/1000,IF('El og plugin hybrid'!G$21=\"Nej\",'El og plugin hybrid'!G$23*'El og plugin hybrid'!G$13/1000,0))","v":0},{"$f":"IF('El og plugin hybrid'!I$21=\"Ja\",'El og plugin hybrid'!I$22*'El og plugin hybrid'!I$13/1000,IF('El og plugin hybrid'!I$21=\"Nej\",'El og plugin hybrid'!I$23*'El og plugin hybrid'!I$13/1000,0))","v":0},{"$f":"IF('El og plugin hybrid'!K$21=\"Ja\",'El og plugin hybrid'!K$22*'El og plugin hybrid'!K$13/1000,IF('El og plugin hybrid'!K$21=\"Nej\",'El og plugin hybrid'!K$23*'El og plugin hybrid'!K$13/1000,0))","v":0},{"$f":"IF('El og plugin hybrid'!M$21=\"Ja\",'El og plugin hybrid'!M$22*'El og plugin hybrid'!M$13/1000,IF('El og plugin hybrid'!M$21=\"Nej\",'El og plugin hybrid'!M$23*'El og plugin hybrid'!M$13/1000,0))","v":0},{"$f":"IF('El og plugin hybrid'!O$21=\"Ja\",'El og plugin hybrid'!O$22*'El og plugin hybrid'!O$13/1000,IF('El og plugin hybrid'!O$21=\"Nej\",'El og plugin hybrid'!O$23*'El og plugin hybrid'!O$13/1000,0))","v":0},{"$f":"IF('El og plugin hybrid'!Q$21=\"Ja\",'El og plugin hybrid'!Q$22*'El og plugin hybrid'!Q$13/1000,IF('El og plugin hybrid'!Q$21=\"Nej\",'El og plugin hybrid'!Q$23*'El og plugin hybrid'!Q$13/1000,0))","v":0},{"$f":"IF('El og plugin hybrid'!S$21=\"Ja\",'El og plugin hybrid'!S$22*'El og plugin hybrid'!S$13/1000,IF('El og plugin hybrid'!S$21=\"Nej\",'El og plugin hybrid'!S$23*'El og plugin hybrid'!S$13/1000,0))","v":0},{"$f":"IF('El og plugin hybrid'!U$21=\"Ja\",'El og plugin hybrid'!U$22*'El og plugin hybrid'!U$13/1000,IF('El og plugin hybrid'!U$21=\"Nej\",'El og plugin hybrid'!U$23*'El og plugin hybrid'!U$13/1000,0))","v":0},{"$f":"IF('El og plugin hybrid'!W$21=\"Ja\",'El og plugin hybrid'!W$22*'El og plugin hybrid'!W$13/1000,IF('El og plugin hybrid'!W$21=\"Nej\",'El og plugin hybrid'!W$23*'El og plugin hybrid'!W$13/1000,0))","v":0}]
[null,2038,18,{"$f":"IF('El og plugin hybrid'!E$21=\"Ja\",'El og plugin hybrid'!E$22*'El og plugin hybrid'!E$13/1000,IF('El og plugin hybrid'!E$21=\"Nej\",'El og plugin hybrid'!E$23*'El og plugin hybrid'!E$13/1000,0))","v":0},{"$f":"IF('El og plugin hybrid'!G$21=\"Ja\",'El og plugin hybrid'!G$22*'El og plugin hybrid'!G$13/1000,IF('El og plugin hybrid'!G$21=\"Nej\",'El og plugin hybrid'!G$23*'El og plugin hybrid'!G$13/1000,0))","v":0},{"$f":"IF('El og plugin hybrid'!I$21=\"Ja\",'El og plugin hybrid'!I$22*'El og plugin hybrid'!I$13/1000,IF('El og plugin hybrid'!I$21=\"Nej\",'El og plugin hybrid'!I$23*'El og plugin hybrid'!I$13/1000,0))","v":0},{"$f":"IF('El og plugin hybrid'!K$21=\"Ja\",'El og plugin hybrid'!K$22*'El og plugin hybrid'!K$13/1000,IF('El og plugin hybrid'!K$21=\"Nej\",'El og plugin hybrid'!K$23*'El og plugin hybrid'!K$13/1000,0))","v":0},{"$f":"IF('El og plugin hybrid'!M$21=\"Ja\",'El og plugin hybrid'!M$22*'El og plugin hybrid'!M$13/1000,IF('El og plugin hybrid'!M$21=\"Nej\",'El og plugin hybrid'!M$23*'El og plugin hybrid'!M$13/1000,0))","v":0},{"$f":"IF('El og plugin hybrid'!O$21=\"Ja\",'El og plugin hybrid'!O$22*'El og plugin hybrid'!O$13/1000,IF('El og plugin hybrid'!O$21=\"Nej\",'El og plugin hybrid'!O$23*'El og plugin hybrid'!O$13/1000,0))","v":0},{"$f":"IF('El og plugin hybrid'!Q$21=\"Ja\",'El og plugin hybrid'!Q$22*'El og plugin hybrid'!Q$13/1000,IF('El og plugin hybrid'!Q$21=\"Nej\",'El og plugin hybrid'!Q$23*'El og plugin hybrid'!Q$13/1000,0))","v":0},{"$f":"IF('El og plugin hybrid'!S$21=\"Ja\",'El og plugin hybrid'!S$22*'El og plugin hybrid'!S$13/1000,IF('El og plugin hybrid'!S$21=\"Nej\",'El og plugin hybrid'!S$23*'El og plugin hybrid'!S$13/1000,0))","v":0},{"$f":"IF('El og plugin hybrid'!U$21=\"Ja\",'El og plugin hybrid'!U$22*'El og plugin hybrid'!U$13/1000,IF('El og plugin hybrid'!U$21=\"Nej\",'El og plugin hybrid'!U$23*'El og plugin hybrid'!U$13/1000,0))","v":0},{"$f":"IF('El og plugin hybrid'!W$21=\"Ja\",'El og plugin hybrid'!W$22*'El og plugin hybrid'!W$13/1000,IF('El og plugin hybrid'!W$21=\"Nej\",'El og plugin hybrid'!W$23*'El og plugin hybrid'!W$13/1000,0))","v":0}]
[null,2039,19,{"$f":"IF('El og plugin hybrid'!E$21=\"Ja\",'El og plugin hybrid'!E$22*'El og plugin hybrid'!E$13/1000,IF('El og plugin hybrid'!E$21=\"Nej\",'El og plugin hybrid'!E$23*'El og plugin hybrid'!E$13/1000,0))","v":0},{"$f":"IF('El og plugin hybrid'!G$21=\"Ja\",'El og plugin hybrid'!G$22*'El og plugin hybrid'!G$13/1000,IF('El og plugin hybrid'!G$21=\"Nej\",'El og plugin hybrid'!G$23*'El og plugin hybrid'!G$13/1000,0))","v":0},{"$f":"IF('El og plugin hybrid'!I$21=\"Ja\",'El og plugin hybrid'!I$22*'El og plugin hybrid'!I$13/1000,IF('El og plugin hybrid'!I$21=\"Nej\",'El og plugin hybrid'!I$23*'El og plugin hybrid'!I$13/1000,0))","v":0},{"$f":"IF('El og plugin hybrid'!K$21=\"Ja\",'El og plugin hybrid'!K$22*'El og plugin hybrid'!K$13/1000,IF('El og plugin hybrid'!K$21=\"Nej\",'El og plugin hybrid'!K$23*'El og plugin hybrid'!K$13/1000,0))","v":0},{"$f":"IF('El og plugin hybrid'!M$21=\"Ja\",'El og plugin hybrid'!M$22*'El og plugin hybrid'!M$13/1000,IF('El og plugin hybrid'!M$21=\"Nej\",'El og plugin hybrid'!M$23*'El og plugin hybrid'!M$13/1000,0))","v":0},{"$f":"IF('El og plugin hybrid'!O$21=\"Ja\",'El og plugin hybrid'!O$22*'El og plugin hybrid'!O$13/1000,IF('El og plugin hybrid'!O$21=\"Nej\",'El og plugin hybrid'!O$23*'El og plugin hybrid'!O$13/1000,0))","v":0},{"$f":"IF('El og plugin hybrid'!Q$21=\"Ja\",'El og plugin hybrid'!Q$22*'El og plugin hybrid'!Q$13/1000,IF('El og plugin hybrid'!Q$21=\"Nej\",'El og plugin hybrid'!Q$23*'El og plugin hybrid'!Q$13/1000,0))","v":0},{"$f":"IF('El og plugin hybrid'!S$21=\"Ja\",'El og plugin hybrid'!S$22*'El og plugin hybrid'!S$13/1000,IF('El og plugin hybrid'!S$21=\"Nej\",'El og plugin hybrid'!S$23*'El og plugin hybrid'!S$13/1000,0))","v":0},{"$f":"IF('El og plugin hybrid'!U$21=\"Ja\",'El og plugin hybrid'!U$22*'El og plugin hybrid'!U$13/1000,IF('El og plugin hybrid'!U$21=\"Nej\",'El og plugin hybrid'!U$23*'El og plugin hybrid'!U$13/1000,0))","v":0},{"$f":"IF('El og plugin hybrid'!W$21=\"Ja\",'El og plugin hybrid'!W$22*'El og plugin hybrid'!W$13/1000,IF('El og plugin hybrid'!W$21=\"Nej\",'El og plugin hybrid'!W$23*'El og plugin hybrid'!W$13/1000,0))","v":0}]
[null,2040,20,{"$f":"IF('El og plugin hybrid'!E$21=\"Ja\",'El og plugin hybrid'!E$22*'El og plugin hybrid'!E$13/1000,IF('El og plugin hybrid'!E$21=\"Nej\",'El og plugin hybrid'!E$23*'El og plugin hybrid'!E$13/1000,0))","v":0},{"$f":"IF('El og plugin hybrid'!G$21=\"Ja\",'El og plugin hybrid'!G$22*'El og plugin hybrid'!G$13/1000,IF('El og plugin hybrid'!G$21=\"Nej\",'El og plugin hybrid'!G$23*'El og plugin hybrid'!G$13/1000,0))","v":0},{"$f":"IF('El og plugin hybrid'!I$21=\"Ja\",'El og plugin hybrid'!I$22*'El og plugin hybrid'!I$13/1000,IF('El og plugin hybrid'!I$21=\"Nej\",'El og plugin hybrid'!I$23*'El og plugin hybrid'!I$13/1000,0))","v":0},{"$f":"IF('El og plugin hybrid'!K$21=\"Ja\",'El og plugin hybrid'!K$22*'El og plugin hybrid'!K$13/1000,IF('El og plugin hybrid'!K$21=\"Nej\",'El og plugin hybrid'!K$23*'El og plugin hybrid'!K$13/1000,0))","v":0},{"$f":"IF('El og plugin hybrid'!M$21=\"Ja\",'El og plugin hybrid'!M$22*'El og plugin hybrid'!M$13/1000,IF('El og plugin hybrid'!M$21=\"Nej\",'El og plugin hybrid'!M$23*'El og plugin hybrid'!M$13/1000,0))","v":0},{"$f":"IF('El og plugin hybrid'!O$21=\"Ja\",'El og plugin hybrid'!O$22*'El og plugin hybrid'!O$13/1000,IF('El og plugin hybrid'!O$21=\"Nej\",'El og plugin hybrid'!O$23*'El og plugin hybrid'!O$13/1000,0))","v":0},{"$f":"IF('El og plugin hybrid'!Q$21=\"Ja\",'El og plugin hybrid'!Q$22*'El og plugin hybrid'!Q$13/1000,IF('El og plugin hybrid'!Q$21=\"Nej\",'El og plugin hybrid'!Q$23*'El og plugin hybrid'!Q$13/1000,0))","v":0},{"$f":"IF('El og plugin hybrid'!S$21=\"Ja\",'El og plugin hybrid'!S$22*'El og plugin hybrid'!S$13/1000,IF('El og plugin hybrid'!S$21=\"Nej\",'El og plugin hybrid'!S$23*'El og plugin hybrid'!S$13/1000,0))","v":0},{"$f":"IF('El og plugin hybrid'!U$21=\"Ja\",'El og plugin hybrid'!U$22*'El og plugin hybrid'!U$13/1000,IF('El og plugin hybrid'!U$21=\"Nej\",'El og plugin hybrid'!U$23*'El og plugin hybrid'!U$13/1000,0))","v":0},{"$f":"IF('El og plugin hybrid'!W$21=\"Ja\",'El og plugin hybrid'!W$22*'El og plugin hybrid'!W$13/1000,IF('El og plugin hybrid'!W$21=\"Nej\",'El og plugin hybrid'!W$23*'El og plugin hybrid'!W$13/1000,0))","v":0}]
[null,2041,21,{"$f":"IF('El og plugin hybrid'!E$21=\"Ja\",'El og plugin hybrid'!E$22*'El og plugin hybrid'!E$13/1000,IF('El og plugin hybrid'!E$21=\"Nej\",'El og plugin hybrid'!E$23*'El og plugin hybrid'!E$13/1000,0))","v":0},{"$f":"IF('El og plugin hybrid'!G$21=\"Ja\",'El og plugin hybrid'!G$22*'El og plugin hybrid'!G$13/1000,IF('El og plugin hybrid'!G$21=\"Nej\",'El og plugin hybrid'!G$23*'El og plugin hybrid'!G$13/1000,0))","v":0},{"$f":"IF('El og plugin hybrid'!I$21=\"Ja\",'El og plugin hybrid'!I$22*'El og plugin hybrid'!I$13/1000,IF('El og plugin hybrid'!I$21=\"Nej\",'El og plugin hybrid'!I$23*'El og plugin hybrid'!I$13/1000,0))","v":0},{"$f":"IF('El og plugin hybrid'!K$21=\"Ja\",'El og plugin hybrid'!K$22*'El og plugin hybrid'!K$13/1000,IF('El og plugin hybrid'!K$21=\"Nej\",'El og plugin hybrid'!K$23*'El og plugin hybrid'!K$13/1000,0))","v":0},{"$f":"IF('El og plugin hybrid'!M$21=\"Ja\",'El og plugin hybrid'!M$22*'El og plugin hybrid'!M$13/1000,IF('El og plugin hybrid'!M$21=\"Nej\",'El og plugin hybrid'!M$23*'El og plugin hybrid'!M$13/1000,0))","v":0},{"$f":"IF('El og plugin hybrid'!O$21=\"Ja\",'El og plugin hybrid'!O$22*'El og plugin hybrid'!O$13/1000,IF('El og plugin hybrid'!O$21=\"Nej\",'El og plugin hybrid'!O$23*'El og plugin hybrid'!O$13/1000,0))","v":0},{"$f":"IF('El og plugin hybrid'!Q$21=\"Ja\",'El og plugin hybrid'!Q$22*'El og plugin hybrid'!Q$13/1000,IF('El og plugin hybrid'!Q$21=\"Nej\",'El og plugin hybrid'!Q$23*'El og plugin hybrid'!Q$13/1000,0))","v":0},{"$f":"IF('El og plugin hybrid'!S$21=\"Ja\",'El og plugin hybrid'!S$22*'El og plugin hybrid'!S$13/1000,IF('El og plugin hybrid'!S$21=\"Nej\",'El og plugin hybrid'!S$23*'El og plugin hybrid'!S$13/1000,0))","v":0},{"$f":"IF('El og plugin hybrid'!U$21=\"Ja\",'El og plugin hybrid'!U$22*'El og plugin hybrid'!U$13/1000,IF('El og plugin hybrid'!U$21=\"Nej\",'El og plugin hybrid'!U$23*'El og plugin hybrid'!U$13/1000,0))","v":0},{"$f":"IF('El og plugin hybrid'!W$21=\"Ja\",'El og plugin hybrid'!W$22*'El og plugin hybrid'!W$13/1000,IF('El og plugin hybrid'!W$21=\"Nej\",'El og plugin hybrid'!W$23*'El og plugin hybrid'!W$13/1000,0))","v":0}]
[null,2042,22,{"$f":"IF('El og plugin hybrid'!E$21=\"Ja\",'El og plugin hybrid'!E$22*'El og plugin hybrid'!E$13/1000,IF('El og plugin hybrid'!E$21=\"Nej\",'El og plugin hybrid'!E$23*'El og plugin hybrid'!E$13/1000,0))","v":0},{"$f":"IF('El og plugin hybrid'!G$21=\"Ja\",'El og plugin hybrid'!G$22*'El og plugin hybrid'!G$13/1000,IF('El og plugin hybrid'!G$21=\"Nej\",'El og plugin hybrid'!G$23*'El og plugin hybrid'!G$13/1000,0))","v":0},{"$f":"IF('El og plugin hybrid'!I$21=\"Ja\",'El og plugin hybrid'!I$22*'El og plugin hybrid'!I$13/1000,IF('El og plugin hybrid'!I$21=\"Nej\",'El og plugin hybrid'!I$23*'El og plugin hybrid'!I$13/1000,0))","v":0},{"$f":"IF('El og plugin hybrid'!K$21=\"Ja\",'El og plugin hybrid'!K$22*'El og plugin hybrid'!K$13/1000,IF('El og plugin hybrid'!K$21=\"Nej\",'El og plugin hybrid'!K$23*'El og plugin hybrid'!K$13/1000,0))","v":0},{"$f":"IF('El og plugin hybrid'!M$21=\"Ja\",'El og plugin hybrid'!M$22*'El og plugin hybrid'!M$13/1000,IF('El og plugin hybrid'!M$21=\"Nej\",'El og plugin hybrid'!M$23*'El og plugin hybrid'!M$13/1000,0))","v":0},{"$f":"IF('El og plugin hybrid'!O$21=\"Ja\",'El og plugin hybrid'!O$22*'El og plugin hybrid'!O$13/1000,IF('El og plugin hybrid'!O$21=\"Nej\",'El og plugin hybrid'!O$23*'El og plugin hybrid'!O$13/1000,0))","v":0},{"$f":"IF('El og plugin hybrid'!Q$21=\"Ja\",'El og plugin hybrid'!Q$22*'El og plugin hybrid'!Q$13/1000,IF('El og plugin hybrid'!Q$21=\"Nej\",'El og plugin hybrid'!Q$23*'El og plugin hybrid'!Q$13/1000,0))","v":0},{"$f":"IF('El og plugin hybrid'!S$21=\"Ja\",'El og plugin hybrid'!S$22*'El og plugin hybrid'!S$13/1000,IF('El og plugin hybrid'!S$21=\"Nej\",'El og plugin hybrid'!S$23*'El og plugin hybrid'!S$13/1000,0))","v":0},{"$f":"IF('El og plugin hybrid'!U$21=\"Ja\",'El og plugin hybrid'!U$22*'El og plugin hybrid'!U$13/1000,IF('El og plugin hybrid'!U$21=\"Nej\",'El og plugin hybrid'!U$23*'El og plugin hybrid'!U$13/1000,0))","v":0},{"$f":"IF('El og plugin hybrid'!W$21=\"Ja\",'El og plugin hybrid'!W$22*'El og plugin hybrid'!W$13/1000,IF('El og plugin hybrid'!W$21=\"Nej\",'El og plugin hybrid'!W$23*'El og plugin hybrid'!W$13/1000,0))","v":0}]
[null,2043,23,{"$f":"IF('El og plugin hybrid'!E$21=\"Ja\",'El og plugin hybrid'!E$22*'El og plugin hybrid'!E$13/1000,IF('El og plugin hybrid'!E$21=\"Nej\",'El og plugin hybrid'!E$23*'El og plugin hybrid'!E$13/1000,0))","v":0},{"$f":"IF('El og plugin hybrid'!G$21=\"Ja\",'El og plugin hybrid'!G$22*'El og plugin hybrid'!G$13/1000,IF('El og plugin hybrid'!G$21=\"Nej\",'El og plugin hybrid'!G$23*'El og plugin hybrid'!G$13/1000,0))","v":0},{"$f":"IF('El og plugin hybrid'!I$21=\"Ja\",'El og plugin hybrid'!I$22*'El og plugin hybrid'!I$13/1000,IF('El og plugin hybrid'!I$21=\"Nej\",'El og plugin hybrid'!I$23*'El og plugin hybrid'!I$13/1000,0))","v":0},{"$f":"IF('El og plugin hybrid'!K$21=\"Ja\",'El og plugin hybrid'!K$22*'El og plugin hybrid'!K$13/1000,IF('El og plugin hybrid'!K$21=\"Nej\",'El og plugin hybrid'!K$23*'El og plugin hybrid'!K$13/1000,0))","v":0},{"$f":"IF('El og plugin hybrid'!M$21=\"Ja\",'El og plugin hybrid'!M$22*'El og plugin hybrid'!M$13/1000,IF('El og plugin hybrid'!M$21=\"Nej\",'El og plugin hybrid'!M$23*'El og plugin hybrid'!M$13/1000,0))","v":0},{"$f":"IF('El og plugin hybrid'!O$21=\"Ja\",'El og plugin hybrid'!O$22*'El og plugin hybrid'!O$13/1000,IF('El og plugin hybrid'!O$21=\"Nej\",'El og plugin hybrid'!O$23*'El og plugin hybrid'!O$13/1000,0))","v":0},{"$f":"IF('El og plugin hybrid'!Q$21=\"Ja\",'El og plugin hybrid'!Q$22*'El og plugin hybrid'!Q$13/1000,IF('El og plugin hybrid'!Q$21=\"Nej\",'El og plugin hybrid'!Q$23*'El og plugin hybrid'!Q$13/1000,0))","v":0},{"$f":"IF('El og plugin hybrid'!S$21=\"Ja\",'El og plugin hybrid'!S$22*'El og plugin hybrid'!S$13/1000,IF('El og plugin hybrid'!S$21=\"Nej\",'El og plugin hybrid'!S$23*'El og plugin hybrid'!S$13/1000,0))","v":0},{"$f":"IF('El og plugin hybrid'!U$21=\"Ja\",'El og plugin hybrid'!U$22*'El og plugin hybrid'!U$13/1000,IF('El og plugin hybrid'!U$21=\"Nej\",'El og plugin hybrid'!U$23*'El og plugin hybrid'!U$13/1000,0))","v":0},{"$f":"IF('El og plugin hybrid'!W$21=\"Ja\",'El og plugin hybrid'!W$22*'El og plugin hybrid'!W$13/1000,IF('El og plugin hybrid'!W$21=\"Nej\",'El og plugin hybrid'!W$23*'El og plugin hybrid'!W$13/1000,0))","v":0}]
[null,2044,24,{"$f":"IF('El og plugin hybrid'!E$21=\"Ja\",'El og plugin hybrid'!E$22*'El og plugin hybrid'!E$13/1000,IF('El og plugin hybrid'!E$21=\"Nej\",'El og plugin hybrid'!E$23*'El og plugin hybrid'!E$13/1000,0))","v":0},{"$f":"IF('El og plugin hybrid'!G$21=\"Ja\",'El og plugin hybrid'!G$22*'El og plugin hybrid'!G$13/1000,IF('El og plugin hybrid'!G$21=\"Nej\",'El og plugin hybrid'!G$23*'El og plugin hybrid'!G$13/1000,0))","v":0},{"$f":"IF('El og plugin hybrid'!I$21=\"Ja\",'El og plugin hybrid'!I$22*'El og plugin hybrid'!I$13/1000,IF('El og plugin hybrid'!I$21=\"Nej\",'El og plugin hybrid'!I$23*'El og plugin hybrid'!I$13/1000,0))","v":0},{"$f":"IF('El og plugin hybrid'!K$21=\"Ja\",'El og plugin hybrid'!K$22*'El og plugin hybrid'!K$13/1000,IF('El og plugin hybrid'!K$21=\"Nej\",'El og plugin hybrid'!K$23*'El og plugin hybrid'!K$13/1000,0))","v":0},{"$f":"IF('El og plugin hybrid'!M$21=\"Ja\",'El og plugin hybrid'!M$22*'El og plugin hybrid'!M$13/1000,IF('El og plugin hybrid'!M$21=\"Nej\",'El og plugin hybrid'!M$23*'El og plugin hybrid'!M$13/1000,0))","v":0},{"$f":"IF('El og plugin hybrid'!O$21=\"Ja\",'El og plugin hybrid'!O$22*'El og plugin hybrid'!O$13/1000,IF('El og plugin hybrid'!O$21=\"Nej\",'El og plugin hybrid'!O$23*'El og plugin hybrid'!O$13/1000,0))","v":0},{"$f":"IF('El og plugin hybrid'!Q$21=\"Ja\",'El og plugin hybrid'!Q$22*'El og plugin hybrid'!Q$13/1000,IF('El og plugin hybrid'!Q$21=\"Nej\",'El og plugin hybrid'!Q$23*'El og plugin hybrid'!Q$13/1000,0))","v":0},{"$f":"IF('El og plugin hybrid'!S$21=\"Ja\",'El og plugin hybrid'!S$22*'El og plugin hybrid'!S$13/1000,IF('El og plugin hybrid'!S$21=\"Nej\",'El og plugin hybrid'!S$23*'El og plugin hybrid'!S$13/1000,0))","v":0},{"$f":"IF('El og plugin hybrid'!U$21=\"Ja\",'El og plugin hybrid'!U$22*'El og plugin hybrid'!U$13/1000,IF('El og plugin hybrid'!U$21=\"Nej\",'El og plugin hybrid'!U$23*'El og plugin hybrid'!U$13/1000,0))","v":0},{"$f":"IF('El og plugin hybrid'!W$21=\"Ja\",'El og plugin hybrid'!W$22*'El og plugin hybrid'!W$13/1000,IF('El og plugin hybrid'!W$21=\"Nej\",'El og plugin hybrid'!W$23*'El og plugin hybrid'!W$13/1000,0))","v":0}]
[null,2045,25,{"$f":"IF('El og plugin hybrid'!E$21=\"Ja\",'El og plugin hybrid'!E$22*'El og plugin hybrid'!E$13/1000,IF('El og plugin hybrid'!E$21=\"Nej\",'El og plugin hybrid'!E$23*'El og plugin hybrid'!E$13/1000,0))","v":0},{"$f":"IF('El og plugin hybrid'!G$21=\"Ja\",'El og plugin hybrid'!G$22*'El og plugin hybrid'!G$13/1000,IF('El og plugin hybrid'!G$21=\"Nej\",'El og plugin hybrid'!G$23*'El og plugin hybrid'!G$13/1000,0))","v":0},{"$f":"IF('El og plugin hybrid'!I$21=\"Ja\",'El og plugin hybrid'!I$22*'El og plugin hybrid'!I$13/1000,IF('El og plugin hybrid'!I$21=\"Nej\",'El og plugin hybrid'!I$23*'El og plugin hybrid'!I$13/1000,0))","v":0},{"$f":"IF('El og plugin hybrid'!K$21=\"Ja\",'El og plugin hybrid'!K$22*'El og plugin hybrid'!K$13/1000,IF('El og plugin hybrid'!K$21=\"Nej\",'El og plugin hybrid'!K$23*'El og plugin hybrid'!K$13/1000,0))","v":0},{"$f":"IF('El og plugin hybrid'!M$21=\"Ja\",'El og plugin hybrid'!M$22*'El og plugin hybrid'!M$13/1000,IF('El og plugin hybrid'!M$21=\"Nej\",'El og plugin hybrid'!M$23*'El og plugin hybrid'!M$13/1000,0))","v":0},{"$f":"IF('El og plugin hybrid'!O$21=\"Ja\",'El og plugin hybrid'!O$22*'El og plugin hybrid'!O$13/1000,IF('El og plugin hybrid'!O$21=\"Nej\",'El og plugin hybrid'!O$23*'El og plugin hybrid'!O$13/1000,0))","v":0},{"$f":"IF('El og plugin hybrid'!Q$21=\"Ja\",'El og plugin hybrid'!Q$22*'El og plugin hybrid'!Q$13/1000,IF('El og plugin hybrid'!Q$21=\"Nej\",'El og plugin hybrid'!Q$23*'El og plugin hybrid'!Q$13/1000,0))","v":0},{"$f":"IF('El og plugin hybrid'!S$21=\"Ja\",'El og plugin hybrid'!S$22*'El og plugin hybrid'!S$13/1000,IF('El og plugin hybrid'!S$21=\"Nej\",'El og plugin hybrid'!S$23*'El og plugin hybrid'!S$13/1000,0))","v":0},{"$f":"IF('El og plugin hybrid'!U$21=\"Ja\",'El og plugin hybrid'!U$22*'El og plugin hybrid'!U$13/1000,IF('El og plugin hybrid'!U$21=\"Nej\",'El og plugin hybrid'!U$23*'El og plugin hybrid'!U$13/1000,0))","v":0},{"$f":"IF('El og plugin hybrid'!W$21=\"Ja\",'El og plugin hybrid'!W$22*'El og plugin hybrid'!W$13/1000,IF('El og plugin hybrid'!W$21=\"Nej\",'El og plugin hybrid'!W$23*'El og plugin hybrid'!W$13/1000,0))","v":0}]
[null,2046,26,{"$f":"IF('El og plugin hybrid'!E$21=\"Ja\",'El og plugin hybrid'!E$22*'El og plugin hybrid'!E$13/1000,IF('El og plugin hybrid'!E$21=\"Nej\",'El og plugin hybrid'!E$23*'El og plugin hybrid'!E$13/1000,0))","v":0},{"$f":"IF('El og plugin hybrid'!G$21=\"Ja\",'El og plugin hybrid'!G$22*'El og plugin hybrid'!G$13/1000,IF('El og plugin hybrid'!G$21=\"Nej\",'El og plugin hybrid'!G$23*'El og plugin hybrid'!G$13/1000,0))","v":0},{"$f":"IF('El og plugin hybrid'!I$21=\"Ja\",'El og plugin hybrid'!I$22*'El og plugin hybrid'!I$13/1000,IF('El og plugin hybrid'!I$21=\"Nej\",'El og plugin hybrid'!I$23*'El og plugin hybrid'!I$13/1000,0))","v":0},{"$f":"IF('El og plugin hybrid'!K$21=\"Ja\",'El og plugin hybrid'!K$22*'El og plugin hybrid'!K$13/1000,IF('El og plugin hybrid'!K$21=\"Nej\",'El og plugin hybrid'!K$23*'El og plugin hybrid'!K$13/1000,0))","v":0},{"$f":"IF('El og plugin hybrid'!M$21=\"Ja\",'El og plugin hybrid'!M$22*'El og plugin hybrid'!M$13/1000,IF('El og plugin hybrid'!M$21=\"Nej\",'El og plugin hybrid'!M$23*'El og plugin hybrid'!M$13/1000,0))","v":0},{"$f":"IF('El og plugin hybrid'!O$21=\"Ja\",'El og plugin hybrid'!O$22*'El og plugin hybrid'!O$13/1000,IF('El og plugin hybrid'!O$21=\"Nej\",'El og plugin hybrid'!O$23*'El og plugin hybrid'!O$13/1000,0))","v":0},{"$f":"IF('El og plugin hybrid'!Q$21=\"Ja\",'El og plugin hybrid'!Q$22*'El og plugin hybrid'!Q$13/1000,IF('El og plugin hybrid'!Q$21=\"Nej\",'El og plugin hybrid'!Q$23*'El og plugin hybrid'!Q$13/1000,0))","v":0},{"$f":"IF('El og plugin hybrid'!S$21=\"Ja\",'El og plugin hybrid'!S$22*'El og plugin hybrid'!S$13/1000,IF('El og plugin hybrid'!S$21=\"Nej\",'El og plugin hybrid'!S$23*'El og plugin hybrid'!S$13/1000,0))","v":0},{"$f":"IF('El og plugin hybrid'!U$21=\"Ja\",'El og plugin hybrid'!U$22*'El og plugin hybrid'!U$13/1000,IF('El og plugin hybrid'!U$21=\"Nej\",'El og plugin hybrid'!U$23*'El og plugin hybrid'!U$13/1000,0))","v":0},{"$f":"IF('El og plugin hybrid'!W$21=\"Ja\",'El og plugin hybrid'!W$22*'El og plugin hybrid'!W$13/1000,IF('El og plugin hybrid'!W$21=\"Nej\",'El og plugin hybrid'!W$23*'El og plugin hybrid'!W$13/1000,0))","v":0}]
[null,2047,27,{"$f":"IF('El og plugin hybrid'!E$21=\"Ja\",'El og plugin hybrid'!E$22*'El og plugin hybrid'!E$13/1000,IF('El og plugin hybrid'!E$21=\"Nej\",'El og plugin hybrid'!E$23*'El og plugin hybrid'!E$13/1000,0))","v":0},{"$f":"IF('El og plugin hybrid'!G$21=\"Ja\",'El og plugin hybrid'!G$22*'El og plugin hybrid'!G$13/1000,IF('El og plugin hybrid'!G$21=\"Nej\",'El og plugin hybrid'!G$23*'El og plugin hybrid'!G$13/1000,0))","v":0},{"$f":"IF('El og plugin hybrid'!I$21=\"Ja\",'El og plugin hybrid'!I$22*'El og plugin hybrid'!I$13/1000,IF('El og plugin hybrid'!I$21=\"Nej\",'El og plugin hybrid'!I$23*'El og plugin hybrid'!I$13/1000,0))","v":0},{"$f":"IF('El og plugin hybrid'!K$21=\"Ja\",'El og plugin hybrid'!K$22*'El og plugin hybrid'!K$13/1000,IF('El og plugin hybrid'!K$21=\"Nej\",'El og plugin hybrid'!K$23*'El og plugin hybrid'!K$13/1000,0))","v":0},{"$f":"IF('El og plugin hybrid'!M$21=\"Ja\",'El og plugin hybrid'!M$22*'El og plugin hybrid'!M$13/1000,IF('El og plugin hybrid'!M$21=\"Nej\",'El og plugin hybrid'!M$23*'El og plugin hybrid'!M$13/1000,0))","v":0},{"$f":"IF('El og plugin hybrid'!O$21=\"Ja\",'El og plugin hybrid'!O$22*'El og plugin hybrid'!O$13/1000,IF('El og plugin hybrid'!O$21=\"Nej\",'El og plugin hybrid'!O$23*'El og plugin hybrid'!O$13/1000,0))","v":0},{"$f":"IF('El og plugin hybrid'!Q$21=\"Ja\",'El og plugin hybrid'!Q$22*'El og plugin hybrid'!Q$13/1000,IF('El og plugin hybrid'!Q$21=\"Nej\",'El og plugin hybrid'!Q$23*'El og plugin hybrid'!Q$13/1000,0))","v":0},{"$f":"IF('El og plugin hybrid'!S$21=\"Ja\",'El og plugin hybrid'!S$22*'El og plugin hybrid'!S$13/1000,IF('El og plugin hybrid'!S$21=\"Nej\",'El og plugin hybrid'!S$23*'El og plugin hybrid'!S$13/1000,0))","v":0},{"$f":"IF('El og plugin hybrid'!U$21=\"Ja\",'El og plugin hybrid'!U$22*'El og plugin hybrid'!U$13/1000,IF('El og plugin hybrid'!U$21=\"Nej\",'El og plugin hybrid'!U$23*'El og plugin hybrid'!U$13/1000,0))","v":0},{"$f":"IF('El og plugin hybrid'!W$21=\"Ja\",'El og plugin hybrid'!W$22*'El og plugin hybrid'!W$13/1000,IF('El og plugin hybrid'!W$21=\"Nej\",'El og plugin hybrid'!W$23*'El og plugin hybrid'!W$13/1000,0))","v":0}]
[null,2048,28,{"$f":"IF('El og plugin hybrid'!E$21=\"Ja\",'El og plugin hybrid'!E$22*'El og plugin hybrid'!E$13/1000,IF('El og plugin hybrid'!E$21=\"Nej\",'El og plugin hybrid'!E$23*'El og plugin hybrid'!E$13/1000,0))","v":0},{"$f":"IF('El og plugin hybrid'!G$21=\"Ja\",'El og plugin hybrid'!G$22*'El og plugin hybrid'!G$13/1000,IF('El og plugin hybrid'!G$21=\"Nej\",'El og plugin hybrid'!G$23*'El og plugin hybrid'!G$13/1000,0))","v":0},{"$f":"IF('El og plugin hybrid'!I$21=\"Ja\",'El og plugin hybrid'!I$22*'El og plugin hybrid'!I$13/1000,IF('El og plugin hybrid'!I$21=\"Nej\",'El og plugin hybrid'!I$23*'El og plugin hybrid'!I$13/1000,0))","v":0},{"$f":"IF('El og plugin hybrid'!K$21=\"Ja\",'El og plugin hybrid'!K$22*'El og plugin hybrid'!K$13/1000,IF('El og plugin hybrid'!K$21=\"Nej\",'El og plugin hybrid'!K$23*'El og plugin hybrid'!K$13/1000,0))","v":0},{"$f":"IF('El og plugin hybrid'!M$21=\"Ja\",'El og plugin hybrid'!M$22*'El og plugin hybrid'!M$13/1000,IF('El og plugin hybrid'!M$21=\"Nej\",'El og plugin hybrid'!M$23*'El og plugin hybrid'!M$13/1000,0))","v":0},{"$f":"IF('El og plugin hybrid'!O$21=\"Ja\",'El og plugin hybrid'!O$22*'El og plugin hybrid'!O$13/1000,IF('El og plugin hybrid'!O$21=\"Nej\",'El og plugin hybrid'!O$23*'El og plugin hybrid'!O$13/1000,0))","v":0},{"$f":"IF('El og plugin hybrid'!Q$21=\"Ja\",'El og plugin hybrid'!Q$22*'El og plugin hybrid'!Q$13/1000,IF('El og plugin hybrid'!Q$21=\"Nej\",'El og plugin hybrid'!Q$23*'El og plugin hybrid'!Q$13/1000,0))","v":0},{"$f":"IF('El og plugin hybrid'!S$21=\"Ja\",'El og plugin hybrid'!S$22*'El og plugin hybrid'!S$13/1000,IF('El og plugin hybrid'!S$21=\"Nej\",'El og plugin hybrid'!S$23*'El og plugin hybrid'!S$13/1000,0))","v":0},{"$f":"IF('El og plugin hybrid'!U$21=\"Ja\",'El og plugin hybrid'!U$22*'El og plugin hybrid'!U$13/1000,IF('El og plugin hybrid'!U$21=\"Nej\",'El og plugin hybrid'!U$23*'El og plugin hybrid'!U$13/1000,0))","v":0},{"$f":"IF('El og plugin hybrid'!W$21=\"Ja\",'El og plugin hybrid'!W$22*'El og plugin hybrid'!W$13/1000,IF('El og plugin hybrid'!W$21=\"Nej\",'El og plugin hybrid'!W$23*'El og plugin hybrid'!W$13/1000,0))","v":0}]
[null,2049,29,{"$f":"IF('El og plugin hybrid'!E$21=\"Ja\",'El og plugin hybrid'!E$22*'El og plugin hybrid'!E$13/1000,IF('El og plugin hybrid'!E$21=\"Nej\",'El og plugin hybrid'!E$23*'El og plugin hybrid'!E$13/1000,0))","v":0},{"$f":"IF('El og plugin hybrid'!G$21=\"Ja\",'El og plugin hybrid'!G$22*'El og plugin hybrid'!G$13/1000,IF('El og plugin hybrid'!G$21=\"Nej\",'El og plugin hybrid'!G$23*'El og plugin hybrid'!G$13/1000,0))","v":0},{"$f":"IF('El og plugin hybrid'!I$21=\"Ja\",'El og plugin hybrid'!I$22*'El og plugin hybrid'!I$13/1000,IF('El og plugin hybrid'!I$21=\"Nej\",'El og plugin hybrid'!I$23*'El og plugin hybrid'!I$13/1000,0))","v":0},{"$f":"IF('El og plugin hybrid'!K$21=\"Ja\",'El og plugin hybrid'!K$22*'El og plugin hybrid'!K$13/1000,IF('El og plugin hybrid'!K$21=\"Nej\",'El og plugin hybrid'!K$23*'El og plugin hybrid'!K$13/1000,0))","v":0},{"$f":"IF('El og plugin hybrid'!M$21=\"Ja\",'El og plugin hybrid'!M$22*'El og plugin hybrid'!M$13/1000,IF('El og plugin hybrid'!M$21=\"Nej\",'El og plugin hybrid'!M$23*'El og plugin hybrid'!M$13/1000,0))","v":0},{"$f":"IF('El og plugin hybrid'!O$21=\"Ja\",'El og plugin hybrid'!O$22*'El og plugin hybrid'!O$13/1000,IF('El og plugin hybrid'!O$21=\"Nej\",'El og plugin hybrid'!O$23*'El og plugin hybrid'!O$13/1000,0))","v":0},{"$f":"IF('El og plugin hybrid'!Q$21=\"Ja\",'El og plugin hybrid'!Q$22*'El og plugin hybrid'!Q$13/1000,IF('El og plugin hybrid'!Q$21=\"Nej\",'El og plugin hybrid'!Q$23*'El og plugin hybrid'!Q$13/1000,0))","v":0},{"$f":"IF('El og plugin hybrid'!S$21=\"Ja\",'El og plugin hybrid'!S$22*'El og plugin hybrid'!S$13/1000,IF('El og plugin hybrid'!S$21=\"Nej\",'El og plugin hybrid'!S$23*'El og plugin hybrid'!S$13/1000,0))","v":0},{"$f":"IF('El og plugin hybrid'!U$21=\"Ja\",'El og plugin hybrid'!U$22*'El og plugin hybrid'!U$13/1000,IF('El og plugin hybrid'!U$21=\"Nej\",'El og plugin hybrid'!U$23*'El og plugin hybrid'!U$13/1000,0))","v":0},{"$f":"IF('El og plugin hybrid'!W$21=\"Ja\",'El og plugin hybrid'!W$22*'El og plugin hybrid'!W$13/1000,IF('El og plugin hybrid'!W$21=\"Nej\",'El og plugin hybrid'!W$23*'El og plugin hybrid'!W$13/1000,0))","v":0}]
[null,2050,30,{"$f":"IF('El og plugin hybrid'!E$21=\"Ja\",'El og plugin hybrid'!E$22*'El og plugin hybrid'!E$13/1000,IF('El og plugin hybrid'!E$21=\"Nej\",'El og plugin hybrid'!E$23*'El og plugin hybrid'!E$13/1000,0))","v":0},{"$f":"IF('El og plugin hybrid'!G$21=\"Ja\",'El og plugin hybrid'!G$22*'El og plugin hybrid'!G$13/1000,IF('El og plugin hybrid'!G$21=\"Nej\",'El og plugin hybrid'!G$23*'El og plugin hybrid'!G$13/1000,0))","v":0},{"$f":"IF('El og plugin hybrid'!I$21=\"Ja\",'El og plugin hybrid'!I$22*'El og plugin hybrid'!I$13/1000,IF('El og plugin hybrid'!I$21=\"Nej\",'El og plugin hybrid'!I$23*'El og plugin hybrid'!I$13/1000,0))","v":0},{"$f":"IF('El og plugin hybrid'!K$21=\"Ja\",'El og plugin hybrid'!K$22*'El og plugin hybrid'!K$13/1000,IF('El og plugin hybrid'!K$21=\"Nej\",'El og plugin hybrid'!K$23*'El og plugin hybrid'!K$13/1000,0))","v":0},{"$f":"IF('El og plugin hybrid'!M$21=\"Ja\",'El og plugin hybrid'!M$22*'El og plugin hybrid'!M$13/1000,IF('El og plugin hybrid'!M$21=\"Nej\",'El og plugin hybrid'!M$23*'El og plugin hybrid'!M$13/1000,0))","v":0},{"$f":"IF('El og plugin hybrid'!O$21=\"Ja\",'El og plugin hybrid'!O$22*'El og plugin hybrid'!O$13/1000,IF('El og plugin hybrid'!O$21=\"Nej\",'El og plugin hybrid'!O$23*'El og plugin hybrid'!O$13/1000,0))","v":0},{"$f":"IF('El og plugin hybrid'!Q$21=\"Ja\",'El og plugin hybrid'!Q$22*'El og plugin hybrid'!Q$13/1000,IF('El og plugin hybrid'!Q$21=\"Nej\",'El og plugin hybrid'!Q$23*'El og plugin hybrid'!Q$13/1000,0))","v":0},{"$f":"IF('El og plugin hybrid'!S$21=\"Ja\",'El og plugin hybrid'!S$22*'El og plugin hybrid'!S$13/1000,IF('El og plugin hybrid'!S$21=\"Nej\",'El og plugin hybrid'!S$23*'El og plugin hybrid'!S$13/1000,0))","v":0},{"$f":"IF('El og plugin hybrid'!U$21=\"Ja\",'El og plugin hybrid'!U$22*'El og plugin hybrid'!U$13/1000,IF('El og plugin hybrid'!U$21=\"Nej\",'El og plugin hybrid'!U$23*'El og plugin hybrid'!U$13/1000,0))","v":0},{"$f":"IF('El og plugin hybrid'!W$21=\"Ja\",'El og plugin hybrid'!W$22*'El og plugin hybrid'!W$13/1000,IF('El og plugin hybrid'!W$21=\"Nej\",'El og plugin hybrid'!W$23*'El og plugin hybrid'!W$13/1000,0))","v":0}]

{"sheet":"ENS udvikling i elpris","index":14,"n_rows":29,"n_cols":6,"rows_kept":29,"cut":false,"hidden":true,"merged":[]}
["Energistyrelsens 'Samfundsøkonomiske beregningsforudsætninger 2019 af oktober 2019'"]
["Tabel 7: Samfundsøkonomiske priser på el"]
[]
["2019-priser kr./MWh","Rå samfundsøkonomisk pris på el","An\nvirksomhed*\n(> 15 MWh)","An\nhusholdning*\n(< 15 MWh)"]
[2019,350,491.04027223076099,675.27079961678908]
[2020,370,512.26056969585852,696.49109708188655,{"$f":"((C6/$C$5)^(1/(A6-$A$5)))-1","v":4.3214983913020477E-2},{"$f":"AVERAGE($E$6:E6)","v":4.3214983913020477E-2}]
[2021,360,501.63687146843711,685.86739885446525,{"$f":"((C7/$C$5)^(1/(A7-$A$5)))-1","v":1.0732357504783074E-2},{"$f":"AVERAGE($E$6:E7)","v":2.6973670708901776E-2}]
[2022,360,501.62868763702522,685.85921502305325,{"$f":"((C8/$C$5)^(1/(A8-$A$5)))-1","v":7.1366905495475752E-3},{"$f":"AVERAGE($E$6:E8)","v":2.0361343989117042E-2}]
[2023,380,522.85155531929979,707.08208270532782,1.5816640953520311E-2,{"$f":"AVERAGE($E$6:E9)","v":1.9225168230217859E-2}]
[2024,390,533.46187389034321,717.69240127637124,1.6710373911233534E-2,{"$f":"AVERAGE($E$6:E10)","v":1.8722209366420994E-2}]
[2025,400,544.07395991253111,728.30448729855914,1.7240098928582581E-2,{"$f":"AVERAGE($E$6:E11)","v":1.8475190960114591E-2}]
[2026,390,533.47661210050194,717.70713948652997,1.1911683699938669E-2,{"$f":"AVERAGE($E$6:E12)","v":1.7537547065803745E-2}]
[2027,390,533.4912983062361,717.72182569226413,1.0418475121897863E-2,{"$f":"AVERAGE($E$6:E13)","v":1.6647663072815511E-2}]
[2028,390,533.50800983662907,717.7385372226571,9.2590398204261959E-3,{"$f":"AVERAGE($E$6:E14)","v":1.5826704933661142E-2}]
[2029,380,522.90800951562835,707.13853690165638,6.3077519338963217E-3,{"$f":"AVERAGE($E$6:E15)","v":1.487480963368466E-2}]
[2030,380,522.92238996038088,707.15291734640891,5.7351939606606894E-3,{"$f":"AVERAGE($E$6:E16)","v":1.4043935481591573E-2}]
[2031,380,522.92238996038088,707.15291734640891,5.2560074158845005E-3,{"$f":"AVERAGE($E$6:E17)","v":1.3311608142782649E-2}]
[2032,380,522.92238996038088,707.15291734640891,4.8507202075911415E-3,{"$f":"AVERAGE($E$6:E18)","v":1.266077060930638E-2}]
[2033,370,512.30667870772697,696.537206093755,3.0329674744697943E-3,{"$f":"AVERAGE($E$6:E19)","v":1.1973070385389481E-2}]
[2034,380,522.92238996038088,707.15291734640891,4.2026005166180269E-3,{"$f":"AVERAGE($E$6:E20)","v":1.1455039060804717E-2}]
[2035,370,512.30667870772697,696.537206093755,2.6533440470177805E-3,{"$f":"AVERAGE($E$6:E21)","v":1.0904933122443033E-2}]
[2036,380,522.92238996038088,707.15291734640891,3.7072616534301606E-3,{"$f":"AVERAGE($E$6:E22)","v":1.0481540683089334E-2}]
[2037,380,522.92238996038088,707.15291734640891,3.5009425797452032E-3,{"$f":"AVERAGE($E$6:E23)","v":1.0093729677347995E-2}]
[2038,380,522.92238996038088,707.15291734640891,3.3163772524753554E-3,{"$f":"AVERAGE($E$6:E24)","v":9.7370269181441711E-3}]
[2039,380,522.92238996038088,707.15291734640891,3.1502974815287299E-3,{"$f":"AVERAGE($E$6:E25)","v":9.4076904463133992E-3}]
[2040,380,522.92238996038088,707.15291734640891,3.0000585204139618E-3,{"$f":"AVERAGE($E$6:E26)","v":9.1025651165086638E-3}]
["*Inkl. nettab på 6 pct. For fleksible enheder som varmepumper, elpatroner og kraftvarmeanlæg, der driftes efter elprisen, bør der korrigeres for årsvariationerne i elprisen, som beskrevet nedenfor."]
["Note 1: Ved ”virksomhed” forstås alle typer kunder med et årligt elforbrug på mere end 15 MWh."]
["Note 2: Elpriserne er afrundet til hele ører pr. kWh, svarende til hele tiere pr. MWh"]

{"sheet":"ENS udvikling i brændstofspris","index":15,"n_rows":35,"n_cols":10,"rows_kept":35,"cut":false,"hidden":true,"merged":[]}
["Energistyrelsens 'Fremskrivning af brændselspriser og CO2-kvotepris' af 28. august 2019"]
["Tabel 3: Priser på fossile brændsler anvendt i fremskrivningerne"]
[]
["2019-priser","Rå samfundsøkonomisk importpris på råolie\n(kr./GJ)","An\nforbruger\n(benzin)\n(kr./GJ)","An\nforbruger\n(diesel)\n(kr./GJ)","Beregnet pris/liter benzin\n(kr./liter benzin)","Beregnet pris/liter diesel\n(kr./liter diesel)","Benzin","Benzin","Diesel","Diesel"]
[2019,73.900000000000006,123.6,118.1,{"$f":"+C5*$C$34","v":3.9552},{"$f":"+D5*$C$35","v":4.2515999999999998}]
[2020,75.900000000000006,125.7,120.1,{"$f":"+C6*$C$34","v":4.0224000000000002},{"$f":"+D6*$C$35","v":4.3235999999999999},{"$f":"((C6/$C$5)^(1/(A6-$A$5)))-1","v":1.6990291262136026E-2},{"$f":"AVERAGE($G$6:G6)","v":1.6990291262136026E-2},{"$f":"((D6/$D$5)^(1/(A6-$A$5)))-1","v":1.693480101608813E-2},{"$f":"AVERAGE($I$6:I6)","v":1.693480101608813E-2}]
[2021,77.7,127.4,121.9,4.0768000000000004,4.3883999999999999,{"$f":"((C7/$C$5)^(1/(A7-$A$5)))-1","v":1.5255798589488112E-2},{"$f":"AVERAGE($G$6:G7)","v":1.6123044925812069E-2},{"$f":"((D7/$D$5)^(1/(A7-$A$5)))-1","v":1.5960689165957609E-2},{"$f":"AVERAGE($I$6:I7)","v":1.644774509102287E-2}]
[2022,79.3,129,123.5,4.1280000000000001,4.4459999999999997,{"$f":"((C8/$C$5)^(1/(A8-$A$5)))-1","v":1.4356025102198133E-2},{"$f":"AVERAGE($G$6:G8)","v":1.5534038317940757E-2},1.5014749878575984E-2,{"$f":"AVERAGE($I$6:I8)","v":1.597008002020724E-2}]
[2023,81,130.80000000000001,125.2,4.1856000000000009,4.5072000000000001,1.4255375940340098E-2,{"$f":"AVERAGE($G$6:G9)","v":1.5214372723540592E-2},1.470221363415769E-2,{"$f":"AVERAGE($I$6:I9)","v":1.5653113423694853E-2}]
[2024,82.7,132.4,126.9,4.2368000000000006,4.5683999999999996,1.3850460757952376E-2,{"$f":"AVERAGE($G$6:G10)","v":1.4941590330422949E-2},1.4477326198338414E-2,{"$f":"AVERAGE($I$6:I10)","v":1.5417955978623565E-2}]
[2025,84.1,133.80000000000001,128.19999999999999,4.2816000000000001,4.6151999999999989,1.3303650223536412E-2,{"$f":"AVERAGE($G$6:G11)","v":1.4668600312608526E-2},1.3770589910605313E-2,{"$f":"AVERAGE($I$6:I11)","v":1.5143394967287191E-2}]
[2026,86.7,136.4,130.9,4.3648000000000007,4.7123999999999997,1.4176866323344806E-2,{"$f":"AVERAGE($G$6:G12)","v":1.4598352599856566E-2},1.4808859026894661E-2,{"$f":"AVERAGE($I$6:I12)","v":1.5095604118659687E-2}]
[2027,88.2,137.9,132.4,4.4127999999999998,4.7664,1.3778845170805631E-2,{"$f":"AVERAGE($G$6:G13)","v":1.4495914171225199E-2},1.4389536859433782E-2,{"$f":"AVERAGE($I$6:I13)","v":1.5007345711256448E-2}]
[2028,89.6,139.30000000000001,133.80000000000001,4.4576000000000002,4.8167999999999997,1.337525186093913E-2,{"$f":"AVERAGE($G$6:G14)","v":1.437139613674897E-2},1.3964879926149809E-2,{"$f":"AVERAGE($I$6:I14)","v":1.4891516179577933E-2}]
[2029,90.9,140.69999999999999,135.1,4.5023999999999997,4.863599999999999,1.3042259840952974E-2,{"$f":"AVERAGE($G$6:G15)","v":1.4238482507169369E-2},1.3539188005064373E-2,{"$f":"AVERAGE($I$6:I15)","v":1.4756283362126577E-2}]
[2030,92.1,141.9,136.30000000000001,4.5407999999999999,4.9067999999999996,1.2631110592491446E-2,{"$f":"AVERAGE($G$6:G16)","v":1.4092357787653194E-2},1.3114948644548985E-2,{"$f":"AVERAGE($I$6:I16)","v":1.4607071115074068E-2}]
[2031,93.7,143.4,137.9,4.5888,4.9643999999999995,1.2459259773720754E-2,{"$f":"AVERAGE($G$6:G17)","v":1.3956266286492158E-2},1.3000199088065267E-2,{"$f":"AVERAGE($I$6:I17)","v":1.4473165112823335E-2}]
[2032,95.6,145.30000000000001,139.69999999999999,4.6496000000000004,5.0291999999999994,1.2520037228344716E-2,{"$f":"AVERAGE($G$6:G18)","v":1.3845787128173125E-2},1.3004255746187576E-2,{"$f":"AVERAGE($I$6:I18)","v":1.4360172084620584E-2}]
[2033,97.3,147.1,141.5,4.7072000000000003,5.0939999999999994,1.2510617029703797E-2,{"$f":"AVERAGE($G$6:G19)","v":1.3750417835425315E-2},1.2995719371205361E-2,{"$f":"AVERAGE($I$6:I19)","v":1.4262711176519496E-2}]
[2034,99,148.69999999999999,143.19999999999999,4.7584,5.1551999999999989,1.2401624100809583E-2,{"$f":"AVERAGE($G$6:G20)","v":1.36604982531176E-2},1.2930250755056383E-2,{"$f":"AVERAGE($I$6:I20)","v":1.417388048175529E-2}]
[2035,100.6,150.30000000000001,144.80000000000001,4.8096000000000005,5.2127999999999997,1.2298939475484216E-2,{"$f":"AVERAGE($G$6:G21)","v":1.3575400829515513E-2},1.2820344711908627E-2,{"$f":"AVERAGE($I$6:I21)","v":1.4089284496139873E-2}]
[2036,102.1,151.80000000000001,146.30000000000001,4.8576000000000006,5.2667999999999999,1.2162386356991295E-2,{"$f":"AVERAGE($G$6:G22)","v":1.3492282331131736E-2},1.2675400729742492E-2,{"$f":"AVERAGE($I$6:I22)","v":1.400611486282238E-2}]
[2037,103.5,153.30000000000001,147.69999999999999,4.9056000000000006,5.3171999999999988,1.2035531116097342E-2,{"$f":"AVERAGE($G$6:G23)","v":1.341135170807427E-2},1.2502593486070968E-2,{"$f":"AVERAGE($I$6:I23)","v":1.3922585897447302E-2}]
[2038,104.9,154.6,149.1,4.9471999999999996,5.3675999999999995,1.1848091277497641E-2,{"$f":"AVERAGE($G$6:G24)","v":1.3329074843307078E-2},1.2343214183948126E-2,{"$f":"AVERAGE($I$6:I24)","v":1.3839461070421029E-2}]
[2039,106.1,155.9,150.30000000000001,4.9888000000000003,5.4108000000000001,1.1675848300254366E-2,{"$f":"AVERAGE($G$6:G25)","v":1.3246413516154442E-2},1.2128034004737165E-2,{"$f":"AVERAGE($I$6:I25)","v":1.3753889717136836E-2}]
[2040,107.3,157,151.5,5.024,5.4539999999999997,1.1455366388732902E-2,{"$f":"AVERAGE($G$6:G26)","v":1.3161125557705797E-2},1.1930314805916442E-2,{"$f":"AVERAGE($I$6:I26)","v":1.3667052816602531E-2}]
[]
[]
["Energiindhold i motorbrændstof er fastsat efter tabel 1 i Bekendtgørelse nr. 1394 af 14. december 2010"]
["\"Bekendtgørelse om miljøbevidste indkøb af køretøjer til vejtransport\""]
[]
["Energiindhold ifølge BEK nr. 1394, 2010"]
[null,"MJ/liter","GJ/liter"]
["Benzin",32,{"$f":"+B34/1000","v":3.2000000000000001E-2}]
["Diesel",36,{"$f":"+B35/1000","v":3.5999999999999997E-2}]

{"sheet":"Samfundsøkonomiske priser","index":16,"n_rows":22,"n_cols":4,"rows_kept":22,"cut":false,"hidden":true,"merged":[]}
["Samfundsmæssige priser for udledninger"]
["Priser er angivet i kr. per kg"]
[]
[null,"NOX","PM 2,5","enhed"]
["København/Frederiksberg",557,2192,"kr./kg"]
["Aarhus by",378,1336,"kr./kg"]
["Aalborg by",287,1246,"kr./kg"]
["Odense by",344,1273,"kr./kg"]
["Danmark i øvrigt",278,1176,"kr./kg"]
[]
[null,"CO2"]
["Klimarådets anbefalinger",{"$f":"1500/1000","v":1.5},null,"kr./kg"]
["Kvotepris 2021",{"$f":"179/1000","v":0.17899999999999999},null,"kr./kg"]
[]
[]
[]
["Kilder:"]
["CO2","Miljøstyrelsens Transportmål 2021 - baseret på klimarådets anbefalinger (Pris er opgivet til 1500 kr. per ton. Til sammenligning er CO2 kvotepris i dag ca. 179 kr./ton)"]
["CO2","Kvotepriser - Energistyrelsen (2020). AF20 Baggrundsnotat – CO2 kvotepris. ”Analyseforudsætninger til Energinet 2020\n– CO2-kvotepris” (dateret 27. august 2020) samt datasæt (opdateret 23.9.2020). "]
[null,"https://ens.dk/service/fremskrivninger-analyser-modeller/analyseforudsaetninger-til-energinet  "]
[]
["NOx og partikler","Miljøstyrelsens Transportmål 2021"]

{"sheet":"Udledninger per Wh","index":17,"n_rows":20,"n_cols":4,"rows_kept":20,"cut":false,"hidden":true,"merged":[]}
["Udledninger per Wh"]
["Udledninger er angivet i g/Wh"]
[]
[null,"CO2","NOx","Partikler"]
["Miljødeklaration 2020 (125% metode) - CO2",{"$f":"122/1000","v":0.122},{"$f":"0.16/1000","v":1.6000000000000001E-4},{"$f":"0.01/1000","v":1.0000000000000001E-5}]
["Miljødeklaration 2020 (200% metode) - CO2",{"$f":"140/1000","v":0.14000000000000001},{"$f":"0.21/1000","v":2.0999999999999998E-4},{"$f":"0.02/1000","v":2.0000000000000002E-5}]
["Miljødeklaration 2020 (125% metode) - CO2-eq.",{"$f":"125/1000","v":0.125},{"$f":"0.16/1000","v":1.6000000000000001E-4},{"$f":"0.01/1000","v":1.0000000000000001E-5}]
["Miljødeklaration 2020 (200% metode) - CO2-eq.",{"$f":"143/1000","v":0.14299999999999999},{"$f":"0.21/1000","v":2.0999999999999998E-4},{"$f":"0.02/1000","v":2.0000000000000002E-5}]
["Eldeklaration",{"$f":"368/1000","v":0.36799999999999999},{"$f":"0.36/1000","v":3.5999999999999997E-4},{"$f":"0.01/1000","v":1.0000000000000001E-5}]
[]
[]
[]
["Kilder:"]
["Miljødeklaration","Energinet, 2021 - Endelig miljødeklarering for 1 kWh el, 2020 - udgivet 1. juni 2021 (https://energinet.dk/-/media/675C0B04547A4F75930A130E8346E266.pdf?la=da&hash=C72BC8D290FD9900DF1565C29F4C91AE90B8AA22) "]
["Eldeklaration","Energinet, 2021 - General deklaration 2020 (PP) (https://energinet.dk/-/media/42073A9607D249B5B6CC2A1CC9C0E753.pptx?la=da&hash=39A9C6D4229D6C836D7A50CEC68FE6A44C240353)"]
[]
[]
[]
["Nej","Der medtages IKKE de udledninger, som produktionen af el til køretøjet medfører - svarer til nul udledning fra el-køretøjer"]
["Ja","De udledninger, som produktionen af el til køretøjet medfører, medtages i beregningerne"]